{"text_format":"1","workbook":"xlsx","n_sheets":23,"sheets":["INDEX","INSERT","Decleration","TERM1","TERM2","TERM3","TERM4","PAT Civil Detailed","SASAMS TERM1","SASAMS TERM2","SASAMS TERM3","SASAMS TERM4","PAT Mech Detailed","PAT Mech","PAT Detailed","PAT Assessment","FIN PAT MARK SHEET","FIN SBA MARK SHEET","Term1 Sign","Term2 Sign","Term3 Sign","Term4 Sign","PAT Sign"],"not_rendered":{"charts":1,"images":0,"macros":1,"external_links":0,"defined_names":43,"comments":0,"pivot_tables":0},"unopened":[],"bounds":{"document_bytes":16777216,"sheet_cells":100000,"rows_first":2000,"rows_last":500,"rows_between":2000,"halvings":0,"cell_chars":16384,"cell_head_chars":4096},"cells_cut":0,"cells_raw":0,"read":"whole","date_system":"1900"}

{"sheet":"INDEX","index":0,"n_rows":22,"n_cols":3,"rows_kept":22,"cut":false,"hidden":false,"merged":[]}
[null,"Sheets Names","Go to Sheets"]
[null,{"$f":"IFERROR(REPLACE(INDEX(MySheets,ROW()),1,FIND(\"]\",INDEX(MySheets,ROW())),\"\"),\"\")","v":"INSERT"},{"$f":"HYPERLINK(\"#'\"&B2&\"'!a1\",B2)","v":"INSERT"}]
[null,{"$f":"IFERROR(REPLACE(INDEX(MySheets,ROW()),1,FIND(\"]\",INDEX(MySheets,ROW())),\"\"),\"\")","v":"Decleration"},{"$f":"HYPERLINK(\"#'\"&B3&\"'!a1\",B3)","v":"Decleration"}]
[null,{"$f":"IFERROR(REPLACE(INDEX(MySheets,ROW()),1,FIND(\"]\",INDEX(MySheets,ROW())),\"\"),\"\")","v":"TERM1"},"TERM1"]
[null,{"$f":"IFERROR(REPLACE(INDEX(MySheets,ROW()),1,FIND(\"]\",INDEX(MySheets,ROW())),\"\"),\"\")","v":"TERM2"},"TERM2"]
[null,{"$f":"IFERROR(REPLACE(INDEX(MySheets,ROW()),1,FIND(\"]\",INDEX(MySheets,ROW())),\"\"),\"\")","v":"TERM3"},"TERM3"]
[null,{"$f":"IFERROR(REPLACE(INDEX(MySheets,ROW()),1,FIND(\"]\",INDEX(MySheets,ROW())),\"\"),\"\")","v":"TERM4"},"TERM4"]
[null,{"$f":"IFERROR(REPLACE(INDEX(MySheets,ROW()),1,FIND(\"]\",INDEX(MySheets,ROW())),\"\"),\"\")","v":"PAT Civil Detailed"},"PAT Civil Detailed"]
[null,{"$f":"IFERROR(REPLACE(INDEX(MySheets,ROW()),1,FIND(\"]\",INDEX(MySheets,ROW())),\"\"),\"\")","v":"SASAMS TERM1"},"SASAMS TERM1"]
[null,{"$f":"IFERROR(REPLACE(INDEX(MySheets,ROW()),1,FIND(\"]\",INDEX(MySheets,ROW())),\"\"),\"\")","v":"SASAMS TERM2"},"SASAMS TERM2"]
[null,{"$f":"IFERROR(REPLACE(INDEX(MySheets,ROW()),1,FIND(\"]\",INDEX(MySheets,ROW())),\"\"),\"\")","v":"SASAMS TERM3"},"SASAMS TERM3"]
[null,{"$f":"IFERROR(REPLACE(INDEX(MySheets,ROW()),1,FIND(\"]\",INDEX(MySheets,ROW())),\"\"),\"\")","v":"SASAMS TERM4"},"SASAMS TERM4"]
[null,{"$f":"IFERROR(REPLACE(INDEX(MySheets,ROW()),1,FIND(\"]\",INDEX(MySheets,ROW())),\"\"),\"\")","v":"PAT Mech Detailed"},"PAT Mech Detailed"]
[null,{"$f":"IFERROR(REPLACE(INDEX(MySheets,ROW()),1,FIND(\"]\",INDEX(MySheets,ROW())),\"\"),\"\")","v":"PAT Mech"},"PAT Mech"]
[null,{"$f":"IFERROR(REPLACE(INDEX(MySheets,ROW()),1,FIND(\"]\",INDEX(MySheets,ROW())),\"\"),\"\")","v":"PAT Detailed"},"PAT Detailed"]
[null,{"$f":"IFERROR(REPLACE(INDEX(MySheets,ROW()),1,FIND(\"]\",INDEX(MySheets,ROW())),\"\"),\"\")","v":"PAT Assessment"},"PAT Assessment"]
[null,{"$f":"IFERROR(REPLACE(INDEX(MySheets,ROW()),1,FIND(\"]\",INDEX(MySheets,ROW())),\"\"),\"\")","v":"FIN PAT MARK SHEET"},"FIN PAT MARK SHEET"]
[null,{"$f":"IFERROR(REPLACE(INDEX(MySheets,ROW()),1,FIND(\"]\",INDEX(MySheets,ROW())),\"\"),\"\")","v":"FIN SBA MARK SHEET"},"FIN SBA MARK SHEET"]
[null,{"$f":"IFERROR(REPLACE(INDEX(MySheets,ROW()),1,FIND(\"]\",INDEX(MySheets,ROW())),\"\"),\"\")","v":"Term1 Sign"},"Term1 Sign"]
[null,{"$f":"IFERROR(REPLACE(INDEX(MySheets,ROW()),1,FIND(\"]\",INDEX(MySheets,ROW())),\"\"),\"\")","v":"Term2 Sign"},"Term2 Sign"]
[null,{"$f":"IFERROR(REPLACE(INDEX(MySheets,ROW()),1,FIND(\"]\",INDEX(MySheets,ROW())),\"\"),\"\")","v":"Term3 Sign"},{"$f":"HYPERLINK(\"#'\"&B21&\"'!a1\",B21)","v":"Term3 Sign"}]
[null,{"$f":"IFERROR(REPLACE(INDEX(MySheets,ROW()),1,FIND(\"]\",INDEX(MySheets,ROW())),\"\"),\"\")","v":"Term4 Sign"},"Term4 Sign"]

{"sheet":"INSERT","index":1,"n_rows":103,"n_cols":9,"rows_kept":103,"cut":false,"hidden":false,"merged":[[102,3,103,3],[102,4,103,4]]}
[]
["Class","Admission","SURNAME","NAME","Gender","CELLPHONE NR.","E-MAIL ADRESS",null,"INFORMATION"]
[null,null,null,null,null,null,null,null,"Name of School:"]
[null,null,null,null,null,null,null,null,"Grade:"]
[null,null,null,null,null,null,null,null,"Your Initials and Surname:"]
[null,null,null,null,null,null,null,null,"Initials and Surname of HOD for EGD:"]
[null,null,null,null,null,null,null,null,"Your EGD SES Initials and Surname:"]
[]
[]
[]
[]
[]
[]
[]
[]
[]
[]
[]
[]
[]
[]
[]
[]
[]
[]
[]
[]
[]
[]
[]
[]
[]
[]
[]
[]
[]
[]
[]
[]
[]
[]
[]
[]
[]
[]
[]
[]
[]
[]
[]
[]
[]
[]
[]
[]
[]
[]
[]
[]
[]
[]
[]
[]
[]
[]
[]
[]
[]
[]
[]
[]
[]
[]
[]
[]
[]
[]
[]
[]
[]
[]
[]
[]
[]
[]
[]
[]
[]
[]
[]
[]
[]
[]
[]
[]
[]
[]
[]
[]
[]
[]
[]
[null,null,null,"Total amount of learners on mark sheet",{"$f":"COUNTA(C3:C102)","v":0}]

{"sheet":"Decleration","index":2,"n_rows":29,"n_cols":22,"rows_kept":29,"cut":false,"hidden":false,"merged":[[28,3,35,7],[5,3,5,9],[7,3,7,9],[11,1,11,9],[14,6,14,8],[22,1,22,9],[25,6,25,8]]}
[null,null,null,null,null,null,null,null,null,null,null,null,null,"Surname:",null,null,1,null,null,null,null,17]
["DECLARATION OF AUTHENTICITY",null,null,null,null,null,null,null,null,null,null,null,null,"Name:",{"$f":"IFERROR(VLOOKUP($O$1,INSERT!C3:E102,2,FALSE),\"\")","v":""},null,"DLAMINI",null,null,null,null,{"$f":"OFFSET(INSERT!$C$2,$V$1,0)","v":0}]
[]
["To be submitted with each learner's practical assessment task portfolio"]
[]
[null,"NAME OF SCHOOL:",null,{"$f":"INSERT!$J$3","v":0}]
[]
[null,"NAME OF LEARNER:",null,{"$f":"O2&\" \"&O1","v":" "}]
[null,null,null,null,"(SURNAME AND INITIALS)"]
[]
[null,"Learner information:"]
[null,"I hereby declare that all the contents of the practical assessment task submitted by myself for assessment is my own original work and has not been plagiarised, copied from someone else or previously submitted for assessment.\n\nBy signing this page, you as learner commit yourself to the responsibilities and your cooperation to submit the 2021, grade 10 PAT as part of your (2021) year mark. By failing to submit this PAT before the date of moderation (October 2021), it will be seen as an exam irregularity resulting a zero (0) mark for EGD (despite all exam and SBA efforts committed) during your grade 11 year for 2021."]
[]
[]
[]
[null,"SIGNATURE OF CANIDATE",null,null,null,null,null,"DATE"]
[]
[]
[null,"NAME OF TEACHER:",null,{"$f":"INSERT!$J$5","v":0}]
[null,null,null,null,"(SURNAME AND INITIALS)"]
[]
[null,"Teacher information:"]
[null,"By signing this page, you as the teacher of above-mentioned learner, indicate that all the information was given to the learner during term 1 of 2021 and that the terms and conditions as well as the consequences of no submission of the 2021, grade 10 PAT was explained to the learner."]
[]
[]
[]
[null,"SIGNATURE OF TEACHER",null,null,null,null,null,"DATE"]
[]
[null,null,null,"SCHOOL STAMP"]

{"sheet":"TERM1","index":3,"n_rows":120,"n_cols":67,"rows_kept":120,"cut":false,"hidden":false,"merged":[[115,1,118,4],[119,1,119,4],[115,5,115,6],[116,5,116,6],[117,5,117,6],[119,5,119,6],[1,1,1,66],[9,5,9,6],[4,66,10,66],[4,8,9,8],[4,48,9,48],[3,8,3,25],[10,5,10,6],[4,1,4,4],[5,1,5,4],[9,1,9,4],[10,1,10,4],[3,26,3,43],[3,44,3,61],[4,24,10,24],[4,42,10,42],[4,60,10,60],[13,1,13,6],[3,62,3,66],[4,61,10,61],[4,9,9,9],[4,23,9,23],[4,26,9,26],[4,27,9,27],[4,41,9,41],[4,25,10,25],[4,10,9,10],[4,11,9,11],[4,12,9,12],[4,28,9,28],[4,29,9,29],[4,63,10,63],[4,62,10,62],[4,43,10,43],[4,44,9,44],[4,45,9,45],[4,59,9,59],[4,30,9,30],[4,46,9,46],[4,47,9,47],[4,49,9,49],[4,50,9,50],[4,51,9,51],[4,52,9,52],[4,58,9,58],[4,31,9,31],[4,32,9,32],[4,33,9,33],[4,34,9,34],[4,35,9,35],[4,36,9,36],[4,37,9,37],[4,38,9,38],[4,39,9,39],[4,57,9,57],[4,13,9,13],[4,14,9,14],[4,15,9,15],[4,16,9,16],[4,17,9,17],[4,18,9,18],[4,19,9,19],[4,20,9,20],[4,21,9,21],[4,22,9,22],[4,40,9,40],[4,53,9,53],[4,54,9,54],[4,55,9,55],[4,56,9,56]]}
[]
[null,"ENGINEERING GRAPHICS AND DESIGN"]
[null,null,null,null,null,null,null,null,"PROGRAM OF ASSESSMENT  :  TERM 1"]
[null,null,null,null,null,null,null,null,"CD1  Free-hand drawing",null,null,null,null,null,null,null,null,null,null,null,null,null,null,null,null,null,"CD2  1st Geometrical Drawing",null,null,null,null,null,null,null,null,null,null,null,null,null,null,null,null,null,"CD3  2nd Geometrical Drawing",null,null,null,null,null,null,null,null,null,null,null,null,null,null,null,null,null,"TERM TEST"]
[15,"School:",null,null,null,{"$f":"INSERT!J3","v":0},null,null,"CD 1.1","CD 1.2","CD 1.3",null,null,null,null,null,null,null,null,null,null,null,null,null,"TOTAL CD1","TOTAL","CD 2.1","CD 2.2","CD 2.3",null,null,null,null,null,null,null,null,null,null,null,null,null,"TOTAL CD2","TOTAL","CD 3.1","CD 3.2","CD 3.3",null,null,null,null,null,null,null,null,null,null,null,null,null,"TOTAL CD3","TOTAL","TEST 1","TEST 2",null,null,"TEST TOTAL"]
[null,"Grade:",null,null,null,{"$f":"INSERT!J4","v":0}]
[null,null,null,null,"Teacher:",{"$f":"INSERT!J5","v":0}]
[null,null,null,null,"HOD:",{"$f":"INSERT!J6","v":0}]
[null,null,null,null,"SES:",{"$f":"INSERT!J7","v":0}]
[]
[null,null,null,null,null,null,null,null,1.1000000000000001,1.2,1.3,1.4,1.5,1.6,1.7,1.8,1.9,1.1000000000000001,1.1100000000000001,1.1200000000000001,1.1299999999999999,1.1399999999999999,1.1499999999999999,1.1599999999999999,null,null,2.1,2.2000000000000002,2.2999999999999998,2.4,2.5,2.6,2.7,2.8,2.9,2.1,2.11,2.12,2.13,2.14,2.15,2.16,null,null,3.1,3.2,3.3,3.4,3.5,3.6,3.7,3.8,3.9,3.1,3.11,3.12,2.13,2.14,2.15,2.16]
[null,"No",null,"Class","Acc No","Surname","Name","Gender",null,null,null,null,null,null,null,null,null,null,null,null,null,null,null,null,{"$f":"SUM(I12:X12)","v":0},10,null,null,null,null,null,null,null,null,null,null,null,null,null,null,null,null,{"$f":"SUM(AA12:AP12)","v":0},10,null,null,null,null,null,null,null,null,null,null,null,null,null,null,null,null,{"$f":"SUM(AS12:BH12)","v":0},10,null,null,null,null,50]
[null,null,null,null,null,null,null,null,{"$f":"IF(I12>0,\"\",\"X\")","v":"X"},{"$f":"IF(J12>0,\"\",\"X\")","v":"X"},"X","X","X","X","X","X","X","X","X","X","X","X","X","X",{"$f":"IFERROR(SUM(100/Y12),\"0\")","v":"0"},null,{"$f":"IF(AA12>0,\"\",\"X\")","v":"X"},"X","X","X","X","X","X","X","X","X","X","X","X","X","X","X",{"$f":"IFERROR(SUM(100/AQ12),\"0\")","v":"0"},null,{"$f":"IF(AS12>0,\"\",\"X\")","v":"X"},"X","X","X","X","X","X","X","X","X","X","X","X","X","X","X",{"$f":"IFERROR(SUM(100/BI12),0)","v":0},null,{"$f":"IFERROR((SUM(100/BK12)*0.5),\"\")","v":""},{"$f":"IFERROR((SUM(100/BL12)*0.5),\"\")","v":""},null,{"$f":"COUNT(BK12,BL12)","v":0}]
[null,null,null,null,null,null,null,"DATE:"]
[]
[{"$f":"SUM(COUNTA(F16)+COUNT(B16))","v":2},1,1,{"$f":"INSERT!A3","v":0},{"$f":"INSERT!B3","v":0},{"$f":"INSERT!C3","v":0},{"$f":"INSERT!D3","v":0},{"$f":"INSERT!E3","v":0},null,null,null,null,null,null,null,null,null,null,null,null,null,null,null,null,{"$f":"SUM(I16:X16)","v":0},{"$f":"(SUM(Y16*$Y$13)/10)","v":0},null,null,null,null,null,null,null,null,null,null,null,null,null,null,null,null,{"$f":"SUM(AA16:AP16)","v":0},{"$f":"(SUM(AQ16*$AQ$13)/10)","v":0},null,null,null,null,null,null,null,null,null,null,null,null,null,null,null,null,{"$f":"SUM(AS16:BH16)","v":0},{"$f":"(SUM(BI16*$BI$13)/10)","v":0},null,null,{"$f":"ROUND(SUM(BK16*$BK$13),0)","v":{"$error":"#VALUE!"}},{"$f":"ROUND(SUM(BL16*$BL$13),0)","v":{"$error":"#VALUE!"}},{"$f":"ROUND(IF($BN$13=1,BM16,IF($BN$13=2,(BN16+BM16)/2)),0)","v":0}]
[{"$f":"SUM(COUNTA(F17)+COUNT(B17))","v":2},{"$f":"B16+1","v":2},2,{"$f":"INSERT!A4","v":0},{"$f":"INSERT!B4","v":0},{"$f":"INSERT!C4","v":0},{"$f":"INSERT!D4","v":0},{"$f":"INSERT!E4","v":0},null,null,null,null,null,null,null,null,null,null,null,null,null,null,null,null,0,0,null,null,null,null,null,null,null,null,null,null,null,null,null,null,null,null,0,0,null,null,null,null,null,null,null,null,null,null,null,null,null,null,null,null,0,0,null,null,{"$error":"#VALUE!"},{"$error":"#VALUE!"},0]
[2,{"$f":"B17+1","v":3},3,{"$f":"INSERT!A5","v":0},{"$f":"INSERT!B5","v":0},{"$f":"INSERT!C5","v":0},{"$f":"INSERT!D5","v":0},{"$f":"INSERT!E5","v":0},null,null,null,null,null,null,null,null,null,null,null,null,null,null,null,null,0,0,null,null,null,null,null,null,null,null,null,null,null,null,null,null,null,null,0,0,null,null,null,null,null,null,null,null,null,null,null,null,null,null,null,null,0,0,null,null,{"$error":"#VALUE!"},{"$error":"#VALUE!"},0]
[2,4,4,{"$f":"INSERT!A6","v":0},{"$f":"INSERT!B6","v":0},{"$f":"INSERT!C6","v":0},{"$f":"INSERT!D6","v":0},{"$f":"INSERT!E6","v":0},null,null,null,null,null,null,null,null,null,null,null,null,null,null,null,null,0,0,null,null,null,null,null,null,null,null,null,null,null,null,null,null,null,null,0,0,null,null,null,null,null,null,null,null,null,null,null,null,null,null,null,null,0,0,null,null,{"$error":"#VALUE!"},{"$error":"#VALUE!"},0]
[2,5,5,{"$f":"INSERT!A7","v":0},{"$f":"INSERT!B7","v":0},{"$f":"INSERT!C7","v":0},{"$f":"INSERT!D7","v":0},{"$f":"INSERT!E7","v":0},null,null,null,null,null,null,null,null,null,null,null,null,null,null,null,null,0,0,null,null,null,null,null,null,null,null,null,null,null,null,null,null,null,null,0,0,null,null,null,null,null,null,null,null,null,null,null,null,null,null,null,null,0,0,null,null,{"$error":"#VALUE!"},{"$error":"#VALUE!"},0]
[2,6,6,{"$f":"INSERT!A8","v":0},{"$f":"INSERT!B8","v":0},{"$f":"INSERT!C8","v":0},{"$f":"INSERT!D8","v":0},{"$f":"INSERT!E8","v":0},null,null,null,null,null,null,null,null,null,null,null,null,null,null,null,null,0,0,null,null,null,null,null,null,null,null,null,null,null,null,null,null,null,null,0,0,null,null,null,null,null,null,null,null,null,null,null,null,null,null,null,null,0,0,null,null,{"$error":"#VALUE!"},{"$f":"ROUND(SUM(BL21*$BL$13),0)","v":{"$error":"#VALUE!"}},0]
[2,7,7,{"$f":"INSERT!A9","v":0},{"$f":"INSERT!B9","v":0},{"$f":"INSERT!C9","v":0},{"$f":"INSERT!D9","v":0},{"$f":"INSERT!E9","v":0},null,null,null,null,null,null,null,null,null,null,null,null,null,null,null,null,0,0,null,null,null,null,null,null,null,null,null,null,null,null,null,null,null,null,0,0,null,null,null,null,null,null,null,null,null,null,null,null,null,null,null,null,0,0,null,null,{"$error":"#VALUE!"},{"$error":"#VALUE!"},0]
[2,8,8,{"$f":"INSERT!A10","v":0},{"$f":"INSERT!B10","v":0},{"$f":"INSERT!C10","v":0},{"$f":"INSERT!D10","v":0},{"$f":"INSERT!E10","v":0},null,null,null,null,null,null,null,null,null,null,null,null,null,null,null,null,0,0,null,null,null,null,null,null,null,null,null,null,null,null,null,null,null,null,0,0,null,null,null,null,null,null,null,null,null,null,null,null,null,null,null,null,0,0,null,null,{"$error":"#VALUE!"},{"$error":"#VALUE!"},0]
[{"$f":"SUM(COUNTA(F25)+COUNT(B24))","v":2},{"$f":"B23+1","v":9},9,{"$f":"INSERT!A11","v":0},{"$f":"INSERT!B11","v":0},{"$f":"INSERT!C11","v":0},{"$f":"INSERT!D11","v":0},{"$f":"INSERT!E11","v":0},null,null,null,null,null,null,null,null,null,null,null,null,null,null,null,null,0,0,null,null,null,null,null,null,null,null,null,null,null,null,null,null,null,null,0,0,null,null,null,null,null,null,null,null,null,null,null,null,null,null,null,null,0,0,null,null,{"$error":"#VALUE!"},{"$error":"#VALUE!"},0]
[{"$f":"SUM(COUNTA(F26)+COUNT(B25))","v":2},10,10,{"$f":"INSERT!A12","v":0},{"$f":"INSERT!B12","v":0},{"$f":"INSERT!C12","v":0},{"$f":"INSERT!D12","v":0},{"$f":"INSERT!E12","v":0},null,null,null,null,null,null,null,null,null,null,null,null,null,null,null,null,0,0,null,null,null,null,null,null,null,null,null,null,null,null,null,null,null,null,0,0,null,null,null,null,null,null,null,null,null,null,null,null,null,null,null,null,0,0,null,null,{"$error":"#VALUE!"},{"$error":"#VALUE!"},0]
[2,11,11,{"$f":"INSERT!A13","v":0},{"$f":"INSERT!B13","v":0},{"$f":"INSERT!C13","v":0},{"$f":"INSERT!D13","v":0},{"$f":"INSERT!E13","v":0},null,null,null,null,null,null,null,null,null,null,null,null,null,null,null,null,0,0,null,null,null,null,null,null,null,null,null,null,null,null,null,null,null,null,0,0,null,null,null,null,null,null,null,null,null,null,null,null,null,null,null,null,0,0,null,null,{"$error":"#VALUE!"},{"$error":"#VALUE!"},0]
[2,12,12,{"$f":"INSERT!A14","v":0},{"$f":"INSERT!B14","v":0},{"$f":"INSERT!C14","v":0},{"$f":"INSERT!D14","v":0},{"$f":"INSERT!E14","v":0},null,null,null,null,null,null,null,null,null,null,null,null,null,null,null,null,0,0,null,null,null,null,null,null,null,null,null,null,null,null,null,null,null,null,0,0,null,null,null,null,null,null,null,null,null,null,null,null,null,null,null,null,0,0,null,null,{"$error":"#VALUE!"},{"$error":"#VALUE!"},0]
[2,13,13,{"$f":"INSERT!A15","v":0},{"$f":"INSERT!B15","v":0},{"$f":"INSERT!C15","v":0},{"$f":"INSERT!D15","v":0},{"$f":"INSERT!E15","v":0},null,null,null,null,null,null,null,null,null,null,null,null,null,null,null,null,0,0,null,null,null,null,null,null,null,null,null,null,null,null,null,null,null,null,0,0,null,null,null,null,null,null,null,null,null,null,null,null,null,null,null,null,0,0,null,null,{"$error":"#VALUE!"},{"$error":"#VALUE!"},0]
[2,14,14,{"$f":"INSERT!A16","v":0},{"$f":"INSERT!B16","v":0},{"$f":"INSERT!C16","v":0},{"$f":"INSERT!D16","v":0},{"$f":"INSERT!E16","v":0},null,null,null,null,null,null,null,null,null,null,null,null,null,null,null,null,0,0,null,null,null,null,null,null,null,null,null,null,null,null,null,null,null,null,0,0,null,null,null,null,null,null,null,null,null,null,null,null,null,null,null,null,0,0,null,null,{"$error":"#VALUE!"},{"$error":"#VALUE!"},0]
[2,15,15,{"$f":"INSERT!A17","v":0},{"$f":"INSERT!B17","v":0},{"$f":"INSERT!C17","v":0},{"$f":"INSERT!D17","v":0},{"$f":"INSERT!E17","v":0},null,null,null,null,null,null,null,null,null,null,null,null,null,null,null,null,0,0,null,null,null,null,null,null,null,null,null,null,null,null,null,null,null,null,0,0,null,null,null,null,null,null,null,null,null,null,null,null,null,null,null,null,0,0,null,null,{"$error":"#VALUE!"},{"$error":"#VALUE!"},0]
[2,16,16,{"$f":"INSERT!A18","v":0},{"$f":"INSERT!B18","v":0},{"$f":"INSERT!C18","v":0},{"$f":"INSERT!D18","v":0},{"$f":"INSERT!E18","v":0},null,null,null,null,null,null,null,null,null,null,null,null,null,null,null,null,0,0,null,null,null,null,null,null,null,null,null,null,null,null,null,null,null,null,0,0,null,null,null,null,null,null,null,null,null,null,null,null,null,null,null,null,0,0,null,null,{"$error":"#VALUE!"},{"$error":"#VALUE!"},0]
[2,17,17,{"$f":"INSERT!A19","v":0},{"$f":"INSERT!B19","v":0},{"$f":"INSERT!C19","v":0},{"$f":"INSERT!D19","v":0},{"$f":"INSERT!E19","v":0},null,null,null,null,null,null,null,null,null,null,null,null,null,null,null,null,0,0,null,null,null,null,null,null,null,null,null,null,null,null,null,null,null,null,0,0,null,null,null,null,null,null,null,null,null,null,null,null,null,null,null,null,0,0,null,null,{"$error":"#VALUE!"},{"$error":"#VALUE!"},0]
[2,18,18,{"$f":"INSERT!A20","v":0},{"$f":"INSERT!B20","v":0},{"$f":"INSERT!C20","v":0},{"$f":"INSERT!D20","v":0},{"$f":"INSERT!E20","v":0},null,null,null,null,null,null,null,null,null,null,null,null,null,null,null,null,0,0,null,null,null,null,null,null,null,null,null,null,null,null,null,null,null,null,0,0,null,null,null,null,null,null,null,null,null,null,null,null,null,null,null,null,0,0,null,null,{"$error":"#VALUE!"},{"$error":"#VALUE!"},0]
[2,19,19,{"$f":"INSERT!A21","v":0},{"$f":"INSERT!B21","v":0},{"$f":"INSERT!C21","v":0},{"$f":"INSERT!D21","v":0},{"$f":"INSERT!E21","v":0},null,null,null,null,null,null,null,null,null,null,null,null,null,null,null,null,0,0,null,null,null,null,null,null,null,null,null,null,null,null,null,null,null,null,0,0,null,null,null,null,null,null,null,null,null,null,null,null,null,null,null,null,0,0,null,null,{"$error":"#VALUE!"},{"$error":"#VALUE!"},0]
[2,20,20,{"$f":"INSERT!A22","v":0},{"$f":"INSERT!B22","v":0},{"$f":"INSERT!C22","v":0},{"$f":"INSERT!D22","v":0},{"$f":"INSERT!E22","v":0},null,null,null,null,null,null,null,null,null,null,null,null,null,null,null,null,0,0,null,null,null,null,null,null,null,null,null,null,null,null,null,null,null,null,0,0,null,null,null,null,null,null,null,null,null,null,null,null,null,null,null,null,0,0,null,null,{"$error":"#VALUE!"},{"$error":"#VALUE!"},0]
[2,21,21,{"$f":"INSERT!A23","v":0},{"$f":"INSERT!B23","v":0},{"$f":"INSERT!C23","v":0},{"$f":"INSERT!D23","v":0},{"$f":"INSERT!E23","v":0},null,null,null,null,null,null,null,null,null,null,null,null,null,null,null,null,0,0,null,null,null,null,null,null,null,null,null,null,null,null,null,null,null,null,0,0,null,null,null,null,null,null,null,null,null,null,null,null,null,null,null,null,0,0,null,null,{"$error":"#VALUE!"},{"$error":"#VALUE!"},0]
[2,22,22,{"$f":"INSERT!A24","v":0},{"$f":"INSERT!B24","v":0},{"$f":"INSERT!C24","v":0},{"$f":"INSERT!D24","v":0},{"$f":"INSERT!E24","v":0},null,null,null,null,null,null,null,null,null,null,null,null,null,null,null,null,0,0,null,null,null,null,null,null,null,null,null,null,null,null,null,null,null,null,0,0,null,null,null,null,null,null,null,null,null,null,null,null,null,null,null,null,0,0,null,null,{"$error":"#VALUE!"},{"$error":"#VALUE!"},0]
[2,23,23,{"$f":"INSERT!A25","v":0},{"$f":"INSERT!B25","v":0},{"$f":"INSERT!C25","v":0},{"$f":"INSERT!D25","v":0},{"$f":"INSERT!E25","v":0},null,null,null,null,null,null,null,null,null,null,null,null,null,null,null,null,0,0,null,null,null,null,null,null,null,null,null,null,null,null,null,null,null,null,0,0,null,null,null,null,null,null,null,null,null,null,null,null,null,null,null,null,0,0,null,null,{"$error":"#VALUE!"},{"$error":"#VALUE!"},0]
[2,24,24,{"$f":"INSERT!A26","v":0},{"$f":"INSERT!B26","v":0},{"$f":"INSERT!C26","v":0},{"$f":"INSERT!D26","v":0},{"$f":"INSERT!E26","v":0},null,null,null,null,null,null,null,null,null,null,null,null,null,null,null,null,0,0,null,null,null,null,null,null,null,null,null,null,null,null,null,null,null,null,0,0,null,null,null,null,null,null,null,null,null,null,null,null,null,null,null,null,0,0,null,null,{"$error":"#VALUE!"},{"$error":"#VALUE!"},0]
[2,25,25,{"$f":"INSERT!A27","v":0},{"$f":"INSERT!B27","v":0},{"$f":"INSERT!C27","v":0},{"$f":"INSERT!D27","v":0},{"$f":"INSERT!E27","v":0},null,null,null,null,null,null,null,null,null,null,null,null,null,null,null,null,0,0,null,null,null,null,null,null,null,null,null,null,null,null,null,null,null,null,0,0,null,null,null,null,null,null,null,null,null,null,null,null,null,null,null,null,0,0,null,null,{"$error":"#VALUE!"},{"$error":"#VALUE!"},0]
[2,26,26,{"$f":"INSERT!A28","v":0},{"$f":"INSERT!B28","v":0},{"$f":"INSERT!C28","v":0},{"$f":"INSERT!D28","v":0},{"$f":"INSERT!E28","v":0},null,null,null,null,null,null,null,null,null,null,null,null,null,null,null,null,0,0,null,null,null,null,null,null,null,null,null,null,null,null,null,null,null,null,0,0,null,null,null,null,null,null,null,null,null,null,null,null,null,null,null,null,0,0,null,null,{"$error":"#VALUE!"},{"$error":"#VALUE!"},0]
[2,27,27,{"$f":"INSERT!A29","v":0},{"$f":"INSERT!B29","v":0},{"$f":"INSERT!C29","v":0},{"$f":"INSERT!D29","v":0},{"$f":"INSERT!E29","v":0},null,null,null,null,null,null,null,null,null,null,null,null,null,null,null,null,0,0,null,null,null,null,null,null,null,null,null,null,null,null,null,null,null,null,0,0,null,null,null,null,null,null,null,null,null,null,null,null,null,null,null,null,0,0,null,null,{"$error":"#VALUE!"},{"$error":"#VALUE!"},0]
[2,28,28,{"$f":"INSERT!A30","v":0},{"$f":"INSERT!B30","v":0},{"$f":"INSERT!C30","v":0},{"$f":"INSERT!D30","v":0},{"$f":"INSERT!E30","v":0},null,null,null,null,null,null,null,null,null,null,null,null,null,null,null,null,0,0,null,null,null,null,null,null,null,null,null,null,null,null,null,null,null,null,0,0,null,null,null,null,null,null,null,null,null,null,null,null,null,null,null,null,0,0,null,null,{"$error":"#VALUE!"},{"$error":"#VALUE!"},0]
[2,29,29,{"$f":"INSERT!A31","v":0},{"$f":"INSERT!B31","v":0},{"$f":"INSERT!C31","v":0},{"$f":"INSERT!D31","v":0},{"$f":"INSERT!E31","v":0},null,null,null,null,null,null,null,null,null,null,null,null,null,null,null,null,0,0,null,null,null,null,null,null,null,null,null,null,null,null,null,null,null,null,0,0,null,null,null,null,null,null,null,null,null,null,null,null,null,null,null,null,0,0,null,null,{"$error":"#VALUE!"},{"$error":"#VALUE!"},0]
[2,30,30,{"$f":"INSERT!A32","v":0},{"$f":"INSERT!B32","v":0},{"$f":"INSERT!C32","v":0},{"$f":"INSERT!D32","v":0},{"$f":"INSERT!E32","v":0},null,null,null,null,null,null,null,null,null,null,null,null,null,null,null,null,0,0,null,null,null,null,null,null,null,null,null,null,null,null,null,null,null,null,0,0,null,null,null,null,null,null,null,null,null,null,null,null,null,null,null,null,0,0,null,null,{"$error":"#VALUE!"},{"$error":"#VALUE!"},0]
[2,31,31,{"$f":"INSERT!A33","v":0},{"$f":"INSERT!B33","v":0},{"$f":"INSERT!C33","v":0},{"$f":"INSERT!D33","v":0},{"$f":"INSERT!E33","v":0},null,null,null,null,null,null,null,null,null,null,null,null,null,null,null,null,0,0,null,null,null,null,null,null,null,null,null,null,null,null,null,null,null,null,0,0,null,null,null,null,null,null,null,null,null,null,null,null,null,null,null,null,0,0,null,null,{"$error":"#VALUE!"},{"$error":"#VALUE!"},0]
[2,{"$f":"B46+1","v":32},32,{"$f":"INSERT!A34","v":0},{"$f":"INSERT!B34","v":0},{"$f":"INSERT!C34","v":0},{"$f":"INSERT!D34","v":0},{"$f":"INSERT!E34","v":0},null,null,null,null,null,null,null,null,null,null,null,null,null,null,null,null,0,0,null,null,null,null,null,null,null,null,null,null,null,null,null,null,null,null,0,0,null,null,null,null,null,null,null,null,null,null,null,null,null,null,null,null,0,0,null,null,{"$error":"#VALUE!"},{"$error":"#VALUE!"},0]
[2,33,33,{"$f":"INSERT!A35","v":0},{"$f":"INSERT!B35","v":0},{"$f":"INSERT!C35","v":0},{"$f":"INSERT!D35","v":0},{"$f":"INSERT!E35","v":0},null,null,null,null,null,null,null,null,null,null,null,null,null,null,null,null,{"$f":"SUM(I48:X48)","v":0},{"$f":"(SUM(Y48*$Y$13)/10)","v":0},null,null,null,null,null,null,null,null,null,null,null,null,null,null,null,null,{"$f":"SUM(AA48:AP48)","v":0},{"$f":"(SUM(AQ48*$AQ$13)/10)","v":0},null,null,null,null,null,null,null,null,null,null,null,null,null,null,null,null,{"$f":"SUM(AS48:BH48)","v":0},{"$f":"(SUM(BI48*$BI$13)/10)","v":0},null,null,{"$f":"ROUND(SUM(BK48*$BK$13),0)","v":{"$error":"#VALUE!"}},{"$f":"ROUND(SUM(BL48*$BL$13),0)","v":{"$error":"#VALUE!"}},{"$f":"ROUND(IF($BN$13=1,BM48,IF($BN$13=2,(BN48+BM48)/2)),0)","v":0}]
[2,{"$f":"B48+1","v":34},34,{"$f":"INSERT!A36","v":0},{"$f":"INSERT!B36","v":0},{"$f":"INSERT!C36","v":0},{"$f":"INSERT!D36","v":0},{"$f":"INSERT!E36","v":0},null,null,null,null,null,null,null,null,null,null,null,null,null,null,null,null,0,0,null,null,null,null,null,null,null,null,null,null,null,null,null,null,null,null,0,0,null,null,null,null,null,null,null,null,null,null,null,null,null,null,null,null,0,0,null,null,{"$error":"#VALUE!"},{"$error":"#VALUE!"},0]
[2,35,35,{"$f":"INSERT!A37","v":0},{"$f":"INSERT!B37","v":0},{"$f":"INSERT!C37","v":0},{"$f":"INSERT!D37","v":0},{"$f":"INSERT!E37","v":0},null,null,null,null,null,null,null,null,null,null,null,null,null,null,null,null,0,0,null,null,null,null,null,null,null,null,null,null,null,null,null,null,null,null,0,0,null,null,null,null,null,null,null,null,null,null,null,null,null,null,null,null,0,0,null,null,{"$error":"#VALUE!"},{"$error":"#VALUE!"},0]
[2,36,36,{"$f":"INSERT!A38","v":0},{"$f":"INSERT!B38","v":0},{"$f":"INSERT!C38","v":0},{"$f":"INSERT!D38","v":0},{"$f":"INSERT!E38","v":0},null,null,null,null,null,null,null,null,null,null,null,null,null,null,null,null,0,0,null,null,null,null,null,null,null,null,null,null,null,null,null,null,null,null,0,0,null,null,null,null,null,null,null,null,null,null,null,null,null,null,null,null,0,0,null,null,{"$error":"#VALUE!"},{"$error":"#VALUE!"},0]
[2,37,37,{"$f":"INSERT!A39","v":0},{"$f":"INSERT!B39","v":0},{"$f":"INSERT!C39","v":0},{"$f":"INSERT!D39","v":0},{"$f":"INSERT!E39","v":0},null,null,null,null,null,null,null,null,null,null,null,null,null,null,null,null,0,0,null,null,null,null,null,null,null,null,null,null,null,null,null,null,null,null,0,0,null,null,null,null,null,null,null,null,null,null,null,null,null,null,null,null,0,0,null,null,{"$error":"#VALUE!"},{"$error":"#VALUE!"},0]
[2,38,38,{"$f":"INSERT!A40","v":0},{"$f":"INSERT!B40","v":0},{"$f":"INSERT!C40","v":0},{"$f":"INSERT!D40","v":0},{"$f":"INSERT!E40","v":0},null,null,null,null,null,null,null,null,null,null,null,null,null,null,null,null,0,0,null,null,null,null,null,null,null,null,null,null,null,null,null,null,null,null,0,0,null,null,null,null,null,null,null,null,null,null,null,null,null,null,null,null,0,0,null,null,{"$error":"#VALUE!"},{"$error":"#VALUE!"},0]
[2,39,39,{"$f":"INSERT!A41","v":0},{"$f":"INSERT!B41","v":0},{"$f":"INSERT!C41","v":0},{"$f":"INSERT!D41","v":0},{"$f":"INSERT!E41","v":0},null,null,null,null,null,null,null,null,null,null,null,null,null,null,null,null,0,0,null,null,null,null,null,null,null,null,null,null,null,null,null,null,null,null,0,0,null,null,null,null,null,null,null,null,null,null,null,null,null,null,null,null,0,0,null,null,{"$error":"#VALUE!"},{"$error":"#VALUE!"},0]
[2,40,40,{"$f":"INSERT!A42","v":0},{"$f":"INSERT!B42","v":0},{"$f":"INSERT!C42","v":0},{"$f":"INSERT!D42","v":0},{"$f":"INSERT!E42","v":0},null,null,null,null,null,null,null,null,null,null,null,null,null,null,null,null,0,0,null,null,null,null,null,null,null,null,null,null,null,null,null,null,null,null,0,0,null,null,null,null,null,null,null,null,null,null,null,null,null,null,null,null,0,0,null,null,{"$error":"#VALUE!"},{"$error":"#VALUE!"},0]
[2,41,41,{"$f":"INSERT!A43","v":0},{"$f":"INSERT!B43","v":0},{"$f":"INSERT!C43","v":0},{"$f":"INSERT!D43","v":0},{"$f":"INSERT!E43","v":0},null,null,null,null,null,null,null,null,null,null,null,null,null,null,null,null,0,0,null,null,null,null,null,null,null,null,null,null,null,null,null,null,null,null,0,0,null,null,null,null,null,null,null,null,null,null,null,null,null,null,null,null,0,0,null,null,{"$error":"#VALUE!"},{"$error":"#VALUE!"},0]
[2,42,42,{"$f":"INSERT!A44","v":0},{"$f":"INSERT!B44","v":0},{"$f":"INSERT!C44","v":0},{"$f":"INSERT!D44","v":0},{"$f":"INSERT!E44","v":0},null,null,null,null,null,null,null,null,null,null,null,null,null,null,null,null,0,0,null,null,null,null,null,null,null,null,null,null,null,null,null,null,null,null,0,0,null,null,null,null,null,null,null,null,null,null,null,null,null,null,null,null,0,0,null,null,{"$error":"#VALUE!"},{"$error":"#VALUE!"},0]
[2,43,43,{"$f":"INSERT!A45","v":0},{"$f":"INSERT!B45","v":0},{"$f":"INSERT!C45","v":0},{"$f":"INSERT!D45","v":0},{"$f":"INSERT!E45","v":0},null,null,null,null,null,null,null,null,null,null,null,null,null,null,null,null,0,0,null,null,null,null,null,null,null,null,null,null,null,null,null,null,null,null,0,0,null,null,null,null,null,null,null,null,null,null,null,null,null,null,null,null,0,0,null,null,{"$error":"#VALUE!"},{"$error":"#VALUE!"},0]
[2,44,44,{"$f":"INSERT!A46","v":0},{"$f":"INSERT!B46","v":0},{"$f":"INSERT!C46","v":0},{"$f":"INSERT!D46","v":0},{"$f":"INSERT!E46","v":0},null,null,null,null,null,null,null,null,null,null,null,null,null,null,null,null,0,0,null,null,null,null,null,null,null,null,null,null,null,null,null,null,null,null,0,0,null,null,null,null,null,null,null,null,null,null,null,null,null,null,null,null,0,0,null,null,{"$error":"#VALUE!"},{"$error":"#VALUE!"},0]
[2,45,45,{"$f":"INSERT!A47","v":0},{"$f":"INSERT!B47","v":0},{"$f":"INSERT!C47","v":0},{"$f":"INSERT!D47","v":0},{"$f":"INSERT!E47","v":0},null,null,null,null,null,null,null,null,null,null,null,null,null,null,null,null,0,0,null,null,null,null,null,null,null,null,null,null,null,null,null,null,null,null,0,0,null,null,null,null,null,null,null,null,null,null,null,null,null,null,null,null,0,0,null,null,{"$error":"#VALUE!"},{"$error":"#VALUE!"},0]
[2,46,46,{"$f":"INSERT!A48","v":0},{"$f":"INSERT!B48","v":0},{"$f":"INSERT!C48","v":0},{"$f":"INSERT!D48","v":0},{"$f":"INSERT!E48","v":0},null,null,null,null,null,null,null,null,null,null,null,null,null,null,null,null,0,0,null,null,null,null,null,null,null,null,null,null,null,null,null,null,null,null,0,0,null,null,null,null,null,null,null,null,null,null,null,null,null,null,null,null,0,0,null,null,{"$error":"#VALUE!"},{"$error":"#VALUE!"},0]
[2,47,47,{"$f":"INSERT!A49","v":0},{"$f":"INSERT!B49","v":0},{"$f":"INSERT!C49","v":0},{"$f":"INSERT!D49","v":0},{"$f":"INSERT!E49","v":0},null,null,null,null,null,null,null,null,null,null,null,null,null,null,null,null,0,0,null,null,null,null,null,null,null,null,null,null,null,null,null,null,null,null,0,0,null,null,null,null,null,null,null,null,null,null,null,null,null,null,null,null,0,0,null,null,{"$error":"#VALUE!"},{"$error":"#VALUE!"},0]
[2,48,48,{"$f":"INSERT!A50","v":0},{"$f":"INSERT!B50","v":0},{"$f":"INSERT!C50","v":0},{"$f":"INSERT!D50","v":0},{"$f":"INSERT!E50","v":0},null,null,null,null,null,null,null,null,null,null,null,null,null,null,null,null,0,0,null,null,null,null,null,null,null,null,null,null,null,null,null,null,null,null,0,0,null,null,null,null,null,null,null,null,null,null,null,null,null,null,null,null,0,0,null,null,{"$error":"#VALUE!"},{"$error":"#VALUE!"},0]
[2,49,49,{"$f":"INSERT!A51","v":0},{"$f":"INSERT!B51","v":0},{"$f":"INSERT!C51","v":0},{"$f":"INSERT!D51","v":0},{"$f":"INSERT!E51","v":0},null,null,null,null,null,null,null,null,null,null,null,null,null,null,null,null,0,0,null,null,null,null,null,null,null,null,null,null,null,null,null,null,null,null,0,0,null,null,null,null,null,null,null,null,null,null,null,null,null,null,null,null,0,0,null,null,{"$error":"#VALUE!"},{"$error":"#VALUE!"},0]
[2,50,50,{"$f":"INSERT!A52","v":0},{"$f":"INSERT!B52","v":0},{"$f":"INSERT!C52","v":0},{"$f":"INSERT!D52","v":0},{"$f":"INSERT!E52","v":0},null,null,null,null,null,null,null,null,null,null,null,null,null,null,null,null,0,0,null,null,null,null,null,null,null,null,null,null,null,null,null,null,null,null,0,0,null,null,null,null,null,null,null,null,null,null,null,null,null,null,null,null,0,0,null,null,{"$error":"#VALUE!"},{"$error":"#VALUE!"},0]
[2,51,51,{"$f":"INSERT!A53","v":0},{"$f":"INSERT!B53","v":0},{"$f":"INSERT!C53","v":0},{"$f":"INSERT!D53","v":0},{"$f":"INSERT!E53","v":0},null,null,null,null,null,null,null,null,null,null,null,null,null,null,null,null,0,0,null,null,null,null,null,null,null,null,null,null,null,null,null,null,null,null,0,0,null,null,null,null,null,null,null,null,null,null,null,null,null,null,null,null,0,0,null,null,{"$error":"#VALUE!"},{"$error":"#VALUE!"},0]
[2,52,52,{"$f":"INSERT!A54","v":0},{"$f":"INSERT!B54","v":0},{"$f":"INSERT!C54","v":0},{"$f":"INSERT!D54","v":0},{"$f":"INSERT!E54","v":0},null,null,null,null,null,null,null,null,null,null,null,null,null,null,null,null,0,0,null,null,null,null,null,null,null,null,null,null,null,null,null,null,null,null,0,0,null,null,null,null,null,null,null,null,null,null,null,null,null,null,null,null,0,0,null,null,{"$error":"#VALUE!"},{"$error":"#VALUE!"},0]
[2,53,53,{"$f":"INSERT!A55","v":0},{"$f":"INSERT!B55","v":0},{"$f":"INSERT!C55","v":0},{"$f":"INSERT!D55","v":0},{"$f":"INSERT!E55","v":0},null,null,null,null,null,null,null,null,null,null,null,null,null,null,null,null,0,0,null,null,null,null,null,null,null,null,null,null,null,null,null,null,null,null,0,0,null,null,null,null,null,null,null,null,null,null,null,null,null,null,null,null,0,0,null,null,{"$error":"#VALUE!"},{"$error":"#VALUE!"},0]
[2,54,54,{"$f":"INSERT!A56","v":0},{"$f":"INSERT!B56","v":0},{"$f":"INSERT!C56","v":0},{"$f":"INSERT!D56","v":0},{"$f":"INSERT!E56","v":0},null,null,null,null,null,null,null,null,null,null,null,null,null,null,null,null,0,0,null,null,null,null,null,null,null,null,null,null,null,null,null,null,null,null,0,0,null,null,null,null,null,null,null,null,null,null,null,null,null,null,null,null,0,0,null,null,{"$error":"#VALUE!"},{"$error":"#VALUE!"},0]
[2,55,55,{"$f":"INSERT!A57","v":0},{"$f":"INSERT!B57","v":0},{"$f":"INSERT!C57","v":0},{"$f":"INSERT!D57","v":0},{"$f":"INSERT!E57","v":0},null,null,null,null,null,null,null,null,null,null,null,null,null,null,null,null,0,0,null,null,null,null,null,null,null,null,null,null,null,null,null,null,null,null,0,0,null,null,null,null,null,null,null,null,null,null,null,null,null,null,null,null,0,0,null,null,{"$error":"#VALUE!"},{"$error":"#VALUE!"},0]
[2,56,56,{"$f":"INSERT!A58","v":0},{"$f":"INSERT!B58","v":0},{"$f":"INSERT!C58","v":0},{"$f":"INSERT!D58","v":0},{"$f":"INSERT!E58","v":0},null,null,null,null,null,null,null,null,null,null,null,null,null,null,null,null,0,0,null,null,null,null,null,null,null,null,null,null,null,null,null,null,null,null,0,0,null,null,null,null,null,null,null,null,null,null,null,null,null,null,null,null,0,0,null,null,{"$error":"#VALUE!"},{"$error":"#VALUE!"},0]
[2,57,57,{"$f":"INSERT!A59","v":0},{"$f":"INSERT!B59","v":0},{"$f":"INSERT!C59","v":0},{"$f":"INSERT!D59","v":0},{"$f":"INSERT!E59","v":0},null,null,null,null,null,null,null,null,null,null,null,null,null,null,null,null,0,0,null,null,null,null,null,null,null,null,null,null,null,null,null,null,null,null,0,0,null,null,null,null,null,null,null,null,null,null,null,null,null,null,null,null,0,0,null,null,{"$error":"#VALUE!"},{"$error":"#VALUE!"},0]
[2,58,58,{"$f":"INSERT!A60","v":0},{"$f":"INSERT!B60","v":0},{"$f":"INSERT!C60","v":0},{"$f":"INSERT!D60","v":0},{"$f":"INSERT!E60","v":0},null,null,null,null,null,null,null,null,null,null,null,null,null,null,null,null,0,0,null,null,null,null,null,null,null,null,null,null,null,null,null,null,null,null,0,0,null,null,null,null,null,null,null,null,null,null,null,null,null,null,null,null,0,0,null,null,{"$error":"#VALUE!"},{"$error":"#VALUE!"},0]
[2,59,59,{"$f":"INSERT!A61","v":0},{"$f":"INSERT!B61","v":0},{"$f":"INSERT!C61","v":0},{"$f":"INSERT!D61","v":0},{"$f":"INSERT!E61","v":0},null,null,null,null,null,null,null,null,null,null,null,null,null,null,null,null,0,0,null,null,null,null,null,null,null,null,null,null,null,null,null,null,null,null,0,0,null,null,null,null,null,null,null,null,null,null,null,null,null,null,null,null,0,0,null,null,{"$error":"#VALUE!"},{"$error":"#VALUE!"},0]
[2,60,60,{"$f":"INSERT!A62","v":0},{"$f":"INSERT!B62","v":0},{"$f":"INSERT!C62","v":0},{"$f":"INSERT!D62","v":0},{"$f":"INSERT!E62","v":0},null,null,null,null,null,null,null,null,null,null,null,null,null,null,null,null,0,0,null,null,null,null,null,null,null,null,null,null,null,null,null,null,null,null,0,0,null,null,null,null,null,null,null,null,null,null,null,null,null,null,null,null,0,0,null,null,{"$error":"#VALUE!"},{"$error":"#VALUE!"},0]
[2,61,61,{"$f":"INSERT!A63","v":0},{"$f":"INSERT!B63","v":0},{"$f":"INSERT!C63","v":0},{"$f":"INSERT!D63","v":0},{"$f":"INSERT!E63","v":0},null,null,null,null,null,null,null,null,null,null,null,null,null,null,null,null,0,0,null,null,null,null,null,null,null,null,null,null,null,null,null,null,null,null,0,0,null,null,null,null,null,null,null,null,null,null,null,null,null,null,null,null,0,0,null,null,{"$error":"#VALUE!"},{"$error":"#VALUE!"},0]
[2,62,62,{"$f":"INSERT!A64","v":0},{"$f":"INSERT!B64","v":0},{"$f":"INSERT!C64","v":0},{"$f":"INSERT!D64","v":0},{"$f":"INSERT!E64","v":0},null,null,null,null,null,null,null,null,null,null,null,null,null,null,null,null,0,0,null,null,null,null,null,null,null,null,null,null,null,null,null,null,null,null,0,0,null,null,null,null,null,null,null,null,null,null,null,null,null,null,null,null,0,0,null,null,{"$error":"#VALUE!"},{"$error":"#VALUE!"},0]
[2,63,63,{"$f":"INSERT!A65","v":0},{"$f":"INSERT!B65","v":0},{"$f":"INSERT!C65","v":0},{"$f":"INSERT!D65","v":0},{"$f":"INSERT!E65","v":0},null,null,null,null,null,null,null,null,null,null,null,null,null,null,null,null,0,0,null,null,null,null,null,null,null,null,null,null,null,null,null,null,null,null,0,0,null,null,null,null,null,null,null,null,null,null,null,null,null,null,null,null,0,0,null,null,{"$error":"#VALUE!"},{"$error":"#VALUE!"},0]
[2,64,64,{"$f":"INSERT!A66","v":0},{"$f":"INSERT!B66","v":0},{"$f":"INSERT!C66","v":0},{"$f":"INSERT!D66","v":0},{"$f":"INSERT!E66","v":0},null,null,null,null,null,null,null,null,null,null,null,null,null,null,null,null,0,0,null,null,null,null,null,null,null,null,null,null,null,null,null,null,null,null,0,0,null,null,null,null,null,null,null,null,null,null,null,null,null,null,null,null,0,0,null,null,{"$error":"#VALUE!"},{"$error":"#VALUE!"},0]
[2,65,65,{"$f":"INSERT!A67","v":0},{"$f":"INSERT!B67","v":0},{"$f":"INSERT!C67","v":0},{"$f":"INSERT!D67","v":0},{"$f":"INSERT!E67","v":0},null,null,null,null,null,null,null,null,null,null,null,null,null,null,null,null,{"$f":"SUM(I80:X80)","v":0},{"$f":"(SUM(Y80*$Y$13)/10)","v":0},null,null,null,null,null,null,null,null,null,null,null,null,null,null,null,null,{"$f":"SUM(AA80:AP80)","v":0},{"$f":"(SUM(AQ80*$AQ$13)/10)","v":0},null,null,null,null,null,null,null,null,null,null,null,null,null,null,null,null,{"$f":"SUM(AS80:BH80)","v":0},{"$f":"(SUM(BI80*$BI$13)/10)","v":0},null,null,{"$f":"ROUND(SUM(BK80*$BK$13),0)","v":{"$error":"#VALUE!"}},{"$f":"ROUND(SUM(BL80*$BL$13),0)","v":{"$error":"#VALUE!"}},{"$f":"ROUND(IF($BN$13=1,BM80,IF($BN$13=2,(BN80+BM80)/2)),0)","v":0}]
[{"$f":"SUM(COUNTA(F81)+COUNT(B81))","v":2},66,66,{"$f":"INSERT!A68","v":0},{"$f":"INSERT!B68","v":0},{"$f":"INSERT!C68","v":0},{"$f":"INSERT!D68","v":0},{"$f":"INSERT!E68","v":0},null,null,null,null,null,null,null,null,null,null,null,null,null,null,null,null,0,0,null,null,null,null,null,null,null,null,null,null,null,null,null,null,null,null,0,0,null,null,null,null,null,null,null,null,null,null,null,null,null,null,null,null,0,0,null,null,{"$error":"#VALUE!"},{"$error":"#VALUE!"},0]
[2,67,67,{"$f":"INSERT!A69","v":0},{"$f":"INSERT!B69","v":0},{"$f":"INSERT!C69","v":0},{"$f":"INSERT!D69","v":0},{"$f":"INSERT!E69","v":0},null,null,null,null,null,null,null,null,null,null,null,null,null,null,null,null,0,0,null,null,null,null,null,null,null,null,null,null,null,null,null,null,null,null,0,0,null,null,null,null,null,null,null,null,null,null,null,null,null,null,null,null,0,0,null,null,{"$error":"#VALUE!"},{"$error":"#VALUE!"},0]
[2,68,68,{"$f":"INSERT!A70","v":0},{"$f":"INSERT!B70","v":0},{"$f":"INSERT!C70","v":0},{"$f":"INSERT!D70","v":0},{"$f":"INSERT!E70","v":0},null,null,null,null,null,null,null,null,null,null,null,null,null,null,null,null,0,0,null,null,null,null,null,null,null,null,null,null,null,null,null,null,null,null,0,0,null,null,null,null,null,null,null,null,null,null,null,null,null,null,null,null,0,0,null,null,{"$error":"#VALUE!"},{"$error":"#VALUE!"},0]
[2,69,69,{"$f":"INSERT!A71","v":0},{"$f":"INSERT!B71","v":0},{"$f":"INSERT!C71","v":0},{"$f":"INSERT!D71","v":0},{"$f":"INSERT!E71","v":0},null,null,null,null,null,null,null,null,null,null,null,null,null,null,null,null,0,0,null,null,null,null,null,null,null,null,null,null,null,null,null,null,null,null,0,0,null,null,null,null,null,null,null,null,null,null,null,null,null,null,null,null,0,0,null,null,{"$error":"#VALUE!"},{"$error":"#VALUE!"},0]
[2,70,70,{"$f":"INSERT!A72","v":0},{"$f":"INSERT!B72","v":0},{"$f":"INSERT!C72","v":0},{"$f":"INSERT!D72","v":0},{"$f":"INSERT!E72","v":0},null,null,null,null,null,null,null,null,null,null,null,null,null,null,null,null,0,0,null,null,null,null,null,null,null,null,null,null,null,null,null,null,null,null,0,0,null,null,null,null,null,null,null,null,null,null,null,null,null,null,null,null,0,0,null,null,{"$error":"#VALUE!"},{"$error":"#VALUE!"},0]
[2,71,71,{"$f":"INSERT!A73","v":0},{"$f":"INSERT!B73","v":0},{"$f":"INSERT!C73","v":0},{"$f":"INSERT!D73","v":0},{"$f":"INSERT!E73","v":0},null,null,null,null,null,null,null,null,null,null,null,null,null,null,null,null,0,0,null,null,null,null,null,null,null,null,null,null,null,null,null,null,null,null,0,0,null,null,null,null,null,null,null,null,null,null,null,null,null,null,null,null,0,0,null,null,{"$error":"#VALUE!"},{"$error":"#VALUE!"},0]
[2,72,72,{"$f":"INSERT!A74","v":0},{"$f":"INSERT!B74","v":0},{"$f":"INSERT!C74","v":0},{"$f":"INSERT!D74","v":0},{"$f":"INSERT!E74","v":0},null,null,null,null,null,null,null,null,null,null,null,null,null,null,null,null,0,0,null,null,null,null,null,null,null,null,null,null,null,null,null,null,null,null,0,0,null,null,null,null,null,null,null,null,null,null,null,null,null,null,null,null,0,0,null,null,{"$error":"#VALUE!"},{"$error":"#VALUE!"},0]
[2,73,73,{"$f":"INSERT!A75","v":0},{"$f":"INSERT!B75","v":0},{"$f":"INSERT!C75","v":0},{"$f":"INSERT!D75","v":0},{"$f":"INSERT!E75","v":0},null,null,null,null,null,null,null,null,null,null,null,null,null,null,null,null,0,0,null,null,null,null,null,null,null,null,null,null,null,null,null,null,null,null,0,0,null,null,null,null,null,null,null,null,null,null,null,null,null,null,null,null,0,0,null,null,{"$error":"#VALUE!"},{"$error":"#VALUE!"},0]
[2,74,74,{"$f":"INSERT!A76","v":0},{"$f":"INSERT!B76","v":0},{"$f":"INSERT!C76","v":0},{"$f":"INSERT!D76","v":0},{"$f":"INSERT!E76","v":0},null,null,null,null,null,null,null,null,null,null,null,null,null,null,null,null,0,0,null,null,null,null,null,null,null,null,null,null,null,null,null,null,null,null,0,0,null,null,null,null,null,null,null,null,null,null,null,null,null,null,null,null,0,0,null,null,{"$error":"#VALUE!"},{"$error":"#VALUE!"},0]
[2,75,75,{"$f":"INSERT!A77","v":0},{"$f":"INSERT!B77","v":0},{"$f":"INSERT!C77","v":0},{"$f":"INSERT!D77","v":0},{"$f":"INSERT!E77","v":0},null,null,null,null,null,null,null,null,null,null,null,null,null,null,null,null,0,0,null,null,null,null,null,null,null,null,null,null,null,null,null,null,null,null,0,0,null,null,null,null,null,null,null,null,null,null,null,null,null,null,null,null,0,0,null,null,{"$error":"#VALUE!"},{"$error":"#VALUE!"},0]
[2,76,76,{"$f":"INSERT!A78","v":0},{"$f":"INSERT!B78","v":0},{"$f":"INSERT!C78","v":0},{"$f":"INSERT!D78","v":0},{"$f":"INSERT!E78","v":0},null,null,null,null,null,null,null,null,null,null,null,null,null,null,null,null,0,0,null,null,null,null,null,null,null,null,null,null,null,null,null,null,null,null,0,0,null,null,null,null,null,null,null,null,null,null,null,null,null,null,null,null,0,0,null,null,{"$error":"#VALUE!"},{"$error":"#VALUE!"},0]
[2,77,77,{"$f":"INSERT!A79","v":0},{"$f":"INSERT!B79","v":0},{"$f":"INSERT!C79","v":0},{"$f":"INSERT!D79","v":0},{"$f":"INSERT!E79","v":0},null,null,null,null,null,null,null,null,null,null,null,null,null,null,null,null,0,0,null,null,null,null,null,null,null,null,null,null,null,null,null,null,null,null,0,0,null,null,null,null,null,null,null,null,null,null,null,null,null,null,null,null,0,0,null,null,{"$error":"#VALUE!"},{"$error":"#VALUE!"},0]
[2,78,78,{"$f":"INSERT!A80","v":0},{"$f":"INSERT!B80","v":0},{"$f":"INSERT!C80","v":0},{"$f":"INSERT!D80","v":0},{"$f":"INSERT!E80","v":0},null,null,null,null,null,null,null,null,null,null,null,null,null,null,null,null,0,0,null,null,null,null,null,null,null,null,null,null,null,null,null,null,null,null,0,0,null,null,null,null,null,null,null,null,null,null,null,null,null,null,null,null,0,0,null,null,{"$error":"#VALUE!"},{"$error":"#VALUE!"},0]
[2,79,79,{"$f":"INSERT!A81","v":0},{"$f":"INSERT!B81","v":0},{"$f":"INSERT!C81","v":0},{"$f":"INSERT!D81","v":0},{"$f":"INSERT!E81","v":0},null,null,null,null,null,null,null,null,null,null,null,null,null,null,null,null,0,0,null,null,null,null,null,null,null,null,null,null,null,null,null,null,null,null,0,0,null,null,null,null,null,null,null,null,null,null,null,null,null,null,null,null,0,0,null,null,{"$error":"#VALUE!"},{"$error":"#VALUE!"},0]
[2,80,80,{"$f":"INSERT!A82","v":0},{"$f":"INSERT!B82","v":0},{"$f":"INSERT!C82","v":0},{"$f":"INSERT!D82","v":0},{"$f":"INSERT!E82","v":0},null,null,null,null,null,null,null,null,null,null,null,null,null,null,null,null,0,0,null,null,null,null,null,null,null,null,null,null,null,null,null,null,null,null,0,0,null,null,null,null,null,null,null,null,null,null,null,null,null,null,null,null,0,0,null,null,{"$error":"#VALUE!"},{"$error":"#VALUE!"},0]
[2,81,81,{"$f":"INSERT!A83","v":0},{"$f":"INSERT!B83","v":0},{"$f":"INSERT!C83","v":0},{"$f":"INSERT!D83","v":0},{"$f":"INSERT!E83","v":0},null,null,null,null,null,null,null,null,null,null,null,null,null,null,null,null,0,0,null,null,null,null,null,null,null,null,null,null,null,null,null,null,null,null,0,0,null,null,null,null,null,null,null,null,null,null,null,null,null,null,null,null,0,0,null,null,{"$error":"#VALUE!"},{"$error":"#VALUE!"},0]
[2,82,82,{"$f":"INSERT!A84","v":0},{"$f":"INSERT!B84","v":0},{"$f":"INSERT!C84","v":0},{"$f":"INSERT!D84","v":0},{"$f":"INSERT!E84","v":0},null,null,null,null,null,null,null,null,null,null,null,null,null,null,null,null,0,0,null,null,null,null,null,null,null,null,null,null,null,null,null,null,null,null,0,0,null,null,null,null,null,null,null,null,null,null,null,null,null,null,null,null,0,0,null,null,{"$error":"#VALUE!"},{"$error":"#VALUE!"},0]
[2,83,83,{"$f":"INSERT!A85","v":0},{"$f":"INSERT!B85","v":0},{"$f":"INSERT!C85","v":0},{"$f":"INSERT!D85","v":0},{"$f":"INSERT!E85","v":0},null,null,null,null,null,null,null,null,null,null,null,null,null,null,null,null,0,0,null,null,null,null,null,null,null,null,null,null,null,null,null,null,null,null,0,0,null,null,null,null,null,null,null,null,null,null,null,null,null,null,null,null,0,0,null,null,{"$error":"#VALUE!"},{"$error":"#VALUE!"},0]
[2,84,84,{"$f":"INSERT!A86","v":0},{"$f":"INSERT!B86","v":0},{"$f":"INSERT!C86","v":0},{"$f":"INSERT!D86","v":0},{"$f":"INSERT!E86","v":0},null,null,null,null,null,null,null,null,null,null,null,null,null,null,null,null,0,0,null,null,null,null,null,null,null,null,null,null,null,null,null,null,null,null,0,0,null,null,null,null,null,null,null,null,null,null,null,null,null,null,null,null,0,0,null,null,{"$error":"#VALUE!"},{"$error":"#VALUE!"},0]
[2,85,85,{"$f":"INSERT!A87","v":0},{"$f":"INSERT!B87","v":0},{"$f":"INSERT!C87","v":0},{"$f":"INSERT!D87","v":0},{"$f":"INSERT!E87","v":0},null,null,null,null,null,null,null,null,null,null,null,null,null,null,null,null,0,0,null,null,null,null,null,null,null,null,null,null,null,null,null,null,null,null,0,0,null,null,null,null,null,null,null,null,null,null,null,null,null,null,null,null,0,0,null,null,{"$error":"#VALUE!"},{"$error":"#VALUE!"},0]
[2,86,86,{"$f":"INSERT!A88","v":0},{"$f":"INSERT!B88","v":0},{"$f":"INSERT!C88","v":0},{"$f":"INSERT!D88","v":0},{"$f":"INSERT!E88","v":0},null,null,null,null,null,null,null,null,null,null,null,null,null,null,null,null,0,0,null,null,null,null,null,null,null,null,null,null,null,null,null,null,null,null,0,0,null,null,null,null,null,null,null,null,null,null,null,null,null,null,null,null,0,0,null,null,{"$error":"#VALUE!"},{"$error":"#VALUE!"},0]
[2,87,87,{"$f":"INSERT!A89","v":0},{"$f":"INSERT!B89","v":0},{"$f":"INSERT!C89","v":0},{"$f":"INSERT!D89","v":0},{"$f":"INSERT!E89","v":0},null,null,null,null,null,null,null,null,null,null,null,null,null,null,null,null,0,0,null,null,null,null,null,null,null,null,null,null,null,null,null,null,null,null,0,0,null,null,null,null,null,null,null,null,null,null,null,null,null,null,null,null,0,0,null,null,{"$error":"#VALUE!"},{"$error":"#VALUE!"},0]
[2,88,88,{"$f":"INSERT!A90","v":0},{"$f":"INSERT!B90","v":0},{"$f":"INSERT!C90","v":0},{"$f":"INSERT!D90","v":0},{"$f":"INSERT!E90","v":0},null,null,null,null,null,null,null,null,null,null,null,null,null,null,null,null,0,0,null,null,null,null,null,null,null,null,null,null,null,null,null,null,null,null,0,0,null,null,null,null,null,null,null,null,null,null,null,null,null,null,null,null,0,0,null,null,{"$error":"#VALUE!"},{"$error":"#VALUE!"},0]
[2,89,89,{"$f":"INSERT!A91","v":0},{"$f":"INSERT!B91","v":0},{"$f":"INSERT!C91","v":0},{"$f":"INSERT!D91","v":0},{"$f":"INSERT!E91","v":0},null,null,null,null,null,null,null,null,null,null,null,null,null,null,null,null,0,0,null,null,null,null,null,null,null,null,null,null,null,null,null,null,null,null,0,0,null,null,null,null,null,null,null,null,null,null,null,null,null,null,null,null,0,0,null,null,{"$error":"#VALUE!"},{"$error":"#VALUE!"},0]
[2,90,90,{"$f":"INSERT!A92","v":0},{"$f":"INSERT!B92","v":0},{"$f":"INSERT!C92","v":0},{"$f":"INSERT!D92","v":0},{"$f":"INSERT!E92","v":0},null,null,null,null,null,null,null,null,null,null,null,null,null,null,null,null,0,0,null,null,null,null,null,null,null,null,null,null,null,null,null,null,null,null,0,0,null,null,null,null,null,null,null,null,null,null,null,null,null,null,null,null,0,0,null,null,{"$error":"#VALUE!"},{"$error":"#VALUE!"},0]
[2,91,91,{"$f":"INSERT!A93","v":0},{"$f":"INSERT!B93","v":0},{"$f":"INSERT!C93","v":0},{"$f":"INSERT!D93","v":0},{"$f":"INSERT!E93","v":0},null,null,null,null,null,null,null,null,null,null,null,null,null,null,null,null,0,0,null,null,null,null,null,null,null,null,null,null,null,null,null,null,null,null,0,0,null,null,null,null,null,null,null,null,null,null,null,null,null,null,null,null,0,0,null,null,{"$error":"#VALUE!"},{"$error":"#VALUE!"},0]
[2,92,92,{"$f":"INSERT!A94","v":0},{"$f":"INSERT!B94","v":0},{"$f":"INSERT!C94","v":0},{"$f":"INSERT!D94","v":0},{"$f":"INSERT!E94","v":0},null,null,null,null,null,null,null,null,null,null,null,null,null,null,null,null,0,0,null,null,null,null,null,null,null,null,null,null,null,null,null,null,null,null,0,0,null,null,null,null,null,null,null,null,null,null,null,null,null,null,null,null,0,0,null,null,{"$error":"#VALUE!"},{"$error":"#VALUE!"},0]
[2,93,93,{"$f":"INSERT!A95","v":0},{"$f":"INSERT!B95","v":0},{"$f":"INSERT!C95","v":0},{"$f":"INSERT!D95","v":0},{"$f":"INSERT!E95","v":0},null,null,null,null,null,null,null,null,null,null,null,null,null,null,null,null,0,0,null,null,null,null,null,null,null,null,null,null,null,null,null,null,null,null,0,0,null,null,null,null,null,null,null,null,null,null,null,null,null,null,null,null,0,0,null,null,{"$error":"#VALUE!"},{"$error":"#VALUE!"},0]
[2,94,94,{"$f":"INSERT!A96","v":0},{"$f":"INSERT!B96","v":0},{"$f":"INSERT!C96","v":0},{"$f":"INSERT!D96","v":0},{"$f":"INSERT!E96","v":0},null,null,null,null,null,null,null,null,null,null,null,null,null,null,null,null,0,0,null,null,null,null,null,null,null,null,null,null,null,null,null,null,null,null,0,0,null,null,null,null,null,null,null,null,null,null,null,null,null,null,null,null,0,0,null,null,{"$error":"#VALUE!"},{"$error":"#VALUE!"},0]
[2,95,95,{"$f":"INSERT!A97","v":0},{"$f":"INSERT!B97","v":0},{"$f":"INSERT!C97","v":0},{"$f":"INSERT!D97","v":0},{"$f":"INSERT!E97","v":0},null,null,null,null,null,null,null,null,null,null,null,null,null,null,null,null,0,0,null,null,null,null,null,null,null,null,null,null,null,null,null,null,null,null,0,0,null,null,null,null,null,null,null,null,null,null,null,null,null,null,null,null,0,0,null,null,{"$error":"#VALUE!"},{"$error":"#VALUE!"},0]
[2,96,96,{"$f":"INSERT!A98","v":0},{"$f":"INSERT!B98","v":0},{"$f":"INSERT!C98","v":0},{"$f":"INSERT!D98","v":0},{"$f":"INSERT!E98","v":0},null,null,null,null,null,null,null,null,null,null,null,null,null,null,null,null,0,0,null,null,null,null,null,null,null,null,null,null,null,null,null,null,null,null,0,0,null,null,null,null,null,null,null,null,null,null,null,null,null,null,null,null,0,0,null,null,{"$error":"#VALUE!"},{"$error":"#VALUE!"},0]
[2,97,97,{"$f":"INSERT!A99","v":0},{"$f":"INSERT!B99","v":0},{"$f":"INSERT!C99","v":0},{"$f":"INSERT!D99","v":0},{"$f":"INSERT!E99","v":0},null,null,null,null,null,null,null,null,null,null,null,null,null,null,null,null,{"$f":"SUM(I112:X112)","v":0},{"$f":"(SUM(Y112*$Y$13)/10)","v":0},null,null,null,null,null,null,null,null,null,null,null,null,null,null,null,null,{"$f":"SUM(AA112:AP112)","v":0},{"$f":"(SUM(AQ112*$AQ$13)/10)","v":0},null,null,null,null,null,null,null,null,null,null,null,null,null,null,null,null,{"$f":"SUM(AS112:BH112)","v":0},{"$f":"(SUM(BI112*$BI$13)/10)","v":0},null,null,{"$error":"#VALUE!"},{"$error":"#VALUE!"},{"$f":"ROUND(IF($BN$13=1,BM112,IF($BN$13=2,(BN112+BM112)/2)),0)","v":0}]
[2,98,98,{"$f":"INSERT!A100","v":0},{"$f":"INSERT!B100","v":0},{"$f":"INSERT!C100","v":0},{"$f":"INSERT!D100","v":0},{"$f":"INSERT!E100","v":0},null,null,null,null,null,null,null,null,null,null,null,null,null,null,null,null,0,0,null,null,null,null,null,null,null,null,null,null,null,null,null,null,null,null,0,0,null,null,null,null,null,null,null,null,null,null,null,null,null,null,null,null,0,0,null,null,{"$error":"#VALUE!"},{"$error":"#VALUE!"},0]
[2,99,99,{"$f":"INSERT!A101","v":0},{"$f":"INSERT!B101","v":0},{"$f":"INSERT!C101","v":0},{"$f":"INSERT!D101","v":0},{"$f":"INSERT!E101","v":0},null,null,null,null,null,null,null,null,null,null,null,null,null,null,null,null,0,0,null,null,null,null,null,null,null,null,null,null,null,null,null,null,null,null,0,0,null,null,null,null,null,null,null,null,null,null,null,null,null,null,null,null,0,0,null,null,{"$error":"#VALUE!"},{"$error":"#VALUE!"},0]
[2,100,100,{"$f":"INSERT!A102","v":0},{"$f":"INSERT!B102","v":0},{"$f":"INSERT!C102","v":0},{"$f":"INSERT!D102","v":0},{"$f":"INSERT!E102","v":0},null,null,null,null,null,null,null,null,null,null,null,null,null,null,null,null,0,0,null,null,null,null,null,null,null,null,null,null,null,null,null,null,null,null,0,0,null,null,null,null,null,null,null,null,null,null,null,null,null,null,null,null,0,0,null,null,{"$error":"#VALUE!"},{"$error":"#VALUE!"},0]
[null,"Total amount of learners on mark sheet",null,null,null,"TOTAL",null,null,{"$f":"SUM(I16:I115)","v":0},0,0,0,0,{"$f":"SUM(N16:N115)","v":0},0,0,0,0,0,0,0,0,0,0,0,0,0,0,0,0,0,{"$f":"SUM(AF16:AF115)","v":0},0,0,0,0,0,0,0,0,0,0,0,0,0,0,0,0,0,{"$f":"SUM(AX16:AX115)","v":0},0,0,0,0,0,0,0,0,0,0,0,0,0,{"$f":"SUM(BL16:BL115)","v":0},{"$f":"SUM(BM16:BM115)","v":{"$error":"#VALUE!"}},{"$error":"#VALUE!"},0]
[null,null,null,null,null,"AVERAGE",null,null,{"$f":"IFERROR(SUM(I116/$B$120),\"0\")","v":"0"},{"$f":"IFERROR(SUM(J116/$B$120),\"0\")","v":"0"},"0","0","0",{"$f":"IFERROR(SUM(N116/$B$120),\"0\")","v":"0"},"0","0","0","0","0","0","0","0","0","0","0","0","0","0","0","0","0",{"$f":"IFERROR(SUM(AF116/$B$120),\"0\")","v":"0"},"0","0","0","0","0","0","0","0","0","0","0","0","0","0","0","0","0",{"$f":"IFERROR(SUM(AX116/$B$120),\"0\")","v":"0"},"0","0","0","0","0","0","0","0","0","0","0","0","0",{"$f":"IFERROR(SUM(BL116/$B$120),\"0\")","v":"0"},{"$f":"IFERROR(SUM(BM116/$B$120),\"0\")","v":"0"},"0","0"]
[null,null,null,null,null,"PERCENTAGE",null,null,{"$f":"IFERROR(ROUND((SUM(I117/I12)*100),0),\"0\")","v":"0"},{"$f":"IFERROR(ROUND((SUM(J117/J12)*100),0),\"0\")","v":"0"},"0","0","0",{"$f":"IFERROR(ROUND((SUM(N117/N12)*100),0),\"0\")","v":"0"},"0","0","0","0","0","0","0","0","0","0","0",0,"0","0","0","0","0",{"$f":"IFERROR(ROUND((SUM(AF117/AF12)*100),0),\"0\")","v":"0"},"0","0","0","0","0","0","0","0","0","0","0",0,"0","0","0","0","0",{"$f":"IFERROR(ROUND((SUM(AX117/AX12)*100),0),\"0\")","v":"0"},"0","0","0","0","0","0","0","0","0","0","0",0,"0",{"$f":"IFERROR(ROUND((SUM(BL117/BL12)*100),0),\"0\")","v":"0"},{"$f":"IFERROR(ROUND((SUM(BM117/BM12)*100),0),\"0\")","v":"0"},"0",0]
[null,null,null,null,null,0,0]
[null,{"$f":"INSERT!$E$103","v":0},null,null,null,"TOTAL HANDED IN",null,null,{"$f":"COUNT(I16:I115)","v":0},{"$f":"COUNT(J16:J115)","v":0},{"$f":"COUNT(K16:K115)","v":0},0,0,0,0,0,0,0,0,0,0,0,0,{"$f":"COUNT(X16:X115)","v":0},null,null,{"$f":"COUNT(AA16:AA115)","v":0},{"$f":"COUNT(AB16:AB115)","v":0},{"$f":"COUNT(AC16:AC115)","v":0},0,0,0,0,0,0,0,0,0,0,0,0,{"$f":"COUNT(AP16:AP115)","v":0},null,null,{"$f":"COUNT(AS16:AS115)","v":0},{"$f":"COUNT(AT16:AT115)","v":0},{"$f":"COUNT(AU16:AU115)","v":0},0,0,0,0,0,0,0,0,0,0,0,0,{"$f":"COUNT(BH16:BH115)","v":0},null,null,{"$f":"COUNT(BK16:BK115)","v":0},0,{"$f":"COUNT(BM16:BM115)","v":0}]

{"sheet":"TERM2","index":4,"n_rows":125,"n_cols":80,"rows_kept":125,"cut":false,"hidden":false,"merged":[[1,1,1,79],[3,8,3,25],[3,26,3,43],[3,44,3,61],[4,26,9,26],[4,27,9,27],[4,59,9,59],[4,60,10,60],[4,29,9,29],[4,30,9,30],[4,46,9,46],[4,44,9,44],[4,43,10,43],[4,31,9,31],[4,32,9,32],[4,33,9,33],[4,34,9,34],[4,35,9,35],[4,36,9,36],[4,37,9,37],[9,1,9,4],[9,5,9,6],[4,79,10,79],[4,41,9,41],[4,78,10,78],[13,1,13,6],[4,70,10,70],[4,71,10,71],[4,72,10,72],[10,1,10,4],[10,5,10,6],[4,24,10,24],[4,8,9,8],[4,75,10,75],[4,76,10,76],[4,61,10,61],[4,47,9,47],[4,58,9,58],[4,73,10,73],[4,9,9,9],[4,23,9,23],[4,10,9,10],[4,11,9,11],[4,12,9,12],[4,28,9,28],[4,69,10,69],[4,62,10,62],[4,64,10,64],[4,66,10,66],[4,68,10,68],[4,74,10,74],[115,1,118,4],[119,1,119,4],[4,77,10,77],[3,62,3,67],[4,67,10,67],[4,18,9,18],[4,19,9,19],[4,20,9,20],[4,21,9,21],[4,22,9,22],[4,13,9,13],[4,14,9,14],[4,15,9,15],[4,16,9,16],[4,17,9,17],[4,55,9,55],[4,56,9,56],[4,57,9,57],[4,50,9,50],[4,51,9,51],[4,54,9,54],[4,38,9,38],[4,39,9,39],[4,40,9,40],[4,48,9,48],[4,49,9,49],[4,45,9,45],[4,42,10,42],[4,25,10,25],[4,52,9,52],[4,53,9,53],[122,46,122,47],[123,46,123,47],[124,46,124,47],[121,46,121,61],[122,50,122,52],[123,50,123,52],[124,50,124,52],[122,53,122,55],[123,53,123,55],[124,53,124,55],[122,56,122,57],[123,56,123,57],[124,56,124,57],[122,60,122,61],[123,60,123,61],[124,60,124,61],[122,58,122,59],[123,58,123,59],[124,58,124,59],[122,48,122,49],[123,48,123,49],[124,48,124,49]]}
[]
[null,"ENGINEERING GRAPHICS AND DESIGN"]
[null,null,null,null,null,null,null,null,"PROGRAM OF ASSESSMENT  :  TERM 2",null,null,null,null,null,null,null,null,null,null,null,null,null,null,null,null,null,null,null,null,null,null,null,null,null,null,null,null,null,null,null,null,null,null,null,null,null,null,null,null,null,null,null,null,null,null,null,null,null,null,null,null,null,null,null,null,null,null,null,"JUNE EXAM",null,null,null,null,null,"JUNE EXAM"]
[null,null,null,null,null,null,null,null,"CD4  1st Mechanical Drawings",null,null,null,null,null,null,null,null,null,null,null,null,null,null,null,null,null,"CD5  2nd Mechanical Drawings",null,null,null,null,null,null,null,null,null,null,null,null,null,null,null,null,null,"CD6  Isometric",null,null,null,null,null,null,null,null,null,null,null,null,null,null,null,null,null,"JUNE EXAM",null,null,null,null,null,"PAPER 1",null,null,null,null,null,"PAPER 2"]
[17,null,null,null,"School:",{"$f":"INSERT!J3","v":0},null,null,"CD 4.1","CD 4.2","CD 4.3",null,null,null,null,null,null,null,null,null,null,null,null,null,"TOTAL CD7","TOTAL","CD 5.1","CD 5.2","CD 5.3",null,null,null,null,null,null,null,null,null,null,null,null,null,"TOTAL CD8","TOTAL","CD 6.1","CD 6.2","CD 6.3",null,null,null,null,null,null,null,null,null,null,null,null,null,"TOTAL CD9","TOTAL","PAPER 1",null,"PAPER 2",null,"EXAM TOTAL","LEVELS","Question 1","Question 2","Question 3","Question 4","TOTAL","TOTAL = 200","Question 1","Question 2","Question 3","Question 4","TOTAL","TOTAL = 200"]
[null,null,null,null,"Grade:",{"$f":"INSERT!J4","v":0}]
[null,null,null,null,"Teacher:",{"$f":"INSERT!J5","v":0}]
[null,null,null,null,"HOD:",{"$f":"INSERT!J6","v":0}]
[null,null,null,null,"SES:",{"$f":"INSERT!J7","v":0}]
[]
[null,null,null,null,null,null,null,null,4.0999999999999996,4.2,4.3,4.4000000000000004,4.5,4.5999999999999996,4.7,4.8,4.9000000000000004,4.0999999999999996,4.1100000000000003,4.12,4.13,4.1399999999999997,4.1500000000000004,4.16,null,null,5.0999999999999996,5.2,5.3,5.4,5.5,5.6,5.7,5.8,5.9,5.0999999999999996,5.1100000000000003,5.12,5.13,5.14,5.15,5.16,null,null,6.1,6.2,6.3,6.4,6.5,6.6,6.7,6.8,6.9,6.1,6.11,6.12,6.13,6.14,6.15,6.16]
[null,"No",null,"Class","Acc No","Surname","Name","Gender",null,null,null,null,null,null,null,null,null,null,null,null,null,null,null,null,{"$f":"SUM(I12:X12)","v":0},10,null,null,null,null,null,null,null,null,null,null,null,null,null,null,null,null,{"$f":"SUM(AA12:AP12)","v":0},10,null,null,null,null,null,null,null,null,null,null,null,null,null,null,null,null,{"$f":"SUM(AS12:BH12)","v":0},10,{"$f":"$BV$12","v":0},null,{"$f":"$CB$12","v":"0"},null,150,null,null,null,null,null,{"$f":"SUM(BQ12:BT12)","v":0},{"$f":"SUM(BU12*$BU$13)","v":0},null,null,null,null,{"$f":"SUMIF(BW12:BZ12,\">0\")","v":0},{"$f":"IF(BO13=0,\"0\",IF($BO$13=1,\"0\",IF($BO$13=2,(CA12*$CA$13))))","v":"0"}]
[null,null,null,null,null,null,null,null,{"$f":"IF(I12>0,\"\",\"X\")","v":"X"},"X","X","X","X","X","X","X","X","X","X","X","X","X","X","X",{"$f":"IFERROR(SUM(100/Y12),\"0\")","v":"0"},null,{"$f":"IF(AA12>0,\"\",\"X\")","v":"X"},"X","X","X","X","X","X","X","X","X","X","X","X","X","X","X",{"$f":"IFERROR(SUM(100/AQ12),\"0\")","v":"0"},null,{"$f":"IF(AS12>0,\"\",\"X\")","v":"X"},"X","X","X","X","X","X","X","X","X","X","X","X","X","X","X",{"$f":"IFERROR(SUM(100/BI12),\"0\")","v":"0"},null,{"$f":"IFERROR((SUM(100/BK12)*0.5),\"0\")","v":"0"},null,{"$f":"IFERROR(IF(BO13=1,\" \",IF(BO13=2,(100/BM12)*0.5)),\"0\")","v":false},null,{"$f":"COUNT(BQ12)+COUNT(BW12)","v":0},null,null,null,null,null,{"$f":"IFERROR(SUM(75/BU12),\"0\")","v":"0"},null,null,null,null,null,{"$f":"IFERROR(SUM(75/CA12),\"0\")","v":"0"}]
[null,null,null,null,null,null,null,"DATE:"]
[]
[{"$f":"SUM(COUNTA(F16)+COUNT(B16))","v":2},1,1,{"$f":"INSERT!A3","v":0},{"$f":"INSERT!B3","v":0},{"$f":"INSERT!C3","v":0},{"$f":"INSERT!D3","v":0},{"$f":"INSERT!E3","v":0},null,null,null,null,null,null,null,null,null,null,null,null,null,null,null,null,{"$f":"SUM(I16:X16)","v":0},{"$f":"(SUM(Y16*$Y$13)/10)","v":0},null,null,null,null,null,null,null,null,null,null,null,null,null,null,null,null,{"$f":"SUM(AA16:AP16)","v":0},{"$f":"(SUM(AQ16*$AQ$13)/10)","v":0},null,null,null,null,null,null,null,null,null,null,null,null,null,null,null,null,{"$f":"SUM(AS16:BH16)","v":0},{"$f":"(SUM(BI16*$BI$13)/10)","v":0},{"$f":"ROUND((BV16),0)","v":0},{"$f":"SUM(BK16*$BK$13)","v":0},{"$f":"ROUND(SUM(CB16),0)","v":0},{"$f":"IFERROR(SUM(BM16*$BM$13),\"0\")","v":0},{"$f":"IF($BO$13=1,SUM(BK16*2),SUM(BK16+BM16))","v":0},{"$f":"IF(BO16>79.4,\"7\",IF(BO16>69.4,\"6\",IF(BO16>59.4,\"5\",IF(BO16>49.4,\"4\",IF(BO16>39.4,\"3\",IF(BO16>29.4,\"2\",IF(BO16>0,\"1\",IF(BO16=0,\"\"))))))))","v":""},null,null,null,null,{"$f":"SUM(BQ16:BT16)","v":0},{"$f":"ROUND(SUM(BU16*$BU$13),1)","v":0},null,null,null,null,{"$f":"SUM(BW16:BZ16)","v":0},{"$f":"IF($BO$13=0,\"0\",IF($BO$13=1,\"0\",IF($BO$13=2,(CA16*$CA$13))))","v":"0"}]
[null,{"$f":"B16+1","v":2},2,{"$f":"INSERT!A4","v":0},{"$f":"INSERT!B4","v":0},{"$f":"INSERT!C4","v":0},{"$f":"INSERT!D4","v":0},{"$f":"INSERT!E4","v":0},null,null,null,null,null,null,null,null,null,null,null,null,null,null,null,null,0,0,null,null,null,null,null,null,null,null,null,null,null,null,null,null,null,null,0,0,null,null,null,null,null,null,null,null,null,null,null,null,null,null,null,null,0,0,0,{"$f":"SUM(BK17*$BK$13)","v":0},0,0,0,"",null,null,null,null,0,0,null,null,null,null,0,"0"]
[null,{"$f":"B17+1","v":3},3,{"$f":"INSERT!A5","v":0},{"$f":"INSERT!B5","v":0},{"$f":"INSERT!C5","v":0},{"$f":"INSERT!D5","v":0},{"$f":"INSERT!E5","v":0},null,null,null,null,null,null,null,null,null,null,null,null,null,null,null,null,0,0,null,null,null,null,null,null,null,null,null,null,null,null,null,null,null,null,0,0,null,null,null,null,null,null,null,null,null,null,null,null,null,null,null,null,0,0,0,0,0,0,0,"",null,null,null,null,0,0,null,null,null,null,0,"0"]
[null,4,4,{"$f":"INSERT!A6","v":0},{"$f":"INSERT!B6","v":0},{"$f":"INSERT!C6","v":0},{"$f":"INSERT!D6","v":0},{"$f":"INSERT!E6","v":0},null,null,null,null,null,null,null,null,null,null,null,null,null,null,null,null,0,0,null,null,null,null,null,null,null,null,null,null,null,null,null,null,null,null,0,0,null,null,null,null,null,null,null,null,null,null,null,null,null,null,null,null,0,0,{"$f":"ROUND((BV19),0)","v":0},0,0,0,0,"",null,null,null,null,0,0,null,null,null,null,0,"0"]
[null,5,5,{"$f":"INSERT!A7","v":0},{"$f":"INSERT!B7","v":0},{"$f":"INSERT!C7","v":0},{"$f":"INSERT!D7","v":0},{"$f":"INSERT!E7","v":0},null,null,null,null,null,null,null,null,null,null,null,null,null,null,null,null,0,0,null,null,null,null,null,null,null,null,null,null,null,null,null,null,null,null,0,0,null,null,null,null,null,null,null,null,null,null,null,null,null,null,null,null,0,0,0,0,0,0,0,"",null,null,null,null,0,0,null,null,null,null,0,"0"]
[null,6,6,{"$f":"INSERT!A8","v":0},{"$f":"INSERT!B8","v":0},{"$f":"INSERT!C8","v":0},{"$f":"INSERT!D8","v":0},{"$f":"INSERT!E8","v":0},null,null,null,null,null,null,null,null,null,null,null,null,null,null,null,null,0,0,null,null,null,null,null,null,null,null,null,null,null,null,null,null,null,null,0,0,null,null,null,null,null,null,null,null,null,null,null,null,null,null,null,null,0,0,0,0,0,0,0,"",null,null,null,null,0,0,null,null,null,null,0,"0"]
[null,7,7,{"$f":"INSERT!A9","v":0},{"$f":"INSERT!B9","v":0},{"$f":"INSERT!C9","v":0},{"$f":"INSERT!D9","v":0},{"$f":"INSERT!E9","v":0},null,null,null,null,null,null,null,null,null,null,null,null,null,null,null,null,0,0,null,null,null,null,null,null,null,null,null,null,null,null,null,null,null,null,0,0,null,null,null,null,null,null,null,null,null,null,null,null,null,null,null,null,0,0,0,0,0,0,0,"",null,null,null,null,0,0,null,null,null,null,0,"0"]
[null,8,8,{"$f":"INSERT!A10","v":0},{"$f":"INSERT!B10","v":0},{"$f":"INSERT!C10","v":0},{"$f":"INSERT!D10","v":0},{"$f":"INSERT!E10","v":0},null,null,null,null,null,null,null,null,null,null,null,null,null,null,null,null,0,0,null,null,null,null,null,null,null,null,null,null,null,null,null,null,null,null,0,0,null,null,null,null,null,null,null,null,null,null,null,null,null,null,null,null,0,0,0,0,0,0,0,"",null,null,null,null,0,0,null,null,null,null,0,"0"]
[null,9,9,{"$f":"INSERT!A11","v":0},{"$f":"INSERT!B11","v":0},{"$f":"INSERT!C11","v":0},{"$f":"INSERT!D11","v":0},{"$f":"INSERT!E11","v":0},null,null,null,null,null,null,null,null,null,null,null,null,null,null,null,null,0,0,null,null,null,null,null,null,null,null,null,null,null,null,null,null,null,null,0,0,null,null,null,null,null,null,null,null,null,null,null,null,null,null,null,null,0,0,0,0,0,0,0,"",null,null,null,null,0,0,null,null,null,null,0,"0"]
[null,10,10,{"$f":"INSERT!A12","v":0},{"$f":"INSERT!B12","v":0},{"$f":"INSERT!C12","v":0},{"$f":"INSERT!D12","v":0},{"$f":"INSERT!E12","v":0},null,null,null,null,null,null,null,null,null,null,null,null,null,null,null,null,0,0,null,null,null,null,null,null,null,null,null,null,null,null,null,null,null,null,0,0,null,null,null,null,null,null,null,null,null,null,null,null,null,null,null,null,0,0,0,0,0,0,0,"",null,null,null,null,0,0,null,null,null,null,0,"0"]
[null,11,11,{"$f":"INSERT!A13","v":0},{"$f":"INSERT!B13","v":0},{"$f":"INSERT!C13","v":0},{"$f":"INSERT!D13","v":0},{"$f":"INSERT!E13","v":0},null,null,null,null,null,null,null,null,null,null,null,null,null,null,null,null,0,0,null,null,null,null,null,null,null,null,null,null,null,null,null,null,null,null,0,0,null,null,null,null,null,null,null,null,null,null,null,null,null,null,null,null,0,0,0,0,0,0,0,"",null,null,null,null,0,0,null,null,null,null,0,"0"]
[null,12,12,{"$f":"INSERT!A14","v":0},{"$f":"INSERT!B14","v":0},{"$f":"INSERT!C14","v":0},{"$f":"INSERT!D14","v":0},{"$f":"INSERT!E14","v":0},null,null,null,null,null,null,null,null,null,null,null,null,null,null,null,null,0,0,null,null,null,null,null,null,null,null,null,null,null,null,null,null,null,null,0,0,null,null,null,null,null,null,null,null,null,null,null,null,null,null,null,null,0,0,0,0,0,0,0,"",null,null,null,null,0,0,null,null,null,null,0,"0"]
[null,13,13,{"$f":"INSERT!A15","v":0},{"$f":"INSERT!B15","v":0},{"$f":"INSERT!C15","v":0},{"$f":"INSERT!D15","v":0},{"$f":"INSERT!E15","v":0},null,null,null,null,null,null,null,null,null,null,null,null,null,null,null,null,0,0,null,null,null,null,null,null,null,null,null,null,null,null,null,null,null,null,0,0,null,null,null,null,null,null,null,null,null,null,null,null,null,null,null,null,0,0,0,0,0,0,0,"",null,null,null,null,0,0,null,null,null,null,0,"0"]
[null,14,14,{"$f":"INSERT!A16","v":0},{"$f":"INSERT!B16","v":0},{"$f":"INSERT!C16","v":0},{"$f":"INSERT!D16","v":0},{"$f":"INSERT!E16","v":0},null,null,null,null,null,null,null,null,null,null,null,null,null,null,null,null,0,0,null,null,null,null,null,null,null,null,null,null,null,null,null,null,null,null,0,0,null,null,null,null,null,null,null,null,null,null,null,null,null,null,null,null,0,0,0,0,0,0,0,"",null,null,null,null,0,0,null,null,null,null,0,"0"]
[null,15,15,{"$f":"INSERT!A17","v":0},{"$f":"INSERT!B17","v":0},{"$f":"INSERT!C17","v":0},{"$f":"INSERT!D17","v":0},{"$f":"INSERT!E17","v":0},null,null,null,null,null,null,null,null,null,null,null,null,null,null,null,null,0,0,null,null,null,null,null,null,null,null,null,null,null,null,null,null,null,null,0,0,null,null,null,null,null,null,null,null,null,null,null,null,null,null,null,null,0,0,0,0,0,0,0,"",null,null,null,null,0,0,null,null,null,null,0,"0"]
[null,16,16,{"$f":"INSERT!A18","v":0},{"$f":"INSERT!B18","v":0},{"$f":"INSERT!C18","v":0},{"$f":"INSERT!D18","v":0},{"$f":"INSERT!E18","v":0},null,null,null,null,null,null,null,null,null,null,null,null,null,null,null,null,0,0,null,null,null,null,null,null,null,null,null,null,null,null,null,null,null,null,0,0,null,null,null,null,null,null,null,null,null,null,null,null,null,null,null,null,0,0,0,0,0,0,0,"",null,null,null,null,0,0,null,null,null,null,0,"0"]
[null,17,17,{"$f":"INSERT!A19","v":0},{"$f":"INSERT!B19","v":0},{"$f":"INSERT!C19","v":0},{"$f":"INSERT!D19","v":0},{"$f":"INSERT!E19","v":0},null,null,null,null,null,null,null,null,null,null,null,null,null,null,null,null,0,0,null,null,null,null,null,null,null,null,null,null,null,null,null,null,null,null,0,0,null,null,null,null,null,null,null,null,null,null,null,null,null,null,null,null,0,0,0,0,0,0,0,"",null,null,null,null,0,0,null,null,null,null,0,"0"]
[null,18,18,{"$f":"INSERT!A20","v":0},{"$f":"INSERT!B20","v":0},{"$f":"INSERT!C20","v":0},{"$f":"INSERT!D20","v":0},{"$f":"INSERT!E20","v":0},null,null,null,null,null,null,null,null,null,null,null,null,null,null,null,null,0,0,null,null,null,null,null,null,null,null,null,null,null,null,null,null,null,null,0,0,null,null,null,null,null,null,null,null,null,null,null,null,null,null,null,null,0,0,0,0,0,0,0,"",null,null,null,null,0,0,null,null,null,null,0,"0"]
[null,19,19,{"$f":"INSERT!A21","v":0},{"$f":"INSERT!B21","v":0},{"$f":"INSERT!C21","v":0},{"$f":"INSERT!D21","v":0},{"$f":"INSERT!E21","v":0},null,null,null,null,null,null,null,null,null,null,null,null,null,null,null,null,0,0,null,null,null,null,null,null,null,null,null,null,null,null,null,null,null,null,0,0,null,null,null,null,null,null,null,null,null,null,null,null,null,null,null,null,0,0,0,0,0,0,0,"",null,null,null,null,0,0,null,null,null,null,0,"0"]
[null,20,20,{"$f":"INSERT!A22","v":0},{"$f":"INSERT!B22","v":0},{"$f":"INSERT!C22","v":0},{"$f":"INSERT!D22","v":0},{"$f":"INSERT!E22","v":0},null,null,null,null,null,null,null,null,null,null,null,null,null,null,null,null,0,0,null,null,null,null,null,null,null,null,null,null,null,null,null,null,null,null,0,0,null,null,null,null,null,null,null,null,null,null,null,null,null,null,null,null,0,0,0,0,0,0,0,"",null,null,null,null,0,0,null,null,null,null,0,"0"]
[null,21,21,{"$f":"INSERT!A23","v":0},{"$f":"INSERT!B23","v":0},{"$f":"INSERT!C23","v":0},{"$f":"INSERT!D23","v":0},{"$f":"INSERT!E23","v":0},null,null,null,null,null,null,null,null,null,null,null,null,null,null,null,null,0,0,null,null,null,null,null,null,null,null,null,null,null,null,null,null,null,null,0,0,null,null,null,null,null,null,null,null,null,null,null,null,null,null,null,null,0,0,0,0,0,0,0,"",null,null,null,null,0,0,null,null,null,null,0,"0"]
[null,22,22,{"$f":"INSERT!A24","v":0},{"$f":"INSERT!B24","v":0},{"$f":"INSERT!C24","v":0},{"$f":"INSERT!D24","v":0},{"$f":"INSERT!E24","v":0},null,null,null,null,null,null,null,null,null,null,null,null,null,null,null,null,0,0,null,null,null,null,null,null,null,null,null,null,null,null,null,null,null,null,0,0,null,null,null,null,null,null,null,null,null,null,null,null,null,null,null,null,0,0,0,0,0,0,0,"",null,null,null,null,0,0,null,null,null,null,0,"0"]
[null,23,23,{"$f":"INSERT!A25","v":0},{"$f":"INSERT!B25","v":0},{"$f":"INSERT!C25","v":0},{"$f":"INSERT!D25","v":0},{"$f":"INSERT!E25","v":0},null,null,null,null,null,null,null,null,null,null,null,null,null,null,null,null,0,0,null,null,null,null,null,null,null,null,null,null,null,null,null,null,null,null,0,0,null,null,null,null,null,null,null,null,null,null,null,null,null,null,null,null,0,0,0,0,0,0,0,"",null,null,null,null,0,0,null,null,null,null,0,"0"]
[null,24,24,{"$f":"INSERT!A26","v":0},{"$f":"INSERT!B26","v":0},{"$f":"INSERT!C26","v":0},{"$f":"INSERT!D26","v":0},{"$f":"INSERT!E26","v":0},null,null,null,null,null,null,null,null,null,null,null,null,null,null,null,null,0,0,null,null,null,null,null,null,null,null,null,null,null,null,null,null,null,null,0,0,null,null,null,null,null,null,null,null,null,null,null,null,null,null,null,null,0,0,0,0,0,0,0,"",null,null,null,null,0,0,null,null,null,null,0,"0"]
[null,25,25,{"$f":"INSERT!A27","v":0},{"$f":"INSERT!B27","v":0},{"$f":"INSERT!C27","v":0},{"$f":"INSERT!D27","v":0},{"$f":"INSERT!E27","v":0},null,null,null,null,null,null,null,null,null,null,null,null,null,null,null,null,0,0,null,null,null,null,null,null,null,null,null,null,null,null,null,null,null,null,0,0,null,null,null,null,null,null,null,null,null,null,null,null,null,null,null,null,0,0,0,0,0,0,0,"",null,null,null,null,0,0,null,null,null,null,0,"0"]
[null,26,26,{"$f":"INSERT!A28","v":0},{"$f":"INSERT!B28","v":0},{"$f":"INSERT!C28","v":0},{"$f":"INSERT!D28","v":0},{"$f":"INSERT!E28","v":0},null,null,null,null,null,null,null,null,null,null,null,null,null,null,null,null,0,0,null,null,null,null,null,null,null,null,null,null,null,null,null,null,null,null,0,0,null,null,null,null,null,null,null,null,null,null,null,null,null,null,null,null,0,0,0,0,0,0,0,"",null,null,null,null,0,0,null,null,null,null,0,"0"]
[null,27,27,{"$f":"INSERT!A29","v":0},{"$f":"INSERT!B29","v":0},{"$f":"INSERT!C29","v":0},{"$f":"INSERT!D29","v":0},{"$f":"INSERT!E29","v":0},null,null,null,null,null,null,null,null,null,null,null,null,null,null,null,null,0,0,null,null,null,null,null,null,null,null,null,null,null,null,null,null,null,null,0,0,null,null,null,null,null,null,null,null,null,null,null,null,null,null,null,null,0,0,0,0,0,0,0,"",null,null,null,null,0,0,null,null,null,null,0,"0"]
[null,28,28,{"$f":"INSERT!A30","v":0},{"$f":"INSERT!B30","v":0},{"$f":"INSERT!C30","v":0},{"$f":"INSERT!D30","v":0},{"$f":"INSERT!E30","v":0},null,null,null,null,null,null,null,null,null,null,null,null,null,null,null,null,0,0,null,null,null,null,null,null,null,null,null,null,null,null,null,null,null,null,0,0,null,null,null,null,null,null,null,null,null,null,null,null,null,null,null,null,0,0,0,0,0,0,0,"",null,null,null,null,0,0,null,null,null,null,0,"0"]
[null,29,29,{"$f":"INSERT!A31","v":0},{"$f":"INSERT!B31","v":0},{"$f":"INSERT!C31","v":0},{"$f":"INSERT!D31","v":0},{"$f":"INSERT!E31","v":0},null,null,null,null,null,null,null,null,null,null,null,null,null,null,null,null,0,0,null,null,null,null,null,null,null,null,null,null,null,null,null,null,null,null,0,0,null,null,null,null,null,null,null,null,null,null,null,null,null,null,null,null,0,0,0,0,0,0,0,"",null,null,null,null,0,0,null,null,null,null,0,"0"]
[null,30,30,{"$f":"INSERT!A32","v":0},{"$f":"INSERT!B32","v":0},{"$f":"INSERT!C32","v":0},{"$f":"INSERT!D32","v":0},{"$f":"INSERT!E32","v":0},null,null,null,null,null,null,null,null,null,null,null,null,null,null,null,null,0,0,null,null,null,null,null,null,null,null,null,null,null,null,null,null,null,null,0,0,null,null,null,null,null,null,null,null,null,null,null,null,null,null,null,null,0,0,0,0,0,0,0,"",null,null,null,null,0,0,null,null,null,null,0,"0"]
[null,31,31,{"$f":"INSERT!A33","v":0},{"$f":"INSERT!B33","v":0},{"$f":"INSERT!C33","v":0},{"$f":"INSERT!D33","v":0},{"$f":"INSERT!E33","v":0},null,null,null,null,null,null,null,null,null,null,null,null,null,null,null,null,0,0,null,null,null,null,null,null,null,null,null,null,null,null,null,null,null,null,0,0,null,null,null,null,null,null,null,null,null,null,null,null,null,null,null,null,0,0,0,0,0,0,0,"",null,null,null,null,0,0,null,null,null,null,0,"0"]
[{"$f":"SUM(COUNTA(F47)+COUNT(B47))","v":2},{"$f":"B46+1","v":32},32,{"$f":"INSERT!A34","v":0},{"$f":"INSERT!B34","v":0},{"$f":"INSERT!C34","v":0},{"$f":"INSERT!D34","v":0},{"$f":"INSERT!E34","v":0},null,null,null,null,null,null,null,null,null,null,null,null,null,null,null,null,0,0,null,null,null,null,null,null,null,null,null,null,null,null,null,null,null,null,0,0,null,null,null,null,null,null,null,null,null,null,null,null,null,null,null,null,0,0,0,0,0,0,0,"",null,null,null,null,0,0,null,null,null,null,0,"0"]
[2,33,33,{"$f":"INSERT!A35","v":0},{"$f":"INSERT!B35","v":0},{"$f":"INSERT!C35","v":0},{"$f":"INSERT!D35","v":0},{"$f":"INSERT!E35","v":0},null,null,null,null,null,null,null,null,null,null,null,null,null,null,null,null,{"$f":"SUM(I48:X48)","v":0},{"$f":"(SUM(Y48*$Y$13)/10)","v":0},null,null,null,null,null,null,null,null,null,null,null,null,null,null,null,null,{"$f":"SUM(AA48:AP48)","v":0},{"$f":"(SUM(AQ48*$AQ$13)/10)","v":0},null,null,null,null,null,null,null,null,null,null,null,null,null,null,null,null,{"$f":"SUM(AS48:BH48)","v":0},{"$f":"(SUM(BI48*$BI$13)/10)","v":0},{"$f":"ROUND((BV48),0)","v":0},{"$f":"SUM(BK48*$BK$13)","v":0},{"$f":"ROUND(SUM(CB48),0)","v":0},{"$f":"IFERROR(SUM(BM48*$BM$13),\"0\")","v":0},0,{"$f":"IF(BO48>79.4,\"7\",IF(BO48>69.4,\"6\",IF(BO48>59.4,\"5\",IF(BO48>49.4,\"4\",IF(BO48>39.4,\"3\",IF(BO48>29.4,\"2\",IF(BO48>0,\"1\",IF(BO48=0,\"\"))))))))","v":""},null,null,null,null,{"$f":"SUM(BQ48:BT48)","v":0},{"$f":"ROUND(SUM(BU48*$BU$13),1)","v":0},null,null,null,null,{"$f":"SUM(BW48:BZ48)","v":0},{"$f":"IF($BO$13=0,\"0\",IF($BO$13=1,\"0\",IF($BO$13=2,(CA48*$CA$13))))","v":"0"}]
[2,34,34,{"$f":"INSERT!A36","v":0},{"$f":"INSERT!B36","v":0},{"$f":"INSERT!C36","v":0},{"$f":"INSERT!D36","v":0},{"$f":"INSERT!E36","v":0},null,null,null,null,null,null,null,null,null,null,null,null,null,null,null,null,0,0,null,null,null,null,null,null,null,null,null,null,null,null,null,null,null,null,0,0,null,null,null,null,null,null,null,null,null,null,null,null,null,null,null,null,0,0,0,0,0,0,0,"",null,null,null,null,0,0,null,null,null,null,0,"0"]
[2,35,35,{"$f":"INSERT!A37","v":0},{"$f":"INSERT!B37","v":0},{"$f":"INSERT!C37","v":0},{"$f":"INSERT!D37","v":0},{"$f":"INSERT!E37","v":0},null,null,null,null,null,null,null,null,null,null,null,null,null,null,null,null,0,0,null,null,null,null,null,null,null,null,null,null,null,null,null,null,null,null,0,0,null,null,null,null,null,null,null,null,null,null,null,null,null,null,null,null,0,0,0,0,0,0,0,"",null,null,null,null,{"$f":"SUM(BQ50:BT50)","v":0},{"$f":"ROUND(SUM(BU50*$BU$13),1)","v":0},null,null,null,null,0,"0"]
[2,36,36,{"$f":"INSERT!A38","v":0},{"$f":"INSERT!B38","v":0},{"$f":"INSERT!C38","v":0},{"$f":"INSERT!D38","v":0},{"$f":"INSERT!E38","v":0},null,null,null,null,null,null,null,null,null,null,null,null,null,null,null,null,0,0,null,null,null,null,null,null,null,null,null,null,null,null,null,null,null,null,0,0,null,null,null,null,null,null,null,null,null,null,null,null,null,null,null,null,0,0,0,0,0,0,0,"",null,null,null,null,0,0,null,null,null,null,0,"0"]
[2,37,37,{"$f":"INSERT!A39","v":0},{"$f":"INSERT!B39","v":0},{"$f":"INSERT!C39","v":0},{"$f":"INSERT!D39","v":0},{"$f":"INSERT!E39","v":0},null,null,null,null,null,null,null,null,null,null,null,null,null,null,null,null,0,0,null,null,null,null,null,null,null,null,null,null,null,null,null,null,null,null,0,0,null,null,null,null,null,null,null,null,null,null,null,null,null,null,null,null,0,0,0,0,0,0,{"$f":"IF($BO$13=1,SUM(BK52*2),SUM(BK52+BM52))","v":0},"",null,null,null,null,0,0,null,null,null,null,0,"0"]
[null,38,38,{"$f":"INSERT!A40","v":0},{"$f":"INSERT!B40","v":0},{"$f":"INSERT!C40","v":0},{"$f":"INSERT!D40","v":0},{"$f":"INSERT!E40","v":0},null,null,null,null,null,null,null,null,null,null,null,null,null,null,null,null,0,0,null,null,null,null,null,null,null,null,null,null,null,null,null,null,null,null,0,0,null,null,null,null,null,null,null,null,null,null,null,null,null,null,null,null,0,0,0,0,0,0,{"$f":"IF($BO$13=1,SUM(BK53),SUM(BK53+BM53))","v":0},"",null,null,null,null,0,0,null,null,null,null,0,"0"]
[null,39,39,{"$f":"INSERT!A41","v":0},{"$f":"INSERT!B41","v":0},{"$f":"INSERT!C41","v":0},{"$f":"INSERT!D41","v":0},{"$f":"INSERT!E41","v":0},null,null,null,null,null,null,null,null,null,null,null,null,null,null,null,null,0,0,null,null,null,null,null,null,null,null,null,null,null,null,null,null,null,null,0,0,null,null,null,null,null,null,null,null,null,null,null,null,null,null,null,null,0,0,0,0,0,0,0,"",null,null,null,null,0,0,null,null,null,null,0,"0"]
[null,40,40,{"$f":"INSERT!A42","v":0},{"$f":"INSERT!B42","v":0},{"$f":"INSERT!C42","v":0},{"$f":"INSERT!D42","v":0},{"$f":"INSERT!E42","v":0},null,null,null,null,null,null,null,null,null,null,null,null,null,null,null,null,0,0,null,null,null,null,null,null,null,null,null,null,null,null,null,null,null,null,0,0,null,null,null,null,null,null,null,null,null,null,null,null,null,null,null,null,0,0,0,0,0,0,0,"",null,null,null,null,0,0,null,null,null,null,0,"0"]
[null,41,41,{"$f":"INSERT!A43","v":0},{"$f":"INSERT!B43","v":0},{"$f":"INSERT!C43","v":0},{"$f":"INSERT!D43","v":0},{"$f":"INSERT!E43","v":0},null,null,null,null,null,null,null,null,null,null,null,null,null,null,null,null,0,0,null,null,null,null,null,null,null,null,null,null,null,null,null,null,null,null,0,0,null,null,null,null,null,null,null,null,null,null,null,null,null,null,null,null,0,0,0,0,0,0,0,"",null,null,null,null,0,0,null,null,null,null,0,"0"]
[null,42,42,{"$f":"INSERT!A44","v":0},{"$f":"INSERT!B44","v":0},{"$f":"INSERT!C44","v":0},{"$f":"INSERT!D44","v":0},{"$f":"INSERT!E44","v":0},null,null,null,null,null,null,null,null,null,null,null,null,null,null,null,null,0,0,null,null,null,null,null,null,null,null,null,null,null,null,null,null,null,null,0,0,null,null,null,null,null,null,null,null,null,null,null,null,null,null,null,null,0,0,0,0,0,0,0,"",null,null,null,null,0,0,null,null,null,null,0,"0"]
[null,43,43,{"$f":"INSERT!A45","v":0},{"$f":"INSERT!B45","v":0},{"$f":"INSERT!C45","v":0},{"$f":"INSERT!D45","v":0},{"$f":"INSERT!E45","v":0},null,null,null,null,null,null,null,null,null,null,null,null,null,null,null,null,0,0,null,null,null,null,null,null,null,null,null,null,null,null,null,null,null,null,0,0,null,null,null,null,null,null,null,null,null,null,null,null,null,null,null,null,0,0,0,0,0,0,0,"",null,null,null,null,0,0,null,null,null,null,0,"0"]
[null,44,44,{"$f":"INSERT!A46","v":0},{"$f":"INSERT!B46","v":0},{"$f":"INSERT!C46","v":0},{"$f":"INSERT!D46","v":0},{"$f":"INSERT!E46","v":0},null,null,null,null,null,null,null,null,null,null,null,null,null,null,null,null,0,0,null,null,null,null,null,null,null,null,null,null,null,null,null,null,null,null,0,0,null,null,null,null,null,null,null,null,null,null,null,null,null,null,null,null,0,0,0,0,0,0,0,"",null,null,null,null,0,0,null,null,null,null,0,"0"]
[null,45,45,{"$f":"INSERT!A47","v":0},{"$f":"INSERT!B47","v":0},{"$f":"INSERT!C47","v":0},{"$f":"INSERT!D47","v":0},{"$f":"INSERT!E47","v":0},null,null,null,null,null,null,null,null,null,null,null,null,null,null,null,null,0,0,null,null,null,null,null,null,null,null,null,null,null,null,null,null,null,null,0,0,null,null,null,null,null,null,null,null,null,null,null,null,null,null,null,null,0,0,0,0,0,0,0,"",null,null,null,null,0,0,null,null,null,null,0,"0"]
[null,46,46,{"$f":"INSERT!A48","v":0},{"$f":"INSERT!B48","v":0},{"$f":"INSERT!C48","v":0},{"$f":"INSERT!D48","v":0},{"$f":"INSERT!E48","v":0},null,null,null,null,null,null,null,null,null,null,null,null,null,null,null,null,0,0,null,null,null,null,null,null,null,null,null,null,null,null,null,null,null,null,0,0,null,null,null,null,null,null,null,null,null,null,null,null,null,null,null,null,0,0,0,0,0,0,0,"",null,null,null,null,0,0,null,null,null,null,0,"0"]
[null,47,47,{"$f":"INSERT!A49","v":0},{"$f":"INSERT!B49","v":0},{"$f":"INSERT!C49","v":0},{"$f":"INSERT!D49","v":0},{"$f":"INSERT!E49","v":0},null,null,null,null,null,null,null,null,null,null,null,null,null,null,null,null,0,0,null,null,null,null,null,null,null,null,null,null,null,null,null,null,null,null,0,0,null,null,null,null,null,null,null,null,null,null,null,null,null,null,null,null,0,0,0,0,0,0,0,"",null,null,null,null,0,0,null,null,null,null,0,"0"]
[null,48,48,{"$f":"INSERT!A50","v":0},{"$f":"INSERT!B50","v":0},{"$f":"INSERT!C50","v":0},{"$f":"INSERT!D50","v":0},{"$f":"INSERT!E50","v":0},null,null,null,null,null,null,null,null,null,null,null,null,null,null,null,null,0,0,null,null,null,null,null,null,null,null,null,null,null,null,null,null,null,null,0,0,null,null,null,null,null,null,null,null,null,null,null,null,null,null,null,null,0,0,0,0,0,0,0,"",null,null,null,null,0,0,null,null,null,null,0,"0"]
[null,49,49,{"$f":"INSERT!A51","v":0},{"$f":"INSERT!B51","v":0},{"$f":"INSERT!C51","v":0},{"$f":"INSERT!D51","v":0},{"$f":"INSERT!E51","v":0},null,null,null,null,null,null,null,null,null,null,null,null,null,null,null,null,0,0,null,null,null,null,null,null,null,null,null,null,null,null,null,null,null,null,0,0,null,null,null,null,null,null,null,null,null,null,null,null,null,null,null,null,0,0,0,0,0,0,0,"",null,null,null,null,0,0,null,null,null,null,0,"0"]
[null,50,50,{"$f":"INSERT!A52","v":0},{"$f":"INSERT!B52","v":0},{"$f":"INSERT!C52","v":0},{"$f":"INSERT!D52","v":0},{"$f":"INSERT!E52","v":0},null,null,null,null,null,null,null,null,null,null,null,null,null,null,null,null,0,0,null,null,null,null,null,null,null,null,null,null,null,null,null,null,null,null,0,0,null,null,null,null,null,null,null,null,null,null,null,null,null,null,null,null,0,0,0,0,0,0,0,"",null,null,null,null,0,0,null,null,null,null,0,"0"]
[null,51,51,{"$f":"INSERT!A53","v":0},{"$f":"INSERT!B53","v":0},{"$f":"INSERT!C53","v":0},{"$f":"INSERT!D53","v":0},{"$f":"INSERT!E53","v":0},null,null,null,null,null,null,null,null,null,null,null,null,null,null,null,null,0,0,null,null,null,null,null,null,null,null,null,null,null,null,null,null,null,null,0,0,null,null,null,null,null,null,null,null,null,null,null,null,null,null,null,null,0,0,0,0,0,0,0,"",null,null,null,null,0,0,null,null,null,null,0,"0"]
[null,52,52,{"$f":"INSERT!A54","v":0},{"$f":"INSERT!B54","v":0},{"$f":"INSERT!C54","v":0},{"$f":"INSERT!D54","v":0},{"$f":"INSERT!E54","v":0},null,null,null,null,null,null,null,null,null,null,null,null,null,null,null,null,0,0,null,null,null,null,null,null,null,null,null,null,null,null,null,null,null,null,0,0,null,null,null,null,null,null,null,null,null,null,null,null,null,null,null,null,0,0,0,0,0,0,0,"",null,null,null,null,0,0,null,null,null,null,0,"0"]
[null,53,53,{"$f":"INSERT!A55","v":0},{"$f":"INSERT!B55","v":0},{"$f":"INSERT!C55","v":0},{"$f":"INSERT!D55","v":0},{"$f":"INSERT!E55","v":0},null,null,null,null,null,null,null,null,null,null,null,null,null,null,null,null,0,0,null,null,null,null,null,null,null,null,null,null,null,null,null,null,null,null,0,0,null,null,null,null,null,null,null,null,null,null,null,null,null,null,null,null,0,0,0,0,0,0,0,"",null,null,null,null,0,0,null,null,null,null,0,"0"]
[null,54,54,{"$f":"INSERT!A56","v":0},{"$f":"INSERT!B56","v":0},{"$f":"INSERT!C56","v":0},{"$f":"INSERT!D56","v":0},{"$f":"INSERT!E56","v":0},null,null,null,null,null,null,null,null,null,null,null,null,null,null,null,null,0,0,null,null,null,null,null,null,null,null,null,null,null,null,null,null,null,null,0,0,null,null,null,null,null,null,null,null,null,null,null,null,null,null,null,null,0,0,0,0,0,0,0,"",null,null,null,null,0,0,null,null,null,null,0,"0"]
[null,55,55,{"$f":"INSERT!A57","v":0},{"$f":"INSERT!B57","v":0},{"$f":"INSERT!C57","v":0},{"$f":"INSERT!D57","v":0},{"$f":"INSERT!E57","v":0},null,null,null,null,null,null,null,null,null,null,null,null,null,null,null,null,0,0,null,null,null,null,null,null,null,null,null,null,null,null,null,null,null,null,0,0,null,null,null,null,null,null,null,null,null,null,null,null,null,null,null,null,0,0,0,0,0,0,0,"",null,null,null,null,0,0,null,null,null,null,0,"0"]
[null,56,56,{"$f":"INSERT!A58","v":0},{"$f":"INSERT!B58","v":0},{"$f":"INSERT!C58","v":0},{"$f":"INSERT!D58","v":0},{"$f":"INSERT!E58","v":0},null,null,null,null,null,null,null,null,null,null,null,null,null,null,null,null,0,0,null,null,null,null,null,null,null,null,null,null,null,null,null,null,null,null,0,0,null,null,null,null,null,null,null,null,null,null,null,null,null,null,null,null,0,0,0,0,0,0,0,"",null,null,null,null,0,0,null,null,null,null,0,"0"]
[null,57,57,{"$f":"INSERT!A59","v":0},{"$f":"INSERT!B59","v":0},{"$f":"INSERT!C59","v":0},{"$f":"INSERT!D59","v":0},{"$f":"INSERT!E59","v":0},null,null,null,null,null,null,null,null,null,null,null,null,null,null,null,null,0,0,null,null,null,null,null,null,null,null,null,null,null,null,null,null,null,null,0,0,null,null,null,null,null,null,null,null,null,null,null,null,null,null,null,null,0,0,0,0,0,0,0,"",null,null,null,null,0,0,null,null,null,null,0,"0"]
[{"$f":"SUM(COUNTA(F73)+COUNT(B73))","v":2},58,58,{"$f":"INSERT!A60","v":0},{"$f":"INSERT!B60","v":0},{"$f":"INSERT!C60","v":0},{"$f":"INSERT!D60","v":0},{"$f":"INSERT!E60","v":0},null,null,null,null,null,null,null,null,null,null,null,null,null,null,null,null,0,0,null,null,null,null,null,null,null,null,null,null,null,null,null,null,null,null,0,0,null,null,null,null,null,null,null,null,null,null,null,null,null,null,null,null,0,0,0,0,0,0,0,"",null,null,null,null,0,0,null,null,null,null,0,"0"]
[2,59,59,{"$f":"INSERT!A61","v":0},{"$f":"INSERT!B61","v":0},{"$f":"INSERT!C61","v":0},{"$f":"INSERT!D61","v":0},{"$f":"INSERT!E61","v":0},null,null,null,null,null,null,null,null,null,null,null,null,null,null,null,null,0,0,null,null,null,null,null,null,null,null,null,null,null,null,null,null,null,null,0,0,null,null,null,null,null,null,null,null,null,null,null,null,null,null,null,null,0,0,0,0,0,0,0,"",null,null,null,null,0,0,null,null,null,null,0,"0"]
[2,60,60,{"$f":"INSERT!A62","v":0},{"$f":"INSERT!B62","v":0},{"$f":"INSERT!C62","v":0},{"$f":"INSERT!D62","v":0},{"$f":"INSERT!E62","v":0},null,null,null,null,null,null,null,null,null,null,null,null,null,null,null,null,0,0,null,null,null,null,null,null,null,null,null,null,null,null,null,null,null,null,0,0,null,null,null,null,null,null,null,null,null,null,null,null,null,null,null,null,0,0,0,0,0,0,0,"",null,null,null,null,0,0,null,null,null,null,0,"0"]
[2,61,61,{"$f":"INSERT!A63","v":0},{"$f":"INSERT!B63","v":0},{"$f":"INSERT!C63","v":0},{"$f":"INSERT!D63","v":0},{"$f":"INSERT!E63","v":0},null,null,null,null,null,null,null,null,null,null,null,null,null,null,null,null,0,0,null,null,null,null,null,null,null,null,null,null,null,null,null,null,null,null,0,0,null,null,null,null,null,null,null,null,null,null,null,null,null,null,null,null,0,0,0,0,0,0,0,"",null,null,null,null,0,0,null,null,null,null,0,"0"]
[2,62,62,{"$f":"INSERT!A64","v":0},{"$f":"INSERT!B64","v":0},{"$f":"INSERT!C64","v":0},{"$f":"INSERT!D64","v":0},{"$f":"INSERT!E64","v":0},null,null,null,null,null,null,null,null,null,null,null,null,null,null,null,null,0,0,null,null,null,null,null,null,null,null,null,null,null,null,null,null,null,null,0,0,null,null,null,null,null,null,null,null,null,null,null,null,null,null,null,null,0,0,0,0,0,0,0,"",null,null,null,null,0,0,null,null,null,null,0,"0"]
[2,63,63,{"$f":"INSERT!A65","v":0},{"$f":"INSERT!B65","v":0},{"$f":"INSERT!C65","v":0},{"$f":"INSERT!D65","v":0},{"$f":"INSERT!E65","v":0},null,null,null,null,null,null,null,null,null,null,null,null,null,null,null,null,0,0,null,null,null,null,null,null,null,null,null,null,null,null,null,null,null,null,0,0,null,null,null,null,null,null,null,null,null,null,null,null,null,null,null,null,0,0,0,0,0,0,0,"",null,null,null,null,0,0,null,null,null,null,0,"0"]
[2,64,64,{"$f":"INSERT!A66","v":0},{"$f":"INSERT!B66","v":0},{"$f":"INSERT!C66","v":0},{"$f":"INSERT!D66","v":0},{"$f":"INSERT!E66","v":0},null,null,null,null,null,null,null,null,null,null,null,null,null,null,null,null,0,0,null,null,null,null,null,null,null,null,null,null,null,null,null,null,null,null,0,0,null,null,null,null,null,null,null,null,null,null,null,null,null,null,null,null,0,0,0,0,0,0,0,"",null,null,null,null,0,0,null,null,null,null,0,"0"]
[2,65,65,{"$f":"INSERT!A67","v":0},{"$f":"INSERT!B67","v":0},{"$f":"INSERT!C67","v":0},{"$f":"INSERT!D67","v":0},{"$f":"INSERT!E67","v":0},null,null,null,null,null,null,null,null,null,null,null,null,null,null,null,null,{"$f":"SUM(I80:X80)","v":0},{"$f":"(SUM(Y80*$Y$13)/10)","v":0},null,null,null,null,null,null,null,null,null,null,null,null,null,null,null,null,{"$f":"SUM(AA80:AP80)","v":0},{"$f":"(SUM(AQ80*$AQ$13)/10)","v":0},null,null,null,null,null,null,null,null,null,null,null,null,null,null,null,null,{"$f":"SUM(AS80:BH80)","v":0},{"$f":"(SUM(BI80*$BI$13)/10)","v":0},{"$f":"ROUND((BV80),0)","v":0},{"$f":"SUM(BK80*$BK$13)","v":0},{"$f":"ROUND(SUM(CB80),0)","v":0},{"$f":"IFERROR(SUM(BM80*$BM$13),\"0\")","v":0},0,{"$f":"IF(BO80>79.4,\"7\",IF(BO80>69.4,\"6\",IF(BO80>59.4,\"5\",IF(BO80>49.4,\"4\",IF(BO80>39.4,\"3\",IF(BO80>29.4,\"2\",IF(BO80>0,\"1\",IF(BO80=0,\"\"))))))))","v":""},null,null,null,null,{"$f":"SUM(BQ80:BT80)","v":0},{"$f":"ROUND(SUM(BU80*$BU$13),1)","v":0},null,null,null,null,{"$f":"SUM(BW80:BZ80)","v":0},{"$f":"IF($BO$13=0,\"0\",IF($BO$13=1,\"0\",IF($BO$13=2,(CA80*$CA$13))))","v":"0"}]
[2,66,66,{"$f":"INSERT!A68","v":0},{"$f":"INSERT!B68","v":0},{"$f":"INSERT!C68","v":0},{"$f":"INSERT!D68","v":0},{"$f":"INSERT!E68","v":0},null,null,null,null,null,null,null,null,null,null,null,null,null,null,null,null,0,0,null,null,null,null,null,null,null,null,null,null,null,null,null,null,null,null,0,0,null,null,null,null,null,null,null,null,null,null,null,null,null,null,null,null,0,0,0,0,0,0,0,"",null,null,null,null,0,0,null,null,null,null,0,"0"]
[2,{"$f":"B81+1","v":67},67,{"$f":"INSERT!A69","v":0},{"$f":"INSERT!B69","v":0},{"$f":"INSERT!C69","v":0},{"$f":"INSERT!D69","v":0},{"$f":"INSERT!E69","v":0},null,null,null,null,null,null,null,null,null,null,null,null,null,null,null,null,0,0,null,null,null,null,null,null,null,null,null,null,null,null,null,null,null,null,0,0,null,null,null,null,null,null,null,null,null,null,null,null,null,null,null,null,0,0,0,0,0,0,0,"",null,null,null,null,0,0,null,null,null,null,0,"0"]
[2,68,68,{"$f":"INSERT!A70","v":0},{"$f":"INSERT!B70","v":0},{"$f":"INSERT!C70","v":0},{"$f":"INSERT!D70","v":0},{"$f":"INSERT!E70","v":0},null,null,null,null,null,null,null,null,null,null,null,null,null,null,null,null,0,0,null,null,null,null,null,null,null,null,null,null,null,null,null,null,null,null,0,0,null,null,null,null,null,null,null,null,null,null,null,null,null,null,null,null,0,0,0,0,0,0,0,"",null,null,null,null,0,0,null,null,null,null,0,"0"]
[2,69,69,{"$f":"INSERT!A71","v":0},{"$f":"INSERT!B71","v":0},{"$f":"INSERT!C71","v":0},{"$f":"INSERT!D71","v":0},{"$f":"INSERT!E71","v":0},null,null,null,null,null,null,null,null,null,null,null,null,null,null,null,null,0,0,null,null,null,null,null,null,null,null,null,null,null,null,null,null,null,null,0,0,null,null,null,null,null,null,null,null,null,null,null,null,null,null,null,null,0,0,0,0,0,0,0,"",null,null,null,null,0,0,null,null,null,null,0,"0"]
[2,70,70,{"$f":"INSERT!A72","v":0},{"$f":"INSERT!B72","v":0},{"$f":"INSERT!C72","v":0},{"$f":"INSERT!D72","v":0},{"$f":"INSERT!E72","v":0},null,null,null,null,null,null,null,null,null,null,null,null,null,null,null,null,0,0,null,null,null,null,null,null,null,null,null,null,null,null,null,null,null,null,0,0,null,null,null,null,null,null,null,null,null,null,null,null,null,null,null,null,0,0,0,0,0,0,0,"",null,null,null,null,0,0,null,null,null,null,0,"0"]
[2,71,71,{"$f":"INSERT!A73","v":0},{"$f":"INSERT!B73","v":0},{"$f":"INSERT!C73","v":0},{"$f":"INSERT!D73","v":0},{"$f":"INSERT!E73","v":0},null,null,null,null,null,null,null,null,null,null,null,null,null,null,null,null,0,0,null,null,null,null,null,null,null,null,null,null,null,null,null,null,null,null,0,0,null,null,null,null,null,null,null,null,null,null,null,null,null,null,null,null,0,0,0,0,0,0,0,"",null,null,null,null,0,0,null,null,null,null,0,"0"]
[2,72,72,{"$f":"INSERT!A74","v":0},{"$f":"INSERT!B74","v":0},{"$f":"INSERT!C74","v":0},{"$f":"INSERT!D74","v":0},{"$f":"INSERT!E74","v":0},null,null,null,null,null,null,null,null,null,null,null,null,null,null,null,null,0,0,null,null,null,null,null,null,null,null,null,null,null,null,null,null,null,null,0,0,null,null,null,null,null,null,null,null,null,null,null,null,null,null,null,null,0,0,0,0,0,0,0,"",null,null,null,null,0,0,null,null,null,null,0,"0"]
[2,73,73,{"$f":"INSERT!A75","v":0},{"$f":"INSERT!B75","v":0},{"$f":"INSERT!C75","v":0},{"$f":"INSERT!D75","v":0},{"$f":"INSERT!E75","v":0},null,null,null,null,null,null,null,null,null,null,null,null,null,null,null,null,0,0,null,null,null,null,null,null,null,null,null,null,null,null,null,null,null,null,0,0,null,null,null,null,null,null,null,null,null,null,null,null,null,null,null,null,0,0,0,0,0,0,0,"",null,null,null,null,0,0,null,null,null,null,0,"0"]
[2,74,74,{"$f":"INSERT!A76","v":0},{"$f":"INSERT!B76","v":0},{"$f":"INSERT!C76","v":0},{"$f":"INSERT!D76","v":0},{"$f":"INSERT!E76","v":0},null,null,null,null,null,null,null,null,null,null,null,null,null,null,null,null,0,0,null,null,null,null,null,null,null,null,null,null,null,null,null,null,null,null,0,0,null,null,null,null,null,null,null,null,null,null,null,null,null,null,null,null,0,0,0,0,0,0,0,"",null,null,null,null,0,0,null,null,null,null,0,"0"]
[2,75,75,{"$f":"INSERT!A77","v":0},{"$f":"INSERT!B77","v":0},{"$f":"INSERT!C77","v":0},{"$f":"INSERT!D77","v":0},{"$f":"INSERT!E77","v":0},null,null,null,null,null,null,null,null,null,null,null,null,null,null,null,null,0,0,null,null,null,null,null,null,null,null,null,null,null,null,null,null,null,null,0,0,null,null,null,null,null,null,null,null,null,null,null,null,null,null,null,null,0,0,0,0,0,0,0,"",null,null,null,null,0,0,null,null,null,null,0,"0"]
[2,76,76,{"$f":"INSERT!A78","v":0},{"$f":"INSERT!B78","v":0},{"$f":"INSERT!C78","v":0},{"$f":"INSERT!D78","v":0},{"$f":"INSERT!E78","v":0},null,null,null,null,null,null,null,null,null,null,null,null,null,null,null,null,0,0,null,null,null,null,null,null,null,null,null,null,null,null,null,null,null,null,0,0,null,null,null,null,null,null,null,null,null,null,null,null,null,null,null,null,0,0,0,0,0,0,0,"",null,null,null,null,0,0,null,null,null,null,0,"0"]
[2,77,77,{"$f":"INSERT!A79","v":0},{"$f":"INSERT!B79","v":0},{"$f":"INSERT!C79","v":0},{"$f":"INSERT!D79","v":0},{"$f":"INSERT!E79","v":0},null,null,null,null,null,null,null,null,null,null,null,null,null,null,null,null,0,0,null,null,null,null,null,null,null,null,null,null,null,null,null,null,null,null,0,0,null,null,null,null,null,null,null,null,null,null,null,null,null,null,null,null,0,0,0,0,0,0,0,"",null,null,null,null,0,0,null,null,null,null,0,"0"]
[2,78,78,{"$f":"INSERT!A80","v":0},{"$f":"INSERT!B80","v":0},{"$f":"INSERT!C80","v":0},{"$f":"INSERT!D80","v":0},{"$f":"INSERT!E80","v":0},null,null,null,null,null,null,null,null,null,null,null,null,null,null,null,null,0,0,null,null,null,null,null,null,null,null,null,null,null,null,null,null,null,null,0,0,null,null,null,null,null,null,null,null,null,null,null,null,null,null,null,null,0,0,0,0,0,0,0,"",null,null,null,null,0,0,null,null,null,null,0,"0"]
[2,79,79,{"$f":"INSERT!A81","v":0},{"$f":"INSERT!B81","v":0},{"$f":"INSERT!C81","v":0},{"$f":"INSERT!D81","v":0},{"$f":"INSERT!E81","v":0},null,null,null,null,null,null,null,null,null,null,null,null,null,null,null,null,0,0,null,null,null,null,null,null,null,null,null,null,null,null,null,null,null,null,0,0,null,null,null,null,null,null,null,null,null,null,null,null,null,null,null,null,0,0,0,0,0,0,0,"",null,null,null,null,0,0,null,null,null,null,0,"0"]
[2,80,80,{"$f":"INSERT!A82","v":0},{"$f":"INSERT!B82","v":0},{"$f":"INSERT!C82","v":0},{"$f":"INSERT!D82","v":0},{"$f":"INSERT!E82","v":0},null,null,null,null,null,null,null,null,null,null,null,null,null,null,null,null,0,0,null,null,null,null,null,null,null,null,null,null,null,null,null,null,null,null,0,0,null,null,null,null,null,null,null,null,null,null,null,null,null,null,null,null,0,0,0,0,0,0,0,"",null,null,null,null,0,0,null,null,null,null,0,"0"]
[2,81,81,{"$f":"INSERT!A83","v":0},{"$f":"INSERT!B83","v":0},{"$f":"INSERT!C83","v":0},{"$f":"INSERT!D83","v":0},{"$f":"INSERT!E83","v":0},null,null,null,null,null,null,null,null,null,null,null,null,null,null,null,null,0,0,null,null,null,null,null,null,null,null,null,null,null,null,null,null,null,null,0,0,null,null,null,null,null,null,null,null,null,null,null,null,null,null,null,null,0,0,0,0,0,0,0,"",null,null,null,null,0,0,null,null,null,null,0,"0"]
[2,82,82,{"$f":"INSERT!A84","v":0},{"$f":"INSERT!B84","v":0},{"$f":"INSERT!C84","v":0},{"$f":"INSERT!D84","v":0},{"$f":"INSERT!E84","v":0},null,null,null,null,null,null,null,null,null,null,null,null,null,null,null,null,0,0,null,null,null,null,null,null,null,null,null,null,null,null,null,null,null,null,0,0,null,null,null,null,null,null,null,null,null,null,null,null,null,null,null,null,0,0,0,0,0,0,0,"",null,null,null,null,0,0,null,null,null,null,0,"0"]
[2,83,83,{"$f":"INSERT!A85","v":0},{"$f":"INSERT!B85","v":0},{"$f":"INSERT!C85","v":0},{"$f":"INSERT!D85","v":0},{"$f":"INSERT!E85","v":0},null,null,null,null,null,null,null,null,null,null,null,null,null,null,null,null,0,0,null,null,null,null,null,null,null,null,null,null,null,null,null,null,null,null,0,0,null,null,null,null,null,null,null,null,null,null,null,null,null,null,null,null,0,0,0,0,0,0,0,"",null,null,null,null,0,0,null,null,null,null,0,"0"]
[2,84,84,{"$f":"INSERT!A86","v":0},{"$f":"INSERT!B86","v":0},{"$f":"INSERT!C86","v":0},{"$f":"INSERT!D86","v":0},{"$f":"INSERT!E86","v":0},null,null,null,null,null,null,null,null,null,null,null,null,null,null,null,null,0,0,null,null,null,null,null,null,null,null,null,null,null,null,null,null,null,null,0,0,null,null,null,null,null,null,null,null,null,null,null,null,null,null,null,null,0,0,0,0,0,0,0,"",null,null,null,null,0,0,null,null,null,null,0,"0"]
[2,85,85,{"$f":"INSERT!A87","v":0},{"$f":"INSERT!B87","v":0},{"$f":"INSERT!C87","v":0},{"$f":"INSERT!D87","v":0},{"$f":"INSERT!E87","v":0},null,null,null,null,null,null,null,null,null,null,null,null,null,null,null,null,0,0,null,null,null,null,null,null,null,null,null,null,null,null,null,null,null,null,0,0,null,null,null,null,null,null,null,null,null,null,null,null,null,null,null,null,0,0,0,0,0,0,0,"",null,null,null,null,0,0,null,null,null,null,0,"0"]
[2,86,86,{"$f":"INSERT!A88","v":0},{"$f":"INSERT!B88","v":0},{"$f":"INSERT!C88","v":0},{"$f":"INSERT!D88","v":0},{"$f":"INSERT!E88","v":0},null,null,null,null,null,null,null,null,null,null,null,null,null,null,null,null,0,0,null,null,null,null,null,null,null,null,null,null,null,null,null,null,null,null,0,0,null,null,null,null,null,null,null,null,null,null,null,null,null,null,null,null,0,0,0,0,0,0,0,"",null,null,null,null,0,0,null,null,null,null,0,"0"]
[2,87,87,{"$f":"INSERT!A89","v":0},{"$f":"INSERT!B89","v":0},{"$f":"INSERT!C89","v":0},{"$f":"INSERT!D89","v":0},{"$f":"INSERT!E89","v":0},null,null,null,null,null,null,null,null,null,null,null,null,null,null,null,null,0,0,null,null,null,null,null,null,null,null,null,null,null,null,null,null,null,null,0,0,null,null,null,null,null,null,null,null,null,null,null,null,null,null,null,null,0,0,0,0,0,0,0,"",null,null,null,null,0,0,null,null,null,null,0,"0"]
[2,88,88,{"$f":"INSERT!A90","v":0},{"$f":"INSERT!B90","v":0},{"$f":"INSERT!C90","v":0},{"$f":"INSERT!D90","v":0},{"$f":"INSERT!E90","v":0},null,null,null,null,null,null,null,null,null,null,null,null,null,null,null,null,0,0,null,null,null,null,null,null,null,null,null,null,null,null,null,null,null,null,0,0,null,null,null,null,null,null,null,null,null,null,null,null,null,null,null,null,0,0,0,0,0,0,0,"",null,null,null,null,0,0,null,null,null,null,0,"0"]
[2,89,89,{"$f":"INSERT!A91","v":0},{"$f":"INSERT!B91","v":0},{"$f":"INSERT!C91","v":0},{"$f":"INSERT!D91","v":0},{"$f":"INSERT!E91","v":0},null,null,null,null,null,null,null,null,null,null,null,null,null,null,null,null,0,0,null,null,null,null,null,null,null,null,null,null,null,null,null,null,null,null,0,0,null,null,null,null,null,null,null,null,null,null,null,null,null,null,null,null,0,0,0,0,0,0,0,"",null,null,null,null,0,0,null,null,null,null,0,"0"]
[2,90,90,{"$f":"INSERT!A92","v":0},{"$f":"INSERT!B92","v":0},{"$f":"INSERT!C92","v":0},{"$f":"INSERT!D92","v":0},{"$f":"INSERT!E92","v":0},null,null,null,null,null,null,null,null,null,null,null,null,null,null,null,null,0,0,null,null,null,null,null,null,null,null,null,null,null,null,null,null,null,null,0,0,null,null,null,null,null,null,null,null,null,null,null,null,null,null,null,null,0,0,0,0,0,0,{"$f":"IF($BO$13=1,SUM(BK105),SUM(BK105+BM105))","v":0},"",null,null,null,null,0,0,null,null,null,null,0,"0"]
[2,91,91,{"$f":"INSERT!A93","v":0},{"$f":"INSERT!B93","v":0},{"$f":"INSERT!C93","v":0},{"$f":"INSERT!D93","v":0},{"$f":"INSERT!E93","v":0},null,null,null,null,null,null,null,null,null,null,null,null,null,null,null,null,0,0,null,null,null,null,null,null,null,null,null,null,null,null,null,null,null,null,0,0,null,null,null,null,null,null,null,null,null,null,null,null,null,null,null,null,0,0,0,0,0,0,0,"",null,null,null,null,0,0,null,null,null,null,0,"0"]
[2,92,92,{"$f":"INSERT!A94","v":0},{"$f":"INSERT!B94","v":0},{"$f":"INSERT!C94","v":0},{"$f":"INSERT!D94","v":0},{"$f":"INSERT!E94","v":0},null,null,null,null,null,null,null,null,null,null,null,null,null,null,null,null,0,0,null,null,null,null,null,null,null,null,null,null,null,null,null,null,null,null,0,0,null,null,null,null,null,null,null,null,null,null,null,null,null,null,null,null,0,0,0,0,0,0,0,"",null,null,null,null,0,0,null,null,null,null,0,"0"]
[2,93,93,{"$f":"INSERT!A95","v":0},{"$f":"INSERT!B95","v":0},{"$f":"INSERT!C95","v":0},{"$f":"INSERT!D95","v":0},{"$f":"INSERT!E95","v":0},null,null,null,null,null,null,null,null,null,null,null,null,null,null,null,null,0,0,null,null,null,null,null,null,null,null,null,null,null,null,null,null,null,null,0,0,null,null,null,null,null,null,null,null,null,null,null,null,null,null,null,null,0,0,0,0,0,0,0,"",null,null,null,null,0,0,null,null,null,null,0,"0"]
[2,94,94,{"$f":"INSERT!A96","v":0},{"$f":"INSERT!B96","v":0},{"$f":"INSERT!C96","v":0},{"$f":"INSERT!D96","v":0},{"$f":"INSERT!E96","v":0},null,null,null,null,null,null,null,null,null,null,null,null,null,null,null,null,0,0,null,null,null,null,null,null,null,null,null,null,null,null,null,null,null,null,0,0,null,null,null,null,null,null,null,null,null,null,null,null,null,null,null,null,0,0,0,0,0,0,0,"",null,null,null,null,0,0,null,null,null,null,0,"0"]
[2,95,95,{"$f":"INSERT!A97","v":0},{"$f":"INSERT!B97","v":0},{"$f":"INSERT!C97","v":0},{"$f":"INSERT!D97","v":0},{"$f":"INSERT!E97","v":0},null,null,null,null,null,null,null,null,null,null,null,null,null,null,null,null,0,0,null,null,null,null,null,null,null,null,null,null,null,null,null,null,null,null,0,0,null,null,null,null,null,null,null,null,null,null,null,null,null,null,null,null,0,0,0,0,0,0,0,"",null,null,null,null,0,0,null,null,null,null,0,"0"]
[2,96,96,{"$f":"INSERT!A98","v":0},{"$f":"INSERT!B98","v":0},{"$f":"INSERT!C98","v":0},{"$f":"INSERT!D98","v":0},{"$f":"INSERT!E98","v":0},null,null,null,null,null,null,null,null,null,null,null,null,null,null,null,null,0,0,null,null,null,null,null,null,null,null,null,null,null,null,null,null,null,null,0,0,null,null,null,null,null,null,null,null,null,null,null,null,null,null,null,null,0,0,0,0,0,0,0,"",null,null,null,null,0,0,null,null,null,null,0,"0"]
[2,97,97,{"$f":"INSERT!A99","v":0},{"$f":"INSERT!B99","v":0},{"$f":"INSERT!C99","v":0},{"$f":"INSERT!D99","v":0},{"$f":"INSERT!E99","v":0},null,null,null,null,null,null,null,null,null,null,null,null,null,null,null,null,{"$f":"SUM(I112:X112)","v":0},{"$f":"(SUM(Y112*$Y$13)/10)","v":0},null,null,null,null,null,null,null,null,null,null,null,null,null,null,null,null,{"$f":"SUM(AA112:AP112)","v":0},{"$f":"(SUM(AQ112*$AQ$13)/10)","v":0},null,null,null,null,null,null,null,null,null,null,null,null,null,null,null,null,{"$f":"SUM(AS112:BH112)","v":0},{"$f":"(SUM(BI112*$BI$13)/10)","v":0},0,{"$f":"SUM(BK112*$BK$13)","v":0},0,{"$f":"IFERROR(SUM(BM112*$BM$13),\"0\")","v":0},0,{"$f":"IF(BO112>79.4,\"7\",IF(BO112>69.4,\"6\",IF(BO112>59.4,\"5\",IF(BO112>49.4,\"4\",IF(BO112>39.4,\"3\",IF(BO112>29.4,\"2\",IF(BO112>0,\"1\",IF(BO112=0,\"\"))))))))","v":""},null,null,null,null,{"$f":"SUM(BQ112:BT112)","v":0},{"$f":"ROUND(SUM(BU112*$BU$13),1)","v":0},null,null,null,null,{"$f":"SUM(BW112:BZ112)","v":0},{"$f":"IF($BO$13=0,\"0\",IF($BO$13=1,\"0\",IF($BO$13=2,(CA112*$CA$13))))","v":"0"}]
[2,98,98,{"$f":"INSERT!A100","v":0},{"$f":"INSERT!B100","v":0},{"$f":"INSERT!C100","v":0},{"$f":"INSERT!D100","v":0},{"$f":"INSERT!E100","v":0},null,null,null,null,null,null,null,null,null,null,null,null,null,null,null,null,0,0,null,null,null,null,null,null,null,null,null,null,null,null,null,null,null,null,0,0,null,null,null,null,null,null,null,null,null,null,null,null,null,null,null,null,0,0,0,0,0,0,0,"",null,null,null,null,0,0,null,null,null,null,0,"0"]
[2,99,99,{"$f":"INSERT!A101","v":0},{"$f":"INSERT!B101","v":0},{"$f":"INSERT!C101","v":0},{"$f":"INSERT!D101","v":0},{"$f":"INSERT!E101","v":0},null,null,null,null,null,null,null,null,null,null,null,null,null,null,null,null,0,0,null,null,null,null,null,null,null,null,null,null,null,null,null,null,null,null,0,0,null,null,null,null,null,null,null,null,null,null,null,null,null,null,null,null,0,0,0,0,0,0,0,"",null,null,null,null,0,0,null,null,null,null,0,"0"]
[2,100,100,{"$f":"INSERT!A102","v":0},{"$f":"INSERT!B102","v":0},{"$f":"INSERT!C102","v":0},{"$f":"INSERT!D102","v":0},{"$f":"INSERT!E102","v":0},null,null,null,null,null,null,null,null,null,null,null,null,null,null,null,null,0,0,null,null,null,null,null,null,null,null,null,null,null,null,null,null,null,null,0,0,null,null,null,null,null,null,null,null,null,null,null,null,null,null,null,null,0,0,0,0,0,0,0,"",null,null,null,null,0,0,null,null,null,null,0,"0"]
[null,"Total amount of learners on mark sheet",null,null,null,"x","TOTAL",null,{"$f":"SUM(I16:I115)","v":0},{"$f":"SUM(J16:J115)","v":0},0,0,0,{"$f":"SUM(N16:N115)","v":0},0,0,0,0,0,0,0,0,0,0,0,0,0,0,0,0,0,{"$f":"SUM(AF16:AF115)","v":0},0,0,0,0,0,0,0,0,0,0,0,0,0,0,0,0,{"$f":"SUM(AW16:AW115)","v":0},0,0,0,0,0,0,0,0,0,0,0,0,0,0,0,0,0,0,null,{"$f":"SUM(BQ16:BQ115)","v":0},0,0,0,0,0,0,0,0,0,0,0]
[null,null,null,null,null,"x","AVERAGE",null,{"$f":"IFERROR(SUM(I116/$B$120),\"0\")","v":"0"},{"$f":"IFERROR(SUM(J116/$B$120),\"0\")","v":"0"},"0","0","0",{"$f":"IFERROR(SUM(N116/$B$120),\"0\")","v":"0"},"0","0","0","0","0","0","0","0","0","0","0","0","0","0","0","0","0",{"$f":"IFERROR(SUM(AF116/$B$120),\"0\")","v":"0"},"0","0","0","0","0","0","0","0","0","0","0","0","0","0","0","0",{"$f":"IFERROR(SUM(AW116/$B$120),\"0\")","v":"0"},"0","0","0","0","0","0","0","0","0","0","0","0","0","0","0","0","0","0",null,{"$f":"IFERROR(SUM(BQ116/$B$120),\"0\")","v":"0"},"0","0","0","0","0","0","0","0","0","0","0"]
[null,null,null,null,null,"x","PERCENTAGE",null,{"$f":"IFERROR(ROUND((SUM(I117/I12)*100),0),\"0\")","v":"0"},{"$f":"IFERROR(ROUND((SUM(J117/J12)*100),0),\"0\")","v":"0"},"0","0","0",{"$f":"IFERROR(ROUND((SUM(N117/N12)*100),0),\"0\")","v":"0"},"0","0","0","0","0","0","0","0","0","0","0",0,"0","0","0","0","0",{"$f":"IFERROR(ROUND((SUM(AF117/AF12)*100),0),\"0\")","v":"0"},"0","0","0","0","0","0","0","0","0","0","0",0,"0","0","0","0",{"$f":"IFERROR(ROUND((SUM(AW117/AW12)*100),0),\"0\")","v":"0"},"0","0","0","0","0","0","0","0","0","0","0","0",0,"0","0","0","0",0,null,{"$f":"IFERROR(ROUND((SUM(BQ117/BQ12)*100),0),\"0\")","v":"0"},"0","0","0","0","0","0","0","0","0","0","0"]
[null,null,null,null,null,"x",0]
[null,{"$f":"INSERT!$E$103","v":0},null,null,null,"x","TOTAL HANDED IN",null,{"$f":"COUNT(I16:I115)","v":0},{"$f":"COUNT(J16:J115)","v":0},{"$f":"COUNT(K16:K115)","v":0},0,0,{"$f":"COUNT(N16:N115)","v":0},0,0,0,0,0,0,0,0,0,{"$f":"COUNT(X16:X115)","v":0},null,null,{"$f":"COUNT(AA16:AA115)","v":0},{"$f":"COUNT(AB16:AB115)","v":0},{"$f":"COUNT(AC16:AC115)","v":0},0,0,{"$f":"COUNT(AF16:AF115)","v":0},0,0,0,0,0,0,0,0,0,{"$f":"COUNT(AP16:AP115)","v":0},null,null,{"$f":"COUNT(AS16:AS115)","v":0},{"$f":"COUNT(AT16:AT115)","v":0},{"$f":"COUNT(AU16:AU115)","v":0},0,{"$f":"COUNT(AW16:AW115)","v":0},0,0,0,0,0,0,0,0,0,0,{"$f":"COUNT(BH16:BH115)","v":0}]
[null,null,null,null,null,"x"]
[null,null,null,null,null,"x",null,null,null,null,null,null,null,null,null,null,null,null,null,null,null,null,null,null,null,null,null,null,null,null,null,null,null,null,null,null,null,null,null,null,null,null,null,null,null,null,"EXAM LEVELS"]
[null,null,null,null,null,"x",null,null,null,null,null,null,null,null,null,null,null,null,null,null,null,null,null,null,null,null,null,null,null,null,null,null,null,null,null,null,null,null,null,null,null,null,null,null,null,null,"LEVEL 1",null,"LEVEL 2",null,"LEVEL 3",null,null,"LEVEL 4",null,null,"LEVEL 5",null,"LEVEL 6",null,"LEVEL 7"]
[null,null,null,null,null,null,null,null,null,null,null,null,null,null,null,null,null,null,null,null,null,null,null,null,null,null,null,null,null,null,null,null,null,null,null,null,null,null,null,null,null,null,null,null,null,null," 0 - 29 ",null," 30 - 39 ",null," 40 - 49 ",null,null," 50 - 59 ",null,null," 60 - 69 ",null," 70 - 79 ",null,"80 - 100"]
[null,null,null,null,null,null,null,null,null,null,null,null,null,null,null,null,null,null,null,null,null,null,null,null,null,null,null,null,null,null,null,null,null,null,null,null,null,null,null,null,null,null,null,null,null,null,{"$f":"COUNTIF($BP$16:$BP$115,1)","v":0},null,{"$f":"COUNTIF($BP$16:$BP$115,2)","v":0},null,{"$f":"COUNTIF($BP$16:$BP$115,3)","v":0},null,null,{"$f":"COUNTIF($BP$16:$BP$115,4)","v":0},null,null,{"$f":"COUNTIF($BP$16:$BP$115,5)","v":0},null,{"$f":"COUNTIF($BP$16:$BP$115,6)","v":0},null,{"$f":"COUNTIF($BP$16:$BP$115,7)","v":0}]

{"sheet":"TERM3","index":5,"n_rows":120,"n_cols":103,"rows_kept":120,"cut":false,"hidden":false,"merged":[[3,44,3,61],[3,62,3,79],[4,24,10,24],[3,8,3,25],[4,8,9,8],[4,9,9,9],[4,23,9,23],[3,26,3,43],[4,64,9,64],[4,10,9,10],[4,11,9,11],[4,12,9,12],[4,41,9,41],[4,42,10,42],[4,43,10,43],[4,28,9,28],[4,29,9,29],[4,30,9,30],[4,46,9,46],[4,47,9,47],[4,48,9,48],[4,53,9,53],[4,54,9,54],[4,55,9,55],[4,98,10,98],[4,102,10,102],[3,80,3,97],[4,80,9,80],[119,1,119,4],[119,5,119,6],[9,1,9,4],[9,5,9,6],[10,1,10,4],[10,5,10,6],[116,5,116,6],[117,5,117,6],[115,1,118,4],[13,1,13,6],[115,5,115,6],[4,95,9,95],[4,96,10,96],[4,97,10,97],[4,25,10,25],[4,26,9,26],[4,27,9,27],[4,18,9,18],[4,19,9,19],[4,20,9,20],[1,1,1,102],[4,65,9,65],[4,66,9,66],[4,82,9,82],[4,83,9,83],[4,84,9,84],[4,81,9,81],[4,5,4,7],[5,5,5,7],[3,98,3,102],[4,99,10,99],[4,63,9,63],[4,77,9,77],[4,78,10,78],[4,79,10,79],[4,44,9,44],[4,45,9,45],[4,59,9,59],[4,60,10,60],[4,61,10,61],[4,49,9,49],[4,50,9,50],[4,51,9,51],[4,52,9,52],[4,21,9,21],[4,22,9,22],[4,13,9,13],[4,14,9,14],[4,15,9,15],[4,16,9,16],[4,17,9,17],[4,36,9,36],[4,37,9,37],[4,38,9,38],[4,39,9,39],[4,40,9,40],[4,31,9,31],[4,32,9,32],[4,33,9,33],[4,34,9,34],[4,35,9,35],[4,69,9,69],[4,70,9,70],[4,71,9,71],[4,72,9,72],[4,73,9,73],[4,56,9,56],[4,57,9,57],[4,58,9,58],[4,67,9,67],[4,68,9,68],[4,62,9,62],[4,92,9,92],[4,93,9,93],[4,94,9,94],[4,87,9,87],[4,88,9,88],[4,89,9,89],[4,90,9,90],[4,91,9,91],[4,74,9,74],[4,75,9,75],[4,76,9,76],[4,85,9,85],[4,86,9,86]]}
[]
[null,"ENGINEERING GRAPHICS AND DESIGN"]
[null,null,null,null,null,null,null,null,"PROGRAM OF ASSESSMENT  :  TERM 3"]
[null,null,null,null,null,null,null,null,"CD7 1st Solid Geometry\nPrism or Pyramid",null,null,null,null,null,null,null,null,null,null,null,null,null,null,null,null,null,"CD8 2nd Solid Geometry\nCylinder or Cone",null,null,null,null,null,null,null,null,null,null,null,null,null,null,null,null,null,"CD 9 Descriptive Geometry",null,null,null,null,null,null,null,null,null,null,null,null,null,null,null,null,null,"CD 10  Floor Plan",null,null,null,null,null,null,null,null,null,null,null,null,null,null,null,null,null,"CD 11 Civil Section of fondation",null,null,null,null,null,null,null,null,null,null,null,null,null,null,null,null,null,"TERM TEST"]
[17,null,null,null,"School:",{"$f":"INSERT!J3","v":0},null,null,"CD 7.1","CD 7.2","CD 7.3",null,null,null,null,null,null,null,null,null,null,null,null,null,"TOTAL CD1","TOTAL","CD 8.1","CD 8.2","CD 8.3",null,null,null,null,null,null,null,null,null,null,null,null,null,"TOTAL CD2","TOTAL","CD 9.1","CD 9.2","CD 9.3",null,null,null,null,null,null,null,null,null,null,null,null,null,"TOTAL CD3","TOTAL","CD 10.1","CD 10.2","CD 10.3",null,null,null,null,null,null,null,null,null,null,null,null,null,"TOTAL CD10","TOTAL","CD 11.1","CD 11.2","CD 11.3",null,null,null,null,null,null,null,null,null,null,null,null,null,"TOTAL CD15","TOTAL","TEST 1","TEST 2",null,null,"TEST TOTAL"]
[null,null,null,null,"Grade:",{"$f":"INSERT!J4","v":0}]
[null,null,null,null,"Teacher:",{"$f":"INSERT!J5","v":0},{"$f":"INSERT!K5","v":0},{"$f":"INSERT!L5","v":0}]
[null,null,null,null,"HOD:",{"$f":"INSERT!J6","v":0},{"$f":"INSERT!K6","v":0},{"$f":"INSERT!L6","v":0}]
[null,null,null,null,"SES:",{"$f":"INSERT!J7","v":0},{"$f":"INSERT!K7","v":0},{"$f":"INSERT!L7","v":0}]
[]
[null,null,null,null,null,null,null,null,7.1,7.2,7.3,7.4,7.5,7.6,7.7,7.8,7.9,7.1,7.11,7.12,7.13,7.14,7.15,7.16,null,null,8.1,8.1999999999999993,8.3000000000000007,8.4,8.5,8.6,8.7000000000000099,8.8000000000000096,8.9000000000000092,8.1,8.11,8.1199999999999992,8.1300000000000008,8.14,8.15,8.16,null,null,9.1,9.1999999999999993,9.3000000000000007,9.4,9.5,9.6,9.7000000000000099,9.8000000000000096,9.9000000000000092,9.1,9.11,9.1199999999999992,9.1300000000000008,9.14,9.15,9.16,null,null,10.1,10.199999999999999,10.3,10.4,10.5,10.6,10.7,10.8,10.9,10.1,10.11,10.119999999999999,10.130000000000001,10.14,10.15,10.16,null,null,11.1,11.2,11.3,11.4,11.5,11.6,11.7,11.8,11.9,11.1,11.11,11.12,11.13,11.14,11.15,11.16]
[null,"No",null,"Class","Acc No","Surname","Name","Gender",null,null,null,null,null,null,null,null,null,null,null,null,null,null,null,null,{"$f":"SUM(I12:X12)","v":0},10,18,null,null,null,null,null,null,null,null,null,null,null,null,null,null,null,{"$f":"SUM(AA12:AP12)","v":18},10,null,null,null,null,null,null,null,null,null,null,null,null,null,null,null,null,{"$f":"SUM(AS12:BH12)","v":0},10,null,null,null,null,null,null,null,null,null,null,null,null,null,null,null,null,{"$f":"SUM(BK12:BZ12)","v":0},10,null,null,null,null,null,null,null,null,null,null,null,null,null,null,null,null,{"$f":"SUM(CC12:CR12)","v":0},10,null,null,null,null,50]
[null,null,null,null,null,null,null,null,{"$f":"IF(I12>0,\"\",\"X\")","v":"X"},"X","X","X","X","X","X","X","X","X","X","X","X","X","X","X",{"$f":"IFERROR(SUM(100/Y12),\"0\")","v":"0"},null,{"$f":"IF(AA12>0,\"\",\"X\")","v":""},"X","X","X","X","X","X","X","X","X","X","X","X","X","X","X",{"$f":"IFERROR(SUM(100/AQ12),\"0\")","v":5.5555555555555554},null,{"$f":"IF(AS12>0,\"\",\"X\")","v":"X"},"X","X","X","X","X","X","X","X","X","X","X","X","X","X","X",{"$f":"IFERROR(SUM(100/BI12),\"0\")","v":"0"},null,{"$f":"IF(BK12>0,\"\",\"X\")","v":"X"},"X","X","X","X","X","X","X","X","X","X","X","X","X","X","X",{"$f":"IFERROR(SUM(100/CA12),\"0\")","v":"0"},null,{"$f":"IF(CC12>0,\"\",\"X\")","v":"X"},"X","X","X","X","X","X","X","X","X","X","X","X","X","X","X",{"$f":"IFERROR(SUM(100/CS12),\"0\")","v":"0"},null,{"$f":"SUM(100/CU12)*0.5","v":{"$error":"#DIV/0!"}},{"$f":"SUM(100/CV12)*0.5","v":{"$error":"#DIV/0!"}},null,{"$f":"COUNT(CU12)+COUNT(CV12)","v":0}]
[null,null,null,null,null,null,null,"DATE:"]
[]
[{"$f":"SUM(COUNTA(F16)+COUNT(B16))","v":2},1,2,{"$f":"INSERT!A3","v":0},{"$f":"INSERT!B3","v":0},{"$f":"INSERT!C3","v":0},{"$f":"INSERT!D3","v":0},{"$f":"INSERT!E3","v":0},null,null,null,null,null,null,null,null,null,null,null,null,null,null,null,null,{"$f":"SUM(I16:X16)","v":0},{"$f":"ROUND((SUM(Y16*$Y$13)/10),0)","v":0},null,null,null,null,null,null,null,null,null,null,null,null,null,null,null,null,{"$f":"SUM(AA16:AP16)","v":0},{"$f":"ROUND((SUM(AQ16*$AQ$13)/10),0)","v":0},null,null,null,null,null,null,null,null,null,null,null,null,null,null,null,null,{"$f":"SUM(AS16:BH16)","v":0},{"$f":"ROUND((SUM(BI16*$BI$13)/10),0)","v":0},null,null,null,null,null,null,null,null,null,null,null,null,null,null,null,null,{"$f":"SUM(BK16:BZ16)","v":0},{"$f":"ROUND((SUM(CA16*$CA$13)/10),0)","v":0},null,null,null,null,null,null,null,null,null,null,null,null,null,null,null,null,{"$f":"SUM(CC16:CR16)","v":0},{"$f":"ROUND((SUM(CS16*$CS$13)/10),0)","v":0},null,null,{"$f":"SUM(CU16*$CU$13)","v":{"$error":"#DIV/0!"}},{"$f":"SUM(CV16*$CV$13)","v":{"$error":"#DIV/0!"}},{"$f":"ROUND(IF($CX$13=1,CW16,IF($CX$13=2,(CX16+CW16)/2)),0)","v":0}]
[null,{"$f":"B16+1","v":2},1,{"$f":"INSERT!A4","v":0},{"$f":"INSERT!B4","v":0},{"$f":"INSERT!C4","v":0},{"$f":"INSERT!D4","v":0},{"$f":"INSERT!E4","v":0},null,null,null,null,null,null,null,null,null,null,null,null,null,null,null,null,0,0,null,null,null,null,null,null,null,null,null,null,null,null,null,null,null,null,0,0,null,null,null,null,null,null,null,null,null,null,null,null,null,null,null,null,0,0,null,null,null,null,null,null,null,null,null,null,null,null,null,null,null,null,0,0,null,null,null,null,null,null,null,null,null,null,null,null,null,null,null,null,0,0,null,null,{"$error":"#DIV/0!"},{"$error":"#DIV/0!"},0]
[null,3,3,{"$f":"INSERT!A5","v":0},{"$f":"INSERT!B5","v":0},{"$f":"INSERT!C5","v":0},{"$f":"INSERT!D5","v":0},{"$f":"INSERT!E5","v":0},null,null,null,null,null,null,null,null,null,null,null,null,null,null,null,null,0,0,null,null,null,null,null,null,null,null,null,null,null,null,null,null,null,null,0,0,null,null,null,null,null,null,null,null,null,null,null,null,null,null,null,null,0,0,null,null,null,null,null,null,null,null,null,null,null,null,null,null,null,null,0,0,null,null,null,null,null,null,null,null,null,null,null,null,null,null,null,null,0,0,null,null,{"$error":"#DIV/0!"},{"$error":"#DIV/0!"},0]
[null,4,4,{"$f":"INSERT!A6","v":0},{"$f":"INSERT!B6","v":0},{"$f":"INSERT!C6","v":0},{"$f":"INSERT!D6","v":0},{"$f":"INSERT!E6","v":0},null,null,null,null,null,null,null,null,null,null,null,null,null,null,null,null,0,0,null,null,null,null,null,null,null,null,null,null,null,null,null,null,null,null,0,0,null,null,null,null,null,null,null,null,null,null,null,null,null,null,null,null,0,0,null,null,null,null,null,null,null,null,null,null,null,null,null,null,null,null,0,0,null,null,null,null,null,null,null,null,null,null,null,null,null,null,null,null,0,0,null,null,{"$error":"#DIV/0!"},{"$error":"#DIV/0!"},0]
[null,5,5,{"$f":"INSERT!A7","v":0},{"$f":"INSERT!B7","v":0},{"$f":"INSERT!C7","v":0},{"$f":"INSERT!D7","v":0},{"$f":"INSERT!E7","v":0},null,null,null,null,null,null,null,null,null,null,null,null,null,null,null,null,0,0,null,null,null,null,null,null,null,null,null,null,null,null,null,null,null,null,0,0,null,null,null,null,null,null,null,null,null,null,null,null,null,null,null,null,0,0,null,null,null,null,null,null,null,null,null,null,null,null,null,null,null,null,0,0,null,null,null,null,null,null,null,null,null,null,null,null,null,null,null,null,0,0,null,null,{"$error":"#DIV/0!"},{"$error":"#DIV/0!"},0]
[null,6,6,{"$f":"INSERT!A8","v":0},{"$f":"INSERT!B8","v":0},{"$f":"INSERT!C8","v":0},{"$f":"INSERT!D8","v":0},{"$f":"INSERT!E8","v":0},null,null,null,null,null,null,null,null,null,null,null,null,null,null,null,null,0,0,null,null,null,null,null,null,null,null,null,null,null,null,null,null,null,null,0,0,null,null,null,null,null,null,null,null,null,null,null,null,null,null,null,null,0,0,null,null,null,null,null,null,null,null,null,null,null,null,null,null,null,null,0,0,null,null,null,null,null,null,null,null,null,null,null,null,null,null,null,null,0,0,null,null,{"$error":"#DIV/0!"},{"$error":"#DIV/0!"},0]
[null,7,7,{"$f":"INSERT!A9","v":0},{"$f":"INSERT!B9","v":0},{"$f":"INSERT!C9","v":0},{"$f":"INSERT!D9","v":0},{"$f":"INSERT!E9","v":0},null,null,null,null,null,null,null,null,null,null,null,null,null,null,null,null,0,0,null,null,null,null,null,null,null,null,null,null,null,null,null,null,null,null,0,0,null,null,null,null,null,null,null,null,null,null,null,null,null,null,null,null,0,0,null,null,null,null,null,null,null,null,null,null,null,null,null,null,null,null,0,0,null,null,null,null,null,null,null,null,null,null,null,null,null,null,null,null,0,0,null,null,{"$error":"#DIV/0!"},{"$error":"#DIV/0!"},0]
[null,8,8,{"$f":"INSERT!A10","v":0},{"$f":"INSERT!B10","v":0},{"$f":"INSERT!C10","v":0},{"$f":"INSERT!D10","v":0},{"$f":"INSERT!E10","v":0},null,null,null,null,null,null,null,null,null,null,null,null,null,null,null,null,0,0,null,null,null,null,null,null,null,null,null,null,null,null,null,null,null,null,0,0,null,null,null,null,null,null,null,null,null,null,null,null,null,null,null,null,0,0,null,null,null,null,null,null,null,null,null,null,null,null,null,null,null,null,0,0,null,null,null,null,null,null,null,null,null,null,null,null,null,null,null,null,0,0,null,null,{"$error":"#DIV/0!"},{"$error":"#DIV/0!"},0]
[null,9,9,{"$f":"INSERT!A11","v":0},{"$f":"INSERT!B11","v":0},{"$f":"INSERT!C11","v":0},{"$f":"INSERT!D11","v":0},{"$f":"INSERT!E11","v":0},null,null,null,null,null,null,null,null,null,null,null,null,null,null,null,null,0,0,null,null,null,null,null,null,null,null,null,null,null,null,null,null,null,null,0,0,null,null,null,null,null,null,null,null,null,null,null,null,null,null,null,null,0,0,null,null,null,null,null,null,null,null,null,null,null,null,null,null,null,null,0,0,null,null,null,null,null,null,null,null,null,null,null,null,null,null,null,null,0,0,null,null,{"$error":"#DIV/0!"},{"$error":"#DIV/0!"},0]
[null,10,10,{"$f":"INSERT!A12","v":0},{"$f":"INSERT!B12","v":0},{"$f":"INSERT!C12","v":0},{"$f":"INSERT!D12","v":0},{"$f":"INSERT!E12","v":0},null,null,null,null,null,null,null,null,null,null,null,null,null,null,null,null,0,0,null,null,null,null,null,null,null,null,null,null,null,null,null,null,null,null,0,0,null,null,null,null,null,null,null,null,null,null,null,null,null,null,null,null,0,0,null,null,null,null,null,null,null,null,null,null,null,null,null,null,null,null,0,0,null,null,null,null,null,null,null,null,null,null,null,null,null,null,null,null,0,0,null,null,{"$error":"#DIV/0!"},{"$error":"#DIV/0!"},0]
[null,11,11,{"$f":"INSERT!A13","v":0},{"$f":"INSERT!B13","v":0},{"$f":"INSERT!C13","v":0},{"$f":"INSERT!D13","v":0},{"$f":"INSERT!E13","v":0},null,null,null,null,null,null,null,null,null,null,null,null,null,null,null,null,0,0,null,null,null,null,null,null,null,null,null,null,null,null,null,null,null,null,0,0,null,null,null,null,null,null,null,null,null,null,null,null,null,null,null,null,0,0,null,null,null,null,null,null,null,null,null,null,null,null,null,null,null,null,0,0,null,null,null,null,null,null,null,null,null,null,null,null,null,null,null,null,0,0,null,null,{"$error":"#DIV/0!"},{"$error":"#DIV/0!"},0]
[null,12,12,{"$f":"INSERT!A14","v":0},{"$f":"INSERT!B14","v":0},{"$f":"INSERT!C14","v":0},{"$f":"INSERT!D14","v":0},{"$f":"INSERT!E14","v":0},null,null,null,null,null,null,null,null,null,null,null,null,null,null,null,null,0,0,null,null,null,null,null,null,null,null,null,null,null,null,null,null,null,null,0,0,null,null,null,null,null,null,null,null,null,null,null,null,null,null,null,null,0,0,null,null,null,null,null,null,null,null,null,null,null,null,null,null,null,null,0,0,null,null,null,null,null,null,null,null,null,null,null,null,null,null,null,null,0,0,null,null,{"$error":"#DIV/0!"},{"$error":"#DIV/0!"},0]
[null,13,13,{"$f":"INSERT!A15","v":0},{"$f":"INSERT!B15","v":0},{"$f":"INSERT!C15","v":0},{"$f":"INSERT!D15","v":0},{"$f":"INSERT!E15","v":0},null,null,null,null,null,null,null,null,null,null,null,null,null,null,null,null,0,0,null,null,null,null,null,null,null,null,null,null,null,null,null,null,null,null,0,0,null,null,null,null,null,null,null,null,null,null,null,null,null,null,null,null,0,0,null,null,null,null,null,null,null,null,null,null,null,null,null,null,null,null,0,0,null,null,null,null,null,null,null,null,null,null,null,null,null,null,null,null,0,0,null,null,{"$error":"#DIV/0!"},{"$error":"#DIV/0!"},0]
[null,14,14,{"$f":"INSERT!A16","v":0},{"$f":"INSERT!B16","v":0},{"$f":"INSERT!C16","v":0},{"$f":"INSERT!D16","v":0},{"$f":"INSERT!E16","v":0},null,null,null,null,null,null,null,null,null,null,null,null,null,null,null,null,0,0,null,null,null,null,null,null,null,null,null,null,null,null,null,null,null,null,0,0,null,null,null,null,null,null,null,null,null,null,null,null,null,null,null,null,0,0,null,null,null,null,null,null,null,null,null,null,null,null,null,null,null,null,0,0,null,null,null,null,null,null,null,null,null,null,null,null,null,null,null,null,0,0,null,null,{"$error":"#DIV/0!"},{"$error":"#DIV/0!"},0]
[null,15,15,{"$f":"INSERT!A17","v":0},{"$f":"INSERT!B17","v":0},{"$f":"INSERT!C17","v":0},{"$f":"INSERT!D17","v":0},{"$f":"INSERT!E17","v":0},null,null,null,null,null,null,null,null,null,null,null,null,null,null,null,null,0,0,null,null,null,null,null,null,null,null,null,null,null,null,null,null,null,null,0,0,null,null,null,null,null,null,null,null,null,null,null,null,null,null,null,null,0,0,null,null,null,null,null,null,null,null,null,null,null,null,null,null,null,null,0,0,null,null,null,null,null,null,null,null,null,null,null,null,null,null,null,null,0,0,null,null,{"$error":"#DIV/0!"},{"$error":"#DIV/0!"},0]
[null,16,16,{"$f":"INSERT!A18","v":0},{"$f":"INSERT!B18","v":0},{"$f":"INSERT!C18","v":0},{"$f":"INSERT!D18","v":0},{"$f":"INSERT!E18","v":0},null,null,null,null,null,null,null,null,null,null,null,null,null,null,null,null,0,0,null,null,null,null,null,null,null,null,null,null,null,null,null,null,null,null,0,0,null,null,null,null,null,null,null,null,null,null,null,null,null,null,null,null,0,0,null,null,null,null,null,null,null,null,null,null,null,null,null,null,null,null,0,0,null,null,null,null,null,null,null,null,null,null,null,null,null,null,null,null,0,0,null,null,{"$error":"#DIV/0!"},{"$error":"#DIV/0!"},0]
[null,17,17,{"$f":"INSERT!A19","v":0},{"$f":"INSERT!B19","v":0},{"$f":"INSERT!C19","v":0},{"$f":"INSERT!D19","v":0},{"$f":"INSERT!E19","v":0},null,null,null,null,null,null,null,null,null,null,null,null,null,null,null,null,0,0,null,null,null,null,null,null,null,null,null,null,null,null,null,null,null,null,0,0,null,null,null,null,null,null,null,null,null,null,null,null,null,null,null,null,0,0,null,null,null,null,null,null,null,null,null,null,null,null,null,null,null,null,0,0,null,null,null,null,null,null,null,null,null,null,null,null,null,null,null,null,0,0,null,null,{"$error":"#DIV/0!"},{"$error":"#DIV/0!"},0]
[null,18,18,{"$f":"INSERT!A20","v":0},{"$f":"INSERT!B20","v":0},{"$f":"INSERT!C20","v":0},{"$f":"INSERT!D20","v":0},{"$f":"INSERT!E20","v":0},null,null,null,null,null,null,null,null,null,null,null,null,null,null,null,null,0,0,null,null,null,null,null,null,null,null,null,null,null,null,null,null,null,null,0,0,null,null,null,null,null,null,null,null,null,null,null,null,null,null,null,null,0,0,null,null,null,null,null,null,null,null,null,null,null,null,null,null,null,null,0,0,null,null,null,null,null,null,null,null,null,null,null,null,null,null,null,null,0,0,null,null,{"$error":"#DIV/0!"},{"$error":"#DIV/0!"},0]
[null,19,19,{"$f":"INSERT!A21","v":0},{"$f":"INSERT!B21","v":0},{"$f":"INSERT!C21","v":0},{"$f":"INSERT!D21","v":0},{"$f":"INSERT!E21","v":0},null,null,null,null,null,null,null,null,null,null,null,null,null,null,null,null,0,0,null,null,null,null,null,null,null,null,null,null,null,null,null,null,null,null,0,0,null,null,null,null,null,null,null,null,null,null,null,null,null,null,null,null,0,0,null,null,null,null,null,null,null,null,null,null,null,null,null,null,null,null,0,0,null,null,null,null,null,null,null,null,null,null,null,null,null,null,null,null,0,0,null,null,{"$error":"#DIV/0!"},{"$error":"#DIV/0!"},0]
[null,20,20,{"$f":"INSERT!A22","v":0},{"$f":"INSERT!B22","v":0},{"$f":"INSERT!C22","v":0},{"$f":"INSERT!D22","v":0},{"$f":"INSERT!E22","v":0},null,null,null,null,null,null,null,null,null,null,null,null,null,null,null,null,0,0,null,null,null,null,null,null,null,null,null,null,null,null,null,null,null,null,0,0,null,null,null,null,null,null,null,null,null,null,null,null,null,null,null,null,0,0,null,null,null,null,null,null,null,null,null,null,null,null,null,null,null,null,0,0,null,null,null,null,null,null,null,null,null,null,null,null,null,null,null,null,0,0,null,null,{"$error":"#DIV/0!"},{"$error":"#DIV/0!"},0]
[null,21,21,{"$f":"INSERT!A23","v":0},{"$f":"INSERT!B23","v":0},{"$f":"INSERT!C23","v":0},{"$f":"INSERT!D23","v":0},{"$f":"INSERT!E23","v":0},null,null,null,null,null,null,null,null,null,null,null,null,null,null,null,null,0,0,null,null,null,null,null,null,null,null,null,null,null,null,null,null,null,null,0,0,null,null,null,null,null,null,null,null,null,null,null,null,null,null,null,null,0,0,null,null,null,null,null,null,null,null,null,null,null,null,null,null,null,null,0,0,null,null,null,null,null,null,null,null,null,null,null,null,null,null,null,null,0,0,null,null,{"$error":"#DIV/0!"},{"$error":"#DIV/0!"},0]
[null,22,22,{"$f":"INSERT!A24","v":0},{"$f":"INSERT!B24","v":0},{"$f":"INSERT!C24","v":0},{"$f":"INSERT!D24","v":0},{"$f":"INSERT!E24","v":0},null,null,null,null,null,null,null,null,null,null,null,null,null,null,null,null,0,0,null,null,null,null,null,null,null,null,null,null,null,null,null,null,null,null,0,0,null,null,null,null,null,null,null,null,null,null,null,null,null,null,null,null,0,0,null,null,null,null,null,null,null,null,null,null,null,null,null,null,null,null,0,0,null,null,null,null,null,null,null,null,null,null,null,null,null,null,null,null,0,0,null,null,{"$error":"#DIV/0!"},{"$error":"#DIV/0!"},0]
[null,23,23,{"$f":"INSERT!A25","v":0},{"$f":"INSERT!B25","v":0},{"$f":"INSERT!C25","v":0},{"$f":"INSERT!D25","v":0},{"$f":"INSERT!E25","v":0},null,null,null,null,null,null,null,null,null,null,null,null,null,null,null,null,0,0,null,null,null,null,null,null,null,null,null,null,null,null,null,null,null,null,0,0,null,null,null,null,null,null,null,null,null,null,null,null,null,null,null,null,0,0,null,null,null,null,null,null,null,null,null,null,null,null,null,null,null,null,0,0,null,null,null,null,null,null,null,null,null,null,null,null,null,null,null,null,0,0,null,null,{"$error":"#DIV/0!"},{"$error":"#DIV/0!"},0]
[null,24,24,{"$f":"INSERT!A26","v":0},{"$f":"INSERT!B26","v":0},{"$f":"INSERT!C26","v":0},{"$f":"INSERT!D26","v":0},{"$f":"INSERT!E26","v":0},null,null,null,null,null,null,null,null,null,null,null,null,null,null,null,null,0,0,null,null,null,null,null,null,null,null,null,null,null,null,null,null,null,null,0,0,null,null,null,null,null,null,null,null,null,null,null,null,null,null,null,null,0,0,null,null,null,null,null,null,null,null,null,null,null,null,null,null,null,null,0,0,null,null,null,null,null,null,null,null,null,null,null,null,null,null,null,null,0,0,null,null,{"$error":"#DIV/0!"},{"$error":"#DIV/0!"},0]
[null,25,25,{"$f":"INSERT!A27","v":0},{"$f":"INSERT!B27","v":0},{"$f":"INSERT!C27","v":0},{"$f":"INSERT!D27","v":0},{"$f":"INSERT!E27","v":0},null,null,null,null,null,null,null,null,null,null,null,null,null,null,null,null,0,0,null,null,null,null,null,null,null,null,null,null,null,null,null,null,null,null,0,0,null,null,null,null,null,null,null,null,null,null,null,null,null,null,null,null,0,0,null,null,null,null,null,null,null,null,null,null,null,null,null,null,null,null,0,0,null,null,null,null,null,null,null,null,null,null,null,null,null,null,null,null,0,0,null,null,{"$error":"#DIV/0!"},{"$error":"#DIV/0!"},0]
[null,26,26,{"$f":"INSERT!A28","v":0},{"$f":"INSERT!B28","v":0},{"$f":"INSERT!C28","v":0},{"$f":"INSERT!D28","v":0},{"$f":"INSERT!E28","v":0},null,null,null,null,null,null,null,null,null,null,null,null,null,null,null,null,0,0,null,null,null,null,null,null,null,null,null,null,null,null,null,null,null,null,0,0,null,null,null,null,null,null,null,null,null,null,null,null,null,null,null,null,0,0,null,null,null,null,null,null,null,null,null,null,null,null,null,null,null,null,0,0,null,null,null,null,null,null,null,null,null,null,null,null,null,null,null,null,0,0,null,null,{"$error":"#DIV/0!"},{"$error":"#DIV/0!"},0]
[null,27,27,{"$f":"INSERT!A29","v":0},{"$f":"INSERT!B29","v":0},{"$f":"INSERT!C29","v":0},{"$f":"INSERT!D29","v":0},{"$f":"INSERT!E29","v":0},null,null,null,null,null,null,null,null,null,null,null,null,null,null,null,null,0,0,null,null,null,null,null,null,null,null,null,null,null,null,null,null,null,null,0,0,null,null,null,null,null,null,null,null,null,null,null,null,null,null,null,null,0,0,null,null,null,null,null,null,null,null,null,null,null,null,null,null,null,null,0,0,null,null,null,null,null,null,null,null,null,null,null,null,null,null,null,null,0,0,null,null,{"$error":"#DIV/0!"},{"$error":"#DIV/0!"},0]
[null,28,28,{"$f":"INSERT!A30","v":0},{"$f":"INSERT!B30","v":0},{"$f":"INSERT!C30","v":0},{"$f":"INSERT!D30","v":0},{"$f":"INSERT!E30","v":0},null,null,null,null,null,null,null,null,null,null,null,null,null,null,null,null,0,0,null,null,null,null,null,null,null,null,null,null,null,null,null,null,null,null,0,0,null,null,null,null,null,null,null,null,null,null,null,null,null,null,null,null,0,0,null,null,null,null,null,null,null,null,null,null,null,null,null,null,null,null,0,0,null,null,null,null,null,null,null,null,null,null,null,null,null,null,null,null,0,0,null,null,{"$error":"#DIV/0!"},{"$error":"#DIV/0!"},0]
[null,29,29,{"$f":"INSERT!A31","v":0},{"$f":"INSERT!B31","v":0},{"$f":"INSERT!C31","v":0},{"$f":"INSERT!D31","v":0},{"$f":"INSERT!E31","v":0},null,null,null,null,null,null,null,null,null,null,null,null,null,null,null,null,0,0,null,null,null,null,null,null,null,null,null,null,null,null,null,null,null,null,0,0,null,null,null,null,null,null,null,null,null,null,null,null,null,null,null,null,0,0,null,null,null,null,null,null,null,null,null,null,null,null,null,null,null,null,0,0,null,null,null,null,null,null,null,null,null,null,null,null,null,null,null,null,0,0,null,null,{"$error":"#DIV/0!"},{"$error":"#DIV/0!"},0]
[null,30,30,{"$f":"INSERT!A32","v":0},{"$f":"INSERT!B32","v":0},{"$f":"INSERT!C32","v":0},{"$f":"INSERT!D32","v":0},{"$f":"INSERT!E32","v":0},null,null,null,null,null,null,null,null,null,null,null,null,null,null,null,null,0,0,null,null,null,null,null,null,null,null,null,null,null,null,null,null,null,null,0,0,null,null,null,null,null,null,null,null,null,null,null,null,null,null,null,null,0,0,null,null,null,null,null,null,null,null,null,null,null,null,null,null,null,null,0,0,null,null,null,null,null,null,null,null,null,null,null,null,null,null,null,null,0,0,null,null,{"$error":"#DIV/0!"},{"$error":"#DIV/0!"},0]
[null,31,31,{"$f":"INSERT!A33","v":0},{"$f":"INSERT!B33","v":0},{"$f":"INSERT!C33","v":0},{"$f":"INSERT!D33","v":0},{"$f":"INSERT!E33","v":0},null,null,null,null,null,null,null,null,null,null,null,null,null,null,null,null,0,0,null,null,null,null,null,null,null,null,null,null,null,null,null,null,null,null,0,0,null,null,null,null,null,null,null,null,null,null,null,null,null,null,null,null,0,0,null,null,null,null,null,null,null,null,null,null,null,null,null,null,null,null,0,0,null,null,null,null,null,null,null,null,null,null,null,null,null,null,null,null,0,0,null,null,{"$error":"#DIV/0!"},{"$error":"#DIV/0!"},0]
[{"$f":"SUM(COUNTA(F47)+COUNT(B47))","v":2},32,32,{"$f":"INSERT!A34","v":0},{"$f":"INSERT!B34","v":0},{"$f":"INSERT!C34","v":0},{"$f":"INSERT!D34","v":0},{"$f":"INSERT!E34","v":0},null,null,null,null,null,null,null,null,null,null,null,null,null,null,null,null,0,0,null,null,null,null,null,null,null,null,null,null,null,null,null,null,null,null,0,0,null,null,null,null,null,null,null,null,null,null,null,null,null,null,null,null,0,0,null,null,null,null,null,null,null,null,null,null,null,null,null,null,null,null,0,0,null,null,null,null,null,null,null,null,null,null,null,null,null,null,null,null,0,0,null,null,{"$error":"#DIV/0!"},{"$error":"#DIV/0!"},0]
[2,33,33,{"$f":"INSERT!A35","v":0},{"$f":"INSERT!B35","v":0},{"$f":"INSERT!C35","v":0},{"$f":"INSERT!D35","v":0},{"$f":"INSERT!E35","v":0},null,null,null,null,null,null,null,null,null,null,null,null,null,null,null,null,0,0,null,null,null,null,null,null,null,null,null,null,null,null,null,null,null,null,0,0,null,null,null,null,null,null,null,null,null,null,null,null,null,null,null,null,0,0,null,null,null,null,null,null,null,null,null,null,null,null,null,null,null,null,0,0,null,null,null,null,null,null,null,null,null,null,null,null,null,null,null,null,0,0,null,null,{"$error":"#DIV/0!"},{"$error":"#DIV/0!"},0]
[2,34,34,{"$f":"INSERT!A36","v":0},{"$f":"INSERT!B36","v":0},{"$f":"INSERT!C36","v":0},{"$f":"INSERT!D36","v":0},{"$f":"INSERT!E36","v":0},null,null,null,null,null,null,null,null,null,null,null,null,null,null,null,null,0,0,null,null,null,null,null,null,null,null,null,null,null,null,null,null,null,null,0,0,null,null,null,null,null,null,null,null,null,null,null,null,null,null,null,null,0,0,null,null,null,null,null,null,null,null,null,null,null,null,null,null,null,null,0,0,null,null,null,null,null,null,null,null,null,null,null,null,null,null,null,null,0,0,null,null,{"$error":"#DIV/0!"},{"$error":"#DIV/0!"},0]
[2,{"$f":"B49+1","v":35},35,{"$f":"INSERT!A37","v":0},{"$f":"INSERT!B37","v":0},{"$f":"INSERT!C37","v":0},{"$f":"INSERT!D37","v":0},{"$f":"INSERT!E37","v":0},null,null,null,null,null,null,null,null,null,null,null,null,null,null,null,null,{"$f":"SUM(I50:X50)","v":0},{"$f":"ROUND((SUM(Y50*$Y$13)/10),0)","v":0},null,null,null,null,null,null,null,null,null,null,null,null,null,null,null,null,{"$f":"SUM(AA50:AP50)","v":0},{"$f":"ROUND((SUM(AQ50*$AQ$13)/10),0)","v":0},null,null,null,null,null,null,null,null,null,null,null,null,null,null,null,null,{"$f":"SUM(AS50:BH50)","v":0},{"$f":"ROUND((SUM(BI50*$BI$13)/10),0)","v":0},null,null,null,null,null,null,null,null,null,null,null,null,null,null,null,null,{"$f":"SUM(BK50:BZ50)","v":0},{"$f":"ROUND((SUM(CA50*$CA$13)/10),0)","v":0},null,null,null,null,null,null,null,null,null,null,null,null,null,null,null,null,{"$f":"SUM(CC50:CR50)","v":0},{"$f":"ROUND((SUM(CS50*$CS$13)/10),0)","v":0},null,null,{"$f":"SUM(CU50*$CU$13)","v":{"$error":"#DIV/0!"}},{"$f":"SUM(CV50*$CV$13)","v":{"$error":"#DIV/0!"}},{"$f":"ROUND(IF($CX$13=1,CW50,IF($CX$13=2,(CX50+CW50)/2)),0)","v":0}]
[2,36,36,{"$f":"INSERT!A38","v":0},{"$f":"INSERT!B38","v":0},{"$f":"INSERT!C38","v":0},{"$f":"INSERT!D38","v":0},{"$f":"INSERT!E38","v":0},null,null,null,null,null,null,null,null,null,null,null,null,null,null,null,null,0,0,null,null,null,null,null,null,null,null,null,null,null,null,null,null,null,null,0,0,null,null,null,null,null,null,null,null,null,null,null,null,null,null,null,null,0,0,null,null,null,null,null,null,null,null,null,null,null,null,null,null,null,null,0,0,null,null,null,null,null,null,null,null,null,null,null,null,null,null,null,null,0,0,null,null,{"$error":"#DIV/0!"},{"$error":"#DIV/0!"},0]
[2,37,37,{"$f":"INSERT!A39","v":0},{"$f":"INSERT!B39","v":0},{"$f":"INSERT!C39","v":0},{"$f":"INSERT!D39","v":0},{"$f":"INSERT!E39","v":0},null,null,null,null,null,null,null,null,null,null,null,null,null,null,null,null,0,0,null,null,null,null,null,null,null,null,null,null,null,null,null,null,null,null,0,0,null,null,null,null,null,null,null,null,null,null,null,null,null,null,null,null,0,0,null,null,null,null,null,null,null,null,null,null,null,null,null,null,null,null,0,0,null,null,null,null,null,null,null,null,null,null,null,null,null,null,null,null,0,0,null,null,{"$error":"#DIV/0!"},{"$error":"#DIV/0!"},0]
[null,38,38,{"$f":"INSERT!A40","v":0},{"$f":"INSERT!B40","v":0},{"$f":"INSERT!C40","v":0},{"$f":"INSERT!D40","v":0},{"$f":"INSERT!E40","v":0},null,null,null,null,null,null,null,null,null,null,null,null,null,null,null,null,0,0,null,null,null,null,null,null,null,null,null,null,null,null,null,null,null,null,0,0,null,null,null,null,null,null,null,null,null,null,null,null,null,null,null,null,0,0,null,null,null,null,null,null,null,null,null,null,null,null,null,null,null,null,0,0,null,null,null,null,null,null,null,null,null,null,null,null,null,null,null,null,0,0,null,null,{"$error":"#DIV/0!"},{"$error":"#DIV/0!"},0]
[null,39,39,{"$f":"INSERT!A41","v":0},{"$f":"INSERT!B41","v":0},{"$f":"INSERT!C41","v":0},{"$f":"INSERT!D41","v":0},{"$f":"INSERT!E41","v":0},null,null,null,null,null,null,null,null,null,null,null,null,null,null,null,null,0,0,null,null,null,null,null,null,null,null,null,null,null,null,null,null,null,null,0,0,null,null,null,null,null,null,null,null,null,null,null,null,null,null,null,null,0,0,null,null,null,null,null,null,null,null,null,null,null,null,null,null,null,null,0,0,null,null,null,null,null,null,null,null,null,null,null,null,null,null,null,null,0,0,null,null,{"$error":"#DIV/0!"},{"$error":"#DIV/0!"},0]
[null,40,40,{"$f":"INSERT!A42","v":0},{"$f":"INSERT!B42","v":0},{"$f":"INSERT!C42","v":0},{"$f":"INSERT!D42","v":0},{"$f":"INSERT!E42","v":0},null,null,null,null,null,null,null,null,null,null,null,null,null,null,null,null,0,0,null,null,null,null,null,null,null,null,null,null,null,null,null,null,null,null,0,0,null,null,null,null,null,null,null,null,null,null,null,null,null,null,null,null,0,0,null,null,null,null,null,null,null,null,null,null,null,null,null,null,null,null,0,0,null,null,null,null,null,null,null,null,null,null,null,null,null,null,null,null,0,0,null,null,{"$error":"#DIV/0!"},{"$error":"#DIV/0!"},0]
[null,41,41,{"$f":"INSERT!A43","v":0},{"$f":"INSERT!B43","v":0},{"$f":"INSERT!C43","v":0},{"$f":"INSERT!D43","v":0},{"$f":"INSERT!E43","v":0},null,null,null,null,null,null,null,null,null,null,null,null,null,null,null,null,0,0,null,null,null,null,null,null,null,null,null,null,null,null,null,null,null,null,0,0,null,null,null,null,null,null,null,null,null,null,null,null,null,null,null,null,0,0,null,null,null,null,null,null,null,null,null,null,null,null,null,null,null,null,0,0,null,null,null,null,null,null,null,null,null,null,null,null,null,null,null,null,0,0,null,null,{"$error":"#DIV/0!"},{"$error":"#DIV/0!"},0]
[null,42,42,{"$f":"INSERT!A44","v":0},{"$f":"INSERT!B44","v":0},{"$f":"INSERT!C44","v":0},{"$f":"INSERT!D44","v":0},{"$f":"INSERT!E44","v":0},null,null,null,null,null,null,null,null,null,null,null,null,null,null,null,null,0,0,null,null,null,null,null,null,null,null,null,null,null,null,null,null,null,null,0,0,null,null,null,null,null,null,null,null,null,null,null,null,null,null,null,null,0,0,null,null,null,null,null,null,null,null,null,null,null,null,null,null,null,null,0,0,null,null,null,null,null,null,null,null,null,null,null,null,null,null,null,null,0,0,null,null,{"$error":"#DIV/0!"},{"$error":"#DIV/0!"},0]
[null,43,43,{"$f":"INSERT!A45","v":0},{"$f":"INSERT!B45","v":0},{"$f":"INSERT!C45","v":0},{"$f":"INSERT!D45","v":0},{"$f":"INSERT!E45","v":0},null,null,null,null,null,null,null,null,null,null,null,null,null,null,null,null,0,0,null,null,null,null,null,null,null,null,null,null,null,null,null,null,null,null,0,0,null,null,null,null,null,null,null,null,null,null,null,null,null,null,null,null,0,0,null,null,null,null,null,null,null,null,null,null,null,null,null,null,null,null,0,0,null,null,null,null,null,null,null,null,null,null,null,null,null,null,null,null,0,0,null,null,{"$error":"#DIV/0!"},{"$error":"#DIV/0!"},0]
[null,44,44,{"$f":"INSERT!A46","v":0},{"$f":"INSERT!B46","v":0},{"$f":"INSERT!C46","v":0},{"$f":"INSERT!D46","v":0},{"$f":"INSERT!E46","v":0},null,null,null,null,null,null,null,null,null,null,null,null,null,null,null,null,0,0,null,null,null,null,null,null,null,null,null,null,null,null,null,null,null,null,0,0,null,null,null,null,null,null,null,null,null,null,null,null,null,null,null,null,0,0,null,null,null,null,null,null,null,null,null,null,null,null,null,null,null,null,0,0,null,null,null,null,null,null,null,null,null,null,null,null,null,null,null,null,0,0,null,null,{"$error":"#DIV/0!"},{"$error":"#DIV/0!"},0]
[null,45,45,{"$f":"INSERT!A47","v":0},{"$f":"INSERT!B47","v":0},{"$f":"INSERT!C47","v":0},{"$f":"INSERT!D47","v":0},{"$f":"INSERT!E47","v":0},null,null,null,null,null,null,null,null,null,null,null,null,null,null,null,null,0,0,null,null,null,null,null,null,null,null,null,null,null,null,null,null,null,null,0,0,null,null,null,null,null,null,null,null,null,null,null,null,null,null,null,null,0,0,null,null,null,null,null,null,null,null,null,null,null,null,null,null,null,null,0,0,null,null,null,null,null,null,null,null,null,null,null,null,null,null,null,null,0,0,null,null,{"$error":"#DIV/0!"},{"$error":"#DIV/0!"},0]
[null,46,46,{"$f":"INSERT!A48","v":0},{"$f":"INSERT!B48","v":0},{"$f":"INSERT!C48","v":0},{"$f":"INSERT!D48","v":0},{"$f":"INSERT!E48","v":0},null,null,null,null,null,null,null,null,null,null,null,null,null,null,null,null,0,0,null,null,null,null,null,null,null,null,null,null,null,null,null,null,null,null,0,0,null,null,null,null,null,null,null,null,null,null,null,null,null,null,null,null,0,0,null,null,null,null,null,null,null,null,null,null,null,null,null,null,null,null,0,0,null,null,null,null,null,null,null,null,null,null,null,null,null,null,null,null,0,0,null,null,{"$error":"#DIV/0!"},{"$error":"#DIV/0!"},0]
[null,47,47,{"$f":"INSERT!A49","v":0},{"$f":"INSERT!B49","v":0},{"$f":"INSERT!C49","v":0},{"$f":"INSERT!D49","v":0},{"$f":"INSERT!E49","v":0},null,null,null,null,null,null,null,null,null,null,null,null,null,null,null,null,0,0,null,null,null,null,null,null,null,null,null,null,null,null,null,null,null,null,0,0,null,null,null,null,null,null,null,null,null,null,null,null,null,null,null,null,0,0,null,null,null,null,null,null,null,null,null,null,null,null,null,null,null,null,0,0,null,null,null,null,null,null,null,null,null,null,null,null,null,null,null,null,0,0,null,null,{"$error":"#DIV/0!"},{"$error":"#DIV/0!"},0]
[null,48,48,{"$f":"INSERT!A50","v":0},{"$f":"INSERT!B50","v":0},{"$f":"INSERT!C50","v":0},{"$f":"INSERT!D50","v":0},{"$f":"INSERT!E50","v":0},null,null,null,null,null,null,null,null,null,null,null,null,null,null,null,null,0,0,null,null,null,null,null,null,null,null,null,null,null,null,null,null,null,null,0,0,null,null,null,null,null,null,null,null,null,null,null,null,null,null,null,null,0,0,null,null,null,null,null,null,null,null,null,null,null,null,null,null,null,null,0,0,null,null,null,null,null,null,null,null,null,null,null,null,null,null,null,null,0,0,null,null,{"$error":"#DIV/0!"},{"$error":"#DIV/0!"},0]
[null,49,49,{"$f":"INSERT!A51","v":0},{"$f":"INSERT!B51","v":0},{"$f":"INSERT!C51","v":0},{"$f":"INSERT!D51","v":0},{"$f":"INSERT!E51","v":0},null,null,null,null,null,null,null,null,null,null,null,null,null,null,null,null,0,0,null,null,null,null,null,null,null,null,null,null,null,null,null,null,null,null,0,0,null,null,null,null,null,null,null,null,null,null,null,null,null,null,null,null,0,0,null,null,null,null,null,null,null,null,null,null,null,null,null,null,null,null,0,0,null,null,null,null,null,null,null,null,null,null,null,null,null,null,null,null,0,0,null,null,{"$error":"#DIV/0!"},{"$error":"#DIV/0!"},0]
[null,50,50,{"$f":"INSERT!A52","v":0},{"$f":"INSERT!B52","v":0},{"$f":"INSERT!C52","v":0},{"$f":"INSERT!D52","v":0},{"$f":"INSERT!E52","v":0},null,null,null,null,null,null,null,null,null,null,null,null,null,null,null,null,0,0,null,null,null,null,null,null,null,null,null,null,null,null,null,null,null,null,0,0,null,null,null,null,null,null,null,null,null,null,null,null,null,null,null,null,0,0,null,null,null,null,null,null,null,null,null,null,null,null,null,null,null,null,0,0,null,null,null,null,null,null,null,null,null,null,null,null,null,null,null,null,0,0,null,null,{"$error":"#DIV/0!"},{"$error":"#DIV/0!"},0]
[null,51,51,{"$f":"INSERT!A53","v":0},{"$f":"INSERT!B53","v":0},{"$f":"INSERT!C53","v":0},{"$f":"INSERT!D53","v":0},{"$f":"INSERT!E53","v":0},null,null,null,null,null,null,null,null,null,null,null,null,null,null,null,null,0,0,null,null,null,null,null,null,null,null,null,null,null,null,null,null,null,null,0,0,null,null,null,null,null,null,null,null,null,null,null,null,null,null,null,null,0,0,null,null,null,null,null,null,null,null,null,null,null,null,null,null,null,null,0,0,null,null,null,null,null,null,null,null,null,null,null,null,null,null,null,null,0,0,null,null,{"$error":"#DIV/0!"},{"$error":"#DIV/0!"},0]
[null,52,52,{"$f":"INSERT!A54","v":0},{"$f":"INSERT!B54","v":0},{"$f":"INSERT!C54","v":0},{"$f":"INSERT!D54","v":0},{"$f":"INSERT!E54","v":0},null,null,null,null,null,null,null,null,null,null,null,null,null,null,null,null,0,0,null,null,null,null,null,null,null,null,null,null,null,null,null,null,null,null,0,0,null,null,null,null,null,null,null,null,null,null,null,null,null,null,null,null,0,0,null,null,null,null,null,null,null,null,null,null,null,null,null,null,null,null,0,0,null,null,null,null,null,null,null,null,null,null,null,null,null,null,null,null,0,0,null,null,{"$error":"#DIV/0!"},{"$error":"#DIV/0!"},0]
[null,53,53,{"$f":"INSERT!A55","v":0},{"$f":"INSERT!B55","v":0},{"$f":"INSERT!C55","v":0},{"$f":"INSERT!D55","v":0},{"$f":"INSERT!E55","v":0},null,null,null,null,null,null,null,null,null,null,null,null,null,null,null,null,0,0,null,null,null,null,null,null,null,null,null,null,null,null,null,null,null,null,0,0,null,null,null,null,null,null,null,null,null,null,null,null,null,null,null,null,0,0,null,null,null,null,null,null,null,null,null,null,null,null,null,null,null,null,0,0,null,null,null,null,null,null,null,null,null,null,null,null,null,null,null,null,0,0,null,null,{"$error":"#DIV/0!"},{"$error":"#DIV/0!"},0]
[null,54,54,{"$f":"INSERT!A56","v":0},{"$f":"INSERT!B56","v":0},{"$f":"INSERT!C56","v":0},{"$f":"INSERT!D56","v":0},{"$f":"INSERT!E56","v":0},null,null,null,null,null,null,null,null,null,null,null,null,null,null,null,null,0,0,null,null,null,null,null,null,null,null,null,null,null,null,null,null,null,null,0,0,null,null,null,null,null,null,null,null,null,null,null,null,null,null,null,null,0,0,null,null,null,null,null,null,null,null,null,null,null,null,null,null,null,null,0,0,null,null,null,null,null,null,null,null,null,null,null,null,null,null,null,null,0,0,null,null,{"$error":"#DIV/0!"},{"$error":"#DIV/0!"},0]
[null,55,55,{"$f":"INSERT!A57","v":0},{"$f":"INSERT!B57","v":0},{"$f":"INSERT!C57","v":0},{"$f":"INSERT!D57","v":0},{"$f":"INSERT!E57","v":0},null,null,null,null,null,null,null,null,null,null,null,null,null,null,null,null,0,0,null,null,null,null,null,null,null,null,null,null,null,null,null,null,null,null,0,0,null,null,null,null,null,null,null,null,null,null,null,null,null,null,null,null,0,0,null,null,null,null,null,null,null,null,null,null,null,null,null,null,null,null,0,0,null,null,null,null,null,null,null,null,null,null,null,null,null,null,null,null,0,0,null,null,{"$error":"#DIV/0!"},{"$error":"#DIV/0!"},0]
[null,56,56,{"$f":"INSERT!A58","v":0},{"$f":"INSERT!B58","v":0},{"$f":"INSERT!C58","v":0},{"$f":"INSERT!D58","v":0},{"$f":"INSERT!E58","v":0},null,null,null,null,null,null,null,null,null,null,null,null,null,null,null,null,0,0,null,null,null,null,null,null,null,null,null,null,null,null,null,null,null,null,0,0,null,null,null,null,null,null,null,null,null,null,null,null,null,null,null,null,0,0,null,null,null,null,null,null,null,null,null,null,null,null,null,null,null,null,0,0,null,null,null,null,null,null,null,null,null,null,null,null,null,null,null,null,0,0,null,null,{"$error":"#DIV/0!"},{"$error":"#DIV/0!"},0]
[null,57,57,{"$f":"INSERT!A59","v":0},{"$f":"INSERT!B59","v":0},{"$f":"INSERT!C59","v":0},{"$f":"INSERT!D59","v":0},{"$f":"INSERT!E59","v":0},null,null,null,null,null,null,null,null,null,null,null,null,null,null,null,null,0,0,null,null,null,null,null,null,null,null,null,null,null,null,null,null,null,null,0,0,null,null,null,null,null,null,null,null,null,null,null,null,null,null,null,null,0,0,null,null,null,null,null,null,null,null,null,null,null,null,null,null,null,null,0,0,null,null,null,null,null,null,null,null,null,null,null,null,null,null,null,null,0,0,null,null,{"$error":"#DIV/0!"},{"$error":"#DIV/0!"},0]
[{"$f":"SUM(COUNTA(F73)+COUNT(B73))","v":2},58,58,{"$f":"INSERT!A60","v":0},{"$f":"INSERT!B60","v":0},{"$f":"INSERT!C60","v":0},{"$f":"INSERT!D60","v":0},{"$f":"INSERT!E60","v":0},null,null,null,null,null,null,null,null,null,null,null,null,null,null,null,null,0,0,null,null,null,null,null,null,null,null,null,null,null,null,null,null,null,null,0,0,null,null,null,null,null,null,null,null,null,null,null,null,null,null,null,null,0,0,null,null,null,null,null,null,null,null,null,null,null,null,null,null,null,null,0,0,null,null,null,null,null,null,null,null,null,null,null,null,null,null,null,null,0,0,null,null,{"$error":"#DIV/0!"},{"$error":"#DIV/0!"},0]
[2,59,59,{"$f":"INSERT!A61","v":0},{"$f":"INSERT!B61","v":0},{"$f":"INSERT!C61","v":0},{"$f":"INSERT!D61","v":0},{"$f":"INSERT!E61","v":0},null,null,null,null,null,null,null,null,null,null,null,null,null,null,null,null,0,0,null,null,null,null,null,null,null,null,null,null,null,null,null,null,null,null,0,0,null,null,null,null,null,null,null,null,null,null,null,null,null,null,null,null,0,0,null,null,null,null,null,null,null,null,null,null,null,null,null,null,null,null,0,0,null,null,null,null,null,null,null,null,null,null,null,null,null,null,null,null,0,0,null,null,{"$error":"#DIV/0!"},{"$error":"#DIV/0!"},0]
[2,60,60,{"$f":"INSERT!A62","v":0},{"$f":"INSERT!B62","v":0},{"$f":"INSERT!C62","v":0},{"$f":"INSERT!D62","v":0},{"$f":"INSERT!E62","v":0},null,null,null,null,null,null,null,null,null,null,null,null,null,null,null,null,0,0,null,null,null,null,null,null,null,null,null,null,null,null,null,null,null,null,0,0,null,null,null,null,null,null,null,null,null,null,null,null,null,null,null,null,0,0,null,null,null,null,null,null,null,null,null,null,null,null,null,null,null,null,0,0,null,null,null,null,null,null,null,null,null,null,null,null,null,null,null,null,0,0,null,null,{"$error":"#DIV/0!"},{"$error":"#DIV/0!"},0]
[2,61,61,{"$f":"INSERT!A63","v":0},{"$f":"INSERT!B63","v":0},{"$f":"INSERT!C63","v":0},{"$f":"INSERT!D63","v":0},{"$f":"INSERT!E63","v":0},null,null,null,null,null,null,null,null,null,null,null,null,null,null,null,null,0,0,null,null,null,null,null,null,null,null,null,null,null,null,null,null,null,null,0,0,null,null,null,null,null,null,null,null,null,null,null,null,null,null,null,null,0,0,null,null,null,null,null,null,null,null,null,null,null,null,null,null,null,null,0,0,null,null,null,null,null,null,null,null,null,null,null,null,null,null,null,null,0,0,null,null,{"$error":"#DIV/0!"},{"$error":"#DIV/0!"},0]
[2,62,62,{"$f":"INSERT!A64","v":0},{"$f":"INSERT!B64","v":0},{"$f":"INSERT!C64","v":0},{"$f":"INSERT!D64","v":0},{"$f":"INSERT!E64","v":0},null,null,null,null,null,null,null,null,null,null,null,null,null,null,null,null,0,0,null,null,null,null,null,null,null,null,null,null,null,null,null,null,null,null,0,0,null,null,null,null,null,null,null,null,null,null,null,null,null,null,null,null,0,0,null,null,null,null,null,null,null,null,null,null,null,null,null,null,null,null,0,0,null,null,null,null,null,null,null,null,null,null,null,null,null,null,null,null,0,0,null,null,{"$error":"#DIV/0!"},{"$error":"#DIV/0!"},0]
[2,63,63,{"$f":"INSERT!A65","v":0},{"$f":"INSERT!B65","v":0},{"$f":"INSERT!C65","v":0},{"$f":"INSERT!D65","v":0},{"$f":"INSERT!E65","v":0},null,null,null,null,null,null,null,null,null,null,null,null,null,null,null,null,0,0,null,null,null,null,null,null,null,null,null,null,null,null,null,null,null,null,0,0,null,null,null,null,null,null,null,null,null,null,null,null,null,null,null,null,0,0,null,null,null,null,null,null,null,null,null,null,null,null,null,null,null,null,0,0,null,null,null,null,null,null,null,null,null,null,null,null,null,null,null,null,0,0,null,null,{"$error":"#DIV/0!"},{"$error":"#DIV/0!"},0]
[2,64,64,{"$f":"INSERT!A66","v":0},{"$f":"INSERT!B66","v":0},{"$f":"INSERT!C66","v":0},{"$f":"INSERT!D66","v":0},{"$f":"INSERT!E66","v":0},null,null,null,null,null,null,null,null,null,null,null,null,null,null,null,null,0,0,null,null,null,null,null,null,null,null,null,null,null,null,null,null,null,null,0,0,null,null,null,null,null,null,null,null,null,null,null,null,null,null,null,null,0,0,null,null,null,null,null,null,null,null,null,null,null,null,null,null,null,null,0,0,null,null,null,null,null,null,null,null,null,null,null,null,null,null,null,null,0,0,null,null,{"$error":"#DIV/0!"},{"$error":"#DIV/0!"},0]
[2,65,65,{"$f":"INSERT!A67","v":0},{"$f":"INSERT!B67","v":0},{"$f":"INSERT!C67","v":0},{"$f":"INSERT!D67","v":0},{"$f":"INSERT!E67","v":0},null,null,null,null,null,null,null,null,null,null,null,null,null,null,null,null,{"$f":"SUM(I80:X80)","v":0},{"$f":"ROUND((SUM(Y80*$Y$13)/10),0)","v":0},null,null,null,null,null,null,null,null,null,null,null,null,null,null,null,null,{"$f":"SUM(AA80:AP80)","v":0},{"$f":"ROUND((SUM(AQ80*$AQ$13)/10),0)","v":0},null,null,null,null,null,null,null,null,null,null,null,null,null,null,null,null,{"$f":"SUM(AS80:BH80)","v":0},{"$f":"ROUND((SUM(BI80*$BI$13)/10),0)","v":0},null,null,null,null,null,null,null,null,null,null,null,null,null,null,null,null,{"$f":"SUM(BK80:BZ80)","v":0},{"$f":"ROUND((SUM(CA80*$CA$13)/10),0)","v":0},null,null,null,null,null,null,null,null,null,null,null,null,null,null,null,null,{"$f":"SUM(CC80:CR80)","v":0},{"$f":"ROUND((SUM(CS80*$CS$13)/10),0)","v":0},null,null,{"$f":"SUM(CU80*$CU$13)","v":{"$error":"#DIV/0!"}},{"$f":"SUM(CV80*$CV$13)","v":{"$error":"#DIV/0!"}},{"$f":"ROUND(IF($CX$13=1,CW80,IF($CX$13=2,(CX80+CW80)/2)),0)","v":0}]
[2,{"$f":"B80+1","v":66},66,{"$f":"INSERT!A68","v":0},{"$f":"INSERT!B68","v":0},{"$f":"INSERT!C68","v":0},{"$f":"INSERT!D68","v":0},{"$f":"INSERT!E68","v":0},null,null,null,null,null,null,null,null,null,null,null,null,null,null,null,null,0,0,null,null,null,null,null,null,null,null,null,null,null,null,null,null,null,null,0,0,null,null,null,null,null,null,null,null,null,null,null,null,null,null,null,null,0,0,null,null,null,null,null,null,null,null,null,null,null,null,null,null,null,null,0,0,null,null,null,null,null,null,null,null,null,null,null,null,null,null,null,null,0,0,null,null,{"$error":"#DIV/0!"},{"$error":"#DIV/0!"},0]
[2,67,67,{"$f":"INSERT!A69","v":0},{"$f":"INSERT!B69","v":0},{"$f":"INSERT!C69","v":0},{"$f":"INSERT!D69","v":0},{"$f":"INSERT!E69","v":0},null,null,null,null,null,null,null,null,null,null,null,null,null,null,null,null,0,0,null,null,null,null,null,null,null,null,null,null,null,null,null,null,null,null,0,0,null,null,null,null,null,null,null,null,null,null,null,null,null,null,null,null,0,0,null,null,null,null,null,null,null,null,null,null,null,null,null,null,null,null,0,0,null,null,null,null,null,null,null,null,null,null,null,null,null,null,null,null,0,0,null,null,{"$error":"#DIV/0!"},{"$error":"#DIV/0!"},0]
[2,68,68,{"$f":"INSERT!A70","v":0},{"$f":"INSERT!B70","v":0},{"$f":"INSERT!C70","v":0},{"$f":"INSERT!D70","v":0},{"$f":"INSERT!E70","v":0},null,null,null,null,null,null,null,null,null,null,null,null,null,null,null,null,0,0,null,null,null,null,null,null,null,null,null,null,null,null,null,null,null,null,0,0,null,null,null,null,null,null,null,null,null,null,null,null,null,null,null,null,0,0,null,null,null,null,null,null,null,null,null,null,null,null,null,null,null,null,0,0,null,null,null,null,null,null,null,null,null,null,null,null,null,null,null,null,0,0,null,null,{"$error":"#DIV/0!"},{"$error":"#DIV/0!"},0]
[2,69,69,{"$f":"INSERT!A71","v":0},{"$f":"INSERT!B71","v":0},{"$f":"INSERT!C71","v":0},{"$f":"INSERT!D71","v":0},{"$f":"INSERT!E71","v":0},null,null,null,null,null,null,null,null,null,null,null,null,null,null,null,null,0,0,null,null,null,null,null,null,null,null,null,null,null,null,null,null,null,null,0,0,null,null,null,null,null,null,null,null,null,null,null,null,null,null,null,null,0,0,null,null,null,null,null,null,null,null,null,null,null,null,null,null,null,null,0,0,null,null,null,null,null,null,null,null,null,null,null,null,null,null,null,null,0,0,null,null,{"$error":"#DIV/0!"},{"$error":"#DIV/0!"},0]
[2,70,70,{"$f":"INSERT!A72","v":0},{"$f":"INSERT!B72","v":0},{"$f":"INSERT!C72","v":0},{"$f":"INSERT!D72","v":0},{"$f":"INSERT!E72","v":0},null,null,null,null,null,null,null,null,null,null,null,null,null,null,null,null,0,0,null,null,null,null,null,null,null,null,null,null,null,null,null,null,null,null,0,0,null,null,null,null,null,null,null,null,null,null,null,null,null,null,null,null,0,0,null,null,null,null,null,null,null,null,null,null,null,null,null,null,null,null,0,0,null,null,null,null,null,null,null,null,null,null,null,null,null,null,null,null,0,0,null,null,{"$error":"#DIV/0!"},{"$error":"#DIV/0!"},0]
[2,71,71,{"$f":"INSERT!A73","v":0},{"$f":"INSERT!B73","v":0},{"$f":"INSERT!C73","v":0},{"$f":"INSERT!D73","v":0},{"$f":"INSERT!E73","v":0},null,null,null,null,null,null,null,null,null,null,null,null,null,null,null,null,0,0,null,null,null,null,null,null,null,null,null,null,null,null,null,null,null,null,0,0,null,null,null,null,null,null,null,null,null,null,null,null,null,null,null,null,0,0,null,null,null,null,null,null,null,null,null,null,null,null,null,null,null,null,0,0,null,null,null,null,null,null,null,null,null,null,null,null,null,null,null,null,0,0,null,null,{"$error":"#DIV/0!"},{"$error":"#DIV/0!"},0]
[2,72,72,{"$f":"INSERT!A74","v":0},{"$f":"INSERT!B74","v":0},{"$f":"INSERT!C74","v":0},{"$f":"INSERT!D74","v":0},{"$f":"INSERT!E74","v":0},null,null,null,null,null,null,null,null,null,null,null,null,null,null,null,null,0,0,null,null,null,null,null,null,null,null,null,null,null,null,null,null,null,null,0,0,null,null,null,null,null,null,null,null,null,null,null,null,null,null,null,null,0,0,null,null,null,null,null,null,null,null,null,null,null,null,null,null,null,null,0,0,null,null,null,null,null,null,null,null,null,null,null,null,null,null,null,null,0,0,null,null,{"$error":"#DIV/0!"},{"$error":"#DIV/0!"},0]
[2,73,73,{"$f":"INSERT!A75","v":0},{"$f":"INSERT!B75","v":0},{"$f":"INSERT!C75","v":0},{"$f":"INSERT!D75","v":0},{"$f":"INSERT!E75","v":0},null,null,null,null,null,null,null,null,null,null,null,null,null,null,null,null,0,0,null,null,null,null,null,null,null,null,null,null,null,null,null,null,null,null,0,0,null,null,null,null,null,null,null,null,null,null,null,null,null,null,null,null,0,0,null,null,null,null,null,null,null,null,null,null,null,null,null,null,null,null,0,0,null,null,null,null,null,null,null,null,null,null,null,null,null,null,null,null,0,0,null,null,{"$error":"#DIV/0!"},{"$error":"#DIV/0!"},0]
[2,74,74,{"$f":"INSERT!A76","v":0},{"$f":"INSERT!B76","v":0},{"$f":"INSERT!C76","v":0},{"$f":"INSERT!D76","v":0},{"$f":"INSERT!E76","v":0},null,null,null,null,null,null,null,null,null,null,null,null,null,null,null,null,0,0,null,null,null,null,null,null,null,null,null,null,null,null,null,null,null,null,0,0,null,null,null,null,null,null,null,null,null,null,null,null,null,null,null,null,0,0,null,null,null,null,null,null,null,null,null,null,null,null,null,null,null,null,0,0,null,null,null,null,null,null,null,null,null,null,null,null,null,null,null,null,0,0,null,null,{"$error":"#DIV/0!"},{"$error":"#DIV/0!"},0]
[2,75,75,{"$f":"INSERT!A77","v":0},{"$f":"INSERT!B77","v":0},{"$f":"INSERT!C77","v":0},{"$f":"INSERT!D77","v":0},{"$f":"INSERT!E77","v":0},null,null,null,null,null,null,null,null,null,null,null,null,null,null,null,null,0,0,null,null,null,null,null,null,null,null,null,null,null,null,null,null,null,null,0,0,null,null,null,null,null,null,null,null,null,null,null,null,null,null,null,null,0,0,null,null,null,null,null,null,null,null,null,null,null,null,null,null,null,null,0,0,null,null,null,null,null,null,null,null,null,null,null,null,null,null,null,null,0,0,null,null,{"$error":"#DIV/0!"},{"$error":"#DIV/0!"},0]
[2,76,76,{"$f":"INSERT!A78","v":0},{"$f":"INSERT!B78","v":0},{"$f":"INSERT!C78","v":0},{"$f":"INSERT!D78","v":0},{"$f":"INSERT!E78","v":0},null,null,null,null,null,null,null,null,null,null,null,null,null,null,null,null,0,0,null,null,null,null,null,null,null,null,null,null,null,null,null,null,null,null,0,0,null,null,null,null,null,null,null,null,null,null,null,null,null,null,null,null,0,0,null,null,null,null,null,null,null,null,null,null,null,null,null,null,null,null,0,0,null,null,null,null,null,null,null,null,null,null,null,null,null,null,null,null,0,0,null,null,{"$error":"#DIV/0!"},{"$error":"#DIV/0!"},0]
[2,77,77,{"$f":"INSERT!A79","v":0},{"$f":"INSERT!B79","v":0},{"$f":"INSERT!C79","v":0},{"$f":"INSERT!D79","v":0},{"$f":"INSERT!E79","v":0},null,null,null,null,null,null,null,null,null,null,null,null,null,null,null,null,0,0,null,null,null,null,null,null,null,null,null,null,null,null,null,null,null,null,0,0,null,null,null,null,null,null,null,null,null,null,null,null,null,null,null,null,0,0,null,null,null,null,null,null,null,null,null,null,null,null,null,null,null,null,0,0,null,null,null,null,null,null,null,null,null,null,null,null,null,null,null,null,0,0,null,null,{"$error":"#DIV/0!"},{"$error":"#DIV/0!"},0]
[2,78,78,{"$f":"INSERT!A80","v":0},{"$f":"INSERT!B80","v":0},{"$f":"INSERT!C80","v":0},{"$f":"INSERT!D80","v":0},{"$f":"INSERT!E80","v":0},null,null,null,null,null,null,null,null,null,null,null,null,null,null,null,null,0,0,null,null,null,null,null,null,null,null,null,null,null,null,null,null,null,null,0,0,null,null,null,null,null,null,null,null,null,null,null,null,null,null,null,null,0,0,null,null,null,null,null,null,null,null,null,null,null,null,null,null,null,null,0,0,null,null,null,null,null,null,null,null,null,null,null,null,null,null,null,null,0,0,null,null,{"$error":"#DIV/0!"},{"$error":"#DIV/0!"},0]
[2,79,79,{"$f":"INSERT!A81","v":0},{"$f":"INSERT!B81","v":0},{"$f":"INSERT!C81","v":0},{"$f":"INSERT!D81","v":0},{"$f":"INSERT!E81","v":0},null,null,null,null,null,null,null,null,null,null,null,null,null,null,null,null,0,0,null,null,null,null,null,null,null,null,null,null,null,null,null,null,null,null,0,0,null,null,null,null,null,null,null,null,null,null,null,null,null,null,null,null,0,0,null,null,null,null,null,null,null,null,null,null,null,null,null,null,null,null,0,0,null,null,null,null,null,null,null,null,null,null,null,null,null,null,null,null,0,0,null,null,{"$error":"#DIV/0!"},{"$error":"#DIV/0!"},0]
[2,80,80,{"$f":"INSERT!A82","v":0},{"$f":"INSERT!B82","v":0},{"$f":"INSERT!C82","v":0},{"$f":"INSERT!D82","v":0},{"$f":"INSERT!E82","v":0},null,null,null,null,null,null,null,null,null,null,null,null,null,null,null,null,0,0,null,null,null,null,null,null,null,null,null,null,null,null,null,null,null,null,0,0,null,null,null,null,null,null,null,null,null,null,null,null,null,null,null,null,0,0,null,null,null,null,null,null,null,null,null,null,null,null,null,null,null,null,0,0,null,null,null,null,null,null,null,null,null,null,null,null,null,null,null,null,0,0,null,null,{"$error":"#DIV/0!"},{"$error":"#DIV/0!"},0]
[2,81,81,{"$f":"INSERT!A83","v":0},{"$f":"INSERT!B83","v":0},{"$f":"INSERT!C83","v":0},{"$f":"INSERT!D83","v":0},{"$f":"INSERT!E83","v":0},null,null,null,null,null,null,null,null,null,null,null,null,null,null,null,null,0,0,null,null,null,null,null,null,null,null,null,null,null,null,null,null,null,null,0,0,null,null,null,null,null,null,null,null,null,null,null,null,null,null,null,null,0,0,null,null,null,null,null,null,null,null,null,null,null,null,null,null,null,null,0,0,null,null,null,null,null,null,null,null,null,null,null,null,null,null,null,null,0,0,null,null,{"$error":"#DIV/0!"},{"$error":"#DIV/0!"},0]
[2,82,82,{"$f":"INSERT!A84","v":0},{"$f":"INSERT!B84","v":0},{"$f":"INSERT!C84","v":0},{"$f":"INSERT!D84","v":0},{"$f":"INSERT!E84","v":0},null,null,null,null,null,null,null,null,null,null,null,null,null,null,null,null,0,0,null,null,null,null,null,null,null,null,null,null,null,null,null,null,null,null,0,0,null,null,null,null,null,null,null,null,null,null,null,null,null,null,null,null,0,0,null,null,null,null,null,null,null,null,null,null,null,null,null,null,null,null,0,0,null,null,null,null,null,null,null,null,null,null,null,null,null,null,null,null,0,0,null,null,{"$error":"#DIV/0!"},{"$error":"#DIV/0!"},0]
[2,83,83,{"$f":"INSERT!A85","v":0},{"$f":"INSERT!B85","v":0},{"$f":"INSERT!C85","v":0},{"$f":"INSERT!D85","v":0},{"$f":"INSERT!E85","v":0},null,null,null,null,null,null,null,null,null,null,null,null,null,null,null,null,0,0,null,null,null,null,null,null,null,null,null,null,null,null,null,null,null,null,0,0,null,null,null,null,null,null,null,null,null,null,null,null,null,null,null,null,0,0,null,null,null,null,null,null,null,null,null,null,null,null,null,null,null,null,0,0,null,null,null,null,null,null,null,null,null,null,null,null,null,null,null,null,0,0,null,null,{"$error":"#DIV/0!"},{"$error":"#DIV/0!"},0]
[2,84,84,{"$f":"INSERT!A86","v":0},{"$f":"INSERT!B86","v":0},{"$f":"INSERT!C86","v":0},{"$f":"INSERT!D86","v":0},{"$f":"INSERT!E86","v":0},null,null,null,null,null,null,null,null,null,null,null,null,null,null,null,null,0,0,null,null,null,null,null,null,null,null,null,null,null,null,null,null,null,null,0,0,null,null,null,null,null,null,null,null,null,null,null,null,null,null,null,null,0,0,null,null,null,null,null,null,null,null,null,null,null,null,null,null,null,null,0,0,null,null,null,null,null,null,null,null,null,null,null,null,null,null,null,null,0,0,null,null,{"$error":"#DIV/0!"},{"$error":"#DIV/0!"},0]
[2,85,85,{"$f":"INSERT!A87","v":0},{"$f":"INSERT!B87","v":0},{"$f":"INSERT!C87","v":0},{"$f":"INSERT!D87","v":0},{"$f":"INSERT!E87","v":0},null,null,null,null,null,null,null,null,null,null,null,null,null,null,null,null,0,0,null,null,null,null,null,null,null,null,null,null,null,null,null,null,null,null,0,0,null,null,null,null,null,null,null,null,null,null,null,null,null,null,null,null,0,0,null,null,null,null,null,null,null,null,null,null,null,null,null,null,null,null,0,0,null,null,null,null,null,null,null,null,null,null,null,null,null,null,null,null,0,0,null,null,{"$error":"#DIV/0!"},{"$error":"#DIV/0!"},0]
[2,86,86,{"$f":"INSERT!A88","v":0},{"$f":"INSERT!B88","v":0},{"$f":"INSERT!C88","v":0},{"$f":"INSERT!D88","v":0},{"$f":"INSERT!E88","v":0},null,null,null,null,null,null,null,null,null,null,null,null,null,null,null,null,0,0,null,null,null,null,null,null,null,null,null,null,null,null,null,null,null,null,0,0,null,null,null,null,null,null,null,null,null,null,null,null,null,null,null,null,0,0,null,null,null,null,null,null,null,null,null,null,null,null,null,null,null,null,0,0,null,null,null,null,null,null,null,null,null,null,null,null,null,null,null,null,0,0,null,null,{"$error":"#DIV/0!"},{"$error":"#DIV/0!"},0]
[2,87,87,{"$f":"INSERT!A89","v":0},{"$f":"INSERT!B89","v":0},{"$f":"INSERT!C89","v":0},{"$f":"INSERT!D89","v":0},{"$f":"INSERT!E89","v":0},null,null,null,null,null,null,null,null,null,null,null,null,null,null,null,null,0,0,null,null,null,null,null,null,null,null,null,null,null,null,null,null,null,null,0,0,null,null,null,null,null,null,null,null,null,null,null,null,null,null,null,null,0,0,null,null,null,null,null,null,null,null,null,null,null,null,null,null,null,null,0,0,null,null,null,null,null,null,null,null,null,null,null,null,null,null,null,null,0,0,null,null,{"$error":"#DIV/0!"},{"$error":"#DIV/0!"},0]
[2,88,88,{"$f":"INSERT!A90","v":0},{"$f":"INSERT!B90","v":0},{"$f":"INSERT!C90","v":0},{"$f":"INSERT!D90","v":0},{"$f":"INSERT!E90","v":0},null,null,null,null,null,null,null,null,null,null,null,null,null,null,null,null,0,0,null,null,null,null,null,null,null,null,null,null,null,null,null,null,null,null,0,0,null,null,null,null,null,null,null,null,null,null,null,null,null,null,null,null,0,0,null,null,null,null,null,null,null,null,null,null,null,null,null,null,null,null,0,0,null,null,null,null,null,null,null,null,null,null,null,null,null,null,null,null,0,0,null,null,{"$error":"#DIV/0!"},{"$error":"#DIV/0!"},0]
[2,89,89,{"$f":"INSERT!A91","v":0},{"$f":"INSERT!B91","v":0},{"$f":"INSERT!C91","v":0},{"$f":"INSERT!D91","v":0},{"$f":"INSERT!E91","v":0},null,null,null,null,null,null,null,null,null,null,null,null,null,null,null,null,0,0,null,null,null,null,null,null,null,null,null,null,null,null,null,null,null,null,0,0,null,null,null,null,null,null,null,null,null,null,null,null,null,null,null,null,0,0,null,null,null,null,null,null,null,null,null,null,null,null,null,null,null,null,0,0,null,null,null,null,null,null,null,null,null,null,null,null,null,null,null,null,0,0,null,null,{"$error":"#DIV/0!"},{"$error":"#DIV/0!"},0]
[2,90,90,{"$f":"INSERT!A92","v":0},{"$f":"INSERT!B92","v":0},{"$f":"INSERT!C92","v":0},{"$f":"INSERT!D92","v":0},{"$f":"INSERT!E92","v":0},null,null,null,null,null,null,null,null,null,null,null,null,null,null,null,null,0,0,null,null,null,null,null,null,null,null,null,null,null,null,null,null,null,null,0,0,null,null,null,null,null,null,null,null,null,null,null,null,null,null,null,null,0,0,null,null,null,null,null,null,null,null,null,null,null,null,null,null,null,null,0,0,null,null,null,null,null,null,null,null,null,null,null,null,null,null,null,null,0,0,null,null,{"$error":"#DIV/0!"},{"$error":"#DIV/0!"},0]
[2,91,91,{"$f":"INSERT!A93","v":0},{"$f":"INSERT!B93","v":0},{"$f":"INSERT!C93","v":0},{"$f":"INSERT!D93","v":0},{"$f":"INSERT!E93","v":0},null,null,null,null,null,null,null,null,null,null,null,null,null,null,null,null,0,0,null,null,null,null,null,null,null,null,null,null,null,null,null,null,null,null,0,0,null,null,null,null,null,null,null,null,null,null,null,null,null,null,null,null,0,0,null,null,null,null,null,null,null,null,null,null,null,null,null,null,null,null,0,0,null,null,null,null,null,null,null,null,null,null,null,null,null,null,null,null,0,0,null,null,{"$error":"#DIV/0!"},{"$error":"#DIV/0!"},0]
[2,92,92,{"$f":"INSERT!A94","v":0},{"$f":"INSERT!B94","v":0},{"$f":"INSERT!C94","v":0},{"$f":"INSERT!D94","v":0},{"$f":"INSERT!E94","v":0},null,null,null,null,null,null,null,null,null,null,null,null,null,null,null,null,0,0,null,null,null,null,null,null,null,null,null,null,null,null,null,null,null,null,0,0,null,null,null,null,null,null,null,null,null,null,null,null,null,null,null,null,0,0,null,null,null,null,null,null,null,null,null,null,null,null,null,null,null,null,0,0,null,null,null,null,null,null,null,null,null,null,null,null,null,null,null,null,0,0,null,null,{"$error":"#DIV/0!"},{"$error":"#DIV/0!"},0]
[2,93,93,{"$f":"INSERT!A95","v":0},{"$f":"INSERT!B95","v":0},{"$f":"INSERT!C95","v":0},{"$f":"INSERT!D95","v":0},{"$f":"INSERT!E95","v":0},null,null,null,null,null,null,null,null,null,null,null,null,null,null,null,null,0,0,null,null,null,null,null,null,null,null,null,null,null,null,null,null,null,null,0,0,null,null,null,null,null,null,null,null,null,null,null,null,null,null,null,null,0,0,null,null,null,null,null,null,null,null,null,null,null,null,null,null,null,null,0,0,null,null,null,null,null,null,null,null,null,null,null,null,null,null,null,null,0,0,null,null,{"$error":"#DIV/0!"},{"$error":"#DIV/0!"},0]
[2,94,94,{"$f":"INSERT!A96","v":0},{"$f":"INSERT!B96","v":0},{"$f":"INSERT!C96","v":0},{"$f":"INSERT!D96","v":0},{"$f":"INSERT!E96","v":0},null,null,null,null,null,null,null,null,null,null,null,null,null,null,null,null,0,0,null,null,null,null,null,null,null,null,null,null,null,null,null,null,null,null,0,0,null,null,null,null,null,null,null,null,null,null,null,null,null,null,null,null,0,0,null,null,null,null,null,null,null,null,null,null,null,null,null,null,null,null,0,0,null,null,null,null,null,null,null,null,null,null,null,null,null,null,null,null,0,0,null,null,{"$error":"#DIV/0!"},{"$error":"#DIV/0!"},0]
[2,95,95,{"$f":"INSERT!A97","v":0},{"$f":"INSERT!B97","v":0},{"$f":"INSERT!C97","v":0},{"$f":"INSERT!D97","v":0},{"$f":"INSERT!E97","v":0},null,null,null,null,null,null,null,null,null,null,null,null,null,null,null,null,0,0,null,null,null,null,null,null,null,null,null,null,null,null,null,null,null,null,0,0,null,null,null,null,null,null,null,null,null,null,null,null,null,null,null,null,0,0,null,null,null,null,null,null,null,null,null,null,null,null,null,null,null,null,0,0,null,null,null,null,null,null,null,null,null,null,null,null,null,null,null,null,0,0,null,null,{"$error":"#DIV/0!"},{"$error":"#DIV/0!"},0]
[2,96,96,{"$f":"INSERT!A98","v":0},{"$f":"INSERT!B98","v":0},{"$f":"INSERT!C98","v":0},{"$f":"INSERT!D98","v":0},{"$f":"INSERT!E98","v":0},null,null,null,null,null,null,null,null,null,null,null,null,null,null,null,null,0,0,null,null,null,null,null,null,null,null,null,null,null,null,null,null,null,null,0,0,null,null,null,null,null,null,null,null,null,null,null,null,null,null,null,null,0,0,null,null,null,null,null,null,null,null,null,null,null,null,null,null,null,null,0,0,null,null,null,null,null,null,null,null,null,null,null,null,null,null,null,null,0,0,null,null,{"$error":"#DIV/0!"},{"$error":"#DIV/0!"},0]
[2,97,97,{"$f":"INSERT!A99","v":0},{"$f":"INSERT!B99","v":0},{"$f":"INSERT!C99","v":0},{"$f":"INSERT!D99","v":0},{"$f":"INSERT!E99","v":0},null,null,null,null,null,null,null,null,null,null,null,null,null,null,null,null,{"$f":"SUM(I112:X112)","v":0},{"$f":"ROUND((SUM(Y112*$Y$13)/10),0)","v":0},null,null,null,null,null,null,null,null,null,null,null,null,null,null,null,null,{"$f":"SUM(AA112:AP112)","v":0},{"$f":"ROUND((SUM(AQ112*$AQ$13)/10),0)","v":0},null,null,null,null,null,null,null,null,null,null,null,null,null,null,null,null,{"$f":"SUM(AS112:BH112)","v":0},{"$f":"ROUND((SUM(BI112*$BI$13)/10),0)","v":0},null,null,null,null,null,null,null,null,null,null,null,null,null,null,null,null,{"$f":"SUM(BK112:BZ112)","v":0},{"$f":"ROUND((SUM(CA112*$CA$13)/10),0)","v":0},null,null,null,null,null,null,null,null,null,null,null,null,null,null,null,null,{"$f":"SUM(CC112:CR112)","v":0},{"$f":"ROUND((SUM(CS112*$CS$13)/10),0)","v":0},null,null,{"$error":"#DIV/0!"},{"$error":"#DIV/0!"},{"$f":"ROUND(IF($CX$13=1,CW112,IF($CX$13=2,(CX112+CW112)/2)),0)","v":0}]
[2,98,98,{"$f":"INSERT!A100","v":0},{"$f":"INSERT!B100","v":0},{"$f":"INSERT!C100","v":0},{"$f":"INSERT!D100","v":0},{"$f":"INSERT!E100","v":0},null,null,null,null,null,null,null,null,null,null,null,null,null,null,null,null,0,0,null,null,null,null,null,null,null,null,null,null,null,null,null,null,null,null,0,0,null,null,null,null,null,null,null,null,null,null,null,null,null,null,null,null,0,0,null,null,null,null,null,null,null,null,null,null,null,null,null,null,null,null,0,0,null,null,null,null,null,null,null,null,null,null,null,null,null,null,null,null,0,0,null,null,{"$error":"#DIV/0!"},{"$error":"#DIV/0!"},0]
[2,99,99,{"$f":"INSERT!A101","v":0},{"$f":"INSERT!B101","v":0},{"$f":"INSERT!C101","v":0},{"$f":"INSERT!D101","v":0},{"$f":"INSERT!E101","v":0},null,null,null,null,null,null,null,null,null,null,null,null,null,null,null,null,0,0,null,null,null,null,null,null,null,null,null,null,null,null,null,null,null,null,0,0,null,null,null,null,null,null,null,null,null,null,null,null,null,null,null,null,0,0,null,null,null,null,null,null,null,null,null,null,null,null,null,null,null,null,0,0,null,null,null,null,null,null,null,null,null,null,null,null,null,null,null,null,0,0,null,null,{"$error":"#DIV/0!"},{"$error":"#DIV/0!"},0]
[2,100,100,{"$f":"INSERT!A102","v":0},{"$f":"INSERT!B102","v":0},{"$f":"INSERT!C102","v":0},{"$f":"INSERT!D102","v":0},{"$f":"INSERT!E102","v":0},null,null,null,null,null,null,null,null,null,null,null,null,null,null,null,null,0,0,null,null,null,null,null,null,null,null,null,null,null,null,null,null,null,null,0,0,null,null,null,null,null,null,null,null,null,null,null,null,null,null,null,null,0,0,null,null,null,null,null,null,null,null,null,null,null,null,null,null,null,null,0,0,null,null,null,null,null,null,null,null,null,null,null,null,null,null,null,null,0,0,null,null,{"$error":"#DIV/0!"},{"$error":"#DIV/0!"},0]
[null,"Total amount of learners on mark sheet",null,null,null,"TOTAL",null,null,{"$f":"SUM(I16:I115)","v":0},{"$f":"SUM(J16:J115)","v":0},{"$f":"SUM(K16:K115)","v":0},0,0,{"$f":"SUM(N16:N115)","v":0},0,0,0,0,0,0,0,0,0,0,0,0,0,{"$f":"SUM(AB16:AB115)","v":0},{"$f":"SUM(AC16:AC115)","v":0},{"$f":"SUM(AD16:AD115)","v":0},{"$f":"SUM(AE16:AE115)","v":0},0,0,0,0,0,0,0,0,0,0,{"$f":"SUM(AP16:AP115)","v":0},{"$f":"SUM(AQ16:AQ115)","v":0},{"$f":"SUM(AR16:AR115)","v":0},{"$f":"SUM(AS16:AS115)","v":0},{"$f":"SUM(AT16:AT115)","v":0},{"$f":"SUM(AU16:AU115)","v":0},{"$f":"SUM(AV16:AV115)","v":0},{"$f":"SUM(AW16:AW115)","v":0},0,0,0,0,0,0,0,0,0,0,{"$f":"SUM(BH16:BH115)","v":0},{"$f":"SUM(BI16:BI115)","v":0},{"$f":"SUM(BJ16:BJ115)","v":0},{"$f":"SUM(BK16:BK115)","v":0},{"$f":"SUM(BL16:BL115)","v":0},{"$f":"SUM(BM16:BM115)","v":0},{"$f":"SUM(BN16:BN115)","v":0},{"$f":"SUM(BO16:BO115)","v":0},0,0,0,0,0,0,0,0,0,0,{"$f":"SUM(BZ16:BZ115)","v":0},{"$f":"SUM(CA16:CA115)","v":0},{"$f":"SUM(CB16:CB115)","v":0},{"$f":"SUM(CC16:CC115)","v":0},{"$f":"SUM(CD16:CD115)","v":0},{"$f":"SUM(CE16:CE115)","v":0},{"$f":"SUM(CF16:CF115)","v":0},{"$f":"SUM(CG16:CG115)","v":0},0,0,0,0,0,0,0,0,0,0,{"$f":"SUM(CR16:CR115)","v":0},{"$f":"SUM(CS16:CS115)","v":0},{"$f":"SUM(CT16:CT115)","v":0},{"$f":"SUM(CU16:CU115)","v":0},{"$f":"SUM(CV16:CV115)","v":0},{"$f":"SUM(CW16:CW115)","v":{"$error":"#DIV/0!"}},{"$f":"SUM(CX16:CX115)","v":{"$error":"#DIV/0!"}},{"$f":"SUM(CY16:CY115)","v":0}]
[null,null,null,null,null,"AVERAGE",null,null,{"$f":"IFERROR(SUM(I116/$B$120),\"0\")","v":"0"},{"$f":"IFERROR(SUM(J116/$B$120),\"0\")","v":"0"},"0","0","0",{"$f":"IFERROR(SUM(N116/$B$120),\"0\")","v":"0"},"0","0","0","0","0","0","0","0","0","0",{"$f":"IFERROR(SUM(Y116/$B$120),\"0\")","v":"0"},"0","0",{"$f":"IFERROR(SUM(AB116/$B$120),\"0\")","v":"0"},{"$f":"IFERROR(SUM(AC116/$B$120),\"0\")","v":"0"},{"$f":"IFERROR(SUM(AD116/$B$120),\"0\")","v":"0"},{"$f":"IFERROR(SUM(AE116/$B$120),\"0\")","v":"0"},"0","0","0","0","0","0","0","0","0","0",{"$f":"IFERROR(SUM(AP116/$B$120),\"0\")","v":"0"},{"$f":"IFERROR(SUM(AQ116/$B$120),\"0\")","v":"0"},{"$f":"IFERROR(SUM(AR116/$B$120),\"0\")","v":"0"},{"$f":"IFERROR(SUM(AS116/$B$120),\"0\")","v":"0"},{"$f":"IFERROR(SUM(AT116/$B$120),\"0\")","v":"0"},{"$f":"IFERROR(SUM(AU116/$B$120),\"0\")","v":"0"},{"$f":"IFERROR(SUM(AV116/$B$120),\"0\")","v":"0"},{"$f":"IFERROR(SUM(AW116/$B$120),\"0\")","v":"0"},"0","0","0","0","0","0","0","0","0","0",{"$f":"IFERROR(SUM(BH116/$B$120),\"0\")","v":"0"},{"$f":"IFERROR(SUM(BI116/$B$120),\"0\")","v":"0"},{"$f":"IFERROR(SUM(BJ116/$B$120),\"0\")","v":"0"},{"$f":"IFERROR(SUM(BK116/$B$120),\"0\")","v":"0"},{"$f":"IFERROR(SUM(BL116/$B$120),\"0\")","v":"0"},{"$f":"IFERROR(SUM(BM116/$B$120),\"0\")","v":"0"},{"$f":"IFERROR(SUM(BN116/$B$120),\"0\")","v":"0"},{"$f":"IFERROR(SUM(BO116/$B$120),\"0\")","v":"0"},"0","0","0","0","0","0","0","0","0","0",{"$f":"IFERROR(SUM(BZ116/$B$120),\"0\")","v":"0"},{"$f":"IFERROR(SUM(CA116/$B$120),\"0\")","v":"0"},{"$f":"IFERROR(SUM(CB116/$B$120),\"0\")","v":"0"},{"$f":"IFERROR(SUM(CC116/$B$120),\"0\")","v":"0"},{"$f":"IFERROR(SUM(CD116/$B$120),\"0\")","v":"0"},{"$f":"IFERROR(SUM(CE116/$B$120),\"0\")","v":"0"},{"$f":"IFERROR(SUM(CF116/$B$120),\"0\")","v":"0"},{"$f":"IFERROR(SUM(CG116/$B$120),\"0\")","v":"0"},"0","0","0","0","0","0","0","0","0","0",{"$f":"IFERROR(SUM(CR116/$B$120),\"0\")","v":"0"},{"$f":"IFERROR(SUM(CS116/$B$120),\"0\")","v":"0"},{"$f":"IFERROR(SUM(CT116/$B$120),\"0\")","v":"0"},{"$f":"IFERROR(SUM(CU116/$B$120),\"0\")","v":"0"},{"$f":"IFERROR(SUM(CV116/$B$120),\"0\")","v":"0"},{"$f":"IFERROR(SUM(CW116/$B$120),\"0\")","v":"0"},{"$f":"IFERROR(SUM(CX116/$B$120),\"0\")","v":"0"},{"$f":"IFERROR(SUM(CY116/$B$120),\"0\")","v":"0"}]
[null,null,null,null,null,"PERCENTAGE",null,null,{"$f":"IFERROR(ROUND((SUM(I117/I12)*100),0),\"0\")","v":"0"},{"$f":"IFERROR(ROUND((SUM(J117/J12)*100),0),\"0\")","v":"0"},"0","0","0",{"$f":"IFERROR(ROUND((SUM(N117/N12)*100),0),\"0\")","v":"0"},"0","0","0","0","0","0","0","0","0","0",{"$f":"IFERROR(ROUND((SUM(Y117/Y12)*100),0),\"0\")","v":"0"},0,0,{"$f":"IFERROR(ROUND((SUM(AB117/AB12)*100),0),\"0\")","v":"0"},{"$f":"IFERROR(ROUND((SUM(AC117/AC12)*100),0),\"0\")","v":"0"},{"$f":"IFERROR(ROUND((SUM(AD117/AD12)*100),0),\"0\")","v":"0"},{"$f":"IFERROR(ROUND((SUM(AE117/AE12)*100),0),\"0\")","v":"0"},"0","0","0","0","0","0","0","0","0","0",{"$f":"IFERROR(ROUND((SUM(AP117/AP12)*100),0),\"0\")","v":"0"},{"$f":"IFERROR(ROUND((SUM(AQ117/AQ12)*100),0),\"0\")","v":0},{"$f":"IFERROR(ROUND((SUM(AR117/AR12)*100),0),\"0\")","v":0},{"$f":"IFERROR(ROUND((SUM(AS117/AS12)*100),0),\"0\")","v":"0"},{"$f":"IFERROR(ROUND((SUM(AT117/AT12)*100),0),\"0\")","v":"0"},{"$f":"IFERROR(ROUND((SUM(AU117/AU12)*100),0),\"0\")","v":"0"},{"$f":"IFERROR(ROUND((SUM(AV117/AV12)*100),0),\"0\")","v":"0"},{"$f":"IFERROR(ROUND((SUM(AW117/AW12)*100),0),\"0\")","v":"0"},"0","0","0","0","0","0","0","0","0","0",{"$f":"IFERROR(ROUND((SUM(BH117/BH12)*100),0),\"0\")","v":"0"},{"$f":"IFERROR(ROUND((SUM(BI117/BI12)*100),0),\"0\")","v":"0"},{"$f":"IFERROR(ROUND((SUM(BJ117/BJ12)*100),0),\"0\")","v":0},{"$f":"IFERROR(ROUND((SUM(BK117/BK12)*100),0),\"0\")","v":"0"},{"$f":"IFERROR(ROUND((SUM(BL117/BL12)*100),0),\"0\")","v":"0"},{"$f":"IFERROR(ROUND((SUM(BM117/BM12)*100),0),\"0\")","v":"0"},{"$f":"IFERROR(ROUND((SUM(BN117/BN12)*100),0),\"0\")","v":"0"},{"$f":"IFERROR(ROUND((SUM(BO117/BO12)*100),0),\"0\")","v":"0"},"0","0","0","0","0","0","0","0","0","0",{"$f":"IFERROR(ROUND((SUM(BZ117/BZ12)*100),0),\"0\")","v":"0"},{"$f":"IFERROR(ROUND((SUM(CA117/CA12)*100),0),\"0\")","v":"0"},{"$f":"IFERROR(ROUND((SUM(CB117/CB12)*100),0),\"0\")","v":0},{"$f":"IFERROR(ROUND((SUM(CC117/CC12)*100),0),\"0\")","v":"0"},{"$f":"IFERROR(ROUND((SUM(CD117/CD12)*100),0),\"0\")","v":"0"},{"$f":"IFERROR(ROUND((SUM(CE117/CE12)*100),0),\"0\")","v":"0"},{"$f":"IFERROR(ROUND((SUM(CF117/CF12)*100),0),\"0\")","v":"0"},{"$f":"IFERROR(ROUND((SUM(CG117/CG12)*100),0),\"0\")","v":"0"},"0","0","0","0","0","0","0","0","0","0",{"$f":"IFERROR(ROUND((SUM(CR117/CR12)*100),0),\"0\")","v":"0"},{"$f":"IFERROR(ROUND((SUM(CS117/CS12)*100),0),\"0\")","v":"0"},{"$f":"IFERROR(ROUND((SUM(CT117/CT12)*100),0),\"0\")","v":0},{"$f":"IFERROR(ROUND((SUM(CU117/CU12)*100),0),\"0\")","v":"0"},{"$f":"IFERROR(ROUND((SUM(CV117/CV12)*100),0),\"0\")","v":"0"},{"$f":"IFERROR(ROUND((SUM(CW117/CW12)*100),0),\"0\")","v":"0"},{"$f":"IFERROR(ROUND((SUM(CX117/CX12)*100),0),\"0\")","v":"0"},{"$f":"IFERROR(ROUND((SUM(CY117/CY12)*100),0),\"0\")","v":0}]
[]
[null,{"$f":"INSERT!$E$103","v":0},null,null,null,"TOTAL HANDED IN",null,null,{"$f":"COUNT(I16:I115)","v":0},{"$f":"COUNT(J16:J115)","v":0},{"$f":"COUNT(K16:K115)","v":0},0,0,{"$f":"COUNT(N16:N115)","v":0},0,0,0,0,0,0,0,0,0,{"$f":"COUNT(X16:X115)","v":0},null,null,{"$f":"COUNT(AA16:AA115)","v":0},{"$f":"COUNT(AB16:AB115)","v":0},{"$f":"COUNT(AC16:AC115)","v":0},0,0,{"$f":"COUNT(AF16:AF115)","v":0},0,0,0,0,0,0,0,0,0,{"$f":"COUNT(AP16:AP115)","v":0},null,null,{"$f":"COUNT(AS16:AS115)","v":0},{"$f":"COUNT(AT16:AT115)","v":0},{"$f":"COUNT(AU16:AU115)","v":0},0,0,{"$f":"COUNT(AX16:AX115)","v":0},0,0,0,0,0,0,0,0,0,{"$f":"COUNT(BH16:BH115)","v":0},null,null,{"$f":"COUNT(BK16:BK115)","v":0},{"$f":"COUNT(BL16:BL115)","v":0},{"$f":"COUNT(BM16:BM115)","v":0},0,0,{"$f":"COUNT(BP16:BP115)","v":0},0,0,0,0,0,0,0,0,0,{"$f":"COUNT(BZ16:BZ115)","v":0},null,null,{"$f":"COUNT(CC16:CC115)","v":0},0,0,0,0,{"$f":"COUNT(CH16:CH115)","v":0},0,0,0,0,0,0,0,0,0,0,null,null,0,0,{"$f":"COUNT(CW16:CW115)","v":0},0]

{"sheet":"TERM4","index":6,"n_rows":123,"n_cols":44,"rows_kept":123,"cut":false,"hidden":false,"merged":[[121,38,121,39],[122,38,122,39],[120,40,120,41],[121,40,121,41],[122,40,122,41],[4,41,10,41],[3,8,3,25],[3,26,3,31],[4,40,10,40],[4,10,9,10],[4,11,9,11],[4,12,9,12],[4,39,10,39],[4,30,10,30],[4,26,10,26],[4,28,10,28],[4,35,10,35],[4,34,10,34],[4,33,10,33],[4,32,10,32],[4,31,10,31],[120,34,120,35],[120,36,120,37],[120,38,120,39],[115,1,118,4],[10,1,10,4],[10,5,10,6],[119,1,119,4],[120,26,120,28],[119,26,119,41],[4,36,10,36],[4,38,10,38],[13,1,13,6],[4,8,9,8],[4,9,9,9],[9,1,9,4],[9,5,9,6],[122,34,122,35],[121,26,121,28],[121,34,121,35],[121,32,121,33],[121,30,121,31],[4,22,9,22],[4,25,10,25],[122,26,122,28],[122,30,122,31],[122,32,122,33],[120,30,120,31],[120,32,120,33],[4,24,10,24],[4,42,10,42],[4,23,9,23],[121,36,121,37],[122,36,122,37],[1,1,1,43],[4,43,10,43],[4,37,10,37],[4,13,9,13],[4,14,9,14],[4,15,9,15],[4,16,9,16],[4,17,9,17],[4,18,9,18],[4,19,9,19],[4,20,9,20],[4,21,9,21]]}
[]
[null,"ENGINEERING GRAPHICS AND DESIGN"]
[null,null,null,null,null,null,null,null,"PROGRAM OF ASSESSMENT  :  TERM 4",null,null,null,null,null,null,null,null,null,null,null,null,null,null,null,null,null,null,null,null,null,null,null,"NOV EXAM",null,null,null,null,null,"NOV EXAM"]
[null,null,null,null,null,null,null,null,"CD12 1-point perspective",null,null,null,null,null,null,null,null,null,null,null,null,null,null,null,null,null,"NOV EXAM",null,null,null,null,null,"PAPER 1",null,null,null,null,null,"PAPER 2"]
[22,null,null,null,"School:",{"$f":"INSERT!J3","v":0},null,null,"CD 12.1","CD 12.2","CD 12.3",null,null,null,null,null,null,null,null,null,null,null,null,null,"TOTAL CD12","TOTAL","PAPER 1",null,"PAPER 2",null,"EXAM TOTAL","LEVELS","Question 1","Question 2","Question 3","Question 4","TOTAL","TOTAL","Question 1","Question 2","Question 3","Question 4","TOTAL","TOTAL"]
[null,null,null,null,"Grade:",{"$f":"INSERT!J4","v":0}]
[null,null,null,null,"Teacher:",{"$f":"INSERT!J5","v":0}]
[null,null,null,null,"HOD:",{"$f":"INSERT!J6","v":0}]
[null,null,null,null,"SES:",{"$f":"INSERT!J7","v":0}]
[]
[null,null,null,null,null,null,null,null,12.1,12.2,12.3,12.4,12.5,12.6,12.7,12.8,12.9,12.1,12.11,12.12,12.13,12.14,12.15,12.16]
[null,"No",null,"Class","Acc No","Surname","Name","Gender",null,null,null,null,null,null,null,null,null,null,null,null,null,null,null,null,{"$f":"SUM(I12:X12)","v":0},10,{"$f":"$AL$12/2","v":0},null,{"$f":"$AR$12/2","v":0},null,100,null,null,null,null,null,{"$f":"SUM(AG12:AJ12)","v":0},{"$f":"SUM(AK12*$AK$13)","v":0},null,null,null,null,{"$f":"SUM(AM12:AP12)","v":0},{"$f":"SUM(AQ12*$AQ$13)","v":0}]
[null,null,null,null,null,null,null,null,{"$f":"IF(I12>0,\"X\",\"\")","v":""},{"$f":"IF(J12>0,\"\",\"X\")","v":"X"},{"$f":"IF(K12>0,\"\",\"X\")","v":"X"},"X","X","X","X","X","X","X","X","X","X","X","X","X",{"$f":"IFERROR(SUM(100/Y12),\"0\")","v":"0"},null,{"$f":"SUM(100/AA12)*0.5","v":{"$error":"#DIV/0!"}},null,{"$f":"SUM(100/AC12)*0.5","v":{"$error":"#DIV/0!"}},{"$f":"COUNT(AG12)+COUNT(AM12)","v":0},null,null,null,null,null,null,{"$f":"IFERROR(SUM(200/AK12),\"0\")","v":"0"},null,null,null,null,null,{"$f":"IFERROR(SUM(200/AQ12),\"0\")","v":"0"}]
[null,null,null,null,null,null,null,"DATE:"]
[]
[{"$f":"SUM(COUNTA(F16)+COUNT(B16))","v":2},1,2,{"$f":"INSERT!A3","v":0},{"$f":"INSERT!B3","v":0},{"$f":"INSERT!C3","v":0},{"$f":"INSERT!D3","v":0},{"$f":"INSERT!E3","v":0},null,null,null,null,null,null,null,null,null,null,null,null,null,null,null,null,{"$f":"SUM(I16:X16)","v":0},{"$f":"ROUND((SUM(Y16*$Y$13)/10),0)","v":0},{"$f":"ROUND((AL16/2),0)","v":0},{"$f":"SUM(AA16*$AA$13)","v":{"$error":"#DIV/0!"}},{"$f":"ROUND((AR16/2),0)","v":0},{"$f":"SUM(AC16*$AC$13)","v":{"$error":"#DIV/0!"}},{"$f":"ROUND(IF($AD$13=1,(AB16*2),IF($AD$13=2,(AD16+AB16))),0)","v":0},{"$f":"IF(AE16>79.4,\"7\",IF(AE16>69.4,\"6\",IF(AE16>59.4,\"5\",IF(AE16>49.4,\"4\",IF(AE16>39.4,\"3\",IF(AE16>29.4,\"2\",IF(AE16>0,\"1\",IF(AE16=0,\"\"))))))))","v":""},null,null,null,null,{"$f":"SUM(AG16:AJ16)","v":0},{"$f":"SUM(AK16*$AK$13)","v":0},null,null,null,null,{"$f":"SUM(AM16:AP16)","v":0},{"$f":"SUM(AQ16*$AQ$13)","v":0}]
[null,{"$f":"B16+1","v":2},1,{"$f":"INSERT!A4","v":0},{"$f":"INSERT!B4","v":0},{"$f":"INSERT!C4","v":0},{"$f":"INSERT!D4","v":0},{"$f":"INSERT!E4","v":0},null,null,null,null,null,null,null,null,null,null,null,null,null,null,null,null,0,0,0,{"$error":"#DIV/0!"},0,{"$error":"#DIV/0!"},0,"",null,null,null,null,0,0,null,null,null,null,0,0]
[null,3,3,{"$f":"INSERT!A5","v":0},{"$f":"INSERT!B5","v":0},{"$f":"INSERT!C5","v":0},{"$f":"INSERT!D5","v":0},{"$f":"INSERT!E5","v":0},null,null,null,null,null,null,null,null,null,null,null,null,null,null,null,null,0,0,0,{"$error":"#DIV/0!"},0,{"$error":"#DIV/0!"},0,"",null,null,null,null,0,0,null,null,null,null,0,0]
[null,4,4,{"$f":"INSERT!A6","v":0},{"$f":"INSERT!B6","v":0},{"$f":"INSERT!C6","v":0},{"$f":"INSERT!D6","v":0},{"$f":"INSERT!E6","v":0},null,null,null,null,null,null,null,null,null,null,null,null,null,null,null,null,0,0,0,{"$error":"#DIV/0!"},0,{"$error":"#DIV/0!"},0,"",null,null,null,null,0,0,null,null,null,null,0,0]
[null,5,5,{"$f":"INSERT!A7","v":0},{"$f":"INSERT!B7","v":0},{"$f":"INSERT!C7","v":0},{"$f":"INSERT!D7","v":0},{"$f":"INSERT!E7","v":0},null,null,null,null,null,null,null,null,null,null,null,null,null,null,null,null,0,0,0,{"$error":"#DIV/0!"},0,{"$error":"#DIV/0!"},0,"",null,null,null,null,0,0,null,null,null,null,0,0]
[null,6,6,{"$f":"INSERT!A8","v":0},{"$f":"INSERT!B8","v":0},{"$f":"INSERT!C8","v":0},{"$f":"INSERT!D8","v":0},{"$f":"INSERT!E8","v":0},null,null,null,null,null,null,null,null,null,null,null,null,null,null,null,null,0,0,0,{"$error":"#DIV/0!"},0,{"$error":"#DIV/0!"},0,"",null,null,null,null,0,0,null,null,null,null,0,0]
[null,7,7,{"$f":"INSERT!A9","v":0},{"$f":"INSERT!B9","v":0},{"$f":"INSERT!C9","v":0},{"$f":"INSERT!D9","v":0},{"$f":"INSERT!E9","v":0},null,null,null,null,null,null,null,null,null,null,null,null,null,null,null,null,0,0,0,{"$error":"#DIV/0!"},0,{"$error":"#DIV/0!"},0,"",null,null,null,null,0,0,null,null,null,null,0,0]
[null,8,8,{"$f":"INSERT!A10","v":0},{"$f":"INSERT!B10","v":0},{"$f":"INSERT!C10","v":0},{"$f":"INSERT!D10","v":0},{"$f":"INSERT!E10","v":0},null,null,null,null,null,null,null,null,null,null,null,null,null,null,null,null,0,0,0,{"$error":"#DIV/0!"},0,{"$error":"#DIV/0!"},0,"",null,null,null,null,0,0,null,null,null,null,0,0]
[null,9,9,{"$f":"INSERT!A11","v":0},{"$f":"INSERT!B11","v":0},{"$f":"INSERT!C11","v":0},{"$f":"INSERT!D11","v":0},{"$f":"INSERT!E11","v":0},null,null,null,null,null,null,null,null,null,null,null,null,null,null,null,null,0,0,0,{"$error":"#DIV/0!"},0,{"$error":"#DIV/0!"},0,"",null,null,null,null,0,0,null,null,null,null,0,0]
[null,10,10,{"$f":"INSERT!A12","v":0},{"$f":"INSERT!B12","v":0},{"$f":"INSERT!C12","v":0},{"$f":"INSERT!D12","v":0},{"$f":"INSERT!E12","v":0},null,null,null,null,null,null,null,null,null,null,null,null,null,null,null,null,0,0,0,{"$error":"#DIV/0!"},0,{"$error":"#DIV/0!"},0,"",null,null,null,null,0,0,null,null,null,null,0,0]
[null,11,11,{"$f":"INSERT!A13","v":0},{"$f":"INSERT!B13","v":0},{"$f":"INSERT!C13","v":0},{"$f":"INSERT!D13","v":0},{"$f":"INSERT!E13","v":0},null,null,null,null,null,null,null,null,null,null,null,null,null,null,null,null,0,0,0,{"$error":"#DIV/0!"},0,{"$error":"#DIV/0!"},0,"",null,null,null,null,0,0,null,null,null,null,0,0]
[null,12,12,{"$f":"INSERT!A14","v":0},{"$f":"INSERT!B14","v":0},{"$f":"INSERT!C14","v":0},{"$f":"INSERT!D14","v":0},{"$f":"INSERT!E14","v":0},null,null,null,null,null,null,null,null,null,null,null,null,null,null,null,null,0,0,0,{"$error":"#DIV/0!"},0,{"$error":"#DIV/0!"},0,"",null,null,null,null,0,0,null,null,null,null,0,0]
[null,13,13,{"$f":"INSERT!A15","v":0},{"$f":"INSERT!B15","v":0},{"$f":"INSERT!C15","v":0},{"$f":"INSERT!D15","v":0},{"$f":"INSERT!E15","v":0},null,null,null,null,null,null,null,null,null,null,null,null,null,null,null,null,0,0,0,{"$error":"#DIV/0!"},0,{"$error":"#DIV/0!"},0,"",null,null,null,null,0,0,null,null,null,null,0,0]
[null,14,14,{"$f":"INSERT!A16","v":0},{"$f":"INSERT!B16","v":0},{"$f":"INSERT!C16","v":0},{"$f":"INSERT!D16","v":0},{"$f":"INSERT!E16","v":0},null,null,null,null,null,null,null,null,null,null,null,null,null,null,null,null,0,0,0,{"$error":"#DIV/0!"},0,{"$error":"#DIV/0!"},0,"",null,null,null,null,0,0,null,null,null,null,0,0]
[null,15,15,{"$f":"INSERT!A17","v":0},{"$f":"INSERT!B17","v":0},{"$f":"INSERT!C17","v":0},{"$f":"INSERT!D17","v":0},{"$f":"INSERT!E17","v":0},null,null,null,null,null,null,null,null,null,null,null,null,null,null,null,null,0,0,0,{"$error":"#DIV/0!"},0,{"$error":"#DIV/0!"},0,"",null,null,null,null,0,0,null,null,null,null,0,0]
[null,16,16,{"$f":"INSERT!A18","v":0},{"$f":"INSERT!B18","v":0},{"$f":"INSERT!C18","v":0},{"$f":"INSERT!D18","v":0},{"$f":"INSERT!E18","v":0},null,null,null,null,null,null,null,null,null,null,null,null,null,null,null,null,0,0,0,{"$error":"#DIV/0!"},0,{"$error":"#DIV/0!"},0,"",null,null,null,null,0,0,null,null,null,null,0,0]
[null,17,17,{"$f":"INSERT!A19","v":0},{"$f":"INSERT!B19","v":0},{"$f":"INSERT!C19","v":0},{"$f":"INSERT!D19","v":0},{"$f":"INSERT!E19","v":0},null,null,null,null,null,null,null,null,null,null,null,null,null,null,null,null,0,0,0,{"$error":"#DIV/0!"},0,{"$error":"#DIV/0!"},0,"",null,null,null,null,0,0,null,null,null,null,0,0]
[null,18,18,{"$f":"INSERT!A20","v":0},{"$f":"INSERT!B20","v":0},{"$f":"INSERT!C20","v":0},{"$f":"INSERT!D20","v":0},{"$f":"INSERT!E20","v":0},null,null,null,null,null,null,null,null,null,null,null,null,null,null,null,null,0,0,0,{"$error":"#DIV/0!"},0,{"$error":"#DIV/0!"},0,"",null,null,null,null,0,0,null,null,null,null,0,0]
[null,19,19,{"$f":"INSERT!A21","v":0},{"$f":"INSERT!B21","v":0},{"$f":"INSERT!C21","v":0},{"$f":"INSERT!D21","v":0},{"$f":"INSERT!E21","v":0},null,null,null,null,null,null,null,null,null,null,null,null,null,null,null,null,0,0,0,{"$error":"#DIV/0!"},0,{"$error":"#DIV/0!"},0,"",null,null,null,null,0,0,null,null,null,null,0,0]
[null,20,20,{"$f":"INSERT!A22","v":0},{"$f":"INSERT!B22","v":0},{"$f":"INSERT!C22","v":0},{"$f":"INSERT!D22","v":0},{"$f":"INSERT!E22","v":0},null,null,null,null,null,null,null,null,null,null,null,null,null,null,null,null,0,0,0,{"$error":"#DIV/0!"},0,{"$error":"#DIV/0!"},0,"",null,null,null,null,0,0,null,null,null,null,0,0]
[null,21,21,{"$f":"INSERT!A23","v":0},{"$f":"INSERT!B23","v":0},{"$f":"INSERT!C23","v":0},{"$f":"INSERT!D23","v":0},{"$f":"INSERT!E23","v":0},null,null,null,null,null,null,null,null,null,null,null,null,null,null,null,null,0,0,0,{"$error":"#DIV/0!"},0,{"$error":"#DIV/0!"},0,"",null,null,null,null,0,0,null,null,null,null,0,0]
[null,22,22,{"$f":"INSERT!A24","v":0},{"$f":"INSERT!B24","v":0},{"$f":"INSERT!C24","v":0},{"$f":"INSERT!D24","v":0},{"$f":"INSERT!E24","v":0},null,null,null,null,null,null,null,null,null,null,null,null,null,null,null,null,0,0,0,{"$error":"#DIV/0!"},0,{"$error":"#DIV/0!"},0,"",null,null,null,null,0,0,null,null,null,null,0,0]
[null,23,23,{"$f":"INSERT!A25","v":0},{"$f":"INSERT!B25","v":0},{"$f":"INSERT!C25","v":0},{"$f":"INSERT!D25","v":0},{"$f":"INSERT!E25","v":0},null,null,null,null,null,null,null,null,null,null,null,null,null,null,null,null,0,0,0,{"$error":"#DIV/0!"},0,{"$error":"#DIV/0!"},0,"",null,null,null,null,0,0,null,null,null,null,0,0]
[null,24,24,{"$f":"INSERT!A26","v":0},{"$f":"INSERT!B26","v":0},{"$f":"INSERT!C26","v":0},{"$f":"INSERT!D26","v":0},{"$f":"INSERT!E26","v":0},null,null,null,null,null,null,null,null,null,null,null,null,null,null,null,null,0,0,0,{"$error":"#DIV/0!"},0,{"$error":"#DIV/0!"},0,"",null,null,null,null,0,0,null,null,null,null,0,0]
[null,25,25,{"$f":"INSERT!A27","v":0},{"$f":"INSERT!B27","v":0},{"$f":"INSERT!C27","v":0},{"$f":"INSERT!D27","v":0},{"$f":"INSERT!E27","v":0},null,null,null,null,null,null,null,null,null,null,null,null,null,null,null,null,0,0,0,{"$error":"#DIV/0!"},0,{"$error":"#DIV/0!"},0,"",null,null,null,null,0,0,null,null,null,null,{"$f":"SUM(AM40:AP40)","v":0},{"$f":"SUM(AQ40*$AQ$13)","v":0}]
[null,26,26,{"$f":"INSERT!A28","v":0},{"$f":"INSERT!B28","v":0},{"$f":"INSERT!C28","v":0},{"$f":"INSERT!D28","v":0},{"$f":"INSERT!E28","v":0},null,null,null,null,null,null,null,null,null,null,null,null,null,null,null,null,0,0,0,{"$error":"#DIV/0!"},0,{"$error":"#DIV/0!"},0,"",null,null,null,null,0,0,null,null,null,null,0,0]
[null,27,27,{"$f":"INSERT!A29","v":0},{"$f":"INSERT!B29","v":0},{"$f":"INSERT!C29","v":0},{"$f":"INSERT!D29","v":0},{"$f":"INSERT!E29","v":0},null,null,null,null,null,null,null,null,null,null,null,null,null,null,null,null,0,0,0,{"$error":"#DIV/0!"},0,{"$error":"#DIV/0!"},0,"",null,null,null,null,0,0,null,null,null,null,0,0]
[null,28,28,{"$f":"INSERT!A30","v":0},{"$f":"INSERT!B30","v":0},{"$f":"INSERT!C30","v":0},{"$f":"INSERT!D30","v":0},{"$f":"INSERT!E30","v":0},null,null,null,null,null,null,null,null,null,null,null,null,null,null,null,null,0,0,0,{"$error":"#DIV/0!"},0,{"$error":"#DIV/0!"},0,"",null,null,null,null,0,0,null,null,null,null,0,0]
[null,29,29,{"$f":"INSERT!A31","v":0},{"$f":"INSERT!B31","v":0},{"$f":"INSERT!C31","v":0},{"$f":"INSERT!D31","v":0},{"$f":"INSERT!E31","v":0},null,null,null,null,null,null,null,null,null,null,null,null,null,null,null,null,0,0,0,{"$error":"#DIV/0!"},0,{"$error":"#DIV/0!"},0,"",null,null,null,null,0,0,null,null,null,null,0,0]
[null,30,30,{"$f":"INSERT!A32","v":0},{"$f":"INSERT!B32","v":0},{"$f":"INSERT!C32","v":0},{"$f":"INSERT!D32","v":0},{"$f":"INSERT!E32","v":0},null,null,null,null,null,null,null,null,null,null,null,null,null,null,null,null,0,0,0,{"$error":"#DIV/0!"},0,{"$error":"#DIV/0!"},0,"",null,null,null,null,0,0,null,null,null,null,0,0]
[null,31,31,{"$f":"INSERT!A33","v":0},{"$f":"INSERT!B33","v":0},{"$f":"INSERT!C33","v":0},{"$f":"INSERT!D33","v":0},{"$f":"INSERT!E33","v":0},null,null,null,null,null,null,null,null,null,null,null,null,null,null,null,null,0,0,0,{"$error":"#DIV/0!"},0,{"$error":"#DIV/0!"},0,"",null,null,null,null,0,0,null,null,null,null,0,0]
[{"$f":"SUM(COUNTA(F47)+COUNT(B47))","v":2},32,32,{"$f":"INSERT!A34","v":0},{"$f":"INSERT!B34","v":0},{"$f":"INSERT!C34","v":0},{"$f":"INSERT!D34","v":0},{"$f":"INSERT!E34","v":0},null,null,null,null,null,null,null,null,null,null,null,null,null,null,null,null,0,0,0,{"$error":"#DIV/0!"},0,{"$error":"#DIV/0!"},0,"",null,null,null,null,0,0,null,null,null,null,0,0]
[2,33,33,{"$f":"INSERT!A35","v":0},{"$f":"INSERT!B35","v":0},{"$f":"INSERT!C35","v":0},{"$f":"INSERT!D35","v":0},{"$f":"INSERT!E35","v":0},null,null,null,null,null,null,null,null,null,null,null,null,null,null,null,null,{"$f":"SUM(I48:X48)","v":0},{"$f":"ROUND((SUM(Y48*$Y$13)/10),0)","v":0},{"$f":"ROUND((AL48/2),0)","v":0},{"$f":"SUM(AA48*$AA$13)","v":{"$error":"#DIV/0!"}},{"$f":"ROUND((AR48/2),0)","v":0},{"$f":"SUM(AC48*$AC$13)","v":{"$error":"#DIV/0!"}},{"$f":"ROUND(IF($AD$13=1,(AB48*2),IF($AD$13=2,(AD48+AB48))),0)","v":0},{"$f":"IF(AE48>79.4,\"7\",IF(AE48>69.4,\"6\",IF(AE48>59.4,\"5\",IF(AE48>49.4,\"4\",IF(AE48>39.4,\"3\",IF(AE48>29.4,\"2\",IF(AE48>0,\"1\",IF(AE48=0,\"\"))))))))","v":""},null,null,null,null,{"$f":"SUM(AG48:AJ48)","v":0},{"$f":"SUM(AK48*$AK$13)","v":0},null,null,null,null,{"$f":"SUM(AM48:AP48)","v":0},{"$f":"SUM(AQ48*$AQ$13)","v":0}]
[2,{"$f":"B48+1","v":34},34,{"$f":"INSERT!A36","v":0},{"$f":"INSERT!B36","v":0},{"$f":"INSERT!C36","v":0},{"$f":"INSERT!D36","v":0},{"$f":"INSERT!E36","v":0},null,null,null,null,null,null,null,null,null,null,null,null,null,null,null,null,0,0,0,{"$error":"#DIV/0!"},0,{"$error":"#DIV/0!"},0,"",null,null,null,null,0,0,null,null,null,null,0,0]
[2,35,35,{"$f":"INSERT!A37","v":0},{"$f":"INSERT!B37","v":0},{"$f":"INSERT!C37","v":0},{"$f":"INSERT!D37","v":0},{"$f":"INSERT!E37","v":0},null,null,null,null,null,null,null,null,null,null,null,null,null,null,null,null,0,0,0,{"$error":"#DIV/0!"},0,{"$error":"#DIV/0!"},0,"",null,null,null,null,0,0,null,null,null,null,0,0]
[2,36,36,{"$f":"INSERT!A38","v":0},{"$f":"INSERT!B38","v":0},{"$f":"INSERT!C38","v":0},{"$f":"INSERT!D38","v":0},{"$f":"INSERT!E38","v":0},null,null,null,null,null,null,null,null,null,null,null,null,null,null,null,null,0,0,0,{"$error":"#DIV/0!"},0,{"$error":"#DIV/0!"},0,"",null,null,null,null,0,0,null,null,null,null,0,0]
[2,37,37,{"$f":"INSERT!A39","v":0},{"$f":"INSERT!B39","v":0},{"$f":"INSERT!C39","v":0},{"$f":"INSERT!D39","v":0},{"$f":"INSERT!E39","v":0},null,null,null,null,null,null,null,null,null,null,null,null,null,null,null,null,0,0,0,{"$error":"#DIV/0!"},0,{"$error":"#DIV/0!"},0,"",null,null,null,null,0,0,null,null,null,null,0,0]
[null,38,38,{"$f":"INSERT!A40","v":0},{"$f":"INSERT!B40","v":0},{"$f":"INSERT!C40","v":0},{"$f":"INSERT!D40","v":0},{"$f":"INSERT!E40","v":0},null,null,null,null,null,null,null,null,null,null,null,null,null,null,null,null,0,0,0,{"$error":"#DIV/0!"},0,{"$error":"#DIV/0!"},0,"",null,null,null,null,0,0,null,null,null,null,0,0]
[null,39,39,{"$f":"INSERT!A41","v":0},{"$f":"INSERT!B41","v":0},{"$f":"INSERT!C41","v":0},{"$f":"INSERT!D41","v":0},{"$f":"INSERT!E41","v":0},null,null,null,null,null,null,null,null,null,null,null,null,null,null,null,null,0,0,0,{"$error":"#DIV/0!"},0,{"$error":"#DIV/0!"},0,"",null,null,null,null,0,0,null,null,null,null,0,0]
[null,40,40,{"$f":"INSERT!A42","v":0},{"$f":"INSERT!B42","v":0},{"$f":"INSERT!C42","v":0},{"$f":"INSERT!D42","v":0},{"$f":"INSERT!E42","v":0},null,null,null,null,null,null,null,null,null,null,null,null,null,null,null,null,0,0,0,{"$error":"#DIV/0!"},0,{"$error":"#DIV/0!"},0,"",null,null,null,null,0,0,null,null,null,null,0,0]
[null,41,41,{"$f":"INSERT!A43","v":0},{"$f":"INSERT!B43","v":0},{"$f":"INSERT!C43","v":0},{"$f":"INSERT!D43","v":0},{"$f":"INSERT!E43","v":0},null,null,null,null,null,null,null,null,null,null,null,null,null,null,null,null,0,0,0,{"$error":"#DIV/0!"},0,{"$error":"#DIV/0!"},0,"",null,null,null,null,0,0,null,null,null,null,0,0]
[null,42,42,{"$f":"INSERT!A44","v":0},{"$f":"INSERT!B44","v":0},{"$f":"INSERT!C44","v":0},{"$f":"INSERT!D44","v":0},{"$f":"INSERT!E44","v":0},null,null,null,null,null,null,null,null,null,null,null,null,null,null,null,null,0,0,0,{"$error":"#DIV/0!"},0,{"$error":"#DIV/0!"},0,"",null,null,null,null,0,0,null,null,null,null,0,0]
[null,43,43,{"$f":"INSERT!A45","v":0},{"$f":"INSERT!B45","v":0},{"$f":"INSERT!C45","v":0},{"$f":"INSERT!D45","v":0},{"$f":"INSERT!E45","v":0},null,null,null,null,null,null,null,null,null,null,null,null,null,null,null,null,0,0,0,{"$error":"#DIV/0!"},0,{"$error":"#DIV/0!"},0,"",null,null,null,null,0,0,null,null,null,null,0,0]
[null,44,44,{"$f":"INSERT!A46","v":0},{"$f":"INSERT!B46","v":0},{"$f":"INSERT!C46","v":0},{"$f":"INSERT!D46","v":0},{"$f":"INSERT!E46","v":0},null,null,null,null,null,null,null,null,null,null,null,null,null,null,null,null,0,0,0,{"$error":"#DIV/0!"},0,{"$error":"#DIV/0!"},0,"",null,null,null,null,0,0,null,null,null,null,0,0]
[null,45,45,{"$f":"INSERT!A47","v":0},{"$f":"INSERT!B47","v":0},{"$f":"INSERT!C47","v":0},{"$f":"INSERT!D47","v":0},{"$f":"INSERT!E47","v":0},null,null,null,null,null,null,null,null,null,null,null,null,null,null,null,null,0,0,0,{"$error":"#DIV/0!"},0,{"$error":"#DIV/0!"},0,"",null,null,null,null,0,0,null,null,null,null,0,0]
[null,46,46,{"$f":"INSERT!A48","v":0},{"$f":"INSERT!B48","v":0},{"$f":"INSERT!C48","v":0},{"$f":"INSERT!D48","v":0},{"$f":"INSERT!E48","v":0},null,null,null,null,null,null,null,null,null,null,null,null,null,null,null,null,0,0,0,{"$error":"#DIV/0!"},0,{"$error":"#DIV/0!"},0,"",null,null,null,null,0,0,null,null,null,null,0,0]
[null,47,47,{"$f":"INSERT!A49","v":0},{"$f":"INSERT!B49","v":0},{"$f":"INSERT!C49","v":0},{"$f":"INSERT!D49","v":0},{"$f":"INSERT!E49","v":0},null,null,null,null,null,null,null,null,null,null,null,null,null,null,null,null,0,0,0,{"$error":"#DIV/0!"},0,{"$error":"#DIV/0!"},0,"",null,null,null,null,0,0,null,null,null,null,0,0]
[null,48,48,{"$f":"INSERT!A50","v":0},{"$f":"INSERT!B50","v":0},{"$f":"INSERT!C50","v":0},{"$f":"INSERT!D50","v":0},{"$f":"INSERT!E50","v":0},null,null,null,null,null,null,null,null,null,null,null,null,null,null,null,null,0,0,0,{"$error":"#DIV/0!"},0,{"$error":"#DIV/0!"},0,"",null,null,null,null,0,0,null,null,null,null,0,0]
[null,49,49,{"$f":"INSERT!A51","v":0},{"$f":"INSERT!B51","v":0},{"$f":"INSERT!C51","v":0},{"$f":"INSERT!D51","v":0},{"$f":"INSERT!E51","v":0},null,null,null,null,null,null,null,null,null,null,null,null,null,null,null,null,0,0,0,{"$error":"#DIV/0!"},0,{"$error":"#DIV/0!"},0,"",null,null,null,null,0,0,null,null,null,null,0,0]
[null,50,50,{"$f":"INSERT!A52","v":0},{"$f":"INSERT!B52","v":0},{"$f":"INSERT!C52","v":0},{"$f":"INSERT!D52","v":0},{"$f":"INSERT!E52","v":0},null,null,null,null,null,null,null,null,null,null,null,null,null,null,null,null,0,0,0,{"$error":"#DIV/0!"},0,{"$error":"#DIV/0!"},0,"",null,null,null,null,0,0,null,null,null,null,0,0]
[null,51,51,{"$f":"INSERT!A53","v":0},{"$f":"INSERT!B53","v":0},{"$f":"INSERT!C53","v":0},{"$f":"INSERT!D53","v":0},{"$f":"INSERT!E53","v":0},null,null,null,null,null,null,null,null,null,null,null,null,null,null,null,null,0,0,0,{"$error":"#DIV/0!"},0,{"$error":"#DIV/0!"},0,"",null,null,null,null,0,0,null,null,null,null,0,0]
[null,52,52,{"$f":"INSERT!A54","v":0},{"$f":"INSERT!B54","v":0},{"$f":"INSERT!C54","v":0},{"$f":"INSERT!D54","v":0},{"$f":"INSERT!E54","v":0},null,null,null,null,null,null,null,null,null,null,null,null,null,null,null,null,0,0,0,{"$error":"#DIV/0!"},0,{"$error":"#DIV/0!"},0,"",null,null,null,null,0,0,null,null,null,null,0,0]
[null,53,53,{"$f":"INSERT!A55","v":0},{"$f":"INSERT!B55","v":0},{"$f":"INSERT!C55","v":0},{"$f":"INSERT!D55","v":0},{"$f":"INSERT!E55","v":0},null,null,null,null,null,null,null,null,null,null,null,null,null,null,null,null,0,0,0,{"$error":"#DIV/0!"},0,{"$error":"#DIV/0!"},0,"",null,null,null,null,0,0,null,null,null,null,0,0]
[null,54,54,{"$f":"INSERT!A56","v":0},{"$f":"INSERT!B56","v":0},{"$f":"INSERT!C56","v":0},{"$f":"INSERT!D56","v":0},{"$f":"INSERT!E56","v":0},null,null,null,null,null,null,null,null,null,null,null,null,null,null,null,null,0,0,0,{"$error":"#DIV/0!"},0,{"$error":"#DIV/0!"},0,"",null,null,null,null,0,0,null,null,null,null,0,0]
[null,55,55,{"$f":"INSERT!A57","v":0},{"$f":"INSERT!B57","v":0},{"$f":"INSERT!C57","v":0},{"$f":"INSERT!D57","v":0},{"$f":"INSERT!E57","v":0},null,null,null,null,null,null,null,null,null,null,null,null,null,null,null,null,0,0,0,{"$error":"#DIV/0!"},0,{"$error":"#DIV/0!"},0,"",null,null,null,null,0,0,null,null,null,null,0,0]
[null,56,56,{"$f":"INSERT!A58","v":0},{"$f":"INSERT!B58","v":0},{"$f":"INSERT!C58","v":0},{"$f":"INSERT!D58","v":0},{"$f":"INSERT!E58","v":0},null,null,null,null,null,null,null,null,null,null,null,null,null,null,null,null,0,0,0,{"$error":"#DIV/0!"},0,{"$error":"#DIV/0!"},0,"",null,null,null,null,0,0,null,null,null,null,0,0]
[null,57,57,{"$f":"INSERT!A59","v":0},{"$f":"INSERT!B59","v":0},{"$f":"INSERT!C59","v":0},{"$f":"INSERT!D59","v":0},{"$f":"INSERT!E59","v":0},null,null,null,null,null,null,null,null,null,null,null,null,null,null,null,null,0,0,0,{"$error":"#DIV/0!"},0,{"$error":"#DIV/0!"},0,"",null,null,null,null,0,0,null,null,null,null,0,0]
[{"$f":"SUM(COUNTA(F73)+COUNT(B73))","v":2},58,58,{"$f":"INSERT!A60","v":0},{"$f":"INSERT!B60","v":0},{"$f":"INSERT!C60","v":0},{"$f":"INSERT!D60","v":0},{"$f":"INSERT!E60","v":0},null,null,null,null,null,null,null,null,null,null,null,null,null,null,null,null,0,0,0,{"$error":"#DIV/0!"},0,{"$error":"#DIV/0!"},0,"",null,null,null,null,0,0,null,null,null,null,0,0]
[2,59,59,{"$f":"INSERT!A61","v":0},{"$f":"INSERT!B61","v":0},{"$f":"INSERT!C61","v":0},{"$f":"INSERT!D61","v":0},{"$f":"INSERT!E61","v":0},null,null,null,null,null,null,null,null,null,null,null,null,null,null,null,null,0,0,0,{"$error":"#DIV/0!"},0,{"$error":"#DIV/0!"},0,"",null,null,null,null,0,0,null,null,null,null,0,0]
[2,60,60,{"$f":"INSERT!A62","v":0},{"$f":"INSERT!B62","v":0},{"$f":"INSERT!C62","v":0},{"$f":"INSERT!D62","v":0},{"$f":"INSERT!E62","v":0},null,null,null,null,null,null,null,null,null,null,null,null,null,null,null,null,0,0,0,{"$error":"#DIV/0!"},0,{"$error":"#DIV/0!"},0,"",null,null,null,null,0,0,null,null,null,null,0,0]
[2,61,61,{"$f":"INSERT!A63","v":0},{"$f":"INSERT!B63","v":0},{"$f":"INSERT!C63","v":0},{"$f":"INSERT!D63","v":0},{"$f":"INSERT!E63","v":0},null,null,null,null,null,null,null,null,null,null,null,null,null,null,null,null,0,0,0,{"$error":"#DIV/0!"},0,{"$error":"#DIV/0!"},0,"",null,null,null,null,0,0,null,null,null,null,0,0]
[2,62,62,{"$f":"INSERT!A64","v":0},{"$f":"INSERT!B64","v":0},{"$f":"INSERT!C64","v":0},{"$f":"INSERT!D64","v":0},{"$f":"INSERT!E64","v":0},null,null,null,null,null,null,null,null,null,null,null,null,null,null,null,null,0,0,0,{"$error":"#DIV/0!"},0,{"$error":"#DIV/0!"},0,"",null,null,null,null,0,0,null,null,null,null,0,0]
[2,63,63,{"$f":"INSERT!A65","v":0},{"$f":"INSERT!B65","v":0},{"$f":"INSERT!C65","v":0},{"$f":"INSERT!D65","v":0},{"$f":"INSERT!E65","v":0},null,null,null,null,null,null,null,null,null,null,null,null,null,null,null,null,0,0,0,{"$error":"#DIV/0!"},0,{"$error":"#DIV/0!"},0,"",null,null,null,null,0,0,null,null,null,null,0,0]
[2,64,64,{"$f":"INSERT!A66","v":0},{"$f":"INSERT!B66","v":0},{"$f":"INSERT!C66","v":0},{"$f":"INSERT!D66","v":0},{"$f":"INSERT!E66","v":0},null,null,null,null,null,null,null,null,null,null,null,null,null,null,null,null,0,0,0,{"$error":"#DIV/0!"},0,{"$error":"#DIV/0!"},0,"",null,null,null,null,0,0,null,null,null,null,0,0]
[2,65,65,{"$f":"INSERT!A67","v":0},{"$f":"INSERT!B67","v":0},{"$f":"INSERT!C67","v":0},{"$f":"INSERT!D67","v":0},{"$f":"INSERT!E67","v":0},null,null,null,null,null,null,null,null,null,null,null,null,null,null,null,null,{"$f":"SUM(I80:X80)","v":0},{"$f":"ROUND((SUM(Y80*$Y$13)/10),0)","v":0},{"$f":"ROUND((AL80/2),0)","v":0},{"$f":"SUM(AA80*$AA$13)","v":{"$error":"#DIV/0!"}},{"$f":"ROUND((AR80/2),0)","v":0},{"$f":"SUM(AC80*$AC$13)","v":{"$error":"#DIV/0!"}},{"$f":"ROUND(IF($AD$13=1,(AB80*2),IF($AD$13=2,(AD80+AB80))),0)","v":0},{"$f":"IF(AE80>79.4,\"7\",IF(AE80>69.4,\"6\",IF(AE80>59.4,\"5\",IF(AE80>49.4,\"4\",IF(AE80>39.4,\"3\",IF(AE80>29.4,\"2\",IF(AE80>0,\"1\",IF(AE80=0,\"\"))))))))","v":""},null,null,null,null,{"$f":"SUM(AG80:AJ80)","v":0},{"$f":"SUM(AK80*$AK$13)","v":0},null,null,null,null,{"$f":"SUM(AM80:AP80)","v":0},{"$f":"SUM(AQ80*$AQ$13)","v":0}]
[2,{"$f":"B80+1","v":66},66,{"$f":"INSERT!A68","v":0},{"$f":"INSERT!B68","v":0},{"$f":"INSERT!C68","v":0},{"$f":"INSERT!D68","v":0},{"$f":"INSERT!E68","v":0},null,null,null,null,null,null,null,null,null,null,null,null,null,null,null,null,0,0,0,{"$error":"#DIV/0!"},0,{"$error":"#DIV/0!"},0,"",null,null,null,null,0,0,null,null,null,null,0,0]
[2,67,67,{"$f":"INSERT!A69","v":0},{"$f":"INSERT!B69","v":0},{"$f":"INSERT!C69","v":0},{"$f":"INSERT!D69","v":0},{"$f":"INSERT!E69","v":0},null,null,null,null,null,null,null,null,null,null,null,null,null,null,null,null,0,0,0,{"$error":"#DIV/0!"},0,{"$error":"#DIV/0!"},0,"",null,null,null,null,0,0,null,null,null,null,0,0]
[2,68,68,{"$f":"INSERT!A70","v":0},{"$f":"INSERT!B70","v":0},{"$f":"INSERT!C70","v":0},{"$f":"INSERT!D70","v":0},{"$f":"INSERT!E70","v":0},null,null,null,null,null,null,null,null,null,null,null,null,null,null,null,null,0,0,0,{"$error":"#DIV/0!"},0,{"$error":"#DIV/0!"},0,"",null,null,null,null,0,0,null,null,null,null,0,0]
[2,69,69,{"$f":"INSERT!A71","v":0},{"$f":"INSERT!B71","v":0},{"$f":"INSERT!C71","v":0},{"$f":"INSERT!D71","v":0},{"$f":"INSERT!E71","v":0},null,null,null,null,null,null,null,null,null,null,null,null,null,null,null,null,0,0,0,{"$error":"#DIV/0!"},0,{"$error":"#DIV/0!"},0,"",null,null,null,null,0,0,null,null,null,null,0,0]
[2,70,70,{"$f":"INSERT!A72","v":0},{"$f":"INSERT!B72","v":0},{"$f":"INSERT!C72","v":0},{"$f":"INSERT!D72","v":0},{"$f":"INSERT!E72","v":0},null,null,null,null,null,null,null,null,null,null,null,null,null,null,null,null,0,0,0,{"$error":"#DIV/0!"},0,{"$error":"#DIV/0!"},0,"",null,null,null,null,0,0,null,null,null,null,0,0]
[2,71,71,{"$f":"INSERT!A73","v":0},{"$f":"INSERT!B73","v":0},{"$f":"INSERT!C73","v":0},{"$f":"INSERT!D73","v":0},{"$f":"INSERT!E73","v":0},null,null,null,null,null,null,null,null,null,null,null,null,null,null,null,null,0,0,0,{"$error":"#DIV/0!"},0,{"$error":"#DIV/0!"},0,"",null,null,null,null,0,0,null,null,null,null,0,0]
[2,72,72,{"$f":"INSERT!A74","v":0},{"$f":"INSERT!B74","v":0},{"$f":"INSERT!C74","v":0},{"$f":"INSERT!D74","v":0},{"$f":"INSERT!E74","v":0},null,null,null,null,null,null,null,null,null,null,null,null,null,null,null,null,0,0,0,{"$error":"#DIV/0!"},0,{"$error":"#DIV/0!"},0,"",null,null,null,null,0,0,null,null,null,null,0,0]
[2,73,73,{"$f":"INSERT!A75","v":0},{"$f":"INSERT!B75","v":0},{"$f":"INSERT!C75","v":0},{"$f":"INSERT!D75","v":0},{"$f":"INSERT!E75","v":0},null,null,null,null,null,null,null,null,null,null,null,null,null,null,null,null,0,0,0,{"$error":"#DIV/0!"},0,{"$error":"#DIV/0!"},0,"",null,null,null,null,0,0,null,null,null,null,0,0]
[2,74,74,{"$f":"INSERT!A76","v":0},{"$f":"INSERT!B76","v":0},{"$f":"INSERT!C76","v":0},{"$f":"INSERT!D76","v":0},{"$f":"INSERT!E76","v":0},null,null,null,null,null,null,null,null,null,null,null,null,null,null,null,null,0,0,0,{"$error":"#DIV/0!"},0,{"$error":"#DIV/0!"},0,"",null,null,null,null,0,0,null,null,null,null,0,0]
[2,75,75,{"$f":"INSERT!A77","v":0},{"$f":"INSERT!B77","v":0},{"$f":"INSERT!C77","v":0},{"$f":"INSERT!D77","v":0},{"$f":"INSERT!E77","v":0},null,null,null,null,null,null,null,null,null,null,null,null,null,null,null,null,0,0,0,{"$error":"#DIV/0!"},0,{"$error":"#DIV/0!"},0,"",null,null,null,null,0,0,null,null,null,null,0,0]
[2,76,76,{"$f":"INSERT!A78","v":0},{"$f":"INSERT!B78","v":0},{"$f":"INSERT!C78","v":0},{"$f":"INSERT!D78","v":0},{"$f":"INSERT!E78","v":0},null,null,null,null,null,null,null,null,null,null,null,null,null,null,null,null,0,0,0,{"$error":"#DIV/0!"},0,{"$error":"#DIV/0!"},0,"",null,null,null,null,0,0,null,null,null,null,0,0]
[2,77,77,{"$f":"INSERT!A79","v":0},{"$f":"INSERT!B79","v":0},{"$f":"INSERT!C79","v":0},{"$f":"INSERT!D79","v":0},{"$f":"INSERT!E79","v":0},null,null,null,null,null,null,null,null,null,null,null,null,null,null,null,null,0,0,0,{"$error":"#DIV/0!"},0,{"$error":"#DIV/0!"},0,"",null,null,null,null,0,0,null,null,null,null,0,0]
[2,78,78,{"$f":"INSERT!A80","v":0},{"$f":"INSERT!B80","v":0},{"$f":"INSERT!C80","v":0},{"$f":"INSERT!D80","v":0},{"$f":"INSERT!E80","v":0},null,null,null,null,null,null,null,null,null,null,null,null,null,null,null,null,0,0,0,{"$error":"#DIV/0!"},0,{"$error":"#DIV/0!"},0,"",null,null,null,null,0,0,null,null,null,null,0,0]
[2,79,79,{"$f":"INSERT!A81","v":0},{"$f":"INSERT!B81","v":0},{"$f":"INSERT!C81","v":0},{"$f":"INSERT!D81","v":0},{"$f":"INSERT!E81","v":0},null,null,null,null,null,null,null,null,null,null,null,null,null,null,null,null,0,0,0,{"$error":"#DIV/0!"},0,{"$error":"#DIV/0!"},0,"",null,null,null,null,0,0,null,null,null,null,0,0]
[2,80,80,{"$f":"INSERT!A82","v":0},{"$f":"INSERT!B82","v":0},{"$f":"INSERT!C82","v":0},{"$f":"INSERT!D82","v":0},{"$f":"INSERT!E82","v":0},null,null,null,null,null,null,null,null,null,null,null,null,null,null,null,null,0,0,0,{"$error":"#DIV/0!"},0,{"$error":"#DIV/0!"},0,"",null,null,null,null,0,0,null,null,null,null,0,0]
[2,81,81,{"$f":"INSERT!A83","v":0},{"$f":"INSERT!B83","v":0},{"$f":"INSERT!C83","v":0},{"$f":"INSERT!D83","v":0},{"$f":"INSERT!E83","v":0},null,null,null,null,null,null,null,null,null,null,null,null,null,null,null,null,0,0,0,{"$error":"#DIV/0!"},0,{"$error":"#DIV/0!"},0,"",null,null,null,null,0,0,null,null,null,null,0,0]
[2,82,82,{"$f":"INSERT!A84","v":0},{"$f":"INSERT!B84","v":0},{"$f":"INSERT!C84","v":0},{"$f":"INSERT!D84","v":0},{"$f":"INSERT!E84","v":0},null,null,null,null,null,null,null,null,null,null,null,null,null,null,null,null,0,0,0,{"$error":"#DIV/0!"},0,{"$error":"#DIV/0!"},0,"",null,null,null,null,0,0,null,null,null,null,0,0]
[2,83,83,{"$f":"INSERT!A85","v":0},{"$f":"INSERT!B85","v":0},{"$f":"INSERT!C85","v":0},{"$f":"INSERT!D85","v":0},{"$f":"INSERT!E85","v":0},null,null,null,null,null,null,null,null,null,null,null,null,null,null,null,null,0,0,0,{"$error":"#DIV/0!"},0,{"$error":"#DIV/0!"},0,"",null,null,null,null,0,0,null,null,null,null,0,0]
[2,84,84,{"$f":"INSERT!A86","v":0},{"$f":"INSERT!B86","v":0},{"$f":"INSERT!C86","v":0},{"$f":"INSERT!D86","v":0},{"$f":"INSERT!E86","v":0},null,null,null,null,null,null,null,null,null,null,null,null,null,null,null,null,0,0,0,{"$error":"#DIV/0!"},0,{"$error":"#DIV/0!"},0,"",null,null,null,null,0,0,null,null,null,null,0,0]
[2,85,85,{"$f":"INSERT!A87","v":0},{"$f":"INSERT!B87","v":0},{"$f":"INSERT!C87","v":0},{"$f":"INSERT!D87","v":0},{"$f":"INSERT!E87","v":0},null,null,null,null,null,null,null,null,null,null,null,null,null,null,null,null,0,0,0,{"$error":"#DIV/0!"},0,{"$error":"#DIV/0!"},0,"",null,null,null,null,0,0,null,null,null,null,0,0]
[2,86,86,{"$f":"INSERT!A88","v":0},{"$f":"INSERT!B88","v":0},{"$f":"INSERT!C88","v":0},{"$f":"INSERT!D88","v":0},{"$f":"INSERT!E88","v":0},null,null,null,null,null,null,null,null,null,null,null,null,null,null,null,null,0,0,0,{"$error":"#DIV/0!"},0,{"$error":"#DIV/0!"},0,"",null,null,null,null,0,0,null,null,null,null,0,0]
[2,87,87,{"$f":"INSERT!A89","v":0},{"$f":"INSERT!B89","v":0},{"$f":"INSERT!C89","v":0},{"$f":"INSERT!D89","v":0},{"$f":"INSERT!E89","v":0},null,null,null,null,null,null,null,null,null,null,null,null,null,null,null,null,0,0,0,{"$error":"#DIV/0!"},0,{"$error":"#DIV/0!"},0,"",null,null,null,null,0,0,null,null,null,null,0,0]
[2,88,88,{"$f":"INSERT!A90","v":0},{"$f":"INSERT!B90","v":0},{"$f":"INSERT!C90","v":0},{"$f":"INSERT!D90","v":0},{"$f":"INSERT!E90","v":0},null,null,null,null,null,null,null,null,null,null,null,null,null,null,null,null,0,0,0,{"$error":"#DIV/0!"},0,{"$error":"#DIV/0!"},0,"",null,null,null,null,0,0,null,null,null,null,0,0]
[2,89,89,{"$f":"INSERT!A91","v":0},{"$f":"INSERT!B91","v":0},{"$f":"INSERT!C91","v":0},{"$f":"INSERT!D91","v":0},{"$f":"INSERT!E91","v":0},null,null,null,null,null,null,null,null,null,null,null,null,null,null,null,null,0,0,0,{"$error":"#DIV/0!"},0,{"$error":"#DIV/0!"},0,"",null,null,null,null,0,0,null,null,null,null,0,0]
[2,90,90,{"$f":"INSERT!A92","v":0},{"$f":"INSERT!B92","v":0},{"$f":"INSERT!C92","v":0},{"$f":"INSERT!D92","v":0},{"$f":"INSERT!E92","v":0},null,null,null,null,null,null,null,null,null,null,null,null,null,null,null,null,0,0,0,{"$error":"#DIV/0!"},0,{"$error":"#DIV/0!"},0,"",null,null,null,null,0,0,null,null,null,null,0,0]
[2,91,91,{"$f":"INSERT!A93","v":0},{"$f":"INSERT!B93","v":0},{"$f":"INSERT!C93","v":0},{"$f":"INSERT!D93","v":0},{"$f":"INSERT!E93","v":0},null,null,null,null,null,null,null,null,null,null,null,null,null,null,null,null,0,0,0,{"$error":"#DIV/0!"},0,{"$error":"#DIV/0!"},0,"",null,null,null,null,0,0,null,null,null,null,0,0]
[2,92,92,{"$f":"INSERT!A94","v":0},{"$f":"INSERT!B94","v":0},{"$f":"INSERT!C94","v":0},{"$f":"INSERT!D94","v":0},{"$f":"INSERT!E94","v":0},null,null,null,null,null,null,null,null,null,null,null,null,null,null,null,null,0,0,0,{"$error":"#DIV/0!"},0,{"$error":"#DIV/0!"},0,"",null,null,null,null,0,0,null,null,null,null,0,0]
[2,93,93,{"$f":"INSERT!A95","v":0},{"$f":"INSERT!B95","v":0},{"$f":"INSERT!C95","v":0},{"$f":"INSERT!D95","v":0},{"$f":"INSERT!E95","v":0},null,null,null,null,null,null,null,null,null,null,null,null,null,null,null,null,0,0,0,{"$error":"#DIV/0!"},0,{"$error":"#DIV/0!"},0,"",null,null,null,null,0,0,null,null,null,null,0,0]
[2,94,94,{"$f":"INSERT!A96","v":0},{"$f":"INSERT!B96","v":0},{"$f":"INSERT!C96","v":0},{"$f":"INSERT!D96","v":0},{"$f":"INSERT!E96","v":0},null,null,null,null,null,null,null,null,null,null,null,null,null,null,null,null,0,0,0,{"$error":"#DIV/0!"},0,{"$error":"#DIV/0!"},0,"",null,null,null,null,0,0,null,null,null,null,0,0]
[2,95,95,{"$f":"INSERT!A97","v":0},{"$f":"INSERT!B97","v":0},{"$f":"INSERT!C97","v":0},{"$f":"INSERT!D97","v":0},{"$f":"INSERT!E97","v":0},null,null,null,null,null,null,null,null,null,null,null,null,null,null,null,null,0,0,0,{"$error":"#DIV/0!"},0,{"$error":"#DIV/0!"},0,"",null,null,null,null,0,0,null,null,null,null,0,0]
[2,96,96,{"$f":"INSERT!A98","v":0},{"$f":"INSERT!B98","v":0},{"$f":"INSERT!C98","v":0},{"$f":"INSERT!D98","v":0},{"$f":"INSERT!E98","v":0},null,null,null,null,null,null,null,null,null,null,null,null,null,null,null,null,0,0,0,{"$error":"#DIV/0!"},0,{"$error":"#DIV/0!"},0,"",null,null,null,null,0,0,null,null,null,null,0,0]
[2,97,97,{"$f":"INSERT!A99","v":0},{"$f":"INSERT!B99","v":0},{"$f":"INSERT!C99","v":0},{"$f":"INSERT!D99","v":0},{"$f":"INSERT!E99","v":0},null,null,null,null,null,null,null,null,null,null,null,null,null,null,null,null,{"$f":"SUM(I112:X112)","v":0},{"$f":"ROUND((SUM(Y112*$Y$13)/10),0)","v":0},0,{"$f":"SUM(AA112*$AA$13)","v":{"$error":"#DIV/0!"}},0,{"$f":"SUM(AC112*$AC$13)","v":{"$error":"#DIV/0!"}},{"$f":"ROUND(IF($AD$13=1,(AB112*2),IF($AD$13=2,(AD112+AB112))),0)","v":0},{"$f":"IF(AE112>79.4,\"7\",IF(AE112>69.4,\"6\",IF(AE112>59.4,\"5\",IF(AE112>49.4,\"4\",IF(AE112>39.4,\"3\",IF(AE112>29.4,\"2\",IF(AE112>0,\"1\",IF(AE112=0,\"\"))))))))","v":""},null,null,null,null,{"$f":"SUM(AG112:AJ112)","v":0},{"$f":"SUM(AK112*$AK$13)","v":0},null,null,null,null,{"$f":"SUM(AM112:AP112)","v":0},{"$f":"SUM(AQ112*$AQ$13)","v":0}]
[2,98,98,{"$f":"INSERT!A100","v":0},{"$f":"INSERT!B100","v":0},{"$f":"INSERT!C100","v":0},{"$f":"INSERT!D100","v":0},{"$f":"INSERT!E100","v":0},null,null,null,null,null,null,null,null,null,null,null,null,null,null,null,null,0,0,0,{"$error":"#DIV/0!"},0,{"$error":"#DIV/0!"},0,"",null,null,null,null,0,0,null,null,null,null,0,0]
[2,99,99,{"$f":"INSERT!A101","v":0},{"$f":"INSERT!B101","v":0},{"$f":"INSERT!C101","v":0},{"$f":"INSERT!D101","v":0},{"$f":"INSERT!E101","v":0},null,null,null,null,null,null,null,null,null,null,null,null,null,null,null,null,0,0,0,{"$error":"#DIV/0!"},0,{"$error":"#DIV/0!"},0,"",null,null,null,null,0,0,null,null,null,null,0,0]
[2,100,100,{"$f":"INSERT!A102","v":0},{"$f":"INSERT!B102","v":0},{"$f":"INSERT!C102","v":0},{"$f":"INSERT!D102","v":0},{"$f":"INSERT!E102","v":0},null,null,null,null,null,null,null,null,null,null,null,null,null,null,null,null,0,0,0,{"$error":"#DIV/0!"},0,{"$error":"#DIV/0!"},0,"",null,null,null,null,0,0,null,null,null,null,0,0]
[null,"Total amount of learners on mark sheet",null,null,null,"x","TOTAL",null,{"$f":"SUM(I16:I115)","v":0},{"$f":"SUM(J16:J115)","v":0},0,0,0,{"$f":"SUM(N16:N115)","v":0},0,0,0,0,0,0,0,0,0,0,0,0,0,{"$error":"#DIV/0!"},0,{"$error":"#DIV/0!"},0,null,{"$f":"SUM(AG16:AG115)","v":0},0,0,0,0,null,0,0,0,0,0,{"$f":"SUM(AR16:AR115)","v":0}]
[null,null,null,null,null,"x","AVERAGE",null,{"$f":"IFERROR(SUM(I116/$B$120),\"0\")","v":"0"},{"$f":"IFERROR(SUM(J116/$B$120),\"0\")","v":"0"},"0","0","0",{"$f":"IFERROR(SUM(N116/$B$120),\"0\")","v":"0"},"0","0","0","0","0","0","0","0","0","0","0","0","0","0","0","0","0",null,{"$f":"IFERROR(SUM(AG116/$B$120),\"0\")","v":"0"},"0","0","0","0",null,"0","0","0","0","0",{"$f":"IFERROR(SUM(AR116/$B$120),\"0\")","v":"0"}]
[null,null,null,null,null,"x","PERCENTAGE",null,{"$f":"IFERROR(ROUND((SUM(I117/I12)*100),0),\"0\")","v":"0"},{"$f":"IFERROR(ROUND((SUM(J117/J12)*100),0),\"0\")","v":"0"},"0","0","0",{"$f":"IFERROR(ROUND((SUM(N117/N12)*100),0),\"0\")","v":"0"},"0","0","0","0","0","0","0","0","0","0","0",0,"0","0","0","0",0,null,{"$f":"IFERROR(ROUND((SUM(AG117/AG12)*100),0),\"0\")","v":"0"},"0","0","0","0",null,"0","0","0","0","0",{"$f":"IFERROR(ROUND((SUM(AR117/AR12)*100),0),\"0\")","v":"0"}]
[null,null,null,null,null,"x",0]
[null,{"$f":"INSERT!$E$103","v":0},null,null,null,"x","TOTAL HANDED IN",null,{"$f":"COUNT(I16:I115)","v":0},{"$f":"COUNT(J16:J115)","v":0},{"$f":"COUNT(K16:K115)","v":0},0,0,{"$f":"COUNT(N16:N115)","v":0},0,0,0,0,0,0,0,0,0,{"$f":"COUNT(X16:X115)","v":0},null,null,"EXAM LEVELS"]
[null,null,null,null,null,"x",null,null,null,null,null,null,null,null,null,null,null,null,null,null,null,null,null,null,null,null,"LEVEL 1",null,null,null,"LEVEL 2",null,"LEVEL 3",null,"LEVEL 4",null,"LEVEL 5",null,"LEVEL 6",null,"LEVEL 7"]
[null,null,null,null,null,"x",null,null,null,null,null,null,null,null,null,null,null,null,null,null,null,null,null,null,null,null," 0 - 29 ",null,null,null," 30 - 39 ",null," 40 - 49 ",null," 50 - 59 ",null," 60 - 69 ",null," 70 - 79 ",null,"80 - 100"]
[null,null,null,null,null,"x",null,null,null,null,null,null,null,null,null,null,null,null,null,null,null,null,null,null,null,null,{"$f":"COUNTIF($AF$16:$AF$115,1)","v":0},null,null,null,{"$f":"COUNTIF($AF$16:$AF$115,2)","v":0},null,{"$f":"COUNTIF($AF$16:$AF$115,3)","v":0},null,{"$f":"COUNTIF($AF$16:$AF$115,4)","v":0},null,{"$f":"COUNTIF($AF$16:$AF$115,5)","v":0},null,{"$f":"COUNTIF($AF$16:$AF$115,6)","v":0},null,{"$f":"COUNTIF($AF$16:$AF$115,7)","v":0}]

{"sheet":"PAT Civil Detailed","index":7,"n_rows":119,"n_cols":111,"rows_kept":119,"cut":false,"hidden":true,"merged":[[5,16,10,16],[5,17,10,17],[5,25,10,25],[5,26,10,26],[5,18,10,18],[5,19,10,19],[5,20,10,20],[5,21,10,21],[5,37,10,37],[5,32,10,32],[5,33,10,33],[5,34,10,34],[5,35,10,35],[5,36,10,36],[5,27,10,27],[5,28,10,28],[5,29,10,29],[5,30,10,30],[5,31,10,31],[5,22,10,22],[5,23,10,23],[5,24,10,24],[3,1,3,2],[3,3,3,4],[4,1,4,2],[4,3,4,4],[5,11,10,11],[5,12,10,12],[5,13,10,13],[5,14,10,14],[5,15,10,15],[5,10,10,10],[5,9,10,9],[118,1,118,2],[118,3,118,4],[5,5,10,5],[5,6,10,6],[5,7,10,7],[5,8,10,8],[10,1,10,2],[10,3,10,4],[11,1,11,2],[13,1,13,4],[114,1,117,2],[114,3,114,4],[115,3,115,4],[116,3,116,4],[6,1,6,2],[6,3,6,4],[8,3,8,4],[9,1,9,2],[9,3,9,4],[5,46,10,46],[5,47,10,47],[5,52,10,52],[5,53,10,53],[5,54,10,54],[3,18,3,41],[5,42,10,42],[5,43,10,43],[5,44,10,44],[5,45,10,45],[4,18,4,25],[4,26,4,33],[4,34,4,41],[5,39,10,39],[5,40,10,40],[5,41,10,41],[5,38,10,38],[5,48,10,48],[5,51,10,51],[5,49,10,49],[5,50,10,50],[4,48,4,51],[3,48,3,51],[3,52,3,78],[5,90,10,90],[5,91,10,91],[5,86,10,86],[5,80,10,80],[5,81,10,81],[5,82,10,82],[5,83,10,83],[5,84,10,84],[5,72,10,72],[5,73,10,73],[5,74,10,74],[5,76,10,76],[5,77,10,77],[5,78,10,78],[5,75,10,75],[5,89,10,89],[5,79,10,79],[5,85,10,85],[5,105,10,105],[5,100,10,100],[5,101,10,101],[5,102,10,102],[5,103,10,103],[5,104,10,104],[5,95,10,95],[5,96,10,96],[5,97,10,97],[5,98,10,98],[5,99,10,99],[4,52,4,62],[5,63,10,63],[5,64,10,64],[5,66,10,66],[5,67,10,67],[5,68,10,68],[5,69,10,69],[4,63,4,71],[5,70,10,70],[5,71,10,71],[5,65,10,65],[5,60,10,60],[5,61,10,61],[5,62,10,62],[5,55,10,55],[5,56,10,56],[5,57,10,57],[5,58,10,58],[5,59,10,59],[1,1,1,110],[3,42,4,47],[3,5,4,10],[3,11,4,17],[3,110,10,110],[3,106,10,106],[3,107,10,107],[3,109,10,109],[3,108,10,108],[2,1,2,110],[3,100,4,101],[3,102,4,103],[3,104,4,105],[5,1,5,2],[3,90,4,92],[5,92,10,92],[5,93,10,93],[5,94,10,94],[3,93,4,99],[5,87,10,87],[5,88,10,88],[3,86,4,89],[3,79,4,85],[4,72,4,78]]}
[]
[null,"ENGINEERING GRAPHICS AND DESIGN"]
[null,"PROGRAM OF ASSESSMENT  :  PAT"]
[null,"School:",null,{"$f":"TERM1!F5","v":0},null,"1. Design Brief",null,null,null,null,null,"2. Research",null,null,null,null,null,null,"3. Freehand drawings of THREE possible design solutions",null,null,null,null,null,null,null,null,null,null,null,null,null,null,null,null,null,null,null,null,null,null,null,"4. Selecting the best freehand solution",null,null,null,null,null,"5. Working drawings and a pictorial drawing of selected solution",null,null,null,"5.1 Detailed layout drawings of the selected proposed solution of the building",null,null,null,null,null,null,null,null,null,null,null,null,null,null,null,null,null,null,null,null,null,null,null,null,null,null,"5.2 Detailed site plan",null,null,null,null,null,null,"5.3 Detailed interior perspective drawing of the reception and waiting area",null,null,null,"6. Continuous self-evaluation and the meeting of deadlines",null,null,"7. Presentation of the complete PAT file/portfolio",null,null,null,null,null,null,"Freehand drawings",null,"Instrument drawings",null,"CAD drawings",null,"TOTAL for Design Process","TOTAL for Working Drawing","4 = NO CAD / 6 = CAD","TOTAL: DRAWING METHODS","TOTAL"]
[null,"Grade:",null,{"$f":"TERM1!F6","v":0},null,null,null,null,null,null,null,null,null,null,null,null,null,null,"Solution 1",null,null,null,null,null,null,null,"Solution 2",null,null,null,null,null,null,null,"Solution 3",null,null,null,null,null,null,null,null,null,null,null,null,null,"Drawing sheet preparation",null,null,null,"5.1.1. Floor plan",null,null,null,null,null,null,null,null,null,null,"5.1.2. Sectional elevation",null,null,null,null,null,null,null,null,"5.1.3 TWO detailed elevations, showing the front view and a side view"]
[null,"Teacher:",null,{"$f":"TERM1!F7","v":0},{"$f":"TERM1!G7","v":0},"Identifying the primary problem and secondary problems in own words","Formulating of a design brief in own words","List of the given specifications and a list of your own extended specification","List of at least FIVE constraints that are relevant to the project","List of the PAT requirements together with a management plan","TOTAL","wheelchair friendly requirements, design features and fixtures","The furniture for and layouts of reception areas and waiting areasn","The design and structure of hip and valley roofs","Complete septic tank systems","Evidence that the research has been used","Bibliography/List of sources included","TOTAL","ALL the required building features and fixtures included","Correct presentation of all building features & fixtures","The position/location of the proposed future 200 m2 wing","Relative size/proportion of features to each other","Labels (2) + Dimensions (2)","Area calculation clearly shown and within constraint","Design: Functionality and effective utilization of space","TOTAL","ALL the required building features and fixtures included","Correct presentation of all building features & fixtures","The position/location of the proposed future 200 m2 wing","Relative size/proportion of features to each other","Labels (2) + Dimensions (2)","Area calculation clearly shown and within constraint","Design: Functionality and effective utilization of space","TOTAL","ALL the required building features and fixtures included","Correct presentation of all building features & fixtures","The position/location of the proposed future 200 m2 wing","Relative size/proportion of features to each other","Labels (2) + Dimensions (2)","Area calculation clearly shown and within constraint","Design: Functionality and effective utilization of space","TOTAL","Table created for an easily understandable presentation of the selection process","Using at least EIGHT relevant criteria for the evaluation","Relevant and comprehensive reasoning (evaluating and comparing) included","A rating scale to score each solution, i.e. a mark allocation for each criterion","A comprehensive summary of the reasons for the selected/final solution","TOTAL","Appropriately sized drawing sheets","Borders on all the drawing sheets of working drawings","Appropriate and complete civil title panel on the first working drawing’s drawing sheet","TOTAL","Correlation with selected freehand solution and the selection process summary","ALL internal and external walls, incl. ALL hatching detail, and the roofline","ALL doors and windows","A detailed layout of the reception and waiting area","ALL permanent fixtures, i.e. sanitary, kitchen and other required fixtures","Waste-water disposal systems (sewerage)","ALL electrical fittings and the wiring detail","Title, labels and notes","Dimensions","Suitable scale correctly indicated (1) + Cutting plane (1) + North Point (1)","TOTAL","Foundation and walls detail","Door(s) and window(s) detail","Roof detail","Labels and notes","Suitable scale selected & correctly indicated","Dimensions","Section correct according to the indicated cutting plane(s)","ALL hatching detail","TOTAL","Relevant views selected/shown","Walls and ALL other external features","Door and window detail","Roof detail, incl. rainwater items (must be a hip and rafter roof)","Waste-water disposal system (sewerage)","Drawn to same scale as the floor plan","TOTAL","Site (stand) correct drawn and ALL the given site detail/features are included","The new building, outline of proposed future wing, parking bays and ambulance zone","The septic tank system and ALL sewerage and drainage connections to the system","Suitable scale selected and indicated correctly","Dimensions, incl. reference/setting out dimension, corner heights, labels and notes","North point","TOTAL","Evidence of views/drawings and construction/method used for the drawing","Correct orientation of views and the correct HL high for a human eye view","Perspective drawing/answer (Use 7-mark rubric on page 45 of the EGD CAPS)","TOTAL","Completed checklist as evidence of continuous self-evaluation (mark out of 10 ÷ 2)","The meeting of ALL the deadlines during the development (mark out of 10 ÷2)","TOTAL","Cover page","Index","Summative assessment sheet and declaration","Correct sequencing of ALL presentation requirements","Name and numbering on ALL the presentation requirements","eneral impression of file/portfolio, e.g. binding, appearance etc. (mark out of 10 ÷ 2)","TOTAL","Freehand drawing methods and skills (See ANNEXURE A on page 23)","Neatness, line work/line quality and printing (See ANNEXURE A on page 23)","Use of drawing instruments, drawing methods and skills (See ANNEXURE A on page 23)","Neatness, line work/line quality and printing (See ANNEXURE A on page 23)","Competence displayed in using a CAD system/program (See ANNEXURE A on page 23)","Layout and correctness of the drawings presentation (See ANNEXURE A on page 23)"]
[null,"HOD:",null,{"$f":"TERM1!F8","v":0}]
[]
[]
[]
[]
[null,"Admission",null,"SURNAME","NAME",2,2,2,2,2,{"$f":"SUM(F12:J12)","v":10},2,2,2,2,1,1,{"$f":"SUM(L12:Q12)","v":10},2,2,1,2,4,2,2,{"$f":"ROUND((SUM(S12:Y12)/1.5),0)","v":10},2,2,1,2,4,2,2,{"$f":"ROUND((SUM(AA12:AG12)/1.5),0)","v":10},2,2,1,2,4,2,2,{"$f":"ROUND((SUM(AI12:AO12)/1.5),0)","v":10},2,2,2,2,2,{"$f":"SUM(AQ12:AU12)","v":10},1,2,7,{"$f":"SUM(AW12:AY12)","v":10},1,2,2,2,2,2,2,2,2,3,{"$f":"ROUND((SUM(BA12:BJ12)/2),0)","v":10},2,2,2,2,1,2,2,2,{"$f":"ROUND((SUM(BL12:BS12)/1.5),0)","v":10},1,2,2,2,2,1,{"$f":"SUM(BU12:BZ12)","v":10},2,2,2,1,2,1,{"$f":"SUM(CB12:CG12)","v":10},1,2,7,{"$f":"SUM(CI12:CK12)","v":10},5,5,{"$f":"SUM(CM12:CN12)","v":10},1,1,1,1,1,5,{"$f":"SUM(CP12:CU12)","v":10},10,10,10,10,10,10,{"$f":"ROUND((SUM(K12+R12+Z12+AH12+AP12+AV12+CO12+CV12)/3.2),0)","v":25},{"$f":"ROUND((SUM(AZ12+BK12+BT12+CA12+CH12+CL12)/1.2),0)","v":50},null,25,{"$f":"SUM(DC12+DD12+DF12)","v":100}]
[]
[null,"DATE:"]
[{"$f":"SUM(COUNTA(D15)+COUNT(B15))","v":2},1,{"$f":"TERM1!E43","v":0},{"$f":"TERM1!F43","v":0},{"$f":"TERM1!G43","v":0},null,null,null,null,null,{"$f":"SUM(F15:J15)","v":0},null,null,null,null,null,null,{"$f":"SUM(L15:Q15)","v":0},null,null,null,null,null,null,null,{"$f":"ROUND((SUM(S15:Y15)/1.5),0)","v":0},null,null,null,null,null,null,null,{"$f":"ROUND((SUM(AA15:AG15)/1.5),0)","v":0},null,null,null,null,null,null,null,{"$f":"ROUND((SUM(AI15:AO15)/1.5),0)","v":0},null,null,null,null,null,{"$f":"SUM(AQ15:AU15)","v":0},null,null,null,{"$f":"SUM(AW15:AY15)","v":0},null,null,null,null,null,null,null,null,null,null,{"$f":"ROUND((SUM(BA15:BJ15)/2),0)","v":0},null,null,null,null,null,null,null,null,{"$f":"ROUND((SUM(BL15:BS15)/1.5),0)","v":0},null,null,null,null,null,null,{"$f":"SUM(BU15:BZ15)","v":0},null,null,null,null,null,null,{"$f":"SUM(CB15:CG15)","v":0},null,null,null,{"$f":"SUM(CI15:CK15)","v":0},null,null,{"$f":"SUM(CM15:CN15)","v":0},null,null,null,null,null,null,{"$f":"SUM(CP15:CU15)","v":0},null,null,null,null,null,null,{"$f":"ROUND((SUM(K15+R15+Z15+AH15+AP15+AV15+CO15+CV15)/3.2),0)","v":0},{"$f":"ROUND((SUM(AZ15+BK15+BT15+CA15+CH15+CL15)/1.2),0)","v":0},{"$f":"COUNT(CW15:DB15)","v":0},{"$f":"ROUND(IF(DE15=4,SUM(CW15:CZ15)/1.6,IF(DE15=6,SUM(CW15:DB15)/2.4,SUM(CW15:CZ15))),0)","v":0},{"$f":"SUM(DC15+DD15+DF15)","v":0}]
[{"$f":"SUM(COUNTA(D16)+COUNT(B16))","v":2},{"$f":"B15+1","v":2},{"$f":"TERM1!E44","v":0},{"$f":"TERM1!F44","v":0},{"$f":"TERM1!G44","v":0},null,null,null,null,null,0,null,null,null,null,null,null,0,null,null,null,null,null,null,null,0,null,null,null,null,null,null,null,0,null,null,null,null,null,null,null,0,null,null,null,null,null,0,null,null,null,0,null,null,null,null,null,null,null,null,null,null,0,null,null,null,null,null,null,null,null,0,null,null,null,null,null,null,0,null,null,null,null,null,null,0,null,null,null,0,null,null,0,null,null,null,null,null,null,0,null,null,null,null,null,null,0,0,0,0,0]
[2,{"$f":"B16+1","v":3},{"$f":"TERM1!E45","v":0},{"$f":"TERM1!F45","v":0},{"$f":"TERM1!G45","v":0},null,null,null,null,null,0,null,null,null,null,null,null,0,null,null,null,null,null,null,null,0,null,null,null,null,null,null,null,0,null,null,null,null,null,null,null,0,null,null,null,null,null,0,null,null,null,0,null,null,null,null,null,null,null,null,null,null,0,null,null,null,null,null,null,null,null,0,null,null,null,null,null,null,0,null,null,null,null,null,null,0,null,null,null,0,null,null,0,null,null,null,null,null,null,0,null,null,null,null,null,null,0,0,0,0,0]
[2,4,{"$f":"TERM1!E46","v":0},{"$f":"TERM1!F46","v":0},{"$f":"TERM1!G46","v":0},null,null,null,null,null,0,null,null,null,null,null,null,0,null,null,null,null,null,null,null,0,null,null,null,null,null,null,null,0,null,null,null,null,null,null,null,0,null,null,null,null,null,0,null,null,null,0,null,null,null,null,null,null,null,null,null,null,0,null,null,null,null,null,null,null,null,0,null,null,null,null,null,null,0,null,null,null,null,null,null,0,null,null,null,0,null,null,0,null,null,null,null,null,null,0,null,null,null,null,null,null,0,0,0,0,0]
[2,5,{"$f":"TERM1!E47","v":0},{"$f":"TERM1!F47","v":0},{"$f":"TERM1!G47","v":0},null,null,null,null,null,0,null,null,null,null,null,null,0,null,null,null,null,null,null,null,0,null,null,null,null,null,null,null,0,null,null,null,null,null,null,null,0,null,null,null,null,null,0,null,null,null,0,null,null,null,null,null,null,null,null,null,null,0,null,null,null,null,null,null,null,null,0,null,null,null,null,null,null,0,null,null,null,null,null,null,0,null,null,null,0,null,null,0,null,null,null,null,null,null,0,null,null,null,null,null,null,0,0,0,0,0]
[2,6,{"$f":"TERM1!E48","v":0},{"$f":"TERM1!F48","v":0},{"$f":"TERM1!G48","v":0},null,null,null,null,null,0,null,null,null,null,null,null,0,null,null,null,null,null,null,null,0,null,null,null,null,null,null,null,0,null,null,null,null,null,null,null,0,null,null,null,null,null,0,null,null,null,0,null,null,null,null,null,null,null,null,null,null,0,null,null,null,null,null,null,null,null,0,null,null,null,null,null,null,0,null,null,null,null,null,null,0,null,null,null,0,null,null,0,null,null,null,null,null,null,0,null,null,null,null,null,null,0,0,0,0,0]
[2,7,{"$f":"TERM1!E49","v":0},{"$f":"TERM1!F49","v":0},{"$f":"TERM1!G49","v":0},null,null,null,null,null,0,null,null,null,null,null,null,0,null,null,null,null,null,null,null,0,null,null,null,null,null,null,null,0,null,null,null,null,null,null,null,0,null,null,null,null,null,0,null,null,null,0,null,null,null,null,null,null,null,null,null,null,0,null,null,null,null,null,null,null,null,0,null,null,null,null,null,null,0,null,null,null,null,null,null,0,null,null,null,0,null,null,0,null,null,null,null,null,null,0,null,null,null,null,null,null,0,0,0,0,0]
[2,8,{"$f":"TERM1!E50","v":0},{"$f":"TERM1!F50","v":0},{"$f":"TERM1!G50","v":0},null,null,null,null,null,0,null,null,null,null,null,null,0,null,null,null,null,null,null,null,0,null,null,null,null,null,null,null,0,null,null,null,null,null,null,null,0,null,null,null,null,null,0,null,null,null,0,null,null,null,null,null,null,null,null,null,null,0,null,null,null,null,null,null,null,null,0,null,null,null,null,null,null,0,null,null,null,null,null,null,0,null,null,null,0,null,null,0,null,null,null,null,null,null,0,null,null,null,null,null,null,0,0,0,0,0]
[2,{"$f":"B22+1","v":9},{"$f":"TERM1!E51","v":0},{"$f":"TERM1!F51","v":0},{"$f":"TERM1!G51","v":0},null,null,null,null,null,0,null,null,null,null,null,null,0,null,null,null,null,null,null,null,0,null,null,null,null,null,null,null,0,null,null,null,null,null,null,null,0,null,null,null,null,null,0,null,null,null,0,null,null,null,null,null,null,null,null,null,null,0,null,null,null,null,null,null,null,null,0,null,null,null,null,null,null,0,null,null,null,null,null,null,0,null,null,null,0,null,null,0,null,null,null,null,null,null,0,null,null,null,null,null,null,0,0,0,0,0]
[2,10,{"$f":"TERM1!E52","v":0},{"$f":"TERM1!F52","v":0},{"$f":"TERM1!G52","v":0},null,null,null,null,null,0,null,null,null,null,null,null,0,null,null,null,null,null,null,null,0,null,null,null,null,null,null,null,0,null,null,null,null,null,null,null,0,null,null,null,null,null,0,null,null,null,0,null,null,null,null,null,null,null,null,null,null,0,null,null,null,null,null,null,null,null,0,null,null,null,null,null,null,0,null,null,null,null,null,null,0,null,null,null,0,null,null,0,null,null,null,null,null,null,0,null,null,null,null,null,null,0,0,0,0,0]
[2,11,{"$f":"TERM1!E53","v":0},{"$f":"TERM1!F53","v":0},{"$f":"TERM1!G53","v":0},null,null,null,null,null,0,null,null,null,null,null,null,0,null,null,null,null,null,null,null,0,null,null,null,null,null,null,null,0,null,null,null,null,null,null,null,0,null,null,null,null,null,0,null,null,null,0,null,null,null,null,null,null,null,null,null,null,0,null,null,null,null,null,null,null,null,0,null,null,null,null,null,null,0,null,null,null,null,null,null,0,null,null,null,0,null,null,0,null,null,null,null,null,null,0,null,null,null,null,null,null,0,0,0,0,0]
[2,12,{"$f":"TERM1!E54","v":0},{"$f":"TERM1!F54","v":0},{"$f":"TERM1!G54","v":0},null,null,null,null,null,0,null,null,null,null,null,null,0,null,null,null,null,null,null,null,0,null,null,null,null,null,null,null,0,null,null,null,null,null,null,null,0,null,null,null,null,null,0,null,null,null,0,null,null,null,null,null,null,null,null,null,null,0,null,null,null,null,null,null,null,null,0,null,null,null,null,null,null,0,null,null,null,null,null,null,0,null,null,null,0,null,null,0,null,null,null,null,null,null,0,null,null,null,null,null,null,0,0,0,0,0]
[2,13,{"$f":"TERM1!E55","v":0},{"$f":"TERM1!F55","v":0},{"$f":"TERM1!G55","v":0},null,null,null,null,null,0,null,null,null,null,null,null,0,null,null,null,null,null,null,null,0,null,null,null,null,null,null,null,0,null,null,null,null,null,null,null,0,null,null,null,null,null,0,null,null,null,0,null,null,null,null,null,null,null,null,null,null,0,null,null,null,null,null,null,null,null,0,null,null,null,null,null,null,0,null,null,null,null,null,null,0,null,null,null,0,null,null,0,null,null,null,null,null,null,0,null,null,null,null,null,null,0,0,0,0,0]
[2,14,{"$f":"TERM1!E56","v":0},{"$f":"TERM1!F56","v":0},{"$f":"TERM1!G56","v":0},null,null,null,null,null,0,null,null,null,null,null,null,0,null,null,null,null,null,null,null,0,null,null,null,null,null,null,null,0,null,null,null,null,null,null,null,0,null,null,null,null,null,0,null,null,null,0,null,null,null,null,null,null,null,null,null,null,0,null,null,null,null,null,null,null,null,0,null,null,null,null,null,null,0,null,null,null,null,null,null,0,null,null,null,0,null,null,0,null,null,null,null,null,null,0,null,null,null,null,null,null,0,0,0,0,0]
[2,15,{"$f":"TERM1!E57","v":0},{"$f":"TERM1!F57","v":0},{"$f":"TERM1!G57","v":0},null,null,null,null,null,0,null,null,null,null,null,null,0,null,null,null,null,null,null,null,0,null,null,null,null,null,null,null,0,null,null,null,null,null,null,null,0,null,null,null,null,null,0,null,null,null,0,null,null,null,null,null,null,null,null,null,null,0,null,null,null,null,null,null,null,null,0,null,null,null,null,null,null,0,null,null,null,null,null,null,0,null,null,null,0,null,null,0,null,null,null,null,null,null,0,null,null,null,null,null,null,0,0,0,0,0]
[2,16,{"$f":"TERM1!E58","v":0},{"$f":"TERM1!F58","v":0},{"$f":"TERM1!G58","v":0},null,null,null,null,null,0,null,null,null,null,null,null,0,null,null,null,null,null,null,null,0,null,null,null,null,null,null,null,0,null,null,null,null,null,null,null,0,null,null,null,null,null,0,null,null,null,0,null,null,null,null,null,null,null,null,null,null,0,null,null,null,null,null,null,null,null,0,null,null,null,null,null,null,0,null,null,null,null,null,null,0,null,null,null,0,null,null,0,null,null,null,null,null,null,0,null,null,null,null,null,null,0,0,0,0,0]
[2,17,{"$f":"TERM1!E59","v":0},{"$f":"TERM1!F59","v":0},{"$f":"TERM1!G59","v":0},null,null,null,null,null,0,null,null,null,null,null,null,0,null,null,null,null,null,null,null,0,null,null,null,null,null,null,null,0,null,null,null,null,null,null,null,0,null,null,null,null,null,0,null,null,null,0,null,null,null,null,null,null,null,null,null,null,0,null,null,null,null,null,null,null,null,0,null,null,null,null,null,null,0,null,null,null,null,null,null,0,null,null,null,0,null,null,0,null,null,null,null,null,null,0,null,null,null,null,null,null,0,0,0,0,0]
[2,18,{"$f":"TERM1!E60","v":0},{"$f":"TERM1!F60","v":0},{"$f":"TERM1!G60","v":0},null,null,null,null,null,0,null,null,null,null,null,null,0,null,null,null,null,null,null,null,0,null,null,null,null,null,null,null,0,null,null,null,null,null,null,null,0,null,null,null,null,null,0,null,null,null,0,null,null,null,null,null,null,null,null,null,null,0,null,null,null,null,null,null,null,null,0,null,null,null,null,null,null,0,null,null,null,null,null,null,0,null,null,null,0,null,null,0,null,null,null,null,null,null,0,null,null,null,null,null,null,0,0,0,0,0]
[2,19,{"$f":"TERM1!E61","v":0},{"$f":"TERM1!F61","v":0},{"$f":"TERM1!G61","v":0},null,null,null,null,null,0,null,null,null,null,null,null,0,null,null,null,null,null,null,null,0,null,null,null,null,null,null,null,0,null,null,null,null,null,null,null,0,null,null,null,null,null,0,null,null,null,0,null,null,null,null,null,null,null,null,null,null,0,null,null,null,null,null,null,null,null,0,null,null,null,null,null,null,0,null,null,null,null,null,null,0,null,null,null,0,null,null,0,null,null,null,null,null,null,0,null,null,null,null,null,null,0,0,0,0,0]
[2,20,{"$f":"TERM1!E62","v":0},{"$f":"TERM1!F62","v":0},{"$f":"TERM1!G62","v":0},null,null,null,null,null,0,null,null,null,null,null,null,0,null,null,null,null,null,null,null,0,null,null,null,null,null,null,null,0,null,null,null,null,null,null,null,0,null,null,null,null,null,0,null,null,null,0,null,null,null,null,null,null,null,null,null,null,0,null,null,null,null,null,null,null,null,0,null,null,null,null,null,null,0,null,null,null,null,null,null,0,null,null,null,0,null,null,0,null,null,null,null,null,null,0,null,null,null,null,null,null,0,0,0,0,0]
[2,21,{"$f":"TERM1!E63","v":0},{"$f":"TERM1!F63","v":0},{"$f":"TERM1!G63","v":0},null,null,null,null,null,0,null,null,null,null,null,null,0,null,null,null,null,null,null,null,0,null,null,null,null,null,null,null,0,null,null,null,null,null,null,null,0,null,null,null,null,null,0,null,null,null,0,null,null,null,null,null,null,null,null,null,null,0,null,null,null,null,null,null,null,null,0,null,null,null,null,null,null,0,null,null,null,null,null,null,0,null,null,null,0,null,null,0,null,null,null,null,null,null,0,null,null,null,null,null,null,0,0,0,0,0]
[2,22,{"$f":"TERM1!E64","v":0},{"$f":"TERM1!F64","v":0},{"$f":"TERM1!G64","v":0},null,null,null,null,null,0,null,null,null,null,null,null,0,null,null,null,null,null,null,null,0,null,null,null,null,null,null,null,0,null,null,null,null,null,null,null,0,null,null,null,null,null,0,null,null,null,0,null,null,null,null,null,null,null,null,null,null,0,null,null,null,null,null,null,null,null,0,null,null,null,null,null,null,0,null,null,null,null,null,null,0,null,null,null,0,null,null,0,null,null,null,null,null,null,0,null,null,null,null,null,null,0,0,0,0,0]
[2,23,{"$f":"TERM1!E65","v":0},{"$f":"TERM1!F65","v":0},{"$f":"TERM1!G65","v":0},null,null,null,null,null,0,null,null,null,null,null,null,0,null,null,null,null,null,null,null,0,null,null,null,null,null,null,null,0,null,null,null,null,null,null,null,0,null,null,null,null,null,0,null,null,null,0,null,null,null,null,null,null,null,null,null,null,0,null,null,null,null,null,null,null,null,0,null,null,null,null,null,null,0,null,null,null,null,null,null,0,null,null,null,0,null,null,0,null,null,null,null,null,null,0,null,null,null,null,null,null,0,0,0,0,0]
[2,24,{"$f":"TERM1!E66","v":0},{"$f":"TERM1!F66","v":0},{"$f":"TERM1!G66","v":0},null,null,null,null,null,0,null,null,null,null,null,null,0,null,null,null,null,null,null,null,0,null,null,null,null,null,null,null,0,null,null,null,null,null,null,null,0,null,null,null,null,null,0,null,null,null,0,null,null,null,null,null,null,null,null,null,null,0,null,null,null,null,null,null,null,null,0,null,null,null,null,null,null,0,null,null,null,null,null,null,0,null,null,null,0,null,null,0,null,null,null,null,null,null,0,null,null,null,null,null,null,0,0,0,0,0]
[2,25,{"$f":"TERM1!E67","v":0},{"$f":"TERM1!F67","v":0},{"$f":"TERM1!G67","v":0},null,null,null,null,null,0,null,null,null,null,null,null,0,null,null,null,null,null,null,null,0,null,null,null,null,null,null,null,0,null,null,null,null,null,null,null,0,null,null,null,null,null,0,null,null,null,0,null,null,null,null,null,null,null,null,null,null,0,null,null,null,null,null,null,null,null,0,null,null,null,null,null,null,0,null,null,null,null,null,null,0,null,null,null,0,null,null,0,null,null,null,null,null,null,0,null,null,null,null,null,null,0,0,0,0,0]
[2,26,{"$f":"TERM1!E68","v":0},{"$f":"TERM1!F68","v":0},{"$f":"TERM1!G68","v":0},null,null,null,null,null,0,null,null,null,null,null,null,0,null,null,null,null,null,null,null,0,null,null,null,null,null,null,null,0,null,null,null,null,null,null,null,0,null,null,null,null,null,0,null,null,null,0,null,null,null,null,null,null,null,null,null,null,0,null,null,null,null,null,null,null,null,0,null,null,null,null,null,null,0,null,null,null,null,null,null,0,null,null,null,0,null,null,0,null,null,null,null,null,null,0,null,null,null,null,null,null,0,0,0,0,0]
[2,27,{"$f":"TERM1!E69","v":0},{"$f":"TERM1!F69","v":0},{"$f":"TERM1!G69","v":0},null,null,null,null,null,0,null,null,null,null,null,null,0,null,null,null,null,null,null,null,0,null,null,null,null,null,null,null,0,null,null,null,null,null,null,null,0,null,null,null,null,null,0,null,null,null,0,null,null,null,null,null,null,null,null,null,null,0,null,null,null,null,null,null,null,null,0,null,null,null,null,null,null,0,null,null,null,null,null,null,0,null,null,null,0,null,null,0,null,null,null,null,null,null,0,null,null,null,null,null,null,0,0,0,0,0]
[2,28,{"$f":"TERM1!E70","v":0},{"$f":"TERM1!F70","v":0},{"$f":"TERM1!G70","v":0},null,null,null,null,null,0,null,null,null,null,null,null,0,null,null,null,null,null,null,null,0,null,null,null,null,null,null,null,0,null,null,null,null,null,null,null,0,null,null,null,null,null,0,null,null,null,0,null,null,null,null,null,null,null,null,null,null,0,null,null,null,null,null,null,null,null,0,null,null,null,null,null,null,0,null,null,null,null,null,null,0,null,null,null,0,null,null,0,null,null,null,null,null,null,0,null,null,null,null,null,null,0,0,0,0,0]
[2,29,{"$f":"TERM1!E71","v":0},{"$f":"TERM1!F71","v":0},{"$f":"TERM1!G71","v":0},null,null,null,null,null,0,null,null,null,null,null,null,0,null,null,null,null,null,null,null,0,null,null,null,null,null,null,null,0,null,null,null,null,null,null,null,0,null,null,null,null,null,0,null,null,null,0,null,null,null,null,null,null,null,null,null,null,0,null,null,null,null,null,null,null,null,0,null,null,null,null,null,null,0,null,null,null,null,null,null,0,null,null,null,0,null,null,0,null,null,null,null,null,null,0,null,null,null,null,null,null,0,0,0,0,0]
[2,30,{"$f":"TERM1!E72","v":0},{"$f":"TERM1!F72","v":0},{"$f":"TERM1!G72","v":0},null,null,null,null,null,0,null,null,null,null,null,null,0,null,null,null,null,null,null,null,0,null,null,null,null,null,null,null,0,null,null,null,null,null,null,null,0,null,null,null,null,null,0,null,null,null,0,null,null,null,null,null,null,null,null,null,null,0,null,null,null,null,null,null,null,null,0,null,null,null,null,null,null,0,null,null,null,null,null,null,0,null,null,null,0,null,null,0,null,null,null,null,null,null,0,null,null,null,null,null,null,0,0,0,0,0]
[2,31,{"$f":"TERM1!E73","v":0},{"$f":"TERM1!F73","v":0},{"$f":"TERM1!G73","v":0},null,null,null,null,null,0,null,null,null,null,null,null,0,null,null,null,null,null,null,null,0,null,null,null,null,null,null,null,0,null,null,null,null,null,null,null,0,null,null,null,null,null,0,null,null,null,0,null,null,null,null,null,null,null,null,null,null,0,null,null,null,null,null,null,null,null,0,null,null,null,null,null,null,0,null,null,null,null,null,null,0,null,null,null,0,null,null,0,null,null,null,null,null,null,0,null,null,null,null,null,null,0,0,0,0,0]
[2,{"$f":"B45+1","v":32},{"$f":"TERM1!E74","v":0},{"$f":"TERM1!F74","v":0},{"$f":"TERM1!G74","v":0},null,null,null,null,null,0,null,null,null,null,null,null,0,null,null,null,null,null,null,null,0,null,null,null,null,null,null,null,0,null,null,null,null,null,null,null,0,null,null,null,null,null,0,null,null,null,0,null,null,null,null,null,null,null,null,null,null,0,null,null,null,null,null,null,null,null,0,null,null,null,null,null,null,0,null,null,null,null,null,null,0,null,null,null,0,null,null,0,null,null,null,null,null,null,0,null,null,null,null,null,null,0,0,0,0,0]
[2,33,{"$f":"TERM1!E75","v":0},{"$f":"TERM1!F75","v":0},{"$f":"TERM1!G75","v":0},null,null,null,null,null,{"$f":"SUM(F47:J47)","v":0},null,null,null,null,null,null,{"$f":"SUM(L47:Q47)","v":0},null,null,null,null,null,null,null,{"$f":"ROUND((SUM(S47:Y47)/1.5),0)","v":0},null,null,null,null,null,null,null,{"$f":"ROUND((SUM(AA47:AG47)/1.5),0)","v":0},null,null,null,null,null,null,null,{"$f":"ROUND((SUM(AI47:AO47)/1.5),0)","v":0},null,null,null,null,null,{"$f":"SUM(AQ47:AU47)","v":0},null,null,null,{"$f":"SUM(AW47:AY47)","v":0},null,null,null,null,null,null,null,null,null,null,{"$f":"ROUND((SUM(BA47:BJ47)/2),0)","v":0},null,null,null,null,null,null,null,null,{"$f":"ROUND((SUM(BL47:BS47)/1.5),0)","v":0},null,null,null,null,null,null,{"$f":"SUM(BU47:BZ47)","v":0},null,null,null,null,null,null,{"$f":"SUM(CB47:CG47)","v":0},null,null,null,{"$f":"SUM(CI47:CK47)","v":0},null,null,{"$f":"SUM(CM47:CN47)","v":0},null,null,null,null,null,null,{"$f":"SUM(CP47:CU47)","v":0},null,null,null,null,null,null,{"$f":"ROUND((SUM(K47+R47+Z47+AH47+AP47+AV47+CO47+CV47)/3.2),0)","v":0},{"$f":"ROUND((SUM(AZ47+BK47+BT47+CA47+CH47+CL47)/1.2),0)","v":0},{"$f":"COUNT(CW47:DB47)","v":0},{"$f":"ROUND(IF(DE47=4,SUM(CW47:CZ47)/1.6,IF(DE47=6,SUM(CW47:DB47)/2.4,SUM(CW47:CZ47))),0)","v":0},{"$f":"SUM(DC47+DD47+DF47)","v":0}]
[2,34,{"$f":"TERM1!E76","v":0},{"$f":"TERM1!F76","v":0},{"$f":"TERM1!G76","v":0},null,null,null,null,null,0,null,null,null,null,null,null,0,null,null,null,null,null,null,null,0,null,null,null,null,null,null,null,0,null,null,null,null,null,null,null,0,null,null,null,null,null,0,null,null,null,0,null,null,null,null,null,null,null,null,null,null,0,null,null,null,null,null,null,null,null,0,null,null,null,null,null,null,0,null,null,null,null,null,null,0,null,null,null,0,null,null,0,null,null,null,null,null,null,0,null,null,null,null,null,null,0,0,0,0,0]
[2,35,{"$f":"TERM1!E77","v":0},{"$f":"TERM1!F77","v":0},{"$f":"TERM1!G77","v":0},null,null,null,null,null,0,null,null,null,null,null,null,0,null,null,null,null,null,null,null,0,null,null,null,null,null,null,null,0,null,null,null,null,null,null,null,0,null,null,null,null,null,0,null,null,null,0,null,null,null,null,null,null,null,null,null,null,0,null,null,null,null,null,null,null,null,0,null,null,null,null,null,null,0,null,null,null,null,null,null,0,null,null,null,0,null,null,0,null,null,null,null,null,null,0,null,null,null,null,null,null,0,0,0,0,0]
[2,36,{"$f":"TERM1!E78","v":0},{"$f":"TERM1!F78","v":0},{"$f":"TERM1!G78","v":0},null,null,null,null,null,0,null,null,null,null,null,null,0,null,null,null,null,null,null,null,0,null,null,null,null,null,null,null,0,null,null,null,null,null,null,null,0,null,null,null,null,null,0,null,null,null,0,null,null,null,null,null,null,null,null,null,null,0,null,null,null,null,null,null,null,null,0,null,null,null,null,null,null,0,null,null,null,null,null,null,0,null,null,null,0,null,null,0,null,null,null,null,null,null,0,null,null,null,null,null,null,0,0,0,0,0]
[2,37,{"$f":"TERM1!E79","v":0},{"$f":"TERM1!F79","v":0},{"$f":"TERM1!G79","v":0},null,null,null,null,null,0,null,null,null,null,null,null,0,null,null,null,null,null,null,null,0,null,null,null,null,null,null,null,0,null,null,null,null,null,null,null,0,null,null,null,null,null,0,null,null,null,0,null,null,null,null,null,null,null,null,null,null,0,null,null,null,null,null,null,null,null,0,null,null,null,null,null,null,0,null,null,null,null,null,null,0,null,null,null,0,null,null,0,null,null,null,null,null,null,0,null,null,null,null,null,null,0,0,0,0,0]
[2,38,{"$f":"TERM1!E80","v":0},{"$f":"TERM1!F80","v":0},{"$f":"TERM1!G80","v":0},null,null,null,null,null,0,null,null,null,null,null,null,0,null,null,null,null,null,null,null,0,null,null,null,null,null,null,null,0,null,null,null,null,null,null,null,0,null,null,null,null,null,0,null,null,null,0,null,null,null,null,null,null,null,null,null,null,0,null,null,null,null,null,null,null,null,0,null,null,null,null,null,null,0,null,null,null,null,null,null,0,null,null,null,0,null,null,0,null,null,null,null,null,null,0,null,null,null,null,null,null,0,0,0,0,0]
[2,39,{"$f":"TERM1!E81","v":0},{"$f":"TERM1!F81","v":0},{"$f":"TERM1!G81","v":0},null,null,null,null,null,0,null,null,null,null,null,null,0,null,null,null,null,null,null,null,0,null,null,null,null,null,null,null,0,null,null,null,null,null,null,null,0,null,null,null,null,null,0,null,null,null,0,null,null,null,null,null,null,null,null,null,null,0,null,null,null,null,null,null,null,null,0,null,null,null,null,null,null,0,null,null,null,null,null,null,0,null,null,null,0,null,null,0,null,null,null,null,null,null,0,null,null,null,null,null,null,0,0,0,0,0]
[2,40,{"$f":"TERM1!E82","v":0},{"$f":"TERM1!F82","v":0},{"$f":"TERM1!G82","v":0},null,null,null,null,null,0,null,null,null,null,null,null,0,null,null,null,null,null,null,null,0,null,null,null,null,null,null,null,0,null,null,null,null,null,null,null,0,null,null,null,null,null,0,null,null,null,0,null,null,null,null,null,null,null,null,null,null,0,null,null,null,null,null,null,null,null,0,null,null,null,null,null,null,0,null,null,null,null,null,null,0,null,null,null,0,null,null,0,null,null,null,null,null,null,0,null,null,null,null,null,null,0,0,0,0,0]
[2,41,{"$f":"TERM1!E83","v":0},{"$f":"TERM1!F83","v":0},{"$f":"TERM1!G83","v":0},null,null,null,null,null,0,null,null,null,null,null,null,0,null,null,null,null,null,null,null,0,null,null,null,null,null,null,null,0,null,null,null,null,null,null,null,0,null,null,null,null,null,0,null,null,null,0,null,null,null,null,null,null,null,null,null,null,0,null,null,null,null,null,null,null,null,0,null,null,null,null,null,null,0,null,null,null,null,null,null,0,null,null,null,0,null,null,0,null,null,null,null,null,null,0,null,null,null,null,null,null,0,0,0,0,0]
[2,42,{"$f":"TERM1!E84","v":0},{"$f":"TERM1!F84","v":0},{"$f":"TERM1!G84","v":0},null,null,null,null,null,0,null,null,null,null,null,null,0,null,null,null,null,null,null,null,0,null,null,null,null,null,null,null,0,null,null,null,null,null,null,null,0,null,null,null,null,null,0,null,null,null,0,null,null,null,null,null,null,null,null,null,null,0,null,null,null,null,null,null,null,null,0,null,null,null,null,null,null,0,null,null,null,null,null,null,0,null,null,null,0,null,null,0,null,null,null,null,null,null,0,null,null,null,null,null,null,0,0,0,0,0]
[2,43,{"$f":"TERM1!E85","v":0},{"$f":"TERM1!F85","v":0},{"$f":"TERM1!G85","v":0},null,null,null,null,null,0,null,null,null,null,null,null,0,null,null,null,null,null,null,null,0,null,null,null,null,null,null,null,0,null,null,null,null,null,null,null,0,null,null,null,null,null,0,null,null,null,0,null,null,null,null,null,null,null,null,null,null,0,null,null,null,null,null,null,null,null,0,null,null,null,null,null,null,0,null,null,null,null,null,null,0,null,null,null,0,null,null,0,null,null,null,null,null,null,0,null,null,null,null,null,null,0,0,0,0,0]
[2,44,{"$f":"TERM1!E86","v":0},{"$f":"TERM1!F86","v":0},{"$f":"TERM1!G86","v":0},null,null,null,null,null,0,null,null,null,null,null,null,0,null,null,null,null,null,null,null,0,null,null,null,null,null,null,null,0,null,null,null,null,null,null,null,0,null,null,null,null,null,0,null,null,null,0,null,null,null,null,null,null,null,null,null,null,0,null,null,null,null,null,null,null,null,0,null,null,null,null,null,null,0,null,null,null,null,null,null,0,null,null,null,0,null,null,0,null,null,null,null,null,null,0,null,null,null,null,null,null,0,0,0,0,0]
[2,45,{"$f":"TERM1!E87","v":0},{"$f":"TERM1!F87","v":0},{"$f":"TERM1!G87","v":0},null,null,null,null,null,0,null,null,null,null,null,null,0,null,null,null,null,null,null,null,0,null,null,null,null,null,null,null,0,null,null,null,null,null,null,null,0,null,null,null,null,null,0,null,null,null,0,null,null,null,null,null,null,null,null,null,null,0,null,null,null,null,null,null,null,null,0,null,null,null,null,null,null,0,null,null,null,null,null,null,0,null,null,null,0,null,null,0,null,null,null,null,null,null,0,null,null,null,null,null,null,0,0,0,0,0]
[2,46,{"$f":"TERM1!E88","v":0},{"$f":"TERM1!F88","v":0},{"$f":"TERM1!G88","v":0},null,null,null,null,null,0,null,null,null,null,null,null,0,null,null,null,null,null,null,null,0,null,null,null,null,null,null,null,0,null,null,null,null,null,null,null,0,null,null,null,null,null,0,null,null,null,0,null,null,null,null,null,null,null,null,null,null,0,null,null,null,null,null,null,null,null,0,null,null,null,null,null,null,0,null,null,null,null,null,null,0,null,null,null,0,null,null,0,null,null,null,null,null,null,0,null,null,null,null,null,null,0,0,0,0,0]
[2,47,{"$f":"TERM1!E89","v":0},{"$f":"TERM1!F89","v":0},{"$f":"TERM1!G89","v":0},null,null,null,null,null,0,null,null,null,null,null,null,0,null,null,null,null,null,null,null,0,null,null,null,null,null,null,null,0,null,null,null,null,null,null,null,0,null,null,null,null,null,0,null,null,null,0,null,null,null,null,null,null,null,null,null,null,0,null,null,null,null,null,null,null,null,0,null,null,null,null,null,null,0,null,null,null,null,null,null,0,null,null,null,0,null,null,0,null,null,null,null,null,null,0,null,null,null,null,null,null,0,0,0,0,0]
[2,48,{"$f":"TERM1!E90","v":0},{"$f":"TERM1!F90","v":0},{"$f":"TERM1!G90","v":0},null,null,null,null,null,0,null,null,null,null,null,null,0,null,null,null,null,null,null,null,0,null,null,null,null,null,null,null,0,null,null,null,null,null,null,null,0,null,null,null,null,null,0,null,null,null,0,null,null,null,null,null,null,null,null,null,null,0,null,null,null,null,null,null,null,null,0,null,null,null,null,null,null,0,null,null,null,null,null,null,0,null,null,null,0,null,null,0,null,null,null,null,null,null,0,null,null,null,null,null,null,0,0,0,0,0]
[2,49,{"$f":"TERM1!E91","v":0},{"$f":"TERM1!F91","v":0},{"$f":"TERM1!G91","v":0},null,null,null,null,null,0,null,null,null,null,null,null,0,null,null,null,null,null,null,null,0,null,null,null,null,null,null,null,0,null,null,null,null,null,null,null,0,null,null,null,null,null,0,null,null,null,0,null,null,null,null,null,null,null,null,null,null,0,null,null,null,null,null,null,null,null,0,null,null,null,null,null,null,0,null,null,null,null,null,null,0,null,null,null,0,null,null,0,null,null,null,null,null,null,0,null,null,null,null,null,null,0,0,0,0,0]
[2,50,{"$f":"TERM1!E92","v":0},{"$f":"TERM1!F92","v":0},{"$f":"TERM1!G92","v":0},null,null,null,null,null,0,null,null,null,null,null,null,0,null,null,null,null,null,null,null,0,null,null,null,null,null,null,null,0,null,null,null,null,null,null,null,0,null,null,null,null,null,0,null,null,null,0,null,null,null,null,null,null,null,null,null,null,0,null,null,null,null,null,null,null,null,0,null,null,null,null,null,null,0,null,null,null,null,null,null,0,null,null,null,0,null,null,0,null,null,null,null,null,null,0,null,null,null,null,null,null,0,0,0,0,0]
[2,51,{"$f":"TERM1!E93","v":0},{"$f":"TERM1!F93","v":0},{"$f":"TERM1!G93","v":0},null,null,null,null,null,0,null,null,null,null,null,null,0,null,null,null,null,null,null,null,0,null,null,null,null,null,null,null,0,null,null,null,null,null,null,null,0,null,null,null,null,null,0,null,null,null,0,null,null,null,null,null,null,null,null,null,null,0,null,null,null,null,null,null,null,null,0,null,null,null,null,null,null,0,null,null,null,null,null,null,0,null,null,null,0,null,null,0,null,null,null,null,null,null,0,null,null,null,null,null,null,0,0,0,0,0]
[2,52,{"$f":"TERM1!E94","v":0},{"$f":"TERM1!F94","v":0},{"$f":"TERM1!G94","v":0},null,null,null,null,null,0,null,null,null,null,null,null,0,null,null,null,null,null,null,null,0,null,null,null,null,null,null,null,0,null,null,null,null,null,null,null,0,null,null,null,null,null,0,null,null,null,0,null,null,null,null,null,null,null,null,null,null,0,null,null,null,null,null,null,null,null,0,null,null,null,null,null,null,0,null,null,null,null,null,null,0,null,null,null,0,null,null,0,null,null,null,null,null,null,0,null,null,null,null,null,null,0,0,0,0,0]
[2,53,{"$f":"TERM1!E95","v":0},{"$f":"TERM1!F95","v":0},{"$f":"TERM1!G95","v":0},null,null,null,null,null,0,null,null,null,null,null,null,0,null,null,null,null,null,null,null,0,null,null,null,null,null,null,null,0,null,null,null,null,null,null,null,0,null,null,null,null,null,0,null,null,null,0,null,null,null,null,null,null,null,null,null,null,0,null,null,null,null,null,null,null,null,0,null,null,null,null,null,null,0,null,null,null,null,null,null,0,null,null,null,0,null,null,0,null,null,null,null,null,null,0,null,null,null,null,null,null,0,0,0,0,0]
[2,54,{"$f":"TERM1!E96","v":0},{"$f":"TERM1!F96","v":0},{"$f":"TERM1!G96","v":0},null,null,null,null,null,0,null,null,null,null,null,null,0,null,null,null,null,null,null,null,0,null,null,null,null,null,null,null,0,null,null,null,null,null,null,null,0,null,null,null,null,null,0,null,null,null,0,null,null,null,null,null,null,null,null,null,null,0,null,null,null,null,null,null,null,null,0,null,null,null,null,null,null,0,null,null,null,null,null,null,0,null,null,null,0,null,null,0,null,null,null,null,null,null,0,null,null,null,null,null,null,0,0,0,0,0]
[2,55,{"$f":"TERM1!E97","v":0},{"$f":"TERM1!F97","v":0},{"$f":"TERM1!G97","v":0},null,null,null,null,null,0,null,null,null,null,null,null,0,null,null,null,null,null,null,null,0,null,null,null,null,null,null,null,0,null,null,null,null,null,null,null,0,null,null,null,null,null,0,null,null,null,0,null,null,null,null,null,null,null,null,null,null,0,null,null,null,null,null,null,null,null,0,null,null,null,null,null,null,0,null,null,null,null,null,null,0,null,null,null,0,null,null,0,null,null,null,null,null,null,0,null,null,null,null,null,null,0,0,0,0,0]
[2,56,{"$f":"TERM1!E98","v":0},{"$f":"TERM1!F98","v":0},{"$f":"TERM1!G98","v":0},null,null,null,null,null,0,null,null,null,null,null,null,0,null,null,null,null,null,null,null,0,null,null,null,null,null,null,null,0,null,null,null,null,null,null,null,0,null,null,null,null,null,0,null,null,null,0,null,null,null,null,null,null,null,null,null,null,0,null,null,null,null,null,null,null,null,0,null,null,null,null,null,null,0,null,null,null,null,null,null,0,null,null,null,0,null,null,0,null,null,null,null,null,null,0,null,null,null,null,null,null,0,0,0,0,0]
[2,57,{"$f":"TERM1!E99","v":0},{"$f":"TERM1!F99","v":0},{"$f":"TERM1!G99","v":0},null,null,null,null,null,0,null,null,null,null,null,null,0,null,null,null,null,null,null,null,0,null,null,null,null,null,null,null,0,null,null,null,null,null,null,null,0,null,null,null,null,null,0,null,null,null,0,null,null,null,null,null,null,null,null,null,null,0,null,null,null,null,null,null,null,null,0,null,null,null,null,null,null,0,null,null,null,null,null,null,0,null,null,null,0,null,null,0,null,null,null,null,null,null,0,null,null,null,null,null,null,0,0,0,0,0]
[2,58,{"$f":"TERM1!E100","v":0},{"$f":"TERM1!F100","v":0},{"$f":"TERM1!G100","v":0},null,null,null,null,null,0,null,null,null,null,null,null,0,null,null,null,null,null,null,null,0,null,null,null,null,null,null,null,0,null,null,null,null,null,null,null,0,null,null,null,null,null,0,null,null,null,0,null,null,null,null,null,null,null,null,null,null,0,null,null,null,null,null,null,null,null,0,null,null,null,null,null,null,0,null,null,null,null,null,null,0,null,null,null,0,null,null,0,null,null,null,null,null,null,0,null,null,null,null,null,null,0,0,0,0,0]
[2,59,{"$f":"TERM1!E101","v":0},{"$f":"TERM1!F101","v":0},{"$f":"TERM1!G101","v":0},null,null,null,null,null,0,null,null,null,null,null,null,0,null,null,null,null,null,null,null,0,null,null,null,null,null,null,null,0,null,null,null,null,null,null,null,0,null,null,null,null,null,0,null,null,null,0,null,null,null,null,null,null,null,null,null,null,0,null,null,null,null,null,null,null,null,0,null,null,null,null,null,null,0,null,null,null,null,null,null,0,null,null,null,0,null,null,0,null,null,null,null,null,null,0,null,null,null,null,null,null,0,0,0,0,0]
[2,60,{"$f":"TERM1!E102","v":0},{"$f":"TERM1!F102","v":0},{"$f":"TERM1!G102","v":0},null,null,null,null,null,0,null,null,null,null,null,null,0,null,null,null,null,null,null,null,0,null,null,null,null,null,null,null,0,null,null,null,null,null,null,null,0,null,null,null,null,null,0,null,null,null,0,null,null,null,null,null,null,null,null,null,null,0,null,null,null,null,null,null,null,null,0,null,null,null,null,null,null,0,null,null,null,null,null,null,0,null,null,null,0,null,null,0,null,null,null,null,null,null,0,null,null,null,null,null,null,0,0,0,0,0]
[2,61,{"$f":"TERM1!E103","v":0},{"$f":"TERM1!F103","v":0},{"$f":"TERM1!G103","v":0},null,null,null,null,null,0,null,null,null,null,null,null,0,null,null,null,null,null,null,null,0,null,null,null,null,null,null,null,0,null,null,null,null,null,null,null,0,null,null,null,null,null,0,null,null,null,0,null,null,null,null,null,null,null,null,null,null,0,null,null,null,null,null,null,null,null,0,null,null,null,null,null,null,0,null,null,null,null,null,null,0,null,null,null,0,null,null,0,null,null,null,null,null,null,0,null,null,null,null,null,null,0,0,0,0,0]
[2,62,{"$f":"TERM1!E104","v":0},{"$f":"TERM1!F104","v":0},{"$f":"TERM1!G104","v":0},null,null,null,null,null,0,null,null,null,null,null,null,0,null,null,null,null,null,null,null,0,null,null,null,null,null,null,null,0,null,null,null,null,null,null,null,0,null,null,null,null,null,0,null,null,null,0,null,null,null,null,null,null,null,null,null,null,0,null,null,null,null,null,null,null,null,0,null,null,null,null,null,null,0,null,null,null,null,null,null,0,null,null,null,0,null,null,0,null,null,null,null,null,null,0,null,null,null,null,null,null,0,0,0,0,0]
[2,63,{"$f":"TERM1!E105","v":0},{"$f":"TERM1!F105","v":0},{"$f":"TERM1!G105","v":0},null,null,null,null,null,0,null,null,null,null,null,null,0,null,null,null,null,null,null,null,0,null,null,null,null,null,null,null,0,null,null,null,null,null,null,null,0,null,null,null,null,null,0,null,null,null,0,null,null,null,null,null,null,null,null,null,null,0,null,null,null,null,null,null,null,null,0,null,null,null,null,null,null,0,null,null,null,null,null,null,0,null,null,null,0,null,null,0,null,null,null,null,null,null,0,null,null,null,null,null,null,0,0,0,0,0]
[2,64,{"$f":"TERM1!E106","v":0},{"$f":"TERM1!F106","v":0},{"$f":"TERM1!G106","v":0},null,null,null,null,null,0,null,null,null,null,null,null,0,null,null,null,null,null,null,null,0,null,null,null,null,null,null,null,0,null,null,null,null,null,null,null,0,null,null,null,null,null,0,null,null,null,0,null,null,null,null,null,null,null,null,null,null,0,null,null,null,null,null,null,null,null,0,null,null,null,null,null,null,0,null,null,null,null,null,null,0,null,null,null,0,null,null,0,null,null,null,null,null,null,0,null,null,null,null,null,null,0,0,0,0,0]
[2,65,{"$f":"TERM1!E107","v":0},{"$f":"TERM1!F107","v":0},{"$f":"TERM1!G107","v":0},null,null,null,null,null,{"$f":"SUM(F79:J79)","v":0},null,null,null,null,null,null,{"$f":"SUM(L79:Q79)","v":0},null,null,null,null,null,null,null,{"$f":"ROUND((SUM(S79:Y79)/1.5),0)","v":0},null,null,null,null,null,null,null,{"$f":"ROUND((SUM(AA79:AG79)/1.5),0)","v":0},null,null,null,null,null,null,null,{"$f":"ROUND((SUM(AI79:AO79)/1.5),0)","v":0},null,null,null,null,null,{"$f":"SUM(AQ79:AU79)","v":0},null,null,null,{"$f":"SUM(AW79:AY79)","v":0},null,null,null,null,null,null,null,null,null,null,{"$f":"ROUND((SUM(BA79:BJ79)/2),0)","v":0},null,null,null,null,null,null,null,null,{"$f":"ROUND((SUM(BL79:BS79)/1.5),0)","v":0},null,null,null,null,null,null,{"$f":"SUM(BU79:BZ79)","v":0},null,null,null,null,null,null,{"$f":"SUM(CB79:CG79)","v":0},null,null,null,{"$f":"SUM(CI79:CK79)","v":0},null,null,{"$f":"SUM(CM79:CN79)","v":0},null,null,null,null,null,null,{"$f":"SUM(CP79:CU79)","v":0},null,null,null,null,null,null,{"$f":"ROUND((SUM(K79+R79+Z79+AH79+AP79+AV79+CO79+CV79)/3.2),0)","v":0},{"$f":"ROUND((SUM(AZ79+BK79+BT79+CA79+CH79+CL79)/1.2),0)","v":0},{"$f":"COUNT(CW79:DB79)","v":0},{"$f":"ROUND(IF(DE79=4,SUM(CW79:CZ79)/1.6,IF(DE79=6,SUM(CW79:DB79)/2.4,SUM(CW79:CZ79))),0)","v":0},{"$f":"SUM(DC79+DD79+DF79)","v":0}]
[{"$f":"SUM(COUNTA(D80)+COUNT(B80))","v":2},66,{"$f":"TERM1!E108","v":0},{"$f":"TERM1!F108","v":0},{"$f":"TERM1!G108","v":0},null,null,null,null,null,0,null,null,null,null,null,null,0,null,null,null,null,null,null,null,0,null,null,null,null,null,null,null,0,null,null,null,null,null,null,null,0,null,null,null,null,null,0,null,null,null,0,null,null,null,null,null,null,null,null,null,null,0,null,null,null,null,null,null,null,null,0,null,null,null,null,null,null,0,null,null,null,null,null,null,0,null,null,null,0,null,null,0,null,null,null,null,null,null,0,null,null,null,null,null,null,0,0,0,0,0]
[2,{"$f":"B80+1","v":67},{"$f":"TERM1!E109","v":0},{"$f":"TERM1!F109","v":0},{"$f":"TERM1!G109","v":0},null,null,null,null,null,0,null,null,null,null,null,null,0,null,null,null,null,null,null,null,0,null,null,null,null,null,null,null,0,null,null,null,null,null,null,null,0,null,null,null,null,null,0,null,null,null,0,null,null,null,null,null,null,null,null,null,null,0,null,null,null,null,null,null,null,null,0,null,null,null,null,null,null,0,null,null,null,null,null,null,0,null,null,null,0,null,null,0,null,null,null,null,null,null,0,null,null,null,null,null,null,0,0,0,0,0]
[2,68,{"$f":"TERM1!E110","v":0},{"$f":"TERM1!F110","v":0},{"$f":"TERM1!G110","v":0},null,null,null,null,null,0,null,null,null,null,null,null,0,null,null,null,null,null,null,null,0,null,null,null,null,null,null,null,0,null,null,null,null,null,null,null,0,null,null,null,null,null,0,null,null,null,0,null,null,null,null,null,null,null,null,null,null,0,null,null,null,null,null,null,null,null,0,null,null,null,null,null,null,0,null,null,null,null,null,null,0,null,null,null,0,null,null,0,null,null,null,null,null,null,0,null,null,null,null,null,null,0,0,0,0,0]
[2,69,{"$f":"TERM1!E111","v":0},{"$f":"TERM1!F111","v":0},{"$f":"TERM1!G111","v":0},null,null,null,null,null,0,null,null,null,null,null,null,0,null,null,null,null,null,null,null,0,null,null,null,null,null,null,null,0,null,null,null,null,null,null,null,0,null,null,null,null,null,0,null,null,null,0,null,null,null,null,null,null,null,null,null,null,0,null,null,null,null,null,null,null,null,0,null,null,null,null,null,null,0,null,null,null,null,null,null,0,null,null,null,0,null,null,0,null,null,null,null,null,null,0,null,null,null,null,null,null,0,0,0,0,0]
[2,70,{"$f":"TERM1!E112","v":0},{"$f":"TERM1!F112","v":0},{"$f":"TERM1!G112","v":0},null,null,null,null,null,0,null,null,null,null,null,null,0,null,null,null,null,null,null,null,0,null,null,null,null,null,null,null,0,null,null,null,null,null,null,null,0,null,null,null,null,null,0,null,null,null,0,null,null,null,null,null,null,null,null,null,null,0,null,null,null,null,null,null,null,null,0,null,null,null,null,null,null,0,null,null,null,null,null,null,0,null,null,null,0,null,null,0,null,null,null,null,null,null,0,null,null,null,null,null,null,0,0,0,0,0]
[2,71,{"$f":"TERM1!E113","v":0},{"$f":"TERM1!F113","v":0},{"$f":"TERM1!G113","v":0},null,null,null,null,null,0,null,null,null,null,null,null,0,null,null,null,null,null,null,null,0,null,null,null,null,null,null,null,0,null,null,null,null,null,null,null,0,null,null,null,null,null,0,null,null,null,0,null,null,null,null,null,null,null,null,null,null,0,null,null,null,null,null,null,null,null,0,null,null,null,null,null,null,0,null,null,null,null,null,null,0,null,null,null,0,null,null,0,null,null,null,null,null,null,0,null,null,null,null,null,null,0,0,0,0,0]
[2,72,{"$f":"TERM1!E114","v":0},{"$f":"TERM1!F114","v":0},{"$f":"TERM1!G114","v":0},null,null,null,null,null,0,null,null,null,null,null,null,0,null,null,null,null,null,null,null,0,null,null,null,null,null,null,null,0,null,null,null,null,null,null,null,0,null,null,null,null,null,0,null,null,null,0,null,null,null,null,null,null,null,null,null,null,0,null,null,null,null,null,null,null,null,0,null,null,null,null,null,null,0,null,null,null,null,null,null,0,null,null,null,0,null,null,0,null,null,null,null,null,null,0,null,null,null,null,null,null,0,0,0,0,0]
[2,73,{"$f":"TERM1!E115","v":0},{"$f":"TERM1!F115","v":0},{"$f":"TERM1!G115","v":0},null,null,null,null,null,0,null,null,null,null,null,null,0,null,null,null,null,null,null,null,0,null,null,null,null,null,null,null,0,null,null,null,null,null,null,null,0,null,null,null,null,null,0,null,null,null,0,null,null,null,null,null,null,null,null,null,null,0,null,null,null,null,null,null,null,null,0,null,null,null,null,null,null,0,null,null,null,null,null,null,0,null,null,null,0,null,null,0,null,null,null,null,null,null,0,null,null,null,null,null,null,0,0,0,0,0]
[2,74,{"$f":"TERM1!E32","v":0},{"$f":"TERM1!F32","v":0},{"$f":"TERM1!G32","v":0},null,null,null,null,null,0,null,null,null,null,null,null,0,null,null,null,null,null,null,null,0,null,null,null,null,null,null,null,0,null,null,null,null,null,null,null,0,null,null,null,null,null,0,null,null,null,0,null,null,null,null,null,null,null,null,null,null,0,null,null,null,null,null,null,null,null,0,null,null,null,null,null,null,0,null,null,null,null,null,null,0,null,null,null,0,null,null,0,null,null,null,null,null,null,0,null,null,null,null,null,null,0,0,0,0,0]
[2,75,{"$f":"TERM1!E22","v":0},{"$f":"TERM1!F22","v":0},{"$f":"TERM1!G22","v":0},null,null,null,null,null,0,null,null,null,null,null,null,0,null,null,null,null,null,null,null,0,null,null,null,null,null,null,null,0,null,null,null,null,null,null,null,0,null,null,null,null,null,0,null,null,null,0,null,null,null,null,null,null,null,null,null,null,0,null,null,null,null,null,null,null,null,0,null,null,null,null,null,null,0,null,null,null,null,null,null,0,null,null,null,0,null,null,0,null,null,null,null,null,null,0,null,null,null,null,null,null,0,0,0,0,0]
[2,76,{"$f":"TERM1!E34","v":0},{"$f":"TERM1!F34","v":0},{"$f":"TERM1!G34","v":0},null,null,null,null,null,0,null,null,null,null,null,null,0,null,null,null,null,null,null,null,0,null,null,null,null,null,null,null,0,null,null,null,null,null,null,null,0,null,null,null,null,null,0,null,null,null,0,null,null,null,null,null,null,null,null,null,null,0,null,null,null,null,null,null,null,null,0,null,null,null,null,null,null,0,null,null,null,null,null,null,0,null,null,null,0,null,null,0,null,null,null,null,null,null,0,null,null,null,null,null,null,0,0,0,0,0]
[2,77,{"$f":"TERM1!E38","v":0},{"$f":"TERM1!F38","v":0},{"$f":"TERM1!G38","v":0},null,null,null,null,null,0,null,null,null,null,null,null,0,null,null,null,null,null,null,null,0,null,null,null,null,null,null,null,0,null,null,null,null,null,null,null,0,null,null,null,null,null,0,null,null,null,0,null,null,null,null,null,null,null,null,null,null,0,null,null,null,null,null,null,null,null,0,null,null,null,null,null,null,0,null,null,null,null,null,null,0,null,null,null,0,null,null,0,null,null,null,null,null,null,0,null,null,null,null,null,null,0,0,0,0,0]
[2,78,{"$f":"TERM1!E35","v":0},{"$f":"TERM1!F35","v":0},{"$f":"TERM1!G35","v":0},null,null,null,null,null,0,null,null,null,null,null,null,0,null,null,null,null,null,null,null,0,null,null,null,null,null,null,null,0,null,null,null,null,null,null,null,0,null,null,null,null,null,0,null,null,null,0,null,null,null,null,null,null,null,null,null,null,0,null,null,null,null,null,null,null,null,0,null,null,null,null,null,null,0,null,null,null,null,null,null,0,null,null,null,0,null,null,0,null,null,null,null,null,null,0,null,null,null,null,null,null,0,0,0,0,0]
[2,79,{"$f":"TERM1!E29","v":0},{"$f":"TERM1!F29","v":0},{"$f":"TERM1!G29","v":0},null,null,null,null,null,0,null,null,null,null,null,null,0,null,null,null,null,null,null,null,0,null,null,null,null,null,null,null,0,null,null,null,null,null,null,null,0,null,null,null,null,null,0,null,null,null,0,null,null,null,null,null,null,null,null,null,null,0,null,null,null,null,null,null,null,null,0,null,null,null,null,null,null,0,null,null,null,null,null,null,0,null,null,null,0,null,null,0,null,null,null,null,null,null,0,null,null,null,null,null,null,0,0,0,0,0]
[2,80,{"$f":"TERM1!E30","v":0},{"$f":"TERM1!F30","v":0},{"$f":"TERM1!G30","v":0},null,null,null,null,null,0,null,null,null,null,null,null,0,null,null,null,null,null,null,null,0,null,null,null,null,null,null,null,0,null,null,null,null,null,null,null,0,null,null,null,null,null,0,null,null,null,0,null,null,null,null,null,null,null,null,null,null,0,null,null,null,null,null,null,null,null,0,null,null,null,null,null,null,0,null,null,null,null,null,null,0,null,null,null,0,null,null,0,null,null,null,null,null,null,0,null,null,null,null,null,null,0,0,0,0,0]
[2,81,{"$f":"TERM1!E25","v":0},{"$f":"TERM1!F25","v":0},{"$f":"TERM1!G25","v":0},null,null,null,null,null,0,null,null,null,null,null,null,0,null,null,null,null,null,null,null,0,null,null,null,null,null,null,null,0,null,null,null,null,null,null,null,0,null,null,null,null,null,0,null,null,null,0,null,null,null,null,null,null,null,null,null,null,0,null,null,null,null,null,null,null,null,0,null,null,null,null,null,null,0,null,null,null,null,null,null,0,null,null,null,0,null,null,0,null,null,null,null,null,null,0,null,null,null,null,null,null,0,0,0,0,0]
[2,82,{"$f":"TERM1!E19","v":0},{"$f":"TERM1!F19","v":0},{"$f":"TERM1!G19","v":0},null,null,null,null,null,0,null,null,null,null,null,null,0,null,null,null,null,null,null,null,0,null,null,null,null,null,null,null,0,null,null,null,null,null,null,null,0,null,null,null,null,null,0,null,null,null,0,null,null,null,null,null,null,null,null,null,null,0,null,null,null,null,null,null,null,null,0,null,null,null,null,null,null,0,null,null,null,null,null,null,0,null,null,null,0,null,null,0,null,null,null,null,null,null,0,null,null,null,null,null,null,0,0,0,0,0]
[2,83,{"$f":"TERM1!E28","v":0},{"$f":"TERM1!F28","v":0},{"$f":"TERM1!G28","v":0},null,null,null,null,null,0,null,null,null,null,null,null,0,null,null,null,null,null,null,null,0,null,null,null,null,null,null,null,0,null,null,null,null,null,null,null,0,null,null,null,null,null,0,null,null,null,0,null,null,null,null,null,null,null,null,null,null,0,null,null,null,null,null,null,null,null,0,null,null,null,null,null,null,0,null,null,null,null,null,null,0,null,null,null,0,null,null,0,null,null,null,null,null,null,0,null,null,null,null,null,null,0,0,0,0,0]
[2,84,{"$f":"TERM1!E41","v":0},{"$f":"TERM1!F41","v":0},{"$f":"TERM1!G41","v":0},null,null,null,null,null,0,null,null,null,null,null,null,0,null,null,null,null,null,null,null,0,null,null,null,null,null,null,null,0,null,null,null,null,null,null,null,0,null,null,null,null,null,0,null,null,null,0,null,null,null,null,null,null,null,null,null,null,0,null,null,null,null,null,null,null,null,0,null,null,null,null,null,null,0,null,null,null,null,null,null,0,null,null,null,0,null,null,0,null,null,null,null,null,null,0,null,null,null,null,null,null,0,0,0,0,0]
[2,85,{"$f":"TERM1!E42","v":0},{"$f":"TERM1!F42","v":0},{"$f":"TERM1!G42","v":0},null,null,null,null,null,0,null,null,null,null,null,null,0,null,null,null,null,null,null,null,0,null,null,null,null,null,null,null,0,null,null,null,null,null,null,null,0,null,null,null,null,null,0,null,null,null,0,null,null,null,null,null,null,null,null,null,null,0,null,null,null,null,null,null,null,null,0,null,null,null,null,null,null,0,null,null,null,null,null,null,0,null,null,null,0,null,null,0,null,null,null,null,null,null,0,null,null,null,null,null,null,0,0,0,0,0]
[2,86,{"$f":"TERM1!E33","v":0},{"$f":"TERM1!F33","v":0},{"$f":"TERM1!G33","v":0},null,null,null,null,null,0,null,null,null,null,null,null,0,null,null,null,null,null,null,null,0,null,null,null,null,null,null,null,0,null,null,null,null,null,null,null,0,null,null,null,null,null,0,null,null,null,0,null,null,null,null,null,null,null,null,null,null,0,null,null,null,null,null,null,null,null,0,null,null,null,null,null,null,0,null,null,null,null,null,null,0,null,null,null,0,null,null,0,null,null,null,null,null,null,0,null,null,null,null,null,null,0,0,0,0,0]
[2,87,{"$f":"TERM1!E24","v":0},{"$f":"TERM1!F24","v":0},{"$f":"TERM1!G24","v":0},null,null,null,null,null,0,null,null,null,null,null,null,0,null,null,null,null,null,null,null,0,null,null,null,null,null,null,null,0,null,null,null,null,null,null,null,0,null,null,null,null,null,0,null,null,null,0,null,null,null,null,null,null,null,null,null,null,0,null,null,null,null,null,null,null,null,0,null,null,null,null,null,null,0,null,null,null,null,null,null,0,null,null,null,0,null,null,0,null,null,null,null,null,null,0,null,null,null,null,null,null,0,0,0,0,0]
[2,88,{"$f":"TERM1!E27","v":0},{"$f":"TERM1!F27","v":0},{"$f":"TERM1!G27","v":0},null,null,null,null,null,0,null,null,null,null,null,null,0,null,null,null,null,null,null,null,0,null,null,null,null,null,null,null,0,null,null,null,null,null,null,null,0,null,null,null,null,null,0,null,null,null,0,null,null,null,null,null,null,null,null,null,null,0,null,null,null,null,null,null,null,null,0,null,null,null,null,null,null,0,null,null,null,null,null,null,0,null,null,null,0,null,null,0,null,null,null,null,null,null,0,null,null,null,null,null,null,0,0,0,0,0]
[2,89,{"$f":"TERM1!E16","v":0},{"$f":"TERM1!F16","v":0},{"$f":"TERM1!G16","v":0},null,null,null,null,null,0,null,null,null,null,null,null,0,null,null,null,null,null,null,null,0,null,null,null,null,null,null,null,0,null,null,null,null,null,null,null,0,null,null,null,null,null,0,null,null,null,0,null,null,null,null,null,null,null,null,null,null,0,null,null,null,null,null,null,null,null,0,null,null,null,null,null,null,0,null,null,null,null,null,null,0,null,null,null,0,null,null,0,null,null,null,null,null,null,0,null,null,null,null,null,null,0,0,0,0,0]
[2,90,{"$f":"TERM1!E26","v":0},{"$f":"TERM1!F26","v":0},{"$f":"TERM1!G26","v":0},null,null,null,null,null,0,null,null,null,null,null,null,0,null,null,null,null,null,null,null,0,null,null,null,null,null,null,null,0,null,null,null,null,null,null,null,0,null,null,null,null,null,0,null,null,null,0,null,null,null,null,null,null,null,null,null,null,0,null,null,null,null,null,null,null,null,0,null,null,null,null,null,null,0,null,null,null,null,null,null,0,null,null,null,0,null,null,0,null,null,null,null,null,null,0,null,null,null,null,null,null,0,0,0,0,0]
[2,91,{"$f":"TERM1!E23","v":0},{"$f":"TERM1!F23","v":0},{"$f":"TERM1!G23","v":0},null,null,null,null,null,0,null,null,null,null,null,null,0,null,null,null,null,null,null,null,0,null,null,null,null,null,null,null,0,null,null,null,null,null,null,null,0,null,null,null,null,null,0,null,null,null,0,null,null,null,null,null,null,null,null,null,null,0,null,null,null,null,null,null,null,null,0,null,null,null,null,null,null,0,null,null,null,null,null,null,0,null,null,null,0,null,null,0,null,null,null,null,null,null,0,null,null,null,null,null,null,0,0,0,0,0]
[2,92,{"$f":"TERM1!E31","v":0},{"$f":"TERM1!F31","v":0},{"$f":"TERM1!G31","v":0},null,null,null,null,null,0,null,null,null,null,null,null,0,null,null,null,null,null,null,null,0,null,null,null,null,null,null,null,0,null,null,null,null,null,null,null,0,null,null,null,null,null,0,null,null,null,0,null,null,null,null,null,null,null,null,null,null,0,null,null,null,null,null,null,null,null,0,null,null,null,null,null,null,0,null,null,null,null,null,null,0,null,null,null,0,null,null,0,null,null,null,null,null,null,0,null,null,null,null,null,null,0,0,0,0,0]
[2,93,{"$f":"TERM1!E21","v":0},{"$f":"TERM1!F21","v":0},{"$f":"TERM1!G21","v":0},null,null,null,null,null,0,null,null,null,null,null,null,0,null,null,null,null,null,null,null,0,null,null,null,null,null,null,null,0,null,null,null,null,null,null,null,0,null,null,null,null,null,0,null,null,null,0,null,null,null,null,null,null,null,null,null,null,0,null,null,null,null,null,null,null,null,0,null,null,null,null,null,null,0,null,null,null,null,null,null,0,null,null,null,0,null,null,0,null,null,null,null,null,null,0,null,null,null,null,null,null,0,0,0,0,0]
[2,94,{"$f":"TERM1!E36","v":0},{"$f":"TERM1!F36","v":0},{"$f":"TERM1!G36","v":0},null,null,null,null,null,0,null,null,null,null,null,null,0,null,null,null,null,null,null,null,0,null,null,null,null,null,null,null,0,null,null,null,null,null,null,null,0,null,null,null,null,null,0,null,null,null,0,null,null,null,null,null,null,null,null,null,null,0,null,null,null,null,null,null,null,null,0,null,null,null,null,null,null,0,null,null,null,null,null,null,0,null,null,null,0,null,null,0,null,null,null,null,null,null,0,null,null,null,null,null,null,0,0,0,0,0]
[2,95,{"$f":"TERM1!E17","v":0},{"$f":"TERM1!F17","v":0},{"$f":"TERM1!G17","v":0},null,null,null,null,null,0,null,null,null,null,null,null,0,null,null,null,null,null,null,null,0,null,null,null,null,null,null,null,0,null,null,null,null,null,null,null,0,null,null,null,null,null,0,null,null,null,0,null,null,null,null,null,null,null,null,null,null,0,null,null,null,null,null,null,null,null,0,null,null,null,null,null,null,0,null,null,null,null,null,null,0,null,null,null,0,null,null,0,null,null,null,null,null,null,0,null,null,null,null,null,null,0,0,0,0,0]
[2,96,{"$f":"TERM1!E39","v":0},{"$f":"TERM1!F39","v":0},{"$f":"TERM1!G39","v":0},null,null,null,null,null,0,null,null,null,null,null,null,0,null,null,null,null,null,null,null,0,null,null,null,null,null,null,null,0,null,null,null,null,null,null,null,0,null,null,null,null,null,0,null,null,null,0,null,null,null,null,null,null,null,null,null,null,0,null,null,null,null,null,null,null,null,0,null,null,null,null,null,null,0,null,null,null,null,null,null,0,null,null,null,0,null,null,0,null,null,null,null,null,null,0,null,null,null,null,null,null,0,0,0,0,0]
[2,97,{"$f":"TERM1!E18","v":0},{"$f":"TERM1!F18","v":0},{"$f":"TERM1!G18","v":0},null,null,null,null,null,{"$f":"SUM(F111:J111)","v":0},null,null,null,null,null,null,{"$f":"SUM(L111:Q111)","v":0},null,null,null,null,null,null,null,{"$f":"ROUND((SUM(S111:Y111)/1.5),0)","v":0},null,null,null,null,null,null,null,{"$f":"ROUND((SUM(AA111:AG111)/1.5),0)","v":0},null,null,null,null,null,null,null,{"$f":"ROUND((SUM(AI111:AO111)/1.5),0)","v":0},null,null,null,null,null,{"$f":"SUM(AQ111:AU111)","v":0},null,null,null,{"$f":"SUM(AW111:AY111)","v":0},null,null,null,null,null,null,null,null,null,null,{"$f":"ROUND((SUM(BA111:BJ111)/2),0)","v":0},null,null,null,null,null,null,null,null,{"$f":"ROUND((SUM(BL111:BS111)/1.5),0)","v":0},null,null,null,null,null,null,{"$f":"SUM(BU111:BZ111)","v":0},null,null,null,null,null,null,{"$f":"SUM(CB111:CG111)","v":0},null,null,null,{"$f":"SUM(CI111:CK111)","v":0},null,null,{"$f":"SUM(CM111:CN111)","v":0},null,null,null,null,null,null,{"$f":"SUM(CP111:CU111)","v":0},null,null,null,null,null,null,0,0,0,{"$f":"ROUND(IF(DE111=4,SUM(CW111:CZ111)/1.6,IF(DE111=6,SUM(CW111:DB111)/2.4,SUM(CW111:CZ111))),0)","v":0},{"$f":"SUM(DC111+DD111+DF111)","v":0}]
[2,98,{"$f":"TERM1!E40","v":0},{"$f":"TERM1!F40","v":0},{"$f":"TERM1!G40","v":0},null,null,null,null,null,0,null,null,null,null,null,null,0,null,null,null,null,null,null,null,0,null,null,null,null,null,null,null,0,null,null,null,null,null,null,null,0,null,null,null,null,null,0,null,null,null,0,null,null,null,null,null,null,null,null,null,null,0,null,null,null,null,null,null,null,null,0,null,null,null,null,null,null,0,null,null,null,null,null,null,0,null,null,null,0,null,null,0,null,null,null,null,null,null,0,null,null,null,null,null,null,0,0,0,0,0]
[2,99,{"$f":"TERM1!E37","v":0},{"$f":"TERM1!F37","v":0},{"$f":"TERM1!G37","v":0},null,null,null,null,null,0,null,null,null,null,null,null,0,null,null,null,null,null,null,null,0,null,null,null,null,null,null,null,0,null,null,null,null,null,null,null,0,null,null,null,null,null,0,null,null,null,0,null,null,null,null,null,null,null,null,null,null,0,null,null,null,null,null,null,null,null,0,null,null,null,null,null,null,0,null,null,null,null,null,null,0,null,null,null,0,null,null,0,null,null,null,null,null,null,0,null,null,null,null,null,null,0,0,0,0,0]
[2,100,{"$f":"TERM1!E20","v":0},{"$f":"TERM1!F20","v":0},{"$f":"TERM1!G20","v":0},null,null,null,null,null,0,null,null,null,null,null,null,0,null,null,null,null,null,null,null,0,null,null,null,null,null,null,null,0,null,null,null,null,null,null,null,0,null,null,null,null,null,0,null,null,null,0,null,null,null,null,null,null,null,null,null,null,0,null,null,null,null,null,null,null,null,0,null,null,null,null,null,null,0,null,null,null,null,null,null,0,null,null,null,0,null,null,0,null,null,null,null,null,null,0,null,null,null,null,null,null,0,0,0,0,0]
[null,"Total amount of learners on mark sheet",null,"TOTAL",null,{"$f":"SUM(F15:F114)","v":0},{"$f":"SUM(G15:G114)","v":0},0,0,0,0,0,0,0,0,0,0,0,0,0,0,0,0,0,0,0,0,0,0,0,0,0,0,0,0,0,0,0,0,0,0,0,0,0,0,0,0,0,{"$f":"SUM(AW15:AW114)","v":0},0,0,0,0,0,0,0,0,0,0,0,0,0,0,0,0,0,0,0,0,0,0,0,0,0,{"$f":"SUM(BW15:BW114)","v":0},0,0,0,0,0,0,0,0,0,0,0,0,0,0,0,0,0,0,0,0,0,0,0,0,0,0,0,0,0,0,0,{"$f":"SUM(DC15:DC114)","v":0},{"$f":"SUM(DD15:DD114)","v":0},null,{"$f":"SUM(DF15:DF114)","v":0},{"$f":"SUM(DG15:DG114)","v":0}]
[null,null,null,"AVERAGE",null,{"$f":"ROUND(SUM(F115/$B$119),2)","v":{"$error":"#DIV/0!"}},{"$error":"#DIV/0!"},{"$error":"#DIV/0!"},{"$error":"#DIV/0!"},{"$error":"#DIV/0!"},{"$error":"#DIV/0!"},{"$error":"#DIV/0!"},{"$error":"#DIV/0!"},{"$error":"#DIV/0!"},{"$error":"#DIV/0!"},{"$error":"#DIV/0!"},{"$error":"#DIV/0!"},{"$error":"#DIV/0!"},{"$error":"#DIV/0!"},{"$error":"#DIV/0!"},{"$error":"#DIV/0!"},{"$error":"#DIV/0!"},{"$error":"#DIV/0!"},{"$error":"#DIV/0!"},{"$error":"#DIV/0!"},{"$error":"#DIV/0!"},{"$error":"#DIV/0!"},{"$error":"#DIV/0!"},{"$error":"#DIV/0!"},{"$error":"#DIV/0!"},{"$error":"#DIV/0!"},{"$error":"#DIV/0!"},{"$error":"#DIV/0!"},{"$error":"#DIV/0!"},{"$error":"#DIV/0!"},{"$error":"#DIV/0!"},{"$error":"#DIV/0!"},{"$error":"#DIV/0!"},{"$error":"#DIV/0!"},{"$error":"#DIV/0!"},{"$error":"#DIV/0!"},{"$error":"#DIV/0!"},{"$error":"#DIV/0!"},{"$error":"#DIV/0!"},{"$error":"#DIV/0!"},{"$error":"#DIV/0!"},{"$error":"#DIV/0!"},{"$error":"#DIV/0!"},{"$f":"ROUND(SUM(AW115/$B$119),2)","v":{"$error":"#DIV/0!"}},{"$error":"#DIV/0!"},{"$error":"#DIV/0!"},{"$error":"#DIV/0!"},{"$error":"#DIV/0!"},{"$error":"#DIV/0!"},{"$error":"#DIV/0!"},{"$error":"#DIV/0!"},{"$error":"#DIV/0!"},{"$error":"#DIV/0!"},{"$error":"#DIV/0!"},{"$error":"#DIV/0!"},{"$error":"#DIV/0!"},{"$error":"#DIV/0!"},{"$error":"#DIV/0!"},{"$error":"#DIV/0!"},{"$error":"#DIV/0!"},{"$error":"#DIV/0!"},{"$error":"#DIV/0!"},{"$error":"#DIV/0!"},{"$error":"#DIV/0!"},{"$error":"#DIV/0!"},{"$error":"#DIV/0!"},{"$error":"#DIV/0!"},{"$error":"#DIV/0!"},{"$f":"ROUND(SUM(BV115/$B$119),2)","v":{"$error":"#DIV/0!"}},{"$error":"#DIV/0!"},{"$error":"#DIV/0!"},{"$error":"#DIV/0!"},{"$error":"#DIV/0!"},{"$error":"#DIV/0!"},{"$error":"#DIV/0!"},{"$error":"#DIV/0!"},{"$error":"#DIV/0!"},{"$error":"#DIV/0!"},{"$error":"#DIV/0!"},{"$error":"#DIV/0!"},{"$error":"#DIV/0!"},{"$error":"#DIV/0!"},{"$error":"#DIV/0!"},{"$error":"#DIV/0!"},{"$error":"#DIV/0!"},{"$error":"#DIV/0!"},{"$error":"#DIV/0!"},{"$error":"#DIV/0!"},{"$error":"#DIV/0!"},{"$error":"#DIV/0!"},{"$error":"#DIV/0!"},{"$error":"#DIV/0!"},{"$error":"#DIV/0!"},{"$error":"#DIV/0!"},{"$error":"#DIV/0!"},{"$error":"#DIV/0!"},{"$error":"#DIV/0!"},{"$error":"#DIV/0!"},{"$error":"#DIV/0!"},{"$error":"#DIV/0!"},{"$error":"#DIV/0!"},{"$error":"#DIV/0!"},{"$error":"#DIV/0!"},{"$error":"#DIV/0!"},{"$error":"#DIV/0!"},{"$f":"ROUND(SUM(DG115/$B$119),2)","v":{"$error":"#DIV/0!"}}]
[null,null,null,"PERCENTAGE",null,{"$f":"ROUND((SUM(F116/F12)*100),0)","v":{"$error":"#DIV/0!"}},{"$f":"ROUND((SUM(G116/G12)*100),0)","v":{"$error":"#DIV/0!"}},{"$error":"#DIV/0!"},{"$error":"#DIV/0!"},{"$error":"#DIV/0!"},{"$error":"#DIV/0!"},{"$error":"#DIV/0!"},{"$error":"#DIV/0!"},{"$error":"#DIV/0!"},{"$error":"#DIV/0!"},{"$error":"#DIV/0!"},{"$error":"#DIV/0!"},{"$error":"#DIV/0!"},{"$error":"#DIV/0!"},{"$error":"#DIV/0!"},{"$error":"#DIV/0!"},{"$error":"#DIV/0!"},{"$error":"#DIV/0!"},{"$error":"#DIV/0!"},{"$error":"#DIV/0!"},{"$error":"#DIV/0!"},{"$error":"#DIV/0!"},{"$error":"#DIV/0!"},{"$error":"#DIV/0!"},{"$error":"#DIV/0!"},{"$error":"#DIV/0!"},{"$error":"#DIV/0!"},{"$error":"#DIV/0!"},{"$error":"#DIV/0!"},{"$error":"#DIV/0!"},{"$error":"#DIV/0!"},{"$error":"#DIV/0!"},{"$error":"#DIV/0!"},{"$error":"#DIV/0!"},{"$error":"#DIV/0!"},{"$error":"#DIV/0!"},{"$error":"#DIV/0!"},{"$error":"#DIV/0!"},{"$error":"#DIV/0!"},{"$error":"#DIV/0!"},{"$error":"#DIV/0!"},{"$error":"#DIV/0!"},{"$error":"#DIV/0!"},{"$f":"ROUND((SUM(AW116/AW12)*100),0)","v":{"$error":"#DIV/0!"}},{"$error":"#DIV/0!"},{"$error":"#DIV/0!"},{"$error":"#DIV/0!"},{"$error":"#DIV/0!"},{"$error":"#DIV/0!"},{"$error":"#DIV/0!"},{"$error":"#DIV/0!"},{"$error":"#DIV/0!"},{"$error":"#DIV/0!"},{"$error":"#DIV/0!"},{"$error":"#DIV/0!"},{"$error":"#DIV/0!"},{"$error":"#DIV/0!"},{"$error":"#DIV/0!"},{"$error":"#DIV/0!"},{"$error":"#DIV/0!"},{"$error":"#DIV/0!"},{"$error":"#DIV/0!"},{"$error":"#DIV/0!"},{"$error":"#DIV/0!"},{"$error":"#DIV/0!"},{"$error":"#DIV/0!"},{"$error":"#DIV/0!"},{"$error":"#DIV/0!"},{"$error":"#DIV/0!"},{"$f":"ROUND((SUM(BW116/BW12)*100),0)","v":{"$error":"#DIV/0!"}},{"$error":"#DIV/0!"},{"$error":"#DIV/0!"},{"$error":"#DIV/0!"},{"$error":"#DIV/0!"},{"$error":"#DIV/0!"},{"$error":"#DIV/0!"},{"$error":"#DIV/0!"},{"$error":"#DIV/0!"},{"$error":"#DIV/0!"},{"$error":"#DIV/0!"},{"$error":"#DIV/0!"},{"$error":"#DIV/0!"},{"$error":"#DIV/0!"},{"$error":"#DIV/0!"},{"$error":"#DIV/0!"},{"$error":"#DIV/0!"},{"$error":"#DIV/0!"},{"$error":"#DIV/0!"},{"$error":"#DIV/0!"},{"$error":"#DIV/0!"},{"$error":"#DIV/0!"},{"$error":"#DIV/0!"},{"$error":"#DIV/0!"},{"$error":"#DIV/0!"},{"$error":"#DIV/0!"},{"$error":"#DIV/0!"},{"$error":"#DIV/0!"},{"$error":"#DIV/0!"},{"$error":"#DIV/0!"},{"$error":"#DIV/0!"},{"$error":"#DIV/0!"},{"$f":"ROUND((SUM(DC116/DC12)*100),0)","v":{"$error":"#DIV/0!"}},{"$f":"ROUND((SUM(DD116/DD12)*100),0)","v":{"$error":"#DIV/0!"}},null,{"$f":"ROUND((SUM(DF116/DF12)*100),0)","v":{"$error":"#DIV/0!"}},{"$f":"ROUND((SUM(DG116/DG12)*100),0)","v":{"$error":"#DIV/0!"}}]
[]
[null,{"$f":"TERM1!$B$120","v":0},null,"TOTAL HANDED IN",null,{"$f":"COUNT(F15:F114)","v":0},{"$f":"COUNT(G15:G114)","v":0},0,0,0,null,0,0,0,0,0,0,null,0,0,0,0,0,0,0,null,0,0,0,0,0,0,0,null,0,0,0,0,0,0,0,null,0,0,0,0,0,null,0,0,0,null,0,0,0,0,0,0,0,0,0,0,null,0,0,0,0,0,0,0,0,null,0,0,{"$f":"COUNT(BW15:BW114)","v":0},0,0,0,null,0,0,0,0,0,0,null,0,0,0,null,0,0,null,0,0,0,0,0,0,null,0,0,0,0,0,0]

{"sheet":"SASAMS TERM1","index":8,"n_rows":113,"n_cols":16,"rows_kept":113,"cut":false,"hidden":false,"merged":[[110,0,112,3],[110,5,112,6],[5,0,5,4],[0,12,2,14],[2,0,2,6],[3,0,3,4],[3,12,5,12],[3,13,5,13],[3,14,5,14],[4,0,4,6],[0,0,0,5],[1,0,1,2]]}
["       Engineering Graphics and Design (Gr 10)\n      Term 1:",null,null,null,null,null,"TASKS",null,null,null,"TASK 1","TASK 2"]
["Grade:",null,null,{"$f":"TERM1!$F$6","v":0},null,null,"Activities",{"$f":"TERM1!$I$4","v":"CD1  Free-hand drawing"},{"$f":"TERM1!$AA$4","v":"CD2  1st Geometrical Drawing"},{"$f":"TERM1!$AS$4","v":"CD3  2nd Geometrical Drawing"},null,null,"100"]
["Weighting ",null,null,null,null,null,null,33,33,34,100,60]
[" Marks: -1 = Absent,  -2 = Not Captured",null,null,null,null,null,"Total Mark",10,10,10,30,50,"TOTAL Weighted Mark","Term\n%","Level"]
["SBA Year Mark Weight ",null,null,null,null,null,null,null,null,null,7.5,15]
[null,null,null,null,null,null,"Term \n /Date ",null,null,null,"Term1","Term1"]
["No",null,"Class","Acc No","Surname","Name","Gender","T1:A1","T1:A2","T1:A3","T1","T2",100,100]
[]
[1,1,{"$f":"INSERT!A3","v":0},{"$f":"INSERT!B3","v":0},{"$f":"INSERT!C3","v":0},{"$f":"INSERT!D3","v":0},{"$f":"INSERT!E3","v":0},{"$f":"TERM1!Z16","v":0},{"$f":"TERM1!AR16","v":0},{"$f":"TERM1!BJ16","v":0},{"$f":"SUMIF(H9:J9,\">0\")","v":0},{"$f":"TERM1!BO16","v":0},{"$f":"SUM(H9/0.303030303)+SUM(I9/0.303030303)+SUM(J9/0.294117647)","v":0},{"$f":"ROUND(M9,0)","v":0},{"$f":"IF(N9>79,\"7\",IF(N9>69,\"6\",IF(N9>59,\"5\",IF(N9>49,\"4\",IF(N9>39,\"3\",IF(N9>29,\"2\",IF(N9>0,\"1\",IF(N9=0,\"\"))))))))","v":""}]
[2,2,{"$f":"INSERT!A4","v":0},{"$f":"INSERT!B4","v":0},{"$f":"INSERT!C4","v":0},{"$f":"INSERT!D4","v":0},{"$f":"INSERT!E4","v":0},{"$f":"TERM1!Z17","v":0},{"$f":"TERM1!AR17","v":0},{"$f":"TERM1!BJ17","v":0},{"$f":"SUMIF(H10:J10,\">0\")","v":0},{"$f":"TERM1!BO17","v":0},{"$f":"SUM(H10/0.303030303)+SUM(I10/0.303030303)+SUM(J10/0.294117647)","v":0},{"$f":"ROUND(M10,0)","v":0},{"$f":"IF(N10>79,\"7\",IF(N10>69,\"6\",IF(N10>59,\"5\",IF(N10>49,\"4\",IF(N10>39,\"3\",IF(N10>29,\"2\",IF(N10>0,\"1\",IF(N10=0,\"\"))))))))","v":""}]
[3,3,{"$f":"INSERT!A5","v":0},{"$f":"INSERT!B5","v":0},{"$f":"INSERT!C5","v":0},{"$f":"INSERT!D5","v":0},{"$f":"INSERT!E5","v":0},{"$f":"TERM1!Z18","v":0},{"$f":"TERM1!AR18","v":0},{"$f":"TERM1!BJ18","v":0},0,{"$f":"TERM1!BO18","v":0},0,0,""]
[4,4,{"$f":"INSERT!A6","v":0},{"$f":"INSERT!B6","v":0},{"$f":"INSERT!C6","v":0},{"$f":"INSERT!D6","v":0},{"$f":"INSERT!E6","v":0},{"$f":"TERM1!Z19","v":0},{"$f":"TERM1!AR19","v":0},{"$f":"TERM1!BJ19","v":0},0,{"$f":"TERM1!BO19","v":0},0,0,""]
[5,5,{"$f":"INSERT!A7","v":0},{"$f":"INSERT!B7","v":0},{"$f":"INSERT!C7","v":0},{"$f":"INSERT!D7","v":0},{"$f":"INSERT!E7","v":0},{"$f":"TERM1!Z20","v":0},{"$f":"TERM1!AR20","v":0},{"$f":"TERM1!BJ20","v":0},0,{"$f":"TERM1!BO20","v":0},0,0,""]
[6,6,{"$f":"INSERT!A8","v":0},{"$f":"INSERT!B8","v":0},{"$f":"INSERT!C8","v":0},{"$f":"INSERT!D8","v":0},{"$f":"INSERT!E8","v":0},{"$f":"TERM1!Z21","v":0},{"$f":"TERM1!AR21","v":0},{"$f":"TERM1!BJ21","v":0},0,{"$f":"TERM1!BO21","v":0},0,0,""]
[7,7,{"$f":"INSERT!A9","v":0},{"$f":"INSERT!B9","v":0},{"$f":"INSERT!C9","v":0},{"$f":"INSERT!D9","v":0},{"$f":"INSERT!E9","v":0},{"$f":"TERM1!Z22","v":0},{"$f":"TERM1!AR22","v":0},{"$f":"TERM1!BJ22","v":0},0,{"$f":"TERM1!BO22","v":0},0,0,""]
[8,8,{"$f":"INSERT!A10","v":0},{"$f":"INSERT!B10","v":0},{"$f":"INSERT!C10","v":0},{"$f":"INSERT!D10","v":0},{"$f":"INSERT!E10","v":0},{"$f":"TERM1!Z23","v":0},{"$f":"TERM1!AR23","v":0},{"$f":"TERM1!BJ23","v":0},0,{"$f":"TERM1!BO23","v":0},0,0,""]
[9,9,{"$f":"INSERT!A11","v":0},{"$f":"INSERT!B11","v":0},{"$f":"INSERT!C11","v":0},{"$f":"INSERT!D11","v":0},{"$f":"INSERT!E11","v":0},{"$f":"TERM1!Z24","v":0},{"$f":"TERM1!AR24","v":0},{"$f":"TERM1!BJ24","v":0},0,{"$f":"TERM1!BO24","v":0},0,0,""]
[10,10,{"$f":"INSERT!A12","v":0},{"$f":"INSERT!B12","v":0},{"$f":"INSERT!C12","v":0},{"$f":"INSERT!D12","v":0},{"$f":"INSERT!E12","v":0},{"$f":"TERM1!Z25","v":0},{"$f":"TERM1!AR25","v":0},{"$f":"TERM1!BJ25","v":0},0,{"$f":"TERM1!BO25","v":0},0,0,""]
[11,11,{"$f":"INSERT!A13","v":0},{"$f":"INSERT!B13","v":0},{"$f":"INSERT!C13","v":0},{"$f":"INSERT!D13","v":0},{"$f":"INSERT!E13","v":0},{"$f":"TERM1!Z26","v":0},{"$f":"TERM1!AR26","v":0},{"$f":"TERM1!BJ26","v":0},0,{"$f":"TERM1!BO26","v":0},0,0,""]
[12,12,{"$f":"INSERT!A14","v":0},{"$f":"INSERT!B14","v":0},{"$f":"INSERT!C14","v":0},{"$f":"INSERT!D14","v":0},{"$f":"INSERT!E14","v":0},{"$f":"TERM1!Z27","v":0},{"$f":"TERM1!AR27","v":0},{"$f":"TERM1!BJ27","v":0},0,{"$f":"TERM1!BO27","v":0},0,0,""]
[13,13,{"$f":"INSERT!A15","v":0},{"$f":"INSERT!B15","v":0},{"$f":"INSERT!C15","v":0},{"$f":"INSERT!D15","v":0},{"$f":"INSERT!E15","v":0},{"$f":"TERM1!Z28","v":0},{"$f":"TERM1!AR28","v":0},{"$f":"TERM1!BJ28","v":0},0,{"$f":"TERM1!BO28","v":0},0,0,""]
[14,14,{"$f":"INSERT!A16","v":0},{"$f":"INSERT!B16","v":0},{"$f":"INSERT!C16","v":0},{"$f":"INSERT!D16","v":0},{"$f":"INSERT!E16","v":0},{"$f":"TERM1!Z29","v":0},{"$f":"TERM1!AR29","v":0},{"$f":"TERM1!BJ29","v":0},0,{"$f":"TERM1!BO29","v":0},0,0,""]
[15,15,{"$f":"INSERT!A17","v":0},{"$f":"INSERT!B17","v":0},{"$f":"INSERT!C17","v":0},{"$f":"INSERT!D17","v":0},{"$f":"INSERT!E17","v":0},{"$f":"TERM1!Z30","v":0},{"$f":"TERM1!AR30","v":0},{"$f":"TERM1!BJ30","v":0},0,{"$f":"TERM1!BO30","v":0},0,0,""]
[16,16,{"$f":"INSERT!A18","v":0},{"$f":"INSERT!B18","v":0},{"$f":"INSERT!C18","v":0},{"$f":"INSERT!D18","v":0},{"$f":"INSERT!E18","v":0},{"$f":"TERM1!Z31","v":0},{"$f":"TERM1!AR31","v":0},{"$f":"TERM1!BJ31","v":0},0,{"$f":"TERM1!BO31","v":0},0,0,""]
[17,17,{"$f":"INSERT!A19","v":0},{"$f":"INSERT!B19","v":0},{"$f":"INSERT!C19","v":0},{"$f":"INSERT!D19","v":0},{"$f":"INSERT!E19","v":0},{"$f":"TERM1!Z32","v":0},{"$f":"TERM1!AR32","v":0},{"$f":"TERM1!BJ32","v":0},0,{"$f":"TERM1!BO32","v":0},0,0,""]
[18,18,{"$f":"INSERT!A20","v":0},{"$f":"INSERT!B20","v":0},{"$f":"INSERT!C20","v":0},{"$f":"INSERT!D20","v":0},{"$f":"INSERT!E20","v":0},{"$f":"TERM1!Z33","v":0},{"$f":"TERM1!AR33","v":0},{"$f":"TERM1!BJ33","v":0},0,{"$f":"TERM1!BO33","v":0},0,0,""]
[19,19,{"$f":"INSERT!A21","v":0},{"$f":"INSERT!B21","v":0},{"$f":"INSERT!C21","v":0},{"$f":"INSERT!D21","v":0},{"$f":"INSERT!E21","v":0},{"$f":"TERM1!Z34","v":0},{"$f":"TERM1!AR34","v":0},{"$f":"TERM1!BJ34","v":0},0,{"$f":"TERM1!BO34","v":0},0,0,""]
[20,20,{"$f":"INSERT!A22","v":0},{"$f":"INSERT!B22","v":0},{"$f":"INSERT!C22","v":0},{"$f":"INSERT!D22","v":0},{"$f":"INSERT!E22","v":0},{"$f":"TERM1!Z35","v":0},{"$f":"TERM1!AR35","v":0},{"$f":"TERM1!BJ35","v":0},0,{"$f":"TERM1!BO35","v":0},0,0,""]
[21,21,{"$f":"INSERT!A23","v":0},{"$f":"INSERT!B23","v":0},{"$f":"INSERT!C23","v":0},{"$f":"INSERT!D23","v":0},{"$f":"INSERT!E23","v":0},{"$f":"TERM1!Z36","v":0},{"$f":"TERM1!AR36","v":0},{"$f":"TERM1!BJ36","v":0},0,{"$f":"TERM1!BO36","v":0},0,0,""]
[22,22,{"$f":"INSERT!A24","v":0},{"$f":"INSERT!B24","v":0},{"$f":"INSERT!C24","v":0},{"$f":"INSERT!D24","v":0},{"$f":"INSERT!E24","v":0},{"$f":"TERM1!Z37","v":0},{"$f":"TERM1!AR37","v":0},{"$f":"TERM1!BJ37","v":0},0,{"$f":"TERM1!BO37","v":0},0,0,""]
[23,23,{"$f":"INSERT!A25","v":0},{"$f":"INSERT!B25","v":0},{"$f":"INSERT!C25","v":0},{"$f":"INSERT!D25","v":0},{"$f":"INSERT!E25","v":0},{"$f":"TERM1!Z38","v":0},{"$f":"TERM1!AR38","v":0},{"$f":"TERM1!BJ38","v":0},0,{"$f":"TERM1!BO38","v":0},0,0,""]
[24,24,{"$f":"INSERT!A26","v":0},{"$f":"INSERT!B26","v":0},{"$f":"INSERT!C26","v":0},{"$f":"INSERT!D26","v":0},{"$f":"INSERT!E26","v":0},{"$f":"TERM1!Z39","v":0},{"$f":"TERM1!AR39","v":0},{"$f":"TERM1!BJ39","v":0},0,{"$f":"TERM1!BO39","v":0},0,0,""]
[25,25,{"$f":"INSERT!A27","v":0},{"$f":"INSERT!B27","v":0},{"$f":"INSERT!C27","v":0},{"$f":"INSERT!D27","v":0},{"$f":"INSERT!E27","v":0},{"$f":"TERM1!Z40","v":0},{"$f":"TERM1!AR40","v":0},{"$f":"TERM1!BJ40","v":0},0,{"$f":"TERM1!BO40","v":0},0,0,""]
[26,26,{"$f":"INSERT!A28","v":0},{"$f":"INSERT!B28","v":0},{"$f":"INSERT!C28","v":0},{"$f":"INSERT!D28","v":0},{"$f":"INSERT!E28","v":0},{"$f":"TERM1!Z41","v":0},{"$f":"TERM1!AR41","v":0},{"$f":"TERM1!BJ41","v":0},0,{"$f":"TERM1!BO41","v":0},0,0,""]
[27,27,{"$f":"INSERT!A29","v":0},{"$f":"INSERT!B29","v":0},{"$f":"INSERT!C29","v":0},{"$f":"INSERT!D29","v":0},{"$f":"INSERT!E29","v":0},{"$f":"TERM1!Z42","v":0},{"$f":"TERM1!AR42","v":0},{"$f":"TERM1!BJ42","v":0},0,{"$f":"TERM1!BO42","v":0},0,0,""]
[28,28,{"$f":"INSERT!A30","v":0},{"$f":"INSERT!B30","v":0},{"$f":"INSERT!C30","v":0},{"$f":"INSERT!D30","v":0},{"$f":"INSERT!E30","v":0},{"$f":"TERM1!Z43","v":0},{"$f":"TERM1!AR43","v":0},{"$f":"TERM1!BJ43","v":0},0,{"$f":"TERM1!BO43","v":0},0,0,""]
[29,29,{"$f":"INSERT!A31","v":0},{"$f":"INSERT!B31","v":0},{"$f":"INSERT!C31","v":0},{"$f":"INSERT!D31","v":0},{"$f":"INSERT!E31","v":0},{"$f":"TERM1!Z44","v":0},{"$f":"TERM1!AR44","v":0},{"$f":"TERM1!BJ44","v":0},0,{"$f":"TERM1!BO44","v":0},0,0,""]
[30,30,{"$f":"INSERT!A32","v":0},{"$f":"INSERT!B32","v":0},{"$f":"INSERT!C32","v":0},{"$f":"INSERT!D32","v":0},{"$f":"INSERT!E32","v":0},{"$f":"TERM1!Z45","v":0},{"$f":"TERM1!AR45","v":0},{"$f":"TERM1!BJ45","v":0},0,{"$f":"TERM1!BO45","v":0},0,0,""]
[31,31,{"$f":"INSERT!A33","v":0},{"$f":"INSERT!B33","v":0},{"$f":"INSERT!C33","v":0},{"$f":"INSERT!D33","v":0},{"$f":"INSERT!E33","v":0},{"$f":"TERM1!Z46","v":0},{"$f":"TERM1!AR46","v":0},{"$f":"TERM1!BJ46","v":0},0,{"$f":"TERM1!BO46","v":0},0,0,""]
[32,32,{"$f":"INSERT!A34","v":0},{"$f":"INSERT!B34","v":0},{"$f":"INSERT!C34","v":0},{"$f":"INSERT!D34","v":0},{"$f":"INSERT!E34","v":0},{"$f":"TERM1!Z47","v":0},{"$f":"TERM1!AR47","v":0},{"$f":"TERM1!BJ47","v":0},0,{"$f":"TERM1!BO47","v":0},0,0,""]
[33,33,{"$f":"INSERT!A35","v":0},{"$f":"INSERT!B35","v":0},{"$f":"INSERT!C35","v":0},{"$f":"INSERT!D35","v":0},{"$f":"INSERT!E35","v":0},{"$f":"TERM1!Z48","v":0},{"$f":"TERM1!AR48","v":0},{"$f":"TERM1!BJ48","v":0},0,{"$f":"TERM1!BO48","v":0},0,0,""]
[34,34,{"$f":"INSERT!A36","v":0},{"$f":"INSERT!B36","v":0},{"$f":"INSERT!C36","v":0},{"$f":"INSERT!D36","v":0},{"$f":"INSERT!E36","v":0},{"$f":"TERM1!Z49","v":0},{"$f":"TERM1!AR49","v":0},{"$f":"TERM1!BJ49","v":0},0,{"$f":"TERM1!BO49","v":0},0,0,""]
[35,35,{"$f":"INSERT!A37","v":0},{"$f":"INSERT!B37","v":0},{"$f":"INSERT!C37","v":0},{"$f":"INSERT!D37","v":0},{"$f":"INSERT!E37","v":0},{"$f":"TERM1!Z50","v":0},{"$f":"TERM1!AR50","v":0},{"$f":"TERM1!BJ50","v":0},0,{"$f":"TERM1!BO50","v":0},0,0,""]
[36,36,{"$f":"INSERT!A38","v":0},{"$f":"INSERT!B38","v":0},{"$f":"INSERT!C38","v":0},{"$f":"INSERT!D38","v":0},{"$f":"INSERT!E38","v":0},{"$f":"TERM1!Z51","v":0},{"$f":"TERM1!AR51","v":0},{"$f":"TERM1!BJ51","v":0},0,{"$f":"TERM1!BO51","v":0},0,0,""]
[37,37,{"$f":"INSERT!A39","v":0},{"$f":"INSERT!B39","v":0},{"$f":"INSERT!C39","v":0},{"$f":"INSERT!D39","v":0},{"$f":"INSERT!E39","v":0},{"$f":"TERM1!Z52","v":0},{"$f":"TERM1!AR52","v":0},{"$f":"TERM1!BJ52","v":0},0,{"$f":"TERM1!BO52","v":0},0,0,""]
[38,38,{"$f":"INSERT!A40","v":0},{"$f":"INSERT!B40","v":0},{"$f":"INSERT!C40","v":0},{"$f":"INSERT!D40","v":0},{"$f":"INSERT!E40","v":0},{"$f":"TERM1!Z53","v":0},{"$f":"TERM1!AR53","v":0},{"$f":"TERM1!BJ53","v":0},0,{"$f":"TERM1!BO53","v":0},0,0,""]
[39,39,{"$f":"INSERT!A41","v":0},{"$f":"INSERT!B41","v":0},{"$f":"INSERT!C41","v":0},{"$f":"INSERT!D41","v":0},{"$f":"INSERT!E41","v":0},{"$f":"TERM1!Z54","v":0},{"$f":"TERM1!AR54","v":0},{"$f":"TERM1!BJ54","v":0},0,{"$f":"TERM1!BO54","v":0},0,0,""]
[40,40,{"$f":"INSERT!A42","v":0},{"$f":"INSERT!B42","v":0},{"$f":"INSERT!C42","v":0},{"$f":"INSERT!D42","v":0},{"$f":"INSERT!E42","v":0},{"$f":"TERM1!Z55","v":0},{"$f":"TERM1!AR55","v":0},{"$f":"TERM1!BJ55","v":0},0,{"$f":"TERM1!BO55","v":0},0,0,""]
[41,41,{"$f":"INSERT!A43","v":0},{"$f":"INSERT!B43","v":0},{"$f":"INSERT!C43","v":0},{"$f":"INSERT!D43","v":0},{"$f":"INSERT!E43","v":0},{"$f":"TERM1!Z56","v":0},{"$f":"TERM1!AR56","v":0},{"$f":"TERM1!BJ56","v":0},0,{"$f":"TERM1!BO56","v":0},0,0,""]
[42,42,{"$f":"INSERT!A44","v":0},{"$f":"INSERT!B44","v":0},{"$f":"INSERT!C44","v":0},{"$f":"INSERT!D44","v":0},{"$f":"INSERT!E44","v":0},{"$f":"TERM1!Z57","v":0},{"$f":"TERM1!AR57","v":0},{"$f":"TERM1!BJ57","v":0},0,{"$f":"TERM1!BO57","v":0},0,0,""]
[43,43,{"$f":"INSERT!A45","v":0},{"$f":"INSERT!B45","v":0},{"$f":"INSERT!C45","v":0},{"$f":"INSERT!D45","v":0},{"$f":"INSERT!E45","v":0},{"$f":"TERM1!Z58","v":0},{"$f":"TERM1!AR58","v":0},{"$f":"TERM1!BJ58","v":0},0,{"$f":"TERM1!BO58","v":0},0,0,""]
[44,44,{"$f":"INSERT!A46","v":0},{"$f":"INSERT!B46","v":0},{"$f":"INSERT!C46","v":0},{"$f":"INSERT!D46","v":0},{"$f":"INSERT!E46","v":0},{"$f":"TERM1!Z59","v":0},{"$f":"TERM1!AR59","v":0},{"$f":"TERM1!BJ59","v":0},0,{"$f":"TERM1!BO59","v":0},0,0,""]
[45,45,{"$f":"INSERT!A47","v":0},{"$f":"INSERT!B47","v":0},{"$f":"INSERT!C47","v":0},{"$f":"INSERT!D47","v":0},{"$f":"INSERT!E47","v":0},{"$f":"TERM1!Z60","v":0},{"$f":"TERM1!AR60","v":0},{"$f":"TERM1!BJ60","v":0},0,{"$f":"TERM1!BO60","v":0},0,0,""]
[46,46,{"$f":"INSERT!A48","v":0},{"$f":"INSERT!B48","v":0},{"$f":"INSERT!C48","v":0},{"$f":"INSERT!D48","v":0},{"$f":"INSERT!E48","v":0},{"$f":"TERM1!Z61","v":0},{"$f":"TERM1!AR61","v":0},{"$f":"TERM1!BJ61","v":0},0,{"$f":"TERM1!BO61","v":0},0,0,""]
[47,47,{"$f":"INSERT!A49","v":0},{"$f":"INSERT!B49","v":0},{"$f":"INSERT!C49","v":0},{"$f":"INSERT!D49","v":0},{"$f":"INSERT!E49","v":0},{"$f":"TERM1!Z62","v":0},{"$f":"TERM1!AR62","v":0},{"$f":"TERM1!BJ62","v":0},0,{"$f":"TERM1!BO62","v":0},0,0,""]
[48,48,{"$f":"INSERT!A50","v":0},{"$f":"INSERT!B50","v":0},{"$f":"INSERT!C50","v":0},{"$f":"INSERT!D50","v":0},{"$f":"INSERT!E50","v":0},{"$f":"TERM1!Z63","v":0},{"$f":"TERM1!AR63","v":0},{"$f":"TERM1!BJ63","v":0},0,{"$f":"TERM1!BO63","v":0},0,0,""]
[49,49,{"$f":"INSERT!A51","v":0},{"$f":"INSERT!B51","v":0},{"$f":"INSERT!C51","v":0},{"$f":"INSERT!D51","v":0},{"$f":"INSERT!E51","v":0},{"$f":"TERM1!Z64","v":0},{"$f":"TERM1!AR64","v":0},{"$f":"TERM1!BJ64","v":0},0,{"$f":"TERM1!BO64","v":0},0,0,""]
[50,50,{"$f":"INSERT!A52","v":0},{"$f":"INSERT!B52","v":0},{"$f":"INSERT!C52","v":0},{"$f":"INSERT!D52","v":0},{"$f":"INSERT!E52","v":0},{"$f":"TERM1!Z65","v":0},{"$f":"TERM1!AR65","v":0},{"$f":"TERM1!BJ65","v":0},0,{"$f":"TERM1!BO65","v":0},0,0,""]
[51,51,{"$f":"INSERT!A53","v":0},{"$f":"INSERT!B53","v":0},{"$f":"INSERT!C53","v":0},{"$f":"INSERT!D53","v":0},{"$f":"INSERT!E53","v":0},{"$f":"TERM1!Z66","v":0},{"$f":"TERM1!AR66","v":0},{"$f":"TERM1!BJ66","v":0},0,{"$f":"TERM1!BO66","v":0},0,0,""]
[52,52,{"$f":"INSERT!A54","v":0},{"$f":"INSERT!B54","v":0},{"$f":"INSERT!C54","v":0},{"$f":"INSERT!D54","v":0},{"$f":"INSERT!E54","v":0},{"$f":"TERM1!Z67","v":0},{"$f":"TERM1!AR67","v":0},{"$f":"TERM1!BJ67","v":0},0,{"$f":"TERM1!BO67","v":0},0,0,""]
[53,53,{"$f":"INSERT!A55","v":0},{"$f":"INSERT!B55","v":0},{"$f":"INSERT!C55","v":0},{"$f":"INSERT!D55","v":0},{"$f":"INSERT!E55","v":0},{"$f":"TERM1!Z68","v":0},{"$f":"TERM1!AR68","v":0},{"$f":"TERM1!BJ68","v":0},0,{"$f":"TERM1!BO68","v":0},0,0,""]
[54,54,{"$f":"INSERT!A56","v":0},{"$f":"INSERT!B56","v":0},{"$f":"INSERT!C56","v":0},{"$f":"INSERT!D56","v":0},{"$f":"INSERT!E56","v":0},{"$f":"TERM1!Z69","v":0},{"$f":"TERM1!AR69","v":0},{"$f":"TERM1!BJ69","v":0},0,{"$f":"TERM1!BO69","v":0},0,0,""]
[55,55,{"$f":"INSERT!A57","v":0},{"$f":"INSERT!B57","v":0},{"$f":"INSERT!C57","v":0},{"$f":"INSERT!D57","v":0},{"$f":"INSERT!E57","v":0},{"$f":"TERM1!Z70","v":0},{"$f":"TERM1!AR70","v":0},{"$f":"TERM1!BJ70","v":0},0,{"$f":"TERM1!BO70","v":0},0,0,""]
[56,56,{"$f":"INSERT!A58","v":0},{"$f":"INSERT!B58","v":0},{"$f":"INSERT!C58","v":0},{"$f":"INSERT!D58","v":0},{"$f":"INSERT!E58","v":0},{"$f":"TERM1!Z71","v":0},{"$f":"TERM1!AR71","v":0},{"$f":"TERM1!BJ71","v":0},0,{"$f":"TERM1!BO71","v":0},0,0,""]
[57,57,{"$f":"INSERT!A59","v":0},{"$f":"INSERT!B59","v":0},{"$f":"INSERT!C59","v":0},{"$f":"INSERT!D59","v":0},{"$f":"INSERT!E59","v":0},{"$f":"TERM1!Z72","v":0},{"$f":"TERM1!AR72","v":0},{"$f":"TERM1!BJ72","v":0},0,{"$f":"TERM1!BO72","v":0},0,0,""]
[58,58,{"$f":"INSERT!A60","v":0},{"$f":"INSERT!B60","v":0},{"$f":"INSERT!C60","v":0},{"$f":"INSERT!D60","v":0},{"$f":"INSERT!E60","v":0},{"$f":"TERM1!Z73","v":0},{"$f":"TERM1!AR73","v":0},{"$f":"TERM1!BJ73","v":0},0,{"$f":"TERM1!BO73","v":0},0,0,""]
[59,59,{"$f":"INSERT!A61","v":0},{"$f":"INSERT!B61","v":0},{"$f":"INSERT!C61","v":0},{"$f":"INSERT!D61","v":0},{"$f":"INSERT!E61","v":0},{"$f":"TERM1!Z74","v":0},{"$f":"TERM1!AR74","v":0},{"$f":"TERM1!BJ74","v":0},0,{"$f":"TERM1!BO74","v":0},0,0,""]
[60,60,{"$f":"INSERT!A62","v":0},{"$f":"INSERT!B62","v":0},{"$f":"INSERT!C62","v":0},{"$f":"INSERT!D62","v":0},{"$f":"INSERT!E62","v":0},{"$f":"TERM1!Z75","v":0},{"$f":"TERM1!AR75","v":0},{"$f":"TERM1!BJ75","v":0},0,{"$f":"TERM1!BO75","v":0},0,0,""]
[61,61,{"$f":"INSERT!A63","v":0},{"$f":"INSERT!B63","v":0},{"$f":"INSERT!C63","v":0},{"$f":"INSERT!D63","v":0},{"$f":"INSERT!E63","v":0},{"$f":"TERM1!Z76","v":0},{"$f":"TERM1!AR76","v":0},{"$f":"TERM1!BJ76","v":0},0,{"$f":"TERM1!BO76","v":0},0,0,""]
[62,62,{"$f":"INSERT!A64","v":0},{"$f":"INSERT!B64","v":0},{"$f":"INSERT!C64","v":0},{"$f":"INSERT!D64","v":0},{"$f":"INSERT!E64","v":0},{"$f":"TERM1!Z77","v":0},{"$f":"TERM1!AR77","v":0},{"$f":"TERM1!BJ77","v":0},0,{"$f":"TERM1!BO77","v":0},0,0,""]
[63,63,{"$f":"INSERT!A65","v":0},{"$f":"INSERT!B65","v":0},{"$f":"INSERT!C65","v":0},{"$f":"INSERT!D65","v":0},{"$f":"INSERT!E65","v":0},{"$f":"TERM1!Z78","v":0},{"$f":"TERM1!AR78","v":0},{"$f":"TERM1!BJ78","v":0},0,{"$f":"TERM1!BO78","v":0},0,0,""]
[64,64,{"$f":"INSERT!A66","v":0},{"$f":"INSERT!B66","v":0},{"$f":"INSERT!C66","v":0},{"$f":"INSERT!D66","v":0},{"$f":"INSERT!E66","v":0},{"$f":"TERM1!Z79","v":0},{"$f":"TERM1!AR79","v":0},{"$f":"TERM1!BJ79","v":0},0,{"$f":"TERM1!BO79","v":0},0,0,""]
[65,65,{"$f":"INSERT!A67","v":0},{"$f":"INSERT!B67","v":0},{"$f":"INSERT!C67","v":0},{"$f":"INSERT!D67","v":0},{"$f":"INSERT!E67","v":0},{"$f":"TERM1!Z80","v":0},{"$f":"TERM1!AR80","v":0},{"$f":"TERM1!BJ80","v":0},0,{"$f":"TERM1!BO80","v":0},0,0,""]
[66,66,{"$f":"INSERT!A68","v":0},{"$f":"INSERT!B68","v":0},{"$f":"INSERT!C68","v":0},{"$f":"INSERT!D68","v":0},{"$f":"INSERT!E68","v":0},{"$f":"TERM1!Z81","v":0},{"$f":"TERM1!AR81","v":0},{"$f":"TERM1!BJ81","v":0},{"$f":"SUMIF(H74:J74,\">0\")","v":0},{"$f":"TERM1!BO81","v":0},{"$f":"SUM(H74/0.303030303)+SUM(I74/0.303030303)+SUM(J74/0.294117647)","v":0},{"$f":"ROUND(M74,0)","v":0},{"$f":"IF(N74>79,\"7\",IF(N74>69,\"6\",IF(N74>59,\"5\",IF(N74>49,\"4\",IF(N74>39,\"3\",IF(N74>29,\"2\",IF(N74>0,\"1\",IF(N74=0,\"\"))))))))","v":""}]
[67,67,{"$f":"INSERT!A69","v":0},{"$f":"INSERT!B69","v":0},{"$f":"INSERT!C69","v":0},{"$f":"INSERT!D69","v":0},{"$f":"INSERT!E69","v":0},{"$f":"TERM1!Z82","v":0},{"$f":"TERM1!AR82","v":0},{"$f":"TERM1!BJ82","v":0},0,{"$f":"TERM1!BO82","v":0},0,0,""]
[68,68,{"$f":"INSERT!A70","v":0},{"$f":"INSERT!B70","v":0},{"$f":"INSERT!C70","v":0},{"$f":"INSERT!D70","v":0},{"$f":"INSERT!E70","v":0},{"$f":"TERM1!Z83","v":0},{"$f":"TERM1!AR83","v":0},{"$f":"TERM1!BJ83","v":0},0,{"$f":"TERM1!BO83","v":0},0,0,""]
[69,69,{"$f":"INSERT!A71","v":0},{"$f":"INSERT!B71","v":0},{"$f":"INSERT!C71","v":0},{"$f":"INSERT!D71","v":0},{"$f":"INSERT!E71","v":0},{"$f":"TERM1!Z84","v":0},{"$f":"TERM1!AR84","v":0},{"$f":"TERM1!BJ84","v":0},0,{"$f":"TERM1!BO84","v":0},0,0,""]
[70,70,{"$f":"INSERT!A72","v":0},{"$f":"INSERT!B72","v":0},{"$f":"INSERT!C72","v":0},{"$f":"INSERT!D72","v":0},{"$f":"INSERT!E72","v":0},{"$f":"TERM1!Z85","v":0},{"$f":"TERM1!AR85","v":0},{"$f":"TERM1!BJ85","v":0},0,{"$f":"TERM1!BO85","v":0},0,0,""]
[71,71,{"$f":"INSERT!A73","v":0},{"$f":"INSERT!B73","v":0},{"$f":"INSERT!C73","v":0},{"$f":"INSERT!D73","v":0},{"$f":"INSERT!E73","v":0},{"$f":"TERM1!Z86","v":0},{"$f":"TERM1!AR86","v":0},{"$f":"TERM1!BJ86","v":0},0,{"$f":"TERM1!BO86","v":0},0,0,""]
[72,72,{"$f":"INSERT!A74","v":0},{"$f":"INSERT!B74","v":0},{"$f":"INSERT!C74","v":0},{"$f":"INSERT!D74","v":0},{"$f":"INSERT!E74","v":0},{"$f":"TERM1!Z87","v":0},{"$f":"TERM1!AR87","v":0},{"$f":"TERM1!BJ87","v":0},0,{"$f":"TERM1!BO87","v":0},0,0,""]
[73,73,{"$f":"INSERT!A75","v":0},{"$f":"INSERT!B75","v":0},{"$f":"INSERT!C75","v":0},{"$f":"INSERT!D75","v":0},{"$f":"INSERT!E75","v":0},{"$f":"TERM1!Z88","v":0},{"$f":"TERM1!AR88","v":0},{"$f":"TERM1!BJ88","v":0},0,{"$f":"TERM1!BO88","v":0},0,0,""]
[74,74,{"$f":"INSERT!A76","v":0},{"$f":"INSERT!B76","v":0},{"$f":"INSERT!C76","v":0},{"$f":"INSERT!D76","v":0},{"$f":"INSERT!E76","v":0},{"$f":"TERM1!Z89","v":0},{"$f":"TERM1!AR89","v":0},{"$f":"TERM1!BJ89","v":0},0,{"$f":"TERM1!BO89","v":0},0,0,""]
[75,75,{"$f":"INSERT!A77","v":0},{"$f":"INSERT!B77","v":0},{"$f":"INSERT!C77","v":0},{"$f":"INSERT!D77","v":0},{"$f":"INSERT!E77","v":0},{"$f":"TERM1!Z90","v":0},{"$f":"TERM1!AR90","v":0},{"$f":"TERM1!BJ90","v":0},0,{"$f":"TERM1!BO90","v":0},0,0,""]
[76,76,{"$f":"INSERT!A78","v":0},{"$f":"INSERT!B78","v":0},{"$f":"INSERT!C78","v":0},{"$f":"INSERT!D78","v":0},{"$f":"INSERT!E78","v":0},{"$f":"TERM1!Z91","v":0},{"$f":"TERM1!AR91","v":0},{"$f":"TERM1!BJ91","v":0},0,{"$f":"TERM1!BO91","v":0},0,0,""]
[77,77,{"$f":"INSERT!A79","v":0},{"$f":"INSERT!B79","v":0},{"$f":"INSERT!C79","v":0},{"$f":"INSERT!D79","v":0},{"$f":"INSERT!E79","v":0},{"$f":"TERM1!Z92","v":0},{"$f":"TERM1!AR92","v":0},{"$f":"TERM1!BJ92","v":0},0,{"$f":"TERM1!BO92","v":0},0,0,""]
[78,78,{"$f":"INSERT!A80","v":0},{"$f":"INSERT!B80","v":0},{"$f":"INSERT!C80","v":0},{"$f":"INSERT!D80","v":0},{"$f":"INSERT!E80","v":0},{"$f":"TERM1!Z93","v":0},{"$f":"TERM1!AR93","v":0},{"$f":"TERM1!BJ93","v":0},0,{"$f":"TERM1!BO93","v":0},0,0,""]
[79,79,{"$f":"INSERT!A81","v":0},{"$f":"INSERT!B81","v":0},{"$f":"INSERT!C81","v":0},{"$f":"INSERT!D81","v":0},{"$f":"INSERT!E81","v":0},{"$f":"TERM1!Z94","v":0},{"$f":"TERM1!AR94","v":0},{"$f":"TERM1!BJ94","v":0},0,{"$f":"TERM1!BO94","v":0},0,0,""]
[80,80,{"$f":"INSERT!A82","v":0},{"$f":"INSERT!B82","v":0},{"$f":"INSERT!C82","v":0},{"$f":"INSERT!D82","v":0},{"$f":"INSERT!E82","v":0},{"$f":"TERM1!Z95","v":0},{"$f":"TERM1!AR95","v":0},{"$f":"TERM1!BJ95","v":0},0,{"$f":"TERM1!BO95","v":0},0,0,""]
[81,81,{"$f":"INSERT!A83","v":0},{"$f":"INSERT!B83","v":0},{"$f":"INSERT!C83","v":0},{"$f":"INSERT!D83","v":0},{"$f":"INSERT!E83","v":0},{"$f":"TERM1!Z96","v":0},{"$f":"TERM1!AR96","v":0},{"$f":"TERM1!BJ96","v":0},0,{"$f":"TERM1!BO96","v":0},0,0,""]
[82,82,{"$f":"INSERT!A84","v":0},{"$f":"INSERT!B84","v":0},{"$f":"INSERT!C84","v":0},{"$f":"INSERT!D84","v":0},{"$f":"INSERT!E84","v":0},{"$f":"TERM1!Z97","v":0},{"$f":"TERM1!AR97","v":0},{"$f":"TERM1!BJ97","v":0},0,{"$f":"TERM1!BO97","v":0},0,0,""]
[83,83,{"$f":"INSERT!A85","v":0},{"$f":"INSERT!B85","v":0},{"$f":"INSERT!C85","v":0},{"$f":"INSERT!D85","v":0},{"$f":"INSERT!E85","v":0},{"$f":"TERM1!Z98","v":0},{"$f":"TERM1!AR98","v":0},{"$f":"TERM1!BJ98","v":0},0,{"$f":"TERM1!BO98","v":0},0,0,""]
[84,84,{"$f":"INSERT!A86","v":0},{"$f":"INSERT!B86","v":0},{"$f":"INSERT!C86","v":0},{"$f":"INSERT!D86","v":0},{"$f":"INSERT!E86","v":0},{"$f":"TERM1!Z99","v":0},{"$f":"TERM1!AR99","v":0},{"$f":"TERM1!BJ99","v":0},0,{"$f":"TERM1!BO99","v":0},0,0,""]
[85,85,{"$f":"INSERT!A87","v":0},{"$f":"INSERT!B87","v":0},{"$f":"INSERT!C87","v":0},{"$f":"INSERT!D87","v":0},{"$f":"INSERT!E87","v":0},{"$f":"TERM1!Z100","v":0},{"$f":"TERM1!AR100","v":0},{"$f":"TERM1!BJ100","v":0},0,{"$f":"TERM1!BO100","v":0},0,0,""]
[86,86,{"$f":"INSERT!A88","v":0},{"$f":"INSERT!B88","v":0},{"$f":"INSERT!C88","v":0},{"$f":"INSERT!D88","v":0},{"$f":"INSERT!E88","v":0},{"$f":"TERM1!Z101","v":0},{"$f":"TERM1!AR101","v":0},{"$f":"TERM1!BJ101","v":0},0,{"$f":"TERM1!BO101","v":0},0,0,""]
[87,87,{"$f":"INSERT!A89","v":0},{"$f":"INSERT!B89","v":0},{"$f":"INSERT!C89","v":0},{"$f":"INSERT!D89","v":0},{"$f":"INSERT!E89","v":0},{"$f":"TERM1!Z102","v":0},{"$f":"TERM1!AR102","v":0},{"$f":"TERM1!BJ102","v":0},0,{"$f":"TERM1!BO102","v":0},0,0,""]
[88,88,{"$f":"INSERT!A90","v":0},{"$f":"INSERT!B90","v":0},{"$f":"INSERT!C90","v":0},{"$f":"INSERT!D90","v":0},{"$f":"INSERT!E90","v":0},{"$f":"TERM1!Z103","v":0},{"$f":"TERM1!AR103","v":0},{"$f":"TERM1!BJ103","v":0},0,{"$f":"TERM1!BO103","v":0},0,0,""]
[89,89,{"$f":"INSERT!A91","v":0},{"$f":"INSERT!B91","v":0},{"$f":"INSERT!C91","v":0},{"$f":"INSERT!D91","v":0},{"$f":"INSERT!E91","v":0},{"$f":"TERM1!Z104","v":0},{"$f":"TERM1!AR104","v":0},{"$f":"TERM1!BJ104","v":0},0,{"$f":"TERM1!BO104","v":0},0,0,""]
[90,90,{"$f":"INSERT!A92","v":0},{"$f":"INSERT!B92","v":0},{"$f":"INSERT!C92","v":0},{"$f":"INSERT!D92","v":0},{"$f":"INSERT!E92","v":0},{"$f":"TERM1!Z105","v":0},{"$f":"TERM1!AR105","v":0},{"$f":"TERM1!BJ105","v":0},0,{"$f":"TERM1!BO105","v":0},0,0,""]
[91,91,{"$f":"INSERT!A93","v":0},{"$f":"INSERT!B93","v":0},{"$f":"INSERT!C93","v":0},{"$f":"INSERT!D93","v":0},{"$f":"INSERT!E93","v":0},{"$f":"TERM1!Z106","v":0},{"$f":"TERM1!AR106","v":0},{"$f":"TERM1!BJ106","v":0},0,{"$f":"TERM1!BO106","v":0},0,0,""]
[92,92,{"$f":"INSERT!A94","v":0},{"$f":"INSERT!B94","v":0},{"$f":"INSERT!C94","v":0},{"$f":"INSERT!D94","v":0},{"$f":"INSERT!E94","v":0},{"$f":"TERM1!Z107","v":0},{"$f":"TERM1!AR107","v":0},{"$f":"TERM1!BJ107","v":0},0,{"$f":"TERM1!BO107","v":0},0,0,""]
[93,93,{"$f":"INSERT!A95","v":0},{"$f":"INSERT!B95","v":0},{"$f":"INSERT!C95","v":0},{"$f":"INSERT!D95","v":0},{"$f":"INSERT!E95","v":0},{"$f":"TERM1!Z108","v":0},{"$f":"TERM1!AR108","v":0},{"$f":"TERM1!BJ108","v":0},0,{"$f":"TERM1!BO108","v":0},0,0,""]
[94,94,{"$f":"INSERT!A96","v":0},{"$f":"INSERT!B96","v":0},{"$f":"INSERT!C96","v":0},{"$f":"INSERT!D96","v":0},{"$f":"INSERT!E96","v":0},{"$f":"TERM1!Z109","v":0},{"$f":"TERM1!AR109","v":0},{"$f":"TERM1!BJ109","v":0},0,{"$f":"TERM1!BO109","v":0},0,0,""]
[95,95,{"$f":"INSERT!A97","v":0},{"$f":"INSERT!B97","v":0},{"$f":"INSERT!C97","v":0},{"$f":"INSERT!D97","v":0},{"$f":"INSERT!E97","v":0},{"$f":"TERM1!Z110","v":0},{"$f":"TERM1!AR110","v":0},{"$f":"TERM1!BJ110","v":0},0,{"$f":"TERM1!BO110","v":0},0,0,""]
[96,96,{"$f":"INSERT!A98","v":0},{"$f":"INSERT!B98","v":0},{"$f":"INSERT!C98","v":0},{"$f":"INSERT!D98","v":0},{"$f":"INSERT!E98","v":0},{"$f":"TERM1!Z111","v":0},{"$f":"TERM1!AR111","v":0},{"$f":"TERM1!BJ111","v":0},0,{"$f":"TERM1!BO111","v":0},0,0,""]
[97,97,{"$f":"INSERT!A99","v":0},{"$f":"INSERT!B99","v":0},{"$f":"INSERT!C99","v":0},{"$f":"INSERT!D99","v":0},{"$f":"INSERT!E99","v":0},{"$f":"TERM1!Z112","v":0},{"$f":"TERM1!AR112","v":0},{"$f":"TERM1!BJ112","v":0},0,{"$f":"TERM1!BO112","v":0},0,0,""]
[98,98,{"$f":"INSERT!A100","v":0},{"$f":"INSERT!B100","v":0},{"$f":"INSERT!C100","v":0},{"$f":"INSERT!D100","v":0},{"$f":"INSERT!E100","v":0},{"$f":"TERM1!Z113","v":0},{"$f":"TERM1!AR113","v":0},{"$f":"TERM1!BJ113","v":0},0,{"$f":"TERM1!BO113","v":0},0,0,""]
[99,99,{"$f":"INSERT!A101","v":0},{"$f":"INSERT!B101","v":0},{"$f":"INSERT!C101","v":0},{"$f":"INSERT!D101","v":0},{"$f":"INSERT!E101","v":0},{"$f":"TERM1!Z114","v":0},{"$f":"TERM1!AR114","v":0},{"$f":"TERM1!BJ114","v":0},0,{"$f":"TERM1!BO114","v":0},0,0,""]
[100,100,{"$f":"INSERT!A102","v":0},{"$f":"INSERT!B102","v":0},{"$f":"INSERT!C102","v":0},{"$f":"INSERT!D102","v":0},{"$f":"INSERT!E102","v":0},{"$f":"TERM1!Z115","v":0},{"$f":"TERM1!AR115","v":0},{"$f":"TERM1!BJ115","v":0},0,{"$f":"TERM1!BO115","v":0},0,0,""]
[null,null,"x","x","x","x","Total",{"$f":"SUM(H9:H108)","v":0},0,0,0,0,0,{"$f":"SUM(N9:N108)","v":0}]
[null,null,"x","x","x","x","Average%",{"$f":"IFERROR(ROUND((AVERAGEIF(H9:H108,\">0\")/H4*100),1),\"0\")","v":"0"},{"$f":"IFERROR(ROUND((AVERAGEIF(I9:I108,\">0\")/I4*100),1),\"0\")","v":"0"},{"$f":"IFERROR(ROUND((AVERAGEIF(J9:J108,\">0\")/J4*100),1),\"0\")","v":"0"},{"$f":"IFERROR(ROUND((AVERAGEIF(K9:K108,\">0\")/K4*100),1),\"0\")","v":"0"},{"$f":"IFERROR(ROUND((AVERAGEIF(L9:L108,\">0\")/L4*100),1),\"0\")","v":"0"},{"$f":"IFERROR(ROUND((AVERAGEIF(M9:M108,\">0\")/M7*100),1),\"0\")","v":"0"},{"$f":"IFERROR(ROUND((AVERAGEIF(N9:N108,\">0\")/N7*100),1),\"0\")","v":"0"}]
["Total amount of learners on mark sheet",null,null,null,"X","Term results analysis",null,"LEVEL 1","LEVEL 2","LEVEL 3","LEVEL 4",null,"LEVEL 5","LEVEL 6","LEVEL 7","TOTAL"]
[null,null,null,null,{"$f":"INSERT!$E$103","v":0},null,null," 0 - 29 "," 30 - 39 "," 40 - 49 "," 50 - 59 ",null," 60 - 69 "," 70 - 79 ","80 - 100"]
[null,null,null,null,"X",null,null,{"$f":"COUNTIF(O9:O108,1)","v":0},{"$f":"COUNTIF($O$9:$O$108,2)","v":0},{"$f":"COUNTIF($O$9:$O$108,3)","v":0},{"$f":"COUNTIF($O$9:$O$108,4)","v":0},null,{"$f":"COUNTIF($O$9:$O$108,5)","v":0},{"$f":"COUNTIF($O$9:$O$108,6)","v":0},{"$f":"COUNTIF($O$9:$O$108,7)","v":0},{"$f":"SUM(H113:O113)","v":0}]

{"sheet":"SASAMS TERM2","index":9,"n_rows":113,"n_cols":17,"rows_kept":113,"cut":false,"hidden":false,"merged":[[3,16,5,16],[110,0,112,3],[110,5,112,6],[1,0,1,2],[5,0,5,4],[0,12,2,14],[2,0,2,6],[3,0,3,4],[3,12,5,12],[3,13,5,13],[3,14,5,14],[4,0,4,6],[0,0,0,5]]}
["       Engineering Graphics and Design (Gr 10)\n      Term 2:",null,null,null,null,null,"TASKS",null,null,null,"TASK 3","TASK 4"]
["Grade:",null,null,{"$f":"TERM1!$F$6","v":0},null,null,"Activities",{"$f":"TERM2!$I$4","v":"CD4  1st Mechanical Drawings"},{"$f":"TERM2!$AA$4","v":"CD5  2nd Mechanical Drawings"},{"$f":"TERM2!$AS$4","v":"CD6  Isometric"},null,null,"100"]
["Weighting ",null,null,null,null,null,null,33,33,34,40,60]
[" Marks: -1 = Absent,  -2 = Not Captured",null,null,null,null,null,"Total Mark",10,10,10,30,150,"TOTAL Weighted Mark","Term\n%","Level",null,"CD Total"]
["Include in SBA Year Mark ",null,null,null,null,null,null,null,null,null,10,60]
[null,null,null,null,null,null,"Term \n /Date ",null,null,null,"Term2","Term2"]
["No",null,"Class","Acc No","Surname","Name","Gender","T1:A1","T1:A2","T1:A3","T1","T2",100,100,null,null,100]
[null,1]
[1,2,{"$f":"INSERT!A3","v":0},{"$f":"INSERT!B3","v":0},{"$f":"INSERT!C3","v":0},{"$f":"INSERT!D3","v":0},{"$f":"INSERT!E3","v":0},{"$f":"TERM2!Z16","v":0},{"$f":"TERM2!AR16","v":0},{"$f":"TERM2!BJ16","v":0},{"$f":"SUMIF(H9:J9,\">0\")","v":0},{"$f":"TERM2!BO16","v":0},{"$f":"SUM(Q9/2.5)+SUM(L9/2.5)","v":0},{"$f":"ROUND(M9,0)","v":0},{"$f":"IF(N9>79,\"7\",IF(N9>69,\"6\",IF(N9>59,\"5\",IF(N9>49,\"4\",IF(N9>39,\"3\",IF(N9>29,\"2\",IF(N9>0,\"1\",IF(N9=0,\"\"))))))))","v":""},null,{"$f":"SUM(H9/0.303030303)+SUM(I9/0.303030303)+SUM(J9/0.294117647)","v":0}]
[2,3,{"$f":"INSERT!A4","v":0},{"$f":"INSERT!B4","v":0},{"$f":"INSERT!C4","v":0},{"$f":"INSERT!D4","v":0},{"$f":"INSERT!E4","v":0},{"$f":"TERM2!Z17","v":0},{"$f":"TERM2!AR17","v":0},{"$f":"TERM2!BJ17","v":0},{"$f":"SUM(H10:J10)","v":0},{"$f":"TERM2!BO17","v":0},{"$f":"SUM(Q10/2.5)+SUM(L10/2.5)","v":0},{"$f":"ROUND(M10,0)","v":0},"",null,{"$f":"SUM(H10/0.303030303)+SUM(I10/0.303030303)+SUM(J10/0.294117647)","v":0}]
[3,4,{"$f":"INSERT!A5","v":0},{"$f":"INSERT!B5","v":0},{"$f":"INSERT!C5","v":0},{"$f":"INSERT!D5","v":0},{"$f":"INSERT!E5","v":0},{"$f":"TERM2!Z18","v":0},{"$f":"TERM2!AR18","v":0},{"$f":"TERM2!BJ18","v":0},0,{"$f":"TERM2!BO18","v":0},0,0,"",null,0]
[4,5,{"$f":"INSERT!A6","v":0},{"$f":"INSERT!B6","v":0},{"$f":"INSERT!C6","v":0},{"$f":"INSERT!D6","v":0},{"$f":"INSERT!E6","v":0},{"$f":"TERM2!Z19","v":0},{"$f":"TERM2!AR19","v":0},{"$f":"TERM2!BJ19","v":0},0,{"$f":"TERM2!BO19","v":0},0,0,"",null,0]
[5,6,{"$f":"INSERT!A7","v":0},{"$f":"INSERT!B7","v":0},{"$f":"INSERT!C7","v":0},{"$f":"INSERT!D7","v":0},{"$f":"INSERT!E7","v":0},{"$f":"TERM2!Z20","v":0},{"$f":"TERM2!AR20","v":0},{"$f":"TERM2!BJ20","v":0},0,{"$f":"TERM2!BO20","v":0},0,0,"",null,0]
[6,7,{"$f":"INSERT!A8","v":0},{"$f":"INSERT!B8","v":0},{"$f":"INSERT!C8","v":0},{"$f":"INSERT!D8","v":0},{"$f":"INSERT!E8","v":0},{"$f":"TERM2!Z21","v":0},{"$f":"TERM2!AR21","v":0},{"$f":"TERM2!BJ21","v":0},0,{"$f":"TERM2!BO21","v":0},0,0,"",null,0]
[7,8,{"$f":"INSERT!A9","v":0},{"$f":"INSERT!B9","v":0},{"$f":"INSERT!C9","v":0},{"$f":"INSERT!D9","v":0},{"$f":"INSERT!E9","v":0},{"$f":"TERM2!Z22","v":0},{"$f":"TERM2!AR22","v":0},{"$f":"TERM2!BJ22","v":0},0,{"$f":"TERM2!BO22","v":0},0,0,"",null,0]
[8,9,{"$f":"INSERT!A10","v":0},{"$f":"INSERT!B10","v":0},{"$f":"INSERT!C10","v":0},{"$f":"INSERT!D10","v":0},{"$f":"INSERT!E10","v":0},{"$f":"TERM2!Z23","v":0},{"$f":"TERM2!AR23","v":0},{"$f":"TERM2!BJ23","v":0},0,{"$f":"TERM2!BO23","v":0},0,0,"",null,0]
[9,10,{"$f":"INSERT!A11","v":0},{"$f":"INSERT!B11","v":0},{"$f":"INSERT!C11","v":0},{"$f":"INSERT!D11","v":0},{"$f":"INSERT!E11","v":0},{"$f":"TERM2!Z24","v":0},{"$f":"TERM2!AR24","v":0},{"$f":"TERM2!BJ24","v":0},0,{"$f":"TERM2!BO24","v":0},0,0,"",null,0]
[10,11,{"$f":"INSERT!A12","v":0},{"$f":"INSERT!B12","v":0},{"$f":"INSERT!C12","v":0},{"$f":"INSERT!D12","v":0},{"$f":"INSERT!E12","v":0},{"$f":"TERM2!Z25","v":0},{"$f":"TERM2!AR25","v":0},{"$f":"TERM2!BJ25","v":0},0,{"$f":"TERM2!BO25","v":0},0,0,"",null,0]
[11,12,{"$f":"INSERT!A13","v":0},{"$f":"INSERT!B13","v":0},{"$f":"INSERT!C13","v":0},{"$f":"INSERT!D13","v":0},{"$f":"INSERT!E13","v":0},{"$f":"TERM2!Z26","v":0},{"$f":"TERM2!AR26","v":0},{"$f":"TERM2!BJ26","v":0},0,{"$f":"TERM2!BO26","v":0},0,0,"",null,0]
[12,13,{"$f":"INSERT!A14","v":0},{"$f":"INSERT!B14","v":0},{"$f":"INSERT!C14","v":0},{"$f":"INSERT!D14","v":0},{"$f":"INSERT!E14","v":0},{"$f":"TERM2!Z27","v":0},{"$f":"TERM2!AR27","v":0},{"$f":"TERM2!BJ27","v":0},0,{"$f":"TERM2!BO27","v":0},0,0,"",null,0]
[13,14,{"$f":"INSERT!A15","v":0},{"$f":"INSERT!B15","v":0},{"$f":"INSERT!C15","v":0},{"$f":"INSERT!D15","v":0},{"$f":"INSERT!E15","v":0},{"$f":"TERM2!Z28","v":0},{"$f":"TERM2!AR28","v":0},{"$f":"TERM2!BJ28","v":0},0,{"$f":"TERM2!BO28","v":0},0,0,"",null,0]
[14,15,{"$f":"INSERT!A16","v":0},{"$f":"INSERT!B16","v":0},{"$f":"INSERT!C16","v":0},{"$f":"INSERT!D16","v":0},{"$f":"INSERT!E16","v":0},{"$f":"TERM2!Z29","v":0},{"$f":"TERM2!AR29","v":0},{"$f":"TERM2!BJ29","v":0},0,{"$f":"TERM2!BO29","v":0},0,0,"",null,0]
[15,16,{"$f":"INSERT!A17","v":0},{"$f":"INSERT!B17","v":0},{"$f":"INSERT!C17","v":0},{"$f":"INSERT!D17","v":0},{"$f":"INSERT!E17","v":0},{"$f":"TERM2!Z30","v":0},{"$f":"TERM2!AR30","v":0},{"$f":"TERM2!BJ30","v":0},0,{"$f":"TERM2!BO30","v":0},0,0,"",null,0]
[16,17,{"$f":"INSERT!A18","v":0},{"$f":"INSERT!B18","v":0},{"$f":"INSERT!C18","v":0},{"$f":"INSERT!D18","v":0},{"$f":"INSERT!E18","v":0},{"$f":"TERM2!Z31","v":0},{"$f":"TERM2!AR31","v":0},{"$f":"TERM2!BJ31","v":0},0,{"$f":"TERM2!BO31","v":0},0,0,"",null,0]
[17,18,{"$f":"INSERT!A19","v":0},{"$f":"INSERT!B19","v":0},{"$f":"INSERT!C19","v":0},{"$f":"INSERT!D19","v":0},{"$f":"INSERT!E19","v":0},{"$f":"TERM2!Z32","v":0},{"$f":"TERM2!AR32","v":0},{"$f":"TERM2!BJ32","v":0},0,{"$f":"TERM2!BO32","v":0},0,0,"",null,0]
[18,19,{"$f":"INSERT!A20","v":0},{"$f":"INSERT!B20","v":0},{"$f":"INSERT!C20","v":0},{"$f":"INSERT!D20","v":0},{"$f":"INSERT!E20","v":0},{"$f":"TERM2!Z33","v":0},{"$f":"TERM2!AR33","v":0},{"$f":"TERM2!BJ33","v":0},0,{"$f":"TERM2!BO33","v":0},0,0,"",null,0]
[19,20,{"$f":"INSERT!A21","v":0},{"$f":"INSERT!B21","v":0},{"$f":"INSERT!C21","v":0},{"$f":"INSERT!D21","v":0},{"$f":"INSERT!E21","v":0},{"$f":"TERM2!Z34","v":0},{"$f":"TERM2!AR34","v":0},{"$f":"TERM2!BJ34","v":0},0,{"$f":"TERM2!BO34","v":0},0,0,"",null,0]
[20,21,{"$f":"INSERT!A22","v":0},{"$f":"INSERT!B22","v":0},{"$f":"INSERT!C22","v":0},{"$f":"INSERT!D22","v":0},{"$f":"INSERT!E22","v":0},{"$f":"TERM2!Z35","v":0},{"$f":"TERM2!AR35","v":0},{"$f":"TERM2!BJ35","v":0},0,{"$f":"TERM2!BO35","v":0},0,0,"",null,0]
[21,22,{"$f":"INSERT!A23","v":0},{"$f":"INSERT!B23","v":0},{"$f":"INSERT!C23","v":0},{"$f":"INSERT!D23","v":0},{"$f":"INSERT!E23","v":0},{"$f":"TERM2!Z36","v":0},{"$f":"TERM2!AR36","v":0},{"$f":"TERM2!BJ36","v":0},0,{"$f":"TERM2!BO36","v":0},0,0,"",null,0]
[22,23,{"$f":"INSERT!A24","v":0},{"$f":"INSERT!B24","v":0},{"$f":"INSERT!C24","v":0},{"$f":"INSERT!D24","v":0},{"$f":"INSERT!E24","v":0},{"$f":"TERM2!Z37","v":0},{"$f":"TERM2!AR37","v":0},{"$f":"TERM2!BJ37","v":0},0,{"$f":"TERM2!BO37","v":0},0,0,"",null,0]
[23,24,{"$f":"INSERT!A25","v":0},{"$f":"INSERT!B25","v":0},{"$f":"INSERT!C25","v":0},{"$f":"INSERT!D25","v":0},{"$f":"INSERT!E25","v":0},{"$f":"TERM2!Z38","v":0},{"$f":"TERM2!AR38","v":0},{"$f":"TERM2!BJ38","v":0},0,{"$f":"TERM2!BO38","v":0},0,0,"",null,0]
[24,25,{"$f":"INSERT!A26","v":0},{"$f":"INSERT!B26","v":0},{"$f":"INSERT!C26","v":0},{"$f":"INSERT!D26","v":0},{"$f":"INSERT!E26","v":0},{"$f":"TERM2!Z39","v":0},{"$f":"TERM2!AR39","v":0},{"$f":"TERM2!BJ39","v":0},0,{"$f":"TERM2!BO39","v":0},0,0,"",null,0]
[25,26,{"$f":"INSERT!A27","v":0},{"$f":"INSERT!B27","v":0},{"$f":"INSERT!C27","v":0},{"$f":"INSERT!D27","v":0},{"$f":"INSERT!E27","v":0},{"$f":"TERM2!Z40","v":0},{"$f":"TERM2!AR40","v":0},{"$f":"TERM2!BJ40","v":0},0,{"$f":"TERM2!BO40","v":0},0,0,"",null,0]
[26,27,{"$f":"INSERT!A28","v":0},{"$f":"INSERT!B28","v":0},{"$f":"INSERT!C28","v":0},{"$f":"INSERT!D28","v":0},{"$f":"INSERT!E28","v":0},{"$f":"TERM2!Z41","v":0},{"$f":"TERM2!AR41","v":0},{"$f":"TERM2!BJ41","v":0},0,{"$f":"TERM2!BO41","v":0},0,0,"",null,0]
[27,28,{"$f":"INSERT!A29","v":0},{"$f":"INSERT!B29","v":0},{"$f":"INSERT!C29","v":0},{"$f":"INSERT!D29","v":0},{"$f":"INSERT!E29","v":0},{"$f":"TERM2!Z42","v":0},{"$f":"TERM2!AR42","v":0},{"$f":"TERM2!BJ42","v":0},0,{"$f":"TERM2!BO42","v":0},0,0,"",null,0]
[28,29,{"$f":"INSERT!A30","v":0},{"$f":"INSERT!B30","v":0},{"$f":"INSERT!C30","v":0},{"$f":"INSERT!D30","v":0},{"$f":"INSERT!E30","v":0},{"$f":"TERM2!Z43","v":0},{"$f":"TERM2!AR43","v":0},{"$f":"TERM2!BJ43","v":0},0,{"$f":"TERM2!BO43","v":0},0,0,"",null,0]
[29,30,{"$f":"INSERT!A31","v":0},{"$f":"INSERT!B31","v":0},{"$f":"INSERT!C31","v":0},{"$f":"INSERT!D31","v":0},{"$f":"INSERT!E31","v":0},{"$f":"TERM2!Z44","v":0},{"$f":"TERM2!AR44","v":0},{"$f":"TERM2!BJ44","v":0},0,{"$f":"TERM2!BO44","v":0},0,0,"",null,0]
[30,31,{"$f":"INSERT!A32","v":0},{"$f":"INSERT!B32","v":0},{"$f":"INSERT!C32","v":0},{"$f":"INSERT!D32","v":0},{"$f":"INSERT!E32","v":0},{"$f":"TERM2!Z45","v":0},{"$f":"TERM2!AR45","v":0},{"$f":"TERM2!BJ45","v":0},0,{"$f":"TERM2!BO45","v":0},0,0,"",null,0]
[31,32,{"$f":"INSERT!A33","v":0},{"$f":"INSERT!B33","v":0},{"$f":"INSERT!C33","v":0},{"$f":"INSERT!D33","v":0},{"$f":"INSERT!E33","v":0},{"$f":"TERM2!Z46","v":0},{"$f":"TERM2!AR46","v":0},{"$f":"TERM2!BJ46","v":0},0,{"$f":"TERM2!BO46","v":0},0,0,"",null,0]
[32,33,{"$f":"INSERT!A34","v":0},{"$f":"INSERT!B34","v":0},{"$f":"INSERT!C34","v":0},{"$f":"INSERT!D34","v":0},{"$f":"INSERT!E34","v":0},{"$f":"TERM2!Z47","v":0},{"$f":"TERM2!AR47","v":0},{"$f":"TERM2!BJ47","v":0},0,{"$f":"TERM2!BO47","v":0},0,0,"",null,0]
[33,34,{"$f":"INSERT!A35","v":0},{"$f":"INSERT!B35","v":0},{"$f":"INSERT!C35","v":0},{"$f":"INSERT!D35","v":0},{"$f":"INSERT!E35","v":0},{"$f":"TERM2!Z48","v":0},{"$f":"TERM2!AR48","v":0},{"$f":"TERM2!BJ48","v":0},0,{"$f":"TERM2!BO48","v":0},0,0,{"$f":"IF(N41>79,\"7\",IF(N41>69,\"6\",IF(N41>59,\"5\",IF(N41>49,\"4\",IF(N41>39,\"3\",IF(N41>29,\"2\",IF(N41>0,\"1\",IF(N41=0,\"\"))))))))","v":""},null,0]
[34,35,{"$f":"INSERT!A36","v":0},{"$f":"INSERT!B36","v":0},{"$f":"INSERT!C36","v":0},{"$f":"INSERT!D36","v":0},{"$f":"INSERT!E36","v":0},{"$f":"TERM2!Z49","v":0},{"$f":"TERM2!AR49","v":0},{"$f":"TERM2!BJ49","v":0},0,{"$f":"TERM2!BO49","v":0},0,0,"",null,0]
[35,36,{"$f":"INSERT!A37","v":0},{"$f":"INSERT!B37","v":0},{"$f":"INSERT!C37","v":0},{"$f":"INSERT!D37","v":0},{"$f":"INSERT!E37","v":0},{"$f":"TERM2!Z50","v":0},{"$f":"TERM2!AR50","v":0},{"$f":"TERM2!BJ50","v":0},0,{"$f":"TERM2!BO50","v":0},0,0,"",null,0]
[36,37,{"$f":"INSERT!A38","v":0},{"$f":"INSERT!B38","v":0},{"$f":"INSERT!C38","v":0},{"$f":"INSERT!D38","v":0},{"$f":"INSERT!E38","v":0},{"$f":"TERM2!Z51","v":0},{"$f":"TERM2!AR51","v":0},{"$f":"TERM2!BJ51","v":0},0,{"$f":"TERM2!BO51","v":0},0,0,"",null,0]
[37,38,{"$f":"INSERT!A39","v":0},{"$f":"INSERT!B39","v":0},{"$f":"INSERT!C39","v":0},{"$f":"INSERT!D39","v":0},{"$f":"INSERT!E39","v":0},{"$f":"TERM2!Z52","v":0},{"$f":"TERM2!AR52","v":0},{"$f":"TERM2!BJ52","v":0},0,{"$f":"TERM2!BO52","v":0},0,0,"",null,0]
[38,39,{"$f":"INSERT!A40","v":0},{"$f":"INSERT!B40","v":0},{"$f":"INSERT!C40","v":0},{"$f":"INSERT!D40","v":0},{"$f":"INSERT!E40","v":0},{"$f":"TERM2!Z53","v":0},{"$f":"TERM2!AR53","v":0},{"$f":"TERM2!BJ53","v":0},0,{"$f":"TERM2!BO53","v":0},0,0,"",null,0]
[39,40,{"$f":"INSERT!A41","v":0},{"$f":"INSERT!B41","v":0},{"$f":"INSERT!C41","v":0},{"$f":"INSERT!D41","v":0},{"$f":"INSERT!E41","v":0},{"$f":"TERM2!Z54","v":0},{"$f":"TERM2!AR54","v":0},{"$f":"TERM2!BJ54","v":0},0,{"$f":"TERM2!BO54","v":0},0,0,"",null,0]
[40,41,{"$f":"INSERT!A42","v":0},{"$f":"INSERT!B42","v":0},{"$f":"INSERT!C42","v":0},{"$f":"INSERT!D42","v":0},{"$f":"INSERT!E42","v":0},{"$f":"TERM2!Z55","v":0},{"$f":"TERM2!AR55","v":0},{"$f":"TERM2!BJ55","v":0},0,{"$f":"TERM2!BO55","v":0},0,0,"",null,0]
[41,42,{"$f":"INSERT!A43","v":0},{"$f":"INSERT!B43","v":0},{"$f":"INSERT!C43","v":0},{"$f":"INSERT!D43","v":0},{"$f":"INSERT!E43","v":0},{"$f":"TERM2!Z56","v":0},{"$f":"TERM2!AR56","v":0},{"$f":"TERM2!BJ56","v":0},0,{"$f":"TERM2!BO56","v":0},0,0,"",null,0]
[42,43,{"$f":"INSERT!A44","v":0},{"$f":"INSERT!B44","v":0},{"$f":"INSERT!C44","v":0},{"$f":"INSERT!D44","v":0},{"$f":"INSERT!E44","v":0},{"$f":"TERM2!Z57","v":0},{"$f":"TERM2!AR57","v":0},{"$f":"TERM2!BJ57","v":0},0,{"$f":"TERM2!BO57","v":0},0,0,"",null,0]
[43,44,{"$f":"INSERT!A45","v":0},{"$f":"INSERT!B45","v":0},{"$f":"INSERT!C45","v":0},{"$f":"INSERT!D45","v":0},{"$f":"INSERT!E45","v":0},{"$f":"TERM2!Z58","v":0},{"$f":"TERM2!AR58","v":0},{"$f":"TERM2!BJ58","v":0},0,{"$f":"TERM2!BO58","v":0},0,0,"",null,0]
[44,45,{"$f":"INSERT!A46","v":0},{"$f":"INSERT!B46","v":0},{"$f":"INSERT!C46","v":0},{"$f":"INSERT!D46","v":0},{"$f":"INSERT!E46","v":0},{"$f":"TERM2!Z59","v":0},{"$f":"TERM2!AR59","v":0},{"$f":"TERM2!BJ59","v":0},0,{"$f":"TERM2!BO59","v":0},0,0,"",null,0]
[45,46,{"$f":"INSERT!A47","v":0},{"$f":"INSERT!B47","v":0},{"$f":"INSERT!C47","v":0},{"$f":"INSERT!D47","v":0},{"$f":"INSERT!E47","v":0},{"$f":"TERM2!Z60","v":0},{"$f":"TERM2!AR60","v":0},{"$f":"TERM2!BJ60","v":0},0,{"$f":"TERM2!BO60","v":0},0,0,"",null,0]
[46,47,{"$f":"INSERT!A48","v":0},{"$f":"INSERT!B48","v":0},{"$f":"INSERT!C48","v":0},{"$f":"INSERT!D48","v":0},{"$f":"INSERT!E48","v":0},{"$f":"TERM2!Z61","v":0},{"$f":"TERM2!AR61","v":0},{"$f":"TERM2!BJ61","v":0},0,{"$f":"TERM2!BO61","v":0},0,0,"",null,0]
[47,48,{"$f":"INSERT!A49","v":0},{"$f":"INSERT!B49","v":0},{"$f":"INSERT!C49","v":0},{"$f":"INSERT!D49","v":0},{"$f":"INSERT!E49","v":0},{"$f":"TERM2!Z62","v":0},{"$f":"TERM2!AR62","v":0},{"$f":"TERM2!BJ62","v":0},0,{"$f":"TERM2!BO62","v":0},0,0,"",null,0]
[48,49,{"$f":"INSERT!A50","v":0},{"$f":"INSERT!B50","v":0},{"$f":"INSERT!C50","v":0},{"$f":"INSERT!D50","v":0},{"$f":"INSERT!E50","v":0},{"$f":"TERM2!Z63","v":0},{"$f":"TERM2!AR63","v":0},{"$f":"TERM2!BJ63","v":0},0,{"$f":"TERM2!BO63","v":0},0,0,"",null,0]
[49,50,{"$f":"INSERT!A51","v":0},{"$f":"INSERT!B51","v":0},{"$f":"INSERT!C51","v":0},{"$f":"INSERT!D51","v":0},{"$f":"INSERT!E51","v":0},{"$f":"TERM2!Z64","v":0},{"$f":"TERM2!AR64","v":0},{"$f":"TERM2!BJ64","v":0},0,{"$f":"TERM2!BO64","v":0},0,0,"",null,0]
[50,51,{"$f":"INSERT!A52","v":0},{"$f":"INSERT!B52","v":0},{"$f":"INSERT!C52","v":0},{"$f":"INSERT!D52","v":0},{"$f":"INSERT!E52","v":0},{"$f":"TERM2!Z65","v":0},{"$f":"TERM2!AR65","v":0},{"$f":"TERM2!BJ65","v":0},0,{"$f":"TERM2!BO65","v":0},0,0,"",null,0]
[51,52,{"$f":"INSERT!A53","v":0},{"$f":"INSERT!B53","v":0},{"$f":"INSERT!C53","v":0},{"$f":"INSERT!D53","v":0},{"$f":"INSERT!E53","v":0},{"$f":"TERM2!Z66","v":0},{"$f":"TERM2!AR66","v":0},{"$f":"TERM2!BJ66","v":0},0,{"$f":"TERM2!BO66","v":0},0,0,"",null,0]
[52,53,{"$f":"INSERT!A54","v":0},{"$f":"INSERT!B54","v":0},{"$f":"INSERT!C54","v":0},{"$f":"INSERT!D54","v":0},{"$f":"INSERT!E54","v":0},{"$f":"TERM2!Z67","v":0},{"$f":"TERM2!AR67","v":0},{"$f":"TERM2!BJ67","v":0},0,{"$f":"TERM2!BO67","v":0},0,0,"",null,0]
[53,54,{"$f":"INSERT!A55","v":0},{"$f":"INSERT!B55","v":0},{"$f":"INSERT!C55","v":0},{"$f":"INSERT!D55","v":0},{"$f":"INSERT!E55","v":0},{"$f":"TERM2!Z68","v":0},{"$f":"TERM2!AR68","v":0},{"$f":"TERM2!BJ68","v":0},0,{"$f":"TERM2!BO68","v":0},0,0,"",null,0]
[54,55,{"$f":"INSERT!A56","v":0},{"$f":"INSERT!B56","v":0},{"$f":"INSERT!C56","v":0},{"$f":"INSERT!D56","v":0},{"$f":"INSERT!E56","v":0},{"$f":"TERM2!Z69","v":0},{"$f":"TERM2!AR69","v":0},{"$f":"TERM2!BJ69","v":0},0,{"$f":"TERM2!BO69","v":0},0,0,"",null,0]
[55,56,{"$f":"INSERT!A57","v":0},{"$f":"INSERT!B57","v":0},{"$f":"INSERT!C57","v":0},{"$f":"INSERT!D57","v":0},{"$f":"INSERT!E57","v":0},{"$f":"TERM2!Z70","v":0},{"$f":"TERM2!AR70","v":0},{"$f":"TERM2!BJ70","v":0},0,{"$f":"TERM2!BO70","v":0},0,0,"",null,0]
[56,57,{"$f":"INSERT!A58","v":0},{"$f":"INSERT!B58","v":0},{"$f":"INSERT!C58","v":0},{"$f":"INSERT!D58","v":0},{"$f":"INSERT!E58","v":0},{"$f":"TERM2!Z71","v":0},{"$f":"TERM2!AR71","v":0},{"$f":"TERM2!BJ71","v":0},0,{"$f":"TERM2!BO71","v":0},0,0,"",null,0]
[57,58,{"$f":"INSERT!A59","v":0},{"$f":"INSERT!B59","v":0},{"$f":"INSERT!C59","v":0},{"$f":"INSERT!D59","v":0},{"$f":"INSERT!E59","v":0},{"$f":"TERM2!Z72","v":0},{"$f":"TERM2!AR72","v":0},{"$f":"TERM2!BJ72","v":0},0,{"$f":"TERM2!BO72","v":0},0,0,"",null,0]
[58,59,{"$f":"INSERT!A60","v":0},{"$f":"INSERT!B60","v":0},{"$f":"INSERT!C60","v":0},{"$f":"INSERT!D60","v":0},{"$f":"INSERT!E60","v":0},{"$f":"TERM2!Z73","v":0},{"$f":"TERM2!AR73","v":0},{"$f":"TERM2!BJ73","v":0},0,{"$f":"TERM2!BO73","v":0},0,0,"",null,0]
[59,60,{"$f":"INSERT!A61","v":0},{"$f":"INSERT!B61","v":0},{"$f":"INSERT!C61","v":0},{"$f":"INSERT!D61","v":0},{"$f":"INSERT!E61","v":0},{"$f":"TERM2!Z74","v":0},{"$f":"TERM2!AR74","v":0},{"$f":"TERM2!BJ74","v":0},0,{"$f":"TERM2!BO74","v":0},0,0,"",null,0]
[60,61,{"$f":"INSERT!A62","v":0},{"$f":"INSERT!B62","v":0},{"$f":"INSERT!C62","v":0},{"$f":"INSERT!D62","v":0},{"$f":"INSERT!E62","v":0},{"$f":"TERM2!Z75","v":0},{"$f":"TERM2!AR75","v":0},{"$f":"TERM2!BJ75","v":0},0,{"$f":"TERM2!BO75","v":0},0,0,"",null,0]
[61,62,{"$f":"INSERT!A63","v":0},{"$f":"INSERT!B63","v":0},{"$f":"INSERT!C63","v":0},{"$f":"INSERT!D63","v":0},{"$f":"INSERT!E63","v":0},{"$f":"TERM2!Z76","v":0},{"$f":"TERM2!AR76","v":0},{"$f":"TERM2!BJ76","v":0},0,{"$f":"TERM2!BO76","v":0},0,0,"",null,0]
[62,63,{"$f":"INSERT!A64","v":0},{"$f":"INSERT!B64","v":0},{"$f":"INSERT!C64","v":0},{"$f":"INSERT!D64","v":0},{"$f":"INSERT!E64","v":0},{"$f":"TERM2!Z77","v":0},{"$f":"TERM2!AR77","v":0},{"$f":"TERM2!BJ77","v":0},0,{"$f":"TERM2!BO77","v":0},0,0,"",null,0]
[63,64,{"$f":"INSERT!A65","v":0},{"$f":"INSERT!B65","v":0},{"$f":"INSERT!C65","v":0},{"$f":"INSERT!D65","v":0},{"$f":"INSERT!E65","v":0},{"$f":"TERM2!Z78","v":0},{"$f":"TERM2!AR78","v":0},{"$f":"TERM2!BJ78","v":0},0,{"$f":"TERM2!BO78","v":0},0,0,"",null,0]
[64,65,{"$f":"INSERT!A66","v":0},{"$f":"INSERT!B66","v":0},{"$f":"INSERT!C66","v":0},{"$f":"INSERT!D66","v":0},{"$f":"INSERT!E66","v":0},{"$f":"TERM2!Z79","v":0},{"$f":"TERM2!AR79","v":0},{"$f":"TERM2!BJ79","v":0},0,{"$f":"TERM2!BO79","v":0},0,0,"",null,0]
[65,66,{"$f":"INSERT!A67","v":0},{"$f":"INSERT!B67","v":0},{"$f":"INSERT!C67","v":0},{"$f":"INSERT!D67","v":0},{"$f":"INSERT!E67","v":0},{"$f":"TERM2!Z80","v":0},{"$f":"TERM2!AR80","v":0},{"$f":"TERM2!BJ80","v":0},0,{"$f":"TERM2!BO80","v":0},0,0,{"$f":"IF(N73>79,\"7\",IF(N73>69,\"6\",IF(N73>59,\"5\",IF(N73>49,\"4\",IF(N73>39,\"3\",IF(N73>29,\"2\",IF(N73>0,\"1\",IF(N73=0,\"\"))))))))","v":""},null,0]
[66,67,{"$f":"INSERT!A68","v":0},{"$f":"INSERT!B68","v":0},{"$f":"INSERT!C68","v":0},{"$f":"INSERT!D68","v":0},{"$f":"INSERT!E68","v":0},{"$f":"TERM2!Z81","v":0},{"$f":"TERM2!AR81","v":0},{"$f":"TERM2!BJ81","v":0},{"$f":"SUM(H74:J74)","v":0},{"$f":"TERM2!BO81","v":0},{"$f":"SUM(Q74/2.5)+SUM(L74/2.5)","v":0},{"$f":"ROUND(M74,0)","v":0},"",null,{"$f":"SUM(H74/0.303030303)+SUM(I74/0.303030303)+SUM(J74/0.294117647)","v":0}]
[67,68,{"$f":"INSERT!A69","v":0},{"$f":"INSERT!B69","v":0},{"$f":"INSERT!C69","v":0},{"$f":"INSERT!D69","v":0},{"$f":"INSERT!E69","v":0},{"$f":"TERM2!Z82","v":0},{"$f":"TERM2!AR82","v":0},{"$f":"TERM2!BJ82","v":0},0,{"$f":"TERM2!BO82","v":0},0,0,"",null,0]
[68,69,{"$f":"INSERT!A70","v":0},{"$f":"INSERT!B70","v":0},{"$f":"INSERT!C70","v":0},{"$f":"INSERT!D70","v":0},{"$f":"INSERT!E70","v":0},{"$f":"TERM2!Z83","v":0},{"$f":"TERM2!AR83","v":0},{"$f":"TERM2!BJ83","v":0},0,{"$f":"TERM2!BO83","v":0},0,0,"",null,0]
[69,70,{"$f":"INSERT!A71","v":0},{"$f":"INSERT!B71","v":0},{"$f":"INSERT!C71","v":0},{"$f":"INSERT!D71","v":0},{"$f":"INSERT!E71","v":0},{"$f":"TERM2!Z84","v":0},{"$f":"TERM2!AR84","v":0},{"$f":"TERM2!BJ84","v":0},0,{"$f":"TERM2!BO84","v":0},0,0,"",null,0]
[70,71,{"$f":"INSERT!A72","v":0},{"$f":"INSERT!B72","v":0},{"$f":"INSERT!C72","v":0},{"$f":"INSERT!D72","v":0},{"$f":"INSERT!E72","v":0},{"$f":"TERM2!Z85","v":0},{"$f":"TERM2!AR85","v":0},{"$f":"TERM2!BJ85","v":0},0,{"$f":"TERM2!BO85","v":0},0,0,"",null,0]
[71,72,{"$f":"INSERT!A73","v":0},{"$f":"INSERT!B73","v":0},{"$f":"INSERT!C73","v":0},{"$f":"INSERT!D73","v":0},{"$f":"INSERT!E73","v":0},{"$f":"TERM2!Z86","v":0},{"$f":"TERM2!AR86","v":0},{"$f":"TERM2!BJ86","v":0},0,{"$f":"TERM2!BO86","v":0},0,0,"",null,0]
[72,73,{"$f":"INSERT!A74","v":0},{"$f":"INSERT!B74","v":0},{"$f":"INSERT!C74","v":0},{"$f":"INSERT!D74","v":0},{"$f":"INSERT!E74","v":0},{"$f":"TERM2!Z87","v":0},{"$f":"TERM2!AR87","v":0},{"$f":"TERM2!BJ87","v":0},0,{"$f":"TERM2!BO87","v":0},0,0,"",null,0]
[73,74,{"$f":"INSERT!A75","v":0},{"$f":"INSERT!B75","v":0},{"$f":"INSERT!C75","v":0},{"$f":"INSERT!D75","v":0},{"$f":"INSERT!E75","v":0},{"$f":"TERM2!Z88","v":0},{"$f":"TERM2!AR88","v":0},{"$f":"TERM2!BJ88","v":0},0,{"$f":"TERM2!BO88","v":0},0,0,"",null,0]
[74,75,{"$f":"INSERT!A76","v":0},{"$f":"INSERT!B76","v":0},{"$f":"INSERT!C76","v":0},{"$f":"INSERT!D76","v":0},{"$f":"INSERT!E76","v":0},{"$f":"TERM2!Z89","v":0},{"$f":"TERM2!AR89","v":0},{"$f":"TERM2!BJ89","v":0},0,{"$f":"TERM2!BO89","v":0},0,0,"",null,0]
[75,76,{"$f":"INSERT!A77","v":0},{"$f":"INSERT!B77","v":0},{"$f":"INSERT!C77","v":0},{"$f":"INSERT!D77","v":0},{"$f":"INSERT!E77","v":0},{"$f":"TERM2!Z90","v":0},{"$f":"TERM2!AR90","v":0},{"$f":"TERM2!BJ90","v":0},0,{"$f":"TERM2!BO90","v":0},0,0,"",null,0]
[76,77,{"$f":"INSERT!A78","v":0},{"$f":"INSERT!B78","v":0},{"$f":"INSERT!C78","v":0},{"$f":"INSERT!D78","v":0},{"$f":"INSERT!E78","v":0},{"$f":"TERM2!Z91","v":0},{"$f":"TERM2!AR91","v":0},{"$f":"TERM2!BJ91","v":0},0,{"$f":"TERM2!BO91","v":0},0,0,"",null,0]
[77,78,{"$f":"INSERT!A79","v":0},{"$f":"INSERT!B79","v":0},{"$f":"INSERT!C79","v":0},{"$f":"INSERT!D79","v":0},{"$f":"INSERT!E79","v":0},{"$f":"TERM2!Z92","v":0},{"$f":"TERM2!AR92","v":0},{"$f":"TERM2!BJ92","v":0},0,{"$f":"TERM2!BO92","v":0},0,0,"",null,0]
[78,79,{"$f":"INSERT!A80","v":0},{"$f":"INSERT!B80","v":0},{"$f":"INSERT!C80","v":0},{"$f":"INSERT!D80","v":0},{"$f":"INSERT!E80","v":0},{"$f":"TERM2!Z93","v":0},{"$f":"TERM2!AR93","v":0},{"$f":"TERM2!BJ93","v":0},0,{"$f":"TERM2!BO93","v":0},0,0,"",null,0]
[79,80,{"$f":"INSERT!A81","v":0},{"$f":"INSERT!B81","v":0},{"$f":"INSERT!C81","v":0},{"$f":"INSERT!D81","v":0},{"$f":"INSERT!E81","v":0},{"$f":"TERM2!Z94","v":0},{"$f":"TERM2!AR94","v":0},{"$f":"TERM2!BJ94","v":0},0,{"$f":"TERM2!BO94","v":0},0,0,"",null,0]
[80,81,{"$f":"INSERT!A82","v":0},{"$f":"INSERT!B82","v":0},{"$f":"INSERT!C82","v":0},{"$f":"INSERT!D82","v":0},{"$f":"INSERT!E82","v":0},{"$f":"TERM2!Z95","v":0},{"$f":"TERM2!AR95","v":0},{"$f":"TERM2!BJ95","v":0},0,{"$f":"TERM2!BO95","v":0},0,0,"",null,0]
[81,82,{"$f":"INSERT!A83","v":0},{"$f":"INSERT!B83","v":0},{"$f":"INSERT!C83","v":0},{"$f":"INSERT!D83","v":0},{"$f":"INSERT!E83","v":0},{"$f":"TERM2!Z96","v":0},{"$f":"TERM2!AR96","v":0},{"$f":"TERM2!BJ96","v":0},0,{"$f":"TERM2!BO96","v":0},0,0,"",null,0]
[82,83,{"$f":"INSERT!A84","v":0},{"$f":"INSERT!B84","v":0},{"$f":"INSERT!C84","v":0},{"$f":"INSERT!D84","v":0},{"$f":"INSERT!E84","v":0},{"$f":"TERM2!Z97","v":0},{"$f":"TERM2!AR97","v":0},{"$f":"TERM2!BJ97","v":0},0,{"$f":"TERM2!BO97","v":0},0,0,"",null,0]
[83,84,{"$f":"INSERT!A85","v":0},{"$f":"INSERT!B85","v":0},{"$f":"INSERT!C85","v":0},{"$f":"INSERT!D85","v":0},{"$f":"INSERT!E85","v":0},{"$f":"TERM2!Z98","v":0},{"$f":"TERM2!AR98","v":0},{"$f":"TERM2!BJ98","v":0},0,{"$f":"TERM2!BO98","v":0},0,0,"",null,0]
[84,85,{"$f":"INSERT!A86","v":0},{"$f":"INSERT!B86","v":0},{"$f":"INSERT!C86","v":0},{"$f":"INSERT!D86","v":0},{"$f":"INSERT!E86","v":0},{"$f":"TERM2!Z99","v":0},{"$f":"TERM2!AR99","v":0},{"$f":"TERM2!BJ99","v":0},0,{"$f":"TERM2!BO99","v":0},0,0,"",null,0]
[85,86,{"$f":"INSERT!A87","v":0},{"$f":"INSERT!B87","v":0},{"$f":"INSERT!C87","v":0},{"$f":"INSERT!D87","v":0},{"$f":"INSERT!E87","v":0},{"$f":"TERM2!Z100","v":0},{"$f":"TERM2!AR100","v":0},{"$f":"TERM2!BJ100","v":0},0,{"$f":"TERM2!BO100","v":0},0,0,"",null,0]
[86,87,{"$f":"INSERT!A88","v":0},{"$f":"INSERT!B88","v":0},{"$f":"INSERT!C88","v":0},{"$f":"INSERT!D88","v":0},{"$f":"INSERT!E88","v":0},{"$f":"TERM2!Z101","v":0},{"$f":"TERM2!AR101","v":0},{"$f":"TERM2!BJ101","v":0},0,{"$f":"TERM2!BO101","v":0},0,0,"",null,0]
[87,88,{"$f":"INSERT!A89","v":0},{"$f":"INSERT!B89","v":0},{"$f":"INSERT!C89","v":0},{"$f":"INSERT!D89","v":0},{"$f":"INSERT!E89","v":0},{"$f":"TERM2!Z102","v":0},{"$f":"TERM2!AR102","v":0},{"$f":"TERM2!BJ102","v":0},0,{"$f":"TERM2!BO102","v":0},0,0,"",null,0]
[88,89,{"$f":"INSERT!A90","v":0},{"$f":"INSERT!B90","v":0},{"$f":"INSERT!C90","v":0},{"$f":"INSERT!D90","v":0},{"$f":"INSERT!E90","v":0},{"$f":"TERM2!Z103","v":0},{"$f":"TERM2!AR103","v":0},{"$f":"TERM2!BJ103","v":0},0,{"$f":"TERM2!BO103","v":0},0,0,"",null,0]
[89,90,{"$f":"INSERT!A91","v":0},{"$f":"INSERT!B91","v":0},{"$f":"INSERT!C91","v":0},{"$f":"INSERT!D91","v":0},{"$f":"INSERT!E91","v":0},{"$f":"TERM2!Z104","v":0},{"$f":"TERM2!AR104","v":0},{"$f":"TERM2!BJ104","v":0},0,{"$f":"TERM2!BO104","v":0},0,0,"",null,0]
[90,91,{"$f":"INSERT!A92","v":0},{"$f":"INSERT!B92","v":0},{"$f":"INSERT!C92","v":0},{"$f":"INSERT!D92","v":0},{"$f":"INSERT!E92","v":0},{"$f":"TERM2!Z105","v":0},{"$f":"TERM2!AR105","v":0},{"$f":"TERM2!BJ105","v":0},0,{"$f":"TERM2!BO105","v":0},0,0,"",null,0]
[91,92,{"$f":"INSERT!A93","v":0},{"$f":"INSERT!B93","v":0},{"$f":"INSERT!C93","v":0},{"$f":"INSERT!D93","v":0},{"$f":"INSERT!E93","v":0},{"$f":"TERM2!Z106","v":0},{"$f":"TERM2!AR106","v":0},{"$f":"TERM2!BJ106","v":0},0,{"$f":"TERM2!BO106","v":0},0,0,"",null,0]
[92,93,{"$f":"INSERT!A94","v":0},{"$f":"INSERT!B94","v":0},{"$f":"INSERT!C94","v":0},{"$f":"INSERT!D94","v":0},{"$f":"INSERT!E94","v":0},{"$f":"TERM2!Z107","v":0},{"$f":"TERM2!AR107","v":0},{"$f":"TERM2!BJ107","v":0},0,{"$f":"TERM2!BO107","v":0},0,0,"",null,0]
[93,94,{"$f":"INSERT!A95","v":0},{"$f":"INSERT!B95","v":0},{"$f":"INSERT!C95","v":0},{"$f":"INSERT!D95","v":0},{"$f":"INSERT!E95","v":0},{"$f":"TERM2!Z108","v":0},{"$f":"TERM2!AR108","v":0},{"$f":"TERM2!BJ108","v":0},0,{"$f":"TERM2!BO108","v":0},0,0,"",null,0]
[94,95,{"$f":"INSERT!A96","v":0},{"$f":"INSERT!B96","v":0},{"$f":"INSERT!C96","v":0},{"$f":"INSERT!D96","v":0},{"$f":"INSERT!E96","v":0},{"$f":"TERM2!Z109","v":0},{"$f":"TERM2!AR109","v":0},{"$f":"TERM2!BJ109","v":0},0,{"$f":"TERM2!BO109","v":0},0,0,"",null,0]
[95,96,{"$f":"INSERT!A97","v":0},{"$f":"INSERT!B97","v":0},{"$f":"INSERT!C97","v":0},{"$f":"INSERT!D97","v":0},{"$f":"INSERT!E97","v":0},{"$f":"TERM2!Z110","v":0},{"$f":"TERM2!AR110","v":0},{"$f":"TERM2!BJ110","v":0},0,{"$f":"TERM2!BO110","v":0},0,0,"",null,0]
[96,97,{"$f":"INSERT!A98","v":0},{"$f":"INSERT!B98","v":0},{"$f":"INSERT!C98","v":0},{"$f":"INSERT!D98","v":0},{"$f":"INSERT!E98","v":0},{"$f":"TERM2!Z111","v":0},{"$f":"TERM2!AR111","v":0},{"$f":"TERM2!BJ111","v":0},0,{"$f":"TERM2!BO111","v":0},0,0,"",null,0]
[97,98,{"$f":"INSERT!A99","v":0},{"$f":"INSERT!B99","v":0},{"$f":"INSERT!C99","v":0},{"$f":"INSERT!D99","v":0},{"$f":"INSERT!E99","v":0},{"$f":"TERM2!Z112","v":0},{"$f":"TERM2!AR112","v":0},{"$f":"TERM2!BJ112","v":0},0,{"$f":"TERM2!BO112","v":0},0,0,{"$f":"IF(N105>79,\"7\",IF(N105>69,\"6\",IF(N105>59,\"5\",IF(N105>49,\"4\",IF(N105>39,\"3\",IF(N105>29,\"2\",IF(N105>0,\"1\",IF(N105=0,\"\"))))))))","v":""},null,0]
[98,99,{"$f":"INSERT!A100","v":0},{"$f":"INSERT!B100","v":0},{"$f":"INSERT!C100","v":0},{"$f":"INSERT!D100","v":0},{"$f":"INSERT!E100","v":0},{"$f":"TERM2!Z113","v":0},{"$f":"TERM2!AR113","v":0},{"$f":"TERM2!BJ113","v":0},0,{"$f":"TERM2!BO113","v":0},0,0,"",null,0]
[99,100,{"$f":"INSERT!A101","v":0},{"$f":"INSERT!B101","v":0},{"$f":"INSERT!C101","v":0},{"$f":"INSERT!D101","v":0},{"$f":"INSERT!E101","v":0},{"$f":"TERM2!Z114","v":0},{"$f":"TERM2!AR114","v":0},{"$f":"TERM2!BJ114","v":0},0,{"$f":"TERM2!BO114","v":0},0,0,"",null,0]
[100,null,{"$f":"INSERT!A102","v":0},{"$f":"INSERT!B102","v":0},{"$f":"INSERT!C102","v":0},{"$f":"INSERT!D102","v":0},{"$f":"INSERT!E102","v":0},{"$f":"TERM2!Z115","v":0},{"$f":"TERM2!AR115","v":0},{"$f":"TERM2!BJ115","v":0},0,{"$f":"TERM2!BO115","v":0},0,0,"",null,0]
[null,null,"x","x","x","x","Total",{"$f":"SUM(H9:H108)","v":0},0,0,0,0,{"$f":"SUM(M9:M108)","v":0},0]
[null,null,"x","x","x","x","Average%",{"$f":"IFERROR(ROUND((AVERAGEIF(H9:H108,\">0\")/H4*100),1),\"0\")","v":"0"},{"$f":"IFERROR(ROUND((AVERAGEIF(I9:I108,\">0\")/I4*100),1),\"0\")","v":"0"},"0","0","0",{"$f":"IFERROR(ROUND((AVERAGEIF(M9:M108,\">0\")/M7*100),1),\"0\")","v":"0"},{"$f":"IFERROR(ROUND((AVERAGEIF(N9:N108,\">0\")/N7*100),1),\"0\")","v":"0"}]
["Total amount of learners on mark sheet",null,null,null,"X","Term results analysis",null,"LEVEL 1","LEVEL 2","LEVEL 3","LEVEL 4","LEVEL 5","LEVEL 6","LEVEL 7","TOTAL"]
[null,null,null,null,{"$f":"INSERT!$E$103","v":0},null,null," 0 - 29 "," 30 - 39 "," 40 - 49 "," 50 - 59 "," 60 - 69 "," 71 - 79 ","80 - 100"]
[null,null,null,null,"X",null,null,{"$f":"COUNTIF(O9:O108,1)","v":0},{"$f":"COUNTIF($O$8:$O$107,2)","v":0},{"$f":"COUNTIF($O$8:$O$107,3)","v":0},{"$f":"COUNTIF($O$8:$O$107,4)","v":0},{"$f":"COUNTIF($O$8:$O$107,5)","v":0},{"$f":"COUNTIF($O$8:$O$107,6)","v":0},{"$f":"COUNTIF($O$8:$O$107,7)","v":0},{"$f":"SUM(H113:N113)","v":0}]

{"sheet":"SASAMS TERM3","index":10,"n_rows":113,"n_cols":23,"rows_kept":113,"cut":false,"hidden":false,"merged":[[110,0,112,3],[110,5,112,6],[1,0,1,2],[5,0,5,4],[0,20,2,22],[2,0,2,6],[3,0,3,4],[3,20,5,20],[3,21,5,21],[3,22,5,22],[4,0,4,6],[0,0,0,5]]}
["       Engineering Graphics and Design (Gr 10)\n      Term 3:",null,null,null,null,null,"TASKS",null,null,null,null,null,"TASK 5",null,null,null,null,null,"TASK PAT (Phase 1)","TASK 6"]
["Grade:",null,null,{"$f":"TERM1!$F$6","v":0},null,null,"Activities",{"$f":"TERM3!$I$4","v":"CD7 1st Solid Geometry\nPrism or Pyramid"},{"$f":"TERM3!$AA$4","v":"CD8 2nd Solid Geometry\nCylinder or Cone"},{"$f":"TERM3!$AS$4","v":"CD 9 Descriptive Geometry"},{"$f":"TERM3!$BK$4","v":"CD 10  Floor Plan"},{"$f":"TERM3!$CC$4","v":"CD 11 Civil Section of fondation"},null,"1. Design brief","2. Research","3.1 Possible solutions","3.2 Possible solutions","4. Selection of final solution",null,null,"100"]
["Weighting ",null,null,null,null,null,null,20,20,20,20,20,100,20,20,20,20,20,0,60]
[" Marks: -1 = Absent,  -2 = Not Captured",null,null,null,null,null,"Total Mark",10,10,10,10,10,50,10,10,10,10,10,36,50,"TOTAL Weighted Mark","Term\n%","Level"]
["SBA Year Mark Weight ",null,null,null,null,null,null,null,null,null,null,null,12.5,null,null,null,null,null,null,15]
[null,null,null,null,null,null,"Term \n /Date ",null,null,null,null,null,"Term3",null,null,null,null,null,"Term3","Term3"]
["No",null,"Class","Acc No","Surname","Name","Gender","T1:A1","T1:A2","T1:A3","T1:A4","T1:A5","T1","T2:A1","T2:A2","T2:A3","T2:A4","T2:A5","T2","T3",100,100,100]
[]
[1,3,{"$f":"INSERT!A3","v":0},{"$f":"INSERT!B3","v":0},{"$f":"INSERT!C3","v":0},{"$f":"INSERT!D3","v":0},{"$f":"INSERT!E3","v":0},{"$f":"TERM3!Z16","v":0},{"$f":"TERM3!AR16","v":0},{"$f":"TERM3!BJ16","v":0},{"$f":"TERM3!CB16","v":0},{"$f":"TERM3!CT16","v":0},{"$f":"SUM(H9:L9)","v":0},{"$f":"'FIN PAT MARK SHEET'!J18","v":0},{"$f":"'FIN PAT MARK SHEET'!K18","v":0},{"$f":"'FIN PAT MARK SHEET'!L18","v":0},{"$f":"'FIN PAT MARK SHEET'!M18","v":0},{"$f":"'FIN PAT MARK SHEET'!N18","v":0},{"$f":"SUM((N9+O9+P9+Q9+R9)/1.388888888)","v":0},{"$f":"TERM3!CY16","v":0},{"$f":"SUM(M9/0.5)","v":0},{"$f":"ROUND(U9,0)","v":0},{"$f":"IF(V9>79,\"7\",IF(V9>69,\"6\",IF(V9>59,\"5\",IF(V9>49,\"4\",IF(V9>39,\"3\",IF(V9>29,\"2\",IF(V9>0,\"1\",IF(V9=0,\"\"))))))))","v":""}]
[2,4,{"$f":"INSERT!A4","v":0},{"$f":"INSERT!B4","v":0},{"$f":"INSERT!C4","v":0},{"$f":"INSERT!D4","v":0},{"$f":"INSERT!E4","v":0},{"$f":"TERM3!Z17","v":0},{"$f":"TERM3!AR17","v":0},{"$f":"TERM3!BJ17","v":0},{"$f":"TERM3!CB17","v":0},{"$f":"TERM3!CT17","v":0},{"$f":"SUM(H10:L10)","v":0},{"$f":"'FIN PAT MARK SHEET'!J19","v":0},{"$f":"'FIN PAT MARK SHEET'!K19","v":0},{"$f":"'FIN PAT MARK SHEET'!L19","v":0},{"$f":"'FIN PAT MARK SHEET'!M19","v":0},{"$f":"'FIN PAT MARK SHEET'!N19","v":0},{"$f":"SUM((N10+O10+P10+Q10+R10)/1.388888888)","v":0},{"$f":"TERM3!CY17","v":0},{"$f":"SUM(M10/0.5)","v":0},{"$f":"ROUND(U10,0)","v":0},""]
[3,5,{"$f":"INSERT!A5","v":0},{"$f":"INSERT!B5","v":0},{"$f":"INSERT!C5","v":0},{"$f":"INSERT!D5","v":0},{"$f":"INSERT!E5","v":0},{"$f":"TERM3!Z18","v":0},{"$f":"TERM3!AR18","v":0},{"$f":"TERM3!BJ18","v":0},{"$f":"TERM3!CB18","v":0},{"$f":"TERM3!CT18","v":0},0,{"$f":"'FIN PAT MARK SHEET'!J20","v":0},{"$f":"'FIN PAT MARK SHEET'!K20","v":0},{"$f":"'FIN PAT MARK SHEET'!L20","v":0},{"$f":"'FIN PAT MARK SHEET'!M20","v":0},{"$f":"'FIN PAT MARK SHEET'!N20","v":0},0,{"$f":"TERM3!CY18","v":0},0,0,""]
[4,6,{"$f":"INSERT!A6","v":0},{"$f":"INSERT!B6","v":0},{"$f":"INSERT!C6","v":0},{"$f":"INSERT!D6","v":0},{"$f":"INSERT!E6","v":0},{"$f":"TERM3!Z19","v":0},{"$f":"TERM3!AR19","v":0},{"$f":"TERM3!BJ19","v":0},{"$f":"TERM3!CB19","v":0},{"$f":"TERM3!CT19","v":0},0,{"$f":"'FIN PAT MARK SHEET'!J21","v":0},{"$f":"'FIN PAT MARK SHEET'!K21","v":0},{"$f":"'FIN PAT MARK SHEET'!L21","v":0},{"$f":"'FIN PAT MARK SHEET'!M21","v":0},{"$f":"'FIN PAT MARK SHEET'!N21","v":0},0,{"$f":"TERM3!CY19","v":0},0,0,""]
[5,7,{"$f":"INSERT!A7","v":0},{"$f":"INSERT!B7","v":0},{"$f":"INSERT!C7","v":0},{"$f":"INSERT!D7","v":0},{"$f":"INSERT!E7","v":0},{"$f":"TERM3!Z20","v":0},{"$f":"TERM3!AR20","v":0},{"$f":"TERM3!BJ20","v":0},{"$f":"TERM3!CB20","v":0},{"$f":"TERM3!CT20","v":0},0,{"$f":"'FIN PAT MARK SHEET'!J22","v":0},{"$f":"'FIN PAT MARK SHEET'!K22","v":0},{"$f":"'FIN PAT MARK SHEET'!L22","v":0},{"$f":"'FIN PAT MARK SHEET'!M22","v":0},{"$f":"'FIN PAT MARK SHEET'!N22","v":0},0,{"$f":"TERM3!CY20","v":0},0,0,""]
[6,8,{"$f":"INSERT!A8","v":0},{"$f":"INSERT!B8","v":0},{"$f":"INSERT!C8","v":0},{"$f":"INSERT!D8","v":0},{"$f":"INSERT!E8","v":0},{"$f":"TERM3!Z21","v":0},{"$f":"TERM3!AR21","v":0},{"$f":"TERM3!BJ21","v":0},{"$f":"TERM3!CB21","v":0},{"$f":"TERM3!CT21","v":0},0,{"$f":"'FIN PAT MARK SHEET'!J23","v":0},{"$f":"'FIN PAT MARK SHEET'!K23","v":0},{"$f":"'FIN PAT MARK SHEET'!L23","v":0},{"$f":"'FIN PAT MARK SHEET'!M23","v":0},{"$f":"'FIN PAT MARK SHEET'!N23","v":0},0,{"$f":"TERM3!CY21","v":0},0,0,""]
[7,9,{"$f":"INSERT!A9","v":0},{"$f":"INSERT!B9","v":0},{"$f":"INSERT!C9","v":0},{"$f":"INSERT!D9","v":0},{"$f":"INSERT!E9","v":0},{"$f":"TERM3!Z22","v":0},{"$f":"TERM3!AR22","v":0},{"$f":"TERM3!BJ22","v":0},{"$f":"TERM3!CB22","v":0},{"$f":"TERM3!CT22","v":0},0,{"$f":"'FIN PAT MARK SHEET'!J24","v":0},{"$f":"'FIN PAT MARK SHEET'!K24","v":0},{"$f":"'FIN PAT MARK SHEET'!L24","v":0},{"$f":"'FIN PAT MARK SHEET'!M24","v":0},{"$f":"'FIN PAT MARK SHEET'!N24","v":0},0,{"$f":"TERM3!CY22","v":0},0,0,""]
[8,10,{"$f":"INSERT!A10","v":0},{"$f":"INSERT!B10","v":0},{"$f":"INSERT!C10","v":0},{"$f":"INSERT!D10","v":0},{"$f":"INSERT!E10","v":0},{"$f":"TERM3!Z23","v":0},{"$f":"TERM3!AR23","v":0},{"$f":"TERM3!BJ23","v":0},{"$f":"TERM3!CB23","v":0},{"$f":"TERM3!CT23","v":0},0,{"$f":"'FIN PAT MARK SHEET'!J25","v":0},{"$f":"'FIN PAT MARK SHEET'!K25","v":0},{"$f":"'FIN PAT MARK SHEET'!L25","v":0},{"$f":"'FIN PAT MARK SHEET'!M25","v":0},{"$f":"'FIN PAT MARK SHEET'!N25","v":0},0,{"$f":"TERM3!CY23","v":0},0,0,""]
[9,11,{"$f":"INSERT!A11","v":0},{"$f":"INSERT!B11","v":0},{"$f":"INSERT!C11","v":0},{"$f":"INSERT!D11","v":0},{"$f":"INSERT!E11","v":0},{"$f":"TERM3!Z24","v":0},{"$f":"TERM3!AR24","v":0},{"$f":"TERM3!BJ24","v":0},{"$f":"TERM3!CB24","v":0},{"$f":"TERM3!CT24","v":0},0,{"$f":"'FIN PAT MARK SHEET'!J26","v":0},{"$f":"'FIN PAT MARK SHEET'!K26","v":0},{"$f":"'FIN PAT MARK SHEET'!L26","v":0},{"$f":"'FIN PAT MARK SHEET'!M26","v":0},{"$f":"'FIN PAT MARK SHEET'!N26","v":0},0,{"$f":"TERM3!CY24","v":0},0,0,""]
[10,12,{"$f":"INSERT!A12","v":0},{"$f":"INSERT!B12","v":0},{"$f":"INSERT!C12","v":0},{"$f":"INSERT!D12","v":0},{"$f":"INSERT!E12","v":0},{"$f":"TERM3!Z25","v":0},{"$f":"TERM3!AR25","v":0},{"$f":"TERM3!BJ25","v":0},{"$f":"TERM3!CB25","v":0},{"$f":"TERM3!CT25","v":0},0,{"$f":"'FIN PAT MARK SHEET'!J27","v":0},{"$f":"'FIN PAT MARK SHEET'!K27","v":0},{"$f":"'FIN PAT MARK SHEET'!L27","v":0},{"$f":"'FIN PAT MARK SHEET'!M27","v":0},{"$f":"'FIN PAT MARK SHEET'!N27","v":0},0,{"$f":"TERM3!CY25","v":0},0,0,""]
[11,13,{"$f":"INSERT!A13","v":0},{"$f":"INSERT!B13","v":0},{"$f":"INSERT!C13","v":0},{"$f":"INSERT!D13","v":0},{"$f":"INSERT!E13","v":0},{"$f":"TERM3!Z26","v":0},{"$f":"TERM3!AR26","v":0},{"$f":"TERM3!BJ26","v":0},{"$f":"TERM3!CB26","v":0},{"$f":"TERM3!CT26","v":0},0,{"$f":"'FIN PAT MARK SHEET'!J28","v":0},{"$f":"'FIN PAT MARK SHEET'!K28","v":0},{"$f":"'FIN PAT MARK SHEET'!L28","v":0},{"$f":"'FIN PAT MARK SHEET'!M28","v":0},{"$f":"'FIN PAT MARK SHEET'!N28","v":0},0,{"$f":"TERM3!CY26","v":0},0,0,""]
[12,14,{"$f":"INSERT!A14","v":0},{"$f":"INSERT!B14","v":0},{"$f":"INSERT!C14","v":0},{"$f":"INSERT!D14","v":0},{"$f":"INSERT!E14","v":0},{"$f":"TERM3!Z27","v":0},{"$f":"TERM3!AR27","v":0},{"$f":"TERM3!BJ27","v":0},{"$f":"TERM3!CB27","v":0},{"$f":"TERM3!CT27","v":0},0,{"$f":"'FIN PAT MARK SHEET'!J29","v":0},{"$f":"'FIN PAT MARK SHEET'!K29","v":0},{"$f":"'FIN PAT MARK SHEET'!L29","v":0},{"$f":"'FIN PAT MARK SHEET'!M29","v":0},{"$f":"'FIN PAT MARK SHEET'!N29","v":0},0,{"$f":"TERM3!CY27","v":0},0,0,""]
[13,15,{"$f":"INSERT!A15","v":0},{"$f":"INSERT!B15","v":0},{"$f":"INSERT!C15","v":0},{"$f":"INSERT!D15","v":0},{"$f":"INSERT!E15","v":0},{"$f":"TERM3!Z28","v":0},{"$f":"TERM3!AR28","v":0},{"$f":"TERM3!BJ28","v":0},{"$f":"TERM3!CB28","v":0},{"$f":"TERM3!CT28","v":0},0,{"$f":"'FIN PAT MARK SHEET'!J30","v":0},{"$f":"'FIN PAT MARK SHEET'!K30","v":0},{"$f":"'FIN PAT MARK SHEET'!L30","v":0},{"$f":"'FIN PAT MARK SHEET'!M30","v":0},{"$f":"'FIN PAT MARK SHEET'!N30","v":0},0,{"$f":"TERM3!CY28","v":0},0,0,""]
[14,16,{"$f":"INSERT!A16","v":0},{"$f":"INSERT!B16","v":0},{"$f":"INSERT!C16","v":0},{"$f":"INSERT!D16","v":0},{"$f":"INSERT!E16","v":0},{"$f":"TERM3!Z29","v":0},{"$f":"TERM3!AR29","v":0},{"$f":"TERM3!BJ29","v":0},{"$f":"TERM3!CB29","v":0},{"$f":"TERM3!CT29","v":0},0,{"$f":"'FIN PAT MARK SHEET'!J31","v":0},{"$f":"'FIN PAT MARK SHEET'!K31","v":0},{"$f":"'FIN PAT MARK SHEET'!L31","v":0},{"$f":"'FIN PAT MARK SHEET'!M31","v":0},{"$f":"'FIN PAT MARK SHEET'!N31","v":0},0,{"$f":"TERM3!CY29","v":0},0,0,""]
[15,17,{"$f":"INSERT!A17","v":0},{"$f":"INSERT!B17","v":0},{"$f":"INSERT!C17","v":0},{"$f":"INSERT!D17","v":0},{"$f":"INSERT!E17","v":0},{"$f":"TERM3!Z30","v":0},{"$f":"TERM3!AR30","v":0},{"$f":"TERM3!BJ30","v":0},{"$f":"TERM3!CB30","v":0},{"$f":"TERM3!CT30","v":0},0,{"$f":"'FIN PAT MARK SHEET'!J32","v":0},{"$f":"'FIN PAT MARK SHEET'!K32","v":0},{"$f":"'FIN PAT MARK SHEET'!L32","v":0},{"$f":"'FIN PAT MARK SHEET'!M32","v":0},{"$f":"'FIN PAT MARK SHEET'!N32","v":0},0,{"$f":"TERM3!CY30","v":0},0,0,""]
[16,18,{"$f":"INSERT!A18","v":0},{"$f":"INSERT!B18","v":0},{"$f":"INSERT!C18","v":0},{"$f":"INSERT!D18","v":0},{"$f":"INSERT!E18","v":0},{"$f":"TERM3!Z31","v":0},{"$f":"TERM3!AR31","v":0},{"$f":"TERM3!BJ31","v":0},{"$f":"TERM3!CB31","v":0},{"$f":"TERM3!CT31","v":0},0,{"$f":"'FIN PAT MARK SHEET'!J33","v":0},{"$f":"'FIN PAT MARK SHEET'!K33","v":0},{"$f":"'FIN PAT MARK SHEET'!L33","v":0},{"$f":"'FIN PAT MARK SHEET'!M33","v":0},{"$f":"'FIN PAT MARK SHEET'!N33","v":0},0,{"$f":"TERM3!CY31","v":0},0,0,""]
[17,19,{"$f":"INSERT!A19","v":0},{"$f":"INSERT!B19","v":0},{"$f":"INSERT!C19","v":0},{"$f":"INSERT!D19","v":0},{"$f":"INSERT!E19","v":0},{"$f":"TERM3!Z32","v":0},{"$f":"TERM3!AR32","v":0},{"$f":"TERM3!BJ32","v":0},{"$f":"TERM3!CB32","v":0},{"$f":"TERM3!CT32","v":0},0,{"$f":"'FIN PAT MARK SHEET'!J34","v":0},{"$f":"'FIN PAT MARK SHEET'!K34","v":0},{"$f":"'FIN PAT MARK SHEET'!L34","v":0},{"$f":"'FIN PAT MARK SHEET'!M34","v":0},{"$f":"'FIN PAT MARK SHEET'!N34","v":0},0,{"$f":"TERM3!CY32","v":0},0,0,""]
[18,20,{"$f":"INSERT!A20","v":0},{"$f":"INSERT!B20","v":0},{"$f":"INSERT!C20","v":0},{"$f":"INSERT!D20","v":0},{"$f":"INSERT!E20","v":0},{"$f":"TERM3!Z33","v":0},{"$f":"TERM3!AR33","v":0},{"$f":"TERM3!BJ33","v":0},{"$f":"TERM3!CB33","v":0},{"$f":"TERM3!CT33","v":0},0,{"$f":"'FIN PAT MARK SHEET'!J35","v":0},{"$f":"'FIN PAT MARK SHEET'!K35","v":0},{"$f":"'FIN PAT MARK SHEET'!L35","v":0},{"$f":"'FIN PAT MARK SHEET'!M35","v":0},{"$f":"'FIN PAT MARK SHEET'!N35","v":0},0,{"$f":"TERM3!CY33","v":0},0,0,""]
[19,21,{"$f":"INSERT!A21","v":0},{"$f":"INSERT!B21","v":0},{"$f":"INSERT!C21","v":0},{"$f":"INSERT!D21","v":0},{"$f":"INSERT!E21","v":0},{"$f":"TERM3!Z34","v":0},{"$f":"TERM3!AR34","v":0},{"$f":"TERM3!BJ34","v":0},{"$f":"TERM3!CB34","v":0},{"$f":"TERM3!CT34","v":0},0,{"$f":"'FIN PAT MARK SHEET'!J36","v":0},{"$f":"'FIN PAT MARK SHEET'!K36","v":0},{"$f":"'FIN PAT MARK SHEET'!L36","v":0},{"$f":"'FIN PAT MARK SHEET'!M36","v":0},{"$f":"'FIN PAT MARK SHEET'!N36","v":0},0,{"$f":"TERM3!CY34","v":0},0,0,""]
[20,22,{"$f":"INSERT!A22","v":0},{"$f":"INSERT!B22","v":0},{"$f":"INSERT!C22","v":0},{"$f":"INSERT!D22","v":0},{"$f":"INSERT!E22","v":0},{"$f":"TERM3!Z35","v":0},{"$f":"TERM3!AR35","v":0},{"$f":"TERM3!BJ35","v":0},{"$f":"TERM3!CB35","v":0},{"$f":"TERM3!CT35","v":0},0,{"$f":"'FIN PAT MARK SHEET'!J37","v":0},{"$f":"'FIN PAT MARK SHEET'!K37","v":0},{"$f":"'FIN PAT MARK SHEET'!L37","v":0},{"$f":"'FIN PAT MARK SHEET'!M37","v":0},{"$f":"'FIN PAT MARK SHEET'!N37","v":0},0,{"$f":"TERM3!CY35","v":0},0,0,""]
[21,23,{"$f":"INSERT!A23","v":0},{"$f":"INSERT!B23","v":0},{"$f":"INSERT!C23","v":0},{"$f":"INSERT!D23","v":0},{"$f":"INSERT!E23","v":0},{"$f":"TERM3!Z36","v":0},{"$f":"TERM3!AR36","v":0},{"$f":"TERM3!BJ36","v":0},{"$f":"TERM3!CB36","v":0},{"$f":"TERM3!CT36","v":0},0,{"$f":"'FIN PAT MARK SHEET'!J38","v":0},{"$f":"'FIN PAT MARK SHEET'!K38","v":0},{"$f":"'FIN PAT MARK SHEET'!L38","v":0},{"$f":"'FIN PAT MARK SHEET'!M38","v":0},{"$f":"'FIN PAT MARK SHEET'!N38","v":0},0,{"$f":"TERM3!CY36","v":0},0,0,""]
[22,24,{"$f":"INSERT!A24","v":0},{"$f":"INSERT!B24","v":0},{"$f":"INSERT!C24","v":0},{"$f":"INSERT!D24","v":0},{"$f":"INSERT!E24","v":0},{"$f":"TERM3!Z37","v":0},{"$f":"TERM3!AR37","v":0},{"$f":"TERM3!BJ37","v":0},{"$f":"TERM3!CB37","v":0},{"$f":"TERM3!CT37","v":0},0,{"$f":"'FIN PAT MARK SHEET'!J39","v":0},{"$f":"'FIN PAT MARK SHEET'!K39","v":0},{"$f":"'FIN PAT MARK SHEET'!L39","v":0},{"$f":"'FIN PAT MARK SHEET'!M39","v":0},{"$f":"'FIN PAT MARK SHEET'!N39","v":0},0,{"$f":"TERM3!CY37","v":0},0,0,""]
[23,25,{"$f":"INSERT!A25","v":0},{"$f":"INSERT!B25","v":0},{"$f":"INSERT!C25","v":0},{"$f":"INSERT!D25","v":0},{"$f":"INSERT!E25","v":0},{"$f":"TERM3!Z38","v":0},{"$f":"TERM3!AR38","v":0},{"$f":"TERM3!BJ38","v":0},{"$f":"TERM3!CB38","v":0},{"$f":"TERM3!CT38","v":0},0,{"$f":"'FIN PAT MARK SHEET'!J40","v":0},{"$f":"'FIN PAT MARK SHEET'!K40","v":0},{"$f":"'FIN PAT MARK SHEET'!L40","v":0},{"$f":"'FIN PAT MARK SHEET'!M40","v":0},{"$f":"'FIN PAT MARK SHEET'!N40","v":0},0,{"$f":"TERM3!CY38","v":0},0,0,""]
[24,26,{"$f":"INSERT!A26","v":0},{"$f":"INSERT!B26","v":0},{"$f":"INSERT!C26","v":0},{"$f":"INSERT!D26","v":0},{"$f":"INSERT!E26","v":0},{"$f":"TERM3!Z39","v":0},{"$f":"TERM3!AR39","v":0},{"$f":"TERM3!BJ39","v":0},{"$f":"TERM3!CB39","v":0},{"$f":"TERM3!CT39","v":0},0,{"$f":"'FIN PAT MARK SHEET'!J41","v":0},{"$f":"'FIN PAT MARK SHEET'!K41","v":0},{"$f":"'FIN PAT MARK SHEET'!L41","v":0},{"$f":"'FIN PAT MARK SHEET'!M41","v":0},{"$f":"'FIN PAT MARK SHEET'!N41","v":0},0,{"$f":"TERM3!CY39","v":0},0,0,""]
[25,27,{"$f":"INSERT!A27","v":0},{"$f":"INSERT!B27","v":0},{"$f":"INSERT!C27","v":0},{"$f":"INSERT!D27","v":0},{"$f":"INSERT!E27","v":0},{"$f":"TERM3!Z40","v":0},{"$f":"TERM3!AR40","v":0},{"$f":"TERM3!BJ40","v":0},{"$f":"TERM3!CB40","v":0},{"$f":"TERM3!CT40","v":0},0,{"$f":"'FIN PAT MARK SHEET'!J42","v":0},{"$f":"'FIN PAT MARK SHEET'!K42","v":0},{"$f":"'FIN PAT MARK SHEET'!L42","v":0},{"$f":"'FIN PAT MARK SHEET'!M42","v":0},{"$f":"'FIN PAT MARK SHEET'!N42","v":0},0,{"$f":"TERM3!CY40","v":0},0,0,""]
[26,28,{"$f":"INSERT!A28","v":0},{"$f":"INSERT!B28","v":0},{"$f":"INSERT!C28","v":0},{"$f":"INSERT!D28","v":0},{"$f":"INSERT!E28","v":0},{"$f":"TERM3!Z41","v":0},{"$f":"TERM3!AR41","v":0},{"$f":"TERM3!BJ41","v":0},{"$f":"TERM3!CB41","v":0},{"$f":"TERM3!CT41","v":0},0,{"$f":"'FIN PAT MARK SHEET'!J43","v":0},{"$f":"'FIN PAT MARK SHEET'!K43","v":0},{"$f":"'FIN PAT MARK SHEET'!L43","v":0},{"$f":"'FIN PAT MARK SHEET'!M43","v":0},{"$f":"'FIN PAT MARK SHEET'!N43","v":0},0,{"$f":"TERM3!CY41","v":0},0,0,""]
[27,29,{"$f":"INSERT!A29","v":0},{"$f":"INSERT!B29","v":0},{"$f":"INSERT!C29","v":0},{"$f":"INSERT!D29","v":0},{"$f":"INSERT!E29","v":0},{"$f":"TERM3!Z42","v":0},{"$f":"TERM3!AR42","v":0},{"$f":"TERM3!BJ42","v":0},{"$f":"TERM3!CB42","v":0},{"$f":"TERM3!CT42","v":0},0,{"$f":"'FIN PAT MARK SHEET'!J44","v":0},{"$f":"'FIN PAT MARK SHEET'!K44","v":0},{"$f":"'FIN PAT MARK SHEET'!L44","v":0},{"$f":"'FIN PAT MARK SHEET'!M44","v":0},{"$f":"'FIN PAT MARK SHEET'!N44","v":0},0,{"$f":"TERM3!CY42","v":0},0,0,""]
[28,30,{"$f":"INSERT!A30","v":0},{"$f":"INSERT!B30","v":0},{"$f":"INSERT!C30","v":0},{"$f":"INSERT!D30","v":0},{"$f":"INSERT!E30","v":0},{"$f":"TERM3!Z43","v":0},{"$f":"TERM3!AR43","v":0},{"$f":"TERM3!BJ43","v":0},{"$f":"TERM3!CB43","v":0},{"$f":"TERM3!CT43","v":0},0,{"$f":"'FIN PAT MARK SHEET'!J45","v":0},{"$f":"'FIN PAT MARK SHEET'!K45","v":0},{"$f":"'FIN PAT MARK SHEET'!L45","v":0},{"$f":"'FIN PAT MARK SHEET'!M45","v":0},{"$f":"'FIN PAT MARK SHEET'!N45","v":0},0,{"$f":"TERM3!CY43","v":0},0,0,""]
[29,31,{"$f":"INSERT!A31","v":0},{"$f":"INSERT!B31","v":0},{"$f":"INSERT!C31","v":0},{"$f":"INSERT!D31","v":0},{"$f":"INSERT!E31","v":0},{"$f":"TERM3!Z44","v":0},{"$f":"TERM3!AR44","v":0},{"$f":"TERM3!BJ44","v":0},{"$f":"TERM3!CB44","v":0},{"$f":"TERM3!CT44","v":0},0,{"$f":"'FIN PAT MARK SHEET'!J46","v":0},{"$f":"'FIN PAT MARK SHEET'!K46","v":0},{"$f":"'FIN PAT MARK SHEET'!L46","v":0},{"$f":"'FIN PAT MARK SHEET'!M46","v":0},{"$f":"'FIN PAT MARK SHEET'!N46","v":0},0,{"$f":"TERM3!CY44","v":0},0,0,""]
[30,32,{"$f":"INSERT!A32","v":0},{"$f":"INSERT!B32","v":0},{"$f":"INSERT!C32","v":0},{"$f":"INSERT!D32","v":0},{"$f":"INSERT!E32","v":0},{"$f":"TERM3!Z45","v":0},{"$f":"TERM3!AR45","v":0},{"$f":"TERM3!BJ45","v":0},{"$f":"TERM3!CB45","v":0},{"$f":"TERM3!CT45","v":0},0,{"$f":"'FIN PAT MARK SHEET'!J47","v":0},{"$f":"'FIN PAT MARK SHEET'!K47","v":0},{"$f":"'FIN PAT MARK SHEET'!L47","v":0},{"$f":"'FIN PAT MARK SHEET'!M47","v":0},{"$f":"'FIN PAT MARK SHEET'!N47","v":0},0,{"$f":"TERM3!CY45","v":0},0,0,""]
[31,33,{"$f":"INSERT!A33","v":0},{"$f":"INSERT!B33","v":0},{"$f":"INSERT!C33","v":0},{"$f":"INSERT!D33","v":0},{"$f":"INSERT!E33","v":0},{"$f":"TERM3!Z46","v":0},{"$f":"TERM3!AR46","v":0},{"$f":"TERM3!BJ46","v":0},{"$f":"TERM3!CB46","v":0},{"$f":"TERM3!CT46","v":0},0,{"$f":"'FIN PAT MARK SHEET'!J48","v":0},{"$f":"'FIN PAT MARK SHEET'!K48","v":0},{"$f":"'FIN PAT MARK SHEET'!L48","v":0},{"$f":"'FIN PAT MARK SHEET'!M48","v":0},{"$f":"'FIN PAT MARK SHEET'!N48","v":0},0,{"$f":"TERM3!CY46","v":0},0,0,""]
[32,34,{"$f":"INSERT!A34","v":0},{"$f":"INSERT!B34","v":0},{"$f":"INSERT!C34","v":0},{"$f":"INSERT!D34","v":0},{"$f":"INSERT!E34","v":0},{"$f":"TERM3!Z47","v":0},{"$f":"TERM3!AR47","v":0},{"$f":"TERM3!BJ47","v":0},{"$f":"TERM3!CB47","v":0},{"$f":"TERM3!CT47","v":0},0,{"$f":"'FIN PAT MARK SHEET'!J49","v":0},{"$f":"'FIN PAT MARK SHEET'!K49","v":0},{"$f":"'FIN PAT MARK SHEET'!L49","v":0},{"$f":"'FIN PAT MARK SHEET'!M49","v":0},{"$f":"'FIN PAT MARK SHEET'!N49","v":0},0,{"$f":"TERM3!CY47","v":0},0,0,""]
[33,35,{"$f":"INSERT!A35","v":0},{"$f":"INSERT!B35","v":0},{"$f":"INSERT!C35","v":0},{"$f":"INSERT!D35","v":0},{"$f":"INSERT!E35","v":0},{"$f":"TERM3!Z48","v":0},{"$f":"TERM3!AR48","v":0},{"$f":"TERM3!BJ48","v":0},{"$f":"TERM3!CB48","v":0},{"$f":"TERM3!CT48","v":0},0,{"$f":"'FIN PAT MARK SHEET'!J50","v":0},{"$f":"'FIN PAT MARK SHEET'!K50","v":0},{"$f":"'FIN PAT MARK SHEET'!L50","v":0},{"$f":"'FIN PAT MARK SHEET'!M50","v":0},{"$f":"'FIN PAT MARK SHEET'!N50","v":0},0,{"$f":"TERM3!CY48","v":0},0,0,{"$f":"IF(V41>79,\"7\",IF(V41>69,\"6\",IF(V41>59,\"5\",IF(V41>49,\"4\",IF(V41>39,\"3\",IF(V41>29,\"2\",IF(V41>0,\"1\",IF(V41=0,\"\"))))))))","v":""}]
[34,36,{"$f":"INSERT!A36","v":0},{"$f":"INSERT!B36","v":0},{"$f":"INSERT!C36","v":0},{"$f":"INSERT!D36","v":0},{"$f":"INSERT!E36","v":0},{"$f":"TERM3!Z49","v":0},{"$f":"TERM3!AR49","v":0},{"$f":"TERM3!BJ49","v":0},{"$f":"TERM3!CB49","v":0},{"$f":"TERM3!CT49","v":0},0,{"$f":"'FIN PAT MARK SHEET'!J51","v":0},{"$f":"'FIN PAT MARK SHEET'!K51","v":0},{"$f":"'FIN PAT MARK SHEET'!L51","v":0},{"$f":"'FIN PAT MARK SHEET'!M51","v":0},{"$f":"'FIN PAT MARK SHEET'!N51","v":0},0,{"$f":"TERM3!CY49","v":0},0,0,""]
[35,37,{"$f":"INSERT!A37","v":0},{"$f":"INSERT!B37","v":0},{"$f":"INSERT!C37","v":0},{"$f":"INSERT!D37","v":0},{"$f":"INSERT!E37","v":0},{"$f":"TERM3!Z50","v":0},{"$f":"TERM3!AR50","v":0},{"$f":"TERM3!BJ50","v":0},{"$f":"TERM3!CB50","v":0},{"$f":"TERM3!CT50","v":0},0,{"$f":"'FIN PAT MARK SHEET'!J52","v":0},{"$f":"'FIN PAT MARK SHEET'!K52","v":0},{"$f":"'FIN PAT MARK SHEET'!L52","v":0},{"$f":"'FIN PAT MARK SHEET'!M52","v":0},{"$f":"'FIN PAT MARK SHEET'!N52","v":0},0,{"$f":"TERM3!CY50","v":0},0,0,""]
[36,38,{"$f":"INSERT!A38","v":0},{"$f":"INSERT!B38","v":0},{"$f":"INSERT!C38","v":0},{"$f":"INSERT!D38","v":0},{"$f":"INSERT!E38","v":0},{"$f":"TERM3!Z51","v":0},{"$f":"TERM3!AR51","v":0},{"$f":"TERM3!BJ51","v":0},{"$f":"TERM3!CB51","v":0},{"$f":"TERM3!CT51","v":0},0,{"$f":"'FIN PAT MARK SHEET'!J53","v":0},{"$f":"'FIN PAT MARK SHEET'!K53","v":0},{"$f":"'FIN PAT MARK SHEET'!L53","v":0},{"$f":"'FIN PAT MARK SHEET'!M53","v":0},{"$f":"'FIN PAT MARK SHEET'!N53","v":0},0,{"$f":"TERM3!CY51","v":0},{"$f":"SUM(M44/1.25)+SUM(T44*1.2)","v":0},0,""]
[37,39,{"$f":"INSERT!A39","v":0},{"$f":"INSERT!B39","v":0},{"$f":"INSERT!C39","v":0},{"$f":"INSERT!D39","v":0},{"$f":"INSERT!E39","v":0},{"$f":"TERM3!Z52","v":0},{"$f":"TERM3!AR52","v":0},{"$f":"TERM3!BJ52","v":0},{"$f":"TERM3!CB52","v":0},{"$f":"TERM3!CT52","v":0},0,{"$f":"'FIN PAT MARK SHEET'!J54","v":0},{"$f":"'FIN PAT MARK SHEET'!K54","v":0},{"$f":"'FIN PAT MARK SHEET'!L54","v":0},{"$f":"'FIN PAT MARK SHEET'!M54","v":0},{"$f":"'FIN PAT MARK SHEET'!N54","v":0},0,{"$f":"TERM3!CY52","v":0},0,0,""]
[38,40,{"$f":"INSERT!A40","v":0},{"$f":"INSERT!B40","v":0},{"$f":"INSERT!C40","v":0},{"$f":"INSERT!D40","v":0},{"$f":"INSERT!E40","v":0},{"$f":"TERM3!Z53","v":0},{"$f":"TERM3!AR53","v":0},{"$f":"TERM3!BJ53","v":0},{"$f":"TERM3!CB53","v":0},{"$f":"TERM3!CT53","v":0},0,{"$f":"'FIN PAT MARK SHEET'!J55","v":0},{"$f":"'FIN PAT MARK SHEET'!K55","v":0},{"$f":"'FIN PAT MARK SHEET'!L55","v":0},{"$f":"'FIN PAT MARK SHEET'!M55","v":0},{"$f":"'FIN PAT MARK SHEET'!N55","v":0},0,{"$f":"TERM3!CY53","v":0},0,0,""]
[39,41,{"$f":"INSERT!A41","v":0},{"$f":"INSERT!B41","v":0},{"$f":"INSERT!C41","v":0},{"$f":"INSERT!D41","v":0},{"$f":"INSERT!E41","v":0},{"$f":"TERM3!Z54","v":0},{"$f":"TERM3!AR54","v":0},{"$f":"TERM3!BJ54","v":0},{"$f":"TERM3!CB54","v":0},{"$f":"TERM3!CT54","v":0},0,{"$f":"'FIN PAT MARK SHEET'!J56","v":0},{"$f":"'FIN PAT MARK SHEET'!K56","v":0},{"$f":"'FIN PAT MARK SHEET'!L56","v":0},{"$f":"'FIN PAT MARK SHEET'!M56","v":0},{"$f":"'FIN PAT MARK SHEET'!N56","v":0},0,{"$f":"TERM3!CY54","v":0},0,0,""]
[40,42,{"$f":"INSERT!A42","v":0},{"$f":"INSERT!B42","v":0},{"$f":"INSERT!C42","v":0},{"$f":"INSERT!D42","v":0},{"$f":"INSERT!E42","v":0},{"$f":"TERM3!Z55","v":0},{"$f":"TERM3!AR55","v":0},{"$f":"TERM3!BJ55","v":0},{"$f":"TERM3!CB55","v":0},{"$f":"TERM3!CT55","v":0},0,{"$f":"'FIN PAT MARK SHEET'!J57","v":0},{"$f":"'FIN PAT MARK SHEET'!K57","v":0},{"$f":"'FIN PAT MARK SHEET'!L57","v":0},{"$f":"'FIN PAT MARK SHEET'!M57","v":0},{"$f":"'FIN PAT MARK SHEET'!N57","v":0},0,{"$f":"TERM3!CY55","v":0},0,0,""]
[41,43,{"$f":"INSERT!A43","v":0},{"$f":"INSERT!B43","v":0},{"$f":"INSERT!C43","v":0},{"$f":"INSERT!D43","v":0},{"$f":"INSERT!E43","v":0},{"$f":"TERM3!Z56","v":0},{"$f":"TERM3!AR56","v":0},{"$f":"TERM3!BJ56","v":0},{"$f":"TERM3!CB56","v":0},{"$f":"TERM3!CT56","v":0},0,{"$f":"'FIN PAT MARK SHEET'!J58","v":0},{"$f":"'FIN PAT MARK SHEET'!K58","v":0},{"$f":"'FIN PAT MARK SHEET'!L58","v":0},{"$f":"'FIN PAT MARK SHEET'!M58","v":0},{"$f":"'FIN PAT MARK SHEET'!N58","v":0},0,{"$f":"TERM3!CY56","v":0},0,0,""]
[42,44,{"$f":"INSERT!A44","v":0},{"$f":"INSERT!B44","v":0},{"$f":"INSERT!C44","v":0},{"$f":"INSERT!D44","v":0},{"$f":"INSERT!E44","v":0},{"$f":"TERM3!Z57","v":0},{"$f":"TERM3!AR57","v":0},{"$f":"TERM3!BJ57","v":0},{"$f":"TERM3!CB57","v":0},{"$f":"TERM3!CT57","v":0},0,{"$f":"'FIN PAT MARK SHEET'!J59","v":0},{"$f":"'FIN PAT MARK SHEET'!K59","v":0},{"$f":"'FIN PAT MARK SHEET'!L59","v":0},{"$f":"'FIN PAT MARK SHEET'!M59","v":0},{"$f":"'FIN PAT MARK SHEET'!N59","v":0},0,{"$f":"TERM3!CY57","v":0},0,0,""]
[43,45,{"$f":"INSERT!A45","v":0},{"$f":"INSERT!B45","v":0},{"$f":"INSERT!C45","v":0},{"$f":"INSERT!D45","v":0},{"$f":"INSERT!E45","v":0},{"$f":"TERM3!Z58","v":0},{"$f":"TERM3!AR58","v":0},{"$f":"TERM3!BJ58","v":0},{"$f":"TERM3!CB58","v":0},{"$f":"TERM3!CT58","v":0},0,{"$f":"'FIN PAT MARK SHEET'!J60","v":0},{"$f":"'FIN PAT MARK SHEET'!K60","v":0},{"$f":"'FIN PAT MARK SHEET'!L60","v":0},{"$f":"'FIN PAT MARK SHEET'!M60","v":0},{"$f":"'FIN PAT MARK SHEET'!N60","v":0},0,{"$f":"TERM3!CY58","v":0},0,0,""]
[44,46,{"$f":"INSERT!A46","v":0},{"$f":"INSERT!B46","v":0},{"$f":"INSERT!C46","v":0},{"$f":"INSERT!D46","v":0},{"$f":"INSERT!E46","v":0},{"$f":"TERM3!Z59","v":0},{"$f":"TERM3!AR59","v":0},{"$f":"TERM3!BJ59","v":0},{"$f":"TERM3!CB59","v":0},{"$f":"TERM3!CT59","v":0},0,{"$f":"'FIN PAT MARK SHEET'!J61","v":0},{"$f":"'FIN PAT MARK SHEET'!K61","v":0},{"$f":"'FIN PAT MARK SHEET'!L61","v":0},{"$f":"'FIN PAT MARK SHEET'!M61","v":0},{"$f":"'FIN PAT MARK SHEET'!N61","v":0},0,{"$f":"TERM3!CY59","v":0},0,0,""]
[45,47,{"$f":"INSERT!A47","v":0},{"$f":"INSERT!B47","v":0},{"$f":"INSERT!C47","v":0},{"$f":"INSERT!D47","v":0},{"$f":"INSERT!E47","v":0},{"$f":"TERM3!Z60","v":0},{"$f":"TERM3!AR60","v":0},{"$f":"TERM3!BJ60","v":0},{"$f":"TERM3!CB60","v":0},{"$f":"TERM3!CT60","v":0},0,{"$f":"'FIN PAT MARK SHEET'!J62","v":0},{"$f":"'FIN PAT MARK SHEET'!K62","v":0},{"$f":"'FIN PAT MARK SHEET'!L62","v":0},{"$f":"'FIN PAT MARK SHEET'!M62","v":0},{"$f":"'FIN PAT MARK SHEET'!N62","v":0},0,{"$f":"TERM3!CY60","v":0},0,0,""]
[46,48,{"$f":"INSERT!A48","v":0},{"$f":"INSERT!B48","v":0},{"$f":"INSERT!C48","v":0},{"$f":"INSERT!D48","v":0},{"$f":"INSERT!E48","v":0},{"$f":"TERM3!Z61","v":0},{"$f":"TERM3!AR61","v":0},{"$f":"TERM3!BJ61","v":0},{"$f":"TERM3!CB61","v":0},{"$f":"TERM3!CT61","v":0},0,{"$f":"'FIN PAT MARK SHEET'!J63","v":0},{"$f":"'FIN PAT MARK SHEET'!K63","v":0},{"$f":"'FIN PAT MARK SHEET'!L63","v":0},{"$f":"'FIN PAT MARK SHEET'!M63","v":0},{"$f":"'FIN PAT MARK SHEET'!N63","v":0},0,{"$f":"TERM3!CY61","v":0},0,0,""]
[47,49,{"$f":"INSERT!A49","v":0},{"$f":"INSERT!B49","v":0},{"$f":"INSERT!C49","v":0},{"$f":"INSERT!D49","v":0},{"$f":"INSERT!E49","v":0},{"$f":"TERM3!Z62","v":0},{"$f":"TERM3!AR62","v":0},{"$f":"TERM3!BJ62","v":0},{"$f":"TERM3!CB62","v":0},{"$f":"TERM3!CT62","v":0},0,{"$f":"'FIN PAT MARK SHEET'!J64","v":0},{"$f":"'FIN PAT MARK SHEET'!K64","v":0},{"$f":"'FIN PAT MARK SHEET'!L64","v":0},{"$f":"'FIN PAT MARK SHEET'!M64","v":0},{"$f":"'FIN PAT MARK SHEET'!N64","v":0},0,{"$f":"TERM3!CY62","v":0},0,0,""]
[48,50,{"$f":"INSERT!A50","v":0},{"$f":"INSERT!B50","v":0},{"$f":"INSERT!C50","v":0},{"$f":"INSERT!D50","v":0},{"$f":"INSERT!E50","v":0},{"$f":"TERM3!Z63","v":0},{"$f":"TERM3!AR63","v":0},{"$f":"TERM3!BJ63","v":0},{"$f":"TERM3!CB63","v":0},{"$f":"TERM3!CT63","v":0},0,{"$f":"'FIN PAT MARK SHEET'!J65","v":0},{"$f":"'FIN PAT MARK SHEET'!K65","v":0},{"$f":"'FIN PAT MARK SHEET'!L65","v":0},{"$f":"'FIN PAT MARK SHEET'!M65","v":0},{"$f":"'FIN PAT MARK SHEET'!N65","v":0},0,{"$f":"TERM3!CY63","v":0},0,0,""]
[49,51,{"$f":"INSERT!A51","v":0},{"$f":"INSERT!B51","v":0},{"$f":"INSERT!C51","v":0},{"$f":"INSERT!D51","v":0},{"$f":"INSERT!E51","v":0},{"$f":"TERM3!Z64","v":0},{"$f":"TERM3!AR64","v":0},{"$f":"TERM3!BJ64","v":0},{"$f":"TERM3!CB64","v":0},{"$f":"TERM3!CT64","v":0},0,{"$f":"'FIN PAT MARK SHEET'!J66","v":0},{"$f":"'FIN PAT MARK SHEET'!K66","v":0},{"$f":"'FIN PAT MARK SHEET'!L66","v":0},{"$f":"'FIN PAT MARK SHEET'!M66","v":0},{"$f":"'FIN PAT MARK SHEET'!N66","v":0},0,{"$f":"TERM3!CY64","v":0},0,0,""]
[50,52,{"$f":"INSERT!A52","v":0},{"$f":"INSERT!B52","v":0},{"$f":"INSERT!C52","v":0},{"$f":"INSERT!D52","v":0},{"$f":"INSERT!E52","v":0},{"$f":"TERM3!Z65","v":0},{"$f":"TERM3!AR65","v":0},{"$f":"TERM3!BJ65","v":0},{"$f":"TERM3!CB65","v":0},{"$f":"TERM3!CT65","v":0},0,{"$f":"'FIN PAT MARK SHEET'!J67","v":0},{"$f":"'FIN PAT MARK SHEET'!K67","v":0},{"$f":"'FIN PAT MARK SHEET'!L67","v":0},{"$f":"'FIN PAT MARK SHEET'!M67","v":0},{"$f":"'FIN PAT MARK SHEET'!N67","v":0},0,{"$f":"TERM3!CY65","v":0},0,0,""]
[51,53,{"$f":"INSERT!A53","v":0},{"$f":"INSERT!B53","v":0},{"$f":"INSERT!C53","v":0},{"$f":"INSERT!D53","v":0},{"$f":"INSERT!E53","v":0},{"$f":"TERM3!Z66","v":0},{"$f":"TERM3!AR66","v":0},{"$f":"TERM3!BJ66","v":0},{"$f":"TERM3!CB66","v":0},{"$f":"TERM3!CT66","v":0},0,{"$f":"'FIN PAT MARK SHEET'!J68","v":0},{"$f":"'FIN PAT MARK SHEET'!K68","v":0},{"$f":"'FIN PAT MARK SHEET'!L68","v":0},{"$f":"'FIN PAT MARK SHEET'!M68","v":0},{"$f":"'FIN PAT MARK SHEET'!N68","v":0},0,{"$f":"TERM3!CY66","v":0},0,0,""]
[52,54,{"$f":"INSERT!A54","v":0},{"$f":"INSERT!B54","v":0},{"$f":"INSERT!C54","v":0},{"$f":"INSERT!D54","v":0},{"$f":"INSERT!E54","v":0},{"$f":"TERM3!Z67","v":0},{"$f":"TERM3!AR67","v":0},{"$f":"TERM3!BJ67","v":0},{"$f":"TERM3!CB67","v":0},{"$f":"TERM3!CT67","v":0},0,{"$f":"'FIN PAT MARK SHEET'!J69","v":0},{"$f":"'FIN PAT MARK SHEET'!K69","v":0},{"$f":"'FIN PAT MARK SHEET'!L69","v":0},{"$f":"'FIN PAT MARK SHEET'!M69","v":0},{"$f":"'FIN PAT MARK SHEET'!N69","v":0},0,{"$f":"TERM3!CY67","v":0},0,0,""]
[53,55,{"$f":"INSERT!A55","v":0},{"$f":"INSERT!B55","v":0},{"$f":"INSERT!C55","v":0},{"$f":"INSERT!D55","v":0},{"$f":"INSERT!E55","v":0},{"$f":"TERM3!Z68","v":0},{"$f":"TERM3!AR68","v":0},{"$f":"TERM3!BJ68","v":0},{"$f":"TERM3!CB68","v":0},{"$f":"TERM3!CT68","v":0},0,{"$f":"'FIN PAT MARK SHEET'!J70","v":0},{"$f":"'FIN PAT MARK SHEET'!K70","v":0},{"$f":"'FIN PAT MARK SHEET'!L70","v":0},{"$f":"'FIN PAT MARK SHEET'!M70","v":0},{"$f":"'FIN PAT MARK SHEET'!N70","v":0},0,{"$f":"TERM3!CY68","v":0},0,0,""]
[54,56,{"$f":"INSERT!A56","v":0},{"$f":"INSERT!B56","v":0},{"$f":"INSERT!C56","v":0},{"$f":"INSERT!D56","v":0},{"$f":"INSERT!E56","v":0},{"$f":"TERM3!Z69","v":0},{"$f":"TERM3!AR69","v":0},{"$f":"TERM3!BJ69","v":0},{"$f":"TERM3!CB69","v":0},{"$f":"TERM3!CT69","v":0},0,{"$f":"'FIN PAT MARK SHEET'!J71","v":0},{"$f":"'FIN PAT MARK SHEET'!K71","v":0},{"$f":"'FIN PAT MARK SHEET'!L71","v":0},{"$f":"'FIN PAT MARK SHEET'!M71","v":0},{"$f":"'FIN PAT MARK SHEET'!N71","v":0},0,{"$f":"TERM3!CY69","v":0},0,0,""]
[55,57,{"$f":"INSERT!A57","v":0},{"$f":"INSERT!B57","v":0},{"$f":"INSERT!C57","v":0},{"$f":"INSERT!D57","v":0},{"$f":"INSERT!E57","v":0},{"$f":"TERM3!Z70","v":0},{"$f":"TERM3!AR70","v":0},{"$f":"TERM3!BJ70","v":0},{"$f":"TERM3!CB70","v":0},{"$f":"TERM3!CT70","v":0},0,{"$f":"'FIN PAT MARK SHEET'!J72","v":0},{"$f":"'FIN PAT MARK SHEET'!K72","v":0},{"$f":"'FIN PAT MARK SHEET'!L72","v":0},{"$f":"'FIN PAT MARK SHEET'!M72","v":0},{"$f":"'FIN PAT MARK SHEET'!N72","v":0},0,{"$f":"TERM3!CY70","v":0},0,0,""]
[56,58,{"$f":"INSERT!A58","v":0},{"$f":"INSERT!B58","v":0},{"$f":"INSERT!C58","v":0},{"$f":"INSERT!D58","v":0},{"$f":"INSERT!E58","v":0},{"$f":"TERM3!Z71","v":0},{"$f":"TERM3!AR71","v":0},{"$f":"TERM3!BJ71","v":0},{"$f":"TERM3!CB71","v":0},{"$f":"TERM3!CT71","v":0},0,{"$f":"'FIN PAT MARK SHEET'!J73","v":0},{"$f":"'FIN PAT MARK SHEET'!K73","v":0},{"$f":"'FIN PAT MARK SHEET'!L73","v":0},{"$f":"'FIN PAT MARK SHEET'!M73","v":0},{"$f":"'FIN PAT MARK SHEET'!N73","v":0},0,{"$f":"TERM3!CY71","v":0},0,0,""]
[57,59,{"$f":"INSERT!A59","v":0},{"$f":"INSERT!B59","v":0},{"$f":"INSERT!C59","v":0},{"$f":"INSERT!D59","v":0},{"$f":"INSERT!E59","v":0},{"$f":"TERM3!Z72","v":0},{"$f":"TERM3!AR72","v":0},{"$f":"TERM3!BJ72","v":0},{"$f":"TERM3!CB72","v":0},{"$f":"TERM3!CT72","v":0},0,{"$f":"'FIN PAT MARK SHEET'!J74","v":0},{"$f":"'FIN PAT MARK SHEET'!K74","v":0},{"$f":"'FIN PAT MARK SHEET'!L74","v":0},{"$f":"'FIN PAT MARK SHEET'!M74","v":0},{"$f":"'FIN PAT MARK SHEET'!N74","v":0},0,{"$f":"TERM3!CY72","v":0},0,0,""]
[58,60,{"$f":"INSERT!A60","v":0},{"$f":"INSERT!B60","v":0},{"$f":"INSERT!C60","v":0},{"$f":"INSERT!D60","v":0},{"$f":"INSERT!E60","v":0},{"$f":"TERM3!Z73","v":0},{"$f":"TERM3!AR73","v":0},{"$f":"TERM3!BJ73","v":0},{"$f":"TERM3!CB73","v":0},{"$f":"TERM3!CT73","v":0},0,{"$f":"'FIN PAT MARK SHEET'!J75","v":0},{"$f":"'FIN PAT MARK SHEET'!K75","v":0},{"$f":"'FIN PAT MARK SHEET'!L75","v":0},{"$f":"'FIN PAT MARK SHEET'!M75","v":0},{"$f":"'FIN PAT MARK SHEET'!N75","v":0},0,{"$f":"TERM3!CY73","v":0},0,0,""]
[59,61,{"$f":"INSERT!A61","v":0},{"$f":"INSERT!B61","v":0},{"$f":"INSERT!C61","v":0},{"$f":"INSERT!D61","v":0},{"$f":"INSERT!E61","v":0},{"$f":"TERM3!Z74","v":0},{"$f":"TERM3!AR74","v":0},{"$f":"TERM3!BJ74","v":0},{"$f":"TERM3!CB74","v":0},{"$f":"TERM3!CT74","v":0},0,{"$f":"'FIN PAT MARK SHEET'!J76","v":0},{"$f":"'FIN PAT MARK SHEET'!K76","v":0},{"$f":"'FIN PAT MARK SHEET'!L76","v":0},{"$f":"'FIN PAT MARK SHEET'!M76","v":0},{"$f":"'FIN PAT MARK SHEET'!N76","v":0},0,{"$f":"TERM3!CY74","v":0},0,0,""]
[60,62,{"$f":"INSERT!A62","v":0},{"$f":"INSERT!B62","v":0},{"$f":"INSERT!C62","v":0},{"$f":"INSERT!D62","v":0},{"$f":"INSERT!E62","v":0},{"$f":"TERM3!Z75","v":0},{"$f":"TERM3!AR75","v":0},{"$f":"TERM3!BJ75","v":0},{"$f":"TERM3!CB75","v":0},{"$f":"TERM3!CT75","v":0},0,{"$f":"'FIN PAT MARK SHEET'!J77","v":0},{"$f":"'FIN PAT MARK SHEET'!K77","v":0},{"$f":"'FIN PAT MARK SHEET'!L77","v":0},{"$f":"'FIN PAT MARK SHEET'!M77","v":0},{"$f":"'FIN PAT MARK SHEET'!N77","v":0},0,{"$f":"TERM3!CY75","v":0},0,0,""]
[61,63,{"$f":"INSERT!A63","v":0},{"$f":"INSERT!B63","v":0},{"$f":"INSERT!C63","v":0},{"$f":"INSERT!D63","v":0},{"$f":"INSERT!E63","v":0},{"$f":"TERM3!Z76","v":0},{"$f":"TERM3!AR76","v":0},{"$f":"TERM3!BJ76","v":0},{"$f":"TERM3!CB76","v":0},{"$f":"TERM3!CT76","v":0},0,{"$f":"'FIN PAT MARK SHEET'!J78","v":0},{"$f":"'FIN PAT MARK SHEET'!K78","v":0},{"$f":"'FIN PAT MARK SHEET'!L78","v":0},{"$f":"'FIN PAT MARK SHEET'!M78","v":0},{"$f":"'FIN PAT MARK SHEET'!N78","v":0},0,{"$f":"TERM3!CY76","v":0},0,0,""]
[62,64,{"$f":"INSERT!A64","v":0},{"$f":"INSERT!B64","v":0},{"$f":"INSERT!C64","v":0},{"$f":"INSERT!D64","v":0},{"$f":"INSERT!E64","v":0},{"$f":"TERM3!Z77","v":0},{"$f":"TERM3!AR77","v":0},{"$f":"TERM3!BJ77","v":0},{"$f":"TERM3!CB77","v":0},{"$f":"TERM3!CT77","v":0},0,{"$f":"'FIN PAT MARK SHEET'!J79","v":0},{"$f":"'FIN PAT MARK SHEET'!K79","v":0},{"$f":"'FIN PAT MARK SHEET'!L79","v":0},{"$f":"'FIN PAT MARK SHEET'!M79","v":0},{"$f":"'FIN PAT MARK SHEET'!N79","v":0},0,{"$f":"TERM3!CY77","v":0},0,0,""]
[63,65,{"$f":"INSERT!A65","v":0},{"$f":"INSERT!B65","v":0},{"$f":"INSERT!C65","v":0},{"$f":"INSERT!D65","v":0},{"$f":"INSERT!E65","v":0},{"$f":"TERM3!Z78","v":0},{"$f":"TERM3!AR78","v":0},{"$f":"TERM3!BJ78","v":0},{"$f":"TERM3!CB78","v":0},{"$f":"TERM3!CT78","v":0},0,{"$f":"'FIN PAT MARK SHEET'!J80","v":0},{"$f":"'FIN PAT MARK SHEET'!K80","v":0},{"$f":"'FIN PAT MARK SHEET'!L80","v":0},{"$f":"'FIN PAT MARK SHEET'!M80","v":0},{"$f":"'FIN PAT MARK SHEET'!N80","v":0},0,{"$f":"TERM3!CY78","v":0},0,0,""]
[64,66,{"$f":"INSERT!A66","v":0},{"$f":"INSERT!B66","v":0},{"$f":"INSERT!C66","v":0},{"$f":"INSERT!D66","v":0},{"$f":"INSERT!E66","v":0},{"$f":"TERM3!Z79","v":0},{"$f":"TERM3!AR79","v":0},{"$f":"TERM3!BJ79","v":0},{"$f":"TERM3!CB79","v":0},{"$f":"TERM3!CT79","v":0},0,{"$f":"'FIN PAT MARK SHEET'!J81","v":0},{"$f":"'FIN PAT MARK SHEET'!K81","v":0},{"$f":"'FIN PAT MARK SHEET'!L81","v":0},{"$f":"'FIN PAT MARK SHEET'!M81","v":0},{"$f":"'FIN PAT MARK SHEET'!N81","v":0},0,{"$f":"TERM3!CY79","v":0},0,0,""]
[65,67,{"$f":"INSERT!A67","v":0},{"$f":"INSERT!B67","v":0},{"$f":"INSERT!C67","v":0},{"$f":"INSERT!D67","v":0},{"$f":"INSERT!E67","v":0},{"$f":"TERM3!Z80","v":0},{"$f":"TERM3!AR80","v":0},{"$f":"TERM3!BJ80","v":0},{"$f":"TERM3!CB80","v":0},{"$f":"TERM3!CT80","v":0},0,{"$f":"'FIN PAT MARK SHEET'!J82","v":0},{"$f":"'FIN PAT MARK SHEET'!K82","v":0},{"$f":"'FIN PAT MARK SHEET'!L82","v":0},{"$f":"'FIN PAT MARK SHEET'!M82","v":0},{"$f":"'FIN PAT MARK SHEET'!N82","v":0},0,{"$f":"TERM3!CY80","v":0},0,0,{"$f":"IF(V73>79,\"7\",IF(V73>69,\"6\",IF(V73>59,\"5\",IF(V73>49,\"4\",IF(V73>39,\"3\",IF(V73>29,\"2\",IF(V73>0,\"1\",IF(V73=0,\"\"))))))))","v":""}]
[66,68,{"$f":"INSERT!A68","v":0},{"$f":"INSERT!B68","v":0},{"$f":"INSERT!C68","v":0},{"$f":"INSERT!D68","v":0},{"$f":"INSERT!E68","v":0},{"$f":"TERM3!Z81","v":0},{"$f":"TERM3!AR81","v":0},{"$f":"TERM3!BJ81","v":0},{"$f":"TERM3!CB81","v":0},{"$f":"TERM3!CT81","v":0},{"$f":"SUM(H74:L74)","v":0},{"$f":"'FIN PAT MARK SHEET'!J83","v":0},{"$f":"'FIN PAT MARK SHEET'!K83","v":0},{"$f":"'FIN PAT MARK SHEET'!L83","v":0},{"$f":"'FIN PAT MARK SHEET'!M83","v":0},{"$f":"'FIN PAT MARK SHEET'!N83","v":0},{"$f":"SUM((N74+O74+P74+Q74+R74)/1.388888888)","v":0},{"$f":"TERM3!CY81","v":0},{"$f":"SUM(M74/1.25)+SUM(T74*1.2)","v":0},{"$f":"ROUND(U74,0)","v":0},""]
[67,69,{"$f":"INSERT!A69","v":0},{"$f":"INSERT!B69","v":0},{"$f":"INSERT!C69","v":0},{"$f":"INSERT!D69","v":0},{"$f":"INSERT!E69","v":0},{"$f":"TERM3!Z82","v":0},{"$f":"TERM3!AR82","v":0},{"$f":"TERM3!BJ82","v":0},{"$f":"TERM3!CB82","v":0},{"$f":"TERM3!CT82","v":0},0,{"$f":"'FIN PAT MARK SHEET'!J84","v":0},{"$f":"'FIN PAT MARK SHEET'!K84","v":0},{"$f":"'FIN PAT MARK SHEET'!L84","v":0},{"$f":"'FIN PAT MARK SHEET'!M84","v":0},{"$f":"'FIN PAT MARK SHEET'!N84","v":0},0,{"$f":"TERM3!CY82","v":0},0,0,""]
[68,70,{"$f":"INSERT!A70","v":0},{"$f":"INSERT!B70","v":0},{"$f":"INSERT!C70","v":0},{"$f":"INSERT!D70","v":0},{"$f":"INSERT!E70","v":0},{"$f":"TERM3!Z83","v":0},{"$f":"TERM3!AR83","v":0},{"$f":"TERM3!BJ83","v":0},{"$f":"TERM3!CB83","v":0},{"$f":"TERM3!CT83","v":0},0,{"$f":"'FIN PAT MARK SHEET'!J85","v":0},{"$f":"'FIN PAT MARK SHEET'!K85","v":0},{"$f":"'FIN PAT MARK SHEET'!L85","v":0},{"$f":"'FIN PAT MARK SHEET'!M85","v":0},{"$f":"'FIN PAT MARK SHEET'!N85","v":0},0,{"$f":"TERM3!CY83","v":0},0,0,""]
[69,71,{"$f":"INSERT!A71","v":0},{"$f":"INSERT!B71","v":0},{"$f":"INSERT!C71","v":0},{"$f":"INSERT!D71","v":0},{"$f":"INSERT!E71","v":0},{"$f":"TERM3!Z84","v":0},{"$f":"TERM3!AR84","v":0},{"$f":"TERM3!BJ84","v":0},{"$f":"TERM3!CB84","v":0},{"$f":"TERM3!CT84","v":0},0,{"$f":"'FIN PAT MARK SHEET'!J86","v":0},{"$f":"'FIN PAT MARK SHEET'!K86","v":0},{"$f":"'FIN PAT MARK SHEET'!L86","v":0},{"$f":"'FIN PAT MARK SHEET'!M86","v":0},{"$f":"'FIN PAT MARK SHEET'!N86","v":0},0,{"$f":"TERM3!CY84","v":0},0,0,""]
[70,72,{"$f":"INSERT!A72","v":0},{"$f":"INSERT!B72","v":0},{"$f":"INSERT!C72","v":0},{"$f":"INSERT!D72","v":0},{"$f":"INSERT!E72","v":0},{"$f":"TERM3!Z85","v":0},{"$f":"TERM3!AR85","v":0},{"$f":"TERM3!BJ85","v":0},{"$f":"TERM3!CB85","v":0},{"$f":"TERM3!CT85","v":0},0,{"$f":"'FIN PAT MARK SHEET'!J87","v":0},{"$f":"'FIN PAT MARK SHEET'!K87","v":0},{"$f":"'FIN PAT MARK SHEET'!L87","v":0},{"$f":"'FIN PAT MARK SHEET'!M87","v":0},{"$f":"'FIN PAT MARK SHEET'!N87","v":0},0,{"$f":"TERM3!CY85","v":0},0,0,""]
[71,73,{"$f":"INSERT!A73","v":0},{"$f":"INSERT!B73","v":0},{"$f":"INSERT!C73","v":0},{"$f":"INSERT!D73","v":0},{"$f":"INSERT!E73","v":0},{"$f":"TERM3!Z86","v":0},{"$f":"TERM3!AR86","v":0},{"$f":"TERM3!BJ86","v":0},{"$f":"TERM3!CB86","v":0},{"$f":"TERM3!CT86","v":0},0,{"$f":"'FIN PAT MARK SHEET'!J88","v":0},{"$f":"'FIN PAT MARK SHEET'!K88","v":0},{"$f":"'FIN PAT MARK SHEET'!L88","v":0},{"$f":"'FIN PAT MARK SHEET'!M88","v":0},{"$f":"'FIN PAT MARK SHEET'!N88","v":0},0,{"$f":"TERM3!CY86","v":0},0,0,""]
[72,74,{"$f":"INSERT!A74","v":0},{"$f":"INSERT!B74","v":0},{"$f":"INSERT!C74","v":0},{"$f":"INSERT!D74","v":0},{"$f":"INSERT!E74","v":0},{"$f":"TERM3!Z87","v":0},{"$f":"TERM3!AR87","v":0},{"$f":"TERM3!BJ87","v":0},{"$f":"TERM3!CB87","v":0},{"$f":"TERM3!CT87","v":0},0,{"$f":"'FIN PAT MARK SHEET'!J89","v":0},{"$f":"'FIN PAT MARK SHEET'!K89","v":0},{"$f":"'FIN PAT MARK SHEET'!L89","v":0},{"$f":"'FIN PAT MARK SHEET'!M89","v":0},{"$f":"'FIN PAT MARK SHEET'!N89","v":0},0,{"$f":"TERM3!CY87","v":0},0,0,""]
[73,75,{"$f":"INSERT!A75","v":0},{"$f":"INSERT!B75","v":0},{"$f":"INSERT!C75","v":0},{"$f":"INSERT!D75","v":0},{"$f":"INSERT!E75","v":0},{"$f":"TERM3!Z88","v":0},{"$f":"TERM3!AR88","v":0},{"$f":"TERM3!BJ88","v":0},{"$f":"TERM3!CB88","v":0},{"$f":"TERM3!CT88","v":0},0,{"$f":"'FIN PAT MARK SHEET'!J90","v":0},{"$f":"'FIN PAT MARK SHEET'!K90","v":0},{"$f":"'FIN PAT MARK SHEET'!L90","v":0},{"$f":"'FIN PAT MARK SHEET'!M90","v":0},{"$f":"'FIN PAT MARK SHEET'!N90","v":0},0,{"$f":"TERM3!CY88","v":0},0,0,""]
[74,76,{"$f":"INSERT!A76","v":0},{"$f":"INSERT!B76","v":0},{"$f":"INSERT!C76","v":0},{"$f":"INSERT!D76","v":0},{"$f":"INSERT!E76","v":0},{"$f":"TERM3!Z89","v":0},{"$f":"TERM3!AR89","v":0},{"$f":"TERM3!BJ89","v":0},{"$f":"TERM3!CB89","v":0},{"$f":"TERM3!CT89","v":0},0,{"$f":"'FIN PAT MARK SHEET'!J91","v":0},{"$f":"'FIN PAT MARK SHEET'!K91","v":0},{"$f":"'FIN PAT MARK SHEET'!L91","v":0},{"$f":"'FIN PAT MARK SHEET'!M91","v":0},{"$f":"'FIN PAT MARK SHEET'!N91","v":0},0,{"$f":"TERM3!CY89","v":0},0,0,""]
[75,77,{"$f":"INSERT!A77","v":0},{"$f":"INSERT!B77","v":0},{"$f":"INSERT!C77","v":0},{"$f":"INSERT!D77","v":0},{"$f":"INSERT!E77","v":0},{"$f":"TERM3!Z90","v":0},{"$f":"TERM3!AR90","v":0},{"$f":"TERM3!BJ90","v":0},{"$f":"TERM3!CB90","v":0},{"$f":"TERM3!CT90","v":0},0,{"$f":"'FIN PAT MARK SHEET'!J92","v":0},{"$f":"'FIN PAT MARK SHEET'!K92","v":0},{"$f":"'FIN PAT MARK SHEET'!L92","v":0},{"$f":"'FIN PAT MARK SHEET'!M92","v":0},{"$f":"'FIN PAT MARK SHEET'!N92","v":0},0,{"$f":"TERM3!CY90","v":0},0,0,""]
[76,78,{"$f":"INSERT!A78","v":0},{"$f":"INSERT!B78","v":0},{"$f":"INSERT!C78","v":0},{"$f":"INSERT!D78","v":0},{"$f":"INSERT!E78","v":0},{"$f":"TERM3!Z91","v":0},{"$f":"TERM3!AR91","v":0},{"$f":"TERM3!BJ91","v":0},{"$f":"TERM3!CB91","v":0},{"$f":"TERM3!CT91","v":0},0,{"$f":"'FIN PAT MARK SHEET'!J93","v":0},{"$f":"'FIN PAT MARK SHEET'!K93","v":0},{"$f":"'FIN PAT MARK SHEET'!L93","v":0},{"$f":"'FIN PAT MARK SHEET'!M93","v":0},{"$f":"'FIN PAT MARK SHEET'!N93","v":0},0,{"$f":"TERM3!CY91","v":0},0,0,""]
[77,79,{"$f":"INSERT!A79","v":0},{"$f":"INSERT!B79","v":0},{"$f":"INSERT!C79","v":0},{"$f":"INSERT!D79","v":0},{"$f":"INSERT!E79","v":0},{"$f":"TERM3!Z92","v":0},{"$f":"TERM3!AR92","v":0},{"$f":"TERM3!BJ92","v":0},{"$f":"TERM3!CB92","v":0},{"$f":"TERM3!CT92","v":0},0,{"$f":"'FIN PAT MARK SHEET'!J94","v":0},{"$f":"'FIN PAT MARK SHEET'!K94","v":0},{"$f":"'FIN PAT MARK SHEET'!L94","v":0},{"$f":"'FIN PAT MARK SHEET'!M94","v":0},{"$f":"'FIN PAT MARK SHEET'!N94","v":0},0,{"$f":"TERM3!CY92","v":0},0,0,""]
[78,80,{"$f":"INSERT!A80","v":0},{"$f":"INSERT!B80","v":0},{"$f":"INSERT!C80","v":0},{"$f":"INSERT!D80","v":0},{"$f":"INSERT!E80","v":0},{"$f":"TERM3!Z93","v":0},{"$f":"TERM3!AR93","v":0},{"$f":"TERM3!BJ93","v":0},{"$f":"TERM3!CB93","v":0},{"$f":"TERM3!CT93","v":0},0,{"$f":"'FIN PAT MARK SHEET'!J95","v":0},{"$f":"'FIN PAT MARK SHEET'!K95","v":0},{"$f":"'FIN PAT MARK SHEET'!L95","v":0},{"$f":"'FIN PAT MARK SHEET'!M95","v":0},{"$f":"'FIN PAT MARK SHEET'!N95","v":0},0,{"$f":"TERM3!CY93","v":0},0,0,""]
[79,81,{"$f":"INSERT!A81","v":0},{"$f":"INSERT!B81","v":0},{"$f":"INSERT!C81","v":0},{"$f":"INSERT!D81","v":0},{"$f":"INSERT!E81","v":0},{"$f":"TERM3!Z94","v":0},{"$f":"TERM3!AR94","v":0},{"$f":"TERM3!BJ94","v":0},{"$f":"TERM3!CB94","v":0},{"$f":"TERM3!CT94","v":0},0,{"$f":"'FIN PAT MARK SHEET'!J96","v":0},{"$f":"'FIN PAT MARK SHEET'!K96","v":0},{"$f":"'FIN PAT MARK SHEET'!L96","v":0},{"$f":"'FIN PAT MARK SHEET'!M96","v":0},{"$f":"'FIN PAT MARK SHEET'!N96","v":0},0,{"$f":"TERM3!CY94","v":0},0,0,""]
[80,82,{"$f":"INSERT!A82","v":0},{"$f":"INSERT!B82","v":0},{"$f":"INSERT!C82","v":0},{"$f":"INSERT!D82","v":0},{"$f":"INSERT!E82","v":0},{"$f":"TERM3!Z95","v":0},{"$f":"TERM3!AR95","v":0},{"$f":"TERM3!BJ95","v":0},{"$f":"TERM3!CB95","v":0},{"$f":"TERM3!CT95","v":0},0,{"$f":"'FIN PAT MARK SHEET'!J97","v":0},{"$f":"'FIN PAT MARK SHEET'!K97","v":0},{"$f":"'FIN PAT MARK SHEET'!L97","v":0},{"$f":"'FIN PAT MARK SHEET'!M97","v":0},{"$f":"'FIN PAT MARK SHEET'!N97","v":0},0,{"$f":"TERM3!CY95","v":0},0,0,""]
[81,83,{"$f":"INSERT!A83","v":0},{"$f":"INSERT!B83","v":0},{"$f":"INSERT!C83","v":0},{"$f":"INSERT!D83","v":0},{"$f":"INSERT!E83","v":0},{"$f":"TERM3!Z96","v":0},{"$f":"TERM3!AR96","v":0},{"$f":"TERM3!BJ96","v":0},{"$f":"TERM3!CB96","v":0},{"$f":"TERM3!CT96","v":0},0,{"$f":"'FIN PAT MARK SHEET'!J98","v":0},{"$f":"'FIN PAT MARK SHEET'!K98","v":0},{"$f":"'FIN PAT MARK SHEET'!L98","v":0},{"$f":"'FIN PAT MARK SHEET'!M98","v":0},{"$f":"'FIN PAT MARK SHEET'!N98","v":0},0,{"$f":"TERM3!CY96","v":0},0,0,""]
[82,84,{"$f":"INSERT!A84","v":0},{"$f":"INSERT!B84","v":0},{"$f":"INSERT!C84","v":0},{"$f":"INSERT!D84","v":0},{"$f":"INSERT!E84","v":0},{"$f":"TERM3!Z97","v":0},{"$f":"TERM3!AR97","v":0},{"$f":"TERM3!BJ97","v":0},{"$f":"TERM3!CB97","v":0},{"$f":"TERM3!CT97","v":0},0,{"$f":"'FIN PAT MARK SHEET'!J99","v":0},{"$f":"'FIN PAT MARK SHEET'!K99","v":0},{"$f":"'FIN PAT MARK SHEET'!L99","v":0},{"$f":"'FIN PAT MARK SHEET'!M99","v":0},{"$f":"'FIN PAT MARK SHEET'!N99","v":0},0,{"$f":"TERM3!CY97","v":0},0,0,""]
[83,85,{"$f":"INSERT!A85","v":0},{"$f":"INSERT!B85","v":0},{"$f":"INSERT!C85","v":0},{"$f":"INSERT!D85","v":0},{"$f":"INSERT!E85","v":0},{"$f":"TERM3!Z98","v":0},{"$f":"TERM3!AR98","v":0},{"$f":"TERM3!BJ98","v":0},{"$f":"TERM3!CB98","v":0},{"$f":"TERM3!CT98","v":0},0,{"$f":"'FIN PAT MARK SHEET'!J100","v":0},{"$f":"'FIN PAT MARK SHEET'!K100","v":0},{"$f":"'FIN PAT MARK SHEET'!L100","v":0},{"$f":"'FIN PAT MARK SHEET'!M100","v":0},{"$f":"'FIN PAT MARK SHEET'!N100","v":0},0,{"$f":"TERM3!CY98","v":0},0,0,""]
[84,86,{"$f":"INSERT!A86","v":0},{"$f":"INSERT!B86","v":0},{"$f":"INSERT!C86","v":0},{"$f":"INSERT!D86","v":0},{"$f":"INSERT!E86","v":0},{"$f":"TERM3!Z99","v":0},{"$f":"TERM3!AR99","v":0},{"$f":"TERM3!BJ99","v":0},{"$f":"TERM3!CB99","v":0},{"$f":"TERM3!CT99","v":0},0,{"$f":"'FIN PAT MARK SHEET'!J101","v":0},{"$f":"'FIN PAT MARK SHEET'!K101","v":0},{"$f":"'FIN PAT MARK SHEET'!L101","v":0},{"$f":"'FIN PAT MARK SHEET'!M101","v":0},{"$f":"'FIN PAT MARK SHEET'!N101","v":0},0,{"$f":"TERM3!CY99","v":0},0,0,""]
[85,87,{"$f":"INSERT!A87","v":0},{"$f":"INSERT!B87","v":0},{"$f":"INSERT!C87","v":0},{"$f":"INSERT!D87","v":0},{"$f":"INSERT!E87","v":0},{"$f":"TERM3!Z100","v":0},{"$f":"TERM3!AR100","v":0},{"$f":"TERM3!BJ100","v":0},{"$f":"TERM3!CB100","v":0},{"$f":"TERM3!CT100","v":0},0,{"$f":"'FIN PAT MARK SHEET'!J102","v":0},{"$f":"'FIN PAT MARK SHEET'!K102","v":0},{"$f":"'FIN PAT MARK SHEET'!L102","v":0},{"$f":"'FIN PAT MARK SHEET'!M102","v":0},{"$f":"'FIN PAT MARK SHEET'!N102","v":0},0,{"$f":"TERM3!CY100","v":0},0,0,""]
[86,88,{"$f":"INSERT!A88","v":0},{"$f":"INSERT!B88","v":0},{"$f":"INSERT!C88","v":0},{"$f":"INSERT!D88","v":0},{"$f":"INSERT!E88","v":0},{"$f":"TERM3!Z101","v":0},{"$f":"TERM3!AR101","v":0},{"$f":"TERM3!BJ101","v":0},{"$f":"TERM3!CB101","v":0},{"$f":"TERM3!CT101","v":0},0,{"$f":"'FIN PAT MARK SHEET'!J103","v":0},{"$f":"'FIN PAT MARK SHEET'!K103","v":0},{"$f":"'FIN PAT MARK SHEET'!L103","v":0},{"$f":"'FIN PAT MARK SHEET'!M103","v":0},{"$f":"'FIN PAT MARK SHEET'!N103","v":0},0,{"$f":"TERM3!CY101","v":0},0,0,""]
[87,89,{"$f":"INSERT!A89","v":0},{"$f":"INSERT!B89","v":0},{"$f":"INSERT!C89","v":0},{"$f":"INSERT!D89","v":0},{"$f":"INSERT!E89","v":0},{"$f":"TERM3!Z102","v":0},{"$f":"TERM3!AR102","v":0},{"$f":"TERM3!BJ102","v":0},{"$f":"TERM3!CB102","v":0},{"$f":"TERM3!CT102","v":0},0,{"$f":"'FIN PAT MARK SHEET'!J104","v":0},{"$f":"'FIN PAT MARK SHEET'!K104","v":0},{"$f":"'FIN PAT MARK SHEET'!L104","v":0},{"$f":"'FIN PAT MARK SHEET'!M104","v":0},{"$f":"'FIN PAT MARK SHEET'!N104","v":0},0,{"$f":"TERM3!CY102","v":0},0,0,""]
[88,90,{"$f":"INSERT!A90","v":0},{"$f":"INSERT!B90","v":0},{"$f":"INSERT!C90","v":0},{"$f":"INSERT!D90","v":0},{"$f":"INSERT!E90","v":0},{"$f":"TERM3!Z103","v":0},{"$f":"TERM3!AR103","v":0},{"$f":"TERM3!BJ103","v":0},{"$f":"TERM3!CB103","v":0},{"$f":"TERM3!CT103","v":0},0,{"$f":"'FIN PAT MARK SHEET'!J105","v":0},{"$f":"'FIN PAT MARK SHEET'!K105","v":0},{"$f":"'FIN PAT MARK SHEET'!L105","v":0},{"$f":"'FIN PAT MARK SHEET'!M105","v":0},{"$f":"'FIN PAT MARK SHEET'!N105","v":0},0,{"$f":"TERM3!CY103","v":0},0,0,""]
[89,91,{"$f":"INSERT!A91","v":0},{"$f":"INSERT!B91","v":0},{"$f":"INSERT!C91","v":0},{"$f":"INSERT!D91","v":0},{"$f":"INSERT!E91","v":0},{"$f":"TERM3!Z104","v":0},{"$f":"TERM3!AR104","v":0},{"$f":"TERM3!BJ104","v":0},{"$f":"TERM3!CB104","v":0},{"$f":"TERM3!CT104","v":0},0,{"$f":"'FIN PAT MARK SHEET'!J106","v":0},{"$f":"'FIN PAT MARK SHEET'!K106","v":0},{"$f":"'FIN PAT MARK SHEET'!L106","v":0},{"$f":"'FIN PAT MARK SHEET'!M106","v":0},{"$f":"'FIN PAT MARK SHEET'!N106","v":0},0,{"$f":"TERM3!CY104","v":0},0,0,""]
[90,92,{"$f":"INSERT!A92","v":0},{"$f":"INSERT!B92","v":0},{"$f":"INSERT!C92","v":0},{"$f":"INSERT!D92","v":0},{"$f":"INSERT!E92","v":0},{"$f":"TERM3!Z105","v":0},{"$f":"TERM3!AR105","v":0},{"$f":"TERM3!BJ105","v":0},{"$f":"TERM3!CB105","v":0},{"$f":"TERM3!CT105","v":0},0,{"$f":"'FIN PAT MARK SHEET'!J107","v":0},{"$f":"'FIN PAT MARK SHEET'!K107","v":0},{"$f":"'FIN PAT MARK SHEET'!L107","v":0},{"$f":"'FIN PAT MARK SHEET'!M107","v":0},{"$f":"'FIN PAT MARK SHEET'!N107","v":0},0,{"$f":"TERM3!CY105","v":0},0,0,""]
[91,93,{"$f":"INSERT!A93","v":0},{"$f":"INSERT!B93","v":0},{"$f":"INSERT!C93","v":0},{"$f":"INSERT!D93","v":0},{"$f":"INSERT!E93","v":0},{"$f":"TERM3!Z106","v":0},{"$f":"TERM3!AR106","v":0},{"$f":"TERM3!BJ106","v":0},{"$f":"TERM3!CB106","v":0},{"$f":"TERM3!CT106","v":0},0,{"$f":"'FIN PAT MARK SHEET'!J108","v":0},{"$f":"'FIN PAT MARK SHEET'!K108","v":0},{"$f":"'FIN PAT MARK SHEET'!L108","v":0},{"$f":"'FIN PAT MARK SHEET'!M108","v":0},{"$f":"'FIN PAT MARK SHEET'!N108","v":0},0,{"$f":"TERM3!CY106","v":0},0,0,""]
[92,94,{"$f":"INSERT!A94","v":0},{"$f":"INSERT!B94","v":0},{"$f":"INSERT!C94","v":0},{"$f":"INSERT!D94","v":0},{"$f":"INSERT!E94","v":0},{"$f":"TERM3!Z107","v":0},{"$f":"TERM3!AR107","v":0},{"$f":"TERM3!BJ107","v":0},{"$f":"TERM3!CB107","v":0},{"$f":"TERM3!CT107","v":0},0,{"$f":"'FIN PAT MARK SHEET'!J109","v":0},{"$f":"'FIN PAT MARK SHEET'!K109","v":0},{"$f":"'FIN PAT MARK SHEET'!L109","v":0},{"$f":"'FIN PAT MARK SHEET'!M109","v":0},{"$f":"'FIN PAT MARK SHEET'!N109","v":0},0,{"$f":"TERM3!CY107","v":0},0,0,""]
[93,95,{"$f":"INSERT!A95","v":0},{"$f":"INSERT!B95","v":0},{"$f":"INSERT!C95","v":0},{"$f":"INSERT!D95","v":0},{"$f":"INSERT!E95","v":0},{"$f":"TERM3!Z108","v":0},{"$f":"TERM3!AR108","v":0},{"$f":"TERM3!BJ108","v":0},{"$f":"TERM3!CB108","v":0},{"$f":"TERM3!CT108","v":0},0,{"$f":"'FIN PAT MARK SHEET'!J110","v":0},{"$f":"'FIN PAT MARK SHEET'!K110","v":0},{"$f":"'FIN PAT MARK SHEET'!L110","v":0},{"$f":"'FIN PAT MARK SHEET'!M110","v":0},{"$f":"'FIN PAT MARK SHEET'!N110","v":0},0,{"$f":"TERM3!CY108","v":0},0,0,""]
[94,96,{"$f":"INSERT!A96","v":0},{"$f":"INSERT!B96","v":0},{"$f":"INSERT!C96","v":0},{"$f":"INSERT!D96","v":0},{"$f":"INSERT!E96","v":0},{"$f":"TERM3!Z109","v":0},{"$f":"TERM3!AR109","v":0},{"$f":"TERM3!BJ109","v":0},{"$f":"TERM3!CB109","v":0},{"$f":"TERM3!CT109","v":0},0,{"$f":"'FIN PAT MARK SHEET'!J111","v":0},{"$f":"'FIN PAT MARK SHEET'!K111","v":0},{"$f":"'FIN PAT MARK SHEET'!L111","v":0},{"$f":"'FIN PAT MARK SHEET'!M111","v":0},{"$f":"'FIN PAT MARK SHEET'!N111","v":0},0,{"$f":"TERM3!CY109","v":0},0,0,""]
[95,97,{"$f":"INSERT!A97","v":0},{"$f":"INSERT!B97","v":0},{"$f":"INSERT!C97","v":0},{"$f":"INSERT!D97","v":0},{"$f":"INSERT!E97","v":0},{"$f":"TERM3!Z110","v":0},{"$f":"TERM3!AR110","v":0},{"$f":"TERM3!BJ110","v":0},{"$f":"TERM3!CB110","v":0},{"$f":"TERM3!CT110","v":0},0,{"$f":"'FIN PAT MARK SHEET'!J112","v":0},{"$f":"'FIN PAT MARK SHEET'!K112","v":0},{"$f":"'FIN PAT MARK SHEET'!L112","v":0},{"$f":"'FIN PAT MARK SHEET'!M112","v":0},{"$f":"'FIN PAT MARK SHEET'!N112","v":0},0,{"$f":"TERM3!CY110","v":0},0,0,""]
[96,98,{"$f":"INSERT!A98","v":0},{"$f":"INSERT!B98","v":0},{"$f":"INSERT!C98","v":0},{"$f":"INSERT!D98","v":0},{"$f":"INSERT!E98","v":0},{"$f":"TERM3!Z111","v":0},{"$f":"TERM3!AR111","v":0},{"$f":"TERM3!BJ111","v":0},{"$f":"TERM3!CB111","v":0},{"$f":"TERM3!CT111","v":0},0,{"$f":"'FIN PAT MARK SHEET'!J113","v":0},{"$f":"'FIN PAT MARK SHEET'!K113","v":0},{"$f":"'FIN PAT MARK SHEET'!L113","v":0},{"$f":"'FIN PAT MARK SHEET'!M113","v":0},{"$f":"'FIN PAT MARK SHEET'!N113","v":0},0,{"$f":"TERM3!CY111","v":0},0,0,""]
[97,99,{"$f":"INSERT!A99","v":0},{"$f":"INSERT!B99","v":0},{"$f":"INSERT!C99","v":0},{"$f":"INSERT!D99","v":0},{"$f":"INSERT!E99","v":0},{"$f":"TERM3!Z112","v":0},{"$f":"TERM3!AR112","v":0},{"$f":"TERM3!BJ112","v":0},{"$f":"TERM3!CB112","v":0},{"$f":"TERM3!CT112","v":0},0,{"$f":"'FIN PAT MARK SHEET'!J114","v":0},{"$f":"'FIN PAT MARK SHEET'!K114","v":0},{"$f":"'FIN PAT MARK SHEET'!L114","v":0},{"$f":"'FIN PAT MARK SHEET'!M114","v":0},{"$f":"'FIN PAT MARK SHEET'!N114","v":0},0,{"$f":"TERM3!CY112","v":0},0,0,{"$f":"IF(V105>79,\"7\",IF(V105>69,\"6\",IF(V105>59,\"5\",IF(V105>49,\"4\",IF(V105>39,\"3\",IF(V105>29,\"2\",IF(V105>0,\"1\",IF(V105=0,\"\"))))))))","v":""}]
[98,100,{"$f":"INSERT!A100","v":0},{"$f":"INSERT!B100","v":0},{"$f":"INSERT!C100","v":0},{"$f":"INSERT!D100","v":0},{"$f":"INSERT!E100","v":0},{"$f":"TERM3!Z113","v":0},{"$f":"TERM3!AR113","v":0},{"$f":"TERM3!BJ113","v":0},{"$f":"TERM3!CB113","v":0},{"$f":"TERM3!CT113","v":0},0,{"$f":"'FIN PAT MARK SHEET'!J115","v":0},{"$f":"'FIN PAT MARK SHEET'!K115","v":0},{"$f":"'FIN PAT MARK SHEET'!L115","v":0},{"$f":"'FIN PAT MARK SHEET'!M115","v":0},{"$f":"'FIN PAT MARK SHEET'!N115","v":0},0,{"$f":"TERM3!CY113","v":0},0,0,""]
[99,"Term 1 Calculate nie met toets 1 alleen",null,null,null,null,null,{"$f":"TERM3!Z114","v":0},{"$f":"TERM3!AR114","v":0},{"$f":"TERM3!BJ114","v":0},{"$f":"TERM3!CB114","v":0},{"$f":"TERM3!CT114","v":0},0,{"$f":"'FIN PAT MARK SHEET'!J116","v":0},{"$f":"'FIN PAT MARK SHEET'!K116","v":0},{"$f":"'FIN PAT MARK SHEET'!L116","v":0},{"$f":"'FIN PAT MARK SHEET'!M116","v":0},{"$f":"'FIN PAT MARK SHEET'!N116","v":0},0,{"$f":"TERM3!CY114","v":0},0,0,""]
[100,"Term 1 Calculate verkeerd met toets 1 en 2 saam",null,null,null,null,null,{"$f":"TERM3!Z115","v":0},{"$f":"TERM3!AR115","v":0},{"$f":"TERM3!BJ115","v":0},{"$f":"TERM3!CB115","v":0},{"$f":"TERM3!CT115","v":0},0,{"$f":"'FIN PAT MARK SHEET'!J117","v":0},{"$f":"'FIN PAT MARK SHEET'!K117","v":0},{"$f":"'FIN PAT MARK SHEET'!L117","v":0},{"$f":"'FIN PAT MARK SHEET'!M117","v":0},{"$f":"'FIN PAT MARK SHEET'!N117","v":0},0,{"$f":"TERM3!CY115","v":0},0,0,""]
[null,null,"x","x","x","x","Total",{"$f":"SUM(H9:H108)","v":0},0,0,0,0,0,{"$f":"SUM(N9:N108)","v":0},0,{"$f":"SUM(P9:P108)","v":0},0,0,{"$f":"SUM(S9:S108)","v":0},0,{"$f":"SUM(U9:U108)","v":0},0]
[null,null,"x","x","x","x","Average%",{"$f":"IFERROR(ROUND((AVERAGEIF(H9:H108,\">0\")/H4*100),1),\"0\")","v":"0"},{"$f":"IFERROR(ROUND((AVERAGEIF(I9:I108,\">0\")/I4*100),1),\"0\")","v":"0"},"0","0","0","0","0","0","0","0","0",{"$f":"IFERROR(ROUND((AVERAGEIF(S9:S108,\">0\")/S4*100),1),\"0\")","v":"0"},{"$f":"IFERROR(ROUND((AVERAGEIF(T9:T108,\">0\")/T4*100),1),\"0\")","v":"0"},{"$f":"IFERROR(ROUND((AVERAGEIF(U9:U108,\">0\")/U4*100),1),\"0\")","v":"0"},"0"]
["Total amount of learners on mark sheet",null,null,null,"X","Term results analysis",null,"LEVEL 1","LEVEL 2","LEVEL 3","LEVEL 4","LEVEL 5","LEVEL 6","LEVEL 7","TOTAL"]
[null,null,null,null,{"$f":"INSERT!$E$103","v":0},null,null," 0 - 29 "," 30 - 39 "," 40 - 49 "," 50 - 59 "," 60 - 69 "," 70 - 79 ","80 - 100"]
[null,null,null,null,"X",null,null,{"$f":"COUNTIF(W9:W108,1)","v":0},{"$f":"COUNTIF($W$9:$W$108,2)","v":0},{"$f":"COUNTIF($W$9:$W$108,3)","v":0},{"$f":"COUNTIF($W$9:$W$108,4)","v":0},{"$f":"COUNTIF($W$9:$W$108,5)","v":0},{"$f":"COUNTIF($W$9:$W$108,6)","v":0},{"$f":"COUNTIF($W$9:$W$108,7)","v":0},{"$f":"SUM(H113:N113)","v":0}]

{"sheet":"SASAMS TERM4","index":11,"n_rows":113,"n_cols":44,"rows_kept":113,"cut":false,"hidden":false,"merged":[[110,0,112,3],[110,5,112,6],[1,0,1,2],[5,0,5,4],[0,38,2,40],[2,0,2,6],[3,0,3,4],[3,38,5,38],[3,39,5,39],[3,40,5,40],[4,0,4,6],[0,0,0,5]]}
["       Engineering Graphics and Design (Gr 10)\n      Term 4:",null,null,null,null,null,"TASKS",null,"TASK 7",null,null,null,"TASK PAT (Phase 2)",null,null,"TASK PAT (Phase 3)",null,null,null,null,null,null,"TASK PAT (Q&M)",null,null,null,null,"TASK 8",null,null,"TASK 9",1,3,4,5,7,"SBA Year Mark","SBA Year Mark"]
["Grade:",null,null,{"$f":"TERM1!$F$6","v":0},null,null,"Activities",{"$f":"TERM4!$I$4","v":"CD12 1-point perspective"},null,"Drawing paper layout","Presentation drawing 1","Presentation Drawing 3D",null,"6. Continuous evaluation","7. Final presentation & bibliografie",null,"Freehand Method","Freehand Quality","Instrument Method","Instrument Quality","CAD Method","CAD Quality",null,"PAT\n(Phase 1)","PAT \n(Phase 2)","PAT \n(Phase 3)","PAT \n(Q&M)",null,"Paper 1","Paper 2",null,"CD","CD","JUNE EXAM","CD","CD"]
["Weighting ",null,null,null,null,null,null,100,0,33,33,34,0,50,50,0,25,25,25,25,0,0,0,36,25,14,25,20,50,50,40,null,null,null,null,null,40,40]
[" Marks: -1 = Absent,  -2 = Not Captured",null,null,null,null,null,"Total Mark",10,10,10,10,10,25,10,10,14,10,10,10,10,10,10,25,36,25,14,25,{"$f":"SUM(X4:AA4)","v":100},100,100,100,30,30,150,50,10,{"$f":"SUM(AF4:AJ4)","v":270},100,"TOTAL Weighted Mark","Term\n%","Level"]
["SBA Year Mark Weight ",null,null,null,null,null,null,null,2.5,null,null,null,null,null,null,null,null,null,null,null,null,null,null,null,null,null,null,null,null,null,null,10,10,60,17,3]
[null,null,null,null,null,null,"Term \n /Date ",null,"Term4",null,null,null,"Term4",null,null,"Term4",null,null,null,null,null,null,"Term4",null,null,null,null,"Term4",null,null,"Term4","Term1","Term2","Term2","Term3","Term4","Term4","Term4"]
["No",null,"Class","Acc No","Surname","Name","Gender","T1:A1","T1","T2:A1","T2:A2","T2:A3","T2","T3:A1","T3:A2","T3","T4:A1","T4:A2","T4:A3","T4:A4","T4:A5","T4:A6","T4","T5:A1","T5:A2","T5:A3","T5:A4","T5","T6:A1","T6:A2","T6","SBA 1","SBA 3","SBA 4","SBA 5","SBA 7","SBAYEAR","SBAYEAR",100,100]
[]
[1,1,{"$f":"INSERT!A3","v":0},{"$f":"INSERT!B3","v":0},{"$f":"INSERT!C3","v":0},{"$f":"INSERT!D3","v":0},{"$f":"INSERT!E3","v":0},{"$f":"TERM4!Z16","v":0},{"$f":"H9","v":0},{"$f":"'FIN PAT MARK SHEET'!P18","v":0},{"$f":"'FIN PAT MARK SHEET'!Q18","v":0},{"$f":"'FIN PAT MARK SHEET'!T18","v":0},{"$f":"SUM(J9:L9)/1.2","v":0},{"$f":"'FIN PAT MARK SHEET'!V18","v":0},{"$f":"'FIN PAT MARK SHEET'!W18","v":0},{"$f":"SUM(N9:O9)/1.428571428","v":0},{"$f":"'FIN PAT MARK SHEET'!Y18","v":0},{"$f":"'FIN PAT MARK SHEET'!Z18","v":0},{"$f":"'FIN PAT MARK SHEET'!AA18","v":0},{"$f":"'FIN PAT MARK SHEET'!AB18","v":0},{"$f":"'FIN PAT MARK SHEET'!AC18","v":0},{"$f":"'FIN PAT MARK SHEET'!AD18","v":0},{"$f":"IF(AR9=4,SUMIF(Q9:T9,\">0\")/1.6,IF(AR9=6,SUMIF(Q9:V9,\">0\")/2.4,SUMIF(Q9:V9,\">0\")))","v":0},{"$f":"'SASAMS TERM3'!S9","v":0},{"$f":"M9","v":0},{"$f":"P9","v":0},{"$f":"W9","v":0},{"$f":"SUM(X9:AA9)","v":0},{"$f":"TERM4!AA16","v":0},{"$f":"TERM4!AC16","v":0},{"$f":"ROUND((SUM(AC9:AD9)/2),0)","v":0},{"$f":"'SASAMS TERM1'!K9","v":0},{"$f":"'SASAMS TERM2'!K9","v":0},{"$f":"'SASAMS TERM2'!L9","v":0},{"$f":"'SASAMS TERM3'!M9","v":0},{"$f":"I9","v":0},{"$f":"SUM(AF9:AJ9)","v":0},{"$f":"ROUND((SUM(AF9/3)+SUM(AG9/3)+SUM(AH9/2.5)+SUM(AI9/2.94117647)+SUM(AJ9/3.333333333)),0)","v":0},{"$f":"SUM(AB9/5)+SUM(AE9/2.5)+SUM(AL9/2.5)","v":0},{"$f":"ROUND(AM9,0)","v":0},{"$f":"IF(AM9>79,\"7\",IF(AM9>69,\"6\",IF(AM9>59,\"5\",IF(AM9>49,\"4\",IF(AM9>39,\"3\",IF(AM9>29,\"2\",IF(AM9>0,\"1\",IF(AM9=0,\"\"))))))))","v":""},null,null,{"$f":"COUNTIF(Q9:V9,\">0\")","v":0}]
[2,2,{"$f":"INSERT!A4","v":0},{"$f":"INSERT!B4","v":0},{"$f":"INSERT!C4","v":0},{"$f":"INSERT!D4","v":0},{"$f":"INSERT!E4","v":0},{"$f":"TERM4!Z17","v":0},{"$f":"H10","v":0},{"$f":"'FIN PAT MARK SHEET'!P19","v":0},{"$f":"'FIN PAT MARK SHEET'!Q19","v":0},{"$f":"'FIN PAT MARK SHEET'!T19","v":0},{"$f":"SUM(J10:L10)/1.2","v":0},{"$f":"'FIN PAT MARK SHEET'!V19","v":0},{"$f":"'FIN PAT MARK SHEET'!W19","v":0},{"$f":"SUM(N10:O10)/1.428571428","v":0},{"$f":"'FIN PAT MARK SHEET'!Y19","v":0},{"$f":"'FIN PAT MARK SHEET'!Z19","v":0},{"$f":"'FIN PAT MARK SHEET'!AA19","v":0},{"$f":"'FIN PAT MARK SHEET'!AB19","v":0},{"$f":"'FIN PAT MARK SHEET'!AC19","v":0},{"$f":"'FIN PAT MARK SHEET'!AD19","v":0},0,{"$f":"'SASAMS TERM3'!S10","v":0},0,0,0,{"$f":"SUM(X10:AA10)","v":0},{"$f":"TERM4!AA17","v":0},{"$f":"TERM4!AC17","v":0},{"$f":"ROUND((SUM(AC10:AD10)/2),0)","v":0},{"$f":"'SASAMS TERM1'!K10","v":0},{"$f":"'SASAMS TERM2'!K10","v":0},{"$f":"'SASAMS TERM2'!L10","v":0},{"$f":"'SASAMS TERM3'!M10","v":0},0,0,{"$f":"ROUND((SUM(AF10/3)+SUM(AG10/3)+SUM(AH10/2.5)+SUM(AI10/2.94117647)+SUM(AJ10/3.333333333)),0)","v":0},{"$f":"SUM(AB10/5)+SUM(AE10/2.5)+SUM(AL10/2.5)","v":0},{"$f":"ROUND(AM10,0)","v":0},"",null,null,0]
[3,3,{"$f":"INSERT!A5","v":0},{"$f":"INSERT!B5","v":0},{"$f":"INSERT!C5","v":0},{"$f":"INSERT!D5","v":0},{"$f":"INSERT!E5","v":0},{"$f":"TERM4!Z18","v":0},0,{"$f":"'FIN PAT MARK SHEET'!P20","v":0},{"$f":"'FIN PAT MARK SHEET'!Q20","v":0},{"$f":"'FIN PAT MARK SHEET'!T20","v":0},0,{"$f":"'FIN PAT MARK SHEET'!V20","v":0},{"$f":"'FIN PAT MARK SHEET'!W20","v":0},0,{"$f":"'FIN PAT MARK SHEET'!Y20","v":0},{"$f":"'FIN PAT MARK SHEET'!Z20","v":0},{"$f":"'FIN PAT MARK SHEET'!AA20","v":0},{"$f":"'FIN PAT MARK SHEET'!AB20","v":0},{"$f":"'FIN PAT MARK SHEET'!AC20","v":0},{"$f":"'FIN PAT MARK SHEET'!AD20","v":0},0,{"$f":"'SASAMS TERM3'!S11","v":0},0,0,0,0,{"$f":"TERM4!AA18","v":0},{"$f":"TERM4!AC18","v":0},0,{"$f":"'SASAMS TERM1'!K11","v":0},{"$f":"'SASAMS TERM2'!K11","v":0},{"$f":"'SASAMS TERM2'!L11","v":0},{"$f":"'SASAMS TERM3'!M11","v":0},0,0,0,0,0,"",null,null,0]
[4,4,{"$f":"INSERT!A6","v":0},{"$f":"INSERT!B6","v":0},{"$f":"INSERT!C6","v":0},{"$f":"INSERT!D6","v":0},{"$f":"INSERT!E6","v":0},{"$f":"TERM4!Z19","v":0},0,{"$f":"'FIN PAT MARK SHEET'!P21","v":0},{"$f":"'FIN PAT MARK SHEET'!Q21","v":0},{"$f":"'FIN PAT MARK SHEET'!T21","v":0},0,{"$f":"'FIN PAT MARK SHEET'!V21","v":0},{"$f":"'FIN PAT MARK SHEET'!W21","v":0},0,{"$f":"'FIN PAT MARK SHEET'!Y21","v":0},{"$f":"'FIN PAT MARK SHEET'!Z21","v":0},{"$f":"'FIN PAT MARK SHEET'!AA21","v":0},{"$f":"'FIN PAT MARK SHEET'!AB21","v":0},{"$f":"'FIN PAT MARK SHEET'!AC21","v":0},{"$f":"'FIN PAT MARK SHEET'!AD21","v":0},0,{"$f":"'SASAMS TERM3'!S12","v":0},{"$f":"M12","v":0},{"$f":"P12","v":0},{"$f":"W12","v":0},0,{"$f":"TERM4!AA19","v":0},{"$f":"TERM4!AC19","v":0},0,{"$f":"'SASAMS TERM1'!K12","v":0},{"$f":"'SASAMS TERM2'!K12","v":0},{"$f":"'SASAMS TERM2'!L12","v":0},{"$f":"'SASAMS TERM3'!M12","v":0},0,0,0,0,0,"",null,null,0]
[5,5,{"$f":"INSERT!A7","v":0},{"$f":"INSERT!B7","v":0},{"$f":"INSERT!C7","v":0},{"$f":"INSERT!D7","v":0},{"$f":"INSERT!E7","v":0},{"$f":"TERM4!Z20","v":0},0,{"$f":"'FIN PAT MARK SHEET'!P22","v":0},{"$f":"'FIN PAT MARK SHEET'!Q22","v":0},{"$f":"'FIN PAT MARK SHEET'!T22","v":0},0,{"$f":"'FIN PAT MARK SHEET'!V22","v":0},{"$f":"'FIN PAT MARK SHEET'!W22","v":0},0,{"$f":"'FIN PAT MARK SHEET'!Y22","v":0},{"$f":"'FIN PAT MARK SHEET'!Z22","v":0},{"$f":"'FIN PAT MARK SHEET'!AA22","v":0},{"$f":"'FIN PAT MARK SHEET'!AB22","v":0},{"$f":"'FIN PAT MARK SHEET'!AC22","v":0},{"$f":"'FIN PAT MARK SHEET'!AD22","v":0},0,{"$f":"'SASAMS TERM3'!S13","v":0},0,0,0,0,{"$f":"TERM4!AA20","v":0},{"$f":"TERM4!AC20","v":0},0,{"$f":"'SASAMS TERM1'!K13","v":0},{"$f":"'SASAMS TERM2'!K13","v":0},{"$f":"'SASAMS TERM2'!L13","v":0},{"$f":"'SASAMS TERM3'!M13","v":0},0,0,0,0,0,"",null,null,0]
[6,6,{"$f":"INSERT!A8","v":0},{"$f":"INSERT!B8","v":0},{"$f":"INSERT!C8","v":0},{"$f":"INSERT!D8","v":0},{"$f":"INSERT!E8","v":0},{"$f":"TERM4!Z21","v":0},0,{"$f":"'FIN PAT MARK SHEET'!P23","v":0},{"$f":"'FIN PAT MARK SHEET'!Q23","v":0},{"$f":"'FIN PAT MARK SHEET'!T23","v":0},0,{"$f":"'FIN PAT MARK SHEET'!V23","v":0},{"$f":"'FIN PAT MARK SHEET'!W23","v":0},0,{"$f":"'FIN PAT MARK SHEET'!Y23","v":0},{"$f":"'FIN PAT MARK SHEET'!Z23","v":0},{"$f":"'FIN PAT MARK SHEET'!AA23","v":0},{"$f":"'FIN PAT MARK SHEET'!AB23","v":0},{"$f":"'FIN PAT MARK SHEET'!AC23","v":0},{"$f":"'FIN PAT MARK SHEET'!AD23","v":0},0,{"$f":"'SASAMS TERM3'!S14","v":0},0,0,0,0,{"$f":"TERM4!AA21","v":0},{"$f":"TERM4!AC21","v":0},0,{"$f":"'SASAMS TERM1'!K14","v":0},{"$f":"'SASAMS TERM2'!K14","v":0},{"$f":"'SASAMS TERM2'!L14","v":0},{"$f":"'SASAMS TERM3'!M14","v":0},0,0,0,0,0,"",null,null,0]
[7,7,{"$f":"INSERT!A9","v":0},{"$f":"INSERT!B9","v":0},{"$f":"INSERT!C9","v":0},{"$f":"INSERT!D9","v":0},{"$f":"INSERT!E9","v":0},{"$f":"TERM4!Z22","v":0},0,{"$f":"'FIN PAT MARK SHEET'!P24","v":0},{"$f":"'FIN PAT MARK SHEET'!Q24","v":0},{"$f":"'FIN PAT MARK SHEET'!T24","v":0},0,{"$f":"'FIN PAT MARK SHEET'!V24","v":0},{"$f":"'FIN PAT MARK SHEET'!W24","v":0},0,{"$f":"'FIN PAT MARK SHEET'!Y24","v":0},{"$f":"'FIN PAT MARK SHEET'!Z24","v":0},{"$f":"'FIN PAT MARK SHEET'!AA24","v":0},{"$f":"'FIN PAT MARK SHEET'!AB24","v":0},{"$f":"'FIN PAT MARK SHEET'!AC24","v":0},{"$f":"'FIN PAT MARK SHEET'!AD24","v":0},0,{"$f":"'SASAMS TERM3'!S15","v":0},0,0,0,0,{"$f":"TERM4!AA22","v":0},{"$f":"TERM4!AC22","v":0},0,{"$f":"'SASAMS TERM1'!K15","v":0},{"$f":"'SASAMS TERM2'!K15","v":0},{"$f":"'SASAMS TERM2'!L15","v":0},{"$f":"'SASAMS TERM3'!M15","v":0},0,0,0,0,0,"",null,null,0]
[8,8,{"$f":"INSERT!A10","v":0},{"$f":"INSERT!B10","v":0},{"$f":"INSERT!C10","v":0},{"$f":"INSERT!D10","v":0},{"$f":"INSERT!E10","v":0},{"$f":"TERM4!Z23","v":0},0,{"$f":"'FIN PAT MARK SHEET'!P25","v":0},{"$f":"'FIN PAT MARK SHEET'!Q25","v":0},{"$f":"'FIN PAT MARK SHEET'!T25","v":0},0,{"$f":"'FIN PAT MARK SHEET'!V25","v":0},{"$f":"'FIN PAT MARK SHEET'!W25","v":0},0,{"$f":"'FIN PAT MARK SHEET'!Y25","v":0},{"$f":"'FIN PAT MARK SHEET'!Z25","v":0},{"$f":"'FIN PAT MARK SHEET'!AA25","v":0},{"$f":"'FIN PAT MARK SHEET'!AB25","v":0},{"$f":"'FIN PAT MARK SHEET'!AC25","v":0},{"$f":"'FIN PAT MARK SHEET'!AD25","v":0},0,{"$f":"'SASAMS TERM3'!S16","v":0},0,0,0,0,{"$f":"TERM4!AA23","v":0},{"$f":"TERM4!AC23","v":0},0,{"$f":"'SASAMS TERM1'!K16","v":0},{"$f":"'SASAMS TERM2'!K16","v":0},{"$f":"'SASAMS TERM2'!L16","v":0},{"$f":"'SASAMS TERM3'!M16","v":0},0,0,0,0,0,"",null,null,0]
[9,9,{"$f":"INSERT!A11","v":0},{"$f":"INSERT!B11","v":0},{"$f":"INSERT!C11","v":0},{"$f":"INSERT!D11","v":0},{"$f":"INSERT!E11","v":0},{"$f":"TERM4!Z24","v":0},0,{"$f":"'FIN PAT MARK SHEET'!P26","v":0},{"$f":"'FIN PAT MARK SHEET'!Q26","v":0},{"$f":"'FIN PAT MARK SHEET'!T26","v":0},0,{"$f":"'FIN PAT MARK SHEET'!V26","v":0},{"$f":"'FIN PAT MARK SHEET'!W26","v":0},0,{"$f":"'FIN PAT MARK SHEET'!Y26","v":0},{"$f":"'FIN PAT MARK SHEET'!Z26","v":0},{"$f":"'FIN PAT MARK SHEET'!AA26","v":0},{"$f":"'FIN PAT MARK SHEET'!AB26","v":0},{"$f":"'FIN PAT MARK SHEET'!AC26","v":0},{"$f":"'FIN PAT MARK SHEET'!AD26","v":0},0,{"$f":"'SASAMS TERM3'!S17","v":0},0,0,0,0,{"$f":"TERM4!AA24","v":0},{"$f":"TERM4!AC24","v":0},0,{"$f":"'SASAMS TERM1'!K17","v":0},{"$f":"'SASAMS TERM2'!K17","v":0},{"$f":"'SASAMS TERM2'!L17","v":0},{"$f":"'SASAMS TERM3'!M17","v":0},0,0,0,0,0,"",null,null,0]
[10,10,{"$f":"INSERT!A12","v":0},{"$f":"INSERT!B12","v":0},{"$f":"INSERT!C12","v":0},{"$f":"INSERT!D12","v":0},{"$f":"INSERT!E12","v":0},{"$f":"TERM4!Z25","v":0},0,{"$f":"'FIN PAT MARK SHEET'!P27","v":0},{"$f":"'FIN PAT MARK SHEET'!Q27","v":0},{"$f":"'FIN PAT MARK SHEET'!T27","v":0},0,{"$f":"'FIN PAT MARK SHEET'!V27","v":0},{"$f":"'FIN PAT MARK SHEET'!W27","v":0},0,{"$f":"'FIN PAT MARK SHEET'!Y27","v":0},{"$f":"'FIN PAT MARK SHEET'!Z27","v":0},{"$f":"'FIN PAT MARK SHEET'!AA27","v":0},{"$f":"'FIN PAT MARK SHEET'!AB27","v":0},{"$f":"'FIN PAT MARK SHEET'!AC27","v":0},{"$f":"'FIN PAT MARK SHEET'!AD27","v":0},0,{"$f":"'SASAMS TERM3'!S18","v":0},0,0,0,0,{"$f":"TERM4!AA25","v":0},{"$f":"TERM4!AC25","v":0},0,{"$f":"'SASAMS TERM1'!K18","v":0},{"$f":"'SASAMS TERM2'!K18","v":0},{"$f":"'SASAMS TERM2'!L18","v":0},{"$f":"'SASAMS TERM3'!M18","v":0},0,0,0,0,0,"",null,null,0]
[11,11,{"$f":"INSERT!A13","v":0},{"$f":"INSERT!B13","v":0},{"$f":"INSERT!C13","v":0},{"$f":"INSERT!D13","v":0},{"$f":"INSERT!E13","v":0},{"$f":"TERM4!Z26","v":0},0,{"$f":"'FIN PAT MARK SHEET'!P28","v":0},{"$f":"'FIN PAT MARK SHEET'!Q28","v":0},{"$f":"'FIN PAT MARK SHEET'!T28","v":0},0,{"$f":"'FIN PAT MARK SHEET'!V28","v":0},{"$f":"'FIN PAT MARK SHEET'!W28","v":0},0,{"$f":"'FIN PAT MARK SHEET'!Y28","v":0},{"$f":"'FIN PAT MARK SHEET'!Z28","v":0},{"$f":"'FIN PAT MARK SHEET'!AA28","v":0},{"$f":"'FIN PAT MARK SHEET'!AB28","v":0},{"$f":"'FIN PAT MARK SHEET'!AC28","v":0},{"$f":"'FIN PAT MARK SHEET'!AD28","v":0},0,{"$f":"'SASAMS TERM3'!S19","v":0},0,0,0,0,{"$f":"TERM4!AA26","v":0},{"$f":"TERM4!AC26","v":0},0,{"$f":"'SASAMS TERM1'!K19","v":0},{"$f":"'SASAMS TERM2'!K19","v":0},{"$f":"'SASAMS TERM2'!L19","v":0},{"$f":"'SASAMS TERM3'!M19","v":0},0,0,0,0,0,"",null,null,0]
[12,12,{"$f":"INSERT!A14","v":0},{"$f":"INSERT!B14","v":0},{"$f":"INSERT!C14","v":0},{"$f":"INSERT!D14","v":0},{"$f":"INSERT!E14","v":0},{"$f":"TERM4!Z27","v":0},0,{"$f":"'FIN PAT MARK SHEET'!P29","v":0},{"$f":"'FIN PAT MARK SHEET'!Q29","v":0},{"$f":"'FIN PAT MARK SHEET'!T29","v":0},0,{"$f":"'FIN PAT MARK SHEET'!V29","v":0},{"$f":"'FIN PAT MARK SHEET'!W29","v":0},0,{"$f":"'FIN PAT MARK SHEET'!Y29","v":0},{"$f":"'FIN PAT MARK SHEET'!Z29","v":0},{"$f":"'FIN PAT MARK SHEET'!AA29","v":0},{"$f":"'FIN PAT MARK SHEET'!AB29","v":0},{"$f":"'FIN PAT MARK SHEET'!AC29","v":0},{"$f":"'FIN PAT MARK SHEET'!AD29","v":0},0,{"$f":"'SASAMS TERM3'!S20","v":0},0,0,0,0,{"$f":"TERM4!AA27","v":0},{"$f":"TERM4!AC27","v":0},0,{"$f":"'SASAMS TERM1'!K20","v":0},{"$f":"'SASAMS TERM2'!K20","v":0},{"$f":"'SASAMS TERM2'!L20","v":0},{"$f":"'SASAMS TERM3'!M20","v":0},0,0,0,0,0,"",null,null,0]
[13,13,{"$f":"INSERT!A15","v":0},{"$f":"INSERT!B15","v":0},{"$f":"INSERT!C15","v":0},{"$f":"INSERT!D15","v":0},{"$f":"INSERT!E15","v":0},{"$f":"TERM4!Z28","v":0},0,{"$f":"'FIN PAT MARK SHEET'!P30","v":0},{"$f":"'FIN PAT MARK SHEET'!Q30","v":0},{"$f":"'FIN PAT MARK SHEET'!T30","v":0},0,{"$f":"'FIN PAT MARK SHEET'!V30","v":0},{"$f":"'FIN PAT MARK SHEET'!W30","v":0},0,{"$f":"'FIN PAT MARK SHEET'!Y30","v":0},{"$f":"'FIN PAT MARK SHEET'!Z30","v":0},{"$f":"'FIN PAT MARK SHEET'!AA30","v":0},{"$f":"'FIN PAT MARK SHEET'!AB30","v":0},{"$f":"'FIN PAT MARK SHEET'!AC30","v":0},{"$f":"'FIN PAT MARK SHEET'!AD30","v":0},0,{"$f":"'SASAMS TERM3'!S21","v":0},0,0,0,0,{"$f":"TERM4!AA28","v":0},{"$f":"TERM4!AC28","v":0},0,{"$f":"'SASAMS TERM1'!K21","v":0},{"$f":"'SASAMS TERM2'!K21","v":0},{"$f":"'SASAMS TERM2'!L21","v":0},{"$f":"'SASAMS TERM3'!M21","v":0},0,0,0,0,0,"",null,null,0]
[14,14,{"$f":"INSERT!A16","v":0},{"$f":"INSERT!B16","v":0},{"$f":"INSERT!C16","v":0},{"$f":"INSERT!D16","v":0},{"$f":"INSERT!E16","v":0},{"$f":"TERM4!Z29","v":0},0,{"$f":"'FIN PAT MARK SHEET'!P31","v":0},{"$f":"'FIN PAT MARK SHEET'!Q31","v":0},{"$f":"'FIN PAT MARK SHEET'!T31","v":0},0,{"$f":"'FIN PAT MARK SHEET'!V31","v":0},{"$f":"'FIN PAT MARK SHEET'!W31","v":0},0,{"$f":"'FIN PAT MARK SHEET'!Y31","v":0},{"$f":"'FIN PAT MARK SHEET'!Z31","v":0},{"$f":"'FIN PAT MARK SHEET'!AA31","v":0},{"$f":"'FIN PAT MARK SHEET'!AB31","v":0},{"$f":"'FIN PAT MARK SHEET'!AC31","v":0},{"$f":"'FIN PAT MARK SHEET'!AD31","v":0},0,{"$f":"'SASAMS TERM3'!S22","v":0},0,0,0,0,{"$f":"TERM4!AA29","v":0},{"$f":"TERM4!AC29","v":0},0,{"$f":"'SASAMS TERM1'!K22","v":0},{"$f":"'SASAMS TERM2'!K22","v":0},{"$f":"'SASAMS TERM2'!L22","v":0},{"$f":"'SASAMS TERM3'!M22","v":0},0,0,0,0,0,"",null,null,0]
[15,15,{"$f":"INSERT!A17","v":0},{"$f":"INSERT!B17","v":0},{"$f":"INSERT!C17","v":0},{"$f":"INSERT!D17","v":0},{"$f":"INSERT!E17","v":0},{"$f":"TERM4!Z30","v":0},0,{"$f":"'FIN PAT MARK SHEET'!P32","v":0},{"$f":"'FIN PAT MARK SHEET'!Q32","v":0},{"$f":"'FIN PAT MARK SHEET'!T32","v":0},0,{"$f":"'FIN PAT MARK SHEET'!V32","v":0},{"$f":"'FIN PAT MARK SHEET'!W32","v":0},0,{"$f":"'FIN PAT MARK SHEET'!Y32","v":0},{"$f":"'FIN PAT MARK SHEET'!Z32","v":0},{"$f":"'FIN PAT MARK SHEET'!AA32","v":0},{"$f":"'FIN PAT MARK SHEET'!AB32","v":0},{"$f":"'FIN PAT MARK SHEET'!AC32","v":0},{"$f":"'FIN PAT MARK SHEET'!AD32","v":0},0,{"$f":"'SASAMS TERM3'!S23","v":0},0,0,0,0,{"$f":"TERM4!AA30","v":0},{"$f":"TERM4!AC30","v":0},0,{"$f":"'SASAMS TERM1'!K23","v":0},{"$f":"'SASAMS TERM2'!K23","v":0},{"$f":"'SASAMS TERM2'!L23","v":0},{"$f":"'SASAMS TERM3'!M23","v":0},0,0,0,0,0,"",null,null,0]
[16,16,{"$f":"INSERT!A18","v":0},{"$f":"INSERT!B18","v":0},{"$f":"INSERT!C18","v":0},{"$f":"INSERT!D18","v":0},{"$f":"INSERT!E18","v":0},{"$f":"TERM4!Z31","v":0},0,{"$f":"'FIN PAT MARK SHEET'!P33","v":0},{"$f":"'FIN PAT MARK SHEET'!Q33","v":0},{"$f":"'FIN PAT MARK SHEET'!T33","v":0},0,{"$f":"'FIN PAT MARK SHEET'!V33","v":0},{"$f":"'FIN PAT MARK SHEET'!W33","v":0},0,{"$f":"'FIN PAT MARK SHEET'!Y33","v":0},{"$f":"'FIN PAT MARK SHEET'!Z33","v":0},{"$f":"'FIN PAT MARK SHEET'!AA33","v":0},{"$f":"'FIN PAT MARK SHEET'!AB33","v":0},{"$f":"'FIN PAT MARK SHEET'!AC33","v":0},{"$f":"'FIN PAT MARK SHEET'!AD33","v":0},0,{"$f":"'SASAMS TERM3'!S24","v":0},0,0,0,0,{"$f":"TERM4!AA31","v":0},{"$f":"TERM4!AC31","v":0},0,{"$f":"'SASAMS TERM1'!K24","v":0},{"$f":"'SASAMS TERM2'!K24","v":0},{"$f":"'SASAMS TERM2'!L24","v":0},{"$f":"'SASAMS TERM3'!M24","v":0},0,0,0,0,0,"",null,null,0]
[17,17,{"$f":"INSERT!A19","v":0},{"$f":"INSERT!B19","v":0},{"$f":"INSERT!C19","v":0},{"$f":"INSERT!D19","v":0},{"$f":"INSERT!E19","v":0},{"$f":"TERM4!Z32","v":0},0,{"$f":"'FIN PAT MARK SHEET'!P34","v":0},{"$f":"'FIN PAT MARK SHEET'!Q34","v":0},{"$f":"'FIN PAT MARK SHEET'!T34","v":0},0,{"$f":"'FIN PAT MARK SHEET'!V34","v":0},{"$f":"'FIN PAT MARK SHEET'!W34","v":0},0,{"$f":"'FIN PAT MARK SHEET'!Y34","v":0},{"$f":"'FIN PAT MARK SHEET'!Z34","v":0},{"$f":"'FIN PAT MARK SHEET'!AA34","v":0},{"$f":"'FIN PAT MARK SHEET'!AB34","v":0},{"$f":"'FIN PAT MARK SHEET'!AC34","v":0},{"$f":"'FIN PAT MARK SHEET'!AD34","v":0},0,{"$f":"'SASAMS TERM3'!S25","v":0},0,0,0,0,{"$f":"TERM4!AA32","v":0},{"$f":"TERM4!AC32","v":0},0,{"$f":"'SASAMS TERM1'!K25","v":0},{"$f":"'SASAMS TERM2'!K25","v":0},{"$f":"'SASAMS TERM2'!L25","v":0},{"$f":"'SASAMS TERM3'!M25","v":0},0,0,0,0,0,"",null,null,0]
[18,18,{"$f":"INSERT!A20","v":0},{"$f":"INSERT!B20","v":0},{"$f":"INSERT!C20","v":0},{"$f":"INSERT!D20","v":0},{"$f":"INSERT!E20","v":0},{"$f":"TERM4!Z33","v":0},0,{"$f":"'FIN PAT MARK SHEET'!P35","v":0},{"$f":"'FIN PAT MARK SHEET'!Q35","v":0},{"$f":"'FIN PAT MARK SHEET'!T35","v":0},0,{"$f":"'FIN PAT MARK SHEET'!V35","v":0},{"$f":"'FIN PAT MARK SHEET'!W35","v":0},0,{"$f":"'FIN PAT MARK SHEET'!Y35","v":0},{"$f":"'FIN PAT MARK SHEET'!Z35","v":0},{"$f":"'FIN PAT MARK SHEET'!AA35","v":0},{"$f":"'FIN PAT MARK SHEET'!AB35","v":0},{"$f":"'FIN PAT MARK SHEET'!AC35","v":0},{"$f":"'FIN PAT MARK SHEET'!AD35","v":0},0,{"$f":"'SASAMS TERM3'!S26","v":0},0,0,0,0,{"$f":"TERM4!AA33","v":0},{"$f":"TERM4!AC33","v":0},0,{"$f":"'SASAMS TERM1'!K26","v":0},{"$f":"'SASAMS TERM2'!K26","v":0},{"$f":"'SASAMS TERM2'!L26","v":0},{"$f":"'SASAMS TERM3'!M26","v":0},0,0,0,0,0,"",null,null,0]
[19,19,{"$f":"INSERT!A21","v":0},{"$f":"INSERT!B21","v":0},{"$f":"INSERT!C21","v":0},{"$f":"INSERT!D21","v":0},{"$f":"INSERT!E21","v":0},{"$f":"TERM4!Z34","v":0},0,{"$f":"'FIN PAT MARK SHEET'!P36","v":0},{"$f":"'FIN PAT MARK SHEET'!Q36","v":0},{"$f":"'FIN PAT MARK SHEET'!T36","v":0},0,{"$f":"'FIN PAT MARK SHEET'!V36","v":0},{"$f":"'FIN PAT MARK SHEET'!W36","v":0},0,{"$f":"'FIN PAT MARK SHEET'!Y36","v":0},{"$f":"'FIN PAT MARK SHEET'!Z36","v":0},{"$f":"'FIN PAT MARK SHEET'!AA36","v":0},{"$f":"'FIN PAT MARK SHEET'!AB36","v":0},{"$f":"'FIN PAT MARK SHEET'!AC36","v":0},{"$f":"'FIN PAT MARK SHEET'!AD36","v":0},0,{"$f":"'SASAMS TERM3'!S27","v":0},0,0,0,0,{"$f":"TERM4!AA34","v":0},{"$f":"TERM4!AC34","v":0},0,{"$f":"'SASAMS TERM1'!K27","v":0},{"$f":"'SASAMS TERM2'!K27","v":0},{"$f":"'SASAMS TERM2'!L27","v":0},{"$f":"'SASAMS TERM3'!M27","v":0},0,0,0,0,0,"",null,null,0]
[20,20,{"$f":"INSERT!A22","v":0},{"$f":"INSERT!B22","v":0},{"$f":"INSERT!C22","v":0},{"$f":"INSERT!D22","v":0},{"$f":"INSERT!E22","v":0},{"$f":"TERM4!Z35","v":0},0,{"$f":"'FIN PAT MARK SHEET'!P37","v":0},{"$f":"'FIN PAT MARK SHEET'!Q37","v":0},{"$f":"'FIN PAT MARK SHEET'!T37","v":0},0,{"$f":"'FIN PAT MARK SHEET'!V37","v":0},{"$f":"'FIN PAT MARK SHEET'!W37","v":0},0,{"$f":"'FIN PAT MARK SHEET'!Y37","v":0},{"$f":"'FIN PAT MARK SHEET'!Z37","v":0},{"$f":"'FIN PAT MARK SHEET'!AA37","v":0},{"$f":"'FIN PAT MARK SHEET'!AB37","v":0},{"$f":"'FIN PAT MARK SHEET'!AC37","v":0},{"$f":"'FIN PAT MARK SHEET'!AD37","v":0},0,{"$f":"'SASAMS TERM3'!S28","v":0},0,0,0,0,{"$f":"TERM4!AA35","v":0},{"$f":"TERM4!AC35","v":0},0,{"$f":"'SASAMS TERM1'!K28","v":0},{"$f":"'SASAMS TERM2'!K28","v":0},{"$f":"'SASAMS TERM2'!L28","v":0},{"$f":"'SASAMS TERM3'!M28","v":0},0,0,0,0,0,"",null,null,0]
[21,21,{"$f":"INSERT!A23","v":0},{"$f":"INSERT!B23","v":0},{"$f":"INSERT!C23","v":0},{"$f":"INSERT!D23","v":0},{"$f":"INSERT!E23","v":0},{"$f":"TERM4!Z36","v":0},0,{"$f":"'FIN PAT MARK SHEET'!P38","v":0},{"$f":"'FIN PAT MARK SHEET'!Q38","v":0},{"$f":"'FIN PAT MARK SHEET'!T38","v":0},0,{"$f":"'FIN PAT MARK SHEET'!V38","v":0},{"$f":"'FIN PAT MARK SHEET'!W38","v":0},0,{"$f":"'FIN PAT MARK SHEET'!Y38","v":0},{"$f":"'FIN PAT MARK SHEET'!Z38","v":0},{"$f":"'FIN PAT MARK SHEET'!AA38","v":0},{"$f":"'FIN PAT MARK SHEET'!AB38","v":0},{"$f":"'FIN PAT MARK SHEET'!AC38","v":0},{"$f":"'FIN PAT MARK SHEET'!AD38","v":0},0,{"$f":"'SASAMS TERM3'!S29","v":0},0,0,0,0,{"$f":"TERM4!AA36","v":0},{"$f":"TERM4!AC36","v":0},0,{"$f":"'SASAMS TERM1'!K29","v":0},{"$f":"'SASAMS TERM2'!K29","v":0},{"$f":"'SASAMS TERM2'!L29","v":0},{"$f":"'SASAMS TERM3'!M29","v":0},0,0,0,0,0,"",null,null,0]
[22,22,{"$f":"INSERT!A24","v":0},{"$f":"INSERT!B24","v":0},{"$f":"INSERT!C24","v":0},{"$f":"INSERT!D24","v":0},{"$f":"INSERT!E24","v":0},{"$f":"TERM4!Z37","v":0},0,{"$f":"'FIN PAT MARK SHEET'!P39","v":0},{"$f":"'FIN PAT MARK SHEET'!Q39","v":0},{"$f":"'FIN PAT MARK SHEET'!T39","v":0},0,{"$f":"'FIN PAT MARK SHEET'!V39","v":0},{"$f":"'FIN PAT MARK SHEET'!W39","v":0},0,{"$f":"'FIN PAT MARK SHEET'!Y39","v":0},{"$f":"'FIN PAT MARK SHEET'!Z39","v":0},{"$f":"'FIN PAT MARK SHEET'!AA39","v":0},{"$f":"'FIN PAT MARK SHEET'!AB39","v":0},{"$f":"'FIN PAT MARK SHEET'!AC39","v":0},{"$f":"'FIN PAT MARK SHEET'!AD39","v":0},0,{"$f":"'SASAMS TERM3'!S30","v":0},0,0,0,0,{"$f":"TERM4!AA37","v":0},{"$f":"TERM4!AC37","v":0},0,{"$f":"'SASAMS TERM1'!K30","v":0},{"$f":"'SASAMS TERM2'!K30","v":0},{"$f":"'SASAMS TERM2'!L30","v":0},{"$f":"'SASAMS TERM3'!M30","v":0},0,0,0,0,0,"",null,null,0]
[23,23,{"$f":"INSERT!A25","v":0},{"$f":"INSERT!B25","v":0},{"$f":"INSERT!C25","v":0},{"$f":"INSERT!D25","v":0},{"$f":"INSERT!E25","v":0},{"$f":"TERM4!Z38","v":0},0,{"$f":"'FIN PAT MARK SHEET'!P40","v":0},{"$f":"'FIN PAT MARK SHEET'!Q40","v":0},{"$f":"'FIN PAT MARK SHEET'!T40","v":0},0,{"$f":"'FIN PAT MARK SHEET'!V40","v":0},{"$f":"'FIN PAT MARK SHEET'!W40","v":0},0,{"$f":"'FIN PAT MARK SHEET'!Y40","v":0},{"$f":"'FIN PAT MARK SHEET'!Z40","v":0},{"$f":"'FIN PAT MARK SHEET'!AA40","v":0},{"$f":"'FIN PAT MARK SHEET'!AB40","v":0},{"$f":"'FIN PAT MARK SHEET'!AC40","v":0},{"$f":"'FIN PAT MARK SHEET'!AD40","v":0},0,{"$f":"'SASAMS TERM3'!S31","v":0},0,0,0,0,{"$f":"TERM4!AA38","v":0},{"$f":"TERM4!AC38","v":0},0,{"$f":"'SASAMS TERM1'!K31","v":0},{"$f":"'SASAMS TERM2'!K31","v":0},{"$f":"'SASAMS TERM2'!L31","v":0},{"$f":"'SASAMS TERM3'!M31","v":0},0,0,0,0,0,"",null,null,0]
[24,24,{"$f":"INSERT!A26","v":0},{"$f":"INSERT!B26","v":0},{"$f":"INSERT!C26","v":0},{"$f":"INSERT!D26","v":0},{"$f":"INSERT!E26","v":0},{"$f":"TERM4!Z39","v":0},0,{"$f":"'FIN PAT MARK SHEET'!P41","v":0},{"$f":"'FIN PAT MARK SHEET'!Q41","v":0},{"$f":"'FIN PAT MARK SHEET'!T41","v":0},0,{"$f":"'FIN PAT MARK SHEET'!V41","v":0},{"$f":"'FIN PAT MARK SHEET'!W41","v":0},0,{"$f":"'FIN PAT MARK SHEET'!Y41","v":0},{"$f":"'FIN PAT MARK SHEET'!Z41","v":0},{"$f":"'FIN PAT MARK SHEET'!AA41","v":0},{"$f":"'FIN PAT MARK SHEET'!AB41","v":0},{"$f":"'FIN PAT MARK SHEET'!AC41","v":0},{"$f":"'FIN PAT MARK SHEET'!AD41","v":0},0,{"$f":"'SASAMS TERM3'!S32","v":0},0,0,0,0,{"$f":"TERM4!AA39","v":0},{"$f":"TERM4!AC39","v":0},0,{"$f":"'SASAMS TERM1'!K32","v":0},{"$f":"'SASAMS TERM2'!K32","v":0},{"$f":"'SASAMS TERM2'!L32","v":0},{"$f":"'SASAMS TERM3'!M32","v":0},0,0,0,0,0,"",null,null,0]
[25,25,{"$f":"INSERT!A27","v":0},{"$f":"INSERT!B27","v":0},{"$f":"INSERT!C27","v":0},{"$f":"INSERT!D27","v":0},{"$f":"INSERT!E27","v":0},{"$f":"TERM4!Z40","v":0},0,{"$f":"'FIN PAT MARK SHEET'!P42","v":0},{"$f":"'FIN PAT MARK SHEET'!Q42","v":0},{"$f":"'FIN PAT MARK SHEET'!T42","v":0},0,{"$f":"'FIN PAT MARK SHEET'!V42","v":0},{"$f":"'FIN PAT MARK SHEET'!W42","v":0},0,{"$f":"'FIN PAT MARK SHEET'!Y42","v":0},{"$f":"'FIN PAT MARK SHEET'!Z42","v":0},{"$f":"'FIN PAT MARK SHEET'!AA42","v":0},{"$f":"'FIN PAT MARK SHEET'!AB42","v":0},{"$f":"'FIN PAT MARK SHEET'!AC42","v":0},{"$f":"'FIN PAT MARK SHEET'!AD42","v":0},0,{"$f":"'SASAMS TERM3'!S33","v":0},0,0,0,0,{"$f":"TERM4!AA40","v":0},{"$f":"TERM4!AC40","v":0},0,{"$f":"'SASAMS TERM1'!K33","v":0},{"$f":"'SASAMS TERM2'!K33","v":0},{"$f":"'SASAMS TERM2'!L33","v":0},{"$f":"'SASAMS TERM3'!M33","v":0},0,0,0,0,0,"",null,null,0]
[26,26,{"$f":"INSERT!A28","v":0},{"$f":"INSERT!B28","v":0},{"$f":"INSERT!C28","v":0},{"$f":"INSERT!D28","v":0},{"$f":"INSERT!E28","v":0},{"$f":"TERM4!Z41","v":0},0,{"$f":"'FIN PAT MARK SHEET'!P43","v":0},{"$f":"'FIN PAT MARK SHEET'!Q43","v":0},{"$f":"'FIN PAT MARK SHEET'!T43","v":0},0,{"$f":"'FIN PAT MARK SHEET'!V43","v":0},{"$f":"'FIN PAT MARK SHEET'!W43","v":0},0,{"$f":"'FIN PAT MARK SHEET'!Y43","v":0},{"$f":"'FIN PAT MARK SHEET'!Z43","v":0},{"$f":"'FIN PAT MARK SHEET'!AA43","v":0},{"$f":"'FIN PAT MARK SHEET'!AB43","v":0},{"$f":"'FIN PAT MARK SHEET'!AC43","v":0},{"$f":"'FIN PAT MARK SHEET'!AD43","v":0},0,{"$f":"'SASAMS TERM3'!S34","v":0},0,0,0,0,{"$f":"TERM4!AA41","v":0},{"$f":"TERM4!AC41","v":0},0,{"$f":"'SASAMS TERM1'!K34","v":0},{"$f":"'SASAMS TERM2'!K34","v":0},{"$f":"'SASAMS TERM2'!L34","v":0},{"$f":"'SASAMS TERM3'!M34","v":0},0,0,0,0,0,"",null,null,0]
[27,27,{"$f":"INSERT!A29","v":0},{"$f":"INSERT!B29","v":0},{"$f":"INSERT!C29","v":0},{"$f":"INSERT!D29","v":0},{"$f":"INSERT!E29","v":0},{"$f":"TERM4!Z42","v":0},0,{"$f":"'FIN PAT MARK SHEET'!P44","v":0},{"$f":"'FIN PAT MARK SHEET'!Q44","v":0},{"$f":"'FIN PAT MARK SHEET'!T44","v":0},0,{"$f":"'FIN PAT MARK SHEET'!V44","v":0},{"$f":"'FIN PAT MARK SHEET'!W44","v":0},0,{"$f":"'FIN PAT MARK SHEET'!Y44","v":0},{"$f":"'FIN PAT MARK SHEET'!Z44","v":0},{"$f":"'FIN PAT MARK SHEET'!AA44","v":0},{"$f":"'FIN PAT MARK SHEET'!AB44","v":0},{"$f":"'FIN PAT MARK SHEET'!AC44","v":0},{"$f":"'FIN PAT MARK SHEET'!AD44","v":0},0,{"$f":"'SASAMS TERM3'!S35","v":0},0,0,0,0,{"$f":"TERM4!AA42","v":0},{"$f":"TERM4!AC42","v":0},0,{"$f":"'SASAMS TERM1'!K35","v":0},{"$f":"'SASAMS TERM2'!K35","v":0},{"$f":"'SASAMS TERM2'!L35","v":0},{"$f":"'SASAMS TERM3'!M35","v":0},0,0,0,0,0,"",null,null,0]
[28,28,{"$f":"INSERT!A30","v":0},{"$f":"INSERT!B30","v":0},{"$f":"INSERT!C30","v":0},{"$f":"INSERT!D30","v":0},{"$f":"INSERT!E30","v":0},{"$f":"TERM4!Z43","v":0},0,{"$f":"'FIN PAT MARK SHEET'!P45","v":0},{"$f":"'FIN PAT MARK SHEET'!Q45","v":0},{"$f":"'FIN PAT MARK SHEET'!T45","v":0},0,{"$f":"'FIN PAT MARK SHEET'!V45","v":0},{"$f":"'FIN PAT MARK SHEET'!W45","v":0},0,{"$f":"'FIN PAT MARK SHEET'!Y45","v":0},{"$f":"'FIN PAT MARK SHEET'!Z45","v":0},{"$f":"'FIN PAT MARK SHEET'!AA45","v":0},{"$f":"'FIN PAT MARK SHEET'!AB45","v":0},{"$f":"'FIN PAT MARK SHEET'!AC45","v":0},{"$f":"'FIN PAT MARK SHEET'!AD45","v":0},0,{"$f":"'SASAMS TERM3'!S36","v":0},0,0,0,0,{"$f":"TERM4!AA43","v":0},{"$f":"TERM4!AC43","v":0},0,{"$f":"'SASAMS TERM1'!K36","v":0},{"$f":"'SASAMS TERM2'!K36","v":0},{"$f":"'SASAMS TERM2'!L36","v":0},{"$f":"'SASAMS TERM3'!M36","v":0},0,0,0,0,0,"",null,null,0]
[29,29,{"$f":"INSERT!A31","v":0},{"$f":"INSERT!B31","v":0},{"$f":"INSERT!C31","v":0},{"$f":"INSERT!D31","v":0},{"$f":"INSERT!E31","v":0},{"$f":"TERM4!Z44","v":0},0,{"$f":"'FIN PAT MARK SHEET'!P46","v":0},{"$f":"'FIN PAT MARK SHEET'!Q46","v":0},{"$f":"'FIN PAT MARK SHEET'!T46","v":0},0,{"$f":"'FIN PAT MARK SHEET'!V46","v":0},{"$f":"'FIN PAT MARK SHEET'!W46","v":0},0,{"$f":"'FIN PAT MARK SHEET'!Y46","v":0},{"$f":"'FIN PAT MARK SHEET'!Z46","v":0},{"$f":"'FIN PAT MARK SHEET'!AA46","v":0},{"$f":"'FIN PAT MARK SHEET'!AB46","v":0},{"$f":"'FIN PAT MARK SHEET'!AC46","v":0},{"$f":"'FIN PAT MARK SHEET'!AD46","v":0},0,{"$f":"'SASAMS TERM3'!S37","v":0},0,0,0,0,{"$f":"TERM4!AA44","v":0},{"$f":"TERM4!AC44","v":0},0,{"$f":"'SASAMS TERM1'!K37","v":0},{"$f":"'SASAMS TERM2'!K37","v":0},{"$f":"'SASAMS TERM2'!L37","v":0},{"$f":"'SASAMS TERM3'!M37","v":0},0,0,0,0,0,"",null,null,0]
[30,30,{"$f":"INSERT!A32","v":0},{"$f":"INSERT!B32","v":0},{"$f":"INSERT!C32","v":0},{"$f":"INSERT!D32","v":0},{"$f":"INSERT!E32","v":0},{"$f":"TERM4!Z45","v":0},0,{"$f":"'FIN PAT MARK SHEET'!P47","v":0},{"$f":"'FIN PAT MARK SHEET'!Q47","v":0},{"$f":"'FIN PAT MARK SHEET'!T47","v":0},0,{"$f":"'FIN PAT MARK SHEET'!V47","v":0},{"$f":"'FIN PAT MARK SHEET'!W47","v":0},0,{"$f":"'FIN PAT MARK SHEET'!Y47","v":0},{"$f":"'FIN PAT MARK SHEET'!Z47","v":0},{"$f":"'FIN PAT MARK SHEET'!AA47","v":0},{"$f":"'FIN PAT MARK SHEET'!AB47","v":0},{"$f":"'FIN PAT MARK SHEET'!AC47","v":0},{"$f":"'FIN PAT MARK SHEET'!AD47","v":0},0,{"$f":"'SASAMS TERM3'!S38","v":0},0,0,0,0,{"$f":"TERM4!AA45","v":0},{"$f":"TERM4!AC45","v":0},0,{"$f":"'SASAMS TERM1'!K38","v":0},{"$f":"'SASAMS TERM2'!K38","v":0},{"$f":"'SASAMS TERM2'!L38","v":0},{"$f":"'SASAMS TERM3'!M38","v":0},0,0,0,0,0,"",null,null,0]
[31,31,{"$f":"INSERT!A33","v":0},{"$f":"INSERT!B33","v":0},{"$f":"INSERT!C33","v":0},{"$f":"INSERT!D33","v":0},{"$f":"INSERT!E33","v":0},{"$f":"TERM4!Z46","v":0},0,{"$f":"'FIN PAT MARK SHEET'!P48","v":0},{"$f":"'FIN PAT MARK SHEET'!Q48","v":0},{"$f":"'FIN PAT MARK SHEET'!T48","v":0},0,{"$f":"'FIN PAT MARK SHEET'!V48","v":0},{"$f":"'FIN PAT MARK SHEET'!W48","v":0},0,{"$f":"'FIN PAT MARK SHEET'!Y48","v":0},{"$f":"'FIN PAT MARK SHEET'!Z48","v":0},{"$f":"'FIN PAT MARK SHEET'!AA48","v":0},{"$f":"'FIN PAT MARK SHEET'!AB48","v":0},{"$f":"'FIN PAT MARK SHEET'!AC48","v":0},{"$f":"'FIN PAT MARK SHEET'!AD48","v":0},0,{"$f":"'SASAMS TERM3'!S39","v":0},0,0,0,0,{"$f":"TERM4!AA46","v":0},{"$f":"TERM4!AC46","v":0},0,{"$f":"'SASAMS TERM1'!K39","v":0},{"$f":"'SASAMS TERM2'!K39","v":0},{"$f":"'SASAMS TERM2'!L39","v":0},{"$f":"'SASAMS TERM3'!M39","v":0},0,0,0,0,0,"",null,null,0]
[32,32,{"$f":"INSERT!A34","v":0},{"$f":"INSERT!B34","v":0},{"$f":"INSERT!C34","v":0},{"$f":"INSERT!D34","v":0},{"$f":"INSERT!E34","v":0},{"$f":"TERM4!Z47","v":0},0,{"$f":"'FIN PAT MARK SHEET'!P49","v":0},{"$f":"'FIN PAT MARK SHEET'!Q49","v":0},{"$f":"'FIN PAT MARK SHEET'!T49","v":0},0,{"$f":"'FIN PAT MARK SHEET'!V49","v":0},{"$f":"'FIN PAT MARK SHEET'!W49","v":0},0,{"$f":"'FIN PAT MARK SHEET'!Y49","v":0},{"$f":"'FIN PAT MARK SHEET'!Z49","v":0},{"$f":"'FIN PAT MARK SHEET'!AA49","v":0},{"$f":"'FIN PAT MARK SHEET'!AB49","v":0},{"$f":"'FIN PAT MARK SHEET'!AC49","v":0},{"$f":"'FIN PAT MARK SHEET'!AD49","v":0},0,{"$f":"'SASAMS TERM3'!S40","v":0},0,0,0,0,{"$f":"TERM4!AA47","v":0},{"$f":"TERM4!AC47","v":0},0,{"$f":"'SASAMS TERM1'!K40","v":0},{"$f":"'SASAMS TERM2'!K40","v":0},{"$f":"'SASAMS TERM2'!L40","v":0},{"$f":"'SASAMS TERM3'!M40","v":0},0,0,0,0,0,"",null,null,0]
[33,33,{"$f":"INSERT!A35","v":0},{"$f":"INSERT!B35","v":0},{"$f":"INSERT!C35","v":0},{"$f":"INSERT!D35","v":0},{"$f":"INSERT!E35","v":0},{"$f":"TERM4!Z48","v":0},0,{"$f":"'FIN PAT MARK SHEET'!P50","v":0},{"$f":"'FIN PAT MARK SHEET'!Q50","v":0},{"$f":"'FIN PAT MARK SHEET'!T50","v":0},0,{"$f":"'FIN PAT MARK SHEET'!V50","v":0},{"$f":"'FIN PAT MARK SHEET'!W50","v":0},0,{"$f":"'FIN PAT MARK SHEET'!Y50","v":0},{"$f":"'FIN PAT MARK SHEET'!Z50","v":0},{"$f":"'FIN PAT MARK SHEET'!AA50","v":0},{"$f":"'FIN PAT MARK SHEET'!AB50","v":0},{"$f":"'FIN PAT MARK SHEET'!AC50","v":0},{"$f":"'FIN PAT MARK SHEET'!AD50","v":0},{"$f":"IF(AR41=4,SUMIF(Q41:T41,\">0\")/1.6,IF(AR41=6,SUMIF(Q41:V41,\">0\")/2.4,SUMIF(Q41:V41,\">0\")))","v":0},{"$f":"'SASAMS TERM3'!S41","v":0},{"$f":"M41","v":0},{"$f":"P41","v":0},{"$f":"W41","v":0},0,{"$f":"TERM4!AA48","v":0},{"$f":"TERM4!AC48","v":0},0,{"$f":"'SASAMS TERM1'!K41","v":0},{"$f":"'SASAMS TERM2'!K41","v":0},{"$f":"'SASAMS TERM2'!L41","v":0},{"$f":"'SASAMS TERM3'!M41","v":0},{"$f":"I41","v":0},{"$f":"SUM(AF41:AJ41)","v":0},0,0,0,{"$f":"IF(AM41>79,\"7\",IF(AM41>69,\"6\",IF(AM41>59,\"5\",IF(AM41>49,\"4\",IF(AM41>39,\"3\",IF(AM41>29,\"2\",IF(AM41>0,\"1\",IF(AM41=0,\"\"))))))))","v":""},null,null,{"$f":"COUNTIF(Q41:V41,\">0\")","v":0}]
[34,34,{"$f":"INSERT!A36","v":0},{"$f":"INSERT!B36","v":0},{"$f":"INSERT!C36","v":0},{"$f":"INSERT!D36","v":0},{"$f":"INSERT!E36","v":0},{"$f":"TERM4!Z49","v":0},0,{"$f":"'FIN PAT MARK SHEET'!P51","v":0},{"$f":"'FIN PAT MARK SHEET'!Q51","v":0},{"$f":"'FIN PAT MARK SHEET'!T51","v":0},0,{"$f":"'FIN PAT MARK SHEET'!V51","v":0},{"$f":"'FIN PAT MARK SHEET'!W51","v":0},0,{"$f":"'FIN PAT MARK SHEET'!Y51","v":0},{"$f":"'FIN PAT MARK SHEET'!Z51","v":0},{"$f":"'FIN PAT MARK SHEET'!AA51","v":0},{"$f":"'FIN PAT MARK SHEET'!AB51","v":0},{"$f":"'FIN PAT MARK SHEET'!AC51","v":0},{"$f":"'FIN PAT MARK SHEET'!AD51","v":0},0,{"$f":"'SASAMS TERM3'!S42","v":0},0,0,0,0,{"$f":"TERM4!AA49","v":0},{"$f":"TERM4!AC49","v":0},0,{"$f":"'SASAMS TERM1'!K42","v":0},{"$f":"'SASAMS TERM2'!K42","v":0},{"$f":"'SASAMS TERM2'!L42","v":0},{"$f":"'SASAMS TERM3'!M42","v":0},0,0,0,0,0,"",null,null,0]
[35,35,{"$f":"INSERT!A37","v":0},{"$f":"INSERT!B37","v":0},{"$f":"INSERT!C37","v":0},{"$f":"INSERT!D37","v":0},{"$f":"INSERT!E37","v":0},{"$f":"TERM4!Z50","v":0},0,{"$f":"'FIN PAT MARK SHEET'!P52","v":0},{"$f":"'FIN PAT MARK SHEET'!Q52","v":0},{"$f":"'FIN PAT MARK SHEET'!T52","v":0},0,{"$f":"'FIN PAT MARK SHEET'!V52","v":0},{"$f":"'FIN PAT MARK SHEET'!W52","v":0},0,{"$f":"'FIN PAT MARK SHEET'!Y52","v":0},{"$f":"'FIN PAT MARK SHEET'!Z52","v":0},{"$f":"'FIN PAT MARK SHEET'!AA52","v":0},{"$f":"'FIN PAT MARK SHEET'!AB52","v":0},{"$f":"'FIN PAT MARK SHEET'!AC52","v":0},{"$f":"'FIN PAT MARK SHEET'!AD52","v":0},0,{"$f":"'SASAMS TERM3'!S43","v":0},0,0,0,0,{"$f":"TERM4!AA50","v":0},{"$f":"TERM4!AC50","v":0},0,{"$f":"'SASAMS TERM1'!K43","v":0},{"$f":"'SASAMS TERM2'!K43","v":0},{"$f":"'SASAMS TERM2'!L43","v":0},{"$f":"'SASAMS TERM3'!M43","v":0},0,0,0,0,0,"",null,null,0]
[36,36,{"$f":"INSERT!A38","v":0},{"$f":"INSERT!B38","v":0},{"$f":"INSERT!C38","v":0},{"$f":"INSERT!D38","v":0},{"$f":"INSERT!E38","v":0},{"$f":"TERM4!Z51","v":0},0,{"$f":"'FIN PAT MARK SHEET'!P53","v":0},{"$f":"'FIN PAT MARK SHEET'!Q53","v":0},{"$f":"'FIN PAT MARK SHEET'!T53","v":0},0,{"$f":"'FIN PAT MARK SHEET'!V53","v":0},{"$f":"'FIN PAT MARK SHEET'!W53","v":0},0,{"$f":"'FIN PAT MARK SHEET'!Y53","v":0},{"$f":"'FIN PAT MARK SHEET'!Z53","v":0},{"$f":"'FIN PAT MARK SHEET'!AA53","v":0},{"$f":"'FIN PAT MARK SHEET'!AB53","v":0},{"$f":"'FIN PAT MARK SHEET'!AC53","v":0},{"$f":"'FIN PAT MARK SHEET'!AD53","v":0},0,{"$f":"'SASAMS TERM3'!S44","v":0},0,0,0,0,{"$f":"TERM4!AA51","v":0},{"$f":"TERM4!AC51","v":0},0,{"$f":"'SASAMS TERM1'!K44","v":0},{"$f":"'SASAMS TERM2'!K44","v":0},{"$f":"'SASAMS TERM2'!L44","v":0},{"$f":"'SASAMS TERM3'!M44","v":0},0,0,0,0,0,"",null,null,0]
[37,37,{"$f":"INSERT!A39","v":0},{"$f":"INSERT!B39","v":0},{"$f":"INSERT!C39","v":0},{"$f":"INSERT!D39","v":0},{"$f":"INSERT!E39","v":0},{"$f":"TERM4!Z52","v":0},0,{"$f":"'FIN PAT MARK SHEET'!P54","v":0},{"$f":"'FIN PAT MARK SHEET'!Q54","v":0},{"$f":"'FIN PAT MARK SHEET'!T54","v":0},0,{"$f":"'FIN PAT MARK SHEET'!V54","v":0},{"$f":"'FIN PAT MARK SHEET'!W54","v":0},0,{"$f":"'FIN PAT MARK SHEET'!Y54","v":0},{"$f":"'FIN PAT MARK SHEET'!Z54","v":0},{"$f":"'FIN PAT MARK SHEET'!AA54","v":0},{"$f":"'FIN PAT MARK SHEET'!AB54","v":0},{"$f":"'FIN PAT MARK SHEET'!AC54","v":0},{"$f":"'FIN PAT MARK SHEET'!AD54","v":0},0,{"$f":"'SASAMS TERM3'!S45","v":0},0,0,0,0,{"$f":"TERM4!AA52","v":0},{"$f":"TERM4!AC52","v":0},0,{"$f":"'SASAMS TERM1'!K45","v":0},{"$f":"'SASAMS TERM2'!K45","v":0},{"$f":"'SASAMS TERM2'!L45","v":0},{"$f":"'SASAMS TERM3'!M45","v":0},0,0,0,0,0,"",null,null,0]
[38,38,{"$f":"INSERT!A40","v":0},{"$f":"INSERT!B40","v":0},{"$f":"INSERT!C40","v":0},{"$f":"INSERT!D40","v":0},{"$f":"INSERT!E40","v":0},{"$f":"TERM4!Z53","v":0},0,{"$f":"'FIN PAT MARK SHEET'!P55","v":0},{"$f":"'FIN PAT MARK SHEET'!Q55","v":0},{"$f":"'FIN PAT MARK SHEET'!T55","v":0},0,{"$f":"'FIN PAT MARK SHEET'!V55","v":0},{"$f":"'FIN PAT MARK SHEET'!W55","v":0},0,{"$f":"'FIN PAT MARK SHEET'!Y55","v":0},{"$f":"'FIN PAT MARK SHEET'!Z55","v":0},{"$f":"'FIN PAT MARK SHEET'!AA55","v":0},{"$f":"'FIN PAT MARK SHEET'!AB55","v":0},{"$f":"'FIN PAT MARK SHEET'!AC55","v":0},{"$f":"'FIN PAT MARK SHEET'!AD55","v":0},0,{"$f":"'SASAMS TERM3'!S46","v":0},0,0,0,0,{"$f":"TERM4!AA53","v":0},{"$f":"TERM4!AC53","v":0},0,{"$f":"'SASAMS TERM1'!K46","v":0},{"$f":"'SASAMS TERM2'!K46","v":0},{"$f":"'SASAMS TERM2'!L46","v":0},{"$f":"'SASAMS TERM3'!M46","v":0},0,0,0,0,0,"",null,null,0]
[39,39,{"$f":"INSERT!A41","v":0},{"$f":"INSERT!B41","v":0},{"$f":"INSERT!C41","v":0},{"$f":"INSERT!D41","v":0},{"$f":"INSERT!E41","v":0},{"$f":"TERM4!Z54","v":0},0,{"$f":"'FIN PAT MARK SHEET'!P56","v":0},{"$f":"'FIN PAT MARK SHEET'!Q56","v":0},{"$f":"'FIN PAT MARK SHEET'!T56","v":0},0,{"$f":"'FIN PAT MARK SHEET'!V56","v":0},{"$f":"'FIN PAT MARK SHEET'!W56","v":0},0,{"$f":"'FIN PAT MARK SHEET'!Y56","v":0},{"$f":"'FIN PAT MARK SHEET'!Z56","v":0},{"$f":"'FIN PAT MARK SHEET'!AA56","v":0},{"$f":"'FIN PAT MARK SHEET'!AB56","v":0},{"$f":"'FIN PAT MARK SHEET'!AC56","v":0},{"$f":"'FIN PAT MARK SHEET'!AD56","v":0},0,{"$f":"'SASAMS TERM3'!S47","v":0},0,0,0,0,{"$f":"TERM4!AA54","v":0},{"$f":"TERM4!AC54","v":0},0,{"$f":"'SASAMS TERM1'!K47","v":0},{"$f":"'SASAMS TERM2'!K47","v":0},{"$f":"'SASAMS TERM2'!L47","v":0},{"$f":"'SASAMS TERM3'!M47","v":0},0,0,0,0,0,"",null,null,0]
[40,40,{"$f":"INSERT!A42","v":0},{"$f":"INSERT!B42","v":0},{"$f":"INSERT!C42","v":0},{"$f":"INSERT!D42","v":0},{"$f":"INSERT!E42","v":0},{"$f":"TERM4!Z55","v":0},0,{"$f":"'FIN PAT MARK SHEET'!P57","v":0},{"$f":"'FIN PAT MARK SHEET'!Q57","v":0},{"$f":"'FIN PAT MARK SHEET'!T57","v":0},0,{"$f":"'FIN PAT MARK SHEET'!V57","v":0},{"$f":"'FIN PAT MARK SHEET'!W57","v":0},0,{"$f":"'FIN PAT MARK SHEET'!Y57","v":0},{"$f":"'FIN PAT MARK SHEET'!Z57","v":0},{"$f":"'FIN PAT MARK SHEET'!AA57","v":0},{"$f":"'FIN PAT MARK SHEET'!AB57","v":0},{"$f":"'FIN PAT MARK SHEET'!AC57","v":0},{"$f":"'FIN PAT MARK SHEET'!AD57","v":0},0,{"$f":"'SASAMS TERM3'!S48","v":0},0,0,0,0,{"$f":"TERM4!AA55","v":0},{"$f":"TERM4!AC55","v":0},0,{"$f":"'SASAMS TERM1'!K48","v":0},{"$f":"'SASAMS TERM2'!K48","v":0},{"$f":"'SASAMS TERM2'!L48","v":0},{"$f":"'SASAMS TERM3'!M48","v":0},0,0,0,0,0,"",null,null,0]
[41,41,{"$f":"INSERT!A43","v":0},{"$f":"INSERT!B43","v":0},{"$f":"INSERT!C43","v":0},{"$f":"INSERT!D43","v":0},{"$f":"INSERT!E43","v":0},{"$f":"TERM4!Z56","v":0},0,{"$f":"'FIN PAT MARK SHEET'!P58","v":0},{"$f":"'FIN PAT MARK SHEET'!Q58","v":0},{"$f":"'FIN PAT MARK SHEET'!T58","v":0},0,{"$f":"'FIN PAT MARK SHEET'!V58","v":0},{"$f":"'FIN PAT MARK SHEET'!W58","v":0},0,{"$f":"'FIN PAT MARK SHEET'!Y58","v":0},{"$f":"'FIN PAT MARK SHEET'!Z58","v":0},{"$f":"'FIN PAT MARK SHEET'!AA58","v":0},{"$f":"'FIN PAT MARK SHEET'!AB58","v":0},{"$f":"'FIN PAT MARK SHEET'!AC58","v":0},{"$f":"'FIN PAT MARK SHEET'!AD58","v":0},0,{"$f":"'SASAMS TERM3'!S49","v":0},0,0,0,0,{"$f":"TERM4!AA56","v":0},{"$f":"TERM4!AC56","v":0},0,{"$f":"'SASAMS TERM1'!K49","v":0},{"$f":"'SASAMS TERM2'!K49","v":0},{"$f":"'SASAMS TERM2'!L49","v":0},{"$f":"'SASAMS TERM3'!M49","v":0},0,0,0,0,0,"",null,null,0]
[42,42,{"$f":"INSERT!A44","v":0},{"$f":"INSERT!B44","v":0},{"$f":"INSERT!C44","v":0},{"$f":"INSERT!D44","v":0},{"$f":"INSERT!E44","v":0},{"$f":"TERM4!Z57","v":0},0,{"$f":"'FIN PAT MARK SHEET'!P59","v":0},{"$f":"'FIN PAT MARK SHEET'!Q59","v":0},{"$f":"'FIN PAT MARK SHEET'!T59","v":0},0,{"$f":"'FIN PAT MARK SHEET'!V59","v":0},{"$f":"'FIN PAT MARK SHEET'!W59","v":0},0,{"$f":"'FIN PAT MARK SHEET'!Y59","v":0},{"$f":"'FIN PAT MARK SHEET'!Z59","v":0},{"$f":"'FIN PAT MARK SHEET'!AA59","v":0},{"$f":"'FIN PAT MARK SHEET'!AB59","v":0},{"$f":"'FIN PAT MARK SHEET'!AC59","v":0},{"$f":"'FIN PAT MARK SHEET'!AD59","v":0},0,{"$f":"'SASAMS TERM3'!S50","v":0},0,0,0,0,{"$f":"TERM4!AA57","v":0},{"$f":"TERM4!AC57","v":0},0,{"$f":"'SASAMS TERM1'!K50","v":0},{"$f":"'SASAMS TERM2'!K50","v":0},{"$f":"'SASAMS TERM2'!L50","v":0},{"$f":"'SASAMS TERM3'!M50","v":0},0,0,0,0,0,"",null,null,0]
[43,43,{"$f":"INSERT!A45","v":0},{"$f":"INSERT!B45","v":0},{"$f":"INSERT!C45","v":0},{"$f":"INSERT!D45","v":0},{"$f":"INSERT!E45","v":0},{"$f":"TERM4!Z58","v":0},0,{"$f":"'FIN PAT MARK SHEET'!P60","v":0},{"$f":"'FIN PAT MARK SHEET'!Q60","v":0},{"$f":"'FIN PAT MARK SHEET'!T60","v":0},0,{"$f":"'FIN PAT MARK SHEET'!V60","v":0},{"$f":"'FIN PAT MARK SHEET'!W60","v":0},0,{"$f":"'FIN PAT MARK SHEET'!Y60","v":0},{"$f":"'FIN PAT MARK SHEET'!Z60","v":0},{"$f":"'FIN PAT MARK SHEET'!AA60","v":0},{"$f":"'FIN PAT MARK SHEET'!AB60","v":0},{"$f":"'FIN PAT MARK SHEET'!AC60","v":0},{"$f":"'FIN PAT MARK SHEET'!AD60","v":0},0,{"$f":"'SASAMS TERM3'!S51","v":0},0,0,0,0,{"$f":"TERM4!AA58","v":0},{"$f":"TERM4!AC58","v":0},0,{"$f":"'SASAMS TERM1'!K51","v":0},{"$f":"'SASAMS TERM2'!K51","v":0},{"$f":"'SASAMS TERM2'!L51","v":0},{"$f":"'SASAMS TERM3'!M51","v":0},0,0,0,0,0,"",null,null,0]
[44,44,{"$f":"INSERT!A46","v":0},{"$f":"INSERT!B46","v":0},{"$f":"INSERT!C46","v":0},{"$f":"INSERT!D46","v":0},{"$f":"INSERT!E46","v":0},{"$f":"TERM4!Z59","v":0},0,{"$f":"'FIN PAT MARK SHEET'!P61","v":0},{"$f":"'FIN PAT MARK SHEET'!Q61","v":0},{"$f":"'FIN PAT MARK SHEET'!T61","v":0},0,{"$f":"'FIN PAT MARK SHEET'!V61","v":0},{"$f":"'FIN PAT MARK SHEET'!W61","v":0},0,{"$f":"'FIN PAT MARK SHEET'!Y61","v":0},{"$f":"'FIN PAT MARK SHEET'!Z61","v":0},{"$f":"'FIN PAT MARK SHEET'!AA61","v":0},{"$f":"'FIN PAT MARK SHEET'!AB61","v":0},{"$f":"'FIN PAT MARK SHEET'!AC61","v":0},{"$f":"'FIN PAT MARK SHEET'!AD61","v":0},0,{"$f":"'SASAMS TERM3'!S52","v":0},0,0,0,0,{"$f":"TERM4!AA59","v":0},{"$f":"TERM4!AC59","v":0},0,{"$f":"'SASAMS TERM1'!K52","v":0},{"$f":"'SASAMS TERM2'!K52","v":0},{"$f":"'SASAMS TERM2'!L52","v":0},{"$f":"'SASAMS TERM3'!M52","v":0},0,0,0,0,0,"",null,null,0]
[45,45,{"$f":"INSERT!A47","v":0},{"$f":"INSERT!B47","v":0},{"$f":"INSERT!C47","v":0},{"$f":"INSERT!D47","v":0},{"$f":"INSERT!E47","v":0},{"$f":"TERM4!Z60","v":0},0,{"$f":"'FIN PAT MARK SHEET'!P62","v":0},{"$f":"'FIN PAT MARK SHEET'!Q62","v":0},{"$f":"'FIN PAT MARK SHEET'!T62","v":0},0,{"$f":"'FIN PAT MARK SHEET'!V62","v":0},{"$f":"'FIN PAT MARK SHEET'!W62","v":0},0,{"$f":"'FIN PAT MARK SHEET'!Y62","v":0},{"$f":"'FIN PAT MARK SHEET'!Z62","v":0},{"$f":"'FIN PAT MARK SHEET'!AA62","v":0},{"$f":"'FIN PAT MARK SHEET'!AB62","v":0},{"$f":"'FIN PAT MARK SHEET'!AC62","v":0},{"$f":"'FIN PAT MARK SHEET'!AD62","v":0},0,{"$f":"'SASAMS TERM3'!S53","v":0},0,0,0,0,{"$f":"TERM4!AA60","v":0},{"$f":"TERM4!AC60","v":0},0,{"$f":"'SASAMS TERM1'!K53","v":0},{"$f":"'SASAMS TERM2'!K53","v":0},{"$f":"'SASAMS TERM2'!L53","v":0},{"$f":"'SASAMS TERM3'!M53","v":0},0,0,0,0,0,"",null,null,0]
[46,46,{"$f":"INSERT!A48","v":0},{"$f":"INSERT!B48","v":0},{"$f":"INSERT!C48","v":0},{"$f":"INSERT!D48","v":0},{"$f":"INSERT!E48","v":0},{"$f":"TERM4!Z61","v":0},0,{"$f":"'FIN PAT MARK SHEET'!P63","v":0},{"$f":"'FIN PAT MARK SHEET'!Q63","v":0},{"$f":"'FIN PAT MARK SHEET'!T63","v":0},0,{"$f":"'FIN PAT MARK SHEET'!V63","v":0},{"$f":"'FIN PAT MARK SHEET'!W63","v":0},0,{"$f":"'FIN PAT MARK SHEET'!Y63","v":0},{"$f":"'FIN PAT MARK SHEET'!Z63","v":0},{"$f":"'FIN PAT MARK SHEET'!AA63","v":0},{"$f":"'FIN PAT MARK SHEET'!AB63","v":0},{"$f":"'FIN PAT MARK SHEET'!AC63","v":0},{"$f":"'FIN PAT MARK SHEET'!AD63","v":0},0,{"$f":"'SASAMS TERM3'!S54","v":0},0,0,0,0,{"$f":"TERM4!AA61","v":0},{"$f":"TERM4!AC61","v":0},0,{"$f":"'SASAMS TERM1'!K54","v":0},{"$f":"'SASAMS TERM2'!K54","v":0},{"$f":"'SASAMS TERM2'!L54","v":0},{"$f":"'SASAMS TERM3'!M54","v":0},0,0,0,0,0,"",null,null,0]
[47,47,{"$f":"INSERT!A49","v":0},{"$f":"INSERT!B49","v":0},{"$f":"INSERT!C49","v":0},{"$f":"INSERT!D49","v":0},{"$f":"INSERT!E49","v":0},{"$f":"TERM4!Z62","v":0},0,{"$f":"'FIN PAT MARK SHEET'!P64","v":0},{"$f":"'FIN PAT MARK SHEET'!Q64","v":0},{"$f":"'FIN PAT MARK SHEET'!T64","v":0},0,{"$f":"'FIN PAT MARK SHEET'!V64","v":0},{"$f":"'FIN PAT MARK SHEET'!W64","v":0},0,{"$f":"'FIN PAT MARK SHEET'!Y64","v":0},{"$f":"'FIN PAT MARK SHEET'!Z64","v":0},{"$f":"'FIN PAT MARK SHEET'!AA64","v":0},{"$f":"'FIN PAT MARK SHEET'!AB64","v":0},{"$f":"'FIN PAT MARK SHEET'!AC64","v":0},{"$f":"'FIN PAT MARK SHEET'!AD64","v":0},0,{"$f":"'SASAMS TERM3'!S55","v":0},0,0,0,0,{"$f":"TERM4!AA62","v":0},{"$f":"TERM4!AC62","v":0},0,{"$f":"'SASAMS TERM1'!K55","v":0},{"$f":"'SASAMS TERM2'!K55","v":0},{"$f":"'SASAMS TERM2'!L55","v":0},{"$f":"'SASAMS TERM3'!M55","v":0},0,0,0,0,0,"",null,null,0]
[48,48,{"$f":"INSERT!A50","v":0},{"$f":"INSERT!B50","v":0},{"$f":"INSERT!C50","v":0},{"$f":"INSERT!D50","v":0},{"$f":"INSERT!E50","v":0},{"$f":"TERM4!Z63","v":0},0,{"$f":"'FIN PAT MARK SHEET'!P65","v":0},{"$f":"'FIN PAT MARK SHEET'!Q65","v":0},{"$f":"'FIN PAT MARK SHEET'!T65","v":0},0,{"$f":"'FIN PAT MARK SHEET'!V65","v":0},{"$f":"'FIN PAT MARK SHEET'!W65","v":0},0,{"$f":"'FIN PAT MARK SHEET'!Y65","v":0},{"$f":"'FIN PAT MARK SHEET'!Z65","v":0},{"$f":"'FIN PAT MARK SHEET'!AA65","v":0},{"$f":"'FIN PAT MARK SHEET'!AB65","v":0},{"$f":"'FIN PAT MARK SHEET'!AC65","v":0},{"$f":"'FIN PAT MARK SHEET'!AD65","v":0},0,{"$f":"'SASAMS TERM3'!S56","v":0},0,0,0,0,{"$f":"TERM4!AA63","v":0},{"$f":"TERM4!AC63","v":0},0,{"$f":"'SASAMS TERM1'!K56","v":0},{"$f":"'SASAMS TERM2'!K56","v":0},{"$f":"'SASAMS TERM2'!L56","v":0},{"$f":"'SASAMS TERM3'!M56","v":0},0,0,0,0,0,"",null,null,0]
[49,49,{"$f":"INSERT!A51","v":0},{"$f":"INSERT!B51","v":0},{"$f":"INSERT!C51","v":0},{"$f":"INSERT!D51","v":0},{"$f":"INSERT!E51","v":0},{"$f":"TERM4!Z64","v":0},0,{"$f":"'FIN PAT MARK SHEET'!P66","v":0},{"$f":"'FIN PAT MARK SHEET'!Q66","v":0},{"$f":"'FIN PAT MARK SHEET'!T66","v":0},0,{"$f":"'FIN PAT MARK SHEET'!V66","v":0},{"$f":"'FIN PAT MARK SHEET'!W66","v":0},0,{"$f":"'FIN PAT MARK SHEET'!Y66","v":0},{"$f":"'FIN PAT MARK SHEET'!Z66","v":0},{"$f":"'FIN PAT MARK SHEET'!AA66","v":0},{"$f":"'FIN PAT MARK SHEET'!AB66","v":0},{"$f":"'FIN PAT MARK SHEET'!AC66","v":0},{"$f":"'FIN PAT MARK SHEET'!AD66","v":0},0,{"$f":"'SASAMS TERM3'!S57","v":0},0,0,0,0,{"$f":"TERM4!AA64","v":0},{"$f":"TERM4!AC64","v":0},0,{"$f":"'SASAMS TERM1'!K57","v":0},{"$f":"'SASAMS TERM2'!K57","v":0},{"$f":"'SASAMS TERM2'!L57","v":0},{"$f":"'SASAMS TERM3'!M57","v":0},0,0,0,0,0,"",null,null,0]
[50,50,{"$f":"INSERT!A52","v":0},{"$f":"INSERT!B52","v":0},{"$f":"INSERT!C52","v":0},{"$f":"INSERT!D52","v":0},{"$f":"INSERT!E52","v":0},{"$f":"TERM4!Z65","v":0},0,{"$f":"'FIN PAT MARK SHEET'!P67","v":0},{"$f":"'FIN PAT MARK SHEET'!Q67","v":0},{"$f":"'FIN PAT MARK SHEET'!T67","v":0},0,{"$f":"'FIN PAT MARK SHEET'!V67","v":0},{"$f":"'FIN PAT MARK SHEET'!W67","v":0},0,{"$f":"'FIN PAT MARK SHEET'!Y67","v":0},{"$f":"'FIN PAT MARK SHEET'!Z67","v":0},{"$f":"'FIN PAT MARK SHEET'!AA67","v":0},{"$f":"'FIN PAT MARK SHEET'!AB67","v":0},{"$f":"'FIN PAT MARK SHEET'!AC67","v":0},{"$f":"'FIN PAT MARK SHEET'!AD67","v":0},0,{"$f":"'SASAMS TERM3'!S58","v":0},0,0,0,0,{"$f":"TERM4!AA65","v":0},{"$f":"TERM4!AC65","v":0},0,{"$f":"'SASAMS TERM1'!K58","v":0},{"$f":"'SASAMS TERM2'!K58","v":0},{"$f":"'SASAMS TERM2'!L58","v":0},{"$f":"'SASAMS TERM3'!M58","v":0},0,0,0,0,0,"",null,null,0]
[51,51,{"$f":"INSERT!A53","v":0},{"$f":"INSERT!B53","v":0},{"$f":"INSERT!C53","v":0},{"$f":"INSERT!D53","v":0},{"$f":"INSERT!E53","v":0},{"$f":"TERM4!Z66","v":0},0,{"$f":"'FIN PAT MARK SHEET'!P68","v":0},{"$f":"'FIN PAT MARK SHEET'!Q68","v":0},{"$f":"'FIN PAT MARK SHEET'!T68","v":0},0,{"$f":"'FIN PAT MARK SHEET'!V68","v":0},{"$f":"'FIN PAT MARK SHEET'!W68","v":0},0,{"$f":"'FIN PAT MARK SHEET'!Y68","v":0},{"$f":"'FIN PAT MARK SHEET'!Z68","v":0},{"$f":"'FIN PAT MARK SHEET'!AA68","v":0},{"$f":"'FIN PAT MARK SHEET'!AB68","v":0},{"$f":"'FIN PAT MARK SHEET'!AC68","v":0},{"$f":"'FIN PAT MARK SHEET'!AD68","v":0},0,{"$f":"'SASAMS TERM3'!S59","v":0},0,0,0,0,{"$f":"TERM4!AA66","v":0},{"$f":"TERM4!AC66","v":0},0,{"$f":"'SASAMS TERM1'!K59","v":0},{"$f":"'SASAMS TERM2'!K59","v":0},{"$f":"'SASAMS TERM2'!L59","v":0},{"$f":"'SASAMS TERM3'!M59","v":0},0,0,0,0,0,"",null,null,0]
[52,52,{"$f":"INSERT!A54","v":0},{"$f":"INSERT!B54","v":0},{"$f":"INSERT!C54","v":0},{"$f":"INSERT!D54","v":0},{"$f":"INSERT!E54","v":0},{"$f":"TERM4!Z67","v":0},0,{"$f":"'FIN PAT MARK SHEET'!P69","v":0},{"$f":"'FIN PAT MARK SHEET'!Q69","v":0},{"$f":"'FIN PAT MARK SHEET'!T69","v":0},0,{"$f":"'FIN PAT MARK SHEET'!V69","v":0},{"$f":"'FIN PAT MARK SHEET'!W69","v":0},0,{"$f":"'FIN PAT MARK SHEET'!Y69","v":0},{"$f":"'FIN PAT MARK SHEET'!Z69","v":0},{"$f":"'FIN PAT MARK SHEET'!AA69","v":0},{"$f":"'FIN PAT MARK SHEET'!AB69","v":0},{"$f":"'FIN PAT MARK SHEET'!AC69","v":0},{"$f":"'FIN PAT MARK SHEET'!AD69","v":0},0,{"$f":"'SASAMS TERM3'!S60","v":0},0,0,0,0,{"$f":"TERM4!AA67","v":0},{"$f":"TERM4!AC67","v":0},0,{"$f":"'SASAMS TERM1'!K60","v":0},{"$f":"'SASAMS TERM2'!K60","v":0},{"$f":"'SASAMS TERM2'!L60","v":0},{"$f":"'SASAMS TERM3'!M60","v":0},0,0,0,0,0,"",null,null,0]
[53,53,{"$f":"INSERT!A55","v":0},{"$f":"INSERT!B55","v":0},{"$f":"INSERT!C55","v":0},{"$f":"INSERT!D55","v":0},{"$f":"INSERT!E55","v":0},{"$f":"TERM4!Z68","v":0},0,{"$f":"'FIN PAT MARK SHEET'!P70","v":0},{"$f":"'FIN PAT MARK SHEET'!Q70","v":0},{"$f":"'FIN PAT MARK SHEET'!T70","v":0},0,{"$f":"'FIN PAT MARK SHEET'!V70","v":0},{"$f":"'FIN PAT MARK SHEET'!W70","v":0},0,{"$f":"'FIN PAT MARK SHEET'!Y70","v":0},{"$f":"'FIN PAT MARK SHEET'!Z70","v":0},{"$f":"'FIN PAT MARK SHEET'!AA70","v":0},{"$f":"'FIN PAT MARK SHEET'!AB70","v":0},{"$f":"'FIN PAT MARK SHEET'!AC70","v":0},{"$f":"'FIN PAT MARK SHEET'!AD70","v":0},0,{"$f":"'SASAMS TERM3'!S61","v":0},0,0,0,0,{"$f":"TERM4!AA68","v":0},{"$f":"TERM4!AC68","v":0},0,{"$f":"'SASAMS TERM1'!K61","v":0},{"$f":"'SASAMS TERM2'!K61","v":0},{"$f":"'SASAMS TERM2'!L61","v":0},{"$f":"'SASAMS TERM3'!M61","v":0},0,0,0,0,0,"",null,null,0]
[54,54,{"$f":"INSERT!A56","v":0},{"$f":"INSERT!B56","v":0},{"$f":"INSERT!C56","v":0},{"$f":"INSERT!D56","v":0},{"$f":"INSERT!E56","v":0},{"$f":"TERM4!Z69","v":0},0,{"$f":"'FIN PAT MARK SHEET'!P71","v":0},{"$f":"'FIN PAT MARK SHEET'!Q71","v":0},{"$f":"'FIN PAT MARK SHEET'!T71","v":0},0,{"$f":"'FIN PAT MARK SHEET'!V71","v":0},{"$f":"'FIN PAT MARK SHEET'!W71","v":0},0,{"$f":"'FIN PAT MARK SHEET'!Y71","v":0},{"$f":"'FIN PAT MARK SHEET'!Z71","v":0},{"$f":"'FIN PAT MARK SHEET'!AA71","v":0},{"$f":"'FIN PAT MARK SHEET'!AB71","v":0},{"$f":"'FIN PAT MARK SHEET'!AC71","v":0},{"$f":"'FIN PAT MARK SHEET'!AD71","v":0},0,{"$f":"'SASAMS TERM3'!S62","v":0},0,0,0,0,{"$f":"TERM4!AA69","v":0},{"$f":"TERM4!AC69","v":0},0,{"$f":"'SASAMS TERM1'!K62","v":0},{"$f":"'SASAMS TERM2'!K62","v":0},{"$f":"'SASAMS TERM2'!L62","v":0},{"$f":"'SASAMS TERM3'!M62","v":0},0,0,0,0,0,"",null,null,0]
[55,55,{"$f":"INSERT!A57","v":0},{"$f":"INSERT!B57","v":0},{"$f":"INSERT!C57","v":0},{"$f":"INSERT!D57","v":0},{"$f":"INSERT!E57","v":0},{"$f":"TERM4!Z70","v":0},0,{"$f":"'FIN PAT MARK SHEET'!P72","v":0},{"$f":"'FIN PAT MARK SHEET'!Q72","v":0},{"$f":"'FIN PAT MARK SHEET'!T72","v":0},0,{"$f":"'FIN PAT MARK SHEET'!V72","v":0},{"$f":"'FIN PAT MARK SHEET'!W72","v":0},0,{"$f":"'FIN PAT MARK SHEET'!Y72","v":0},{"$f":"'FIN PAT MARK SHEET'!Z72","v":0},{"$f":"'FIN PAT MARK SHEET'!AA72","v":0},{"$f":"'FIN PAT MARK SHEET'!AB72","v":0},{"$f":"'FIN PAT MARK SHEET'!AC72","v":0},{"$f":"'FIN PAT MARK SHEET'!AD72","v":0},0,{"$f":"'SASAMS TERM3'!S63","v":0},0,0,0,0,{"$f":"TERM4!AA70","v":0},{"$f":"TERM4!AC70","v":0},0,{"$f":"'SASAMS TERM1'!K63","v":0},{"$f":"'SASAMS TERM2'!K63","v":0},{"$f":"'SASAMS TERM2'!L63","v":0},{"$f":"'SASAMS TERM3'!M63","v":0},0,0,0,0,0,"",null,null,0]
[56,56,{"$f":"INSERT!A58","v":0},{"$f":"INSERT!B58","v":0},{"$f":"INSERT!C58","v":0},{"$f":"INSERT!D58","v":0},{"$f":"INSERT!E58","v":0},{"$f":"TERM4!Z71","v":0},0,{"$f":"'FIN PAT MARK SHEET'!P73","v":0},{"$f":"'FIN PAT MARK SHEET'!Q73","v":0},{"$f":"'FIN PAT MARK SHEET'!T73","v":0},0,{"$f":"'FIN PAT MARK SHEET'!V73","v":0},{"$f":"'FIN PAT MARK SHEET'!W73","v":0},0,{"$f":"'FIN PAT MARK SHEET'!Y73","v":0},{"$f":"'FIN PAT MARK SHEET'!Z73","v":0},{"$f":"'FIN PAT MARK SHEET'!AA73","v":0},{"$f":"'FIN PAT MARK SHEET'!AB73","v":0},{"$f":"'FIN PAT MARK SHEET'!AC73","v":0},{"$f":"'FIN PAT MARK SHEET'!AD73","v":0},0,{"$f":"'SASAMS TERM3'!S64","v":0},0,0,0,0,{"$f":"TERM4!AA71","v":0},{"$f":"TERM4!AC71","v":0},0,{"$f":"'SASAMS TERM1'!K64","v":0},{"$f":"'SASAMS TERM2'!K64","v":0},{"$f":"'SASAMS TERM2'!L64","v":0},{"$f":"'SASAMS TERM3'!M64","v":0},0,0,0,0,0,"",null,null,0]
[57,57,{"$f":"INSERT!A59","v":0},{"$f":"INSERT!B59","v":0},{"$f":"INSERT!C59","v":0},{"$f":"INSERT!D59","v":0},{"$f":"INSERT!E59","v":0},{"$f":"TERM4!Z72","v":0},0,{"$f":"'FIN PAT MARK SHEET'!P74","v":0},{"$f":"'FIN PAT MARK SHEET'!Q74","v":0},{"$f":"'FIN PAT MARK SHEET'!T74","v":0},0,{"$f":"'FIN PAT MARK SHEET'!V74","v":0},{"$f":"'FIN PAT MARK SHEET'!W74","v":0},0,{"$f":"'FIN PAT MARK SHEET'!Y74","v":0},{"$f":"'FIN PAT MARK SHEET'!Z74","v":0},{"$f":"'FIN PAT MARK SHEET'!AA74","v":0},{"$f":"'FIN PAT MARK SHEET'!AB74","v":0},{"$f":"'FIN PAT MARK SHEET'!AC74","v":0},{"$f":"'FIN PAT MARK SHEET'!AD74","v":0},0,{"$f":"'SASAMS TERM3'!S65","v":0},0,0,0,0,{"$f":"TERM4!AA72","v":0},{"$f":"TERM4!AC72","v":0},0,{"$f":"'SASAMS TERM1'!K65","v":0},{"$f":"'SASAMS TERM2'!K65","v":0},{"$f":"'SASAMS TERM2'!L65","v":0},{"$f":"'SASAMS TERM3'!M65","v":0},0,0,0,0,0,"",null,null,0]
[58,58,{"$f":"INSERT!A60","v":0},{"$f":"INSERT!B60","v":0},{"$f":"INSERT!C60","v":0},{"$f":"INSERT!D60","v":0},{"$f":"INSERT!E60","v":0},{"$f":"TERM4!Z73","v":0},0,{"$f":"'FIN PAT MARK SHEET'!P75","v":0},{"$f":"'FIN PAT MARK SHEET'!Q75","v":0},{"$f":"'FIN PAT MARK SHEET'!T75","v":0},0,{"$f":"'FIN PAT MARK SHEET'!V75","v":0},{"$f":"'FIN PAT MARK SHEET'!W75","v":0},0,{"$f":"'FIN PAT MARK SHEET'!Y75","v":0},{"$f":"'FIN PAT MARK SHEET'!Z75","v":0},{"$f":"'FIN PAT MARK SHEET'!AA75","v":0},{"$f":"'FIN PAT MARK SHEET'!AB75","v":0},{"$f":"'FIN PAT MARK SHEET'!AC75","v":0},{"$f":"'FIN PAT MARK SHEET'!AD75","v":0},0,{"$f":"'SASAMS TERM3'!S66","v":0},0,0,0,0,{"$f":"TERM4!AA73","v":0},{"$f":"TERM4!AC73","v":0},0,{"$f":"'SASAMS TERM1'!K66","v":0},{"$f":"'SASAMS TERM2'!K66","v":0},{"$f":"'SASAMS TERM2'!L66","v":0},{"$f":"'SASAMS TERM3'!M66","v":0},0,0,0,0,0,"",null,null,0]
[59,59,{"$f":"INSERT!A61","v":0},{"$f":"INSERT!B61","v":0},{"$f":"INSERT!C61","v":0},{"$f":"INSERT!D61","v":0},{"$f":"INSERT!E61","v":0},{"$f":"TERM4!Z74","v":0},0,{"$f":"'FIN PAT MARK SHEET'!P76","v":0},{"$f":"'FIN PAT MARK SHEET'!Q76","v":0},{"$f":"'FIN PAT MARK SHEET'!T76","v":0},0,{"$f":"'FIN PAT MARK SHEET'!V76","v":0},{"$f":"'FIN PAT MARK SHEET'!W76","v":0},0,{"$f":"'FIN PAT MARK SHEET'!Y76","v":0},{"$f":"'FIN PAT MARK SHEET'!Z76","v":0},{"$f":"'FIN PAT MARK SHEET'!AA76","v":0},{"$f":"'FIN PAT MARK SHEET'!AB76","v":0},{"$f":"'FIN PAT MARK SHEET'!AC76","v":0},{"$f":"'FIN PAT MARK SHEET'!AD76","v":0},0,{"$f":"'SASAMS TERM3'!S67","v":0},0,0,0,0,{"$f":"TERM4!AA74","v":0},{"$f":"TERM4!AC74","v":0},0,{"$f":"'SASAMS TERM1'!K67","v":0},{"$f":"'SASAMS TERM2'!K67","v":0},{"$f":"'SASAMS TERM2'!L67","v":0},{"$f":"'SASAMS TERM3'!M67","v":0},0,0,0,0,0,"",null,null,0]
[60,60,{"$f":"INSERT!A62","v":0},{"$f":"INSERT!B62","v":0},{"$f":"INSERT!C62","v":0},{"$f":"INSERT!D62","v":0},{"$f":"INSERT!E62","v":0},{"$f":"TERM4!Z75","v":0},0,{"$f":"'FIN PAT MARK SHEET'!P77","v":0},{"$f":"'FIN PAT MARK SHEET'!Q77","v":0},{"$f":"'FIN PAT MARK SHEET'!T77","v":0},0,{"$f":"'FIN PAT MARK SHEET'!V77","v":0},{"$f":"'FIN PAT MARK SHEET'!W77","v":0},0,{"$f":"'FIN PAT MARK SHEET'!Y77","v":0},{"$f":"'FIN PAT MARK SHEET'!Z77","v":0},{"$f":"'FIN PAT MARK SHEET'!AA77","v":0},{"$f":"'FIN PAT MARK SHEET'!AB77","v":0},{"$f":"'FIN PAT MARK SHEET'!AC77","v":0},{"$f":"'FIN PAT MARK SHEET'!AD77","v":0},0,{"$f":"'SASAMS TERM3'!S68","v":0},0,0,0,0,{"$f":"TERM4!AA75","v":0},{"$f":"TERM4!AC75","v":0},0,{"$f":"'SASAMS TERM1'!K68","v":0},{"$f":"'SASAMS TERM2'!K68","v":0},{"$f":"'SASAMS TERM2'!L68","v":0},{"$f":"'SASAMS TERM3'!M68","v":0},0,0,0,0,0,"",null,null,0]
[61,61,{"$f":"INSERT!A63","v":0},{"$f":"INSERT!B63","v":0},{"$f":"INSERT!C63","v":0},{"$f":"INSERT!D63","v":0},{"$f":"INSERT!E63","v":0},{"$f":"TERM4!Z76","v":0},0,{"$f":"'FIN PAT MARK SHEET'!P78","v":0},{"$f":"'FIN PAT MARK SHEET'!Q78","v":0},{"$f":"'FIN PAT MARK SHEET'!T78","v":0},0,{"$f":"'FIN PAT MARK SHEET'!V78","v":0},{"$f":"'FIN PAT MARK SHEET'!W78","v":0},0,{"$f":"'FIN PAT MARK SHEET'!Y78","v":0},{"$f":"'FIN PAT MARK SHEET'!Z78","v":0},{"$f":"'FIN PAT MARK SHEET'!AA78","v":0},{"$f":"'FIN PAT MARK SHEET'!AB78","v":0},{"$f":"'FIN PAT MARK SHEET'!AC78","v":0},{"$f":"'FIN PAT MARK SHEET'!AD78","v":0},0,{"$f":"'SASAMS TERM3'!S69","v":0},0,0,0,0,{"$f":"TERM4!AA76","v":0},{"$f":"TERM4!AC76","v":0},0,{"$f":"'SASAMS TERM1'!K69","v":0},{"$f":"'SASAMS TERM2'!K69","v":0},{"$f":"'SASAMS TERM2'!L69","v":0},{"$f":"'SASAMS TERM3'!M69","v":0},0,0,0,0,0,"",null,null,0]
[62,62,{"$f":"INSERT!A64","v":0},{"$f":"INSERT!B64","v":0},{"$f":"INSERT!C64","v":0},{"$f":"INSERT!D64","v":0},{"$f":"INSERT!E64","v":0},{"$f":"TERM4!Z77","v":0},0,{"$f":"'FIN PAT MARK SHEET'!P79","v":0},{"$f":"'FIN PAT MARK SHEET'!Q79","v":0},{"$f":"'FIN PAT MARK SHEET'!T79","v":0},0,{"$f":"'FIN PAT MARK SHEET'!V79","v":0},{"$f":"'FIN PAT MARK SHEET'!W79","v":0},0,{"$f":"'FIN PAT MARK SHEET'!Y79","v":0},{"$f":"'FIN PAT MARK SHEET'!Z79","v":0},{"$f":"'FIN PAT MARK SHEET'!AA79","v":0},{"$f":"'FIN PAT MARK SHEET'!AB79","v":0},{"$f":"'FIN PAT MARK SHEET'!AC79","v":0},{"$f":"'FIN PAT MARK SHEET'!AD79","v":0},0,{"$f":"'SASAMS TERM3'!S70","v":0},0,0,0,0,{"$f":"TERM4!AA77","v":0},{"$f":"TERM4!AC77","v":0},0,{"$f":"'SASAMS TERM1'!K70","v":0},{"$f":"'SASAMS TERM2'!K70","v":0},{"$f":"'SASAMS TERM2'!L70","v":0},{"$f":"'SASAMS TERM3'!M70","v":0},0,0,0,0,0,"",null,null,0]
[63,63,{"$f":"INSERT!A65","v":0},{"$f":"INSERT!B65","v":0},{"$f":"INSERT!C65","v":0},{"$f":"INSERT!D65","v":0},{"$f":"INSERT!E65","v":0},{"$f":"TERM4!Z78","v":0},0,{"$f":"'FIN PAT MARK SHEET'!P80","v":0},{"$f":"'FIN PAT MARK SHEET'!Q80","v":0},{"$f":"'FIN PAT MARK SHEET'!T80","v":0},0,{"$f":"'FIN PAT MARK SHEET'!V80","v":0},{"$f":"'FIN PAT MARK SHEET'!W80","v":0},0,{"$f":"'FIN PAT MARK SHEET'!Y80","v":0},{"$f":"'FIN PAT MARK SHEET'!Z80","v":0},{"$f":"'FIN PAT MARK SHEET'!AA80","v":0},{"$f":"'FIN PAT MARK SHEET'!AB80","v":0},{"$f":"'FIN PAT MARK SHEET'!AC80","v":0},{"$f":"'FIN PAT MARK SHEET'!AD80","v":0},0,{"$f":"'SASAMS TERM3'!S71","v":0},0,0,0,0,{"$f":"TERM4!AA78","v":0},{"$f":"TERM4!AC78","v":0},0,{"$f":"'SASAMS TERM1'!K71","v":0},{"$f":"'SASAMS TERM2'!K71","v":0},{"$f":"'SASAMS TERM2'!L71","v":0},{"$f":"'SASAMS TERM3'!M71","v":0},0,0,0,0,0,"",null,null,0]
[64,64,{"$f":"INSERT!A66","v":0},{"$f":"INSERT!B66","v":0},{"$f":"INSERT!C66","v":0},{"$f":"INSERT!D66","v":0},{"$f":"INSERT!E66","v":0},{"$f":"TERM4!Z79","v":0},0,{"$f":"'FIN PAT MARK SHEET'!P81","v":0},{"$f":"'FIN PAT MARK SHEET'!Q81","v":0},{"$f":"'FIN PAT MARK SHEET'!T81","v":0},0,{"$f":"'FIN PAT MARK SHEET'!V81","v":0},{"$f":"'FIN PAT MARK SHEET'!W81","v":0},0,{"$f":"'FIN PAT MARK SHEET'!Y81","v":0},{"$f":"'FIN PAT MARK SHEET'!Z81","v":0},{"$f":"'FIN PAT MARK SHEET'!AA81","v":0},{"$f":"'FIN PAT MARK SHEET'!AB81","v":0},{"$f":"'FIN PAT MARK SHEET'!AC81","v":0},{"$f":"'FIN PAT MARK SHEET'!AD81","v":0},0,{"$f":"'SASAMS TERM3'!S72","v":0},0,0,0,0,{"$f":"TERM4!AA79","v":0},{"$f":"TERM4!AC79","v":0},0,{"$f":"'SASAMS TERM1'!K72","v":0},{"$f":"'SASAMS TERM2'!K72","v":0},{"$f":"'SASAMS TERM2'!L72","v":0},{"$f":"'SASAMS TERM3'!M72","v":0},0,0,0,0,0,"",null,null,0]
[65,65,{"$f":"INSERT!A67","v":0},{"$f":"INSERT!B67","v":0},{"$f":"INSERT!C67","v":0},{"$f":"INSERT!D67","v":0},{"$f":"INSERT!E67","v":0},{"$f":"TERM4!Z80","v":0},0,{"$f":"'FIN PAT MARK SHEET'!P82","v":0},{"$f":"'FIN PAT MARK SHEET'!Q82","v":0},{"$f":"'FIN PAT MARK SHEET'!T82","v":0},0,{"$f":"'FIN PAT MARK SHEET'!V82","v":0},{"$f":"'FIN PAT MARK SHEET'!W82","v":0},0,{"$f":"'FIN PAT MARK SHEET'!Y82","v":0},{"$f":"'FIN PAT MARK SHEET'!Z82","v":0},{"$f":"'FIN PAT MARK SHEET'!AA82","v":0},{"$f":"'FIN PAT MARK SHEET'!AB82","v":0},{"$f":"'FIN PAT MARK SHEET'!AC82","v":0},{"$f":"'FIN PAT MARK SHEET'!AD82","v":0},{"$f":"IF(AR73=4,SUMIF(Q73:T73,\">0\")/1.6,IF(AR73=6,SUMIF(Q73:V73,\">0\")/2.4,SUMIF(Q73:V73,\">0\")))","v":0},{"$f":"'SASAMS TERM3'!S73","v":0},{"$f":"M73","v":0},{"$f":"P73","v":0},{"$f":"W73","v":0},0,{"$f":"TERM4!AA80","v":0},{"$f":"TERM4!AC80","v":0},0,{"$f":"'SASAMS TERM1'!K73","v":0},{"$f":"'SASAMS TERM2'!K73","v":0},{"$f":"'SASAMS TERM2'!L73","v":0},{"$f":"'SASAMS TERM3'!M73","v":0},{"$f":"I73","v":0},{"$f":"SUM(AF73:AJ73)","v":0},0,0,0,{"$f":"IF(AM73>79,\"7\",IF(AM73>69,\"6\",IF(AM73>59,\"5\",IF(AM73>49,\"4\",IF(AM73>39,\"3\",IF(AM73>29,\"2\",IF(AM73>0,\"1\",IF(AM73=0,\"\"))))))))","v":""},null,null,{"$f":"COUNTIF(Q73:V73,\">0\")","v":0}]
[66,66,{"$f":"INSERT!A68","v":0},{"$f":"INSERT!B68","v":0},{"$f":"INSERT!C68","v":0},{"$f":"INSERT!D68","v":0},{"$f":"INSERT!E68","v":0},{"$f":"TERM4!Z81","v":0},{"$f":"H74","v":0},{"$f":"'FIN PAT MARK SHEET'!P83","v":0},{"$f":"'FIN PAT MARK SHEET'!Q83","v":0},{"$f":"'FIN PAT MARK SHEET'!T83","v":0},{"$f":"SUM(J74:L74)/1.2","v":0},{"$f":"'FIN PAT MARK SHEET'!V83","v":0},{"$f":"'FIN PAT MARK SHEET'!W83","v":0},{"$f":"SUM(N74:O74)/1.428571428","v":0},{"$f":"'FIN PAT MARK SHEET'!Y83","v":0},{"$f":"'FIN PAT MARK SHEET'!Z83","v":0},{"$f":"'FIN PAT MARK SHEET'!AA83","v":0},{"$f":"'FIN PAT MARK SHEET'!AB83","v":0},{"$f":"'FIN PAT MARK SHEET'!AC83","v":0},{"$f":"'FIN PAT MARK SHEET'!AD83","v":0},0,{"$f":"'SASAMS TERM3'!S74","v":0},0,0,0,{"$f":"SUM(X74:AA74)","v":0},{"$f":"TERM4!AA81","v":0},{"$f":"TERM4!AC81","v":0},{"$f":"ROUND((SUM(AC74:AD74)/2),0)","v":0},{"$f":"'SASAMS TERM1'!K74","v":0},{"$f":"'SASAMS TERM2'!K74","v":0},{"$f":"'SASAMS TERM2'!L74","v":0},{"$f":"'SASAMS TERM3'!M74","v":0},0,0,{"$f":"ROUND((SUM(AF74/3)+SUM(AG74/3)+SUM(AH74/2.5)+SUM(AI74/2.94117647)+SUM(AJ74/3.333333333)),0)","v":0},{"$f":"SUM(AB74/5)+SUM(AE74/2.5)+SUM(AL74/2.5)","v":0},{"$f":"ROUND(AM74,0)","v":0},"",null,null,0]
[67,67,{"$f":"INSERT!A69","v":0},{"$f":"INSERT!B69","v":0},{"$f":"INSERT!C69","v":0},{"$f":"INSERT!D69","v":0},{"$f":"INSERT!E69","v":0},{"$f":"TERM4!Z82","v":0},0,{"$f":"'FIN PAT MARK SHEET'!P84","v":0},{"$f":"'FIN PAT MARK SHEET'!Q84","v":0},{"$f":"'FIN PAT MARK SHEET'!T84","v":0},0,{"$f":"'FIN PAT MARK SHEET'!V84","v":0},{"$f":"'FIN PAT MARK SHEET'!W84","v":0},0,{"$f":"'FIN PAT MARK SHEET'!Y84","v":0},{"$f":"'FIN PAT MARK SHEET'!Z84","v":0},{"$f":"'FIN PAT MARK SHEET'!AA84","v":0},{"$f":"'FIN PAT MARK SHEET'!AB84","v":0},{"$f":"'FIN PAT MARK SHEET'!AC84","v":0},{"$f":"'FIN PAT MARK SHEET'!AD84","v":0},0,{"$f":"'SASAMS TERM3'!S75","v":0},0,0,0,0,{"$f":"TERM4!AA82","v":0},{"$f":"TERM4!AC82","v":0},0,{"$f":"'SASAMS TERM1'!K75","v":0},{"$f":"'SASAMS TERM2'!K75","v":0},{"$f":"'SASAMS TERM2'!L75","v":0},{"$f":"'SASAMS TERM3'!M75","v":0},0,0,0,0,0,"",null,null,0]
[68,68,{"$f":"INSERT!A70","v":0},{"$f":"INSERT!B70","v":0},{"$f":"INSERT!C70","v":0},{"$f":"INSERT!D70","v":0},{"$f":"INSERT!E70","v":0},{"$f":"TERM4!Z83","v":0},0,{"$f":"'FIN PAT MARK SHEET'!P85","v":0},{"$f":"'FIN PAT MARK SHEET'!Q85","v":0},{"$f":"'FIN PAT MARK SHEET'!T85","v":0},0,{"$f":"'FIN PAT MARK SHEET'!V85","v":0},{"$f":"'FIN PAT MARK SHEET'!W85","v":0},0,{"$f":"'FIN PAT MARK SHEET'!Y85","v":0},{"$f":"'FIN PAT MARK SHEET'!Z85","v":0},{"$f":"'FIN PAT MARK SHEET'!AA85","v":0},{"$f":"'FIN PAT MARK SHEET'!AB85","v":0},{"$f":"'FIN PAT MARK SHEET'!AC85","v":0},{"$f":"'FIN PAT MARK SHEET'!AD85","v":0},0,{"$f":"'SASAMS TERM3'!S76","v":0},0,0,0,0,{"$f":"TERM4!AA83","v":0},{"$f":"TERM4!AC83","v":0},0,{"$f":"'SASAMS TERM1'!K76","v":0},{"$f":"'SASAMS TERM2'!K76","v":0},{"$f":"'SASAMS TERM2'!L76","v":0},{"$f":"'SASAMS TERM3'!M76","v":0},0,0,0,0,0,"",null,null,0]
[69,69,{"$f":"INSERT!A71","v":0},{"$f":"INSERT!B71","v":0},{"$f":"INSERT!C71","v":0},{"$f":"INSERT!D71","v":0},{"$f":"INSERT!E71","v":0},{"$f":"TERM4!Z84","v":0},0,{"$f":"'FIN PAT MARK SHEET'!P86","v":0},{"$f":"'FIN PAT MARK SHEET'!Q86","v":0},{"$f":"'FIN PAT MARK SHEET'!T86","v":0},0,{"$f":"'FIN PAT MARK SHEET'!V86","v":0},{"$f":"'FIN PAT MARK SHEET'!W86","v":0},0,{"$f":"'FIN PAT MARK SHEET'!Y86","v":0},{"$f":"'FIN PAT MARK SHEET'!Z86","v":0},{"$f":"'FIN PAT MARK SHEET'!AA86","v":0},{"$f":"'FIN PAT MARK SHEET'!AB86","v":0},{"$f":"'FIN PAT MARK SHEET'!AC86","v":0},{"$f":"'FIN PAT MARK SHEET'!AD86","v":0},0,{"$f":"'SASAMS TERM3'!S77","v":0},0,0,0,0,{"$f":"TERM4!AA84","v":0},{"$f":"TERM4!AC84","v":0},0,{"$f":"'SASAMS TERM1'!K77","v":0},{"$f":"'SASAMS TERM2'!K77","v":0},{"$f":"'SASAMS TERM2'!L77","v":0},{"$f":"'SASAMS TERM3'!M77","v":0},0,0,0,0,0,"",null,null,0]
[70,70,{"$f":"INSERT!A72","v":0},{"$f":"INSERT!B72","v":0},{"$f":"INSERT!C72","v":0},{"$f":"INSERT!D72","v":0},{"$f":"INSERT!E72","v":0},{"$f":"TERM4!Z85","v":0},0,{"$f":"'FIN PAT MARK SHEET'!P87","v":0},{"$f":"'FIN PAT MARK SHEET'!Q87","v":0},{"$f":"'FIN PAT MARK SHEET'!T87","v":0},0,{"$f":"'FIN PAT MARK SHEET'!V87","v":0},{"$f":"'FIN PAT MARK SHEET'!W87","v":0},0,{"$f":"'FIN PAT MARK SHEET'!Y87","v":0},{"$f":"'FIN PAT MARK SHEET'!Z87","v":0},{"$f":"'FIN PAT MARK SHEET'!AA87","v":0},{"$f":"'FIN PAT MARK SHEET'!AB87","v":0},{"$f":"'FIN PAT MARK SHEET'!AC87","v":0},{"$f":"'FIN PAT MARK SHEET'!AD87","v":0},0,{"$f":"'SASAMS TERM3'!S78","v":0},0,0,0,0,{"$f":"TERM4!AA85","v":0},{"$f":"TERM4!AC85","v":0},0,{"$f":"'SASAMS TERM1'!K78","v":0},{"$f":"'SASAMS TERM2'!K78","v":0},{"$f":"'SASAMS TERM2'!L78","v":0},{"$f":"'SASAMS TERM3'!M78","v":0},0,0,0,0,0,"",null,null,0]
[71,71,{"$f":"INSERT!A73","v":0},{"$f":"INSERT!B73","v":0},{"$f":"INSERT!C73","v":0},{"$f":"INSERT!D73","v":0},{"$f":"INSERT!E73","v":0},{"$f":"TERM4!Z86","v":0},0,{"$f":"'FIN PAT MARK SHEET'!P88","v":0},{"$f":"'FIN PAT MARK SHEET'!Q88","v":0},{"$f":"'FIN PAT MARK SHEET'!T88","v":0},0,{"$f":"'FIN PAT MARK SHEET'!V88","v":0},{"$f":"'FIN PAT MARK SHEET'!W88","v":0},0,{"$f":"'FIN PAT MARK SHEET'!Y88","v":0},{"$f":"'FIN PAT MARK SHEET'!Z88","v":0},{"$f":"'FIN PAT MARK SHEET'!AA88","v":0},{"$f":"'FIN PAT MARK SHEET'!AB88","v":0},{"$f":"'FIN PAT MARK SHEET'!AC88","v":0},{"$f":"'FIN PAT MARK SHEET'!AD88","v":0},0,{"$f":"'SASAMS TERM3'!S79","v":0},0,0,0,0,{"$f":"TERM4!AA86","v":0},{"$f":"TERM4!AC86","v":0},0,{"$f":"'SASAMS TERM1'!K79","v":0},{"$f":"'SASAMS TERM2'!K79","v":0},{"$f":"'SASAMS TERM2'!L79","v":0},{"$f":"'SASAMS TERM3'!M79","v":0},0,0,0,0,0,"",null,null,0]
[72,72,{"$f":"INSERT!A74","v":0},{"$f":"INSERT!B74","v":0},{"$f":"INSERT!C74","v":0},{"$f":"INSERT!D74","v":0},{"$f":"INSERT!E74","v":0},{"$f":"TERM4!Z87","v":0},0,{"$f":"'FIN PAT MARK SHEET'!P89","v":0},{"$f":"'FIN PAT MARK SHEET'!Q89","v":0},{"$f":"'FIN PAT MARK SHEET'!T89","v":0},0,{"$f":"'FIN PAT MARK SHEET'!V89","v":0},{"$f":"'FIN PAT MARK SHEET'!W89","v":0},0,{"$f":"'FIN PAT MARK SHEET'!Y89","v":0},{"$f":"'FIN PAT MARK SHEET'!Z89","v":0},{"$f":"'FIN PAT MARK SHEET'!AA89","v":0},{"$f":"'FIN PAT MARK SHEET'!AB89","v":0},{"$f":"'FIN PAT MARK SHEET'!AC89","v":0},{"$f":"'FIN PAT MARK SHEET'!AD89","v":0},0,{"$f":"'SASAMS TERM3'!S80","v":0},0,0,0,0,{"$f":"TERM4!AA87","v":0},{"$f":"TERM4!AC87","v":0},0,{"$f":"'SASAMS TERM1'!K80","v":0},{"$f":"'SASAMS TERM2'!K80","v":0},{"$f":"'SASAMS TERM2'!L80","v":0},{"$f":"'SASAMS TERM3'!M80","v":0},0,0,0,0,0,"",null,null,0]
[73,73,{"$f":"INSERT!A75","v":0},{"$f":"INSERT!B75","v":0},{"$f":"INSERT!C75","v":0},{"$f":"INSERT!D75","v":0},{"$f":"INSERT!E75","v":0},{"$f":"TERM4!Z88","v":0},0,{"$f":"'FIN PAT MARK SHEET'!P90","v":0},{"$f":"'FIN PAT MARK SHEET'!Q90","v":0},{"$f":"'FIN PAT MARK SHEET'!T90","v":0},0,{"$f":"'FIN PAT MARK SHEET'!V90","v":0},{"$f":"'FIN PAT MARK SHEET'!W90","v":0},0,{"$f":"'FIN PAT MARK SHEET'!Y90","v":0},{"$f":"'FIN PAT MARK SHEET'!Z90","v":0},{"$f":"'FIN PAT MARK SHEET'!AA90","v":0},{"$f":"'FIN PAT MARK SHEET'!AB90","v":0},{"$f":"'FIN PAT MARK SHEET'!AC90","v":0},{"$f":"'FIN PAT MARK SHEET'!AD90","v":0},0,{"$f":"'SASAMS TERM3'!S81","v":0},0,0,0,0,{"$f":"TERM4!AA88","v":0},{"$f":"TERM4!AC88","v":0},0,{"$f":"'SASAMS TERM1'!K81","v":0},{"$f":"'SASAMS TERM2'!K81","v":0},{"$f":"'SASAMS TERM2'!L81","v":0},{"$f":"'SASAMS TERM3'!M81","v":0},0,0,0,0,0,"",null,null,0]
[74,74,{"$f":"INSERT!A76","v":0},{"$f":"INSERT!B76","v":0},{"$f":"INSERT!C76","v":0},{"$f":"INSERT!D76","v":0},{"$f":"INSERT!E76","v":0},{"$f":"TERM4!Z89","v":0},0,{"$f":"'FIN PAT MARK SHEET'!P91","v":0},{"$f":"'FIN PAT MARK SHEET'!Q91","v":0},{"$f":"'FIN PAT MARK SHEET'!T91","v":0},0,{"$f":"'FIN PAT MARK SHEET'!V91","v":0},{"$f":"'FIN PAT MARK SHEET'!W91","v":0},0,{"$f":"'FIN PAT MARK SHEET'!Y91","v":0},{"$f":"'FIN PAT MARK SHEET'!Z91","v":0},{"$f":"'FIN PAT MARK SHEET'!AA91","v":0},{"$f":"'FIN PAT MARK SHEET'!AB91","v":0},{"$f":"'FIN PAT MARK SHEET'!AC91","v":0},{"$f":"'FIN PAT MARK SHEET'!AD91","v":0},0,{"$f":"'SASAMS TERM3'!S82","v":0},0,0,0,0,{"$f":"TERM4!AA89","v":0},{"$f":"TERM4!AC89","v":0},0,{"$f":"'SASAMS TERM1'!K82","v":0},{"$f":"'SASAMS TERM2'!K82","v":0},{"$f":"'SASAMS TERM2'!L82","v":0},{"$f":"'SASAMS TERM3'!M82","v":0},0,0,0,0,0,"",null,null,0]
[75,75,{"$f":"INSERT!A77","v":0},{"$f":"INSERT!B77","v":0},{"$f":"INSERT!C77","v":0},{"$f":"INSERT!D77","v":0},{"$f":"INSERT!E77","v":0},{"$f":"TERM4!Z90","v":0},0,{"$f":"'FIN PAT MARK SHEET'!P92","v":0},{"$f":"'FIN PAT MARK SHEET'!Q92","v":0},{"$f":"'FIN PAT MARK SHEET'!T92","v":0},0,{"$f":"'FIN PAT MARK SHEET'!V92","v":0},{"$f":"'FIN PAT MARK SHEET'!W92","v":0},0,{"$f":"'FIN PAT MARK SHEET'!Y92","v":0},{"$f":"'FIN PAT MARK SHEET'!Z92","v":0},{"$f":"'FIN PAT MARK SHEET'!AA92","v":0},{"$f":"'FIN PAT MARK SHEET'!AB92","v":0},{"$f":"'FIN PAT MARK SHEET'!AC92","v":0},{"$f":"'FIN PAT MARK SHEET'!AD92","v":0},0,{"$f":"'SASAMS TERM3'!S83","v":0},0,0,0,0,{"$f":"TERM4!AA90","v":0},{"$f":"TERM4!AC90","v":0},0,{"$f":"'SASAMS TERM1'!K83","v":0},{"$f":"'SASAMS TERM2'!K83","v":0},{"$f":"'SASAMS TERM2'!L83","v":0},{"$f":"'SASAMS TERM3'!M83","v":0},0,0,0,0,0,"",null,null,0]
[76,76,{"$f":"INSERT!A78","v":0},{"$f":"INSERT!B78","v":0},{"$f":"INSERT!C78","v":0},{"$f":"INSERT!D78","v":0},{"$f":"INSERT!E78","v":0},{"$f":"TERM4!Z91","v":0},0,{"$f":"'FIN PAT MARK SHEET'!P93","v":0},{"$f":"'FIN PAT MARK SHEET'!Q93","v":0},{"$f":"'FIN PAT MARK SHEET'!T93","v":0},0,{"$f":"'FIN PAT MARK SHEET'!V93","v":0},{"$f":"'FIN PAT MARK SHEET'!W93","v":0},0,{"$f":"'FIN PAT MARK SHEET'!Y93","v":0},{"$f":"'FIN PAT MARK SHEET'!Z93","v":0},{"$f":"'FIN PAT MARK SHEET'!AA93","v":0},{"$f":"'FIN PAT MARK SHEET'!AB93","v":0},{"$f":"'FIN PAT MARK SHEET'!AC93","v":0},{"$f":"'FIN PAT MARK SHEET'!AD93","v":0},0,{"$f":"'SASAMS TERM3'!S84","v":0},0,0,0,0,{"$f":"TERM4!AA91","v":0},{"$f":"TERM4!AC91","v":0},0,{"$f":"'SASAMS TERM1'!K84","v":0},{"$f":"'SASAMS TERM2'!K84","v":0},{"$f":"'SASAMS TERM2'!L84","v":0},{"$f":"'SASAMS TERM3'!M84","v":0},0,0,0,0,0,"",null,null,0]
[77,77,{"$f":"INSERT!A79","v":0},{"$f":"INSERT!B79","v":0},{"$f":"INSERT!C79","v":0},{"$f":"INSERT!D79","v":0},{"$f":"INSERT!E79","v":0},{"$f":"TERM4!Z92","v":0},0,{"$f":"'FIN PAT MARK SHEET'!P94","v":0},{"$f":"'FIN PAT MARK SHEET'!Q94","v":0},{"$f":"'FIN PAT MARK SHEET'!T94","v":0},0,{"$f":"'FIN PAT MARK SHEET'!V94","v":0},{"$f":"'FIN PAT MARK SHEET'!W94","v":0},0,{"$f":"'FIN PAT MARK SHEET'!Y94","v":0},{"$f":"'FIN PAT MARK SHEET'!Z94","v":0},{"$f":"'FIN PAT MARK SHEET'!AA94","v":0},{"$f":"'FIN PAT MARK SHEET'!AB94","v":0},{"$f":"'FIN PAT MARK SHEET'!AC94","v":0},{"$f":"'FIN PAT MARK SHEET'!AD94","v":0},0,{"$f":"'SASAMS TERM3'!S85","v":0},0,0,0,0,{"$f":"TERM4!AA92","v":0},{"$f":"TERM4!AC92","v":0},0,{"$f":"'SASAMS TERM1'!K85","v":0},{"$f":"'SASAMS TERM2'!K85","v":0},{"$f":"'SASAMS TERM2'!L85","v":0},{"$f":"'SASAMS TERM3'!M85","v":0},0,0,0,0,0,"",null,null,0]
[78,78,{"$f":"INSERT!A80","v":0},{"$f":"INSERT!B80","v":0},{"$f":"INSERT!C80","v":0},{"$f":"INSERT!D80","v":0},{"$f":"INSERT!E80","v":0},{"$f":"TERM4!Z93","v":0},0,{"$f":"'FIN PAT MARK SHEET'!P95","v":0},{"$f":"'FIN PAT MARK SHEET'!Q95","v":0},{"$f":"'FIN PAT MARK SHEET'!T95","v":0},0,{"$f":"'FIN PAT MARK SHEET'!V95","v":0},{"$f":"'FIN PAT MARK SHEET'!W95","v":0},0,{"$f":"'FIN PAT MARK SHEET'!Y95","v":0},{"$f":"'FIN PAT MARK SHEET'!Z95","v":0},{"$f":"'FIN PAT MARK SHEET'!AA95","v":0},{"$f":"'FIN PAT MARK SHEET'!AB95","v":0},{"$f":"'FIN PAT MARK SHEET'!AC95","v":0},{"$f":"'FIN PAT MARK SHEET'!AD95","v":0},0,{"$f":"'SASAMS TERM3'!S86","v":0},0,0,0,0,{"$f":"TERM4!AA93","v":0},{"$f":"TERM4!AC93","v":0},0,{"$f":"'SASAMS TERM1'!K86","v":0},{"$f":"'SASAMS TERM2'!K86","v":0},{"$f":"'SASAMS TERM2'!L86","v":0},{"$f":"'SASAMS TERM3'!M86","v":0},0,0,0,0,0,"",null,null,0]
[79,79,{"$f":"INSERT!A81","v":0},{"$f":"INSERT!B81","v":0},{"$f":"INSERT!C81","v":0},{"$f":"INSERT!D81","v":0},{"$f":"INSERT!E81","v":0},{"$f":"TERM4!Z94","v":0},0,{"$f":"'FIN PAT MARK SHEET'!P96","v":0},{"$f":"'FIN PAT MARK SHEET'!Q96","v":0},{"$f":"'FIN PAT MARK SHEET'!T96","v":0},0,{"$f":"'FIN PAT MARK SHEET'!V96","v":0},{"$f":"'FIN PAT MARK SHEET'!W96","v":0},0,{"$f":"'FIN PAT MARK SHEET'!Y96","v":0},{"$f":"'FIN PAT MARK SHEET'!Z96","v":0},{"$f":"'FIN PAT MARK SHEET'!AA96","v":0},{"$f":"'FIN PAT MARK SHEET'!AB96","v":0},{"$f":"'FIN PAT MARK SHEET'!AC96","v":0},{"$f":"'FIN PAT MARK SHEET'!AD96","v":0},0,{"$f":"'SASAMS TERM3'!S87","v":0},0,0,0,0,{"$f":"TERM4!AA94","v":0},{"$f":"TERM4!AC94","v":0},0,{"$f":"'SASAMS TERM1'!K87","v":0},{"$f":"'SASAMS TERM2'!K87","v":0},{"$f":"'SASAMS TERM2'!L87","v":0},{"$f":"'SASAMS TERM3'!M87","v":0},0,0,0,0,0,"",null,null,0]
[80,80,{"$f":"INSERT!A82","v":0},{"$f":"INSERT!B82","v":0},{"$f":"INSERT!C82","v":0},{"$f":"INSERT!D82","v":0},{"$f":"INSERT!E82","v":0},{"$f":"TERM4!Z95","v":0},0,{"$f":"'FIN PAT MARK SHEET'!P97","v":0},{"$f":"'FIN PAT MARK SHEET'!Q97","v":0},{"$f":"'FIN PAT MARK SHEET'!T97","v":0},0,{"$f":"'FIN PAT MARK SHEET'!V97","v":0},{"$f":"'FIN PAT MARK SHEET'!W97","v":0},0,{"$f":"'FIN PAT MARK SHEET'!Y97","v":0},{"$f":"'FIN PAT MARK SHEET'!Z97","v":0},{"$f":"'FIN PAT MARK SHEET'!AA97","v":0},{"$f":"'FIN PAT MARK SHEET'!AB97","v":0},{"$f":"'FIN PAT MARK SHEET'!AC97","v":0},{"$f":"'FIN PAT MARK SHEET'!AD97","v":0},0,{"$f":"'SASAMS TERM3'!S88","v":0},0,0,0,0,{"$f":"TERM4!AA95","v":0},{"$f":"TERM4!AC95","v":0},0,{"$f":"'SASAMS TERM1'!K88","v":0},{"$f":"'SASAMS TERM2'!K88","v":0},{"$f":"'SASAMS TERM2'!L88","v":0},{"$f":"'SASAMS TERM3'!M88","v":0},0,0,0,0,0,"",null,null,0]
[81,81,{"$f":"INSERT!A83","v":0},{"$f":"INSERT!B83","v":0},{"$f":"INSERT!C83","v":0},{"$f":"INSERT!D83","v":0},{"$f":"INSERT!E83","v":0},{"$f":"TERM4!Z96","v":0},0,{"$f":"'FIN PAT MARK SHEET'!P98","v":0},{"$f":"'FIN PAT MARK SHEET'!Q98","v":0},{"$f":"'FIN PAT MARK SHEET'!T98","v":0},0,{"$f":"'FIN PAT MARK SHEET'!V98","v":0},{"$f":"'FIN PAT MARK SHEET'!W98","v":0},0,{"$f":"'FIN PAT MARK SHEET'!Y98","v":0},{"$f":"'FIN PAT MARK SHEET'!Z98","v":0},{"$f":"'FIN PAT MARK SHEET'!AA98","v":0},{"$f":"'FIN PAT MARK SHEET'!AB98","v":0},{"$f":"'FIN PAT MARK SHEET'!AC98","v":0},{"$f":"'FIN PAT MARK SHEET'!AD98","v":0},0,{"$f":"'SASAMS TERM3'!S89","v":0},0,0,0,0,{"$f":"TERM4!AA96","v":0},{"$f":"TERM4!AC96","v":0},0,{"$f":"'SASAMS TERM1'!K89","v":0},{"$f":"'SASAMS TERM2'!K89","v":0},{"$f":"'SASAMS TERM2'!L89","v":0},{"$f":"'SASAMS TERM3'!M89","v":0},0,0,0,0,0,"",null,null,0]
[82,82,{"$f":"INSERT!A84","v":0},{"$f":"INSERT!B84","v":0},{"$f":"INSERT!C84","v":0},{"$f":"INSERT!D84","v":0},{"$f":"INSERT!E84","v":0},{"$f":"TERM4!Z97","v":0},0,{"$f":"'FIN PAT MARK SHEET'!P99","v":0},{"$f":"'FIN PAT MARK SHEET'!Q99","v":0},{"$f":"'FIN PAT MARK SHEET'!T99","v":0},0,{"$f":"'FIN PAT MARK SHEET'!V99","v":0},{"$f":"'FIN PAT MARK SHEET'!W99","v":0},0,{"$f":"'FIN PAT MARK SHEET'!Y99","v":0},{"$f":"'FIN PAT MARK SHEET'!Z99","v":0},{"$f":"'FIN PAT MARK SHEET'!AA99","v":0},{"$f":"'FIN PAT MARK SHEET'!AB99","v":0},{"$f":"'FIN PAT MARK SHEET'!AC99","v":0},{"$f":"'FIN PAT MARK SHEET'!AD99","v":0},0,{"$f":"'SASAMS TERM3'!S90","v":0},0,0,0,0,{"$f":"TERM4!AA97","v":0},{"$f":"TERM4!AC97","v":0},0,{"$f":"'SASAMS TERM1'!K90","v":0},{"$f":"'SASAMS TERM2'!K90","v":0},{"$f":"'SASAMS TERM2'!L90","v":0},{"$f":"'SASAMS TERM3'!M90","v":0},0,0,0,0,0,"",null,null,0]
[83,83,{"$f":"INSERT!A85","v":0},{"$f":"INSERT!B85","v":0},{"$f":"INSERT!C85","v":0},{"$f":"INSERT!D85","v":0},{"$f":"INSERT!E85","v":0},{"$f":"TERM4!Z98","v":0},0,{"$f":"'FIN PAT MARK SHEET'!P100","v":0},{"$f":"'FIN PAT MARK SHEET'!Q100","v":0},{"$f":"'FIN PAT MARK SHEET'!T100","v":0},0,{"$f":"'FIN PAT MARK SHEET'!V100","v":0},{"$f":"'FIN PAT MARK SHEET'!W100","v":0},0,{"$f":"'FIN PAT MARK SHEET'!Y100","v":0},{"$f":"'FIN PAT MARK SHEET'!Z100","v":0},{"$f":"'FIN PAT MARK SHEET'!AA100","v":0},{"$f":"'FIN PAT MARK SHEET'!AB100","v":0},{"$f":"'FIN PAT MARK SHEET'!AC100","v":0},{"$f":"'FIN PAT MARK SHEET'!AD100","v":0},0,{"$f":"'SASAMS TERM3'!S91","v":0},0,0,0,0,{"$f":"TERM4!AA98","v":0},{"$f":"TERM4!AC98","v":0},0,{"$f":"'SASAMS TERM1'!K91","v":0},{"$f":"'SASAMS TERM2'!K91","v":0},{"$f":"'SASAMS TERM2'!L91","v":0},{"$f":"'SASAMS TERM3'!M91","v":0},0,0,0,0,0,"",null,null,0]
[84,84,{"$f":"INSERT!A86","v":0},{"$f":"INSERT!B86","v":0},{"$f":"INSERT!C86","v":0},{"$f":"INSERT!D86","v":0},{"$f":"INSERT!E86","v":0},{"$f":"TERM4!Z99","v":0},0,{"$f":"'FIN PAT MARK SHEET'!P101","v":0},{"$f":"'FIN PAT MARK SHEET'!Q101","v":0},{"$f":"'FIN PAT MARK SHEET'!T101","v":0},0,{"$f":"'FIN PAT MARK SHEET'!V101","v":0},{"$f":"'FIN PAT MARK SHEET'!W101","v":0},0,{"$f":"'FIN PAT MARK SHEET'!Y101","v":0},{"$f":"'FIN PAT MARK SHEET'!Z101","v":0},{"$f":"'FIN PAT MARK SHEET'!AA101","v":0},{"$f":"'FIN PAT MARK SHEET'!AB101","v":0},{"$f":"'FIN PAT MARK SHEET'!AC101","v":0},{"$f":"'FIN PAT MARK SHEET'!AD101","v":0},0,{"$f":"'SASAMS TERM3'!S92","v":0},0,0,0,0,{"$f":"TERM4!AA99","v":0},{"$f":"TERM4!AC99","v":0},0,{"$f":"'SASAMS TERM1'!K92","v":0},{"$f":"'SASAMS TERM2'!K92","v":0},{"$f":"'SASAMS TERM2'!L92","v":0},{"$f":"'SASAMS TERM3'!M92","v":0},0,0,0,0,0,"",null,null,0]
[85,85,{"$f":"INSERT!A87","v":0},{"$f":"INSERT!B87","v":0},{"$f":"INSERT!C87","v":0},{"$f":"INSERT!D87","v":0},{"$f":"INSERT!E87","v":0},{"$f":"TERM4!Z100","v":0},0,{"$f":"'FIN PAT MARK SHEET'!P102","v":0},{"$f":"'FIN PAT MARK SHEET'!Q102","v":0},{"$f":"'FIN PAT MARK SHEET'!T102","v":0},0,{"$f":"'FIN PAT MARK SHEET'!V102","v":0},{"$f":"'FIN PAT MARK SHEET'!W102","v":0},0,{"$f":"'FIN PAT MARK SHEET'!Y102","v":0},{"$f":"'FIN PAT MARK SHEET'!Z102","v":0},{"$f":"'FIN PAT MARK SHEET'!AA102","v":0},{"$f":"'FIN PAT MARK SHEET'!AB102","v":0},{"$f":"'FIN PAT MARK SHEET'!AC102","v":0},{"$f":"'FIN PAT MARK SHEET'!AD102","v":0},0,{"$f":"'SASAMS TERM3'!S93","v":0},0,0,0,0,{"$f":"TERM4!AA100","v":0},{"$f":"TERM4!AC100","v":0},0,{"$f":"'SASAMS TERM1'!K93","v":0},{"$f":"'SASAMS TERM2'!K93","v":0},{"$f":"'SASAMS TERM2'!L93","v":0},{"$f":"'SASAMS TERM3'!M93","v":0},0,0,0,0,0,"",null,null,0]
[86,86,{"$f":"INSERT!A88","v":0},{"$f":"INSERT!B88","v":0},{"$f":"INSERT!C88","v":0},{"$f":"INSERT!D88","v":0},{"$f":"INSERT!E88","v":0},{"$f":"TERM4!Z101","v":0},0,{"$f":"'FIN PAT MARK SHEET'!P103","v":0},{"$f":"'FIN PAT MARK SHEET'!Q103","v":0},{"$f":"'FIN PAT MARK SHEET'!T103","v":0},0,{"$f":"'FIN PAT MARK SHEET'!V103","v":0},{"$f":"'FIN PAT MARK SHEET'!W103","v":0},0,{"$f":"'FIN PAT MARK SHEET'!Y103","v":0},{"$f":"'FIN PAT MARK SHEET'!Z103","v":0},{"$f":"'FIN PAT MARK SHEET'!AA103","v":0},{"$f":"'FIN PAT MARK SHEET'!AB103","v":0},{"$f":"'FIN PAT MARK SHEET'!AC103","v":0},{"$f":"'FIN PAT MARK SHEET'!AD103","v":0},0,{"$f":"'SASAMS TERM3'!S94","v":0},0,0,0,0,{"$f":"TERM4!AA101","v":0},{"$f":"TERM4!AC101","v":0},0,{"$f":"'SASAMS TERM1'!K94","v":0},{"$f":"'SASAMS TERM2'!K94","v":0},{"$f":"'SASAMS TERM2'!L94","v":0},{"$f":"'SASAMS TERM3'!M94","v":0},0,0,0,0,0,"",null,null,0]
[87,87,{"$f":"INSERT!A89","v":0},{"$f":"INSERT!B89","v":0},{"$f":"INSERT!C89","v":0},{"$f":"INSERT!D89","v":0},{"$f":"INSERT!E89","v":0},{"$f":"TERM4!Z102","v":0},0,{"$f":"'FIN PAT MARK SHEET'!P104","v":0},{"$f":"'FIN PAT MARK SHEET'!Q104","v":0},{"$f":"'FIN PAT MARK SHEET'!T104","v":0},0,{"$f":"'FIN PAT MARK SHEET'!V104","v":0},{"$f":"'FIN PAT MARK SHEET'!W104","v":0},0,{"$f":"'FIN PAT MARK SHEET'!Y104","v":0},{"$f":"'FIN PAT MARK SHEET'!Z104","v":0},{"$f":"'FIN PAT MARK SHEET'!AA104","v":0},{"$f":"'FIN PAT MARK SHEET'!AB104","v":0},{"$f":"'FIN PAT MARK SHEET'!AC104","v":0},{"$f":"'FIN PAT MARK SHEET'!AD104","v":0},0,{"$f":"'SASAMS TERM3'!S95","v":0},0,0,0,0,{"$f":"TERM4!AA102","v":0},{"$f":"TERM4!AC102","v":0},0,{"$f":"'SASAMS TERM1'!K95","v":0},{"$f":"'SASAMS TERM2'!K95","v":0},{"$f":"'SASAMS TERM2'!L95","v":0},{"$f":"'SASAMS TERM3'!M95","v":0},0,0,0,0,0,"",null,null,0]
[88,88,{"$f":"INSERT!A90","v":0},{"$f":"INSERT!B90","v":0},{"$f":"INSERT!C90","v":0},{"$f":"INSERT!D90","v":0},{"$f":"INSERT!E90","v":0},{"$f":"TERM4!Z103","v":0},0,{"$f":"'FIN PAT MARK SHEET'!P105","v":0},{"$f":"'FIN PAT MARK SHEET'!Q105","v":0},{"$f":"'FIN PAT MARK SHEET'!T105","v":0},0,{"$f":"'FIN PAT MARK SHEET'!V105","v":0},{"$f":"'FIN PAT MARK SHEET'!W105","v":0},0,{"$f":"'FIN PAT MARK SHEET'!Y105","v":0},{"$f":"'FIN PAT MARK SHEET'!Z105","v":0},{"$f":"'FIN PAT MARK SHEET'!AA105","v":0},{"$f":"'FIN PAT MARK SHEET'!AB105","v":0},{"$f":"'FIN PAT MARK SHEET'!AC105","v":0},{"$f":"'FIN PAT MARK SHEET'!AD105","v":0},0,{"$f":"'SASAMS TERM3'!S96","v":0},0,0,0,0,{"$f":"TERM4!AA103","v":0},{"$f":"TERM4!AC103","v":0},0,{"$f":"'SASAMS TERM1'!K96","v":0},{"$f":"'SASAMS TERM2'!K96","v":0},{"$f":"'SASAMS TERM2'!L96","v":0},{"$f":"'SASAMS TERM3'!M96","v":0},0,0,0,0,0,"",null,null,0]
[89,89,{"$f":"INSERT!A91","v":0},{"$f":"INSERT!B91","v":0},{"$f":"INSERT!C91","v":0},{"$f":"INSERT!D91","v":0},{"$f":"INSERT!E91","v":0},{"$f":"TERM4!Z104","v":0},0,{"$f":"'FIN PAT MARK SHEET'!P106","v":0},{"$f":"'FIN PAT MARK SHEET'!Q106","v":0},{"$f":"'FIN PAT MARK SHEET'!T106","v":0},0,{"$f":"'FIN PAT MARK SHEET'!V106","v":0},{"$f":"'FIN PAT MARK SHEET'!W106","v":0},0,{"$f":"'FIN PAT MARK SHEET'!Y106","v":0},{"$f":"'FIN PAT MARK SHEET'!Z106","v":0},{"$f":"'FIN PAT MARK SHEET'!AA106","v":0},{"$f":"'FIN PAT MARK SHEET'!AB106","v":0},{"$f":"'FIN PAT MARK SHEET'!AC106","v":0},{"$f":"'FIN PAT MARK SHEET'!AD106","v":0},0,{"$f":"'SASAMS TERM3'!S97","v":0},0,0,0,0,{"$f":"TERM4!AA104","v":0},{"$f":"TERM4!AC104","v":0},0,{"$f":"'SASAMS TERM1'!K97","v":0},{"$f":"'SASAMS TERM2'!K97","v":0},{"$f":"'SASAMS TERM2'!L97","v":0},{"$f":"'SASAMS TERM3'!M97","v":0},0,0,0,0,0,"",null,null,0]
[90,90,{"$f":"INSERT!A92","v":0},{"$f":"INSERT!B92","v":0},{"$f":"INSERT!C92","v":0},{"$f":"INSERT!D92","v":0},{"$f":"INSERT!E92","v":0},{"$f":"TERM4!Z105","v":0},0,{"$f":"'FIN PAT MARK SHEET'!P107","v":0},{"$f":"'FIN PAT MARK SHEET'!Q107","v":0},{"$f":"'FIN PAT MARK SHEET'!T107","v":0},0,{"$f":"'FIN PAT MARK SHEET'!V107","v":0},{"$f":"'FIN PAT MARK SHEET'!W107","v":0},0,{"$f":"'FIN PAT MARK SHEET'!Y107","v":0},{"$f":"'FIN PAT MARK SHEET'!Z107","v":0},{"$f":"'FIN PAT MARK SHEET'!AA107","v":0},{"$f":"'FIN PAT MARK SHEET'!AB107","v":0},{"$f":"'FIN PAT MARK SHEET'!AC107","v":0},{"$f":"'FIN PAT MARK SHEET'!AD107","v":0},0,{"$f":"'SASAMS TERM3'!S98","v":0},0,0,0,0,{"$f":"TERM4!AA105","v":0},{"$f":"TERM4!AC105","v":0},0,{"$f":"'SASAMS TERM1'!K98","v":0},{"$f":"'SASAMS TERM2'!K98","v":0},{"$f":"'SASAMS TERM2'!L98","v":0},{"$f":"'SASAMS TERM3'!M98","v":0},0,0,0,0,0,"",null,null,0]
[91,91,{"$f":"INSERT!A93","v":0},{"$f":"INSERT!B93","v":0},{"$f":"INSERT!C93","v":0},{"$f":"INSERT!D93","v":0},{"$f":"INSERT!E93","v":0},{"$f":"TERM4!Z106","v":0},0,{"$f":"'FIN PAT MARK SHEET'!P108","v":0},{"$f":"'FIN PAT MARK SHEET'!Q108","v":0},{"$f":"'FIN PAT MARK SHEET'!T108","v":0},0,{"$f":"'FIN PAT MARK SHEET'!V108","v":0},{"$f":"'FIN PAT MARK SHEET'!W108","v":0},0,{"$f":"'FIN PAT MARK SHEET'!Y108","v":0},{"$f":"'FIN PAT MARK SHEET'!Z108","v":0},{"$f":"'FIN PAT MARK SHEET'!AA108","v":0},{"$f":"'FIN PAT MARK SHEET'!AB108","v":0},{"$f":"'FIN PAT MARK SHEET'!AC108","v":0},{"$f":"'FIN PAT MARK SHEET'!AD108","v":0},0,{"$f":"'SASAMS TERM3'!S99","v":0},0,0,0,0,{"$f":"TERM4!AA106","v":0},{"$f":"TERM4!AC106","v":0},0,{"$f":"'SASAMS TERM1'!K99","v":0},{"$f":"'SASAMS TERM2'!K99","v":0},{"$f":"'SASAMS TERM2'!L99","v":0},{"$f":"'SASAMS TERM3'!M99","v":0},0,0,0,0,0,"",null,null,0]
[92,92,{"$f":"INSERT!A94","v":0},{"$f":"INSERT!B94","v":0},{"$f":"INSERT!C94","v":0},{"$f":"INSERT!D94","v":0},{"$f":"INSERT!E94","v":0},{"$f":"TERM4!Z107","v":0},0,{"$f":"'FIN PAT MARK SHEET'!P109","v":0},{"$f":"'FIN PAT MARK SHEET'!Q109","v":0},{"$f":"'FIN PAT MARK SHEET'!T109","v":0},0,{"$f":"'FIN PAT MARK SHEET'!V109","v":0},{"$f":"'FIN PAT MARK SHEET'!W109","v":0},0,{"$f":"'FIN PAT MARK SHEET'!Y109","v":0},{"$f":"'FIN PAT MARK SHEET'!Z109","v":0},{"$f":"'FIN PAT MARK SHEET'!AA109","v":0},{"$f":"'FIN PAT MARK SHEET'!AB109","v":0},{"$f":"'FIN PAT MARK SHEET'!AC109","v":0},{"$f":"'FIN PAT MARK SHEET'!AD109","v":0},0,{"$f":"'SASAMS TERM3'!S100","v":0},0,0,0,0,{"$f":"TERM4!AA107","v":0},{"$f":"TERM4!AC107","v":0},0,{"$f":"'SASAMS TERM1'!K100","v":0},{"$f":"'SASAMS TERM2'!K100","v":0},{"$f":"'SASAMS TERM2'!L100","v":0},{"$f":"'SASAMS TERM3'!M100","v":0},0,0,0,0,0,"",null,null,0]
[93,93,{"$f":"INSERT!A95","v":0},{"$f":"INSERT!B95","v":0},{"$f":"INSERT!C95","v":0},{"$f":"INSERT!D95","v":0},{"$f":"INSERT!E95","v":0},{"$f":"TERM4!Z108","v":0},0,{"$f":"'FIN PAT MARK SHEET'!P110","v":0},{"$f":"'FIN PAT MARK SHEET'!Q110","v":0},{"$f":"'FIN PAT MARK SHEET'!T110","v":0},0,{"$f":"'FIN PAT MARK SHEET'!V110","v":0},{"$f":"'FIN PAT MARK SHEET'!W110","v":0},0,{"$f":"'FIN PAT MARK SHEET'!Y110","v":0},{"$f":"'FIN PAT MARK SHEET'!Z110","v":0},{"$f":"'FIN PAT MARK SHEET'!AA110","v":0},{"$f":"'FIN PAT MARK SHEET'!AB110","v":0},{"$f":"'FIN PAT MARK SHEET'!AC110","v":0},{"$f":"'FIN PAT MARK SHEET'!AD110","v":0},0,{"$f":"'SASAMS TERM3'!S101","v":0},0,0,0,0,{"$f":"TERM4!AA108","v":0},{"$f":"TERM4!AC108","v":0},0,{"$f":"'SASAMS TERM1'!K101","v":0},{"$f":"'SASAMS TERM2'!K101","v":0},{"$f":"'SASAMS TERM2'!L101","v":0},{"$f":"'SASAMS TERM3'!M101","v":0},0,0,0,0,0,"",null,null,0]
[94,94,{"$f":"INSERT!A96","v":0},{"$f":"INSERT!B96","v":0},{"$f":"INSERT!C96","v":0},{"$f":"INSERT!D96","v":0},{"$f":"INSERT!E96","v":0},{"$f":"TERM4!Z109","v":0},0,{"$f":"'FIN PAT MARK SHEET'!P111","v":0},{"$f":"'FIN PAT MARK SHEET'!Q111","v":0},{"$f":"'FIN PAT MARK SHEET'!T111","v":0},0,{"$f":"'FIN PAT MARK SHEET'!V111","v":0},{"$f":"'FIN PAT MARK SHEET'!W111","v":0},0,{"$f":"'FIN PAT MARK SHEET'!Y111","v":0},{"$f":"'FIN PAT MARK SHEET'!Z111","v":0},{"$f":"'FIN PAT MARK SHEET'!AA111","v":0},{"$f":"'FIN PAT MARK SHEET'!AB111","v":0},{"$f":"'FIN PAT MARK SHEET'!AC111","v":0},{"$f":"'FIN PAT MARK SHEET'!AD111","v":0},0,{"$f":"'SASAMS TERM3'!S102","v":0},0,0,0,0,{"$f":"TERM4!AA109","v":0},{"$f":"TERM4!AC109","v":0},0,{"$f":"'SASAMS TERM1'!K102","v":0},{"$f":"'SASAMS TERM2'!K102","v":0},{"$f":"'SASAMS TERM2'!L102","v":0},{"$f":"'SASAMS TERM3'!M102","v":0},0,0,0,0,0,"",null,null,0]
[95,95,{"$f":"INSERT!A97","v":0},{"$f":"INSERT!B97","v":0},{"$f":"INSERT!C97","v":0},{"$f":"INSERT!D97","v":0},{"$f":"INSERT!E97","v":0},{"$f":"TERM4!Z110","v":0},0,{"$f":"'FIN PAT MARK SHEET'!P112","v":0},{"$f":"'FIN PAT MARK SHEET'!Q112","v":0},{"$f":"'FIN PAT MARK SHEET'!T112","v":0},0,{"$f":"'FIN PAT MARK SHEET'!V112","v":0},{"$f":"'FIN PAT MARK SHEET'!W112","v":0},0,{"$f":"'FIN PAT MARK SHEET'!Y112","v":0},{"$f":"'FIN PAT MARK SHEET'!Z112","v":0},{"$f":"'FIN PAT MARK SHEET'!AA112","v":0},{"$f":"'FIN PAT MARK SHEET'!AB112","v":0},{"$f":"'FIN PAT MARK SHEET'!AC112","v":0},{"$f":"'FIN PAT MARK SHEET'!AD112","v":0},0,{"$f":"'SASAMS TERM3'!S103","v":0},0,0,0,0,{"$f":"TERM4!AA110","v":0},{"$f":"TERM4!AC110","v":0},0,{"$f":"'SASAMS TERM1'!K103","v":0},{"$f":"'SASAMS TERM2'!K103","v":0},{"$f":"'SASAMS TERM2'!L103","v":0},{"$f":"'SASAMS TERM3'!M103","v":0},0,0,0,0,0,"",null,null,0]
[96,96,{"$f":"INSERT!A98","v":0},{"$f":"INSERT!B98","v":0},{"$f":"INSERT!C98","v":0},{"$f":"INSERT!D98","v":0},{"$f":"INSERT!E98","v":0},{"$f":"TERM4!Z111","v":0},0,{"$f":"'FIN PAT MARK SHEET'!P113","v":0},{"$f":"'FIN PAT MARK SHEET'!Q113","v":0},{"$f":"'FIN PAT MARK SHEET'!T113","v":0},0,{"$f":"'FIN PAT MARK SHEET'!V113","v":0},{"$f":"'FIN PAT MARK SHEET'!W113","v":0},0,{"$f":"'FIN PAT MARK SHEET'!Y113","v":0},{"$f":"'FIN PAT MARK SHEET'!Z113","v":0},{"$f":"'FIN PAT MARK SHEET'!AA113","v":0},{"$f":"'FIN PAT MARK SHEET'!AB113","v":0},{"$f":"'FIN PAT MARK SHEET'!AC113","v":0},{"$f":"'FIN PAT MARK SHEET'!AD113","v":0},0,{"$f":"'SASAMS TERM3'!S104","v":0},0,0,0,0,{"$f":"TERM4!AA111","v":0},{"$f":"TERM4!AC111","v":0},0,{"$f":"'SASAMS TERM1'!K104","v":0},{"$f":"'SASAMS TERM2'!K104","v":0},{"$f":"'SASAMS TERM2'!L104","v":0},{"$f":"'SASAMS TERM3'!M104","v":0},0,0,0,0,0,"",null,null,0]
[97,97,{"$f":"INSERT!A99","v":0},{"$f":"INSERT!B99","v":0},{"$f":"INSERT!C99","v":0},{"$f":"INSERT!D99","v":0},{"$f":"INSERT!E99","v":0},{"$f":"TERM4!Z112","v":0},0,{"$f":"'FIN PAT MARK SHEET'!P114","v":0},{"$f":"'FIN PAT MARK SHEET'!Q114","v":0},{"$f":"'FIN PAT MARK SHEET'!T114","v":0},0,{"$f":"'FIN PAT MARK SHEET'!V114","v":0},{"$f":"'FIN PAT MARK SHEET'!W114","v":0},0,{"$f":"'FIN PAT MARK SHEET'!Y114","v":0},{"$f":"'FIN PAT MARK SHEET'!Z114","v":0},{"$f":"'FIN PAT MARK SHEET'!AA114","v":0},{"$f":"'FIN PAT MARK SHEET'!AB114","v":0},{"$f":"'FIN PAT MARK SHEET'!AC114","v":0},{"$f":"'FIN PAT MARK SHEET'!AD114","v":0},{"$f":"IF(AR105=4,SUMIF(Q105:T105,\">0\")/1.6,IF(AR105=6,SUMIF(Q105:V105,\">0\")/2.4,SUMIF(Q105:V105,\">0\")))","v":0},{"$f":"'SASAMS TERM3'!S105","v":0},0,0,0,0,{"$f":"TERM4!AA112","v":0},{"$f":"TERM4!AC112","v":0},0,{"$f":"'SASAMS TERM1'!K105","v":0},{"$f":"'SASAMS TERM2'!K105","v":0},{"$f":"'SASAMS TERM2'!L105","v":0},{"$f":"'SASAMS TERM3'!M105","v":0},0,{"$f":"SUM(AF105:AJ105)","v":0},0,0,0,"",null,null,0]
[98,98,{"$f":"INSERT!A100","v":0},{"$f":"INSERT!B100","v":0},{"$f":"INSERT!C100","v":0},{"$f":"INSERT!D100","v":0},{"$f":"INSERT!E100","v":0},{"$f":"TERM4!Z113","v":0},0,{"$f":"'FIN PAT MARK SHEET'!P115","v":0},{"$f":"'FIN PAT MARK SHEET'!Q115","v":0},{"$f":"'FIN PAT MARK SHEET'!T115","v":0},0,{"$f":"'FIN PAT MARK SHEET'!V115","v":0},{"$f":"'FIN PAT MARK SHEET'!W115","v":0},0,{"$f":"'FIN PAT MARK SHEET'!Y115","v":0},{"$f":"'FIN PAT MARK SHEET'!Z115","v":0},{"$f":"'FIN PAT MARK SHEET'!AA115","v":0},{"$f":"'FIN PAT MARK SHEET'!AB115","v":0},{"$f":"'FIN PAT MARK SHEET'!AC115","v":0},{"$f":"'FIN PAT MARK SHEET'!AD115","v":0},0,{"$f":"'SASAMS TERM3'!S106","v":0},0,0,0,0,{"$f":"TERM4!AA113","v":0},{"$f":"TERM4!AC113","v":0},0,{"$f":"'SASAMS TERM1'!K106","v":0},{"$f":"'SASAMS TERM2'!K106","v":0},{"$f":"'SASAMS TERM2'!L106","v":0},{"$f":"'SASAMS TERM3'!M106","v":0},0,0,0,0,0,"",null,null,0]
[99,99,{"$f":"INSERT!A101","v":0},{"$f":"INSERT!B101","v":0},{"$f":"INSERT!C101","v":0},{"$f":"INSERT!D101","v":0},{"$f":"INSERT!E101","v":0},{"$f":"TERM4!Z114","v":0},0,{"$f":"'FIN PAT MARK SHEET'!P116","v":0},{"$f":"'FIN PAT MARK SHEET'!Q116","v":0},{"$f":"'FIN PAT MARK SHEET'!T116","v":0},0,{"$f":"'FIN PAT MARK SHEET'!V116","v":0},{"$f":"'FIN PAT MARK SHEET'!W116","v":0},0,{"$f":"'FIN PAT MARK SHEET'!Y116","v":0},{"$f":"'FIN PAT MARK SHEET'!Z116","v":0},{"$f":"'FIN PAT MARK SHEET'!AA116","v":0},{"$f":"'FIN PAT MARK SHEET'!AB116","v":0},{"$f":"'FIN PAT MARK SHEET'!AC116","v":0},{"$f":"'FIN PAT MARK SHEET'!AD116","v":0},0,{"$f":"'SASAMS TERM3'!S107","v":0},0,0,0,0,{"$f":"TERM4!AA114","v":0},{"$f":"TERM4!AC114","v":0},0,{"$f":"'SASAMS TERM1'!K107","v":0},{"$f":"'SASAMS TERM2'!K107","v":0},{"$f":"'SASAMS TERM2'!L107","v":0},{"$f":"'SASAMS TERM3'!M107","v":0},0,0,0,0,0,"",null,null,0]
[100,100,{"$f":"INSERT!A102","v":0},{"$f":"INSERT!B102","v":0},{"$f":"INSERT!C102","v":0},{"$f":"INSERT!D102","v":0},{"$f":"INSERT!E102","v":0},{"$f":"TERM4!Z115","v":0},0,{"$f":"'FIN PAT MARK SHEET'!P117","v":0},{"$f":"'FIN PAT MARK SHEET'!Q117","v":0},{"$f":"'FIN PAT MARK SHEET'!T117","v":0},0,{"$f":"'FIN PAT MARK SHEET'!V117","v":0},{"$f":"'FIN PAT MARK SHEET'!W117","v":0},0,{"$f":"'FIN PAT MARK SHEET'!Y117","v":0},{"$f":"'FIN PAT MARK SHEET'!Z117","v":0},{"$f":"'FIN PAT MARK SHEET'!AA117","v":0},{"$f":"'FIN PAT MARK SHEET'!AB117","v":0},{"$f":"'FIN PAT MARK SHEET'!AC117","v":0},{"$f":"'FIN PAT MARK SHEET'!AD117","v":0},0,{"$f":"'SASAMS TERM3'!S108","v":0},0,0,0,0,{"$f":"TERM4!AA115","v":0},{"$f":"TERM4!AC115","v":0},0,{"$f":"'SASAMS TERM1'!K108","v":0},{"$f":"'SASAMS TERM2'!K108","v":0},{"$f":"'SASAMS TERM2'!L108","v":0},{"$f":"'SASAMS TERM3'!M108","v":0},0,0,0,0,0,"",null,null,0]
[null,null,null,null,null,null,null,{"$f":"SUM(H9:H108)","v":0},{"$f":"SUM(I9:I108)","v":0},0,0,{"$f":"SUM(L9:L108)","v":0},0,0,0,0,0,0,0,0,0,0,0,0,0,0,0,0,0,0,0,0,0,0,0,0,0,null,0,{"$f":"SUM(AM9:AM108)","v":0}]
[null,null,"x","x","x","x","Average%",{"$f":"IFERROR(ROUND((AVERAGEIF(H9:H108,\">0\")/H4*100),1),\"0\")","v":"0"},{"$f":"IFERROR(ROUND((AVERAGEIF(I9:I108,\">0\")/I4*100),1),\"0\")","v":"0"},"0","0",{"$f":"IFERROR(ROUND((AVERAGEIF(L9:L108,\">0\")/L4*100),1),\"0\")","v":"0"},"0","0","0","0","0","0","0","0","0","0","0","0","0","0","0","0","0","0","0","0","0","0","0","0","0",null,{"$f":"IFERROR(ROUND((AVERAGEIF(#REF!,\">0\")/AM7*100),1),\"0\")","v":"0"},{"$f":"IFERROR(ROUND((AVERAGEIF(AM9:AM108,\">0\")/AN7*100),1),\"0\")","v":"0"}]
["Total amount of learners on mark sheet",null,null,null,"X","Term results analysis",null,"LEVEL 1","LEVEL 2","LEVEL 3","LEVEL 4","LEVEL 5","LEVEL 6","LEVEL 7","TOTAL"]
[null,null,null,null,{"$f":"INSERT!$E$103","v":0},null,null," 0 - 29 "," 30 - 39 "," 40 - 49 "," 50 - 59 "," 60 - 69 "," 70 - 79 ","80 - 100"]
[null,null,null,null,"X",null,null,{"$f":"COUNTIF(AO9:AO108,1)","v":0},{"$f":"COUNTIF($AO$9:$AO$108,2)","v":0},{"$f":"COUNTIF($AO$9:$AO$108,3)","v":0},{"$f":"COUNTIF($AO$9:$AO$108,4)","v":0},{"$f":"COUNTIF($AO$9:$AO$108,5)","v":0},{"$f":"COUNTIF($AO$9:$AO$108,6)","v":0},{"$f":"COUNTIF($AO$9:$AO$108,7)","v":0},{"$f":"SUM(H113:N113)","v":0}]

{"sheet":"PAT Mech Detailed","index":12,"n_rows":119,"n_cols":112,"rows_kept":119,"cut":false,"hidden":true,"merged":[[5,98,10,98],[5,99,10,99],[5,100,10,100],[5,101,10,101],[5,102,10,102],[5,103,10,103],[5,104,10,104],[5,105,10,105],[5,106,10,106],[5,89,10,89],[5,90,10,90],[5,91,10,91],[5,92,10,92],[5,93,10,93],[5,94,10,94],[5,95,10,95],[5,96,10,96],[5,97,10,97],[5,80,10,80],[5,81,10,81],[5,82,10,82],[5,83,10,83],[5,84,10,84],[5,85,10,85],[5,86,10,86],[5,87,10,87],[5,88,10,88],[5,61,10,61],[5,62,10,62],[5,63,10,63],[5,64,10,64],[5,65,10,65],[5,66,10,66],[5,67,10,67],[5,68,10,68],[5,69,10,69],[5,5,10,5],[5,6,10,6],[5,7,10,7],[5,8,10,8],[5,9,10,9],[5,11,10,11],[5,12,10,12],[5,13,10,13],[5,14,10,14],[5,15,10,15],[5,16,10,16],[5,18,10,18],[5,19,10,19],[5,20,10,20],[5,21,10,21],[5,22,10,22],[5,23,10,23],[5,24,10,24],[5,17,10,17],[5,45,10,45],[5,46,10,46],[5,47,10,47],[5,27,10,27],[5,28,10,28],[5,29,10,29],[5,30,10,30],[5,31,10,31],[5,32,10,32],[5,33,10,33],[5,34,10,34],[5,35,10,35],[5,36,10,36],[5,37,10,37],[5,38,10,38],[5,39,10,39],[5,40,10,40],[5,41,10,41],[5,42,10,42],[5,43,10,43],[5,44,10,44],[118,1,118,2],[118,3,118,4],[11,1,11,2],[13,1,13,4],[114,1,117,2],[114,3,114,4],[115,3,115,4],[116,3,116,4],[6,1,6,2],[6,3,6,4],[8,3,8,4],[9,1,9,2],[9,3,9,4],[5,77,10,77],[5,78,10,78],[5,79,10,79],[5,70,10,70],[5,71,10,71],[5,72,10,72],[5,73,10,73],[5,74,10,74],[5,75,10,75],[5,76,10,76],[4,62,4,67],[4,68,4,73],[4,18,4,26],[4,27,4,35],[4,36,4,44],[4,51,4,54],[5,10,10,10],[4,1,4,2],[4,3,4,4],[5,59,10,59],[5,60,10,60],[5,55,10,55],[5,56,10,56],[5,57,10,57],[5,58,10,58],[5,53,10,53],[5,54,10,54],[5,48,10,48],[5,49,10,49],[5,51,10,51],[5,52,10,52],[5,50,10,50],[5,25,10,25],[5,26,10,26],[1,1,1,111],[2,1,2,111],[3,1,3,2],[3,3,3,4],[3,5,4,10],[3,11,4,17],[3,18,3,44],[3,45,4,50],[3,51,3,54],[3,55,3,73],[3,105,4,106],[3,107,10,107],[3,108,10,108],[3,109,10,109],[3,110,10,110],[3,111,10,111],[3,74,4,86],[3,87,4,90],[3,91,4,93],[3,94,4,100],[3,101,4,102],[3,103,4,104],[5,1,5,2],[4,55,4,61]]}
[]
[null,"ENGINEERING GRAPHICS AND DESIGN"]
[null,"PROGRAM OF ASSESSMENT  :  PAT"]
[null,"School:",null,{"$f":"TERM1!F5","v":0},null,"1. Design Brief",null,null,null,null,null,"2. Research",null,null,null,null,null,null,"3. Freehand drawings of THREE possible design solutions",null,null,null,null,null,null,null,null,null,null,null,null,null,null,null,null,null,null,null,null,null,null,null,null,null,null,"4. Selecting the best freehand solution",null,null,null,null,null,"5. Working drawings and a pictorial drawing of selected solution",null,null,null,"5.1 Working drawings and a pictorial drawing of selected tool/instrument",null,null,null,null,null,null,null,null,null,null,null,null,null,null,null,null,null,null,"5.2 Detailed drawing of the selected improvement/modification/redesign of the main part(s)/component(s)",null,null,null,null,null,null,null,null,null,null,null,null,"5.3 Detailed isometric drawing",null,null,null,"6. Continuous self-evaluation and the meeting of deadlines",null,null,"7. Presentation of the complete PAT file/portfolio",null,null,null,null,null,null,"Freehand drawings",null,"Instrument drawings",null,"CAD drawings",null,"TOTAL for Design Process","TOTAL for Working Drawing","4 = NO CAD / 6 = CAD","TOTAL: DRAWING METHODS","TOTAL"]
[null,"Grade:",null,{"$f":"TERM1!F6","v":0},null,null,null,null,null,null,null,null,null,null,null,null,null,null,"Solution 1",null,null,null,null,null,null,null,null,"Solution 2",null,null,null,null,null,null,null,null,"Solution 3",null,null,null,null,null,null,null,null,null,null,null,null,null,null,"Drawing sheet preparation",null,null,null,"5.1.1. Front view before any changes",null,null,null,null,null,null,"5.1.2. Second primary (main) view before any changes",null,null,null,null,null,"5.1.3 TWO other secondary views before any changes"]
[null,"Teacher:",null,{"$f":"TERM1!F7","v":0},{"$f":"TERM1!G7","v":0},"Identifying the primary problem and secondary problems in own words","Formulating of a design brief in own words","A comprehensive list of the specifications for the selected tool/instrument","A list of constraints for the selected tool/instrument","A list of the entire process together with a management plan","TOTAL","Materials used for parts/components of the selected tool/instrument","Design features and/or function (purpose) of each individual part","The design and mechanical movement of another item No. 1","The design and mechanical movement of another item No. 2","Clear evidence that the research was used","Sources included","TOTAL","Relevant orthographic views","Isometric drawing","Correct presentation of ALL the features","The relative size of all features and fixtures to each other","Labels and explanatory notes","Dimensioning","Narrative of improvement, modification or redesign","Functionality of improvement, modification or redesign","TOTAL","Relevant orthographic views","Isometric drawing","Correct presentation of ALL the features","The relative size of all features and fixtures to each other","Labels and explanatory notes","Dimensioning","Narrative of improvement, modification or redesign","Functionality of improvement, modification or redesign","TOTAL","Relevant orthographic views","Isometric drawing","Correct presentation of ALL the features","The relative size of all features and fixtures to each other","Labels and explanatory notes","Dimensioning","Narrative of improvement, modification or redesign","Functionality of improvement, modification or redesign","TOTAL","Appropriate and easily understandable presentation of the selection process","Using the requirements and specifications as criteria for the evaluation","Relevant and comprehensive reasons (evaluating and comparing)","A rating scale to score each solution, i.e. a mark allocation of each criteria","A summary of the reasons for the selected solution(s)","TOTAL","Appropriately sized drawing sheets","Borders on all the drawing sheets of working drawings and pictorial drawing","Appropriate and complete mechanical title block on the first working drawing (5.1)","TOTAL","ALL the parts included and drawn correctly according to actual tool/instrument","All hatching detail or, if not sectioned, ALL external features","ALL bolts and nuts and other fastening methods correct in ALL FOUR views","Labels and notes for ALL FOUR views","Projection symbol","Suitable scale selected and indicated correctly for ALL FOUR views","TOTAL","ALL the parts included and drawn correctly according to the actual\ntool/instrument","All hatching detail or, if not sectioned, external features","Dimensions for ALL FOUR views","ALL centre lines on ALL FOUR views","ALL FOUR views drawn correctly in third-angle orthographic projection","TOTAL","Appropriate secondary views selected","ALL the parts included and drawn correctly according to the actual\ntool/instrument","All hatching detail or, if not sectioned, external features","TWO views sectioned or contain types of section","Correct cutting planes for the TWO sectional views and/or types of sections","TOTAL","Appropriate view selected as the front view and is drawn correctly","TWO other relevant views selected and drawn correctly","Improvement/modification/re-design correlates with selected freehand solution","Comprehensive list of explanatory labels and notes","Dimensions","ONE view sectioned, or contain types of section, and drawn correctly","Cutting plane(s)","ALL hatching detail","Relevant welding symbols and/or machining symbols and/or tolerances","Projection symbol","Suitable scale selected and indicated correctly","Drawing is in third-angle orthographic projection","TOTAL","Suitable scale selected and indicated correctly","Evidence of views/drawings and construction/method used for the drawing","Isometric drawing/answer (Use 7-mark rubric on page 45 of the EGD CAPS)","TOTAL","Checklist(s) of continuous self-evaluation of the entire process (mark out of 10 ÷ 2)","The meeting of ALL the deadlines during the development (mark out of 10 ÷ 2)","TOTAL","Cover page","Index","Summative assessment sheet and declaration","Correct sequencing of ALL presentation requirements","Name and numbering on ALL the presentation requirements","eneral impression of file/portfolio, e.g. binding, appearance etc. (mark out of 10 ÷ 2)","TOTAL","Freehand drawing methods and skills (See ANNEXURE A on page 23)","Neatness, line work/line quality and printing (See ANNEXURE A on page 23)","Use of drawing instruments, drawing methods and skills (See ANNEXURE A on page 23)","Neatness, line work/line quality and printing (See ANNEXURE A on page 23)","Competence displayed in using a CAD system/program (See ANNEXURE A on page 23)","Layout and correctness of the drawings presentation (See ANNEXURE A on page 23)"]
[null,"HOD:",null,{"$f":"TERM1!F8","v":0}]
[]
[]
[]
[]
[null,"Admission",null,"SURNAME","NAME",2,2,2,2,2,{"$f":"SUM(F12:J12)","v":10},2,2,2,2,1,1,{"$f":"SUM(L12:Q12)","v":10},2,2,2,2,2,2,2,1,{"$f":"ROUND((SUM(S12:Z12)/1.5),0)","v":10},2,2,2,2,2,2,2,1,{"$f":"ROUND((SUM(AB12:AI13)/1.5),0)","v":10},2,2,2,2,2,2,2,1,{"$f":"ROUND((SUM(AK12:AR13)/1.5),0)","v":10},2,2,2,2,2,{"$f":"SUM(AT12:AX12)","v":10},1,2,7,{"$f":"SUM(AZ12:BB12)","v":10},2,2,2,2,1,1,{"$f":"ROUND((SUM(BD12:BI12)),0)","v":10},2,2,2,2,2,{"$f":"ROUND((SUM(BK12:BO12)),0)","v":10},2,2,2,2,2,{"$f":"SUM(BQ12:BU12)","v":10},2,2,2,2,2,2,1,2,2,1,1,1,{"$f":"SUM(BW12:CH12)/2","v":10},1,2,7,{"$f":"SUM(CJ12:CL12)","v":10},5,5,{"$f":"SUM(CN12:CO12)","v":10},1,1,1,1,1,5,{"$f":"SUM(CQ12:CV12)","v":10},10,10,10,10,10,10,{"$f":"ROUND((SUM(K12+R12+AA12+AJ12+AS12+AY12+CP12+CW12)/3.2),0)","v":25},{"$f":"ROUND((SUM(BC12+BJ12+BP12+BV12+CI12+CM12)/1.2),0)","v":50},null,25,{"$f":"SUM(DD12+DE12+DG12)","v":100}]
[]
[null,"DATE:"]
[{"$f":"SUM(COUNTA(D15)+COUNT(B15))","v":2},1,{"$f":"TERM1!E16","v":0},{"$f":"TERM1!F16","v":0},{"$f":"TERM1!G16","v":0},null,null,null,null,null,{"$f":"SUM(F15:J15)","v":0},null,null,null,null,null,null,{"$f":"SUM(L15:Q15)","v":0},null,null,null,null,null,null,null,null,{"$f":"ROUND((SUM(S15:Z15)/1.5),0)","v":0},null,null,null,null,null,null,null,null,{"$f":"ROUND((SUM(AB15:AI16)/1.5),0)","v":0},null,null,null,null,null,null,null,null,{"$f":"ROUND((SUM(AK15:AR16)/1.5),0)","v":0},null,null,null,null,null,{"$f":"SUM(AT15:AX15)","v":0},null,null,null,{"$f":"SUM(AZ15:BB15)","v":0},null,null,null,null,null,null,{"$f":"ROUND((SUM(BD15:BI15)),0)","v":0},null,null,null,null,null,{"$f":"ROUND((SUM(BK15:BO15)),0)","v":0},null,null,null,null,null,{"$f":"SUM(BQ15:BU15)","v":0},null,null,null,null,null,null,null,null,null,null,null,null,{"$f":"SUM(BW15:CH15)/2","v":0},null,null,null,{"$f":"SUM(CJ15:CL15)","v":0},null,null,{"$f":"SUM(CN15:CO15)","v":0},null,null,null,null,null,null,{"$f":"SUM(CQ15:CV15)","v":0},null,null,null,null,null,null,{"$f":"ROUND((SUM(K15+R15+AA15+AJ15+AS15+AY15+CP15+CW15)/3.2),0)","v":0},{"$f":"ROUND((SUM(BC15+BJ15+BP15+BV15+CI15+CM15)/1.2),0)","v":0},{"$f":"COUNT(CX15:DC15)","v":0},{"$f":"ROUND(IF(DF15=4,SUM(CX15:DA15)/1.6,IF(DF15=6,SUM(CX15:DC15)/2.4,SUM(CX15:DA15))),0)","v":0},{"$f":"SUM(DD15+DE15+DG15)","v":0}]
[{"$f":"SUM(COUNTA(D16)+COUNT(B16))","v":2},{"$f":"B15+1","v":2},{"$f":"TERM1!E17","v":0},{"$f":"TERM1!F17","v":0},{"$f":"TERM1!G17","v":0},null,null,null,null,null,{"$f":"SUM(F16:J16)","v":0},null,null,null,null,null,null,0,null,null,null,null,null,null,null,null,0,null,null,null,null,null,null,null,null,0,null,null,null,null,null,null,null,null,0,null,null,null,null,null,0,null,null,null,0,null,null,null,null,null,null,0,null,null,null,null,null,0,null,null,null,null,null,0,null,null,null,null,null,null,null,null,null,null,null,null,0,null,null,null,0,null,null,0,null,null,null,null,null,null,0,null,null,null,null,null,null,0,0,{"$f":"COUNT(CX16:DC16)","v":0},{"$f":"ROUND(IF(DF16=4,SUM(CX16:DA16)/1.6,IF(DF16=6,SUM(CX16:DC16)/2.4,SUM(CX16:DA16))),0)","v":0},{"$f":"SUM(DD16+DE16+DG16)","v":0}]
[2,{"$f":"B16+1","v":3},{"$f":"TERM1!E18","v":0},{"$f":"TERM1!F18","v":0},{"$f":"TERM1!G18","v":0},null,null,null,null,null,0,null,null,null,null,null,null,0,null,null,null,null,null,null,null,null,0,null,null,null,null,null,null,null,null,0,null,null,null,null,null,null,null,null,0,null,null,null,null,null,0,null,null,null,0,null,null,null,null,null,null,0,null,null,null,null,null,0,null,null,null,null,null,0,null,null,null,null,null,null,null,null,null,null,null,null,0,null,null,null,0,null,null,0,null,null,null,null,null,null,0,null,null,null,null,null,null,0,0,0,0,0]
[2,4,{"$f":"TERM1!E19","v":0},{"$f":"TERM1!F19","v":0},{"$f":"TERM1!G19","v":0},null,null,null,null,null,{"$f":"SUM(F18:J18)","v":0},null,null,null,null,null,null,0,null,null,null,null,null,null,null,null,0,null,null,null,null,null,null,null,null,0,null,null,null,null,null,null,null,null,0,null,null,null,null,null,0,null,null,null,0,null,null,null,null,null,null,0,null,null,null,null,null,0,null,null,null,null,null,0,null,null,null,null,null,null,null,null,null,null,null,null,0,null,null,null,0,null,null,0,null,null,null,null,null,null,0,null,null,null,null,null,null,0,0,0,0,0]
[2,5,{"$f":"TERM1!E20","v":0},{"$f":"TERM1!F20","v":0},{"$f":"TERM1!G20","v":0},null,null,null,null,null,{"$f":"SUM(F19:J19)","v":0},null,null,null,null,null,null,0,null,null,null,null,null,null,null,null,0,null,null,null,null,null,null,null,null,0,null,null,null,null,null,null,null,null,0,null,null,null,null,null,0,null,null,null,0,null,null,null,null,null,null,0,null,null,null,null,null,0,null,null,null,null,null,0,null,null,null,null,null,null,null,null,null,null,null,null,0,null,null,null,0,null,null,0,null,null,null,null,null,null,0,null,null,null,null,null,null,0,0,0,0,0]
[2,6,{"$f":"TERM1!E21","v":0},{"$f":"TERM1!F21","v":0},{"$f":"TERM1!G21","v":0},null,null,null,null,null,0,null,null,null,null,null,null,0,null,null,null,null,null,null,null,null,0,null,null,null,null,null,null,null,null,0,null,null,null,null,null,null,null,null,0,null,null,null,null,null,0,null,null,null,0,null,null,null,null,null,null,0,null,null,null,null,null,0,null,null,null,null,null,0,null,null,null,null,null,null,null,null,null,null,null,null,0,null,null,null,0,null,null,0,null,null,null,null,null,null,0,null,null,null,null,null,null,0,0,0,0,0]
[2,7,{"$f":"TERM1!E22","v":0},{"$f":"TERM1!F22","v":0},{"$f":"TERM1!G22","v":0},null,null,null,null,null,0,null,null,null,null,null,null,0,null,null,null,null,null,null,null,null,0,null,null,null,null,null,null,null,null,0,null,null,null,null,null,null,null,null,0,null,null,null,null,null,0,null,null,null,0,null,null,null,null,null,null,0,null,null,null,null,null,0,null,null,null,null,null,0,null,null,null,null,null,null,null,null,null,null,null,null,0,null,null,null,0,null,null,0,null,null,null,null,null,null,0,null,null,null,null,null,null,0,0,0,0,0]
[2,8,{"$f":"TERM1!E23","v":0},{"$f":"TERM1!F23","v":0},{"$f":"TERM1!G23","v":0},null,null,null,null,null,0,null,null,null,null,null,null,0,null,null,null,null,null,null,null,null,0,null,null,null,null,null,null,null,null,0,null,null,null,null,null,null,null,null,0,null,null,null,null,null,0,null,null,null,0,null,null,null,null,null,null,0,null,null,null,null,null,0,null,null,null,null,null,0,null,null,null,null,null,null,null,null,null,null,null,null,0,null,null,null,0,null,null,0,null,null,null,null,null,null,0,null,null,null,null,null,null,0,0,0,0,0]
[2,{"$f":"B22+1","v":9},{"$f":"TERM1!E24","v":0},{"$f":"TERM1!F24","v":0},{"$f":"TERM1!G24","v":0},null,null,null,null,null,0,null,null,null,null,null,null,0,null,null,null,null,null,null,null,null,0,null,null,null,null,null,null,null,null,0,null,null,null,null,null,null,null,null,0,null,null,null,null,null,0,null,null,null,0,null,null,null,null,null,null,0,null,null,null,null,null,0,null,null,null,null,null,0,null,null,null,null,null,null,null,null,null,null,null,null,0,null,null,null,0,null,null,0,null,null,null,null,null,null,0,null,null,null,null,null,null,0,0,0,0,0]
[2,10,{"$f":"TERM1!E25","v":0},{"$f":"TERM1!F25","v":0},{"$f":"TERM1!G25","v":0},null,null,null,null,null,0,null,null,null,null,null,null,0,null,null,null,null,null,null,null,null,0,null,null,null,null,null,null,null,null,0,null,null,null,null,null,null,null,null,0,null,null,null,null,null,0,null,null,null,0,null,null,null,null,null,null,0,null,null,null,null,null,0,null,null,null,null,null,0,null,null,null,null,null,null,null,null,null,null,null,null,0,null,null,null,0,null,null,0,null,null,null,null,null,null,0,null,null,null,null,null,null,0,0,0,0,0]
[2,11,{"$f":"TERM1!E26","v":0},{"$f":"TERM1!F26","v":0},{"$f":"TERM1!G26","v":0},null,null,null,null,null,0,null,null,null,null,null,null,0,null,null,null,null,null,null,null,null,0,null,null,null,null,null,null,null,null,0,null,null,null,null,null,null,null,null,0,null,null,null,null,null,0,null,null,null,0,null,null,null,null,null,null,0,null,null,null,null,null,0,null,null,null,null,null,0,null,null,null,null,null,null,null,null,null,null,null,null,0,null,null,null,0,null,null,0,null,null,null,null,null,null,0,null,null,null,null,null,null,0,0,0,0,0]
[2,12,{"$f":"TERM1!E27","v":0},{"$f":"TERM1!F27","v":0},{"$f":"TERM1!G27","v":0},null,null,null,null,null,0,null,null,null,null,null,null,0,null,null,null,null,null,null,null,null,0,null,null,null,null,null,null,null,null,0,null,null,null,null,null,null,null,null,0,null,null,null,null,null,0,null,null,null,0,null,null,null,null,null,null,0,null,null,null,null,null,0,null,null,null,null,null,0,null,null,null,null,null,null,null,null,null,null,null,null,0,null,null,null,0,null,null,0,null,null,null,null,null,null,0,null,null,null,null,null,null,0,0,0,0,0]
[2,13,{"$f":"TERM1!E28","v":0},{"$f":"TERM1!F28","v":0},{"$f":"TERM1!G28","v":0},null,null,null,null,null,0,null,null,null,null,null,null,0,null,null,null,null,null,null,null,null,0,null,null,null,null,null,null,null,null,0,null,null,null,null,null,null,null,null,0,null,null,null,null,null,0,null,null,null,0,null,null,null,null,null,null,0,null,null,null,null,null,0,null,null,null,null,null,0,null,null,null,null,null,null,null,null,null,null,null,null,0,null,null,null,0,null,null,0,null,null,null,null,null,null,0,null,null,null,null,null,null,0,0,0,0,0]
[2,14,{"$f":"TERM1!E29","v":0},{"$f":"TERM1!F29","v":0},{"$f":"TERM1!G29","v":0},null,null,null,null,null,0,null,null,null,null,null,null,0,null,null,null,null,null,null,null,null,0,null,null,null,null,null,null,null,null,0,null,null,null,null,null,null,null,null,0,null,null,null,null,null,0,null,null,null,0,null,null,null,null,null,null,0,null,null,null,null,null,0,null,null,null,null,null,0,null,null,null,null,null,null,null,null,null,null,null,null,0,null,null,null,0,null,null,0,null,null,null,null,null,null,0,null,null,null,null,null,null,0,0,0,0,0]
[2,15,{"$f":"TERM1!E30","v":0},{"$f":"TERM1!F30","v":0},{"$f":"TERM1!G30","v":0},null,null,null,null,null,0,null,null,null,null,null,null,0,null,null,null,null,null,null,null,null,0,null,null,null,null,null,null,null,null,0,null,null,null,null,null,null,null,null,0,null,null,null,null,null,0,null,null,null,0,null,null,null,null,null,null,0,null,null,null,null,null,0,null,null,null,null,null,0,null,null,null,null,null,null,null,null,null,null,null,null,0,null,null,null,0,null,null,0,null,null,null,null,null,null,0,null,null,null,null,null,null,0,0,0,0,0]
[2,16,{"$f":"TERM1!E31","v":0},{"$f":"TERM1!F31","v":0},{"$f":"TERM1!G31","v":0},null,null,null,null,null,0,null,null,null,null,null,null,0,null,null,null,null,null,null,null,null,0,null,null,null,null,null,null,null,null,0,null,null,null,null,null,null,null,null,0,null,null,null,null,null,0,null,null,null,0,null,null,null,null,null,null,0,null,null,null,null,null,0,null,null,null,null,null,0,null,null,null,null,null,null,null,null,null,null,null,null,0,null,null,null,0,null,null,0,null,null,null,null,null,null,0,null,null,null,null,null,null,0,0,0,0,0]
[2,17,{"$f":"TERM1!E32","v":0},{"$f":"TERM1!F32","v":0},{"$f":"TERM1!G32","v":0},null,null,null,null,null,0,null,null,null,null,null,null,0,null,null,null,null,null,null,null,null,0,null,null,null,null,null,null,null,null,0,null,null,null,null,null,null,null,null,0,null,null,null,null,null,0,null,null,null,0,null,null,null,null,null,null,0,null,null,null,null,null,0,null,null,null,null,null,0,null,null,null,null,null,null,null,null,null,null,null,null,0,null,null,null,0,null,null,0,null,null,null,null,null,null,0,null,null,null,null,null,null,0,0,0,0,0]
[2,18,{"$f":"TERM1!E33","v":0},{"$f":"TERM1!F33","v":0},{"$f":"TERM1!G33","v":0},null,null,null,null,null,0,null,null,null,null,null,null,0,null,null,null,null,null,null,null,null,0,null,null,null,null,null,null,null,null,0,null,null,null,null,null,null,null,null,0,null,null,null,null,null,0,null,null,null,0,null,null,null,null,null,null,0,null,null,null,null,null,0,null,null,null,null,null,0,null,null,null,null,null,null,null,null,null,null,null,null,0,null,null,null,0,null,null,0,null,null,null,null,null,null,0,null,null,null,null,null,null,0,0,0,0,0]
[2,19,{"$f":"TERM1!E34","v":0},{"$f":"TERM1!F34","v":0},{"$f":"TERM1!G34","v":0},null,null,null,null,null,0,null,null,null,null,null,null,0,null,null,null,null,null,null,null,null,0,null,null,null,null,null,null,null,null,0,null,null,null,null,null,null,null,null,0,null,null,null,null,null,0,null,null,null,0,null,null,null,null,null,null,0,null,null,null,null,null,0,null,null,null,null,null,0,null,null,null,null,null,null,null,null,null,null,null,null,0,null,null,null,0,null,null,0,null,null,null,null,null,null,0,null,null,null,null,null,null,0,0,0,0,0]
[2,20,{"$f":"TERM1!E35","v":0},{"$f":"TERM1!F35","v":0},{"$f":"TERM1!G35","v":0},null,null,null,null,null,0,null,null,null,null,null,null,0,null,null,null,null,null,null,null,null,0,null,null,null,null,null,null,null,null,0,null,null,null,null,null,null,null,null,0,null,null,null,null,null,0,null,null,null,0,null,null,null,null,null,null,0,null,null,null,null,null,0,null,null,null,null,null,0,null,null,null,null,null,null,null,null,null,null,null,null,0,null,null,null,0,null,null,0,null,null,null,null,null,null,0,null,null,null,null,null,null,0,0,0,0,0]
[2,21,{"$f":"TERM1!E36","v":0},{"$f":"TERM1!F36","v":0},{"$f":"TERM1!G36","v":0},null,null,null,null,null,0,null,null,null,null,null,null,0,null,null,null,null,null,null,null,null,0,null,null,null,null,null,null,null,null,0,null,null,null,null,null,null,null,null,0,null,null,null,null,null,0,null,null,null,0,null,null,null,null,null,null,0,null,null,null,null,null,0,null,null,null,null,null,0,null,null,null,null,null,null,null,null,null,null,null,null,0,null,null,null,0,null,null,0,null,null,null,null,null,null,0,null,null,null,null,null,null,0,0,0,0,0]
[2,22,{"$f":"TERM1!E37","v":0},{"$f":"TERM1!F37","v":0},{"$f":"TERM1!G37","v":0},null,null,null,null,null,0,null,null,null,null,null,null,0,null,null,null,null,null,null,null,null,0,null,null,null,null,null,null,null,null,0,null,null,null,null,null,null,null,null,0,null,null,null,null,null,0,null,null,null,0,null,null,null,null,null,null,0,null,null,null,null,null,0,null,null,null,null,null,0,null,null,null,null,null,null,null,null,null,null,null,null,0,null,null,null,0,null,null,0,null,null,null,null,null,null,0,null,null,null,null,null,null,0,0,0,0,0]
[2,23,{"$f":"TERM1!E38","v":0},{"$f":"TERM1!F38","v":0},{"$f":"TERM1!G38","v":0},null,null,null,null,null,0,null,null,null,null,null,null,0,null,null,null,null,null,null,null,null,0,null,null,null,null,null,null,null,null,0,null,null,null,null,null,null,null,null,0,null,null,null,null,null,0,null,null,null,0,null,null,null,null,null,null,0,null,null,null,null,null,0,null,null,null,null,null,0,null,null,null,null,null,null,null,null,null,null,null,null,0,null,null,null,0,null,null,0,null,null,null,null,null,null,0,null,null,null,null,null,null,0,0,0,0,0]
[2,24,{"$f":"TERM1!E39","v":0},{"$f":"TERM1!F39","v":0},{"$f":"TERM1!G39","v":0},null,null,null,null,null,0,null,null,null,null,null,null,0,null,null,null,null,null,null,null,null,0,null,null,null,null,null,null,null,null,0,null,null,null,null,null,null,null,null,0,null,null,null,null,null,0,null,null,null,0,null,null,null,null,null,null,0,null,null,null,null,null,0,null,null,null,null,null,0,null,null,null,null,null,null,null,null,null,null,null,null,0,null,null,null,0,null,null,0,null,null,null,null,null,null,0,null,null,null,null,null,null,0,0,0,0,0]
[2,25,{"$f":"TERM1!E40","v":0},{"$f":"TERM1!F40","v":0},{"$f":"TERM1!G40","v":0},null,null,null,null,null,0,null,null,null,null,null,null,0,null,null,null,null,null,null,null,null,0,null,null,null,null,null,null,null,null,0,null,null,null,null,null,null,null,null,0,null,null,null,null,null,0,null,null,null,0,null,null,null,null,null,null,0,null,null,null,null,null,0,null,null,null,null,null,0,null,null,null,null,null,null,null,null,null,null,null,null,0,null,null,null,0,null,null,0,null,null,null,null,null,null,0,null,null,null,null,null,null,0,0,0,0,0]
[2,26,{"$f":"TERM1!E41","v":0},{"$f":"TERM1!F41","v":0},{"$f":"TERM1!G41","v":0},null,null,null,null,null,0,null,null,null,null,null,null,0,null,null,null,null,null,null,null,null,0,null,null,null,null,null,null,null,null,0,null,null,null,null,null,null,null,null,0,null,null,null,null,null,0,null,null,null,0,null,null,null,null,null,null,0,null,null,null,null,null,0,null,null,null,null,null,0,null,null,null,null,null,null,null,null,null,null,null,null,0,null,null,null,0,null,null,0,null,null,null,null,null,null,0,null,null,null,null,null,null,0,0,0,0,0]
[2,27,{"$f":"TERM1!E42","v":0},{"$f":"TERM1!F42","v":0},{"$f":"TERM1!G42","v":0},null,null,null,null,null,0,null,null,null,null,null,null,0,null,null,null,null,null,null,null,null,0,null,null,null,null,null,null,null,null,0,null,null,null,null,null,null,null,null,0,null,null,null,null,null,0,null,null,null,0,null,null,null,null,null,null,0,null,null,null,null,null,0,null,null,null,null,null,0,null,null,null,null,null,null,null,null,null,null,null,null,0,null,null,null,0,null,null,0,null,null,null,null,null,null,0,null,null,null,null,null,null,0,0,0,0,0]
[2,28,{"$f":"TERM1!E43","v":0},{"$f":"TERM1!F43","v":0},{"$f":"TERM1!G43","v":0},null,null,null,null,null,0,null,null,null,null,null,null,0,null,null,null,null,null,null,null,null,0,null,null,null,null,null,null,null,null,0,null,null,null,null,null,null,null,null,0,null,null,null,null,null,0,null,null,null,0,null,null,null,null,null,null,0,null,null,null,null,null,0,null,null,null,null,null,0,null,null,null,null,null,null,null,null,null,null,null,null,0,null,null,null,0,null,null,0,null,null,null,null,null,null,0,null,null,null,null,null,null,0,0,0,0,0]
[2,29,{"$f":"TERM1!E44","v":0},{"$f":"TERM1!F44","v":0},{"$f":"TERM1!G44","v":0},null,null,null,null,null,0,null,null,null,null,null,null,0,null,null,null,null,null,null,null,null,0,null,null,null,null,null,null,null,null,0,null,null,null,null,null,null,null,null,0,null,null,null,null,null,0,null,null,null,0,null,null,null,null,null,null,0,null,null,null,null,null,0,null,null,null,null,null,0,null,null,null,null,null,null,null,null,null,null,null,null,0,null,null,null,0,null,null,0,null,null,null,null,null,null,0,null,null,null,null,null,null,0,0,0,0,0]
[2,30,{"$f":"TERM1!E45","v":0},{"$f":"TERM1!F45","v":0},{"$f":"TERM1!G45","v":0},null,null,null,null,null,0,null,null,null,null,null,null,0,null,null,null,null,null,null,null,null,0,null,null,null,null,null,null,null,null,0,null,null,null,null,null,null,null,null,0,null,null,null,null,null,0,null,null,null,0,null,null,null,null,null,null,0,null,null,null,null,null,0,null,null,null,null,null,0,null,null,null,null,null,null,null,null,null,null,null,null,0,null,null,null,0,null,null,0,null,null,null,null,null,null,0,null,null,null,null,null,null,0,0,0,0,0]
[2,31,{"$f":"TERM1!E46","v":0},{"$f":"TERM1!F46","v":0},{"$f":"TERM1!G46","v":0},null,null,null,null,null,0,null,null,null,null,null,null,0,null,null,null,null,null,null,null,null,0,null,null,null,null,null,null,null,null,0,null,null,null,null,null,null,null,null,0,null,null,null,null,null,0,null,null,null,0,null,null,null,null,null,null,0,null,null,null,null,null,0,null,null,null,null,null,0,null,null,null,null,null,null,null,null,null,null,null,null,0,null,null,null,0,null,null,0,null,null,null,null,null,null,0,null,null,null,null,null,null,0,0,0,0,0]
[2,{"$f":"B45+1","v":32},{"$f":"TERM1!E47","v":0},{"$f":"TERM1!F47","v":0},{"$f":"TERM1!G47","v":0},null,null,null,null,null,0,null,null,null,null,null,null,0,null,null,null,null,null,null,null,null,0,null,null,null,null,null,null,null,null,0,null,null,null,null,null,null,null,null,0,null,null,null,null,null,0,null,null,null,0,null,null,null,null,null,null,0,null,null,null,null,null,0,null,null,null,null,null,0,null,null,null,null,null,null,null,null,null,null,null,null,0,null,null,null,0,null,null,0,null,null,null,null,null,null,0,null,null,null,null,null,null,0,0,0,0,0]
[2,33,{"$f":"TERM1!E48","v":0},{"$f":"TERM1!F48","v":0},{"$f":"TERM1!G48","v":0},null,null,null,null,null,0,null,null,null,null,null,null,0,null,null,null,null,null,null,null,null,0,null,null,null,null,null,null,null,null,0,null,null,null,null,null,null,null,null,0,null,null,null,null,null,0,null,null,null,0,null,null,null,null,null,null,0,null,null,null,null,null,0,null,null,null,null,null,{"$f":"SUM(BQ47:BU47)","v":0},null,null,null,null,null,null,null,null,null,null,null,null,0,null,null,null,0,null,null,0,null,null,null,null,null,null,0,null,null,null,null,null,null,{"$f":"ROUND((SUM(K47+R47+AA47+AJ47+AS47+AY47+CP47+CW47)/3.2),0)","v":0},{"$f":"ROUND((SUM(BC47+BJ47+BP47+BV47+CI47+CM47)/1.2),0)","v":0},0,0,0]
[2,34,{"$f":"TERM1!E49","v":0},{"$f":"TERM1!F49","v":0},{"$f":"TERM1!G49","v":0},null,null,null,null,null,0,null,null,null,null,null,null,0,null,null,null,null,null,null,null,null,0,null,null,null,null,null,null,null,null,0,null,null,null,null,null,null,null,null,0,null,null,null,null,null,0,null,null,null,0,null,null,null,null,null,null,0,null,null,null,null,null,0,null,null,null,null,null,0,null,null,null,null,null,null,null,null,null,null,null,null,0,null,null,null,0,null,null,0,null,null,null,null,null,null,0,null,null,null,null,null,null,0,0,0,0,0]
[2,35,{"$f":"TERM1!E50","v":0},{"$f":"TERM1!F50","v":0},{"$f":"TERM1!G50","v":0},null,null,null,null,null,0,null,null,null,null,null,null,0,null,null,null,null,null,null,null,null,0,null,null,null,null,null,null,null,null,0,null,null,null,null,null,null,null,null,0,null,null,null,null,null,0,null,null,null,0,null,null,null,null,null,null,0,null,null,null,null,null,0,null,null,null,null,null,0,null,null,null,null,null,null,null,null,null,null,null,null,0,null,null,null,0,null,null,0,null,null,null,null,null,null,0,null,null,null,null,null,null,0,0,0,0,0]
[2,36,{"$f":"TERM1!E51","v":0},{"$f":"TERM1!F51","v":0},{"$f":"TERM1!G51","v":0},null,null,null,null,null,0,null,null,null,null,null,null,0,null,null,null,null,null,null,null,null,0,null,null,null,null,null,null,null,null,0,null,null,null,null,null,null,null,null,0,null,null,null,null,null,0,null,null,null,0,null,null,null,null,null,null,0,null,null,null,null,null,0,null,null,null,null,null,0,null,null,null,null,null,null,null,null,null,null,null,null,0,null,null,null,0,null,null,0,null,null,null,null,null,null,0,null,null,null,null,null,null,0,0,0,0,0]
[2,37,{"$f":"TERM1!E52","v":0},{"$f":"TERM1!F52","v":0},{"$f":"TERM1!G52","v":0},null,null,null,null,null,0,null,null,null,null,null,null,0,null,null,null,null,null,null,null,null,0,null,null,null,null,null,null,null,null,0,null,null,null,null,null,null,null,null,0,null,null,null,null,null,0,null,null,null,0,null,null,null,null,null,null,0,null,null,null,null,null,0,null,null,null,null,null,0,null,null,null,null,null,null,null,null,null,null,null,null,0,null,null,null,0,null,null,0,null,null,null,null,null,null,0,null,null,null,null,null,null,0,0,0,0,0]
[2,38,{"$f":"TERM1!E53","v":0},{"$f":"TERM1!F53","v":0},{"$f":"TERM1!G53","v":0},null,null,null,null,null,0,null,null,null,null,null,null,0,null,null,null,null,null,null,null,null,0,null,null,null,null,null,null,null,null,0,null,null,null,null,null,null,null,null,0,null,null,null,null,null,0,null,null,null,0,null,null,null,null,null,null,0,null,null,null,null,null,0,null,null,null,null,null,0,null,null,null,null,null,null,null,null,null,null,null,null,0,null,null,null,0,null,null,0,null,null,null,null,null,null,0,null,null,null,null,null,null,0,0,0,0,0]
[2,39,{"$f":"TERM1!E54","v":0},{"$f":"TERM1!F54","v":0},{"$f":"TERM1!G54","v":0},null,null,null,null,null,0,null,null,null,null,null,null,0,null,null,null,null,null,null,null,null,0,null,null,null,null,null,null,null,null,0,null,null,null,null,null,null,null,null,0,null,null,null,null,null,0,null,null,null,0,null,null,null,null,null,null,0,null,null,null,null,null,0,null,null,null,null,null,0,null,null,null,null,null,null,null,null,null,null,null,null,0,null,null,null,0,null,null,0,null,null,null,null,null,null,0,null,null,null,null,null,null,0,0,0,0,0]
[2,40,{"$f":"TERM1!E55","v":0},{"$f":"TERM1!F55","v":0},{"$f":"TERM1!G55","v":0},null,null,null,null,null,0,null,null,null,null,null,null,0,null,null,null,null,null,null,null,null,0,null,null,null,null,null,null,null,null,0,null,null,null,null,null,null,null,null,0,null,null,null,null,null,0,null,null,null,0,null,null,null,null,null,null,0,null,null,null,null,null,0,null,null,null,null,null,0,null,null,null,null,null,null,null,null,null,null,null,null,0,null,null,null,0,null,null,0,null,null,null,null,null,null,0,null,null,null,null,null,null,0,0,0,0,0]
[2,41,{"$f":"TERM1!E56","v":0},{"$f":"TERM1!F56","v":0},{"$f":"TERM1!G56","v":0},null,null,null,null,null,0,null,null,null,null,null,null,0,null,null,null,null,null,null,null,null,0,null,null,null,null,null,null,null,null,0,null,null,null,null,null,null,null,null,0,null,null,null,null,null,0,null,null,null,0,null,null,null,null,null,null,0,null,null,null,null,null,0,null,null,null,null,null,0,null,null,null,null,null,null,null,null,null,null,null,null,0,null,null,null,0,null,null,0,null,null,null,null,null,null,0,null,null,null,null,null,null,0,0,0,0,0]
[2,42,{"$f":"TERM1!E57","v":0},{"$f":"TERM1!F57","v":0},{"$f":"TERM1!G57","v":0},null,null,null,null,null,0,null,null,null,null,null,null,0,null,null,null,null,null,null,null,null,0,null,null,null,null,null,null,null,null,0,null,null,null,null,null,null,null,null,0,null,null,null,null,null,0,null,null,null,0,null,null,null,null,null,null,0,null,null,null,null,null,0,null,null,null,null,null,0,null,null,null,null,null,null,null,null,null,null,null,null,0,null,null,null,0,null,null,0,null,null,null,null,null,null,0,null,null,null,null,null,null,0,0,0,0,0]
[2,43,{"$f":"TERM1!E58","v":0},{"$f":"TERM1!F58","v":0},{"$f":"TERM1!G58","v":0},null,null,null,null,null,0,null,null,null,null,null,null,0,null,null,null,null,null,null,null,null,0,null,null,null,null,null,null,null,null,0,null,null,null,null,null,null,null,null,0,null,null,null,null,null,0,null,null,null,0,null,null,null,null,null,null,0,null,null,null,null,null,0,null,null,null,null,null,0,null,null,null,null,null,null,null,null,null,null,null,null,0,null,null,null,0,null,null,0,null,null,null,null,null,null,0,null,null,null,null,null,null,0,0,0,0,0]
[2,44,{"$f":"TERM1!E59","v":0},{"$f":"TERM1!F59","v":0},{"$f":"TERM1!G59","v":0},null,null,null,null,null,0,null,null,null,null,null,null,0,null,null,null,null,null,null,null,null,0,null,null,null,null,null,null,null,null,0,null,null,null,null,null,null,null,null,0,null,null,null,null,null,0,null,null,null,0,null,null,null,null,null,null,0,null,null,null,null,null,0,null,null,null,null,null,0,null,null,null,null,null,null,null,null,null,null,null,null,0,null,null,null,0,null,null,0,null,null,null,null,null,null,0,null,null,null,null,null,null,0,0,0,0,0]
[2,45,{"$f":"TERM1!E60","v":0},{"$f":"TERM1!F60","v":0},{"$f":"TERM1!G60","v":0},null,null,null,null,null,0,null,null,null,null,null,null,0,null,null,null,null,null,null,null,null,0,null,null,null,null,null,null,null,null,0,null,null,null,null,null,null,null,null,0,null,null,null,null,null,0,null,null,null,0,null,null,null,null,null,null,0,null,null,null,null,null,0,null,null,null,null,null,0,null,null,null,null,null,null,null,null,null,null,null,null,0,null,null,null,0,null,null,0,null,null,null,null,null,null,0,null,null,null,null,null,null,0,0,0,0,0]
[2,46,{"$f":"TERM1!E61","v":0},{"$f":"TERM1!F61","v":0},{"$f":"TERM1!G61","v":0},null,null,null,null,null,0,null,null,null,null,null,null,0,null,null,null,null,null,null,null,null,0,null,null,null,null,null,null,null,null,0,null,null,null,null,null,null,null,null,0,null,null,null,null,null,0,null,null,null,0,null,null,null,null,null,null,0,null,null,null,null,null,0,null,null,null,null,null,0,null,null,null,null,null,null,null,null,null,null,null,null,0,null,null,null,0,null,null,0,null,null,null,null,null,null,0,null,null,null,null,null,null,0,0,0,0,0]
[2,47,{"$f":"TERM1!E62","v":0},{"$f":"TERM1!F62","v":0},{"$f":"TERM1!G62","v":0},null,null,null,null,null,0,null,null,null,null,null,null,0,null,null,null,null,null,null,null,null,0,null,null,null,null,null,null,null,null,0,null,null,null,null,null,null,null,null,0,null,null,null,null,null,0,null,null,null,0,null,null,null,null,null,null,0,null,null,null,null,null,0,null,null,null,null,null,0,null,null,null,null,null,null,null,null,null,null,null,null,0,null,null,null,0,null,null,0,null,null,null,null,null,null,0,null,null,null,null,null,null,0,0,0,0,0]
[2,48,{"$f":"TERM1!E63","v":0},{"$f":"TERM1!F63","v":0},{"$f":"TERM1!G63","v":0},null,null,null,null,null,0,null,null,null,null,null,null,0,null,null,null,null,null,null,null,null,0,null,null,null,null,null,null,null,null,0,null,null,null,null,null,null,null,null,0,null,null,null,null,null,0,null,null,null,0,null,null,null,null,null,null,0,null,null,null,null,null,0,null,null,null,null,null,0,null,null,null,null,null,null,null,null,null,null,null,null,0,null,null,null,0,null,null,0,null,null,null,null,null,null,0,null,null,null,null,null,null,0,0,0,0,0]
[2,49,{"$f":"TERM1!E64","v":0},{"$f":"TERM1!F64","v":0},{"$f":"TERM1!G64","v":0},null,null,null,null,null,0,null,null,null,null,null,null,0,null,null,null,null,null,null,null,null,0,null,null,null,null,null,null,null,null,0,null,null,null,null,null,null,null,null,0,null,null,null,null,null,0,null,null,null,0,null,null,null,null,null,null,0,null,null,null,null,null,0,null,null,null,null,null,0,null,null,null,null,null,null,null,null,null,null,null,null,0,null,null,null,0,null,null,0,null,null,null,null,null,null,0,null,null,null,null,null,null,0,0,0,0,0]
[2,50,{"$f":"TERM1!E65","v":0},{"$f":"TERM1!F65","v":0},{"$f":"TERM1!G65","v":0},null,null,null,null,null,0,null,null,null,null,null,null,0,null,null,null,null,null,null,null,null,0,null,null,null,null,null,null,null,null,0,null,null,null,null,null,null,null,null,0,null,null,null,null,null,0,null,null,null,0,null,null,null,null,null,null,0,null,null,null,null,null,0,null,null,null,null,null,0,null,null,null,null,null,null,null,null,null,null,null,null,0,null,null,null,0,null,null,0,null,null,null,null,null,null,0,null,null,null,null,null,null,0,0,0,0,0]
[2,51,{"$f":"TERM1!E66","v":0},{"$f":"TERM1!F66","v":0},{"$f":"TERM1!G66","v":0},null,null,null,null,null,0,null,null,null,null,null,null,0,null,null,null,null,null,null,null,null,0,null,null,null,null,null,null,null,null,0,null,null,null,null,null,null,null,null,0,null,null,null,null,null,0,null,null,null,0,null,null,null,null,null,null,0,null,null,null,null,null,0,null,null,null,null,null,0,null,null,null,null,null,null,null,null,null,null,null,null,0,null,null,null,0,null,null,0,null,null,null,null,null,null,0,null,null,null,null,null,null,0,0,0,0,0]
[2,52,{"$f":"TERM1!E67","v":0},{"$f":"TERM1!F67","v":0},{"$f":"TERM1!G67","v":0},null,null,null,null,null,0,null,null,null,null,null,null,0,null,null,null,null,null,null,null,null,0,null,null,null,null,null,null,null,null,0,null,null,null,null,null,null,null,null,0,null,null,null,null,null,0,null,null,null,0,null,null,null,null,null,null,0,null,null,null,null,null,0,null,null,null,null,null,0,null,null,null,null,null,null,null,null,null,null,null,null,0,null,null,null,0,null,null,0,null,null,null,null,null,null,0,null,null,null,null,null,null,0,0,0,0,0]
[2,53,{"$f":"TERM1!E68","v":0},{"$f":"TERM1!F68","v":0},{"$f":"TERM1!G68","v":0},null,null,null,null,null,0,null,null,null,null,null,null,0,null,null,null,null,null,null,null,null,0,null,null,null,null,null,null,null,null,0,null,null,null,null,null,null,null,null,0,null,null,null,null,null,0,null,null,null,0,null,null,null,null,null,null,0,null,null,null,null,null,0,null,null,null,null,null,0,null,null,null,null,null,null,null,null,null,null,null,null,0,null,null,null,0,null,null,0,null,null,null,null,null,null,0,null,null,null,null,null,null,0,0,0,0,0]
[2,54,{"$f":"TERM1!E69","v":0},{"$f":"TERM1!F69","v":0},{"$f":"TERM1!G69","v":0},null,null,null,null,null,0,null,null,null,null,null,null,0,null,null,null,null,null,null,null,null,0,null,null,null,null,null,null,null,null,0,null,null,null,null,null,null,null,null,0,null,null,null,null,null,0,null,null,null,0,null,null,null,null,null,null,0,null,null,null,null,null,0,null,null,null,null,null,0,null,null,null,null,null,null,null,null,null,null,null,null,0,null,null,null,0,null,null,0,null,null,null,null,null,null,0,null,null,null,null,null,null,0,0,0,0,0]
[2,55,{"$f":"TERM1!E70","v":0},{"$f":"TERM1!F70","v":0},{"$f":"TERM1!G70","v":0},null,null,null,null,null,0,null,null,null,null,null,null,0,null,null,null,null,null,null,null,null,0,null,null,null,null,null,null,null,null,0,null,null,null,null,null,null,null,null,0,null,null,null,null,null,0,null,null,null,0,null,null,null,null,null,null,0,null,null,null,null,null,0,null,null,null,null,null,0,null,null,null,null,null,null,null,null,null,null,null,null,0,null,null,null,0,null,null,0,null,null,null,null,null,null,0,null,null,null,null,null,null,0,0,0,0,0]
[2,56,{"$f":"TERM1!E71","v":0},{"$f":"TERM1!F71","v":0},{"$f":"TERM1!G71","v":0},null,null,null,null,null,0,null,null,null,null,null,null,0,null,null,null,null,null,null,null,null,0,null,null,null,null,null,null,null,null,0,null,null,null,null,null,null,null,null,0,null,null,null,null,null,0,null,null,null,0,null,null,null,null,null,null,0,null,null,null,null,null,0,null,null,null,null,null,0,null,null,null,null,null,null,null,null,null,null,null,null,0,null,null,null,0,null,null,0,null,null,null,null,null,null,0,null,null,null,null,null,null,0,0,0,0,0]
[2,57,{"$f":"TERM1!E72","v":0},{"$f":"TERM1!F72","v":0},{"$f":"TERM1!G72","v":0},null,null,null,null,null,0,null,null,null,null,null,null,0,null,null,null,null,null,null,null,null,0,null,null,null,null,null,null,null,null,0,null,null,null,null,null,null,null,null,0,null,null,null,null,null,0,null,null,null,0,null,null,null,null,null,null,0,null,null,null,null,null,0,null,null,null,null,null,0,null,null,null,null,null,null,null,null,null,null,null,null,0,null,null,null,0,null,null,0,null,null,null,null,null,null,0,null,null,null,null,null,null,0,0,0,0,0]
[2,58,{"$f":"TERM1!E73","v":0},{"$f":"TERM1!F73","v":0},{"$f":"TERM1!G73","v":0},null,null,null,null,null,0,null,null,null,null,null,null,0,null,null,null,null,null,null,null,null,0,null,null,null,null,null,null,null,null,0,null,null,null,null,null,null,null,null,0,null,null,null,null,null,0,null,null,null,0,null,null,null,null,null,null,0,null,null,null,null,null,0,null,null,null,null,null,0,null,null,null,null,null,null,null,null,null,null,null,null,0,null,null,null,0,null,null,0,null,null,null,null,null,null,0,null,null,null,null,null,null,0,0,0,0,0]
[2,59,{"$f":"TERM1!E74","v":0},{"$f":"TERM1!F74","v":0},{"$f":"TERM1!G74","v":0},null,null,null,null,null,0,null,null,null,null,null,null,0,null,null,null,null,null,null,null,null,0,null,null,null,null,null,null,null,null,0,null,null,null,null,null,null,null,null,0,null,null,null,null,null,0,null,null,null,0,null,null,null,null,null,null,0,null,null,null,null,null,0,null,null,null,null,null,0,null,null,null,null,null,null,null,null,null,null,null,null,0,null,null,null,0,null,null,0,null,null,null,null,null,null,0,null,null,null,null,null,null,0,0,0,0,0]
[2,60,{"$f":"TERM1!E75","v":0},{"$f":"TERM1!F75","v":0},{"$f":"TERM1!G75","v":0},null,null,null,null,null,0,null,null,null,null,null,null,0,null,null,null,null,null,null,null,null,0,null,null,null,null,null,null,null,null,0,null,null,null,null,null,null,null,null,0,null,null,null,null,null,0,null,null,null,0,null,null,null,null,null,null,0,null,null,null,null,null,0,null,null,null,null,null,0,null,null,null,null,null,null,null,null,null,null,null,null,0,null,null,null,0,null,null,0,null,null,null,null,null,null,0,null,null,null,null,null,null,0,0,0,0,0]
[2,61,{"$f":"TERM1!E76","v":0},{"$f":"TERM1!F76","v":0},{"$f":"TERM1!G76","v":0},null,null,null,null,null,0,null,null,null,null,null,null,0,null,null,null,null,null,null,null,null,0,null,null,null,null,null,null,null,null,0,null,null,null,null,null,null,null,null,0,null,null,null,null,null,0,null,null,null,0,null,null,null,null,null,null,0,null,null,null,null,null,0,null,null,null,null,null,0,null,null,null,null,null,null,null,null,null,null,null,null,0,null,null,null,0,null,null,0,null,null,null,null,null,null,0,null,null,null,null,null,null,0,0,0,0,0]
[2,62,{"$f":"TERM1!E77","v":0},{"$f":"TERM1!F77","v":0},{"$f":"TERM1!G77","v":0},null,null,null,null,null,0,null,null,null,null,null,null,0,null,null,null,null,null,null,null,null,0,null,null,null,null,null,null,null,null,0,null,null,null,null,null,null,null,null,0,null,null,null,null,null,0,null,null,null,0,null,null,null,null,null,null,0,null,null,null,null,null,0,null,null,null,null,null,0,null,null,null,null,null,null,null,null,null,null,null,null,0,null,null,null,0,null,null,0,null,null,null,null,null,null,0,null,null,null,null,null,null,0,0,0,0,0]
[2,63,{"$f":"TERM1!E78","v":0},{"$f":"TERM1!F78","v":0},{"$f":"TERM1!G78","v":0},null,null,null,null,null,0,null,null,null,null,null,null,0,null,null,null,null,null,null,null,null,0,null,null,null,null,null,null,null,null,0,null,null,null,null,null,null,null,null,0,null,null,null,null,null,0,null,null,null,0,null,null,null,null,null,null,0,null,null,null,null,null,0,null,null,null,null,null,0,null,null,null,null,null,null,null,null,null,null,null,null,0,null,null,null,0,null,null,0,null,null,null,null,null,null,0,null,null,null,null,null,null,0,0,0,0,0]
[2,64,{"$f":"TERM1!E79","v":0},{"$f":"TERM1!F79","v":0},{"$f":"TERM1!G79","v":0},null,null,null,null,null,0,null,null,null,null,null,null,0,null,null,null,null,null,null,null,null,0,null,null,null,null,null,null,null,null,0,null,null,null,null,null,null,null,null,0,null,null,null,null,null,0,null,null,null,0,null,null,null,null,null,null,0,null,null,null,null,null,0,null,null,null,null,null,0,null,null,null,null,null,null,null,null,null,null,null,null,0,null,null,null,0,null,null,0,null,null,null,null,null,null,0,null,null,null,null,null,null,0,0,0,0,0]
[2,65,{"$f":"TERM1!E80","v":0},{"$f":"TERM1!F80","v":0},{"$f":"TERM1!G80","v":0},null,null,null,null,null,{"$f":"SUM(F79:J79)","v":0},null,null,null,null,null,null,{"$f":"SUM(L79:Q79)","v":0},null,null,null,null,null,null,null,null,{"$f":"ROUND((SUM(S79:Z79)/1.5),0)","v":0},null,null,null,null,null,null,null,null,{"$f":"ROUND((SUM(AB79:AI80)/1.5),0)","v":0},null,null,null,null,null,null,null,null,{"$f":"ROUND((SUM(AK79:AR80)/1.5),0)","v":0},null,null,null,null,null,{"$f":"SUM(AT79:AX79)","v":0},null,null,null,{"$f":"SUM(AZ79:BB79)","v":0},null,null,null,null,null,null,{"$f":"ROUND((SUM(BD79:BI79)),0)","v":0},null,null,null,null,null,{"$f":"ROUND((SUM(BK79:BO79)),0)","v":0},null,null,null,null,null,{"$f":"SUM(BQ79:BU79)","v":0},null,null,null,null,null,null,null,null,null,null,null,null,{"$f":"SUM(BW79:CH79)/2","v":0},null,null,null,{"$f":"SUM(CJ79:CL79)","v":0},null,null,{"$f":"SUM(CN79:CO79)","v":0},null,null,null,null,null,null,{"$f":"SUM(CQ79:CV79)","v":0},null,null,null,null,null,null,{"$f":"ROUND((SUM(K79+R79+AA79+AJ79+AS79+AY79+CP79+CW79)/3.2),0)","v":0},{"$f":"ROUND((SUM(BC79+BJ79+BP79+BV79+CI79+CM79)/1.2),0)","v":0},0,0,0]
[{"$f":"SUM(COUNTA(D80)+COUNT(B80))","v":2},66,{"$f":"TERM1!E81","v":0},{"$f":"TERM1!F81","v":0},{"$f":"TERM1!G81","v":0},null,null,null,null,null,0,null,null,null,null,null,null,0,null,null,null,null,null,null,null,null,0,null,null,null,null,null,null,null,null,0,null,null,null,null,null,null,null,null,0,null,null,null,null,null,0,null,null,null,0,null,null,null,null,null,null,0,null,null,null,null,null,0,null,null,null,null,null,0,null,null,null,null,null,null,null,null,null,null,null,null,0,null,null,null,0,null,null,0,null,null,null,null,null,null,0,null,null,null,null,null,null,0,0,{"$f":"COUNT(CX80:DC80)","v":0},{"$f":"ROUND(IF(DF80=4,SUM(CX80:DA80)/1.6,IF(DF80=6,SUM(CX80:DC80)/2.4,SUM(CX80:DA80))),0)","v":0},{"$f":"SUM(DD80+DE80+DG80)","v":0}]
[2,{"$f":"B80+1","v":67},{"$f":"TERM1!E82","v":0},{"$f":"TERM1!F82","v":0},{"$f":"TERM1!G82","v":0},null,null,null,null,null,0,null,null,null,null,null,null,0,null,null,null,null,null,null,null,null,0,null,null,null,null,null,null,null,null,0,null,null,null,null,null,null,null,null,0,null,null,null,null,null,0,null,null,null,0,null,null,null,null,null,null,0,null,null,null,null,null,0,null,null,null,null,null,0,null,null,null,null,null,null,null,null,null,null,null,null,0,null,null,null,0,null,null,0,null,null,null,null,null,null,0,null,null,null,null,null,null,0,0,0,0,0]
[2,68,{"$f":"TERM1!E83","v":0},{"$f":"TERM1!F83","v":0},{"$f":"TERM1!G83","v":0},null,null,null,null,null,0,null,null,null,null,null,null,0,null,null,null,null,null,null,null,null,0,null,null,null,null,null,null,null,null,0,null,null,null,null,null,null,null,null,0,null,null,null,null,null,0,null,null,null,0,null,null,null,null,null,null,0,null,null,null,null,null,0,null,null,null,null,null,0,null,null,null,null,null,null,null,null,null,null,null,null,0,null,null,null,0,null,null,0,null,null,null,null,null,null,0,null,null,null,null,null,null,0,0,0,0,0]
[2,69,{"$f":"TERM1!E84","v":0},{"$f":"TERM1!F84","v":0},{"$f":"TERM1!G84","v":0},null,null,null,null,null,0,null,null,null,null,null,null,0,null,null,null,null,null,null,null,null,0,null,null,null,null,null,null,null,null,0,null,null,null,null,null,null,null,null,0,null,null,null,null,null,0,null,null,null,0,null,null,null,null,null,null,0,null,null,null,null,null,0,null,null,null,null,null,0,null,null,null,null,null,null,null,null,null,null,null,null,0,null,null,null,0,null,null,0,null,null,null,null,null,null,0,null,null,null,null,null,null,0,0,0,0,0]
[2,70,{"$f":"TERM1!E85","v":0},{"$f":"TERM1!F85","v":0},{"$f":"TERM1!G85","v":0},null,null,null,null,null,0,null,null,null,null,null,null,0,null,null,null,null,null,null,null,null,0,null,null,null,null,null,null,null,null,0,null,null,null,null,null,null,null,null,0,null,null,null,null,null,0,null,null,null,0,null,null,null,null,null,null,0,null,null,null,null,null,0,null,null,null,null,null,0,null,null,null,null,null,null,null,null,null,null,null,null,0,null,null,null,0,null,null,0,null,null,null,null,null,null,0,null,null,null,null,null,null,0,0,0,0,0]
[2,71,{"$f":"TERM1!E86","v":0},{"$f":"TERM1!F86","v":0},{"$f":"TERM1!G86","v":0},null,null,null,null,null,0,null,null,null,null,null,null,0,null,null,null,null,null,null,null,null,0,null,null,null,null,null,null,null,null,0,null,null,null,null,null,null,null,null,0,null,null,null,null,null,0,null,null,null,0,null,null,null,null,null,null,0,null,null,null,null,null,0,null,null,null,null,null,0,null,null,null,null,null,null,null,null,null,null,null,null,0,null,null,null,0,null,null,0,null,null,null,null,null,null,0,null,null,null,null,null,null,0,0,0,0,0]
[2,72,{"$f":"TERM1!E87","v":0},{"$f":"TERM1!F87","v":0},{"$f":"TERM1!G87","v":0},null,null,null,null,null,0,null,null,null,null,null,null,0,null,null,null,null,null,null,null,null,0,null,null,null,null,null,null,null,null,0,null,null,null,null,null,null,null,null,0,null,null,null,null,null,0,null,null,null,0,null,null,null,null,null,null,0,null,null,null,null,null,0,null,null,null,null,null,0,null,null,null,null,null,null,null,null,null,null,null,null,0,null,null,null,0,null,null,0,null,null,null,null,null,null,0,null,null,null,null,null,null,0,0,0,0,0]
[2,73,{"$f":"TERM1!E88","v":0},{"$f":"TERM1!F88","v":0},{"$f":"TERM1!G88","v":0},null,null,null,null,null,0,null,null,null,null,null,null,0,null,null,null,null,null,null,null,null,0,null,null,null,null,null,null,null,null,0,null,null,null,null,null,null,null,null,0,null,null,null,null,null,0,null,null,null,0,null,null,null,null,null,null,0,null,null,null,null,null,0,null,null,null,null,null,0,null,null,null,null,null,null,null,null,null,null,null,null,0,null,null,null,0,null,null,0,null,null,null,null,null,null,0,null,null,null,null,null,null,0,0,0,0,0]
[2,74,{"$f":"TERM1!E89","v":0},{"$f":"TERM1!F89","v":0},{"$f":"TERM1!G89","v":0},null,null,null,null,null,0,null,null,null,null,null,null,0,null,null,null,null,null,null,null,null,0,null,null,null,null,null,null,null,null,0,null,null,null,null,null,null,null,null,0,null,null,null,null,null,0,null,null,null,0,null,null,null,null,null,null,0,null,null,null,null,null,0,null,null,null,null,null,0,null,null,null,null,null,null,null,null,null,null,null,null,0,null,null,null,0,null,null,0,null,null,null,null,null,null,0,null,null,null,null,null,null,0,0,0,0,0]
[2,75,{"$f":"TERM1!E90","v":0},{"$f":"TERM1!F90","v":0},{"$f":"TERM1!G90","v":0},null,null,null,null,null,0,null,null,null,null,null,null,0,null,null,null,null,null,null,null,null,0,null,null,null,null,null,null,null,null,0,null,null,null,null,null,null,null,null,0,null,null,null,null,null,0,null,null,null,0,null,null,null,null,null,null,0,null,null,null,null,null,0,null,null,null,null,null,0,null,null,null,null,null,null,null,null,null,null,null,null,0,null,null,null,0,null,null,0,null,null,null,null,null,null,0,null,null,null,null,null,null,0,0,0,0,0]
[2,76,{"$f":"TERM1!E91","v":0},{"$f":"TERM1!F91","v":0},{"$f":"TERM1!G91","v":0},null,null,null,null,null,0,null,null,null,null,null,null,0,null,null,null,null,null,null,null,null,0,null,null,null,null,null,null,null,null,0,null,null,null,null,null,null,null,null,0,null,null,null,null,null,0,null,null,null,0,null,null,null,null,null,null,0,null,null,null,null,null,0,null,null,null,null,null,0,null,null,null,null,null,null,null,null,null,null,null,null,0,null,null,null,0,null,null,0,null,null,null,null,null,null,0,null,null,null,null,null,null,0,0,0,0,0]
[2,77,{"$f":"TERM1!E92","v":0},{"$f":"TERM1!F92","v":0},{"$f":"TERM1!G92","v":0},null,null,null,null,null,0,null,null,null,null,null,null,0,null,null,null,null,null,null,null,null,0,null,null,null,null,null,null,null,null,0,null,null,null,null,null,null,null,null,0,null,null,null,null,null,0,null,null,null,0,null,null,null,null,null,null,0,null,null,null,null,null,0,null,null,null,null,null,0,null,null,null,null,null,null,null,null,null,null,null,null,0,null,null,null,0,null,null,0,null,null,null,null,null,null,0,null,null,null,null,null,null,0,0,0,0,0]
[2,78,{"$f":"TERM1!E93","v":0},{"$f":"TERM1!F93","v":0},{"$f":"TERM1!G93","v":0},null,null,null,null,null,0,null,null,null,null,null,null,0,null,null,null,null,null,null,null,null,0,null,null,null,null,null,null,null,null,0,null,null,null,null,null,null,null,null,0,null,null,null,null,null,0,null,null,null,0,null,null,null,null,null,null,0,null,null,null,null,null,0,null,null,null,null,null,0,null,null,null,null,null,null,null,null,null,null,null,null,0,null,null,null,0,null,null,0,null,null,null,null,null,null,0,null,null,null,null,null,null,0,0,0,0,0]
[2,79,{"$f":"TERM1!E94","v":0},{"$f":"TERM1!F94","v":0},{"$f":"TERM1!G94","v":0},null,null,null,null,null,0,null,null,null,null,null,null,0,null,null,null,null,null,null,null,null,0,null,null,null,null,null,null,null,null,0,null,null,null,null,null,null,null,null,0,null,null,null,null,null,0,null,null,null,0,null,null,null,null,null,null,0,null,null,null,null,null,0,null,null,null,null,null,0,null,null,null,null,null,null,null,null,null,null,null,null,0,null,null,null,0,null,null,0,null,null,null,null,null,null,0,null,null,null,null,null,null,0,0,0,0,0]
[2,80,{"$f":"TERM1!E95","v":0},{"$f":"TERM1!F95","v":0},{"$f":"TERM1!G95","v":0},null,null,null,null,null,0,null,null,null,null,null,null,0,null,null,null,null,null,null,null,null,0,null,null,null,null,null,null,null,null,0,null,null,null,null,null,null,null,null,0,null,null,null,null,null,0,null,null,null,0,null,null,null,null,null,null,0,null,null,null,null,null,0,null,null,null,null,null,0,null,null,null,null,null,null,null,null,null,null,null,null,0,null,null,null,0,null,null,0,null,null,null,null,null,null,0,null,null,null,null,null,null,0,0,0,0,0]
[2,81,{"$f":"TERM1!E96","v":0},{"$f":"TERM1!F96","v":0},{"$f":"TERM1!G96","v":0},null,null,null,null,null,0,null,null,null,null,null,null,0,null,null,null,null,null,null,null,null,0,null,null,null,null,null,null,null,null,0,null,null,null,null,null,null,null,null,0,null,null,null,null,null,0,null,null,null,0,null,null,null,null,null,null,0,null,null,null,null,null,0,null,null,null,null,null,0,null,null,null,null,null,null,null,null,null,null,null,null,0,null,null,null,0,null,null,0,null,null,null,null,null,null,0,null,null,null,null,null,null,0,0,0,0,0]
[2,82,{"$f":"TERM1!E97","v":0},{"$f":"TERM1!F97","v":0},{"$f":"TERM1!G97","v":0},null,null,null,null,null,0,null,null,null,null,null,null,0,null,null,null,null,null,null,null,null,0,null,null,null,null,null,null,null,null,0,null,null,null,null,null,null,null,null,0,null,null,null,null,null,0,null,null,null,0,null,null,null,null,null,null,0,null,null,null,null,null,0,null,null,null,null,null,0,null,null,null,null,null,null,null,null,null,null,null,null,0,null,null,null,0,null,null,0,null,null,null,null,null,null,0,null,null,null,null,null,null,0,0,0,0,0]
[2,83,{"$f":"TERM1!E98","v":0},{"$f":"TERM1!F98","v":0},{"$f":"TERM1!G98","v":0},null,null,null,null,null,0,null,null,null,null,null,null,0,null,null,null,null,null,null,null,null,0,null,null,null,null,null,null,null,null,0,null,null,null,null,null,null,null,null,0,null,null,null,null,null,0,null,null,null,0,null,null,null,null,null,null,0,null,null,null,null,null,0,null,null,null,null,null,0,null,null,null,null,null,null,null,null,null,null,null,null,0,null,null,null,0,null,null,0,null,null,null,null,null,null,0,null,null,null,null,null,null,0,0,0,0,0]
[2,84,{"$f":"TERM1!E99","v":0},{"$f":"TERM1!F99","v":0},{"$f":"TERM1!G99","v":0},null,null,null,null,null,0,null,null,null,null,null,null,0,null,null,null,null,null,null,null,null,0,null,null,null,null,null,null,null,null,0,null,null,null,null,null,null,null,null,0,null,null,null,null,null,0,null,null,null,0,null,null,null,null,null,null,0,null,null,null,null,null,0,null,null,null,null,null,0,null,null,null,null,null,null,null,null,null,null,null,null,0,null,null,null,0,null,null,0,null,null,null,null,null,null,0,null,null,null,null,null,null,0,0,0,0,0]
[2,85,{"$f":"TERM1!E100","v":0},{"$f":"TERM1!F100","v":0},{"$f":"TERM1!G100","v":0},null,null,null,null,null,0,null,null,null,null,null,null,0,null,null,null,null,null,null,null,null,0,null,null,null,null,null,null,null,null,0,null,null,null,null,null,null,null,null,0,null,null,null,null,null,0,null,null,null,0,null,null,null,null,null,null,0,null,null,null,null,null,0,null,null,null,null,null,0,null,null,null,null,null,null,null,null,null,null,null,null,0,null,null,null,0,null,null,0,null,null,null,null,null,null,0,null,null,null,null,null,null,0,0,0,0,0]
[2,86,{"$f":"TERM1!E101","v":0},{"$f":"TERM1!F101","v":0},{"$f":"TERM1!G101","v":0},null,null,null,null,null,0,null,null,null,null,null,null,0,null,null,null,null,null,null,null,null,0,null,null,null,null,null,null,null,null,0,null,null,null,null,null,null,null,null,0,null,null,null,null,null,0,null,null,null,0,null,null,null,null,null,null,0,null,null,null,null,null,0,null,null,null,null,null,0,null,null,null,null,null,null,null,null,null,null,null,null,0,null,null,null,0,null,null,0,null,null,null,null,null,null,0,null,null,null,null,null,null,0,0,0,0,0]
[2,87,{"$f":"TERM1!E102","v":0},{"$f":"TERM1!F102","v":0},{"$f":"TERM1!G102","v":0},null,null,null,null,null,0,null,null,null,null,null,null,0,null,null,null,null,null,null,null,null,0,null,null,null,null,null,null,null,null,0,null,null,null,null,null,null,null,null,0,null,null,null,null,null,0,null,null,null,0,null,null,null,null,null,null,0,null,null,null,null,null,0,null,null,null,null,null,0,null,null,null,null,null,null,null,null,null,null,null,null,0,null,null,null,0,null,null,0,null,null,null,null,null,null,0,null,null,null,null,null,null,0,0,0,0,0]
[2,88,{"$f":"TERM1!E103","v":0},{"$f":"TERM1!F103","v":0},{"$f":"TERM1!G103","v":0},null,null,null,null,null,0,null,null,null,null,null,null,0,null,null,null,null,null,null,null,null,0,null,null,null,null,null,null,null,null,0,null,null,null,null,null,null,null,null,0,null,null,null,null,null,0,null,null,null,0,null,null,null,null,null,null,0,null,null,null,null,null,0,null,null,null,null,null,0,null,null,null,null,null,null,null,null,null,null,null,null,0,null,null,null,0,null,null,0,null,null,null,null,null,null,0,null,null,null,null,null,null,0,0,0,0,0]
[2,89,{"$f":"TERM1!E104","v":0},{"$f":"TERM1!F104","v":0},{"$f":"TERM1!G104","v":0},null,null,null,null,null,0,null,null,null,null,null,null,0,null,null,null,null,null,null,null,null,0,null,null,null,null,null,null,null,null,0,null,null,null,null,null,null,null,null,0,null,null,null,null,null,0,null,null,null,0,null,null,null,null,null,null,0,null,null,null,null,null,0,null,null,null,null,null,0,null,null,null,null,null,null,null,null,null,null,null,null,0,null,null,null,0,null,null,0,null,null,null,null,null,null,0,null,null,null,null,null,null,0,0,0,0,0]
[2,90,{"$f":"TERM1!E105","v":0},{"$f":"TERM1!F105","v":0},{"$f":"TERM1!G105","v":0},null,null,null,null,null,0,null,null,null,null,null,null,0,null,null,null,null,null,null,null,null,0,null,null,null,null,null,null,null,null,0,null,null,null,null,null,null,null,null,0,null,null,null,null,null,0,null,null,null,0,null,null,null,null,null,null,0,null,null,null,null,null,0,null,null,null,null,null,0,null,null,null,null,null,null,null,null,null,null,null,null,0,null,null,null,0,null,null,0,null,null,null,null,null,null,0,null,null,null,null,null,null,0,0,0,0,0]
[2,91,{"$f":"TERM1!E106","v":0},{"$f":"TERM1!F106","v":0},{"$f":"TERM1!G106","v":0},null,null,null,null,null,0,null,null,null,null,null,null,0,null,null,null,null,null,null,null,null,0,null,null,null,null,null,null,null,null,0,null,null,null,null,null,null,null,null,0,null,null,null,null,null,0,null,null,null,0,null,null,null,null,null,null,0,null,null,null,null,null,0,null,null,null,null,null,0,null,null,null,null,null,null,null,null,null,null,null,null,0,null,null,null,0,null,null,0,null,null,null,null,null,null,0,null,null,null,null,null,null,0,0,0,0,0]
[2,92,{"$f":"TERM1!E107","v":0},{"$f":"TERM1!F107","v":0},{"$f":"TERM1!G107","v":0},null,null,null,null,null,0,null,null,null,null,null,null,0,null,null,null,null,null,null,null,null,0,null,null,null,null,null,null,null,null,0,null,null,null,null,null,null,null,null,0,null,null,null,null,null,0,null,null,null,0,null,null,null,null,null,null,0,null,null,null,null,null,0,null,null,null,null,null,0,null,null,null,null,null,null,null,null,null,null,null,null,0,null,null,null,0,null,null,0,null,null,null,null,null,null,0,null,null,null,null,null,null,0,0,0,0,0]
[2,93,{"$f":"TERM1!E108","v":0},{"$f":"TERM1!F108","v":0},{"$f":"TERM1!G108","v":0},null,null,null,null,null,0,null,null,null,null,null,null,0,null,null,null,null,null,null,null,null,0,null,null,null,null,null,null,null,null,0,null,null,null,null,null,null,null,null,0,null,null,null,null,null,0,null,null,null,0,null,null,null,null,null,null,0,null,null,null,null,null,0,null,null,null,null,null,0,null,null,null,null,null,null,null,null,null,null,null,null,0,null,null,null,0,null,null,0,null,null,null,null,null,null,0,null,null,null,null,null,null,0,0,0,0,0]
[2,94,{"$f":"TERM1!E109","v":0},{"$f":"TERM1!F109","v":0},{"$f":"TERM1!G109","v":0},null,null,null,null,null,0,null,null,null,null,null,null,0,null,null,null,null,null,null,null,null,0,null,null,null,null,null,null,null,null,0,null,null,null,null,null,null,null,null,0,null,null,null,null,null,0,null,null,null,0,null,null,null,null,null,null,0,null,null,null,null,null,0,null,null,null,null,null,0,null,null,null,null,null,null,null,null,null,null,null,null,0,null,null,null,0,null,null,0,null,null,null,null,null,null,0,null,null,null,null,null,null,0,0,0,0,0]
[2,95,{"$f":"TERM1!E110","v":0},{"$f":"TERM1!F110","v":0},{"$f":"TERM1!G110","v":0},null,null,null,null,null,0,null,null,null,null,null,null,0,null,null,null,null,null,null,null,null,0,null,null,null,null,null,null,null,null,0,null,null,null,null,null,null,null,null,0,null,null,null,null,null,0,null,null,null,0,null,null,null,null,null,null,0,null,null,null,null,null,0,null,null,null,null,null,0,null,null,null,null,null,null,null,null,null,null,null,null,0,null,null,null,0,null,null,0,null,null,null,null,null,null,0,null,null,null,null,null,null,0,0,0,0,0]
[2,96,{"$f":"TERM1!E111","v":0},{"$f":"TERM1!F111","v":0},{"$f":"TERM1!G111","v":0},null,null,null,null,null,0,null,null,null,null,null,null,0,null,null,null,null,null,null,null,null,0,null,null,null,null,null,null,null,null,0,null,null,null,null,null,null,null,null,0,null,null,null,null,null,0,null,null,null,0,null,null,null,null,null,null,0,null,null,null,null,null,0,null,null,null,null,null,0,null,null,null,null,null,null,null,null,null,null,null,null,0,null,null,null,0,null,null,0,null,null,null,null,null,null,0,null,null,null,null,null,null,0,0,0,0,0]
[2,97,{"$f":"TERM1!E112","v":0},{"$f":"TERM1!F112","v":0},{"$f":"TERM1!G112","v":0},null,null,null,null,null,0,null,null,null,null,null,null,0,null,null,null,null,null,null,null,null,0,null,null,null,null,null,null,null,null,0,null,null,null,null,null,null,null,null,0,null,null,null,null,null,0,null,null,null,0,null,null,null,null,null,null,0,null,null,null,null,null,0,null,null,null,null,null,{"$f":"SUM(BQ111:BU111)","v":0},null,null,null,null,null,null,null,null,null,null,null,null,0,null,null,null,0,null,null,0,null,null,null,null,null,null,0,null,null,null,null,null,null,0,0,0,0,0]
[2,98,{"$f":"TERM1!E113","v":0},{"$f":"TERM1!F113","v":0},{"$f":"TERM1!G113","v":0},null,null,null,null,null,0,null,null,null,null,null,null,0,null,null,null,null,null,null,null,null,0,null,null,null,null,null,null,null,null,0,null,null,null,null,null,null,null,null,0,null,null,null,null,null,0,null,null,null,0,null,null,null,null,null,null,0,null,null,null,null,null,0,null,null,null,null,null,0,null,null,null,null,null,null,null,null,null,null,null,null,0,null,null,null,0,null,null,0,null,null,null,null,null,null,0,null,null,null,null,null,null,0,0,0,0,0]
[2,99,{"$f":"TERM1!E114","v":0},{"$f":"TERM1!F114","v":0},{"$f":"TERM1!G114","v":0},null,null,null,null,null,0,null,null,null,null,null,null,0,null,null,null,null,null,null,null,null,0,null,null,null,null,null,null,null,null,0,null,null,null,null,null,null,null,null,0,null,null,null,null,null,0,null,null,null,0,null,null,null,null,null,null,0,null,null,null,null,null,0,null,null,null,null,null,0,null,null,null,null,null,null,null,null,null,null,null,null,0,null,null,null,0,null,null,0,null,null,null,null,null,null,0,null,null,null,null,null,null,0,0,0,0,0]
[2,100,{"$f":"TERM1!E115","v":0},{"$f":"TERM1!F115","v":0},{"$f":"TERM1!G115","v":0},null,null,null,null,null,0,null,null,null,null,null,null,0,null,null,null,null,null,null,null,null,0,null,null,null,null,null,null,null,null,0,null,null,null,null,null,null,null,null,0,null,null,null,null,null,0,null,null,null,0,null,null,null,null,null,null,0,null,null,null,null,null,0,null,null,null,null,null,0,null,null,null,null,null,null,null,null,null,null,null,null,0,null,null,null,0,null,null,0,null,null,null,null,null,null,0,null,null,null,null,null,null,0,0,0,0,0]
[null,"Total amount of learners on mark sheet",null,"TOTAL",null,{"$f":"SUM(F15:F114)","v":0},{"$f":"SUM(G15:G114)","v":0},{"$f":"SUM(H15:H114)","v":0},{"$f":"SUM(I15:I114)","v":0},{"$f":"SUM(J15:J114)","v":0},{"$f":"SUM(K15:K114)","v":0},0,0,0,0,0,0,0,0,0,0,0,0,0,0,{"$f":"SUM(Z15:Z114)","v":0},0,0,0,0,0,0,0,0,{"$f":"SUM(AI15:AI114)","v":0},0,0,0,0,0,0,0,0,{"$f":"SUM(AR15:AR114)","v":0},0,0,0,0,0,0,0,0,0,0,0,0,0,0,0,0,0,0,0,0,0,0,0,0,0,0,{"$f":"SUM(BS15:BS114)","v":0},0,0,0,0,0,0,{"$f":"SUM(BZ15:BZ114)","v":0},0,0,0,0,0,0,0,0,0,0,0,0,0,0,0,0,0,0,0,0,0,0,0,0,0,0,0,0,0,0,0,null,{"$f":"SUM(DG15:DG114)","v":0},0]
[null,null,null,"AVERAGE",null,{"$f":"ROUND(SUM(F115/$B$119),2)","v":{"$error":"#DIV/0!"}},{"$error":"#DIV/0!"},{"$error":"#DIV/0!"},{"$error":"#DIV/0!"},{"$error":"#DIV/0!"},{"$error":"#DIV/0!"},{"$error":"#DIV/0!"},{"$error":"#DIV/0!"},{"$error":"#DIV/0!"},{"$error":"#DIV/0!"},{"$error":"#DIV/0!"},{"$error":"#DIV/0!"},{"$error":"#DIV/0!"},{"$error":"#DIV/0!"},{"$error":"#DIV/0!"},{"$error":"#DIV/0!"},{"$error":"#DIV/0!"},{"$error":"#DIV/0!"},{"$error":"#DIV/0!"},{"$error":"#DIV/0!"},{"$error":"#DIV/0!"},{"$error":"#DIV/0!"},{"$error":"#DIV/0!"},{"$error":"#DIV/0!"},{"$error":"#DIV/0!"},{"$error":"#DIV/0!"},{"$error":"#DIV/0!"},{"$error":"#DIV/0!"},{"$error":"#DIV/0!"},{"$error":"#DIV/0!"},{"$error":"#DIV/0!"},{"$error":"#DIV/0!"},{"$f":"ROUND(SUM(AL115/$B$119),2)","v":{"$error":"#DIV/0!"}},{"$error":"#DIV/0!"},{"$error":"#DIV/0!"},{"$error":"#DIV/0!"},{"$error":"#DIV/0!"},{"$error":"#DIV/0!"},{"$error":"#DIV/0!"},{"$error":"#DIV/0!"},{"$error":"#DIV/0!"},{"$error":"#DIV/0!"},{"$error":"#DIV/0!"},{"$error":"#DIV/0!"},{"$error":"#DIV/0!"},{"$error":"#DIV/0!"},{"$error":"#DIV/0!"},{"$error":"#DIV/0!"},{"$error":"#DIV/0!"},{"$error":"#DIV/0!"},{"$error":"#DIV/0!"},{"$error":"#DIV/0!"},{"$error":"#DIV/0!"},{"$error":"#DIV/0!"},{"$error":"#DIV/0!"},{"$error":"#DIV/0!"},{"$error":"#DIV/0!"},{"$error":"#DIV/0!"},{"$error":"#DIV/0!"},{"$error":"#DIV/0!"},{"$error":"#DIV/0!"},{"$error":"#DIV/0!"},{"$error":"#DIV/0!"},{"$error":"#DIV/0!"},{"$f":"ROUND(SUM(BR115/$B$119),2)","v":{"$error":"#DIV/0!"}},{"$error":"#DIV/0!"},{"$error":"#DIV/0!"},{"$error":"#DIV/0!"},{"$error":"#DIV/0!"},{"$error":"#DIV/0!"},{"$error":"#DIV/0!"},{"$error":"#DIV/0!"},{"$f":"ROUND(SUM(BZ115/$B$119),2)","v":{"$error":"#DIV/0!"}},{"$error":"#DIV/0!"},{"$error":"#DIV/0!"},{"$error":"#DIV/0!"},{"$error":"#DIV/0!"},{"$error":"#DIV/0!"},{"$error":"#DIV/0!"},{"$f":"ROUND(SUM(CG115/$B$119),2)","v":{"$error":"#DIV/0!"}},{"$error":"#DIV/0!"},{"$error":"#DIV/0!"},{"$error":"#DIV/0!"},{"$error":"#DIV/0!"},{"$error":"#DIV/0!"},{"$error":"#DIV/0!"},{"$error":"#DIV/0!"},{"$error":"#DIV/0!"},{"$error":"#DIV/0!"},{"$error":"#DIV/0!"},{"$error":"#DIV/0!"},{"$error":"#DIV/0!"},{"$error":"#DIV/0!"},{"$error":"#DIV/0!"},{"$error":"#DIV/0!"},{"$error":"#DIV/0!"},{"$error":"#DIV/0!"},{"$error":"#DIV/0!"},{"$error":"#DIV/0!"},{"$error":"#DIV/0!"},{"$error":"#DIV/0!"},{"$error":"#DIV/0!"},{"$error":"#DIV/0!"},{"$error":"#DIV/0!"},{"$error":"#DIV/0!"},{"$error":"#DIV/0!"},{"$error":"#DIV/0!"}]
[null,null,null,"PERCENTAGE",null,{"$f":"ROUND((SUM(F116/F12)*100),0)","v":{"$error":"#DIV/0!"}},{"$f":"ROUND((SUM(G116/G12)*100),0)","v":{"$error":"#DIV/0!"}},{"$error":"#DIV/0!"},{"$error":"#DIV/0!"},{"$error":"#DIV/0!"},{"$error":"#DIV/0!"},{"$error":"#DIV/0!"},{"$error":"#DIV/0!"},{"$error":"#DIV/0!"},{"$error":"#DIV/0!"},{"$error":"#DIV/0!"},{"$error":"#DIV/0!"},{"$error":"#DIV/0!"},{"$error":"#DIV/0!"},{"$error":"#DIV/0!"},{"$error":"#DIV/0!"},{"$error":"#DIV/0!"},{"$error":"#DIV/0!"},{"$error":"#DIV/0!"},{"$error":"#DIV/0!"},{"$f":"ROUND((SUM(Z116/Z12)*100),0)","v":{"$error":"#DIV/0!"}},{"$error":"#DIV/0!"},{"$error":"#DIV/0!"},{"$error":"#DIV/0!"},{"$error":"#DIV/0!"},{"$error":"#DIV/0!"},{"$error":"#DIV/0!"},{"$error":"#DIV/0!"},{"$error":"#DIV/0!"},{"$f":"ROUND((SUM(AI116/AI12)*100),0)","v":{"$error":"#DIV/0!"}},{"$error":"#DIV/0!"},{"$error":"#DIV/0!"},{"$error":"#DIV/0!"},{"$error":"#DIV/0!"},{"$error":"#DIV/0!"},{"$error":"#DIV/0!"},{"$error":"#DIV/0!"},{"$error":"#DIV/0!"},{"$f":"ROUND((SUM(AR116/AR12)*100),0)","v":{"$error":"#DIV/0!"}},{"$error":"#DIV/0!"},{"$error":"#DIV/0!"},{"$error":"#DIV/0!"},{"$error":"#DIV/0!"},{"$error":"#DIV/0!"},{"$error":"#DIV/0!"},{"$error":"#DIV/0!"},{"$error":"#DIV/0!"},{"$error":"#DIV/0!"},{"$error":"#DIV/0!"},{"$error":"#DIV/0!"},{"$error":"#DIV/0!"},{"$error":"#DIV/0!"},{"$error":"#DIV/0!"},{"$error":"#DIV/0!"},{"$error":"#DIV/0!"},{"$error":"#DIV/0!"},{"$error":"#DIV/0!"},{"$error":"#DIV/0!"},{"$error":"#DIV/0!"},{"$error":"#DIV/0!"},{"$error":"#DIV/0!"},{"$error":"#DIV/0!"},{"$error":"#DIV/0!"},{"$error":"#DIV/0!"},{"$error":"#DIV/0!"},{"$f":"ROUND((SUM(BS116/BS12)*100),0)","v":{"$error":"#DIV/0!"}},{"$error":"#DIV/0!"},{"$error":"#DIV/0!"},{"$error":"#DIV/0!"},{"$error":"#DIV/0!"},{"$error":"#DIV/0!"},{"$error":"#DIV/0!"},{"$f":"ROUND((SUM(BZ116/BZ12)*100),0)","v":{"$error":"#DIV/0!"}},{"$error":"#DIV/0!"},{"$error":"#DIV/0!"},{"$error":"#DIV/0!"},{"$error":"#DIV/0!"},{"$error":"#DIV/0!"},{"$error":"#DIV/0!"},{"$error":"#DIV/0!"},{"$error":"#DIV/0!"},{"$error":"#DIV/0!"},{"$error":"#DIV/0!"},{"$error":"#DIV/0!"},{"$error":"#DIV/0!"},{"$error":"#DIV/0!"},{"$error":"#DIV/0!"},{"$error":"#DIV/0!"},{"$error":"#DIV/0!"},{"$error":"#DIV/0!"},{"$error":"#DIV/0!"},{"$error":"#DIV/0!"},{"$error":"#DIV/0!"},{"$error":"#DIV/0!"},{"$error":"#DIV/0!"},{"$error":"#DIV/0!"},{"$error":"#DIV/0!"},{"$error":"#DIV/0!"},{"$error":"#DIV/0!"},{"$error":"#DIV/0!"},{"$error":"#DIV/0!"},{"$error":"#DIV/0!"},{"$error":"#DIV/0!"},{"$error":"#DIV/0!"},null,{"$f":"ROUND((SUM(DG116/DG12)*100),0)","v":{"$error":"#DIV/0!"}},{"$error":"#DIV/0!"}]
[]
[null,{"$f":"TERM1!$B$120","v":0},null,"TOTAL HANDED IN",null,{"$f":"COUNT(F15:F114)","v":0},{"$f":"COUNT(G15:G114)","v":0},{"$f":"COUNT(H15:H114)","v":0},{"$f":"COUNT(I15:I114)","v":0},{"$f":"COUNT(J15:J114)","v":0},null,{"$f":"COUNT(L15:L114)","v":0},0,0,0,0,0,null,0,0,0,0,0,0,0,null,null,0,0,0,0,0,0,0,null,null,0,0,0,0,0,0,0,null,null,0,0,0,0,0,null,0,0,0,null,0,0,0,0,0,0,null,0,0,0,0,0,null,0,0,{"$f":"COUNT(BS15:BS114)","v":0},0,0,null,0,0,0,null,null,null,0,null,null,null,0,0,null,0,0,0,null,0,0,null,0,0,0,0,0,0,null,0,0,0,0,0,0]

{"sheet":"PAT Mech","index":13,"n_rows":123,"n_cols":34,"rows_kept":123,"cut":false,"hidden":true,"merged":[[121,16,121,17],[121,18,121,19],[122,6,122,7],[122,8,122,9],[122,10,122,11],[122,12,122,13],[122,14,122,15],[122,16,122,17],[122,18,122,19],[121,6,121,7],[121,8,121,9],[121,10,121,11],[121,12,121,13],[121,14,121,15],[15,2,15,3],[117,2,120,3],[117,4,117,5],[118,4,118,5],[119,4,121,5],[121,2,121,3],[119,6,119,19],[120,6,120,7],[120,8,120,9],[120,10,120,11],[120,12,120,13],[120,14,120,15],[120,16,120,17],[120,18,120,19],[5,33,14,33],[6,2,6,3],[6,4,6,5],[7,2,7,3],[7,4,7,5],[12,4,12,5],[5,27,14,27],[5,28,14,28],[5,29,14,29],[5,30,14,30],[5,31,14,31],[5,32,14,32],[5,22,14,22],[5,23,14,23],[5,24,14,24],[5,25,14,25],[5,26,14,26],[5,16,14,16],[5,17,14,17],[5,18,14,18],[5,19,14,19],[5,20,14,20],[5,21,14,21],[5,15,14,15],[5,2,5,3],[5,4,5,5],[5,6,14,6],[5,7,14,7],[5,8,14,8],[5,9,14,9],[5,10,14,10],[5,11,14,11],[5,12,14,12],[5,13,14,13],[5,14,14,14],[1,2,1,33],[2,6,3,33],[4,2,4,3],[4,4,4,5],[4,6,4,13],[4,14,4,27],[4,28,4,31],[4,32,4,33]]}
[]
[null,null,"ENGINEERING GRAPHICS AND DESIGN"]
[null,null,null,null,null,null,"PROGRAM OF ASSESSMENT  :  PAT"]
[]
[null,null,{"$f":"TERM1!B5","v":"School:"},null,{"$f":"TERM1!F5","v":0},null,"Phase 1 (term 1)",null,null,null,null,null,null,null,"Phase 2 (Term 2)",null,null,null,null,null,null,null,null,null,null,null,null,null,"Phase 3 (Term 3)",null,null,null,"Marks"]
[null,null,{"$f":"TERM1!B6","v":"Grade:"},null,{"$f":"TERM1!F6","v":0},null,"1. Design Brief","2. Research","3.1 Possible solutions","3.2 Possible solutions","3.3 Possible solutions","4. Selection of Final Solution","Total  / 60","Total  / 19","Paper preperation","Floor Plan / Front view","2 elevations / 2nd main view","Section / 2 sec. views","Site plan / Detail drawing","2P perspective / Isometric","Freehan Method","Consistancy: Linework","Instrument Method","Consistancy: Linework","CAD Competency","Layout and correctness","Total: NO CAD 100 / CAD 120","Total: 75","6. Continuous evaluation ","7. Final Presentation & Biblio.","Total  / 20","Total  / 6","FINAL PAT Mark / 100","PAT Mark / 7"]
[null,null,{"$f":"TERM1!E7","v":"Teacher:"},null,{"$f":"TERM1!F7","v":0}]
[null,null,{"$f":"TERM1!E8","v":"HOD:"},null,{"$f":"TERM1!F8","v":0}]
[]
[]
[]
[]
[null,null,null,null,{"$f":"TERM1!#REF!","v":{"$error":"#REF!"}}]
[]
[]
[null,null,"Admission",null,"Surname","Name",10,10,10,10,10,10,60,19,10,10,10,10,10,10,10,10,10,10,10,10,null,75,10,10,20,6,100," / 7"]
[null,{"$f":"SUM(COUNTA(E17)+COUNT(C17))","v":2},1,{"$f":"TERM1!E16","v":0},{"$f":"TERM1!F16","v":0},{"$f":"TERM1!G16","v":0},{"$f":"'PAT Mech Detailed'!K15","v":0},{"$f":"'PAT Mech Detailed'!R15","v":0},{"$f":"'PAT Mech Detailed'!AA15","v":0},{"$f":"'PAT Mech Detailed'!AJ15","v":0},{"$f":"'PAT Mech Detailed'!AS15","v":0},{"$f":"'PAT Mech Detailed'!AY15","v":0},{"$f":"SUM(G17:L17)","v":0},{"$f":"ROUND(M17/(3.1579),0)","v":0},{"$f":"'PAT Mech Detailed'!BC15","v":0},{"$f":"'PAT Mech Detailed'!BJ15","v":0},{"$f":"'PAT Mech Detailed'!BP15","v":0},{"$f":"'PAT Mech Detailed'!BV15","v":0},{"$f":"'PAT Mech Detailed'!CI15","v":0},{"$f":"'PAT Mech Detailed'!CM15","v":0},{"$f":"'PAT Mech Detailed'!CX15","v":0},{"$f":"'PAT Mech Detailed'!CY15","v":0},{"$f":"'PAT Mech Detailed'!CZ15","v":0},{"$f":"'PAT Mech Detailed'!DA15","v":0},{"$f":"'PAT Mech Detailed'!DB15","v":0},{"$f":"'PAT Mech Detailed'!DC15","v":0},{"$f":"SUM(O17:Z17)","v":0},{"$f":"IF('PAT Mech Detailed'!DF15=4,SUM(O17:X17)/1.333333333,IF('PAT Mech Detailed'!DF15=6,SUM(O17:Z17)/1.6,SUM(O17:X17)))","v":0},{"$f":"'PAT Mech Detailed'!CP15","v":0},{"$f":"'PAT Mech Detailed'!CW15","v":0},{"$f":"SUM(AC17:AD17)","v":0},{"$f":"ROUND((AE17/8)*(2.5),0)","v":0},{"$f":"SUM(N17+AB17+AF17)","v":0},{"$f":"IF(AG17>79,\"7\",IF(AG17>69,\"6\",IF(AG17>59,\"5\",IF(AG17>49,\"4\",IF(AG17>39,\"3\",IF(AG17>29,\"2\",IF(AG17>0,\"1\",IF(AG17=0,\"\"))))))))","v":""}]
[null,{"$f":"SUM(COUNTA(E18)+COUNT(C18))","v":2},{"$f":"C17+1","v":2},{"$f":"TERM1!E17","v":0},{"$f":"TERM1!F17","v":0},{"$f":"TERM1!G17","v":0},{"$f":"'PAT Mech Detailed'!K16","v":0},{"$f":"'PAT Mech Detailed'!R16","v":0},{"$f":"'PAT Mech Detailed'!AA16","v":0},{"$f":"'PAT Mech Detailed'!AJ16","v":0},{"$f":"'PAT Mech Detailed'!AS16","v":0},{"$f":"'PAT Mech Detailed'!AY16","v":0},{"$f":"SUM(G18:L18)","v":0},{"$f":"ROUND(M18/(3.1579),0)","v":0},{"$f":"'PAT Mech Detailed'!BC16","v":0},{"$f":"'PAT Mech Detailed'!BJ16","v":0},{"$f":"'PAT Mech Detailed'!BP16","v":0},{"$f":"'PAT Mech Detailed'!BV16","v":0},{"$f":"'PAT Mech Detailed'!CI16","v":0},{"$f":"'PAT Mech Detailed'!CM16","v":0},{"$f":"'PAT Mech Detailed'!CX16","v":0},{"$f":"'PAT Mech Detailed'!CY16","v":0},{"$f":"'PAT Mech Detailed'!CZ16","v":0},{"$f":"'PAT Mech Detailed'!DA16","v":0},{"$f":"'PAT Mech Detailed'!DB16","v":0},{"$f":"'PAT Mech Detailed'!DC16","v":0},{"$f":"SUM(O18:Z18)","v":0},{"$f":"IF('PAT Mech Detailed'!DF16=4,SUM(O18:X18)/1.333333333,IF('PAT Mech Detailed'!DF16=6,SUM(O18:Z18)/1.6,SUM(O18:X18)))","v":0},{"$f":"'PAT Mech Detailed'!CP16","v":0},{"$f":"'PAT Mech Detailed'!CW16","v":0},{"$f":"SUM(AC18:AD18)","v":0},0,0,{"$f":"IF(AG18>79,\"7\",IF(AG18>69,\"6\",IF(AG18>59,\"5\",IF(AG18>49,\"4\",IF(AG18>39,\"3\",IF(AG18>29,\"2\",IF(AG18>0,\"1\",IF(AG18=0,\"\"))))))))","v":""}]
[null,2,{"$f":"C18+1","v":3},{"$f":"TERM1!E18","v":0},{"$f":"TERM1!F18","v":0},{"$f":"TERM1!G18","v":0},{"$f":"'PAT Mech Detailed'!K17","v":0},{"$f":"'PAT Mech Detailed'!R17","v":0},{"$f":"'PAT Mech Detailed'!AA17","v":0},{"$f":"'PAT Mech Detailed'!AJ17","v":0},{"$f":"'PAT Mech Detailed'!AS17","v":0},{"$f":"'PAT Mech Detailed'!AY17","v":0},0,0,{"$f":"'PAT Mech Detailed'!BC17","v":0},{"$f":"'PAT Mech Detailed'!BJ17","v":0},{"$f":"'PAT Mech Detailed'!BP17","v":0},{"$f":"'PAT Mech Detailed'!BV17","v":0},{"$f":"'PAT Mech Detailed'!CI17","v":0},{"$f":"'PAT Mech Detailed'!CM17","v":0},{"$f":"'PAT Mech Detailed'!CX17","v":0},{"$f":"'PAT Mech Detailed'!CY17","v":0},{"$f":"'PAT Mech Detailed'!CZ17","v":0},{"$f":"'PAT Mech Detailed'!DA17","v":0},{"$f":"'PAT Mech Detailed'!DB17","v":0},{"$f":"'PAT Mech Detailed'!DC17","v":0},0,{"$f":"IF('PAT Mech Detailed'!DF17=4,SUM(O19:X19)/1.333333333,IF('PAT Mech Detailed'!DF17=6,SUM(O19:Z19)/1.6,SUM(O19:X19)))","v":0},{"$f":"'PAT Mech Detailed'!CP17","v":0},{"$f":"'PAT Mech Detailed'!CW17","v":0},0,0,0,""]
[null,2,4,{"$f":"TERM1!E19","v":0},{"$f":"TERM1!F19","v":0},{"$f":"TERM1!G19","v":0},{"$f":"'PAT Mech Detailed'!K18","v":0},{"$f":"'PAT Mech Detailed'!R18","v":0},{"$f":"'PAT Mech Detailed'!AA18","v":0},{"$f":"'PAT Mech Detailed'!AJ18","v":0},{"$f":"'PAT Mech Detailed'!AS18","v":0},{"$f":"'PAT Mech Detailed'!AY18","v":0},0,0,{"$f":"'PAT Mech Detailed'!BC18","v":0},{"$f":"'PAT Mech Detailed'!BJ18","v":0},{"$f":"'PAT Mech Detailed'!BP18","v":0},{"$f":"'PAT Mech Detailed'!BV18","v":0},{"$f":"'PAT Mech Detailed'!CI18","v":0},{"$f":"'PAT Mech Detailed'!CM18","v":0},{"$f":"'PAT Mech Detailed'!CX18","v":0},{"$f":"'PAT Mech Detailed'!CY18","v":0},{"$f":"'PAT Mech Detailed'!CZ18","v":0},{"$f":"'PAT Mech Detailed'!DA18","v":0},{"$f":"'PAT Mech Detailed'!DB18","v":0},{"$f":"'PAT Mech Detailed'!DC18","v":0},{"$f":"SUM(O20:Z20)","v":0},{"$f":"IF('PAT Mech Detailed'!DF18=4,SUM(O20:X20)/1.333333333,IF('PAT Mech Detailed'!DF18=6,SUM(O20:Z20)/1.6,SUM(O20:X20)))","v":0},{"$f":"'PAT Mech Detailed'!CP18","v":0},{"$f":"'PAT Mech Detailed'!CW18","v":0},0,0,0,""]
[null,2,5,{"$f":"TERM1!E20","v":0},{"$f":"TERM1!F20","v":0},{"$f":"TERM1!G20","v":0},{"$f":"'PAT Mech Detailed'!K19","v":0},{"$f":"'PAT Mech Detailed'!R19","v":0},{"$f":"'PAT Mech Detailed'!AA19","v":0},{"$f":"'PAT Mech Detailed'!AJ19","v":0},{"$f":"'PAT Mech Detailed'!AS19","v":0},{"$f":"'PAT Mech Detailed'!AY19","v":0},0,0,{"$f":"'PAT Mech Detailed'!BC19","v":0},{"$f":"'PAT Mech Detailed'!BJ19","v":0},{"$f":"'PAT Mech Detailed'!BP19","v":0},{"$f":"'PAT Mech Detailed'!BV19","v":0},{"$f":"'PAT Mech Detailed'!CI19","v":0},{"$f":"'PAT Mech Detailed'!CM19","v":0},{"$f":"'PAT Mech Detailed'!CX19","v":0},{"$f":"'PAT Mech Detailed'!CY19","v":0},{"$f":"'PAT Mech Detailed'!CZ19","v":0},{"$f":"'PAT Mech Detailed'!DA19","v":0},{"$f":"'PAT Mech Detailed'!DB19","v":0},{"$f":"'PAT Mech Detailed'!DC19","v":0},0,{"$f":"IF('PAT Mech Detailed'!DF19=4,SUM(O21:X21)/1.333333333,IF('PAT Mech Detailed'!DF19=6,SUM(O21:Z21)/1.6,SUM(O21:X21)))","v":0},{"$f":"'PAT Mech Detailed'!CP19","v":0},{"$f":"'PAT Mech Detailed'!CW19","v":0},0,0,0,""]
[null,2,6,{"$f":"TERM1!E21","v":0},{"$f":"TERM1!F21","v":0},{"$f":"TERM1!G21","v":0},{"$f":"'PAT Mech Detailed'!K20","v":0},{"$f":"'PAT Mech Detailed'!R20","v":0},{"$f":"'PAT Mech Detailed'!AA20","v":0},{"$f":"'PAT Mech Detailed'!AJ20","v":0},{"$f":"'PAT Mech Detailed'!AS20","v":0},{"$f":"'PAT Mech Detailed'!AY20","v":0},0,0,{"$f":"'PAT Mech Detailed'!BC20","v":0},{"$f":"'PAT Mech Detailed'!BJ20","v":0},{"$f":"'PAT Mech Detailed'!BP20","v":0},{"$f":"'PAT Mech Detailed'!BV20","v":0},{"$f":"'PAT Mech Detailed'!CI20","v":0},{"$f":"'PAT Mech Detailed'!CM20","v":0},{"$f":"'PAT Mech Detailed'!CX20","v":0},{"$f":"'PAT Mech Detailed'!CY20","v":0},{"$f":"'PAT Mech Detailed'!CZ20","v":0},{"$f":"'PAT Mech Detailed'!DA20","v":0},{"$f":"'PAT Mech Detailed'!DB20","v":0},{"$f":"'PAT Mech Detailed'!DC20","v":0},0,{"$f":"IF('PAT Mech Detailed'!DF20=4,SUM(O22:X22)/1.333333333,IF('PAT Mech Detailed'!DF20=6,SUM(O22:Z22)/1.6,SUM(O22:X22)))","v":0},{"$f":"'PAT Mech Detailed'!CP20","v":0},{"$f":"'PAT Mech Detailed'!CW20","v":0},0,0,0,""]
[null,2,7,{"$f":"TERM1!E22","v":0},{"$f":"TERM1!F22","v":0},{"$f":"TERM1!G22","v":0},{"$f":"'PAT Mech Detailed'!K21","v":0},{"$f":"'PAT Mech Detailed'!R21","v":0},{"$f":"'PAT Mech Detailed'!AA21","v":0},{"$f":"'PAT Mech Detailed'!AJ21","v":0},{"$f":"'PAT Mech Detailed'!AS21","v":0},{"$f":"'PAT Mech Detailed'!AY21","v":0},0,0,{"$f":"'PAT Mech Detailed'!BC21","v":0},{"$f":"'PAT Mech Detailed'!BJ21","v":0},{"$f":"'PAT Mech Detailed'!BP21","v":0},{"$f":"'PAT Mech Detailed'!BV21","v":0},{"$f":"'PAT Mech Detailed'!CI21","v":0},{"$f":"'PAT Mech Detailed'!CM21","v":0},{"$f":"'PAT Mech Detailed'!CX21","v":0},{"$f":"'PAT Mech Detailed'!CY21","v":0},{"$f":"'PAT Mech Detailed'!CZ21","v":0},{"$f":"'PAT Mech Detailed'!DA21","v":0},{"$f":"'PAT Mech Detailed'!DB21","v":0},{"$f":"'PAT Mech Detailed'!DC21","v":0},0,{"$f":"IF('PAT Mech Detailed'!DF21=4,SUM(O23:X23)/1.333333333,IF('PAT Mech Detailed'!DF21=6,SUM(O23:Z23)/1.6,SUM(O23:X23)))","v":0},{"$f":"'PAT Mech Detailed'!CP21","v":0},{"$f":"'PAT Mech Detailed'!CW21","v":0},0,0,0,""]
[null,2,8,{"$f":"TERM1!E23","v":0},{"$f":"TERM1!F23","v":0},{"$f":"TERM1!G23","v":0},{"$f":"'PAT Mech Detailed'!K22","v":0},{"$f":"'PAT Mech Detailed'!R22","v":0},{"$f":"'PAT Mech Detailed'!AA22","v":0},{"$f":"'PAT Mech Detailed'!AJ22","v":0},{"$f":"'PAT Mech Detailed'!AS22","v":0},{"$f":"'PAT Mech Detailed'!AY22","v":0},0,0,{"$f":"'PAT Mech Detailed'!BC22","v":0},{"$f":"'PAT Mech Detailed'!BJ22","v":0},{"$f":"'PAT Mech Detailed'!BP22","v":0},{"$f":"'PAT Mech Detailed'!BV22","v":0},{"$f":"'PAT Mech Detailed'!CI22","v":0},{"$f":"'PAT Mech Detailed'!CM22","v":0},{"$f":"'PAT Mech Detailed'!CX22","v":0},{"$f":"'PAT Mech Detailed'!CY22","v":0},{"$f":"'PAT Mech Detailed'!CZ22","v":0},{"$f":"'PAT Mech Detailed'!DA22","v":0},{"$f":"'PAT Mech Detailed'!DB22","v":0},{"$f":"'PAT Mech Detailed'!DC22","v":0},0,{"$f":"IF('PAT Mech Detailed'!DF22=4,SUM(O24:X24)/1.333333333,IF('PAT Mech Detailed'!DF22=6,SUM(O24:Z24)/1.6,SUM(O24:X24)))","v":0},{"$f":"'PAT Mech Detailed'!CP22","v":0},{"$f":"'PAT Mech Detailed'!CW22","v":0},0,0,0,""]
[null,2,9,{"$f":"TERM1!E24","v":0},{"$f":"TERM1!F24","v":0},{"$f":"TERM1!G24","v":0},{"$f":"'PAT Mech Detailed'!K23","v":0},{"$f":"'PAT Mech Detailed'!R23","v":0},{"$f":"'PAT Mech Detailed'!AA23","v":0},{"$f":"'PAT Mech Detailed'!AJ23","v":0},{"$f":"'PAT Mech Detailed'!AS23","v":0},{"$f":"'PAT Mech Detailed'!AY23","v":0},0,0,{"$f":"'PAT Mech Detailed'!BC23","v":0},{"$f":"'PAT Mech Detailed'!BJ23","v":0},{"$f":"'PAT Mech Detailed'!BP23","v":0},{"$f":"'PAT Mech Detailed'!BV23","v":0},{"$f":"'PAT Mech Detailed'!CI23","v":0},{"$f":"'PAT Mech Detailed'!CM23","v":0},{"$f":"'PAT Mech Detailed'!CX23","v":0},{"$f":"'PAT Mech Detailed'!CY23","v":0},{"$f":"'PAT Mech Detailed'!CZ23","v":0},{"$f":"'PAT Mech Detailed'!DA23","v":0},{"$f":"'PAT Mech Detailed'!DB23","v":0},{"$f":"'PAT Mech Detailed'!DC23","v":0},0,{"$f":"IF('PAT Mech Detailed'!DF23=4,SUM(O25:X25)/1.333333333,IF('PAT Mech Detailed'!DF23=6,SUM(O25:Z25)/1.6,SUM(O25:X25)))","v":0},{"$f":"'PAT Mech Detailed'!CP23","v":0},{"$f":"'PAT Mech Detailed'!CW23","v":0},0,0,0,""]
[null,2,10,{"$f":"TERM1!E25","v":0},{"$f":"TERM1!F25","v":0},{"$f":"TERM1!G25","v":0},{"$f":"'PAT Mech Detailed'!K24","v":0},{"$f":"'PAT Mech Detailed'!R24","v":0},{"$f":"'PAT Mech Detailed'!AA24","v":0},{"$f":"'PAT Mech Detailed'!AJ24","v":0},{"$f":"'PAT Mech Detailed'!AS24","v":0},{"$f":"'PAT Mech Detailed'!AY24","v":0},0,0,{"$f":"'PAT Mech Detailed'!BC24","v":0},{"$f":"'PAT Mech Detailed'!BJ24","v":0},{"$f":"'PAT Mech Detailed'!BP24","v":0},{"$f":"'PAT Mech Detailed'!BV24","v":0},{"$f":"'PAT Mech Detailed'!CI24","v":0},{"$f":"'PAT Mech Detailed'!CM24","v":0},{"$f":"'PAT Mech Detailed'!CX24","v":0},{"$f":"'PAT Mech Detailed'!CY24","v":0},{"$f":"'PAT Mech Detailed'!CZ24","v":0},{"$f":"'PAT Mech Detailed'!DA24","v":0},{"$f":"'PAT Mech Detailed'!DB24","v":0},{"$f":"'PAT Mech Detailed'!DC24","v":0},0,{"$f":"IF('PAT Mech Detailed'!DF24=4,SUM(O26:X26)/1.333333333,IF('PAT Mech Detailed'!DF24=6,SUM(O26:Z26)/1.6,SUM(O26:X26)))","v":0},{"$f":"'PAT Mech Detailed'!CP24","v":0},{"$f":"'PAT Mech Detailed'!CW24","v":0},0,0,0,""]
[null,2,11,{"$f":"TERM1!E26","v":0},{"$f":"TERM1!F26","v":0},{"$f":"TERM1!G26","v":0},{"$f":"'PAT Mech Detailed'!K25","v":0},{"$f":"'PAT Mech Detailed'!R25","v":0},{"$f":"'PAT Mech Detailed'!AA25","v":0},{"$f":"'PAT Mech Detailed'!AJ25","v":0},{"$f":"'PAT Mech Detailed'!AS25","v":0},{"$f":"'PAT Mech Detailed'!AY25","v":0},0,0,{"$f":"'PAT Mech Detailed'!BC25","v":0},{"$f":"'PAT Mech Detailed'!BJ25","v":0},{"$f":"'PAT Mech Detailed'!BP25","v":0},{"$f":"'PAT Mech Detailed'!BV25","v":0},{"$f":"'PAT Mech Detailed'!CI25","v":0},{"$f":"'PAT Mech Detailed'!CM25","v":0},{"$f":"'PAT Mech Detailed'!CX25","v":0},{"$f":"'PAT Mech Detailed'!CY25","v":0},{"$f":"'PAT Mech Detailed'!CZ25","v":0},{"$f":"'PAT Mech Detailed'!DA25","v":0},{"$f":"'PAT Mech Detailed'!DB25","v":0},{"$f":"'PAT Mech Detailed'!DC25","v":0},0,{"$f":"IF('PAT Mech Detailed'!DF25=4,SUM(O27:X27)/1.333333333,IF('PAT Mech Detailed'!DF25=6,SUM(O27:Z27)/1.6,SUM(O27:X27)))","v":0},{"$f":"'PAT Mech Detailed'!CP25","v":0},{"$f":"'PAT Mech Detailed'!CW25","v":0},0,0,0,""]
[null,null,12,{"$f":"TERM1!E27","v":0},{"$f":"TERM1!F27","v":0},{"$f":"TERM1!G27","v":0},{"$f":"'PAT Mech Detailed'!K26","v":0},{"$f":"'PAT Mech Detailed'!R26","v":0},{"$f":"'PAT Mech Detailed'!AA26","v":0},{"$f":"'PAT Mech Detailed'!AJ26","v":0},{"$f":"'PAT Mech Detailed'!AS26","v":0},{"$f":"'PAT Mech Detailed'!AY26","v":0},0,0,{"$f":"'PAT Mech Detailed'!BC26","v":0},{"$f":"'PAT Mech Detailed'!BJ26","v":0},{"$f":"'PAT Mech Detailed'!BP26","v":0},{"$f":"'PAT Mech Detailed'!BV26","v":0},{"$f":"'PAT Mech Detailed'!CI26","v":0},{"$f":"'PAT Mech Detailed'!CM26","v":0},{"$f":"'PAT Mech Detailed'!CX26","v":0},{"$f":"'PAT Mech Detailed'!CY26","v":0},{"$f":"'PAT Mech Detailed'!CZ26","v":0},{"$f":"'PAT Mech Detailed'!DA26","v":0},{"$f":"'PAT Mech Detailed'!DB26","v":0},{"$f":"'PAT Mech Detailed'!DC26","v":0},0,{"$f":"IF('PAT Mech Detailed'!DF26=4,SUM(O28:X28)/1.333333333,IF('PAT Mech Detailed'!DF26=6,SUM(O28:Z28)/1.6,SUM(O28:X28)))","v":0},{"$f":"'PAT Mech Detailed'!CP26","v":0},{"$f":"'PAT Mech Detailed'!CW26","v":0},0,0,0,""]
[null,null,13,{"$f":"TERM1!E28","v":0},{"$f":"TERM1!F28","v":0},{"$f":"TERM1!G28","v":0},{"$f":"'PAT Mech Detailed'!K27","v":0},{"$f":"'PAT Mech Detailed'!R27","v":0},{"$f":"'PAT Mech Detailed'!AA27","v":0},{"$f":"'PAT Mech Detailed'!AJ27","v":0},{"$f":"'PAT Mech Detailed'!AS27","v":0},{"$f":"'PAT Mech Detailed'!AY27","v":0},0,0,{"$f":"'PAT Mech Detailed'!BC27","v":0},{"$f":"'PAT Mech Detailed'!BJ27","v":0},{"$f":"'PAT Mech Detailed'!BP27","v":0},{"$f":"'PAT Mech Detailed'!BV27","v":0},{"$f":"'PAT Mech Detailed'!CI27","v":0},{"$f":"'PAT Mech Detailed'!CM27","v":0},{"$f":"'PAT Mech Detailed'!CX27","v":0},{"$f":"'PAT Mech Detailed'!CY27","v":0},{"$f":"'PAT Mech Detailed'!CZ27","v":0},{"$f":"'PAT Mech Detailed'!DA27","v":0},{"$f":"'PAT Mech Detailed'!DB27","v":0},{"$f":"'PAT Mech Detailed'!DC27","v":0},0,{"$f":"IF('PAT Mech Detailed'!DF27=4,SUM(O29:X29)/1.333333333,IF('PAT Mech Detailed'!DF27=6,SUM(O29:Z29)/1.6,SUM(O29:X29)))","v":0},{"$f":"'PAT Mech Detailed'!CP27","v":0},{"$f":"'PAT Mech Detailed'!CW27","v":0},0,0,0,""]
[null,null,14,{"$f":"TERM1!E29","v":0},{"$f":"TERM1!F29","v":0},{"$f":"TERM1!G29","v":0},{"$f":"'PAT Mech Detailed'!K28","v":0},{"$f":"'PAT Mech Detailed'!R28","v":0},{"$f":"'PAT Mech Detailed'!AA28","v":0},{"$f":"'PAT Mech Detailed'!AJ28","v":0},{"$f":"'PAT Mech Detailed'!AS28","v":0},{"$f":"'PAT Mech Detailed'!AY28","v":0},0,0,{"$f":"'PAT Mech Detailed'!BC28","v":0},{"$f":"'PAT Mech Detailed'!BJ28","v":0},{"$f":"'PAT Mech Detailed'!BP28","v":0},{"$f":"'PAT Mech Detailed'!BV28","v":0},{"$f":"'PAT Mech Detailed'!CI28","v":0},{"$f":"'PAT Mech Detailed'!CM28","v":0},{"$f":"'PAT Mech Detailed'!CX28","v":0},{"$f":"'PAT Mech Detailed'!CY28","v":0},{"$f":"'PAT Mech Detailed'!CZ28","v":0},{"$f":"'PAT Mech Detailed'!DA28","v":0},{"$f":"'PAT Mech Detailed'!DB28","v":0},{"$f":"'PAT Mech Detailed'!DC28","v":0},0,{"$f":"IF('PAT Mech Detailed'!DF28=4,SUM(O30:X30)/1.333333333,IF('PAT Mech Detailed'!DF28=6,SUM(O30:Z30)/1.6,SUM(O30:X30)))","v":0},{"$f":"'PAT Mech Detailed'!CP28","v":0},{"$f":"'PAT Mech Detailed'!CW28","v":0},0,0,0,""]
[null,null,15,{"$f":"TERM1!E30","v":0},{"$f":"TERM1!F30","v":0},{"$f":"TERM1!G30","v":0},{"$f":"'PAT Mech Detailed'!K29","v":0},{"$f":"'PAT Mech Detailed'!R29","v":0},{"$f":"'PAT Mech Detailed'!AA29","v":0},{"$f":"'PAT Mech Detailed'!AJ29","v":0},{"$f":"'PAT Mech Detailed'!AS29","v":0},{"$f":"'PAT Mech Detailed'!AY29","v":0},0,0,{"$f":"'PAT Mech Detailed'!BC29","v":0},{"$f":"'PAT Mech Detailed'!BJ29","v":0},{"$f":"'PAT Mech Detailed'!BP29","v":0},{"$f":"'PAT Mech Detailed'!BV29","v":0},{"$f":"'PAT Mech Detailed'!CI29","v":0},{"$f":"'PAT Mech Detailed'!CM29","v":0},{"$f":"'PAT Mech Detailed'!CX29","v":0},{"$f":"'PAT Mech Detailed'!CY29","v":0},{"$f":"'PAT Mech Detailed'!CZ29","v":0},{"$f":"'PAT Mech Detailed'!DA29","v":0},{"$f":"'PAT Mech Detailed'!DB29","v":0},{"$f":"'PAT Mech Detailed'!DC29","v":0},0,{"$f":"IF('PAT Mech Detailed'!DF29=4,SUM(O31:X31)/1.333333333,IF('PAT Mech Detailed'!DF29=6,SUM(O31:Z31)/1.6,SUM(O31:X31)))","v":0},{"$f":"'PAT Mech Detailed'!CP29","v":0},{"$f":"'PAT Mech Detailed'!CW29","v":0},0,0,0,""]
[null,null,16,{"$f":"TERM1!E31","v":0},{"$f":"TERM1!F31","v":0},{"$f":"TERM1!G31","v":0},{"$f":"'PAT Mech Detailed'!K30","v":0},{"$f":"'PAT Mech Detailed'!R30","v":0},{"$f":"'PAT Mech Detailed'!AA30","v":0},{"$f":"'PAT Mech Detailed'!AJ30","v":0},{"$f":"'PAT Mech Detailed'!AS30","v":0},{"$f":"'PAT Mech Detailed'!AY30","v":0},0,0,{"$f":"'PAT Mech Detailed'!BC30","v":0},{"$f":"'PAT Mech Detailed'!BJ30","v":0},{"$f":"'PAT Mech Detailed'!BP30","v":0},{"$f":"'PAT Mech Detailed'!BV30","v":0},{"$f":"'PAT Mech Detailed'!CI30","v":0},{"$f":"'PAT Mech Detailed'!CM30","v":0},{"$f":"'PAT Mech Detailed'!CX30","v":0},{"$f":"'PAT Mech Detailed'!CY30","v":0},{"$f":"'PAT Mech Detailed'!CZ30","v":0},{"$f":"'PAT Mech Detailed'!DA30","v":0},{"$f":"'PAT Mech Detailed'!DB30","v":0},{"$f":"'PAT Mech Detailed'!DC30","v":0},0,{"$f":"IF('PAT Mech Detailed'!DF30=4,SUM(O32:X32)/1.333333333,IF('PAT Mech Detailed'!DF30=6,SUM(O32:Z32)/1.6,SUM(O32:X32)))","v":0},{"$f":"'PAT Mech Detailed'!CP30","v":0},{"$f":"'PAT Mech Detailed'!CW30","v":0},0,0,0,""]
[null,null,17,{"$f":"TERM1!E32","v":0},{"$f":"TERM1!F32","v":0},{"$f":"TERM1!G32","v":0},{"$f":"'PAT Mech Detailed'!K31","v":0},{"$f":"'PAT Mech Detailed'!R31","v":0},{"$f":"'PAT Mech Detailed'!AA31","v":0},{"$f":"'PAT Mech Detailed'!AJ31","v":0},{"$f":"'PAT Mech Detailed'!AS31","v":0},{"$f":"'PAT Mech Detailed'!AY31","v":0},0,0,{"$f":"'PAT Mech Detailed'!BC31","v":0},{"$f":"'PAT Mech Detailed'!BJ31","v":0},{"$f":"'PAT Mech Detailed'!BP31","v":0},{"$f":"'PAT Mech Detailed'!BV31","v":0},{"$f":"'PAT Mech Detailed'!CI31","v":0},{"$f":"'PAT Mech Detailed'!CM31","v":0},{"$f":"'PAT Mech Detailed'!CX31","v":0},{"$f":"'PAT Mech Detailed'!CY31","v":0},{"$f":"'PAT Mech Detailed'!CZ31","v":0},{"$f":"'PAT Mech Detailed'!DA31","v":0},{"$f":"'PAT Mech Detailed'!DB31","v":0},{"$f":"'PAT Mech Detailed'!DC31","v":0},0,{"$f":"IF('PAT Mech Detailed'!DF31=4,SUM(O33:X33)/1.333333333,IF('PAT Mech Detailed'!DF31=6,SUM(O33:Z33)/1.6,SUM(O33:X33)))","v":0},{"$f":"'PAT Mech Detailed'!CP31","v":0},{"$f":"'PAT Mech Detailed'!CW31","v":0},0,0,0,""]
[null,null,{"$f":"C33+1","v":18},{"$f":"TERM1!E33","v":0},{"$f":"TERM1!F33","v":0},{"$f":"TERM1!G33","v":0},{"$f":"'PAT Mech Detailed'!K32","v":0},{"$f":"'PAT Mech Detailed'!R32","v":0},{"$f":"'PAT Mech Detailed'!AA32","v":0},{"$f":"'PAT Mech Detailed'!AJ32","v":0},{"$f":"'PAT Mech Detailed'!AS32","v":0},{"$f":"'PAT Mech Detailed'!AY32","v":0},0,0,{"$f":"'PAT Mech Detailed'!BC32","v":0},{"$f":"'PAT Mech Detailed'!BJ32","v":0},{"$f":"'PAT Mech Detailed'!BP32","v":0},{"$f":"'PAT Mech Detailed'!BV32","v":0},{"$f":"'PAT Mech Detailed'!CI32","v":0},{"$f":"'PAT Mech Detailed'!CM32","v":0},{"$f":"'PAT Mech Detailed'!CX32","v":0},{"$f":"'PAT Mech Detailed'!CY32","v":0},{"$f":"'PAT Mech Detailed'!CZ32","v":0},{"$f":"'PAT Mech Detailed'!DA32","v":0},{"$f":"'PAT Mech Detailed'!DB32","v":0},{"$f":"'PAT Mech Detailed'!DC32","v":0},0,{"$f":"IF('PAT Mech Detailed'!DF32=4,SUM(O34:X34)/1.333333333,IF('PAT Mech Detailed'!DF32=6,SUM(O34:Z34)/1.6,SUM(O34:X34)))","v":0},{"$f":"'PAT Mech Detailed'!CP32","v":0},{"$f":"'PAT Mech Detailed'!CW32","v":0},0,0,0,""]
[null,null,19,{"$f":"TERM1!E34","v":0},{"$f":"TERM1!F34","v":0},{"$f":"TERM1!G34","v":0},{"$f":"'PAT Mech Detailed'!K33","v":0},{"$f":"'PAT Mech Detailed'!R33","v":0},{"$f":"'PAT Mech Detailed'!AA33","v":0},{"$f":"'PAT Mech Detailed'!AJ33","v":0},{"$f":"'PAT Mech Detailed'!AS33","v":0},{"$f":"'PAT Mech Detailed'!AY33","v":0},0,0,{"$f":"'PAT Mech Detailed'!BC33","v":0},{"$f":"'PAT Mech Detailed'!BJ33","v":0},{"$f":"'PAT Mech Detailed'!BP33","v":0},{"$f":"'PAT Mech Detailed'!BV33","v":0},{"$f":"'PAT Mech Detailed'!CI33","v":0},{"$f":"'PAT Mech Detailed'!CM33","v":0},{"$f":"'PAT Mech Detailed'!CX33","v":0},{"$f":"'PAT Mech Detailed'!CY33","v":0},{"$f":"'PAT Mech Detailed'!CZ33","v":0},{"$f":"'PAT Mech Detailed'!DA33","v":0},{"$f":"'PAT Mech Detailed'!DB33","v":0},{"$f":"'PAT Mech Detailed'!DC33","v":0},0,{"$f":"IF('PAT Mech Detailed'!DF33=4,SUM(O35:X35)/1.333333333,IF('PAT Mech Detailed'!DF33=6,SUM(O35:Z35)/1.6,SUM(O35:X35)))","v":0},{"$f":"'PAT Mech Detailed'!CP33","v":0},{"$f":"'PAT Mech Detailed'!CW33","v":0},0,0,0,""]
[null,null,20,{"$f":"TERM1!E35","v":0},{"$f":"TERM1!F35","v":0},{"$f":"TERM1!G35","v":0},{"$f":"'PAT Mech Detailed'!K34","v":0},{"$f":"'PAT Mech Detailed'!R34","v":0},{"$f":"'PAT Mech Detailed'!AA34","v":0},{"$f":"'PAT Mech Detailed'!AJ34","v":0},{"$f":"'PAT Mech Detailed'!AS34","v":0},{"$f":"'PAT Mech Detailed'!AY34","v":0},0,0,{"$f":"'PAT Mech Detailed'!BC34","v":0},{"$f":"'PAT Mech Detailed'!BJ34","v":0},{"$f":"'PAT Mech Detailed'!BP34","v":0},{"$f":"'PAT Mech Detailed'!BV34","v":0},{"$f":"'PAT Mech Detailed'!CI34","v":0},{"$f":"'PAT Mech Detailed'!CM34","v":0},{"$f":"'PAT Mech Detailed'!CX34","v":0},{"$f":"'PAT Mech Detailed'!CY34","v":0},{"$f":"'PAT Mech Detailed'!CZ34","v":0},{"$f":"'PAT Mech Detailed'!DA34","v":0},{"$f":"'PAT Mech Detailed'!DB34","v":0},{"$f":"'PAT Mech Detailed'!DC34","v":0},0,{"$f":"IF('PAT Mech Detailed'!DF34=4,SUM(O36:X36)/1.333333333,IF('PAT Mech Detailed'!DF34=6,SUM(O36:Z36)/1.6,SUM(O36:X36)))","v":0},{"$f":"'PAT Mech Detailed'!CP34","v":0},{"$f":"'PAT Mech Detailed'!CW34","v":0},0,0,0,""]
[null,null,21,{"$f":"TERM1!E36","v":0},{"$f":"TERM1!F36","v":0},{"$f":"TERM1!G36","v":0},{"$f":"'PAT Mech Detailed'!K35","v":0},{"$f":"'PAT Mech Detailed'!R35","v":0},{"$f":"'PAT Mech Detailed'!AA35","v":0},{"$f":"'PAT Mech Detailed'!AJ35","v":0},{"$f":"'PAT Mech Detailed'!AS35","v":0},{"$f":"'PAT Mech Detailed'!AY35","v":0},0,0,{"$f":"'PAT Mech Detailed'!BC35","v":0},{"$f":"'PAT Mech Detailed'!BJ35","v":0},{"$f":"'PAT Mech Detailed'!BP35","v":0},{"$f":"'PAT Mech Detailed'!BV35","v":0},{"$f":"'PAT Mech Detailed'!CI35","v":0},{"$f":"'PAT Mech Detailed'!CM35","v":0},{"$f":"'PAT Mech Detailed'!CX35","v":0},{"$f":"'PAT Mech Detailed'!CY35","v":0},{"$f":"'PAT Mech Detailed'!CZ35","v":0},{"$f":"'PAT Mech Detailed'!DA35","v":0},{"$f":"'PAT Mech Detailed'!DB35","v":0},{"$f":"'PAT Mech Detailed'!DC35","v":0},0,{"$f":"IF('PAT Mech Detailed'!DF35=4,SUM(O37:X37)/1.333333333,IF('PAT Mech Detailed'!DF35=6,SUM(O37:Z37)/1.6,SUM(O37:X37)))","v":0},{"$f":"'PAT Mech Detailed'!CP35","v":0},{"$f":"'PAT Mech Detailed'!CW35","v":0},0,0,0,""]
[null,null,22,{"$f":"TERM1!E37","v":0},{"$f":"TERM1!F37","v":0},{"$f":"TERM1!G37","v":0},{"$f":"'PAT Mech Detailed'!K36","v":0},{"$f":"'PAT Mech Detailed'!R36","v":0},{"$f":"'PAT Mech Detailed'!AA36","v":0},{"$f":"'PAT Mech Detailed'!AJ36","v":0},{"$f":"'PAT Mech Detailed'!AS36","v":0},{"$f":"'PAT Mech Detailed'!AY36","v":0},0,0,{"$f":"'PAT Mech Detailed'!BC36","v":0},{"$f":"'PAT Mech Detailed'!BJ36","v":0},{"$f":"'PAT Mech Detailed'!BP36","v":0},{"$f":"'PAT Mech Detailed'!BV36","v":0},{"$f":"'PAT Mech Detailed'!CI36","v":0},{"$f":"'PAT Mech Detailed'!CM36","v":0},{"$f":"'PAT Mech Detailed'!CX36","v":0},{"$f":"'PAT Mech Detailed'!CY36","v":0},{"$f":"'PAT Mech Detailed'!CZ36","v":0},{"$f":"'PAT Mech Detailed'!DA36","v":0},{"$f":"'PAT Mech Detailed'!DB36","v":0},{"$f":"'PAT Mech Detailed'!DC36","v":0},0,{"$f":"IF('PAT Mech Detailed'!DF36=4,SUM(O38:X38)/1.333333333,IF('PAT Mech Detailed'!DF36=6,SUM(O38:Z38)/1.6,SUM(O38:X38)))","v":0},{"$f":"'PAT Mech Detailed'!CP36","v":0},{"$f":"'PAT Mech Detailed'!CW36","v":0},0,0,0,""]
[null,null,23,{"$f":"TERM1!E38","v":0},{"$f":"TERM1!F38","v":0},{"$f":"TERM1!G38","v":0},{"$f":"'PAT Mech Detailed'!K37","v":0},{"$f":"'PAT Mech Detailed'!R37","v":0},{"$f":"'PAT Mech Detailed'!AA37","v":0},{"$f":"'PAT Mech Detailed'!AJ37","v":0},{"$f":"'PAT Mech Detailed'!AS37","v":0},{"$f":"'PAT Mech Detailed'!AY37","v":0},0,0,{"$f":"'PAT Mech Detailed'!BC37","v":0},{"$f":"'PAT Mech Detailed'!BJ37","v":0},{"$f":"'PAT Mech Detailed'!BP37","v":0},{"$f":"'PAT Mech Detailed'!BV37","v":0},{"$f":"'PAT Mech Detailed'!CI37","v":0},{"$f":"'PAT Mech Detailed'!CM37","v":0},{"$f":"'PAT Mech Detailed'!CX37","v":0},{"$f":"'PAT Mech Detailed'!CY37","v":0},{"$f":"'PAT Mech Detailed'!CZ37","v":0},{"$f":"'PAT Mech Detailed'!DA37","v":0},{"$f":"'PAT Mech Detailed'!DB37","v":0},{"$f":"'PAT Mech Detailed'!DC37","v":0},0,{"$f":"IF('PAT Mech Detailed'!DF37=4,SUM(O39:X39)/1.333333333,IF('PAT Mech Detailed'!DF37=6,SUM(O39:Z39)/1.6,SUM(O39:X39)))","v":0},{"$f":"'PAT Mech Detailed'!CP37","v":0},{"$f":"'PAT Mech Detailed'!CW37","v":0},0,0,0,""]
[null,null,24,{"$f":"TERM1!E39","v":0},{"$f":"TERM1!F39","v":0},{"$f":"TERM1!G39","v":0},{"$f":"'PAT Mech Detailed'!K38","v":0},{"$f":"'PAT Mech Detailed'!R38","v":0},{"$f":"'PAT Mech Detailed'!AA38","v":0},{"$f":"'PAT Mech Detailed'!AJ38","v":0},{"$f":"'PAT Mech Detailed'!AS38","v":0},{"$f":"'PAT Mech Detailed'!AY38","v":0},0,0,{"$f":"'PAT Mech Detailed'!BC38","v":0},{"$f":"'PAT Mech Detailed'!BJ38","v":0},{"$f":"'PAT Mech Detailed'!BP38","v":0},{"$f":"'PAT Mech Detailed'!BV38","v":0},{"$f":"'PAT Mech Detailed'!CI38","v":0},{"$f":"'PAT Mech Detailed'!CM38","v":0},{"$f":"'PAT Mech Detailed'!CX38","v":0},{"$f":"'PAT Mech Detailed'!CY38","v":0},{"$f":"'PAT Mech Detailed'!CZ38","v":0},{"$f":"'PAT Mech Detailed'!DA38","v":0},{"$f":"'PAT Mech Detailed'!DB38","v":0},{"$f":"'PAT Mech Detailed'!DC38","v":0},0,{"$f":"IF('PAT Mech Detailed'!DF38=4,SUM(O40:X40)/1.333333333,IF('PAT Mech Detailed'!DF38=6,SUM(O40:Z40)/1.6,SUM(O40:X40)))","v":0},{"$f":"'PAT Mech Detailed'!CP38","v":0},{"$f":"'PAT Mech Detailed'!CW38","v":0},0,0,0,""]
[null,null,25,{"$f":"TERM1!E40","v":0},{"$f":"TERM1!F40","v":0},{"$f":"TERM1!G40","v":0},{"$f":"'PAT Mech Detailed'!K39","v":0},{"$f":"'PAT Mech Detailed'!R39","v":0},{"$f":"'PAT Mech Detailed'!AA39","v":0},{"$f":"'PAT Mech Detailed'!AJ39","v":0},{"$f":"'PAT Mech Detailed'!AS39","v":0},{"$f":"'PAT Mech Detailed'!AY39","v":0},0,0,{"$f":"'PAT Mech Detailed'!BC39","v":0},{"$f":"'PAT Mech Detailed'!BJ39","v":0},{"$f":"'PAT Mech Detailed'!BP39","v":0},{"$f":"'PAT Mech Detailed'!BV39","v":0},{"$f":"'PAT Mech Detailed'!CI39","v":0},{"$f":"'PAT Mech Detailed'!CM39","v":0},{"$f":"'PAT Mech Detailed'!CX39","v":0},{"$f":"'PAT Mech Detailed'!CY39","v":0},{"$f":"'PAT Mech Detailed'!CZ39","v":0},{"$f":"'PAT Mech Detailed'!DA39","v":0},{"$f":"'PAT Mech Detailed'!DB39","v":0},{"$f":"'PAT Mech Detailed'!DC39","v":0},0,{"$f":"IF('PAT Mech Detailed'!DF39=4,SUM(O41:X41)/1.333333333,IF('PAT Mech Detailed'!DF39=6,SUM(O41:Z41)/1.6,SUM(O41:X41)))","v":0},{"$f":"'PAT Mech Detailed'!CP39","v":0},{"$f":"'PAT Mech Detailed'!CW39","v":0},0,0,0,""]
[null,null,26,{"$f":"TERM1!E41","v":0},{"$f":"TERM1!F41","v":0},{"$f":"TERM1!G41","v":0},{"$f":"'PAT Mech Detailed'!K40","v":0},{"$f":"'PAT Mech Detailed'!R40","v":0},{"$f":"'PAT Mech Detailed'!AA40","v":0},{"$f":"'PAT Mech Detailed'!AJ40","v":0},{"$f":"'PAT Mech Detailed'!AS40","v":0},{"$f":"'PAT Mech Detailed'!AY40","v":0},0,0,{"$f":"'PAT Mech Detailed'!BC40","v":0},{"$f":"'PAT Mech Detailed'!BJ40","v":0},{"$f":"'PAT Mech Detailed'!BP40","v":0},{"$f":"'PAT Mech Detailed'!BV40","v":0},{"$f":"'PAT Mech Detailed'!CI40","v":0},{"$f":"'PAT Mech Detailed'!CM40","v":0},{"$f":"'PAT Mech Detailed'!CX40","v":0},{"$f":"'PAT Mech Detailed'!CY40","v":0},{"$f":"'PAT Mech Detailed'!CZ40","v":0},{"$f":"'PAT Mech Detailed'!DA40","v":0},{"$f":"'PAT Mech Detailed'!DB40","v":0},{"$f":"'PAT Mech Detailed'!DC40","v":0},0,{"$f":"IF('PAT Mech Detailed'!DF40=4,SUM(O42:X42)/1.333333333,IF('PAT Mech Detailed'!DF40=6,SUM(O42:Z42)/1.6,SUM(O42:X42)))","v":0},{"$f":"'PAT Mech Detailed'!CP40","v":0},{"$f":"'PAT Mech Detailed'!CW40","v":0},0,0,0,""]
[null,null,27,{"$f":"TERM1!E42","v":0},{"$f":"TERM1!F42","v":0},{"$f":"TERM1!G42","v":0},{"$f":"'PAT Mech Detailed'!K41","v":0},{"$f":"'PAT Mech Detailed'!R41","v":0},{"$f":"'PAT Mech Detailed'!AA41","v":0},{"$f":"'PAT Mech Detailed'!AJ41","v":0},{"$f":"'PAT Mech Detailed'!AS41","v":0},{"$f":"'PAT Mech Detailed'!AY41","v":0},0,0,{"$f":"'PAT Mech Detailed'!BC41","v":0},{"$f":"'PAT Mech Detailed'!BJ41","v":0},{"$f":"'PAT Mech Detailed'!BP41","v":0},{"$f":"'PAT Mech Detailed'!BV41","v":0},{"$f":"'PAT Mech Detailed'!CI41","v":0},{"$f":"'PAT Mech Detailed'!CM41","v":0},{"$f":"'PAT Mech Detailed'!CX41","v":0},{"$f":"'PAT Mech Detailed'!CY41","v":0},{"$f":"'PAT Mech Detailed'!CZ41","v":0},{"$f":"'PAT Mech Detailed'!DA41","v":0},{"$f":"'PAT Mech Detailed'!DB41","v":0},{"$f":"'PAT Mech Detailed'!DC41","v":0},0,{"$f":"IF('PAT Mech Detailed'!DF41=4,SUM(O43:X43)/1.333333333,IF('PAT Mech Detailed'!DF41=6,SUM(O43:Z43)/1.6,SUM(O43:X43)))","v":0},{"$f":"'PAT Mech Detailed'!CP41","v":0},{"$f":"'PAT Mech Detailed'!CW41","v":0},0,0,0,""]
[null,null,28,{"$f":"TERM1!E43","v":0},{"$f":"TERM1!F43","v":0},{"$f":"TERM1!G43","v":0},{"$f":"'PAT Mech Detailed'!K42","v":0},{"$f":"'PAT Mech Detailed'!R42","v":0},{"$f":"'PAT Mech Detailed'!AA42","v":0},{"$f":"'PAT Mech Detailed'!AJ42","v":0},{"$f":"'PAT Mech Detailed'!AS42","v":0},{"$f":"'PAT Mech Detailed'!AY42","v":0},0,0,{"$f":"'PAT Mech Detailed'!BC42","v":0},{"$f":"'PAT Mech Detailed'!BJ42","v":0},{"$f":"'PAT Mech Detailed'!BP42","v":0},{"$f":"'PAT Mech Detailed'!BV42","v":0},{"$f":"'PAT Mech Detailed'!CI42","v":0},{"$f":"'PAT Mech Detailed'!CM42","v":0},{"$f":"'PAT Mech Detailed'!CX42","v":0},{"$f":"'PAT Mech Detailed'!CY42","v":0},{"$f":"'PAT Mech Detailed'!CZ42","v":0},{"$f":"'PAT Mech Detailed'!DA42","v":0},{"$f":"'PAT Mech Detailed'!DB42","v":0},{"$f":"'PAT Mech Detailed'!DC42","v":0},0,{"$f":"IF('PAT Mech Detailed'!DF42=4,SUM(O44:X44)/1.333333333,IF('PAT Mech Detailed'!DF42=6,SUM(O44:Z44)/1.6,SUM(O44:X44)))","v":0},{"$f":"'PAT Mech Detailed'!CP42","v":0},{"$f":"'PAT Mech Detailed'!CW42","v":0},0,0,0,""]
[null,null,29,{"$f":"TERM1!E44","v":0},{"$f":"TERM1!F44","v":0},{"$f":"TERM1!G44","v":0},{"$f":"'PAT Mech Detailed'!K43","v":0},{"$f":"'PAT Mech Detailed'!R43","v":0},{"$f":"'PAT Mech Detailed'!AA43","v":0},{"$f":"'PAT Mech Detailed'!AJ43","v":0},{"$f":"'PAT Mech Detailed'!AS43","v":0},{"$f":"'PAT Mech Detailed'!AY43","v":0},0,0,{"$f":"'PAT Mech Detailed'!BC43","v":0},{"$f":"'PAT Mech Detailed'!BJ43","v":0},{"$f":"'PAT Mech Detailed'!BP43","v":0},{"$f":"'PAT Mech Detailed'!BV43","v":0},{"$f":"'PAT Mech Detailed'!CI43","v":0},{"$f":"'PAT Mech Detailed'!CM43","v":0},{"$f":"'PAT Mech Detailed'!CX43","v":0},{"$f":"'PAT Mech Detailed'!CY43","v":0},{"$f":"'PAT Mech Detailed'!CZ43","v":0},{"$f":"'PAT Mech Detailed'!DA43","v":0},{"$f":"'PAT Mech Detailed'!DB43","v":0},{"$f":"'PAT Mech Detailed'!DC43","v":0},0,{"$f":"IF('PAT Mech Detailed'!DF43=4,SUM(O45:X45)/1.333333333,IF('PAT Mech Detailed'!DF43=6,SUM(O45:Z45)/1.6,SUM(O45:X45)))","v":0},{"$f":"'PAT Mech Detailed'!CP43","v":0},{"$f":"'PAT Mech Detailed'!CW43","v":0},0,0,0,""]
[null,null,30,{"$f":"TERM1!E45","v":0},{"$f":"TERM1!F45","v":0},{"$f":"TERM1!G45","v":0},{"$f":"'PAT Mech Detailed'!K44","v":0},{"$f":"'PAT Mech Detailed'!R44","v":0},{"$f":"'PAT Mech Detailed'!AA44","v":0},{"$f":"'PAT Mech Detailed'!AJ44","v":0},{"$f":"'PAT Mech Detailed'!AS44","v":0},{"$f":"'PAT Mech Detailed'!AY44","v":0},0,0,{"$f":"'PAT Mech Detailed'!BC44","v":0},{"$f":"'PAT Mech Detailed'!BJ44","v":0},{"$f":"'PAT Mech Detailed'!BP44","v":0},{"$f":"'PAT Mech Detailed'!BV44","v":0},{"$f":"'PAT Mech Detailed'!CI44","v":0},{"$f":"'PAT Mech Detailed'!CM44","v":0},{"$f":"'PAT Mech Detailed'!CX44","v":0},{"$f":"'PAT Mech Detailed'!CY44","v":0},{"$f":"'PAT Mech Detailed'!CZ44","v":0},{"$f":"'PAT Mech Detailed'!DA44","v":0},{"$f":"'PAT Mech Detailed'!DB44","v":0},{"$f":"'PAT Mech Detailed'!DC44","v":0},0,{"$f":"IF('PAT Mech Detailed'!DF44=4,SUM(O46:X46)/1.333333333,IF('PAT Mech Detailed'!DF44=6,SUM(O46:Z46)/1.6,SUM(O46:X46)))","v":0},{"$f":"'PAT Mech Detailed'!CP44","v":0},{"$f":"'PAT Mech Detailed'!CW44","v":0},0,0,0,""]
[null,null,31,{"$f":"TERM1!E46","v":0},{"$f":"TERM1!F46","v":0},{"$f":"TERM1!G46","v":0},{"$f":"'PAT Mech Detailed'!K45","v":0},{"$f":"'PAT Mech Detailed'!R45","v":0},{"$f":"'PAT Mech Detailed'!AA45","v":0},{"$f":"'PAT Mech Detailed'!AJ45","v":0},{"$f":"'PAT Mech Detailed'!AS45","v":0},{"$f":"'PAT Mech Detailed'!AY45","v":0},0,0,{"$f":"'PAT Mech Detailed'!BC45","v":0},{"$f":"'PAT Mech Detailed'!BJ45","v":0},{"$f":"'PAT Mech Detailed'!BP45","v":0},{"$f":"'PAT Mech Detailed'!BV45","v":0},{"$f":"'PAT Mech Detailed'!CI45","v":0},{"$f":"'PAT Mech Detailed'!CM45","v":0},{"$f":"'PAT Mech Detailed'!CX45","v":0},{"$f":"'PAT Mech Detailed'!CY45","v":0},{"$f":"'PAT Mech Detailed'!CZ45","v":0},{"$f":"'PAT Mech Detailed'!DA45","v":0},{"$f":"'PAT Mech Detailed'!DB45","v":0},{"$f":"'PAT Mech Detailed'!DC45","v":0},0,{"$f":"IF('PAT Mech Detailed'!DF45=4,SUM(O47:X47)/1.333333333,IF('PAT Mech Detailed'!DF45=6,SUM(O47:Z47)/1.6,SUM(O47:X47)))","v":0},{"$f":"'PAT Mech Detailed'!CP45","v":0},{"$f":"'PAT Mech Detailed'!CW45","v":0},0,0,0,""]
[null,null,32,{"$f":"TERM1!E47","v":0},{"$f":"TERM1!F47","v":0},{"$f":"TERM1!G47","v":0},{"$f":"'PAT Mech Detailed'!K46","v":0},{"$f":"'PAT Mech Detailed'!R46","v":0},{"$f":"'PAT Mech Detailed'!AA46","v":0},{"$f":"'PAT Mech Detailed'!AJ46","v":0},{"$f":"'PAT Mech Detailed'!AS46","v":0},{"$f":"'PAT Mech Detailed'!AY46","v":0},0,0,{"$f":"'PAT Mech Detailed'!BC46","v":0},{"$f":"'PAT Mech Detailed'!BJ46","v":0},{"$f":"'PAT Mech Detailed'!BP46","v":0},{"$f":"'PAT Mech Detailed'!BV46","v":0},{"$f":"'PAT Mech Detailed'!CI46","v":0},{"$f":"'PAT Mech Detailed'!CM46","v":0},{"$f":"'PAT Mech Detailed'!CX46","v":0},{"$f":"'PAT Mech Detailed'!CY46","v":0},{"$f":"'PAT Mech Detailed'!CZ46","v":0},{"$f":"'PAT Mech Detailed'!DA46","v":0},{"$f":"'PAT Mech Detailed'!DB46","v":0},{"$f":"'PAT Mech Detailed'!DC46","v":0},0,{"$f":"IF('PAT Mech Detailed'!DF46=4,SUM(O48:X48)/1.333333333,IF('PAT Mech Detailed'!DF46=6,SUM(O48:Z48)/1.6,SUM(O48:X48)))","v":0},{"$f":"'PAT Mech Detailed'!CP46","v":0},{"$f":"'PAT Mech Detailed'!CW46","v":0},0,0,0,""]
[null,null,33,{"$f":"TERM1!E48","v":0},{"$f":"TERM1!F48","v":0},{"$f":"TERM1!G48","v":0},{"$f":"'PAT Mech Detailed'!K47","v":0},{"$f":"'PAT Mech Detailed'!R47","v":0},{"$f":"'PAT Mech Detailed'!AA47","v":0},{"$f":"'PAT Mech Detailed'!AJ47","v":0},{"$f":"'PAT Mech Detailed'!AS47","v":0},{"$f":"'PAT Mech Detailed'!AY47","v":0},0,0,{"$f":"'PAT Mech Detailed'!BC47","v":0},{"$f":"'PAT Mech Detailed'!BJ47","v":0},{"$f":"'PAT Mech Detailed'!BP47","v":0},{"$f":"'PAT Mech Detailed'!BV47","v":0},{"$f":"'PAT Mech Detailed'!CI47","v":0},{"$f":"'PAT Mech Detailed'!CM47","v":0},{"$f":"'PAT Mech Detailed'!CX47","v":0},{"$f":"'PAT Mech Detailed'!CY47","v":0},{"$f":"'PAT Mech Detailed'!CZ47","v":0},{"$f":"'PAT Mech Detailed'!DA47","v":0},{"$f":"'PAT Mech Detailed'!DB47","v":0},{"$f":"'PAT Mech Detailed'!DC47","v":0},0,{"$f":"IF('PAT Mech Detailed'!DF47=4,SUM(O49:X49)/1.333333333,IF('PAT Mech Detailed'!DF47=6,SUM(O49:Z49)/1.6,SUM(O49:X49)))","v":0},{"$f":"'PAT Mech Detailed'!CP47","v":0},{"$f":"'PAT Mech Detailed'!CW47","v":0},0,0,{"$f":"SUM(N49+AB49+AF49)","v":0},""]
[null,null,34,{"$f":"TERM1!E49","v":0},{"$f":"TERM1!F49","v":0},{"$f":"TERM1!G49","v":0},{"$f":"'PAT Mech Detailed'!K48","v":0},{"$f":"'PAT Mech Detailed'!R48","v":0},{"$f":"'PAT Mech Detailed'!AA48","v":0},{"$f":"'PAT Mech Detailed'!AJ48","v":0},{"$f":"'PAT Mech Detailed'!AS48","v":0},{"$f":"'PAT Mech Detailed'!AY48","v":0},0,0,{"$f":"'PAT Mech Detailed'!BC48","v":0},{"$f":"'PAT Mech Detailed'!BJ48","v":0},{"$f":"'PAT Mech Detailed'!BP48","v":0},{"$f":"'PAT Mech Detailed'!BV48","v":0},{"$f":"'PAT Mech Detailed'!CI48","v":0},{"$f":"'PAT Mech Detailed'!CM48","v":0},{"$f":"'PAT Mech Detailed'!CX48","v":0},{"$f":"'PAT Mech Detailed'!CY48","v":0},{"$f":"'PAT Mech Detailed'!CZ48","v":0},{"$f":"'PAT Mech Detailed'!DA48","v":0},{"$f":"'PAT Mech Detailed'!DB48","v":0},{"$f":"'PAT Mech Detailed'!DC48","v":0},0,{"$f":"IF('PAT Mech Detailed'!DF48=4,SUM(O50:X50)/1.333333333,IF('PAT Mech Detailed'!DF48=6,SUM(O50:Z50)/1.6,SUM(O50:X50)))","v":0},{"$f":"'PAT Mech Detailed'!CP48","v":0},{"$f":"'PAT Mech Detailed'!CW48","v":0},0,0,0,""]
[null,null,35,{"$f":"TERM1!E50","v":0},{"$f":"TERM1!F50","v":0},{"$f":"TERM1!G50","v":0},{"$f":"'PAT Mech Detailed'!K49","v":0},{"$f":"'PAT Mech Detailed'!R49","v":0},{"$f":"'PAT Mech Detailed'!AA49","v":0},{"$f":"'PAT Mech Detailed'!AJ49","v":0},{"$f":"'PAT Mech Detailed'!AS49","v":0},{"$f":"'PAT Mech Detailed'!AY49","v":0},0,0,{"$f":"'PAT Mech Detailed'!BC49","v":0},{"$f":"'PAT Mech Detailed'!BJ49","v":0},{"$f":"'PAT Mech Detailed'!BP49","v":0},{"$f":"'PAT Mech Detailed'!BV49","v":0},{"$f":"'PAT Mech Detailed'!CI49","v":0},{"$f":"'PAT Mech Detailed'!CM49","v":0},{"$f":"'PAT Mech Detailed'!CX49","v":0},{"$f":"'PAT Mech Detailed'!CY49","v":0},{"$f":"'PAT Mech Detailed'!CZ49","v":0},{"$f":"'PAT Mech Detailed'!DA49","v":0},{"$f":"'PAT Mech Detailed'!DB49","v":0},{"$f":"'PAT Mech Detailed'!DC49","v":0},0,{"$f":"IF('PAT Mech Detailed'!DF49=4,SUM(O51:X51)/1.333333333,IF('PAT Mech Detailed'!DF49=6,SUM(O51:Z51)/1.6,SUM(O51:X51)))","v":0},{"$f":"'PAT Mech Detailed'!CP49","v":0},{"$f":"'PAT Mech Detailed'!CW49","v":0},0,0,0,""]
[null,null,36,{"$f":"TERM1!E51","v":0},{"$f":"TERM1!F51","v":0},{"$f":"TERM1!G51","v":0},{"$f":"'PAT Mech Detailed'!K50","v":0},{"$f":"'PAT Mech Detailed'!R50","v":0},{"$f":"'PAT Mech Detailed'!AA50","v":0},{"$f":"'PAT Mech Detailed'!AJ50","v":0},{"$f":"'PAT Mech Detailed'!AS50","v":0},{"$f":"'PAT Mech Detailed'!AY50","v":0},0,0,{"$f":"'PAT Mech Detailed'!BC50","v":0},{"$f":"'PAT Mech Detailed'!BJ50","v":0},{"$f":"'PAT Mech Detailed'!BP50","v":0},{"$f":"'PAT Mech Detailed'!BV50","v":0},{"$f":"'PAT Mech Detailed'!CI50","v":0},{"$f":"'PAT Mech Detailed'!CM50","v":0},{"$f":"'PAT Mech Detailed'!CX50","v":0},{"$f":"'PAT Mech Detailed'!CY50","v":0},{"$f":"'PAT Mech Detailed'!CZ50","v":0},{"$f":"'PAT Mech Detailed'!DA50","v":0},{"$f":"'PAT Mech Detailed'!DB50","v":0},{"$f":"'PAT Mech Detailed'!DC50","v":0},0,{"$f":"IF('PAT Mech Detailed'!DF50=4,SUM(O52:X52)/1.333333333,IF('PAT Mech Detailed'!DF50=6,SUM(O52:Z52)/1.6,SUM(O52:X52)))","v":0},{"$f":"'PAT Mech Detailed'!CP50","v":0},{"$f":"'PAT Mech Detailed'!CW50","v":0},0,0,0,""]
[null,null,37,{"$f":"TERM1!E52","v":0},{"$f":"TERM1!F52","v":0},{"$f":"TERM1!G52","v":0},{"$f":"'PAT Mech Detailed'!K51","v":0},{"$f":"'PAT Mech Detailed'!R51","v":0},{"$f":"'PAT Mech Detailed'!AA51","v":0},{"$f":"'PAT Mech Detailed'!AJ51","v":0},{"$f":"'PAT Mech Detailed'!AS51","v":0},{"$f":"'PAT Mech Detailed'!AY51","v":0},0,0,{"$f":"'PAT Mech Detailed'!BC51","v":0},{"$f":"'PAT Mech Detailed'!BJ51","v":0},{"$f":"'PAT Mech Detailed'!BP51","v":0},{"$f":"'PAT Mech Detailed'!BV51","v":0},{"$f":"'PAT Mech Detailed'!CI51","v":0},{"$f":"'PAT Mech Detailed'!CM51","v":0},{"$f":"'PAT Mech Detailed'!CX51","v":0},{"$f":"'PAT Mech Detailed'!CY51","v":0},{"$f":"'PAT Mech Detailed'!CZ51","v":0},{"$f":"'PAT Mech Detailed'!DA51","v":0},{"$f":"'PAT Mech Detailed'!DB51","v":0},{"$f":"'PAT Mech Detailed'!DC51","v":0},0,{"$f":"IF('PAT Mech Detailed'!DF51=4,SUM(O53:X53)/1.333333333,IF('PAT Mech Detailed'!DF51=6,SUM(O53:Z53)/1.6,SUM(O53:X53)))","v":0},{"$f":"'PAT Mech Detailed'!CP51","v":0},{"$f":"'PAT Mech Detailed'!CW51","v":0},0,0,0,""]
[null,null,38,{"$f":"TERM1!E53","v":0},{"$f":"TERM1!F53","v":0},{"$f":"TERM1!G53","v":0},{"$f":"'PAT Mech Detailed'!K52","v":0},{"$f":"'PAT Mech Detailed'!R52","v":0},{"$f":"'PAT Mech Detailed'!AA52","v":0},{"$f":"'PAT Mech Detailed'!AJ52","v":0},{"$f":"'PAT Mech Detailed'!AS52","v":0},{"$f":"'PAT Mech Detailed'!AY52","v":0},0,0,{"$f":"'PAT Mech Detailed'!BC52","v":0},{"$f":"'PAT Mech Detailed'!BJ52","v":0},{"$f":"'PAT Mech Detailed'!BP52","v":0},{"$f":"'PAT Mech Detailed'!BV52","v":0},{"$f":"'PAT Mech Detailed'!CI52","v":0},{"$f":"'PAT Mech Detailed'!CM52","v":0},{"$f":"'PAT Mech Detailed'!CX52","v":0},{"$f":"'PAT Mech Detailed'!CY52","v":0},{"$f":"'PAT Mech Detailed'!CZ52","v":0},{"$f":"'PAT Mech Detailed'!DA52","v":0},{"$f":"'PAT Mech Detailed'!DB52","v":0},{"$f":"'PAT Mech Detailed'!DC52","v":0},0,{"$f":"IF('PAT Mech Detailed'!DF52=4,SUM(O54:X54)/1.333333333,IF('PAT Mech Detailed'!DF52=6,SUM(O54:Z54)/1.6,SUM(O54:X54)))","v":0},{"$f":"'PAT Mech Detailed'!CP52","v":0},{"$f":"'PAT Mech Detailed'!CW52","v":0},0,0,0,""]
[null,null,39,{"$f":"TERM1!E54","v":0},{"$f":"TERM1!F54","v":0},{"$f":"TERM1!G54","v":0},{"$f":"'PAT Mech Detailed'!K53","v":0},{"$f":"'PAT Mech Detailed'!R53","v":0},{"$f":"'PAT Mech Detailed'!AA53","v":0},{"$f":"'PAT Mech Detailed'!AJ53","v":0},{"$f":"'PAT Mech Detailed'!AS53","v":0},{"$f":"'PAT Mech Detailed'!AY53","v":0},0,0,{"$f":"'PAT Mech Detailed'!BC53","v":0},{"$f":"'PAT Mech Detailed'!BJ53","v":0},{"$f":"'PAT Mech Detailed'!BP53","v":0},{"$f":"'PAT Mech Detailed'!BV53","v":0},{"$f":"'PAT Mech Detailed'!CI53","v":0},{"$f":"'PAT Mech Detailed'!CM53","v":0},{"$f":"'PAT Mech Detailed'!CX53","v":0},{"$f":"'PAT Mech Detailed'!CY53","v":0},{"$f":"'PAT Mech Detailed'!CZ53","v":0},{"$f":"'PAT Mech Detailed'!DA53","v":0},{"$f":"'PAT Mech Detailed'!DB53","v":0},{"$f":"'PAT Mech Detailed'!DC53","v":0},0,{"$f":"IF('PAT Mech Detailed'!DF53=4,SUM(O55:X55)/1.333333333,IF('PAT Mech Detailed'!DF53=6,SUM(O55:Z55)/1.6,SUM(O55:X55)))","v":0},{"$f":"'PAT Mech Detailed'!CP53","v":0},{"$f":"'PAT Mech Detailed'!CW53","v":0},0,0,0,""]
[null,null,40,{"$f":"TERM1!E55","v":0},{"$f":"TERM1!F55","v":0},{"$f":"TERM1!G55","v":0},{"$f":"'PAT Mech Detailed'!K54","v":0},{"$f":"'PAT Mech Detailed'!R54","v":0},{"$f":"'PAT Mech Detailed'!AA54","v":0},{"$f":"'PAT Mech Detailed'!AJ54","v":0},{"$f":"'PAT Mech Detailed'!AS54","v":0},{"$f":"'PAT Mech Detailed'!AY54","v":0},0,0,{"$f":"'PAT Mech Detailed'!BC54","v":0},{"$f":"'PAT Mech Detailed'!BJ54","v":0},{"$f":"'PAT Mech Detailed'!BP54","v":0},{"$f":"'PAT Mech Detailed'!BV54","v":0},{"$f":"'PAT Mech Detailed'!CI54","v":0},{"$f":"'PAT Mech Detailed'!CM54","v":0},{"$f":"'PAT Mech Detailed'!CX54","v":0},{"$f":"'PAT Mech Detailed'!CY54","v":0},{"$f":"'PAT Mech Detailed'!CZ54","v":0},{"$f":"'PAT Mech Detailed'!DA54","v":0},{"$f":"'PAT Mech Detailed'!DB54","v":0},{"$f":"'PAT Mech Detailed'!DC54","v":0},0,{"$f":"IF('PAT Mech Detailed'!DF54=4,SUM(O56:X56)/1.333333333,IF('PAT Mech Detailed'!DF54=6,SUM(O56:Z56)/1.6,SUM(O56:X56)))","v":0},{"$f":"'PAT Mech Detailed'!CP54","v":0},{"$f":"'PAT Mech Detailed'!CW54","v":0},0,0,0,""]
[null,null,41,{"$f":"TERM1!E56","v":0},{"$f":"TERM1!F56","v":0},{"$f":"TERM1!G56","v":0},{"$f":"'PAT Mech Detailed'!K55","v":0},{"$f":"'PAT Mech Detailed'!R55","v":0},{"$f":"'PAT Mech Detailed'!AA55","v":0},{"$f":"'PAT Mech Detailed'!AJ55","v":0},{"$f":"'PAT Mech Detailed'!AS55","v":0},{"$f":"'PAT Mech Detailed'!AY55","v":0},0,0,{"$f":"'PAT Mech Detailed'!BC55","v":0},{"$f":"'PAT Mech Detailed'!BJ55","v":0},{"$f":"'PAT Mech Detailed'!BP55","v":0},{"$f":"'PAT Mech Detailed'!BV55","v":0},{"$f":"'PAT Mech Detailed'!CI55","v":0},{"$f":"'PAT Mech Detailed'!CM55","v":0},{"$f":"'PAT Mech Detailed'!CX55","v":0},{"$f":"'PAT Mech Detailed'!CY55","v":0},{"$f":"'PAT Mech Detailed'!CZ55","v":0},{"$f":"'PAT Mech Detailed'!DA55","v":0},{"$f":"'PAT Mech Detailed'!DB55","v":0},{"$f":"'PAT Mech Detailed'!DC55","v":0},0,{"$f":"IF('PAT Mech Detailed'!DF55=4,SUM(O57:X57)/1.333333333,IF('PAT Mech Detailed'!DF55=6,SUM(O57:Z57)/1.6,SUM(O57:X57)))","v":0},{"$f":"'PAT Mech Detailed'!CP55","v":0},{"$f":"'PAT Mech Detailed'!CW55","v":0},0,0,0,""]
[null,null,42,{"$f":"TERM1!E57","v":0},{"$f":"TERM1!F57","v":0},{"$f":"TERM1!G57","v":0},{"$f":"'PAT Mech Detailed'!K56","v":0},{"$f":"'PAT Mech Detailed'!R56","v":0},{"$f":"'PAT Mech Detailed'!AA56","v":0},{"$f":"'PAT Mech Detailed'!AJ56","v":0},{"$f":"'PAT Mech Detailed'!AS56","v":0},{"$f":"'PAT Mech Detailed'!AY56","v":0},0,0,{"$f":"'PAT Mech Detailed'!BC56","v":0},{"$f":"'PAT Mech Detailed'!BJ56","v":0},{"$f":"'PAT Mech Detailed'!BP56","v":0},{"$f":"'PAT Mech Detailed'!BV56","v":0},{"$f":"'PAT Mech Detailed'!CI56","v":0},{"$f":"'PAT Mech Detailed'!CM56","v":0},{"$f":"'PAT Mech Detailed'!CX56","v":0},{"$f":"'PAT Mech Detailed'!CY56","v":0},{"$f":"'PAT Mech Detailed'!CZ56","v":0},{"$f":"'PAT Mech Detailed'!DA56","v":0},{"$f":"'PAT Mech Detailed'!DB56","v":0},{"$f":"'PAT Mech Detailed'!DC56","v":0},0,{"$f":"IF('PAT Mech Detailed'!DF56=4,SUM(O58:X58)/1.333333333,IF('PAT Mech Detailed'!DF56=6,SUM(O58:Z58)/1.6,SUM(O58:X58)))","v":0},{"$f":"'PAT Mech Detailed'!CP56","v":0},{"$f":"'PAT Mech Detailed'!CW56","v":0},0,0,0,""]
[null,null,43,{"$f":"TERM1!E58","v":0},{"$f":"TERM1!F58","v":0},{"$f":"TERM1!G58","v":0},{"$f":"'PAT Mech Detailed'!K57","v":0},{"$f":"'PAT Mech Detailed'!R57","v":0},{"$f":"'PAT Mech Detailed'!AA57","v":0},{"$f":"'PAT Mech Detailed'!AJ57","v":0},{"$f":"'PAT Mech Detailed'!AS57","v":0},{"$f":"'PAT Mech Detailed'!AY57","v":0},0,0,{"$f":"'PAT Mech Detailed'!BC57","v":0},{"$f":"'PAT Mech Detailed'!BJ57","v":0},{"$f":"'PAT Mech Detailed'!BP57","v":0},{"$f":"'PAT Mech Detailed'!BV57","v":0},{"$f":"'PAT Mech Detailed'!CI57","v":0},{"$f":"'PAT Mech Detailed'!CM57","v":0},{"$f":"'PAT Mech Detailed'!CX57","v":0},{"$f":"'PAT Mech Detailed'!CY57","v":0},{"$f":"'PAT Mech Detailed'!CZ57","v":0},{"$f":"'PAT Mech Detailed'!DA57","v":0},{"$f":"'PAT Mech Detailed'!DB57","v":0},{"$f":"'PAT Mech Detailed'!DC57","v":0},0,{"$f":"IF('PAT Mech Detailed'!DF57=4,SUM(O59:X59)/1.333333333,IF('PAT Mech Detailed'!DF57=6,SUM(O59:Z59)/1.6,SUM(O59:X59)))","v":0},{"$f":"'PAT Mech Detailed'!CP57","v":0},{"$f":"'PAT Mech Detailed'!CW57","v":0},0,0,0,""]
[null,null,44,{"$f":"TERM1!E59","v":0},{"$f":"TERM1!F59","v":0},{"$f":"TERM1!G59","v":0},{"$f":"'PAT Mech Detailed'!K58","v":0},{"$f":"'PAT Mech Detailed'!R58","v":0},{"$f":"'PAT Mech Detailed'!AA58","v":0},{"$f":"'PAT Mech Detailed'!AJ58","v":0},{"$f":"'PAT Mech Detailed'!AS58","v":0},{"$f":"'PAT Mech Detailed'!AY58","v":0},0,0,{"$f":"'PAT Mech Detailed'!BC58","v":0},{"$f":"'PAT Mech Detailed'!BJ58","v":0},{"$f":"'PAT Mech Detailed'!BP58","v":0},{"$f":"'PAT Mech Detailed'!BV58","v":0},{"$f":"'PAT Mech Detailed'!CI58","v":0},{"$f":"'PAT Mech Detailed'!CM58","v":0},{"$f":"'PAT Mech Detailed'!CX58","v":0},{"$f":"'PAT Mech Detailed'!CY58","v":0},{"$f":"'PAT Mech Detailed'!CZ58","v":0},{"$f":"'PAT Mech Detailed'!DA58","v":0},{"$f":"'PAT Mech Detailed'!DB58","v":0},{"$f":"'PAT Mech Detailed'!DC58","v":0},0,{"$f":"IF('PAT Mech Detailed'!DF58=4,SUM(O60:X60)/1.333333333,IF('PAT Mech Detailed'!DF58=6,SUM(O60:Z60)/1.6,SUM(O60:X60)))","v":0},{"$f":"'PAT Mech Detailed'!CP58","v":0},{"$f":"'PAT Mech Detailed'!CW58","v":0},0,0,0,""]
[null,null,45,{"$f":"TERM1!E60","v":0},{"$f":"TERM1!F60","v":0},{"$f":"TERM1!G60","v":0},{"$f":"'PAT Mech Detailed'!K59","v":0},{"$f":"'PAT Mech Detailed'!R59","v":0},{"$f":"'PAT Mech Detailed'!AA59","v":0},{"$f":"'PAT Mech Detailed'!AJ59","v":0},{"$f":"'PAT Mech Detailed'!AS59","v":0},{"$f":"'PAT Mech Detailed'!AY59","v":0},0,0,{"$f":"'PAT Mech Detailed'!BC59","v":0},{"$f":"'PAT Mech Detailed'!BJ59","v":0},{"$f":"'PAT Mech Detailed'!BP59","v":0},{"$f":"'PAT Mech Detailed'!BV59","v":0},{"$f":"'PAT Mech Detailed'!CI59","v":0},{"$f":"'PAT Mech Detailed'!CM59","v":0},{"$f":"'PAT Mech Detailed'!CX59","v":0},{"$f":"'PAT Mech Detailed'!CY59","v":0},{"$f":"'PAT Mech Detailed'!CZ59","v":0},{"$f":"'PAT Mech Detailed'!DA59","v":0},{"$f":"'PAT Mech Detailed'!DB59","v":0},{"$f":"'PAT Mech Detailed'!DC59","v":0},0,{"$f":"IF('PAT Mech Detailed'!DF59=4,SUM(O61:X61)/1.333333333,IF('PAT Mech Detailed'!DF59=6,SUM(O61:Z61)/1.6,SUM(O61:X61)))","v":0},{"$f":"'PAT Mech Detailed'!CP59","v":0},{"$f":"'PAT Mech Detailed'!CW59","v":0},0,0,0,""]
[null,null,46,{"$f":"TERM1!E61","v":0},{"$f":"TERM1!F61","v":0},{"$f":"TERM1!G61","v":0},{"$f":"'PAT Mech Detailed'!K60","v":0},{"$f":"'PAT Mech Detailed'!R60","v":0},{"$f":"'PAT Mech Detailed'!AA60","v":0},{"$f":"'PAT Mech Detailed'!AJ60","v":0},{"$f":"'PAT Mech Detailed'!AS60","v":0},{"$f":"'PAT Mech Detailed'!AY60","v":0},0,0,{"$f":"'PAT Mech Detailed'!BC60","v":0},{"$f":"'PAT Mech Detailed'!BJ60","v":0},{"$f":"'PAT Mech Detailed'!BP60","v":0},{"$f":"'PAT Mech Detailed'!BV60","v":0},{"$f":"'PAT Mech Detailed'!CI60","v":0},{"$f":"'PAT Mech Detailed'!CM60","v":0},{"$f":"'PAT Mech Detailed'!CX60","v":0},{"$f":"'PAT Mech Detailed'!CY60","v":0},{"$f":"'PAT Mech Detailed'!CZ60","v":0},{"$f":"'PAT Mech Detailed'!DA60","v":0},{"$f":"'PAT Mech Detailed'!DB60","v":0},{"$f":"'PAT Mech Detailed'!DC60","v":0},0,{"$f":"IF('PAT Mech Detailed'!DF60=4,SUM(O62:X62)/1.333333333,IF('PAT Mech Detailed'!DF60=6,SUM(O62:Z62)/1.6,SUM(O62:X62)))","v":0},{"$f":"'PAT Mech Detailed'!CP60","v":0},{"$f":"'PAT Mech Detailed'!CW60","v":0},0,0,0,""]
[null,null,47,{"$f":"TERM1!E62","v":0},{"$f":"TERM1!F62","v":0},{"$f":"TERM1!G62","v":0},{"$f":"'PAT Mech Detailed'!K61","v":0},{"$f":"'PAT Mech Detailed'!R61","v":0},{"$f":"'PAT Mech Detailed'!AA61","v":0},{"$f":"'PAT Mech Detailed'!AJ61","v":0},{"$f":"'PAT Mech Detailed'!AS61","v":0},{"$f":"'PAT Mech Detailed'!AY61","v":0},0,0,{"$f":"'PAT Mech Detailed'!BC61","v":0},{"$f":"'PAT Mech Detailed'!BJ61","v":0},{"$f":"'PAT Mech Detailed'!BP61","v":0},{"$f":"'PAT Mech Detailed'!BV61","v":0},{"$f":"'PAT Mech Detailed'!CI61","v":0},{"$f":"'PAT Mech Detailed'!CM61","v":0},{"$f":"'PAT Mech Detailed'!CX61","v":0},{"$f":"'PAT Mech Detailed'!CY61","v":0},{"$f":"'PAT Mech Detailed'!CZ61","v":0},{"$f":"'PAT Mech Detailed'!DA61","v":0},{"$f":"'PAT Mech Detailed'!DB61","v":0},{"$f":"'PAT Mech Detailed'!DC61","v":0},0,{"$f":"IF('PAT Mech Detailed'!DF61=4,SUM(O63:X63)/1.333333333,IF('PAT Mech Detailed'!DF61=6,SUM(O63:Z63)/1.6,SUM(O63:X63)))","v":0},{"$f":"'PAT Mech Detailed'!CP61","v":0},{"$f":"'PAT Mech Detailed'!CW61","v":0},0,0,0,""]
[null,null,48,{"$f":"TERM1!E63","v":0},{"$f":"TERM1!F63","v":0},{"$f":"TERM1!G63","v":0},{"$f":"'PAT Mech Detailed'!K62","v":0},{"$f":"'PAT Mech Detailed'!R62","v":0},{"$f":"'PAT Mech Detailed'!AA62","v":0},{"$f":"'PAT Mech Detailed'!AJ62","v":0},{"$f":"'PAT Mech Detailed'!AS62","v":0},{"$f":"'PAT Mech Detailed'!AY62","v":0},0,0,{"$f":"'PAT Mech Detailed'!BC62","v":0},{"$f":"'PAT Mech Detailed'!BJ62","v":0},{"$f":"'PAT Mech Detailed'!BP62","v":0},{"$f":"'PAT Mech Detailed'!BV62","v":0},{"$f":"'PAT Mech Detailed'!CI62","v":0},{"$f":"'PAT Mech Detailed'!CM62","v":0},{"$f":"'PAT Mech Detailed'!CX62","v":0},{"$f":"'PAT Mech Detailed'!CY62","v":0},{"$f":"'PAT Mech Detailed'!CZ62","v":0},{"$f":"'PAT Mech Detailed'!DA62","v":0},{"$f":"'PAT Mech Detailed'!DB62","v":0},{"$f":"'PAT Mech Detailed'!DC62","v":0},0,{"$f":"IF('PAT Mech Detailed'!DF62=4,SUM(O64:X64)/1.333333333,IF('PAT Mech Detailed'!DF62=6,SUM(O64:Z64)/1.6,SUM(O64:X64)))","v":0},{"$f":"'PAT Mech Detailed'!CP62","v":0},{"$f":"'PAT Mech Detailed'!CW62","v":0},0,0,0,""]
[null,null,49,{"$f":"TERM1!E64","v":0},{"$f":"TERM1!F64","v":0},{"$f":"TERM1!G64","v":0},{"$f":"'PAT Mech Detailed'!K63","v":0},{"$f":"'PAT Mech Detailed'!R63","v":0},{"$f":"'PAT Mech Detailed'!AA63","v":0},{"$f":"'PAT Mech Detailed'!AJ63","v":0},{"$f":"'PAT Mech Detailed'!AS63","v":0},{"$f":"'PAT Mech Detailed'!AY63","v":0},0,0,{"$f":"'PAT Mech Detailed'!BC63","v":0},{"$f":"'PAT Mech Detailed'!BJ63","v":0},{"$f":"'PAT Mech Detailed'!BP63","v":0},{"$f":"'PAT Mech Detailed'!BV63","v":0},{"$f":"'PAT Mech Detailed'!CI63","v":0},{"$f":"'PAT Mech Detailed'!CM63","v":0},{"$f":"'PAT Mech Detailed'!CX63","v":0},{"$f":"'PAT Mech Detailed'!CY63","v":0},{"$f":"'PAT Mech Detailed'!CZ63","v":0},{"$f":"'PAT Mech Detailed'!DA63","v":0},{"$f":"'PAT Mech Detailed'!DB63","v":0},{"$f":"'PAT Mech Detailed'!DC63","v":0},0,{"$f":"IF('PAT Mech Detailed'!DF63=4,SUM(O65:X65)/1.333333333,IF('PAT Mech Detailed'!DF63=6,SUM(O65:Z65)/1.6,SUM(O65:X65)))","v":0},{"$f":"'PAT Mech Detailed'!CP63","v":0},{"$f":"'PAT Mech Detailed'!CW63","v":0},0,0,0,""]
[null,null,50,{"$f":"TERM1!E65","v":0},{"$f":"TERM1!F65","v":0},{"$f":"TERM1!G65","v":0},{"$f":"'PAT Mech Detailed'!K64","v":0},{"$f":"'PAT Mech Detailed'!R64","v":0},{"$f":"'PAT Mech Detailed'!AA64","v":0},{"$f":"'PAT Mech Detailed'!AJ64","v":0},{"$f":"'PAT Mech Detailed'!AS64","v":0},{"$f":"'PAT Mech Detailed'!AY64","v":0},0,0,{"$f":"'PAT Mech Detailed'!BC64","v":0},{"$f":"'PAT Mech Detailed'!BJ64","v":0},{"$f":"'PAT Mech Detailed'!BP64","v":0},{"$f":"'PAT Mech Detailed'!BV64","v":0},{"$f":"'PAT Mech Detailed'!CI64","v":0},{"$f":"'PAT Mech Detailed'!CM64","v":0},{"$f":"'PAT Mech Detailed'!CX64","v":0},{"$f":"'PAT Mech Detailed'!CY64","v":0},{"$f":"'PAT Mech Detailed'!CZ64","v":0},{"$f":"'PAT Mech Detailed'!DA64","v":0},{"$f":"'PAT Mech Detailed'!DB64","v":0},{"$f":"'PAT Mech Detailed'!DC64","v":0},0,{"$f":"IF('PAT Mech Detailed'!DF64=4,SUM(O66:X66)/1.333333333,IF('PAT Mech Detailed'!DF64=6,SUM(O66:Z66)/1.6,SUM(O66:X66)))","v":0},{"$f":"'PAT Mech Detailed'!CP64","v":0},{"$f":"'PAT Mech Detailed'!CW64","v":0},0,0,0,""]
[null,null,51,{"$f":"TERM1!E66","v":0},{"$f":"TERM1!F66","v":0},{"$f":"TERM1!G66","v":0},{"$f":"'PAT Mech Detailed'!K65","v":0},{"$f":"'PAT Mech Detailed'!R65","v":0},{"$f":"'PAT Mech Detailed'!AA65","v":0},{"$f":"'PAT Mech Detailed'!AJ65","v":0},{"$f":"'PAT Mech Detailed'!AS65","v":0},{"$f":"'PAT Mech Detailed'!AY65","v":0},0,0,{"$f":"'PAT Mech Detailed'!BC65","v":0},{"$f":"'PAT Mech Detailed'!BJ65","v":0},{"$f":"'PAT Mech Detailed'!BP65","v":0},{"$f":"'PAT Mech Detailed'!BV65","v":0},{"$f":"'PAT Mech Detailed'!CI65","v":0},{"$f":"'PAT Mech Detailed'!CM65","v":0},{"$f":"'PAT Mech Detailed'!CX65","v":0},{"$f":"'PAT Mech Detailed'!CY65","v":0},{"$f":"'PAT Mech Detailed'!CZ65","v":0},{"$f":"'PAT Mech Detailed'!DA65","v":0},{"$f":"'PAT Mech Detailed'!DB65","v":0},{"$f":"'PAT Mech Detailed'!DC65","v":0},0,{"$f":"IF('PAT Mech Detailed'!DF65=4,SUM(O67:X67)/1.333333333,IF('PAT Mech Detailed'!DF65=6,SUM(O67:Z67)/1.6,SUM(O67:X67)))","v":0},{"$f":"'PAT Mech Detailed'!CP65","v":0},{"$f":"'PAT Mech Detailed'!CW65","v":0},0,0,0,""]
[null,null,52,{"$f":"TERM1!E67","v":0},{"$f":"TERM1!F67","v":0},{"$f":"TERM1!G67","v":0},{"$f":"'PAT Mech Detailed'!K66","v":0},{"$f":"'PAT Mech Detailed'!R66","v":0},{"$f":"'PAT Mech Detailed'!AA66","v":0},{"$f":"'PAT Mech Detailed'!AJ66","v":0},{"$f":"'PAT Mech Detailed'!AS66","v":0},{"$f":"'PAT Mech Detailed'!AY66","v":0},0,0,{"$f":"'PAT Mech Detailed'!BC66","v":0},{"$f":"'PAT Mech Detailed'!BJ66","v":0},{"$f":"'PAT Mech Detailed'!BP66","v":0},{"$f":"'PAT Mech Detailed'!BV66","v":0},{"$f":"'PAT Mech Detailed'!CI66","v":0},{"$f":"'PAT Mech Detailed'!CM66","v":0},{"$f":"'PAT Mech Detailed'!CX66","v":0},{"$f":"'PAT Mech Detailed'!CY66","v":0},{"$f":"'PAT Mech Detailed'!CZ66","v":0},{"$f":"'PAT Mech Detailed'!DA66","v":0},{"$f":"'PAT Mech Detailed'!DB66","v":0},{"$f":"'PAT Mech Detailed'!DC66","v":0},0,{"$f":"IF('PAT Mech Detailed'!DF66=4,SUM(O68:X68)/1.333333333,IF('PAT Mech Detailed'!DF66=6,SUM(O68:Z68)/1.6,SUM(O68:X68)))","v":0},{"$f":"'PAT Mech Detailed'!CP66","v":0},{"$f":"'PAT Mech Detailed'!CW66","v":0},0,0,0,""]
[null,null,53,{"$f":"TERM1!E68","v":0},{"$f":"TERM1!F68","v":0},{"$f":"TERM1!G68","v":0},{"$f":"'PAT Mech Detailed'!K67","v":0},{"$f":"'PAT Mech Detailed'!R67","v":0},{"$f":"'PAT Mech Detailed'!AA67","v":0},{"$f":"'PAT Mech Detailed'!AJ67","v":0},{"$f":"'PAT Mech Detailed'!AS67","v":0},{"$f":"'PAT Mech Detailed'!AY67","v":0},0,0,{"$f":"'PAT Mech Detailed'!BC67","v":0},{"$f":"'PAT Mech Detailed'!BJ67","v":0},{"$f":"'PAT Mech Detailed'!BP67","v":0},{"$f":"'PAT Mech Detailed'!BV67","v":0},{"$f":"'PAT Mech Detailed'!CI67","v":0},{"$f":"'PAT Mech Detailed'!CM67","v":0},{"$f":"'PAT Mech Detailed'!CX67","v":0},{"$f":"'PAT Mech Detailed'!CY67","v":0},{"$f":"'PAT Mech Detailed'!CZ67","v":0},{"$f":"'PAT Mech Detailed'!DA67","v":0},{"$f":"'PAT Mech Detailed'!DB67","v":0},{"$f":"'PAT Mech Detailed'!DC67","v":0},0,{"$f":"IF('PAT Mech Detailed'!DF67=4,SUM(O69:X69)/1.333333333,IF('PAT Mech Detailed'!DF67=6,SUM(O69:Z69)/1.6,SUM(O69:X69)))","v":0},{"$f":"'PAT Mech Detailed'!CP67","v":0},{"$f":"'PAT Mech Detailed'!CW67","v":0},0,0,0,""]
[null,null,54,{"$f":"TERM1!E69","v":0},{"$f":"TERM1!F69","v":0},{"$f":"TERM1!G69","v":0},{"$f":"'PAT Mech Detailed'!K68","v":0},{"$f":"'PAT Mech Detailed'!R68","v":0},{"$f":"'PAT Mech Detailed'!AA68","v":0},{"$f":"'PAT Mech Detailed'!AJ68","v":0},{"$f":"'PAT Mech Detailed'!AS68","v":0},{"$f":"'PAT Mech Detailed'!AY68","v":0},0,0,{"$f":"'PAT Mech Detailed'!BC68","v":0},{"$f":"'PAT Mech Detailed'!BJ68","v":0},{"$f":"'PAT Mech Detailed'!BP68","v":0},{"$f":"'PAT Mech Detailed'!BV68","v":0},{"$f":"'PAT Mech Detailed'!CI68","v":0},{"$f":"'PAT Mech Detailed'!CM68","v":0},{"$f":"'PAT Mech Detailed'!CX68","v":0},{"$f":"'PAT Mech Detailed'!CY68","v":0},{"$f":"'PAT Mech Detailed'!CZ68","v":0},{"$f":"'PAT Mech Detailed'!DA68","v":0},{"$f":"'PAT Mech Detailed'!DB68","v":0},{"$f":"'PAT Mech Detailed'!DC68","v":0},0,{"$f":"IF('PAT Mech Detailed'!DF68=4,SUM(O70:X70)/1.333333333,IF('PAT Mech Detailed'!DF68=6,SUM(O70:Z70)/1.6,SUM(O70:X70)))","v":0},{"$f":"'PAT Mech Detailed'!CP68","v":0},{"$f":"'PAT Mech Detailed'!CW68","v":0},0,0,0,""]
[null,null,55,{"$f":"TERM1!E70","v":0},{"$f":"TERM1!F70","v":0},{"$f":"TERM1!G70","v":0},{"$f":"'PAT Mech Detailed'!K69","v":0},{"$f":"'PAT Mech Detailed'!R69","v":0},{"$f":"'PAT Mech Detailed'!AA69","v":0},{"$f":"'PAT Mech Detailed'!AJ69","v":0},{"$f":"'PAT Mech Detailed'!AS69","v":0},{"$f":"'PAT Mech Detailed'!AY69","v":0},0,0,{"$f":"'PAT Mech Detailed'!BC69","v":0},{"$f":"'PAT Mech Detailed'!BJ69","v":0},{"$f":"'PAT Mech Detailed'!BP69","v":0},{"$f":"'PAT Mech Detailed'!BV69","v":0},{"$f":"'PAT Mech Detailed'!CI69","v":0},{"$f":"'PAT Mech Detailed'!CM69","v":0},{"$f":"'PAT Mech Detailed'!CX69","v":0},{"$f":"'PAT Mech Detailed'!CY69","v":0},{"$f":"'PAT Mech Detailed'!CZ69","v":0},{"$f":"'PAT Mech Detailed'!DA69","v":0},{"$f":"'PAT Mech Detailed'!DB69","v":0},{"$f":"'PAT Mech Detailed'!DC69","v":0},0,{"$f":"IF('PAT Mech Detailed'!DF69=4,SUM(O71:X71)/1.333333333,IF('PAT Mech Detailed'!DF69=6,SUM(O71:Z71)/1.6,SUM(O71:X71)))","v":0},{"$f":"'PAT Mech Detailed'!CP69","v":0},{"$f":"'PAT Mech Detailed'!CW69","v":0},0,0,0,""]
[null,null,56,{"$f":"TERM1!E71","v":0},{"$f":"TERM1!F71","v":0},{"$f":"TERM1!G71","v":0},{"$f":"'PAT Mech Detailed'!K70","v":0},{"$f":"'PAT Mech Detailed'!R70","v":0},{"$f":"'PAT Mech Detailed'!AA70","v":0},{"$f":"'PAT Mech Detailed'!AJ70","v":0},{"$f":"'PAT Mech Detailed'!AS70","v":0},{"$f":"'PAT Mech Detailed'!AY70","v":0},0,0,{"$f":"'PAT Mech Detailed'!BC70","v":0},{"$f":"'PAT Mech Detailed'!BJ70","v":0},{"$f":"'PAT Mech Detailed'!BP70","v":0},{"$f":"'PAT Mech Detailed'!BV70","v":0},{"$f":"'PAT Mech Detailed'!CI70","v":0},{"$f":"'PAT Mech Detailed'!CM70","v":0},{"$f":"'PAT Mech Detailed'!CX70","v":0},{"$f":"'PAT Mech Detailed'!CY70","v":0},{"$f":"'PAT Mech Detailed'!CZ70","v":0},{"$f":"'PAT Mech Detailed'!DA70","v":0},{"$f":"'PAT Mech Detailed'!DB70","v":0},{"$f":"'PAT Mech Detailed'!DC70","v":0},0,{"$f":"IF('PAT Mech Detailed'!DF70=4,SUM(O72:X72)/1.333333333,IF('PAT Mech Detailed'!DF70=6,SUM(O72:Z72)/1.6,SUM(O72:X72)))","v":0},{"$f":"'PAT Mech Detailed'!CP70","v":0},{"$f":"'PAT Mech Detailed'!CW70","v":0},0,0,0,""]
[null,null,57,{"$f":"TERM1!E72","v":0},{"$f":"TERM1!F72","v":0},{"$f":"TERM1!G72","v":0},{"$f":"'PAT Mech Detailed'!K71","v":0},{"$f":"'PAT Mech Detailed'!R71","v":0},{"$f":"'PAT Mech Detailed'!AA71","v":0},{"$f":"'PAT Mech Detailed'!AJ71","v":0},{"$f":"'PAT Mech Detailed'!AS71","v":0},{"$f":"'PAT Mech Detailed'!AY71","v":0},0,0,{"$f":"'PAT Mech Detailed'!BC71","v":0},{"$f":"'PAT Mech Detailed'!BJ71","v":0},{"$f":"'PAT Mech Detailed'!BP71","v":0},{"$f":"'PAT Mech Detailed'!BV71","v":0},{"$f":"'PAT Mech Detailed'!CI71","v":0},{"$f":"'PAT Mech Detailed'!CM71","v":0},{"$f":"'PAT Mech Detailed'!CX71","v":0},{"$f":"'PAT Mech Detailed'!CY71","v":0},{"$f":"'PAT Mech Detailed'!CZ71","v":0},{"$f":"'PAT Mech Detailed'!DA71","v":0},{"$f":"'PAT Mech Detailed'!DB71","v":0},{"$f":"'PAT Mech Detailed'!DC71","v":0},0,{"$f":"IF('PAT Mech Detailed'!DF71=4,SUM(O73:X73)/1.333333333,IF('PAT Mech Detailed'!DF71=6,SUM(O73:Z73)/1.6,SUM(O73:X73)))","v":0},{"$f":"'PAT Mech Detailed'!CP71","v":0},{"$f":"'PAT Mech Detailed'!CW71","v":0},0,0,0,""]
[null,null,58,{"$f":"TERM1!E73","v":0},{"$f":"TERM1!F73","v":0},{"$f":"TERM1!G73","v":0},{"$f":"'PAT Mech Detailed'!K72","v":0},{"$f":"'PAT Mech Detailed'!R72","v":0},{"$f":"'PAT Mech Detailed'!AA72","v":0},{"$f":"'PAT Mech Detailed'!AJ72","v":0},{"$f":"'PAT Mech Detailed'!AS72","v":0},{"$f":"'PAT Mech Detailed'!AY72","v":0},0,0,{"$f":"'PAT Mech Detailed'!BC72","v":0},{"$f":"'PAT Mech Detailed'!BJ72","v":0},{"$f":"'PAT Mech Detailed'!BP72","v":0},{"$f":"'PAT Mech Detailed'!BV72","v":0},{"$f":"'PAT Mech Detailed'!CI72","v":0},{"$f":"'PAT Mech Detailed'!CM72","v":0},{"$f":"'PAT Mech Detailed'!CX72","v":0},{"$f":"'PAT Mech Detailed'!CY72","v":0},{"$f":"'PAT Mech Detailed'!CZ72","v":0},{"$f":"'PAT Mech Detailed'!DA72","v":0},{"$f":"'PAT Mech Detailed'!DB72","v":0},{"$f":"'PAT Mech Detailed'!DC72","v":0},0,{"$f":"IF('PAT Mech Detailed'!DF72=4,SUM(O74:X74)/1.333333333,IF('PAT Mech Detailed'!DF72=6,SUM(O74:Z74)/1.6,SUM(O74:X74)))","v":0},{"$f":"'PAT Mech Detailed'!CP72","v":0},{"$f":"'PAT Mech Detailed'!CW72","v":0},0,0,0,""]
[null,null,59,{"$f":"TERM1!E74","v":0},{"$f":"TERM1!F74","v":0},{"$f":"TERM1!G74","v":0},{"$f":"'PAT Mech Detailed'!K73","v":0},{"$f":"'PAT Mech Detailed'!R73","v":0},{"$f":"'PAT Mech Detailed'!AA73","v":0},{"$f":"'PAT Mech Detailed'!AJ73","v":0},{"$f":"'PAT Mech Detailed'!AS73","v":0},{"$f":"'PAT Mech Detailed'!AY73","v":0},0,0,{"$f":"'PAT Mech Detailed'!BC73","v":0},{"$f":"'PAT Mech Detailed'!BJ73","v":0},{"$f":"'PAT Mech Detailed'!BP73","v":0},{"$f":"'PAT Mech Detailed'!BV73","v":0},{"$f":"'PAT Mech Detailed'!CI73","v":0},{"$f":"'PAT Mech Detailed'!CM73","v":0},{"$f":"'PAT Mech Detailed'!CX73","v":0},{"$f":"'PAT Mech Detailed'!CY73","v":0},{"$f":"'PAT Mech Detailed'!CZ73","v":0},{"$f":"'PAT Mech Detailed'!DA73","v":0},{"$f":"'PAT Mech Detailed'!DB73","v":0},{"$f":"'PAT Mech Detailed'!DC73","v":0},0,{"$f":"IF('PAT Mech Detailed'!DF73=4,SUM(O75:X75)/1.333333333,IF('PAT Mech Detailed'!DF73=6,SUM(O75:Z75)/1.6,SUM(O75:X75)))","v":0},{"$f":"'PAT Mech Detailed'!CP73","v":0},{"$f":"'PAT Mech Detailed'!CW73","v":0},0,0,0,""]
[null,null,60,{"$f":"TERM1!E75","v":0},{"$f":"TERM1!F75","v":0},{"$f":"TERM1!G75","v":0},{"$f":"'PAT Mech Detailed'!K74","v":0},{"$f":"'PAT Mech Detailed'!R74","v":0},{"$f":"'PAT Mech Detailed'!AA74","v":0},{"$f":"'PAT Mech Detailed'!AJ74","v":0},{"$f":"'PAT Mech Detailed'!AS74","v":0},{"$f":"'PAT Mech Detailed'!AY74","v":0},0,0,{"$f":"'PAT Mech Detailed'!BC74","v":0},{"$f":"'PAT Mech Detailed'!BJ74","v":0},{"$f":"'PAT Mech Detailed'!BP74","v":0},{"$f":"'PAT Mech Detailed'!BV74","v":0},{"$f":"'PAT Mech Detailed'!CI74","v":0},{"$f":"'PAT Mech Detailed'!CM74","v":0},{"$f":"'PAT Mech Detailed'!CX74","v":0},{"$f":"'PAT Mech Detailed'!CY74","v":0},{"$f":"'PAT Mech Detailed'!CZ74","v":0},{"$f":"'PAT Mech Detailed'!DA74","v":0},{"$f":"'PAT Mech Detailed'!DB74","v":0},{"$f":"'PAT Mech Detailed'!DC74","v":0},0,{"$f":"IF('PAT Mech Detailed'!DF74=4,SUM(O76:X76)/1.333333333,IF('PAT Mech Detailed'!DF74=6,SUM(O76:Z76)/1.6,SUM(O76:X76)))","v":0},{"$f":"'PAT Mech Detailed'!CP74","v":0},{"$f":"'PAT Mech Detailed'!CW74","v":0},0,0,0,""]
[null,null,61,{"$f":"TERM1!E76","v":0},{"$f":"TERM1!F76","v":0},{"$f":"TERM1!G76","v":0},{"$f":"'PAT Mech Detailed'!K75","v":0},{"$f":"'PAT Mech Detailed'!R75","v":0},{"$f":"'PAT Mech Detailed'!AA75","v":0},{"$f":"'PAT Mech Detailed'!AJ75","v":0},{"$f":"'PAT Mech Detailed'!AS75","v":0},{"$f":"'PAT Mech Detailed'!AY75","v":0},0,0,{"$f":"'PAT Mech Detailed'!BC75","v":0},{"$f":"'PAT Mech Detailed'!BJ75","v":0},{"$f":"'PAT Mech Detailed'!BP75","v":0},{"$f":"'PAT Mech Detailed'!BV75","v":0},{"$f":"'PAT Mech Detailed'!CI75","v":0},{"$f":"'PAT Mech Detailed'!CM75","v":0},{"$f":"'PAT Mech Detailed'!CX75","v":0},{"$f":"'PAT Mech Detailed'!CY75","v":0},{"$f":"'PAT Mech Detailed'!CZ75","v":0},{"$f":"'PAT Mech Detailed'!DA75","v":0},{"$f":"'PAT Mech Detailed'!DB75","v":0},{"$f":"'PAT Mech Detailed'!DC75","v":0},0,{"$f":"IF('PAT Mech Detailed'!DF75=4,SUM(O77:X77)/1.333333333,IF('PAT Mech Detailed'!DF75=6,SUM(O77:Z77)/1.6,SUM(O77:X77)))","v":0},{"$f":"'PAT Mech Detailed'!CP75","v":0},{"$f":"'PAT Mech Detailed'!CW75","v":0},0,0,0,""]
[null,2,62,{"$f":"TERM1!E77","v":0},{"$f":"TERM1!F77","v":0},{"$f":"TERM1!G77","v":0},{"$f":"'PAT Mech Detailed'!K76","v":0},{"$f":"'PAT Mech Detailed'!R76","v":0},{"$f":"'PAT Mech Detailed'!AA76","v":0},{"$f":"'PAT Mech Detailed'!AJ76","v":0},{"$f":"'PAT Mech Detailed'!AS76","v":0},{"$f":"'PAT Mech Detailed'!AY76","v":0},0,0,{"$f":"'PAT Mech Detailed'!BC76","v":0},{"$f":"'PAT Mech Detailed'!BJ76","v":0},{"$f":"'PAT Mech Detailed'!BP76","v":0},{"$f":"'PAT Mech Detailed'!BV76","v":0},{"$f":"'PAT Mech Detailed'!CI76","v":0},{"$f":"'PAT Mech Detailed'!CM76","v":0},{"$f":"'PAT Mech Detailed'!CX76","v":0},{"$f":"'PAT Mech Detailed'!CY76","v":0},{"$f":"'PAT Mech Detailed'!CZ76","v":0},{"$f":"'PAT Mech Detailed'!DA76","v":0},{"$f":"'PAT Mech Detailed'!DB76","v":0},{"$f":"'PAT Mech Detailed'!DC76","v":0},0,{"$f":"IF('PAT Mech Detailed'!DF76=4,SUM(O78:X78)/1.333333333,IF('PAT Mech Detailed'!DF76=6,SUM(O78:Z78)/1.6,SUM(O78:X78)))","v":0},{"$f":"'PAT Mech Detailed'!CP76","v":0},{"$f":"'PAT Mech Detailed'!CW76","v":0},0,0,0,""]
[null,2,63,{"$f":"TERM1!E78","v":0},{"$f":"TERM1!F78","v":0},{"$f":"TERM1!G78","v":0},{"$f":"'PAT Mech Detailed'!K77","v":0},{"$f":"'PAT Mech Detailed'!R77","v":0},{"$f":"'PAT Mech Detailed'!AA77","v":0},{"$f":"'PAT Mech Detailed'!AJ77","v":0},{"$f":"'PAT Mech Detailed'!AS77","v":0},{"$f":"'PAT Mech Detailed'!AY77","v":0},0,0,{"$f":"'PAT Mech Detailed'!BC77","v":0},{"$f":"'PAT Mech Detailed'!BJ77","v":0},{"$f":"'PAT Mech Detailed'!BP77","v":0},{"$f":"'PAT Mech Detailed'!BV77","v":0},{"$f":"'PAT Mech Detailed'!CI77","v":0},{"$f":"'PAT Mech Detailed'!CM77","v":0},{"$f":"'PAT Mech Detailed'!CX77","v":0},{"$f":"'PAT Mech Detailed'!CY77","v":0},{"$f":"'PAT Mech Detailed'!CZ77","v":0},{"$f":"'PAT Mech Detailed'!DA77","v":0},{"$f":"'PAT Mech Detailed'!DB77","v":0},{"$f":"'PAT Mech Detailed'!DC77","v":0},0,{"$f":"IF('PAT Mech Detailed'!DF77=4,SUM(O79:X79)/1.333333333,IF('PAT Mech Detailed'!DF77=6,SUM(O79:Z79)/1.6,SUM(O79:X79)))","v":0},{"$f":"'PAT Mech Detailed'!CP77","v":0},{"$f":"'PAT Mech Detailed'!CW77","v":0},0,0,0,""]
[null,2,64,{"$f":"TERM1!E79","v":0},{"$f":"TERM1!F79","v":0},{"$f":"TERM1!G79","v":0},{"$f":"'PAT Mech Detailed'!K78","v":0},{"$f":"'PAT Mech Detailed'!R78","v":0},{"$f":"'PAT Mech Detailed'!AA78","v":0},{"$f":"'PAT Mech Detailed'!AJ78","v":0},{"$f":"'PAT Mech Detailed'!AS78","v":0},{"$f":"'PAT Mech Detailed'!AY78","v":0},0,0,{"$f":"'PAT Mech Detailed'!BC78","v":0},{"$f":"'PAT Mech Detailed'!BJ78","v":0},{"$f":"'PAT Mech Detailed'!BP78","v":0},{"$f":"'PAT Mech Detailed'!BV78","v":0},{"$f":"'PAT Mech Detailed'!CI78","v":0},{"$f":"'PAT Mech Detailed'!CM78","v":0},{"$f":"'PAT Mech Detailed'!CX78","v":0},{"$f":"'PAT Mech Detailed'!CY78","v":0},{"$f":"'PAT Mech Detailed'!CZ78","v":0},{"$f":"'PAT Mech Detailed'!DA78","v":0},{"$f":"'PAT Mech Detailed'!DB78","v":0},{"$f":"'PAT Mech Detailed'!DC78","v":0},0,{"$f":"IF('PAT Mech Detailed'!DF78=4,SUM(O80:X80)/1.333333333,IF('PAT Mech Detailed'!DF78=6,SUM(O80:Z80)/1.6,SUM(O80:X80)))","v":0},{"$f":"'PAT Mech Detailed'!CP78","v":0},{"$f":"'PAT Mech Detailed'!CW78","v":0},0,0,0,""]
[null,2,65,{"$f":"TERM1!E80","v":0},{"$f":"TERM1!F80","v":0},{"$f":"TERM1!G80","v":0},{"$f":"'PAT Mech Detailed'!K79","v":0},{"$f":"'PAT Mech Detailed'!R79","v":0},{"$f":"'PAT Mech Detailed'!AA79","v":0},{"$f":"'PAT Mech Detailed'!AJ79","v":0},{"$f":"'PAT Mech Detailed'!AS79","v":0},{"$f":"'PAT Mech Detailed'!AY79","v":0},0,0,{"$f":"'PAT Mech Detailed'!BC79","v":0},{"$f":"'PAT Mech Detailed'!BJ79","v":0},{"$f":"'PAT Mech Detailed'!BP79","v":0},{"$f":"'PAT Mech Detailed'!BV79","v":0},{"$f":"'PAT Mech Detailed'!CI79","v":0},{"$f":"'PAT Mech Detailed'!CM79","v":0},{"$f":"'PAT Mech Detailed'!CX79","v":0},{"$f":"'PAT Mech Detailed'!CY79","v":0},{"$f":"'PAT Mech Detailed'!CZ79","v":0},{"$f":"'PAT Mech Detailed'!DA79","v":0},{"$f":"'PAT Mech Detailed'!DB79","v":0},{"$f":"'PAT Mech Detailed'!DC79","v":0},0,{"$f":"IF('PAT Mech Detailed'!DF79=4,SUM(O81:X81)/1.333333333,IF('PAT Mech Detailed'!DF79=6,SUM(O81:Z81)/1.6,SUM(O81:X81)))","v":0},{"$f":"'PAT Mech Detailed'!CP79","v":0},{"$f":"'PAT Mech Detailed'!CW79","v":0},0,{"$f":"ROUND((AE81/8)*(2.5),0)","v":0},{"$f":"SUM(N81+AB81+AF81)","v":0},""]
[null,2,66,{"$f":"TERM1!E81","v":0},{"$f":"TERM1!F81","v":0},{"$f":"TERM1!G81","v":0},{"$f":"'PAT Mech Detailed'!K80","v":0},{"$f":"'PAT Mech Detailed'!R80","v":0},{"$f":"'PAT Mech Detailed'!AA80","v":0},{"$f":"'PAT Mech Detailed'!AJ80","v":0},{"$f":"'PAT Mech Detailed'!AS80","v":0},{"$f":"'PAT Mech Detailed'!AY80","v":0},{"$f":"SUM(G82:L82)","v":0},{"$f":"ROUND(M82/(3.1579),0)","v":0},{"$f":"'PAT Mech Detailed'!BC80","v":0},{"$f":"'PAT Mech Detailed'!BJ80","v":0},{"$f":"'PAT Mech Detailed'!BP80","v":0},{"$f":"'PAT Mech Detailed'!BV80","v":0},{"$f":"'PAT Mech Detailed'!CI80","v":0},{"$f":"'PAT Mech Detailed'!CM80","v":0},{"$f":"'PAT Mech Detailed'!CX80","v":0},{"$f":"'PAT Mech Detailed'!CY80","v":0},{"$f":"'PAT Mech Detailed'!CZ80","v":0},{"$f":"'PAT Mech Detailed'!DA80","v":0},{"$f":"'PAT Mech Detailed'!DB80","v":0},{"$f":"'PAT Mech Detailed'!DC80","v":0},{"$f":"SUM(O82:Z82)","v":0},{"$f":"IF('PAT Mech Detailed'!DF80=4,SUM(O82:X82)/1.333333333,IF('PAT Mech Detailed'!DF80=6,SUM(O82:Z82)/1.6,SUM(O82:X82)))","v":0},{"$f":"'PAT Mech Detailed'!CP80","v":0},{"$f":"'PAT Mech Detailed'!CW80","v":0},{"$f":"SUM(AC82:AD82)","v":0},0,0,{"$f":"IF(AG82>79,\"7\",IF(AG82>69,\"6\",IF(AG82>59,\"5\",IF(AG82>49,\"4\",IF(AG82>39,\"3\",IF(AG82>29,\"2\",IF(AG82>0,\"1\",IF(AG82=0,\"\"))))))))","v":""}]
[null,2,{"$f":"C82+1","v":67},{"$f":"TERM1!E82","v":0},{"$f":"TERM1!F82","v":0},{"$f":"TERM1!G82","v":0},{"$f":"'PAT Mech Detailed'!K81","v":0},{"$f":"'PAT Mech Detailed'!R81","v":0},{"$f":"'PAT Mech Detailed'!AA81","v":0},{"$f":"'PAT Mech Detailed'!AJ81","v":0},{"$f":"'PAT Mech Detailed'!AS81","v":0},{"$f":"'PAT Mech Detailed'!AY81","v":0},0,0,{"$f":"'PAT Mech Detailed'!BC81","v":0},{"$f":"'PAT Mech Detailed'!BJ81","v":0},{"$f":"'PAT Mech Detailed'!BP81","v":0},{"$f":"'PAT Mech Detailed'!BV81","v":0},{"$f":"'PAT Mech Detailed'!CI81","v":0},{"$f":"'PAT Mech Detailed'!CM81","v":0},{"$f":"'PAT Mech Detailed'!CX81","v":0},{"$f":"'PAT Mech Detailed'!CY81","v":0},{"$f":"'PAT Mech Detailed'!CZ81","v":0},{"$f":"'PAT Mech Detailed'!DA81","v":0},{"$f":"'PAT Mech Detailed'!DB81","v":0},{"$f":"'PAT Mech Detailed'!DC81","v":0},0,{"$f":"IF('PAT Mech Detailed'!DF81=4,SUM(O83:X83)/1.333333333,IF('PAT Mech Detailed'!DF81=6,SUM(O83:Z83)/1.6,SUM(O83:X83)))","v":0},{"$f":"'PAT Mech Detailed'!CP81","v":0},{"$f":"'PAT Mech Detailed'!CW81","v":0},0,0,0,""]
[null,2,68,{"$f":"TERM1!E83","v":0},{"$f":"TERM1!F83","v":0},{"$f":"TERM1!G83","v":0},{"$f":"'PAT Mech Detailed'!K82","v":0},{"$f":"'PAT Mech Detailed'!R82","v":0},{"$f":"'PAT Mech Detailed'!AA82","v":0},{"$f":"'PAT Mech Detailed'!AJ82","v":0},{"$f":"'PAT Mech Detailed'!AS82","v":0},{"$f":"'PAT Mech Detailed'!AY82","v":0},0,0,{"$f":"'PAT Mech Detailed'!BC82","v":0},{"$f":"'PAT Mech Detailed'!BJ82","v":0},{"$f":"'PAT Mech Detailed'!BP82","v":0},{"$f":"'PAT Mech Detailed'!BV82","v":0},{"$f":"'PAT Mech Detailed'!CI82","v":0},{"$f":"'PAT Mech Detailed'!CM82","v":0},{"$f":"'PAT Mech Detailed'!CX82","v":0},{"$f":"'PAT Mech Detailed'!CY82","v":0},{"$f":"'PAT Mech Detailed'!CZ82","v":0},{"$f":"'PAT Mech Detailed'!DA82","v":0},{"$f":"'PAT Mech Detailed'!DB82","v":0},{"$f":"'PAT Mech Detailed'!DC82","v":0},0,{"$f":"IF('PAT Mech Detailed'!DF82=4,SUM(O84:X84)/1.333333333,IF('PAT Mech Detailed'!DF82=6,SUM(O84:Z84)/1.6,SUM(O84:X84)))","v":0},{"$f":"'PAT Mech Detailed'!CP82","v":0},{"$f":"'PAT Mech Detailed'!CW82","v":0},0,0,0,""]
[null,2,69,{"$f":"TERM1!E84","v":0},{"$f":"TERM1!F84","v":0},{"$f":"TERM1!G84","v":0},{"$f":"'PAT Mech Detailed'!K83","v":0},{"$f":"'PAT Mech Detailed'!R83","v":0},{"$f":"'PAT Mech Detailed'!AA83","v":0},{"$f":"'PAT Mech Detailed'!AJ83","v":0},{"$f":"'PAT Mech Detailed'!AS83","v":0},{"$f":"'PAT Mech Detailed'!AY83","v":0},0,0,{"$f":"'PAT Mech Detailed'!BC83","v":0},{"$f":"'PAT Mech Detailed'!BJ83","v":0},{"$f":"'PAT Mech Detailed'!BP83","v":0},{"$f":"'PAT Mech Detailed'!BV83","v":0},{"$f":"'PAT Mech Detailed'!CI83","v":0},{"$f":"'PAT Mech Detailed'!CM83","v":0},{"$f":"'PAT Mech Detailed'!CX83","v":0},{"$f":"'PAT Mech Detailed'!CY83","v":0},{"$f":"'PAT Mech Detailed'!CZ83","v":0},{"$f":"'PAT Mech Detailed'!DA83","v":0},{"$f":"'PAT Mech Detailed'!DB83","v":0},{"$f":"'PAT Mech Detailed'!DC83","v":0},0,{"$f":"IF('PAT Mech Detailed'!DF83=4,SUM(O85:X85)/1.333333333,IF('PAT Mech Detailed'!DF83=6,SUM(O85:Z85)/1.6,SUM(O85:X85)))","v":0},{"$f":"'PAT Mech Detailed'!CP83","v":0},{"$f":"'PAT Mech Detailed'!CW83","v":0},0,0,0,""]
[null,2,70,{"$f":"TERM1!E85","v":0},{"$f":"TERM1!F85","v":0},{"$f":"TERM1!G85","v":0},{"$f":"'PAT Mech Detailed'!K84","v":0},{"$f":"'PAT Mech Detailed'!R84","v":0},{"$f":"'PAT Mech Detailed'!AA84","v":0},{"$f":"'PAT Mech Detailed'!AJ84","v":0},{"$f":"'PAT Mech Detailed'!AS84","v":0},{"$f":"'PAT Mech Detailed'!AY84","v":0},0,0,{"$f":"'PAT Mech Detailed'!BC84","v":0},{"$f":"'PAT Mech Detailed'!BJ84","v":0},{"$f":"'PAT Mech Detailed'!BP84","v":0},{"$f":"'PAT Mech Detailed'!BV84","v":0},{"$f":"'PAT Mech Detailed'!CI84","v":0},{"$f":"'PAT Mech Detailed'!CM84","v":0},{"$f":"'PAT Mech Detailed'!CX84","v":0},{"$f":"'PAT Mech Detailed'!CY84","v":0},{"$f":"'PAT Mech Detailed'!CZ84","v":0},{"$f":"'PAT Mech Detailed'!DA84","v":0},{"$f":"'PAT Mech Detailed'!DB84","v":0},{"$f":"'PAT Mech Detailed'!DC84","v":0},0,{"$f":"IF('PAT Mech Detailed'!DF84=4,SUM(O86:X86)/1.333333333,IF('PAT Mech Detailed'!DF84=6,SUM(O86:Z86)/1.6,SUM(O86:X86)))","v":0},{"$f":"'PAT Mech Detailed'!CP84","v":0},{"$f":"'PAT Mech Detailed'!CW84","v":0},0,0,0,""]
[null,2,71,{"$f":"TERM1!E86","v":0},{"$f":"TERM1!F86","v":0},{"$f":"TERM1!G86","v":0},{"$f":"'PAT Mech Detailed'!K85","v":0},{"$f":"'PAT Mech Detailed'!R85","v":0},{"$f":"'PAT Mech Detailed'!AA85","v":0},{"$f":"'PAT Mech Detailed'!AJ85","v":0},{"$f":"'PAT Mech Detailed'!AS85","v":0},{"$f":"'PAT Mech Detailed'!AY85","v":0},0,0,{"$f":"'PAT Mech Detailed'!BC85","v":0},{"$f":"'PAT Mech Detailed'!BJ85","v":0},{"$f":"'PAT Mech Detailed'!BP85","v":0},{"$f":"'PAT Mech Detailed'!BV85","v":0},{"$f":"'PAT Mech Detailed'!CI85","v":0},{"$f":"'PAT Mech Detailed'!CM85","v":0},{"$f":"'PAT Mech Detailed'!CX85","v":0},{"$f":"'PAT Mech Detailed'!CY85","v":0},{"$f":"'PAT Mech Detailed'!CZ85","v":0},{"$f":"'PAT Mech Detailed'!DA85","v":0},{"$f":"'PAT Mech Detailed'!DB85","v":0},{"$f":"'PAT Mech Detailed'!DC85","v":0},0,{"$f":"IF('PAT Mech Detailed'!DF85=4,SUM(O87:X87)/1.333333333,IF('PAT Mech Detailed'!DF85=6,SUM(O87:Z87)/1.6,SUM(O87:X87)))","v":0},{"$f":"'PAT Mech Detailed'!CP85","v":0},{"$f":"'PAT Mech Detailed'!CW85","v":0},0,0,0,""]
[null,2,72,{"$f":"TERM1!E87","v":0},{"$f":"TERM1!F87","v":0},{"$f":"TERM1!G87","v":0},{"$f":"'PAT Mech Detailed'!K86","v":0},{"$f":"'PAT Mech Detailed'!R86","v":0},{"$f":"'PAT Mech Detailed'!AA86","v":0},{"$f":"'PAT Mech Detailed'!AJ86","v":0},{"$f":"'PAT Mech Detailed'!AS86","v":0},{"$f":"'PAT Mech Detailed'!AY86","v":0},0,0,{"$f":"'PAT Mech Detailed'!BC86","v":0},{"$f":"'PAT Mech Detailed'!BJ86","v":0},{"$f":"'PAT Mech Detailed'!BP86","v":0},{"$f":"'PAT Mech Detailed'!BV86","v":0},{"$f":"'PAT Mech Detailed'!CI86","v":0},{"$f":"'PAT Mech Detailed'!CM86","v":0},{"$f":"'PAT Mech Detailed'!CX86","v":0},{"$f":"'PAT Mech Detailed'!CY86","v":0},{"$f":"'PAT Mech Detailed'!CZ86","v":0},{"$f":"'PAT Mech Detailed'!DA86","v":0},{"$f":"'PAT Mech Detailed'!DB86","v":0},{"$f":"'PAT Mech Detailed'!DC86","v":0},0,{"$f":"IF('PAT Mech Detailed'!DF86=4,SUM(O88:X88)/1.333333333,IF('PAT Mech Detailed'!DF86=6,SUM(O88:Z88)/1.6,SUM(O88:X88)))","v":0},{"$f":"'PAT Mech Detailed'!CP86","v":0},{"$f":"'PAT Mech Detailed'!CW86","v":0},0,0,0,""]
[null,2,73,{"$f":"TERM1!E88","v":0},{"$f":"TERM1!F88","v":0},{"$f":"TERM1!G88","v":0},{"$f":"'PAT Mech Detailed'!K87","v":0},{"$f":"'PAT Mech Detailed'!R87","v":0},{"$f":"'PAT Mech Detailed'!AA87","v":0},{"$f":"'PAT Mech Detailed'!AJ87","v":0},{"$f":"'PAT Mech Detailed'!AS87","v":0},{"$f":"'PAT Mech Detailed'!AY87","v":0},0,0,{"$f":"'PAT Mech Detailed'!BC87","v":0},{"$f":"'PAT Mech Detailed'!BJ87","v":0},{"$f":"'PAT Mech Detailed'!BP87","v":0},{"$f":"'PAT Mech Detailed'!BV87","v":0},{"$f":"'PAT Mech Detailed'!CI87","v":0},{"$f":"'PAT Mech Detailed'!CM87","v":0},{"$f":"'PAT Mech Detailed'!CX87","v":0},{"$f":"'PAT Mech Detailed'!CY87","v":0},{"$f":"'PAT Mech Detailed'!CZ87","v":0},{"$f":"'PAT Mech Detailed'!DA87","v":0},{"$f":"'PAT Mech Detailed'!DB87","v":0},{"$f":"'PAT Mech Detailed'!DC87","v":0},0,{"$f":"IF('PAT Mech Detailed'!DF87=4,SUM(O89:X89)/1.333333333,IF('PAT Mech Detailed'!DF87=6,SUM(O89:Z89)/1.6,SUM(O89:X89)))","v":0},{"$f":"'PAT Mech Detailed'!CP87","v":0},{"$f":"'PAT Mech Detailed'!CW87","v":0},0,0,0,""]
[null,2,{"$f":"C89+1","v":74},{"$f":"TERM1!E89","v":0},{"$f":"TERM1!F89","v":0},{"$f":"TERM1!G89","v":0},{"$f":"'PAT Mech Detailed'!K88","v":0},{"$f":"'PAT Mech Detailed'!R88","v":0},{"$f":"'PAT Mech Detailed'!AA88","v":0},{"$f":"'PAT Mech Detailed'!AJ88","v":0},{"$f":"'PAT Mech Detailed'!AS88","v":0},{"$f":"'PAT Mech Detailed'!AY88","v":0},0,0,{"$f":"'PAT Mech Detailed'!BC88","v":0},{"$f":"'PAT Mech Detailed'!BJ88","v":0},{"$f":"'PAT Mech Detailed'!BP88","v":0},{"$f":"'PAT Mech Detailed'!BV88","v":0},{"$f":"'PAT Mech Detailed'!CI88","v":0},{"$f":"'PAT Mech Detailed'!CM88","v":0},{"$f":"'PAT Mech Detailed'!CX88","v":0},{"$f":"'PAT Mech Detailed'!CY88","v":0},{"$f":"'PAT Mech Detailed'!CZ88","v":0},{"$f":"'PAT Mech Detailed'!DA88","v":0},{"$f":"'PAT Mech Detailed'!DB88","v":0},{"$f":"'PAT Mech Detailed'!DC88","v":0},0,{"$f":"IF('PAT Mech Detailed'!DF88=4,SUM(O90:X90)/1.333333333,IF('PAT Mech Detailed'!DF88=6,SUM(O90:Z90)/1.6,SUM(O90:X90)))","v":0},{"$f":"'PAT Mech Detailed'!CP88","v":0},{"$f":"'PAT Mech Detailed'!CW88","v":0},0,0,0,""]
[null,2,75,{"$f":"TERM1!E90","v":0},{"$f":"TERM1!F90","v":0},{"$f":"TERM1!G90","v":0},{"$f":"'PAT Mech Detailed'!K89","v":0},{"$f":"'PAT Mech Detailed'!R89","v":0},{"$f":"'PAT Mech Detailed'!AA89","v":0},{"$f":"'PAT Mech Detailed'!AJ89","v":0},{"$f":"'PAT Mech Detailed'!AS89","v":0},{"$f":"'PAT Mech Detailed'!AY89","v":0},0,0,{"$f":"'PAT Mech Detailed'!BC89","v":0},{"$f":"'PAT Mech Detailed'!BJ89","v":0},{"$f":"'PAT Mech Detailed'!BP89","v":0},{"$f":"'PAT Mech Detailed'!BV89","v":0},{"$f":"'PAT Mech Detailed'!CI89","v":0},{"$f":"'PAT Mech Detailed'!CM89","v":0},{"$f":"'PAT Mech Detailed'!CX89","v":0},{"$f":"'PAT Mech Detailed'!CY89","v":0},{"$f":"'PAT Mech Detailed'!CZ89","v":0},{"$f":"'PAT Mech Detailed'!DA89","v":0},{"$f":"'PAT Mech Detailed'!DB89","v":0},{"$f":"'PAT Mech Detailed'!DC89","v":0},0,{"$f":"IF('PAT Mech Detailed'!DF89=4,SUM(O91:X91)/1.333333333,IF('PAT Mech Detailed'!DF89=6,SUM(O91:Z91)/1.6,SUM(O91:X91)))","v":0},{"$f":"'PAT Mech Detailed'!CP89","v":0},{"$f":"'PAT Mech Detailed'!CW89","v":0},0,0,0,""]
[null,2,76,{"$f":"TERM1!E91","v":0},{"$f":"TERM1!F91","v":0},{"$f":"TERM1!G91","v":0},{"$f":"'PAT Mech Detailed'!K90","v":0},{"$f":"'PAT Mech Detailed'!R90","v":0},{"$f":"'PAT Mech Detailed'!AA90","v":0},{"$f":"'PAT Mech Detailed'!AJ90","v":0},{"$f":"'PAT Mech Detailed'!AS90","v":0},{"$f":"'PAT Mech Detailed'!AY90","v":0},0,0,{"$f":"'PAT Mech Detailed'!BC90","v":0},{"$f":"'PAT Mech Detailed'!BJ90","v":0},{"$f":"'PAT Mech Detailed'!BP90","v":0},{"$f":"'PAT Mech Detailed'!BV90","v":0},{"$f":"'PAT Mech Detailed'!CI90","v":0},{"$f":"'PAT Mech Detailed'!CM90","v":0},{"$f":"'PAT Mech Detailed'!CX90","v":0},{"$f":"'PAT Mech Detailed'!CY90","v":0},{"$f":"'PAT Mech Detailed'!CZ90","v":0},{"$f":"'PAT Mech Detailed'!DA90","v":0},{"$f":"'PAT Mech Detailed'!DB90","v":0},{"$f":"'PAT Mech Detailed'!DC90","v":0},0,{"$f":"IF('PAT Mech Detailed'!DF90=4,SUM(O92:X92)/1.333333333,IF('PAT Mech Detailed'!DF90=6,SUM(O92:Z92)/1.6,SUM(O92:X92)))","v":0},{"$f":"'PAT Mech Detailed'!CP90","v":0},{"$f":"'PAT Mech Detailed'!CW90","v":0},0,0,0,""]
[null,2,77,{"$f":"TERM1!E92","v":0},{"$f":"TERM1!F92","v":0},{"$f":"TERM1!G92","v":0},{"$f":"'PAT Mech Detailed'!K91","v":0},{"$f":"'PAT Mech Detailed'!R91","v":0},{"$f":"'PAT Mech Detailed'!AA91","v":0},{"$f":"'PAT Mech Detailed'!AJ91","v":0},{"$f":"'PAT Mech Detailed'!AS91","v":0},{"$f":"'PAT Mech Detailed'!AY91","v":0},0,0,{"$f":"'PAT Mech Detailed'!BC91","v":0},{"$f":"'PAT Mech Detailed'!BJ91","v":0},{"$f":"'PAT Mech Detailed'!BP91","v":0},{"$f":"'PAT Mech Detailed'!BV91","v":0},{"$f":"'PAT Mech Detailed'!CI91","v":0},{"$f":"'PAT Mech Detailed'!CM91","v":0},{"$f":"'PAT Mech Detailed'!CX91","v":0},{"$f":"'PAT Mech Detailed'!CY91","v":0},{"$f":"'PAT Mech Detailed'!CZ91","v":0},{"$f":"'PAT Mech Detailed'!DA91","v":0},{"$f":"'PAT Mech Detailed'!DB91","v":0},{"$f":"'PAT Mech Detailed'!DC91","v":0},0,{"$f":"IF('PAT Mech Detailed'!DF91=4,SUM(O93:X93)/1.333333333,IF('PAT Mech Detailed'!DF91=6,SUM(O93:Z93)/1.6,SUM(O93:X93)))","v":0},{"$f":"'PAT Mech Detailed'!CP91","v":0},{"$f":"'PAT Mech Detailed'!CW91","v":0},0,0,0,""]
[null,2,78,{"$f":"TERM1!E93","v":0},{"$f":"TERM1!F93","v":0},{"$f":"TERM1!G93","v":0},{"$f":"'PAT Mech Detailed'!K92","v":0},{"$f":"'PAT Mech Detailed'!R92","v":0},{"$f":"'PAT Mech Detailed'!AA92","v":0},{"$f":"'PAT Mech Detailed'!AJ92","v":0},{"$f":"'PAT Mech Detailed'!AS92","v":0},{"$f":"'PAT Mech Detailed'!AY92","v":0},0,0,{"$f":"'PAT Mech Detailed'!BC92","v":0},{"$f":"'PAT Mech Detailed'!BJ92","v":0},{"$f":"'PAT Mech Detailed'!BP92","v":0},{"$f":"'PAT Mech Detailed'!BV92","v":0},{"$f":"'PAT Mech Detailed'!CI92","v":0},{"$f":"'PAT Mech Detailed'!CM92","v":0},{"$f":"'PAT Mech Detailed'!CX92","v":0},{"$f":"'PAT Mech Detailed'!CY92","v":0},{"$f":"'PAT Mech Detailed'!CZ92","v":0},{"$f":"'PAT Mech Detailed'!DA92","v":0},{"$f":"'PAT Mech Detailed'!DB92","v":0},{"$f":"'PAT Mech Detailed'!DC92","v":0},0,{"$f":"IF('PAT Mech Detailed'!DF92=4,SUM(O94:X94)/1.333333333,IF('PAT Mech Detailed'!DF92=6,SUM(O94:Z94)/1.6,SUM(O94:X94)))","v":0},{"$f":"'PAT Mech Detailed'!CP92","v":0},{"$f":"'PAT Mech Detailed'!CW92","v":0},0,0,0,""]
[null,2,79,{"$f":"TERM1!E94","v":0},{"$f":"TERM1!F94","v":0},{"$f":"TERM1!G94","v":0},{"$f":"'PAT Mech Detailed'!K93","v":0},{"$f":"'PAT Mech Detailed'!R93","v":0},{"$f":"'PAT Mech Detailed'!AA93","v":0},{"$f":"'PAT Mech Detailed'!AJ93","v":0},{"$f":"'PAT Mech Detailed'!AS93","v":0},{"$f":"'PAT Mech Detailed'!AY93","v":0},0,0,{"$f":"'PAT Mech Detailed'!BC93","v":0},{"$f":"'PAT Mech Detailed'!BJ93","v":0},{"$f":"'PAT Mech Detailed'!BP93","v":0},{"$f":"'PAT Mech Detailed'!BV93","v":0},{"$f":"'PAT Mech Detailed'!CI93","v":0},{"$f":"'PAT Mech Detailed'!CM93","v":0},{"$f":"'PAT Mech Detailed'!CX93","v":0},{"$f":"'PAT Mech Detailed'!CY93","v":0},{"$f":"'PAT Mech Detailed'!CZ93","v":0},{"$f":"'PAT Mech Detailed'!DA93","v":0},{"$f":"'PAT Mech Detailed'!DB93","v":0},{"$f":"'PAT Mech Detailed'!DC93","v":0},0,{"$f":"IF('PAT Mech Detailed'!DF93=4,SUM(O95:X95)/1.333333333,IF('PAT Mech Detailed'!DF93=6,SUM(O95:Z95)/1.6,SUM(O95:X95)))","v":0},{"$f":"'PAT Mech Detailed'!CP93","v":0},{"$f":"'PAT Mech Detailed'!CW93","v":0},0,0,0,""]
[null,2,80,{"$f":"TERM1!E95","v":0},{"$f":"TERM1!F95","v":0},{"$f":"TERM1!G95","v":0},{"$f":"'PAT Mech Detailed'!K94","v":0},{"$f":"'PAT Mech Detailed'!R94","v":0},{"$f":"'PAT Mech Detailed'!AA94","v":0},{"$f":"'PAT Mech Detailed'!AJ94","v":0},{"$f":"'PAT Mech Detailed'!AS94","v":0},{"$f":"'PAT Mech Detailed'!AY94","v":0},0,0,{"$f":"'PAT Mech Detailed'!BC94","v":0},{"$f":"'PAT Mech Detailed'!BJ94","v":0},{"$f":"'PAT Mech Detailed'!BP94","v":0},{"$f":"'PAT Mech Detailed'!BV94","v":0},{"$f":"'PAT Mech Detailed'!CI94","v":0},{"$f":"'PAT Mech Detailed'!CM94","v":0},{"$f":"'PAT Mech Detailed'!CX94","v":0},{"$f":"'PAT Mech Detailed'!CY94","v":0},{"$f":"'PAT Mech Detailed'!CZ94","v":0},{"$f":"'PAT Mech Detailed'!DA94","v":0},{"$f":"'PAT Mech Detailed'!DB94","v":0},{"$f":"'PAT Mech Detailed'!DC94","v":0},0,{"$f":"IF('PAT Mech Detailed'!DF94=4,SUM(O96:X96)/1.333333333,IF('PAT Mech Detailed'!DF94=6,SUM(O96:Z96)/1.6,SUM(O96:X96)))","v":0},{"$f":"'PAT Mech Detailed'!CP94","v":0},{"$f":"'PAT Mech Detailed'!CW94","v":0},0,0,0,""]
[null,2,81,{"$f":"TERM1!E96","v":0},{"$f":"TERM1!F96","v":0},{"$f":"TERM1!G96","v":0},{"$f":"'PAT Mech Detailed'!K95","v":0},{"$f":"'PAT Mech Detailed'!R95","v":0},{"$f":"'PAT Mech Detailed'!AA95","v":0},{"$f":"'PAT Mech Detailed'!AJ95","v":0},{"$f":"'PAT Mech Detailed'!AS95","v":0},{"$f":"'PAT Mech Detailed'!AY95","v":0},0,0,{"$f":"'PAT Mech Detailed'!BC95","v":0},{"$f":"'PAT Mech Detailed'!BJ95","v":0},{"$f":"'PAT Mech Detailed'!BP95","v":0},{"$f":"'PAT Mech Detailed'!BV95","v":0},{"$f":"'PAT Mech Detailed'!CI95","v":0},{"$f":"'PAT Mech Detailed'!CM95","v":0},{"$f":"'PAT Mech Detailed'!CX95","v":0},{"$f":"'PAT Mech Detailed'!CY95","v":0},{"$f":"'PAT Mech Detailed'!CZ95","v":0},{"$f":"'PAT Mech Detailed'!DA95","v":0},{"$f":"'PAT Mech Detailed'!DB95","v":0},{"$f":"'PAT Mech Detailed'!DC95","v":0},0,{"$f":"IF('PAT Mech Detailed'!DF95=4,SUM(O97:X97)/1.333333333,IF('PAT Mech Detailed'!DF95=6,SUM(O97:Z97)/1.6,SUM(O97:X97)))","v":0},{"$f":"'PAT Mech Detailed'!CP95","v":0},{"$f":"'PAT Mech Detailed'!CW95","v":0},0,0,0,""]
[null,2,82,{"$f":"TERM1!E97","v":0},{"$f":"TERM1!F97","v":0},{"$f":"TERM1!G97","v":0},{"$f":"'PAT Mech Detailed'!K96","v":0},{"$f":"'PAT Mech Detailed'!R96","v":0},{"$f":"'PAT Mech Detailed'!AA96","v":0},{"$f":"'PAT Mech Detailed'!AJ96","v":0},{"$f":"'PAT Mech Detailed'!AS96","v":0},{"$f":"'PAT Mech Detailed'!AY96","v":0},0,0,{"$f":"'PAT Mech Detailed'!BC96","v":0},{"$f":"'PAT Mech Detailed'!BJ96","v":0},{"$f":"'PAT Mech Detailed'!BP96","v":0},{"$f":"'PAT Mech Detailed'!BV96","v":0},{"$f":"'PAT Mech Detailed'!CI96","v":0},{"$f":"'PAT Mech Detailed'!CM96","v":0},{"$f":"'PAT Mech Detailed'!CX96","v":0},{"$f":"'PAT Mech Detailed'!CY96","v":0},{"$f":"'PAT Mech Detailed'!CZ96","v":0},{"$f":"'PAT Mech Detailed'!DA96","v":0},{"$f":"'PAT Mech Detailed'!DB96","v":0},{"$f":"'PAT Mech Detailed'!DC96","v":0},0,{"$f":"IF('PAT Mech Detailed'!DF96=4,SUM(O98:X98)/1.333333333,IF('PAT Mech Detailed'!DF96=6,SUM(O98:Z98)/1.6,SUM(O98:X98)))","v":0},{"$f":"'PAT Mech Detailed'!CP96","v":0},{"$f":"'PAT Mech Detailed'!CW96","v":0},0,0,0,""]
[null,2,83,{"$f":"TERM1!E98","v":0},{"$f":"TERM1!F98","v":0},{"$f":"TERM1!G98","v":0},{"$f":"'PAT Mech Detailed'!K97","v":0},{"$f":"'PAT Mech Detailed'!R97","v":0},{"$f":"'PAT Mech Detailed'!AA97","v":0},{"$f":"'PAT Mech Detailed'!AJ97","v":0},{"$f":"'PAT Mech Detailed'!AS97","v":0},{"$f":"'PAT Mech Detailed'!AY97","v":0},0,0,{"$f":"'PAT Mech Detailed'!BC97","v":0},{"$f":"'PAT Mech Detailed'!BJ97","v":0},{"$f":"'PAT Mech Detailed'!BP97","v":0},{"$f":"'PAT Mech Detailed'!BV97","v":0},{"$f":"'PAT Mech Detailed'!CI97","v":0},{"$f":"'PAT Mech Detailed'!CM97","v":0},{"$f":"'PAT Mech Detailed'!CX97","v":0},{"$f":"'PAT Mech Detailed'!CY97","v":0},{"$f":"'PAT Mech Detailed'!CZ97","v":0},{"$f":"'PAT Mech Detailed'!DA97","v":0},{"$f":"'PAT Mech Detailed'!DB97","v":0},{"$f":"'PAT Mech Detailed'!DC97","v":0},0,{"$f":"IF('PAT Mech Detailed'!DF97=4,SUM(O99:X99)/1.333333333,IF('PAT Mech Detailed'!DF97=6,SUM(O99:Z99)/1.6,SUM(O99:X99)))","v":0},{"$f":"'PAT Mech Detailed'!CP97","v":0},{"$f":"'PAT Mech Detailed'!CW97","v":0},0,0,0,""]
[null,2,84,{"$f":"TERM1!E99","v":0},{"$f":"TERM1!F99","v":0},{"$f":"TERM1!G99","v":0},{"$f":"'PAT Mech Detailed'!K98","v":0},{"$f":"'PAT Mech Detailed'!R98","v":0},{"$f":"'PAT Mech Detailed'!AA98","v":0},{"$f":"'PAT Mech Detailed'!AJ98","v":0},{"$f":"'PAT Mech Detailed'!AS98","v":0},{"$f":"'PAT Mech Detailed'!AY98","v":0},0,0,{"$f":"'PAT Mech Detailed'!BC98","v":0},{"$f":"'PAT Mech Detailed'!BJ98","v":0},{"$f":"'PAT Mech Detailed'!BP98","v":0},{"$f":"'PAT Mech Detailed'!BV98","v":0},{"$f":"'PAT Mech Detailed'!CI98","v":0},{"$f":"'PAT Mech Detailed'!CM98","v":0},{"$f":"'PAT Mech Detailed'!CX98","v":0},{"$f":"'PAT Mech Detailed'!CY98","v":0},{"$f":"'PAT Mech Detailed'!CZ98","v":0},{"$f":"'PAT Mech Detailed'!DA98","v":0},{"$f":"'PAT Mech Detailed'!DB98","v":0},{"$f":"'PAT Mech Detailed'!DC98","v":0},0,{"$f":"IF('PAT Mech Detailed'!DF98=4,SUM(O100:X100)/1.333333333,IF('PAT Mech Detailed'!DF98=6,SUM(O100:Z100)/1.6,SUM(O100:X100)))","v":0},{"$f":"'PAT Mech Detailed'!CP98","v":0},{"$f":"'PAT Mech Detailed'!CW98","v":0},0,0,0,""]
[null,2,85,{"$f":"TERM1!E100","v":0},{"$f":"TERM1!F100","v":0},{"$f":"TERM1!G100","v":0},{"$f":"'PAT Mech Detailed'!K99","v":0},{"$f":"'PAT Mech Detailed'!R99","v":0},{"$f":"'PAT Mech Detailed'!AA99","v":0},{"$f":"'PAT Mech Detailed'!AJ99","v":0},{"$f":"'PAT Mech Detailed'!AS99","v":0},{"$f":"'PAT Mech Detailed'!AY99","v":0},0,0,{"$f":"'PAT Mech Detailed'!BC99","v":0},{"$f":"'PAT Mech Detailed'!BJ99","v":0},{"$f":"'PAT Mech Detailed'!BP99","v":0},{"$f":"'PAT Mech Detailed'!BV99","v":0},{"$f":"'PAT Mech Detailed'!CI99","v":0},{"$f":"'PAT Mech Detailed'!CM99","v":0},{"$f":"'PAT Mech Detailed'!CX99","v":0},{"$f":"'PAT Mech Detailed'!CY99","v":0},{"$f":"'PAT Mech Detailed'!CZ99","v":0},{"$f":"'PAT Mech Detailed'!DA99","v":0},{"$f":"'PAT Mech Detailed'!DB99","v":0},{"$f":"'PAT Mech Detailed'!DC99","v":0},0,{"$f":"IF('PAT Mech Detailed'!DF99=4,SUM(O101:X101)/1.333333333,IF('PAT Mech Detailed'!DF99=6,SUM(O101:Z101)/1.6,SUM(O101:X101)))","v":0},{"$f":"'PAT Mech Detailed'!CP99","v":0},{"$f":"'PAT Mech Detailed'!CW99","v":0},0,0,0,""]
[null,2,86,{"$f":"TERM1!E101","v":0},{"$f":"TERM1!F101","v":0},{"$f":"TERM1!G101","v":0},{"$f":"'PAT Mech Detailed'!K100","v":0},{"$f":"'PAT Mech Detailed'!R100","v":0},{"$f":"'PAT Mech Detailed'!AA100","v":0},{"$f":"'PAT Mech Detailed'!AJ100","v":0},{"$f":"'PAT Mech Detailed'!AS100","v":0},{"$f":"'PAT Mech Detailed'!AY100","v":0},0,0,{"$f":"'PAT Mech Detailed'!BC100","v":0},{"$f":"'PAT Mech Detailed'!BJ100","v":0},{"$f":"'PAT Mech Detailed'!BP100","v":0},{"$f":"'PAT Mech Detailed'!BV100","v":0},{"$f":"'PAT Mech Detailed'!CI100","v":0},{"$f":"'PAT Mech Detailed'!CM100","v":0},{"$f":"'PAT Mech Detailed'!CX100","v":0},{"$f":"'PAT Mech Detailed'!CY100","v":0},{"$f":"'PAT Mech Detailed'!CZ100","v":0},{"$f":"'PAT Mech Detailed'!DA100","v":0},{"$f":"'PAT Mech Detailed'!DB100","v":0},{"$f":"'PAT Mech Detailed'!DC100","v":0},0,{"$f":"IF('PAT Mech Detailed'!DF100=4,SUM(O102:X102)/1.333333333,IF('PAT Mech Detailed'!DF100=6,SUM(O102:Z102)/1.6,SUM(O102:X102)))","v":0},{"$f":"'PAT Mech Detailed'!CP100","v":0},{"$f":"'PAT Mech Detailed'!CW100","v":0},0,0,0,""]
[null,2,87,{"$f":"TERM1!E102","v":0},{"$f":"TERM1!F102","v":0},{"$f":"TERM1!G102","v":0},{"$f":"'PAT Mech Detailed'!K101","v":0},{"$f":"'PAT Mech Detailed'!R101","v":0},{"$f":"'PAT Mech Detailed'!AA101","v":0},{"$f":"'PAT Mech Detailed'!AJ101","v":0},{"$f":"'PAT Mech Detailed'!AS101","v":0},{"$f":"'PAT Mech Detailed'!AY101","v":0},0,0,{"$f":"'PAT Mech Detailed'!BC101","v":0},{"$f":"'PAT Mech Detailed'!BJ101","v":0},{"$f":"'PAT Mech Detailed'!BP101","v":0},{"$f":"'PAT Mech Detailed'!BV101","v":0},{"$f":"'PAT Mech Detailed'!CI101","v":0},{"$f":"'PAT Mech Detailed'!CM101","v":0},{"$f":"'PAT Mech Detailed'!CX101","v":0},{"$f":"'PAT Mech Detailed'!CY101","v":0},{"$f":"'PAT Mech Detailed'!CZ101","v":0},{"$f":"'PAT Mech Detailed'!DA101","v":0},{"$f":"'PAT Mech Detailed'!DB101","v":0},{"$f":"'PAT Mech Detailed'!DC101","v":0},0,{"$f":"IF('PAT Mech Detailed'!DF101=4,SUM(O103:X103)/1.333333333,IF('PAT Mech Detailed'!DF101=6,SUM(O103:Z103)/1.6,SUM(O103:X103)))","v":0},{"$f":"'PAT Mech Detailed'!CP101","v":0},{"$f":"'PAT Mech Detailed'!CW101","v":0},0,0,0,""]
[null,2,88,{"$f":"TERM1!E103","v":0},{"$f":"TERM1!F103","v":0},{"$f":"TERM1!G103","v":0},{"$f":"'PAT Mech Detailed'!K102","v":0},{"$f":"'PAT Mech Detailed'!R102","v":0},{"$f":"'PAT Mech Detailed'!AA102","v":0},{"$f":"'PAT Mech Detailed'!AJ102","v":0},{"$f":"'PAT Mech Detailed'!AS102","v":0},{"$f":"'PAT Mech Detailed'!AY102","v":0},0,0,{"$f":"'PAT Mech Detailed'!BC102","v":0},{"$f":"'PAT Mech Detailed'!BJ102","v":0},{"$f":"'PAT Mech Detailed'!BP102","v":0},{"$f":"'PAT Mech Detailed'!BV102","v":0},{"$f":"'PAT Mech Detailed'!CI102","v":0},{"$f":"'PAT Mech Detailed'!CM102","v":0},{"$f":"'PAT Mech Detailed'!CX102","v":0},{"$f":"'PAT Mech Detailed'!CY102","v":0},{"$f":"'PAT Mech Detailed'!CZ102","v":0},{"$f":"'PAT Mech Detailed'!DA102","v":0},{"$f":"'PAT Mech Detailed'!DB102","v":0},{"$f":"'PAT Mech Detailed'!DC102","v":0},0,{"$f":"IF('PAT Mech Detailed'!DF102=4,SUM(O104:X104)/1.333333333,IF('PAT Mech Detailed'!DF102=6,SUM(O104:Z104)/1.6,SUM(O104:X104)))","v":0},{"$f":"'PAT Mech Detailed'!CP102","v":0},{"$f":"'PAT Mech Detailed'!CW102","v":0},0,0,0,""]
[null,2,89,{"$f":"TERM1!E104","v":0},{"$f":"TERM1!F104","v":0},{"$f":"TERM1!G104","v":0},{"$f":"'PAT Mech Detailed'!K103","v":0},{"$f":"'PAT Mech Detailed'!R103","v":0},{"$f":"'PAT Mech Detailed'!AA103","v":0},{"$f":"'PAT Mech Detailed'!AJ103","v":0},{"$f":"'PAT Mech Detailed'!AS103","v":0},{"$f":"'PAT Mech Detailed'!AY103","v":0},0,0,{"$f":"'PAT Mech Detailed'!BC103","v":0},{"$f":"'PAT Mech Detailed'!BJ103","v":0},{"$f":"'PAT Mech Detailed'!BP103","v":0},{"$f":"'PAT Mech Detailed'!BV103","v":0},{"$f":"'PAT Mech Detailed'!CI103","v":0},{"$f":"'PAT Mech Detailed'!CM103","v":0},{"$f":"'PAT Mech Detailed'!CX103","v":0},{"$f":"'PAT Mech Detailed'!CY103","v":0},{"$f":"'PAT Mech Detailed'!CZ103","v":0},{"$f":"'PAT Mech Detailed'!DA103","v":0},{"$f":"'PAT Mech Detailed'!DB103","v":0},{"$f":"'PAT Mech Detailed'!DC103","v":0},0,{"$f":"IF('PAT Mech Detailed'!DF103=4,SUM(O105:X105)/1.333333333,IF('PAT Mech Detailed'!DF103=6,SUM(O105:Z105)/1.6,SUM(O105:X105)))","v":0},{"$f":"'PAT Mech Detailed'!CP103","v":0},{"$f":"'PAT Mech Detailed'!CW103","v":0},0,0,0,""]
[null,2,90,{"$f":"TERM1!E105","v":0},{"$f":"TERM1!F105","v":0},{"$f":"TERM1!G105","v":0},{"$f":"'PAT Mech Detailed'!K104","v":0},{"$f":"'PAT Mech Detailed'!R104","v":0},{"$f":"'PAT Mech Detailed'!AA104","v":0},{"$f":"'PAT Mech Detailed'!AJ104","v":0},{"$f":"'PAT Mech Detailed'!AS104","v":0},{"$f":"'PAT Mech Detailed'!AY104","v":0},0,0,{"$f":"'PAT Mech Detailed'!BC104","v":0},{"$f":"'PAT Mech Detailed'!BJ104","v":0},{"$f":"'PAT Mech Detailed'!BP104","v":0},{"$f":"'PAT Mech Detailed'!BV104","v":0},{"$f":"'PAT Mech Detailed'!CI104","v":0},{"$f":"'PAT Mech Detailed'!CM104","v":0},{"$f":"'PAT Mech Detailed'!CX104","v":0},{"$f":"'PAT Mech Detailed'!CY104","v":0},{"$f":"'PAT Mech Detailed'!CZ104","v":0},{"$f":"'PAT Mech Detailed'!DA104","v":0},{"$f":"'PAT Mech Detailed'!DB104","v":0},{"$f":"'PAT Mech Detailed'!DC104","v":0},0,{"$f":"IF('PAT Mech Detailed'!DF104=4,SUM(O106:X106)/1.333333333,IF('PAT Mech Detailed'!DF104=6,SUM(O106:Z106)/1.6,SUM(O106:X106)))","v":0},{"$f":"'PAT Mech Detailed'!CP104","v":0},{"$f":"'PAT Mech Detailed'!CW104","v":0},0,0,0,""]
[null,2,91,{"$f":"TERM1!E106","v":0},{"$f":"TERM1!F106","v":0},{"$f":"TERM1!G106","v":0},{"$f":"'PAT Mech Detailed'!K105","v":0},{"$f":"'PAT Mech Detailed'!R105","v":0},{"$f":"'PAT Mech Detailed'!AA105","v":0},{"$f":"'PAT Mech Detailed'!AJ105","v":0},{"$f":"'PAT Mech Detailed'!AS105","v":0},{"$f":"'PAT Mech Detailed'!AY105","v":0},0,0,{"$f":"'PAT Mech Detailed'!BC105","v":0},{"$f":"'PAT Mech Detailed'!BJ105","v":0},{"$f":"'PAT Mech Detailed'!BP105","v":0},{"$f":"'PAT Mech Detailed'!BV105","v":0},{"$f":"'PAT Mech Detailed'!CI105","v":0},{"$f":"'PAT Mech Detailed'!CM105","v":0},{"$f":"'PAT Mech Detailed'!CX105","v":0},{"$f":"'PAT Mech Detailed'!CY105","v":0},{"$f":"'PAT Mech Detailed'!CZ105","v":0},{"$f":"'PAT Mech Detailed'!DA105","v":0},{"$f":"'PAT Mech Detailed'!DB105","v":0},{"$f":"'PAT Mech Detailed'!DC105","v":0},0,{"$f":"IF('PAT Mech Detailed'!DF105=4,SUM(O107:X107)/1.333333333,IF('PAT Mech Detailed'!DF105=6,SUM(O107:Z107)/1.6,SUM(O107:X107)))","v":0},{"$f":"'PAT Mech Detailed'!CP105","v":0},{"$f":"'PAT Mech Detailed'!CW105","v":0},0,0,0,""]
[null,2,92,{"$f":"TERM1!E107","v":0},{"$f":"TERM1!F107","v":0},{"$f":"TERM1!G107","v":0},{"$f":"'PAT Mech Detailed'!K106","v":0},{"$f":"'PAT Mech Detailed'!R106","v":0},{"$f":"'PAT Mech Detailed'!AA106","v":0},{"$f":"'PAT Mech Detailed'!AJ106","v":0},{"$f":"'PAT Mech Detailed'!AS106","v":0},{"$f":"'PAT Mech Detailed'!AY106","v":0},0,0,{"$f":"'PAT Mech Detailed'!BC106","v":0},{"$f":"'PAT Mech Detailed'!BJ106","v":0},{"$f":"'PAT Mech Detailed'!BP106","v":0},{"$f":"'PAT Mech Detailed'!BV106","v":0},{"$f":"'PAT Mech Detailed'!CI106","v":0},{"$f":"'PAT Mech Detailed'!CM106","v":0},{"$f":"'PAT Mech Detailed'!CX106","v":0},{"$f":"'PAT Mech Detailed'!CY106","v":0},{"$f":"'PAT Mech Detailed'!CZ106","v":0},{"$f":"'PAT Mech Detailed'!DA106","v":0},{"$f":"'PAT Mech Detailed'!DB106","v":0},{"$f":"'PAT Mech Detailed'!DC106","v":0},0,{"$f":"IF('PAT Mech Detailed'!DF106=4,SUM(O108:X108)/1.333333333,IF('PAT Mech Detailed'!DF106=6,SUM(O108:Z108)/1.6,SUM(O108:X108)))","v":0},{"$f":"'PAT Mech Detailed'!CP106","v":0},{"$f":"'PAT Mech Detailed'!CW106","v":0},0,0,0,""]
[null,2,93,{"$f":"TERM1!E108","v":0},{"$f":"TERM1!F108","v":0},{"$f":"TERM1!G108","v":0},{"$f":"'PAT Mech Detailed'!K107","v":0},{"$f":"'PAT Mech Detailed'!R107","v":0},{"$f":"'PAT Mech Detailed'!AA107","v":0},{"$f":"'PAT Mech Detailed'!AJ107","v":0},{"$f":"'PAT Mech Detailed'!AS107","v":0},{"$f":"'PAT Mech Detailed'!AY107","v":0},0,0,{"$f":"'PAT Mech Detailed'!BC107","v":0},{"$f":"'PAT Mech Detailed'!BJ107","v":0},{"$f":"'PAT Mech Detailed'!BP107","v":0},{"$f":"'PAT Mech Detailed'!BV107","v":0},{"$f":"'PAT Mech Detailed'!CI107","v":0},{"$f":"'PAT Mech Detailed'!CM107","v":0},{"$f":"'PAT Mech Detailed'!CX107","v":0},{"$f":"'PAT Mech Detailed'!CY107","v":0},{"$f":"'PAT Mech Detailed'!CZ107","v":0},{"$f":"'PAT Mech Detailed'!DA107","v":0},{"$f":"'PAT Mech Detailed'!DB107","v":0},{"$f":"'PAT Mech Detailed'!DC107","v":0},0,{"$f":"IF('PAT Mech Detailed'!DF107=4,SUM(O109:X109)/1.333333333,IF('PAT Mech Detailed'!DF107=6,SUM(O109:Z109)/1.6,SUM(O109:X109)))","v":0},{"$f":"'PAT Mech Detailed'!CP107","v":0},{"$f":"'PAT Mech Detailed'!CW107","v":0},0,0,0,""]
[null,2,94,{"$f":"TERM1!E109","v":0},{"$f":"TERM1!F109","v":0},{"$f":"TERM1!G109","v":0},{"$f":"'PAT Mech Detailed'!K108","v":0},{"$f":"'PAT Mech Detailed'!R108","v":0},{"$f":"'PAT Mech Detailed'!AA108","v":0},{"$f":"'PAT Mech Detailed'!AJ108","v":0},{"$f":"'PAT Mech Detailed'!AS108","v":0},{"$f":"'PAT Mech Detailed'!AY108","v":0},0,0,{"$f":"'PAT Mech Detailed'!BC108","v":0},{"$f":"'PAT Mech Detailed'!BJ108","v":0},{"$f":"'PAT Mech Detailed'!BP108","v":0},{"$f":"'PAT Mech Detailed'!BV108","v":0},{"$f":"'PAT Mech Detailed'!CI108","v":0},{"$f":"'PAT Mech Detailed'!CM108","v":0},{"$f":"'PAT Mech Detailed'!CX108","v":0},{"$f":"'PAT Mech Detailed'!CY108","v":0},{"$f":"'PAT Mech Detailed'!CZ108","v":0},{"$f":"'PAT Mech Detailed'!DA108","v":0},{"$f":"'PAT Mech Detailed'!DB108","v":0},{"$f":"'PAT Mech Detailed'!DC108","v":0},0,{"$f":"IF('PAT Mech Detailed'!DF108=4,SUM(O110:X110)/1.333333333,IF('PAT Mech Detailed'!DF108=6,SUM(O110:Z110)/1.6,SUM(O110:X110)))","v":0},{"$f":"'PAT Mech Detailed'!CP108","v":0},{"$f":"'PAT Mech Detailed'!CW108","v":0},0,0,0,""]
[null,2,95,{"$f":"TERM1!E110","v":0},{"$f":"TERM1!F110","v":0},{"$f":"TERM1!G110","v":0},{"$f":"'PAT Mech Detailed'!K109","v":0},{"$f":"'PAT Mech Detailed'!R109","v":0},{"$f":"'PAT Mech Detailed'!AA109","v":0},{"$f":"'PAT Mech Detailed'!AJ109","v":0},{"$f":"'PAT Mech Detailed'!AS109","v":0},{"$f":"'PAT Mech Detailed'!AY109","v":0},0,0,{"$f":"'PAT Mech Detailed'!BC109","v":0},{"$f":"'PAT Mech Detailed'!BJ109","v":0},{"$f":"'PAT Mech Detailed'!BP109","v":0},{"$f":"'PAT Mech Detailed'!BV109","v":0},{"$f":"'PAT Mech Detailed'!CI109","v":0},{"$f":"'PAT Mech Detailed'!CM109","v":0},{"$f":"'PAT Mech Detailed'!CX109","v":0},{"$f":"'PAT Mech Detailed'!CY109","v":0},{"$f":"'PAT Mech Detailed'!CZ109","v":0},{"$f":"'PAT Mech Detailed'!DA109","v":0},{"$f":"'PAT Mech Detailed'!DB109","v":0},{"$f":"'PAT Mech Detailed'!DC109","v":0},0,{"$f":"IF('PAT Mech Detailed'!DF109=4,SUM(O111:X111)/1.333333333,IF('PAT Mech Detailed'!DF109=6,SUM(O111:Z111)/1.6,SUM(O111:X111)))","v":0},{"$f":"'PAT Mech Detailed'!CP109","v":0},{"$f":"'PAT Mech Detailed'!CW109","v":0},0,0,0,""]
[null,2,96,{"$f":"TERM1!E111","v":0},{"$f":"TERM1!F111","v":0},{"$f":"TERM1!G111","v":0},{"$f":"'PAT Mech Detailed'!K110","v":0},{"$f":"'PAT Mech Detailed'!R110","v":0},{"$f":"'PAT Mech Detailed'!AA110","v":0},{"$f":"'PAT Mech Detailed'!AJ110","v":0},{"$f":"'PAT Mech Detailed'!AS110","v":0},{"$f":"'PAT Mech Detailed'!AY110","v":0},0,0,{"$f":"'PAT Mech Detailed'!BC110","v":0},{"$f":"'PAT Mech Detailed'!BJ110","v":0},{"$f":"'PAT Mech Detailed'!BP110","v":0},{"$f":"'PAT Mech Detailed'!BV110","v":0},{"$f":"'PAT Mech Detailed'!CI110","v":0},{"$f":"'PAT Mech Detailed'!CM110","v":0},{"$f":"'PAT Mech Detailed'!CX110","v":0},{"$f":"'PAT Mech Detailed'!CY110","v":0},{"$f":"'PAT Mech Detailed'!CZ110","v":0},{"$f":"'PAT Mech Detailed'!DA110","v":0},{"$f":"'PAT Mech Detailed'!DB110","v":0},{"$f":"'PAT Mech Detailed'!DC110","v":0},0,{"$f":"IF('PAT Mech Detailed'!DF110=4,SUM(O112:X112)/1.333333333,IF('PAT Mech Detailed'!DF110=6,SUM(O112:Z112)/1.6,SUM(O112:X112)))","v":0},{"$f":"'PAT Mech Detailed'!CP110","v":0},{"$f":"'PAT Mech Detailed'!CW110","v":0},0,0,0,""]
[null,2,97,{"$f":"TERM1!E112","v":0},{"$f":"TERM1!F112","v":0},{"$f":"TERM1!G112","v":0},{"$f":"'PAT Mech Detailed'!K111","v":0},{"$f":"'PAT Mech Detailed'!R111","v":0},{"$f":"'PAT Mech Detailed'!AA111","v":0},{"$f":"'PAT Mech Detailed'!AJ111","v":0},{"$f":"'PAT Mech Detailed'!AS111","v":0},{"$f":"'PAT Mech Detailed'!AY111","v":0},0,0,{"$f":"'PAT Mech Detailed'!BC111","v":0},{"$f":"'PAT Mech Detailed'!BJ111","v":0},{"$f":"'PAT Mech Detailed'!BP111","v":0},{"$f":"'PAT Mech Detailed'!BV111","v":0},{"$f":"'PAT Mech Detailed'!CI111","v":0},{"$f":"'PAT Mech Detailed'!CM111","v":0},{"$f":"'PAT Mech Detailed'!CX111","v":0},{"$f":"'PAT Mech Detailed'!CY111","v":0},{"$f":"'PAT Mech Detailed'!CZ111","v":0},{"$f":"'PAT Mech Detailed'!DA111","v":0},{"$f":"'PAT Mech Detailed'!DB111","v":0},{"$f":"'PAT Mech Detailed'!DC111","v":0},0,{"$f":"IF('PAT Mech Detailed'!DF111=4,SUM(O113:X113)/1.333333333,IF('PAT Mech Detailed'!DF111=6,SUM(O113:Z113)/1.6,SUM(O113:X113)))","v":0},{"$f":"'PAT Mech Detailed'!CP111","v":0},{"$f":"'PAT Mech Detailed'!CW111","v":0},0,0,{"$f":"SUM(N113+AB113+AF113)","v":0},""]
[null,2,98,{"$f":"TERM1!E113","v":0},{"$f":"TERM1!F113","v":0},{"$f":"TERM1!G113","v":0},{"$f":"'PAT Mech Detailed'!K112","v":0},{"$f":"'PAT Mech Detailed'!R112","v":0},{"$f":"'PAT Mech Detailed'!AA112","v":0},{"$f":"'PAT Mech Detailed'!AJ112","v":0},{"$f":"'PAT Mech Detailed'!AS112","v":0},{"$f":"'PAT Mech Detailed'!AY112","v":0},0,0,{"$f":"'PAT Mech Detailed'!BC112","v":0},{"$f":"'PAT Mech Detailed'!BJ112","v":0},{"$f":"'PAT Mech Detailed'!BP112","v":0},{"$f":"'PAT Mech Detailed'!BV112","v":0},{"$f":"'PAT Mech Detailed'!CI112","v":0},{"$f":"'PAT Mech Detailed'!CM112","v":0},{"$f":"'PAT Mech Detailed'!CX112","v":0},{"$f":"'PAT Mech Detailed'!CY112","v":0},{"$f":"'PAT Mech Detailed'!CZ112","v":0},{"$f":"'PAT Mech Detailed'!DA112","v":0},{"$f":"'PAT Mech Detailed'!DB112","v":0},{"$f":"'PAT Mech Detailed'!DC112","v":0},0,{"$f":"IF('PAT Mech Detailed'!DF112=4,SUM(O114:X114)/1.333333333,IF('PAT Mech Detailed'!DF112=6,SUM(O114:Z114)/1.6,SUM(O114:X114)))","v":0},{"$f":"'PAT Mech Detailed'!CP112","v":0},{"$f":"'PAT Mech Detailed'!CW112","v":0},0,0,0,""]
[null,2,99,{"$f":"TERM1!E114","v":0},{"$f":"TERM1!F114","v":0},{"$f":"TERM1!G114","v":0},{"$f":"'PAT Mech Detailed'!K113","v":0},{"$f":"'PAT Mech Detailed'!R113","v":0},{"$f":"'PAT Mech Detailed'!AA113","v":0},{"$f":"'PAT Mech Detailed'!AJ113","v":0},{"$f":"'PAT Mech Detailed'!AS113","v":0},{"$f":"'PAT Mech Detailed'!AY113","v":0},0,0,{"$f":"'PAT Mech Detailed'!BC113","v":0},{"$f":"'PAT Mech Detailed'!BJ113","v":0},{"$f":"'PAT Mech Detailed'!BP113","v":0},{"$f":"'PAT Mech Detailed'!BV113","v":0},{"$f":"'PAT Mech Detailed'!CI113","v":0},{"$f":"'PAT Mech Detailed'!CM113","v":0},{"$f":"'PAT Mech Detailed'!CX113","v":0},{"$f":"'PAT Mech Detailed'!CY113","v":0},{"$f":"'PAT Mech Detailed'!CZ113","v":0},{"$f":"'PAT Mech Detailed'!DA113","v":0},{"$f":"'PAT Mech Detailed'!DB113","v":0},{"$f":"'PAT Mech Detailed'!DC113","v":0},0,{"$f":"IF('PAT Mech Detailed'!DF113=4,SUM(O115:X115)/1.333333333,IF('PAT Mech Detailed'!DF113=6,SUM(O115:Z115)/1.6,SUM(O115:X115)))","v":0},{"$f":"'PAT Mech Detailed'!CP113","v":0},{"$f":"'PAT Mech Detailed'!CW113","v":0},0,0,0,""]
[null,2,100,{"$f":"TERM1!E115","v":0},{"$f":"TERM1!F115","v":0},{"$f":"TERM1!G115","v":0},{"$f":"'PAT Mech Detailed'!K114","v":0},{"$f":"'PAT Mech Detailed'!R114","v":0},{"$f":"'PAT Mech Detailed'!AA114","v":0},{"$f":"'PAT Mech Detailed'!AJ114","v":0},{"$f":"'PAT Mech Detailed'!AS114","v":0},{"$f":"'PAT Mech Detailed'!AY114","v":0},0,0,{"$f":"'PAT Mech Detailed'!BC114","v":0},{"$f":"'PAT Mech Detailed'!BJ114","v":0},{"$f":"'PAT Mech Detailed'!BP114","v":0},{"$f":"'PAT Mech Detailed'!BV114","v":0},{"$f":"'PAT Mech Detailed'!CI114","v":0},{"$f":"'PAT Mech Detailed'!CM114","v":0},{"$f":"'PAT Mech Detailed'!CX114","v":0},{"$f":"'PAT Mech Detailed'!CY114","v":0},{"$f":"'PAT Mech Detailed'!CZ114","v":0},{"$f":"'PAT Mech Detailed'!DA114","v":0},{"$f":"'PAT Mech Detailed'!DB114","v":0},{"$f":"'PAT Mech Detailed'!DC114","v":0},0,{"$f":"IF('PAT Mech Detailed'!DF114=4,SUM(O116:X116)/1.333333333,IF('PAT Mech Detailed'!DF114=6,SUM(O116:Z116)/1.6,SUM(O116:X116)))","v":0},{"$f":"'PAT Mech Detailed'!CP114","v":0},{"$f":"'PAT Mech Detailed'!CW114","v":0},0,0,0,""]
[]
[null,null,"Total amount of learners on mark sheet",null,"Total",null,{"$f":"SUM(G17:G116)","v":0},0,0,0,0,0,0,0,0,0,0,0,0,0,0,{"$f":"SUM(V17:V116)","v":0},0,0,{"$f":"SUM(Y17:Y116)","v":0},{"$f":"SUM(Z17:Z116)","v":0},0,0,{"$f":"SUM(AC17:AC116)","v":0},{"$f":"SUM(AD17:AD116)","v":0},0,0,0,0]
[null,null,null,null,"Average",null,{"$f":"ROUND(SUM(G118/$C$122),1)","v":{"$error":"#DIV/0!"}},{"$error":"#DIV/0!"},{"$error":"#DIV/0!"},{"$error":"#DIV/0!"},{"$error":"#DIV/0!"},{"$error":"#DIV/0!"},{"$error":"#DIV/0!"},{"$error":"#DIV/0!"},{"$error":"#DIV/0!"},{"$error":"#DIV/0!"},{"$f":"ROUND(SUM(Q118/$C$122),1)","v":{"$error":"#DIV/0!"}},{"$f":"ROUND(SUM(R118/$C$122),1)","v":{"$error":"#DIV/0!"}},{"$f":"ROUND(SUM(S118/$C$122),1)","v":{"$error":"#DIV/0!"}},{"$f":"ROUND(SUM(T118/$C$122),1)","v":{"$error":"#DIV/0!"}},{"$error":"#DIV/0!"},{"$error":"#DIV/0!"},{"$error":"#DIV/0!"},{"$error":"#DIV/0!"},{"$f":"ROUND(SUM(Y118/$C$122),1)","v":{"$error":"#DIV/0!"}},{"$f":"ROUND(SUM(Z118/$C$122),1)","v":{"$error":"#DIV/0!"}},{"$error":"#DIV/0!"},{"$error":"#DIV/0!"},{"$error":"#DIV/0!"},{"$error":"#DIV/0!"},{"$error":"#DIV/0!"},{"$error":"#DIV/0!"},{"$error":"#DIV/0!"},{"$error":"#DIV/0!"}]
[null,null,null,null,"PAT results analysis",null,"PAT LEVELS"]
[null,null,null,null,null,null,"LEVEL 1",null,"LEVEL 2",null,"LEVEL 3",null,"LEVEL 4",null,"LEVEL 5",null,"LEVEL 6",null,"LEVEL 7"]
[null,null,{"$f":"TERM1!$B$120","v":0},null,null,null," 0 - 29 ",null," 30 - 39 ",null," 40 - 49 ",null," 50 - 59 ",null," 60 - 69 ",null," 70 - 79 ",null,"80 - 100"]
[null,null,null,null,null,null,{"$f":"COUNTIF(AH17:AH116,1)","v":0},null,{"$f":"COUNTIF(AH17:AH116,2)","v":0},null,{"$f":"COUNTIF(AH17:AH116,3)","v":0},null,{"$f":"COUNTIF(AH17:AH116,4)","v":0},null,{"$f":"COUNTIF(AH17:AH116,5)","v":0},null,{"$f":"COUNTIF(AH17:AH116,6)","v":0},null,{"$f":"COUNTIF(AH17:AH116,7)","v":0}]

{"sheet":"PAT Detailed","index":14,"n_rows":119,"n_cols":106,"rows_kept":119,"cut":false,"hidden":false,"merged":[[13,1,13,6],[115,1,117,4],[115,5,115,6],[116,5,116,6],[117,5,117,6],[118,1,118,4],[118,5,118,6],[5,21,11,21],[5,22,11,22],[5,1,5,4],[5,5,5,6],[10,1,10,4],[10,5,10,6],[11,1,11,4],[11,5,11,6],[5,16,11,16],[5,17,11,17],[5,18,11,18],[5,11,11,11],[5,59,11,59],[3,68,3,73],[3,74,3,75],[3,19,3,34],[3,35,3,41],[3,42,3,45],[3,46,3,53],[3,54,3,60],[3,61,3,67],[5,40,11,40],[5,44,11,44],[5,35,11,35],[5,36,11,36],[5,37,11,37],[5,68,11,68],[5,69,11,69],[5,70,11,70],[5,63,11,63],[5,64,11,64],[5,65,11,65],[5,66,11,66],[5,61,11,61],[5,62,11,62],[5,51,11,51],[5,84,11,84],[5,86,11,86],[4,7,4,12],[4,13,4,18],[4,19,4,26],[4,27,4,34],[4,35,4,41],[4,42,4,45],[4,46,4,53],[4,54,4,60],[4,61,4,67],[5,72,11,72],[5,71,11,71],[5,46,11,46],[5,47,11,47],[5,48,11,48],[5,39,11,39],[5,41,11,41],[4,68,4,73],[4,74,4,75],[4,76,4,77],[4,78,4,79],[4,80,4,82],[5,54,11,54],[3,90,11,90],[3,91,11,91],[3,92,11,92],[3,93,11,93],[5,73,11,73],[5,75,11,75],[5,85,11,85],[5,87,11,87],[5,88,11,88],[5,81,11,81],[5,74,11,74],[5,77,11,77],[5,78,11,78],[5,79,11,79],[5,80,11,80],[3,76,3,77],[3,78,3,79],[3,80,3,82],[3,83,3,88],[5,76,11,76],[3,89,11,89],[4,83,4,88],[5,82,11,82],[5,83,11,83],[5,56,11,56],[5,12,11,12],[5,13,11,13],[5,14,11,14],[5,15,11,15],[5,25,11,25],[5,34,11,34],[5,57,11,57],[3,1,3,4],[3,5,3,6],[4,1,4,4],[4,5,4,6],[5,19,11,19],[5,20,11,20],[5,26,11,26],[5,23,11,23],[5,24,11,24],[6,1,6,4],[6,5,6,6],[5,7,11,7],[3,7,3,12],[3,13,3,18],[5,58,11,58],[5,52,11,52],[5,38,11,38],[5,43,11,43],[5,53,11,53],[5,60,11,60],[5,67,11,67],[9,5,9,6],[5,31,11,31],[5,32,11,32],[5,33,11,33],[5,27,11,27],[5,28,11,28],[5,29,11,29],[5,30,11,30],[5,8,11,8],[5,9,11,9],[5,10,11,10],[8,5,8,6],[5,42,11,42],[5,45,11,45],[5,49,11,49],[5,50,11,50],[5,55,11,55]]}
[]
[]
[]
[null,"School:",null,null,null,"HTS WELKOM",null,1,null,null,null,null,null,2,null,null,null,null,null,"Freehand drawings of TWO possible design solutions",null,null,null,null,null,null,null,null,null,null,null,null,null,null,null,4,null,null,null,null,null,null,5,null,null,null,6,null,null,null,null,null,null,null,7,null,null,null,null,null,null,8,null,null,null,null,null,null,9,null,null,null,null,null,10,null,11,null,12,null,13,null,null,14,null,null,null,null,null,"TOTAL for Design Process","TOTAL for Working Drawing","4 = NO CAD / 6 = CAD","TOTAL: DRAWING METHODS","TOTAL"]
[null,"Grade:",null,null,null,"10B",null,"Develop the DESIGN BRIEF:",null,null,null,null,null,"Research (This should be restricted to a maximum of TWO A4 or ONE A3 page",null,null,null,null,null,"Solution 1",null,null,null,null,null,null,null,"Solution 2",null,null,null,null,null,null,null,"Selecting the best freehand solution (This must be a separate presentation)",null,null,null,null,null,null,{"$f":"'PAT Assessment'!$B$44","v":"Drawing sheet preparation"},null,null,null,{"$f":"'PAT Assessment'!$C$50","v":"The SECTIONAL FRONT VIEW (Presentation drawing 1)"},null,null,null,null,null,null,null,{"$f":"'PAT Assessment'!$C$59","v":"The TOP VIEW (Presentation drawing 2)"},null,null,null,null,null,null,{"$f":"'PAT Assessment'!$C$68","v":"The LEFT/RIGHT VIEW (Presentation drawing 3)"},null,null,null,null,null,null,{"$f":"'PAT Assessment'!$B$76","v":"Detailed ISOMETRIC drawing (Presentation drawing 4)"},null,null,null,null,null,{"$f":"'PAT Assessment'!$B$84","v":"Assessment of FREEHAND."},null,{"$f":"'PAT Assessment'!$B$88","v":"Assessment of INSTRUMENT drawings."},null,{"$f":"'PAT Assessment'!$B$92","v":"Assessment of CAD drawings"},null,{"$f":"'PAT Assessment'!$B$96","v":"Continuous self-evaluation and the meeting of deadlines"},null,null,{"$f":"'PAT Assessment'!$B$100","v":"The FINAL PRESENTATION of the complete PAT portfolio"}]
[null,"Teacher:",null,null,null,{"$f":"INSERT!$J$5","v":0},null,{"$f":"'PAT Assessment'!$C$12","v":"1st paragraph of design brief: identify problem(s) and what is required to be done"},{"$f":"'PAT Assessment'!$C$13","v":"2nd paragraph of design brief: your role & the process to be followed"},{"$f":"'PAT Assessment'!$C$14","v":"Lists of all the given specifications"},{"$f":"'PAT Assessment'!$C$15","v":"List of THREE constraints that are relevant to the project"},{"$f":"'PAT Assessment'!$C$16","v":"A management plan with target dates for ALL the presentation requirements"},"TOTAL",{"$f":"'PAT Assessment'!$E$19","v":"Design examples and possible variations"},{"$f":"'PAT Assessment'!$E$20","v":"Materials suitable for manufacturing"},{"$f":"'PAT Assessment'!$E$21","v":"Enduring and protection against natural elements"},{"$f":"'PAT Assessment'!$B$22","v":"Is there evidence that the research has been used in the PAT?"},{"$f":"'PAT Assessment'!$B$23","v":"Bibliography/List of sources included"},"TOTAL",{"$f":"'PAT Assessment'!$E$26","v":"Drawn freehand"},{"$f":"'PAT Assessment'!$E$27","v":"Correct presentation in correlation with the assignment"},{"$f":"'PAT Assessment'!$E$28","v":"Relative size/proportion of features to each other."},{"$f":"'PAT Assessment'!$E$29","v":"Supply the necessary labels (1) & notes (1)."},{"$f":"'PAT Assessment'!$E$30","v":"Supply the necessary dimensions"},{"$f":"'PAT Assessment'!$E$31","v":"A freehand Isometric drawing per solution is shown for more clarity"},{"$f":"'PAT Assessment'!$E$32","v":"Functionality of the new design (practicability for the purpose)"},"TOTAL",{"$f":"T6","v":"Drawn freehand"},"Correct presentation in correlation with the assignment","Relative size/proportion of features to each other.","Supply the necessary labels (1) & notes (1).","Supply the necessary dimensions","A freehand Isometric drawing per solution is shown for more clarity","Functionality of the new design (practicability for the purpose)","TOTAL",{"$f":"'PAT Assessment'!$C$36","v":"The given table used for easy to understand representation of the selection process"},{"$f":"'PAT Assessment'!$C$37","v":"Select FOUR different criteria to evaluate and compare the two PAT freehand options."},{"$f":"'PAT Assessment'!$C$38","v":"Discuss (reason) the advantages and disadvantages of each criteria."},{"$f":"'PAT Assessment'!$C$39","v":"Implement values in the given rating scale to evaluate three options"},{"$f":"'PAT Assessment'!$C$40","v":"Total the two options to determine the best option"},{"$f":"'PAT Assessment'!$C$41","v":"Summarize and explain why you have chosen the selected drawing and mentioned changes or no changes"},"TOTAL",{"$f":"'PAT Assessment'!$C$45","v":"Two A3 drawing sheets"},{"$f":"'PAT Assessment'!$C$46","v":"A complete frame around all work drawing sheets"},{"$f":"'PAT Assessment'!$C$47","v":"Complete mechanical title panel on the first working drawing sheet"},"TOTAL",{"$f":"'PAT Assessment'!$C$51","v":"All parts are shown"},{"$f":"'PAT Assessment'!$C$52","v":"Dimensions shown"},{"$f":"'PAT Assessment'!$C$53","v":"Section line correctly placed or part section on handle correctly shown"},{"$f":"'PAT Assessment'!$C$54","v":"Section line arrow direction correct or SANS compliant hatching detail shown correct on this view."},{"$f":"'PAT Assessment'!$C$55","v":"Notes and labels added"},{"$f":"'PAT Assessment'!$C$56","v":"The title and scale indicated"},{"$f":"'PAT Assessment'!$C$57","v":"An interrupted view shown on handle"},"TOTAL",{"$f":"'PAT Assessment'!$C$60","v":"View placed in Third-Angle Orthographic Projection (T.A.O.P.)"},{"$f":"'PAT Assessment'!$C$61","v":"All parts are shown"},{"$f":"'PAT Assessment'!$C$62","v":"Dimensions shown"},{"$f":"'PAT Assessment'!$C$63","v":"Section line correctly placed or part section correctly shown"},{"$f":"'PAT Assessment'!$C$64","v":"Section line arrow direction correct or SANS compliant hatching shown correctly"},{"$f":"'PAT Assessment'!$C$65","v":"An interrupted view shown on handle"},"TOTAL",{"$f":"'PAT Assessment'!$C$69","v":"View placed in Third-Angle Orthographic Projection (T.A.O.P.)"},{"$f":"'PAT Assessment'!$C$70","v":"All parts are shown"},{"$f":"'PAT Assessment'!$C$71","v":"Dimensions shown"},{"$f":"'PAT Assessment'!$C$72","v":"Section line correctly placed or part section correctly shown"},{"$f":"'PAT Assessment'!$C$73","v":"Section line arrow direction correct or SANS compliant hatching shown correctly"},{"$f":"'PAT Assessment'!$C$74","v":"An interrupted view shown on handle"},"TOTAL",{"$f":"'PAT Assessment'!$C$77","v":"Isometric construction principles and methods applied correct (30° - 90° - 30°)"},{"$f":"'PAT Assessment'!$C$78","v":"Show all auxiliary views, construction lines and non-isometric lines"},{"$f":"'PAT Assessment'!$C$79","v":"Correct orientation of the isometric drawing according to the drawn views"},{"$f":"'PAT Assessment'!$C$80","v":"Correct scale used to maximise the isometric drawing on the A3 page"},{"$f":"'PAT Assessment'!$C$81","v":"Isometric answer correct."},"TOTAL",{"$f":"'PAT Assessment'!$C$85","v":"Freehand drawings METHODS (grid paper) & skills (see rubric grd 12 PAT – p 24)"},{"$f":"'PAT Assessment'!$C$86","v":"Consistency of line quality (see rubric grd 12 PAT – p 24)."},{"$f":"'PAT Assessment'!$C$89","v":"Drawing method & skills. Use of drawing instruments (see rubric grd 12 PAT – p 24)."},{"$f":"'PAT Assessment'!$C$90","v":"Consistency of, line quality and annotation (see rubric grd 12 PAT – p 24)."},{"$f":"'PAT Assessment'!$C$93","v":"Competence displayed in using a CAD program (see rubric grd 12 PAT – p 24)."},{"$f":"'PAT Assessment'!$C$94","v":"Layout and correctness of the drawings presentation (see rubric grd 12 PAT – p 24)."},{"$f":"'PAT Assessment'!$C$97","v":"Checklist completed as evidence of continuous self-evaluation (mark out of 10 ÷ 2)"},{"$f":"'PAT Assessment'!$C$98","v":"The meeting of ALL the deadlines during the development (mark out of 10 ÷ 2)"},"TOTAL",{"$f":"'PAT Assessment'!$C$101","v":"Develop your own designed front page (copy isometric drawing add initials, surname & grade)"},{"$f":"'PAT Assessment'!$C$102","v":"Prepare the final Index with page references"},{"$f":"'PAT Assessment'!$C$103","v":"Summative assessment sheet and declaration added"},{"$f":"'PAT Assessment'!$C$104","v":"The presentation requirements of this document is filed in the correct sequencing"},{"$f":"'PAT Assessment'!$C$105","v":"The present the final presentation in a file format."},"TOTAL"]
[null,"HOD:",null,null,null,"J VD BERG"]
[null,null,null,null,"EGD SES:","P VILJOEN",0]
[null,null,null,null,null,0]
[]
[]
[]
[null,null,null,"Class","Admission","SURNAME","NAME",2,2,2,2,2,{"$f":"SUM(H13:L13)","v":10},2,2,2,2,2,{"$f":"SUM(N13:R13)","v":10},2,2,2,2,2,2,3,{"$f":"ROUND((SUM(T13:Z13)/1.5),0)","v":10},{"$f":"T13","v":2},2,2,2,2,2,3,{"$f":"ROUND((SUM(AB13:AH13)/1.5),0)","v":10},{"$f":"'PAT Assessment'!$M$36","v":1},{"$f":"'PAT Assessment'!$M$37","v":2},{"$f":"'PAT Assessment'!$M$38","v":2},{"$f":"'PAT Assessment'!$M$39","v":2},{"$f":"'PAT Assessment'!$M$40","v":1},{"$f":"'PAT Assessment'!$M$41","v":2},{"$f":"SUM(AJ13:AO13)","v":10},{"$f":"'PAT Assessment'!$M$45","v":1},{"$f":"'PAT Assessment'!$M$46","v":2},{"$f":"'PAT Assessment'!$M$47","v":7},{"$f":"SUM(AQ13:AS13)","v":10},{"$f":"'PAT Assessment'!$M$51","v":1},{"$f":"'PAT Assessment'!$M$52","v":1},{"$f":"'PAT Assessment'!$M$53","v":1},{"$f":"'PAT Assessment'!$M$54","v":1},{"$f":"'PAT Assessment'!$M$55","v":2},{"$f":"'PAT Assessment'!$M$56","v":2},{"$f":"'PAT Assessment'!$M$57","v":2},{"$f":"ROUND((SUM(AU13:BA13)),0)","v":10},{"$f":"'PAT Assessment'!$M$60","v":1},{"$f":"'PAT Assessment'!$M$61","v":1},{"$f":"'PAT Assessment'!$M$62","v":1},{"$f":"'PAT Assessment'!$M$63","v":1},{"$f":"'PAT Assessment'!$M$64","v":1},{"$f":"'PAT Assessment'!$M$65","v":5},{"$f":"ROUND((SUM(BC13:BH13)),0)","v":10},{"$f":"'PAT Assessment'!$M$69","v":1},{"$f":"'PAT Assessment'!$M$70","v":1},{"$f":"'PAT Assessment'!$M$71","v":1},{"$f":"'PAT Assessment'!$M$72","v":1},{"$f":"'PAT Assessment'!$M$73","v":1},{"$f":"'PAT Assessment'!$M$74","v":5},{"$f":"ROUND((SUM(BJ13:BO13)),0)","v":10},{"$f":"'PAT Assessment'!$M$77","v":1},{"$f":"'PAT Assessment'!$M$78","v":1},{"$f":"'PAT Assessment'!$M$79","v":1},{"$f":"'PAT Assessment'!$M$80","v":1},{"$f":"'PAT Assessment'!$M$81","v":6},{"$f":"SUM(BQ13:BU13)","v":10},{"$f":"'PAT Assessment'!$M$85","v":10},{"$f":"'PAT Assessment'!$M$86","v":10},{"$f":"'PAT Assessment'!$M$89","v":10},{"$f":"'PAT Assessment'!$M$90","v":10},{"$f":"'PAT Assessment'!$M$93","v":10},{"$f":"'PAT Assessment'!$M$94","v":10},{"$f":"'PAT Assessment'!$M$97","v":5},{"$f":"'PAT Assessment'!$M$98","v":5},{"$f":"SUM(CC13:CD13)","v":10},{"$f":"'PAT Assessment'!$M$101","v":2},{"$f":"'PAT Assessment'!$M$102","v":2},{"$f":"'PAT Assessment'!$M$103","v":2},{"$f":"'PAT Assessment'!$M$104","v":2},{"$f":"'PAT Assessment'!$M$105","v":2},{"$f":"SUM(CF13:CJ13)","v":10},{"$f":"ROUND((SUM(M13+S13+AA13+AI13+AP13+CE13+CK13)/2.82),0)","v":25},{"$f":"ROUND((SUM(AT13+BB13+BI13+BP13+BV13)),0)","v":50},null,25,{"$f":"SUM(CL13+CM13+CO13)","v":100},null,{"$f":"ROUND(SUM(BB13+BI13+BP13)/(4),0)","v":8}]
[null,"DATE:"]
[]
[{"$f":"SUM(COUNTA(F16)+COUNT(B16))","v":2},1,null,{"$f":"INSERT!A3","v":0},{"$f":"INSERT!B3","v":0},{"$f":"INSERT!C3","v":0},{"$f":"INSERT!D3","v":0},null,null,null,null,null,{"$f":"SUM(H16:L16)","v":0},null,null,null,null,null,{"$f":"SUM(N16:R16)","v":0},null,null,null,null,null,null,null,{"$f":"ROUND((SUM(T16:Z16)/1.5),0)","v":0},null,null,null,null,null,null,null,{"$f":"ROUND((SUM(AB16:AH16)/1.5),0)","v":0},null,null,null,null,null,null,{"$f":"SUM(AJ16:AO16)","v":0},null,null,null,{"$f":"SUM(AQ16:AS16)","v":0},null,null,null,null,null,null,null,{"$f":"ROUND((SUM(AU16:BA16)),0)","v":0},null,null,null,null,null,null,{"$f":"ROUND((SUM(BC16:BH16)),0)","v":0},null,null,null,null,null,null,{"$f":"ROUND((SUM(BJ16:BO16)),0)","v":0},null,null,null,null,null,{"$f":"SUM(BQ16:BU16)","v":0},null,null,null,null,null,null,null,null,{"$f":"SUM(CC16:CD16)","v":0},null,null,null,null,null,{"$f":"SUM(CF16:CJ16)","v":0},{"$f":"ROUND((SUM(M16+S16+AA16+AI16+AP16+CE16+CK16)/2.82),0)","v":0},{"$f":"ROUND((SUM(AT16+BB16+BI16+BP16+BV16)),0)","v":0},{"$f":"COUNTIF(BW16:BX16,\">0\")+COUNTIF(BY16:BZ16,\">0\")+COUNTIF(CA16:CB16,\">0\")","v":0},{"$f":"ROUND(IF(CN16=4,SUMIF(BW16:CB16,\">0\")/1.6,IF(CN16=6,SUMIF(BW16:CB16,\">0\")/2.4,SUMIF(BW16:CB16,\">0\"))),0)","v":0},{"$f":"SUM(CL16+CM16+CO16)","v":0},null,{"$f":"ROUND(SUM(BB16+BI16+BP16)/(4),0)","v":0},null,null,null,-2,-2,-2,-2,-2,-2,{"$f":"IF(F16=0,\"\",G16&\" \"&F16)","v":""}]
[{"$f":"SUM(COUNTA(F17)+COUNT(B17))","v":2},{"$f":"B16+1","v":2},null,{"$f":"INSERT!A4","v":0},{"$f":"INSERT!B4","v":0},{"$f":"INSERT!C4","v":0},{"$f":"INSERT!D4","v":0},null,null,null,null,null,0,null,null,null,null,null,0,null,null,null,null,null,null,null,0,null,null,null,null,null,null,null,0,null,null,null,null,null,null,{"$f":"SUM(AJ17:AN17)","v":0},null,null,null,{"$f":"SUM(AQ17:AR17)","v":0},null,null,null,null,null,null,null,0,null,null,null,null,null,null,0,null,null,null,null,null,null,0,null,null,null,null,null,{"$f":"SUM(BQ17:BU17)","v":0},null,null,null,null,null,null,null,null,{"$f":"SUM(CC17:CD17)","v":0},null,null,null,null,null,0,0,0,0,0,0,null,{"$f":"ROUND(SUM(BB17+BI17+BP17)/(4),0)","v":0},null,null,null,-1,-1,-1,-1,-1,-1,""]
[2,{"$f":"B17+1","v":3},null,{"$f":"INSERT!A5","v":0},{"$f":"INSERT!B5","v":0},{"$f":"INSERT!C5","v":0},{"$f":"INSERT!D5","v":0},null,null,null,null,null,0,null,null,null,null,null,0,null,null,null,null,null,null,null,0,null,null,null,null,null,null,null,0,null,null,null,null,null,null,0,null,null,null,0,null,null,null,null,null,null,null,0,null,null,null,null,null,null,0,null,null,null,null,null,null,0,null,null,null,null,null,0,null,null,null,null,null,null,null,null,0,null,null,null,null,null,0,0,0,0,0,0,null,0,null,null,null,0,0,0,0,0,0,""]
[2,4,null,{"$f":"INSERT!A6","v":0},{"$f":"INSERT!B6","v":0},{"$f":"INSERT!C6","v":0},{"$f":"INSERT!D6","v":0},null,null,null,null,null,0,null,null,null,null,null,0,null,null,null,null,null,null,null,0,null,null,null,null,null,null,null,0,null,null,null,null,null,null,0,null,null,null,0,null,null,null,null,null,null,null,0,null,null,null,null,null,null,0,null,null,null,null,null,null,0,null,null,null,null,null,0,null,null,null,null,null,null,null,null,0,null,null,null,null,null,0,0,0,0,0,0,null,0,null,null,null,1,1,1,1,1,1,""]
[2,5,null,{"$f":"INSERT!A7","v":0},{"$f":"INSERT!B7","v":0},{"$f":"INSERT!C7","v":0},{"$f":"INSERT!D7","v":0},null,null,null,null,null,0,null,null,null,null,null,0,null,null,null,null,null,null,null,0,null,null,null,null,null,null,null,0,null,null,null,null,null,null,0,null,null,null,0,null,null,null,null,null,null,null,0,null,null,null,null,null,null,0,null,null,null,null,null,null,0,null,null,null,null,null,0,null,null,null,null,null,null,null,null,0,null,null,null,null,null,0,0,0,0,0,0,null,0,null,null,null,null,2,2,2,2,2,""]
[2,6,null,{"$f":"INSERT!A8","v":0},{"$f":"INSERT!B8","v":0},{"$f":"INSERT!C8","v":0},{"$f":"INSERT!D8","v":0},null,null,null,null,null,0,null,null,null,null,null,0,null,null,null,null,null,null,null,0,null,null,null,null,null,null,null,0,null,null,null,null,null,null,0,null,null,null,0,null,null,null,null,null,null,null,0,null,null,null,null,null,null,0,null,null,null,null,null,null,0,null,null,null,null,null,0,null,null,null,null,null,null,null,null,0,null,null,null,null,null,0,0,0,0,0,0,null,0,null,null,null,null,null,3,3,3,3,""]
[null,7,null,{"$f":"INSERT!A9","v":0},{"$f":"INSERT!B9","v":0},{"$f":"INSERT!C9","v":0},{"$f":"INSERT!D9","v":0},null,null,null,null,null,0,null,null,null,null,null,0,null,null,null,null,null,null,null,0,null,null,null,null,null,null,null,0,null,null,null,null,null,null,0,null,null,null,0,null,null,null,null,null,null,null,0,null,null,null,null,null,null,0,null,null,null,null,null,null,0,null,null,null,null,null,0,null,null,null,null,null,null,null,null,0,null,null,null,null,null,0,0,0,0,0,0,null,0]
[2,8,null,{"$f":"INSERT!A10","v":0},{"$f":"INSERT!B10","v":0},{"$f":"INSERT!C10","v":0},{"$f":"INSERT!D10","v":0},null,null,null,null,null,0,null,null,null,null,null,0,null,null,null,null,null,null,null,0,null,null,null,null,null,null,null,0,null,null,null,null,null,null,0,null,null,null,0,null,null,null,null,null,null,null,0,null,null,null,null,null,null,0,null,null,null,null,null,null,0,null,null,null,null,null,0,null,null,null,null,null,null,null,null,0,null,null,null,null,null,0,0,0,0,0,0,null,0,null,null,null,null,null,4,4,4,4,{"$f":"IF(F23=0,\"\",G23&\" \"&F23)","v":""}]
[null,9,null,{"$f":"INSERT!A11","v":0},{"$f":"INSERT!B11","v":0},{"$f":"INSERT!C11","v":0},{"$f":"INSERT!D11","v":0},null,null,null,null,null,0,null,null,null,null,null,0,null,null,null,null,null,null,null,0,null,null,null,null,null,null,null,0,null,null,null,null,null,null,0,null,null,null,0,null,null,null,null,null,null,null,0,null,null,null,null,null,null,0,null,null,null,null,null,null,0,null,null,null,null,null,0,null,null,null,null,null,null,null,null,0,null,null,null,null,null,0,0,0,0,0,0,null,0]
[2,10,null,{"$f":"INSERT!A12","v":0},{"$f":"INSERT!B12","v":0},{"$f":"INSERT!C12","v":0},{"$f":"INSERT!D12","v":0},null,null,null,null,null,0,null,null,null,null,null,0,null,null,null,null,null,null,null,0,null,null,null,null,null,null,null,0,null,null,null,null,null,null,0,null,null,null,0,null,null,null,null,null,null,null,0,null,null,null,null,null,null,0,null,null,null,null,null,null,0,null,null,null,null,null,0,null,null,null,null,null,null,null,null,0,null,null,null,null,null,0,0,0,0,0,0,null,0,null,null,null,null,null,null,5,5,5,{"$f":"IF(F25=0,\"\",G25&\" \"&F25)","v":""}]
[null,11,null,{"$f":"INSERT!A13","v":0},{"$f":"INSERT!B13","v":0},{"$f":"INSERT!C13","v":0},{"$f":"INSERT!D13","v":0},null,null,null,null,null,0,null,null,null,null,null,0,null,null,null,null,null,null,null,0,null,null,null,null,null,null,null,0,null,null,null,null,null,null,0,null,null,null,0,null,null,null,null,null,null,null,0,null,null,null,null,null,null,0,null,null,null,null,null,null,0,null,null,null,null,null,0,null,null,null,null,null,null,null,null,0,null,null,null,null,null,0,0,0,0,0,0,null,0]
[2,12,null,{"$f":"INSERT!A14","v":0},{"$f":"INSERT!B14","v":0},{"$f":"INSERT!C14","v":0},{"$f":"INSERT!D14","v":0},null,null,null,null,null,0,null,null,null,null,null,0,null,null,null,null,null,null,null,0,null,null,null,null,null,null,null,0,null,null,null,null,null,null,0,null,null,null,0,null,null,null,null,null,null,null,0,null,null,null,null,null,null,0,null,null,null,null,null,null,0,null,null,null,null,null,0,null,null,null,null,null,null,null,null,0,null,null,null,null,null,0,0,0,0,0,0,null,0,null,null,null,null,null,null,null,6,6,{"$f":"IF(F27=0,\"\",G27&\" \"&F27)","v":""}]
[null,13,null,{"$f":"INSERT!A15","v":0},{"$f":"INSERT!B15","v":0},{"$f":"INSERT!C15","v":0},{"$f":"INSERT!D15","v":0},null,null,null,null,null,0,null,null,null,null,null,0,null,null,null,null,null,null,null,0,null,null,null,null,null,null,null,0,null,null,null,null,null,null,0,null,null,null,0,null,null,null,null,null,null,null,0,null,null,null,null,null,null,0,null,null,null,null,null,null,0,null,null,null,null,null,0,null,null,null,null,null,null,null,null,0,null,null,null,null,null,0,0,0,0,0,0,null,0]
[2,14,null,{"$f":"INSERT!A16","v":0},{"$f":"INSERT!B16","v":0},{"$f":"INSERT!C16","v":0},{"$f":"INSERT!D16","v":0},null,null,null,null,null,0,null,null,null,null,null,0,null,null,null,null,null,null,null,0,null,null,null,null,null,null,null,0,null,null,null,null,null,null,0,null,null,null,0,null,null,null,null,null,null,null,0,null,null,null,null,null,null,0,null,null,null,null,null,null,0,null,null,null,null,null,0,null,null,null,null,null,null,null,null,0,null,null,null,null,null,0,0,0,0,0,0,null,0,null,null,null,null,null,null,null,7,7,{"$f":"IF(F29=0,\"\",G29&\" \"&F29)","v":""}]
[null,15,null,{"$f":"INSERT!A17","v":0},{"$f":"INSERT!B17","v":0},{"$f":"INSERT!C17","v":0},{"$f":"INSERT!D17","v":0},null,null,null,null,null,0,null,null,null,null,null,0,null,null,null,null,null,null,null,0,null,null,null,null,null,null,null,0,null,null,null,null,null,null,0,null,null,null,0,null,null,null,null,null,null,null,0,null,null,null,null,null,null,0,null,null,null,null,null,null,0,null,null,null,null,null,0,null,null,null,null,null,null,null,null,0,null,null,null,null,null,0,0,0,0,0,0,null,0]
[2,16,null,{"$f":"INSERT!A18","v":0},{"$f":"INSERT!B18","v":0},{"$f":"INSERT!C18","v":0},{"$f":"INSERT!D18","v":0},null,null,null,null,null,0,null,null,null,null,null,0,null,null,null,null,null,null,null,0,null,null,null,null,null,null,null,0,null,null,null,null,null,null,0,null,null,null,0,null,null,null,null,null,null,null,0,null,null,null,null,null,null,0,null,null,null,null,null,null,0,null,null,null,null,null,0,null,null,null,null,null,null,null,null,0,null,null,null,null,null,0,0,0,0,0,0,null,0,null,null,null,null,null,null,null,null,8,{"$f":"IF(F31=0,\"\",G31&\" \"&F31)","v":""}]
[null,17,null,{"$f":"INSERT!A19","v":0},{"$f":"INSERT!B19","v":0},{"$f":"INSERT!C19","v":0},{"$f":"INSERT!D19","v":0},null,null,null,null,null,0,null,null,null,null,null,0,null,null,null,null,null,null,null,0,null,null,null,null,null,null,null,0,null,null,null,null,null,null,0,null,null,null,0,null,null,null,null,null,null,null,0,null,null,null,null,null,null,0,null,null,null,null,null,null,0,null,null,null,null,null,0,null,null,null,null,null,null,null,null,0,null,null,null,null,null,0,0,0,0,0,0,null,0]
[null,18,null,{"$f":"INSERT!A20","v":0},{"$f":"INSERT!B20","v":0},{"$f":"INSERT!C20","v":0},{"$f":"INSERT!D20","v":0},null,null,null,null,null,0,null,null,null,null,null,0,null,null,null,null,null,null,null,0,null,null,null,null,null,null,null,0,null,null,null,null,null,null,0,null,null,null,0,null,null,null,null,null,null,null,0,null,null,null,null,null,null,0,null,null,null,null,null,null,0,null,null,null,null,null,0,null,null,null,null,null,null,null,null,0,null,null,null,null,null,0,0,0,0,0,0,null,0]
[null,19,null,{"$f":"INSERT!A21","v":0},{"$f":"INSERT!B21","v":0},{"$f":"INSERT!C21","v":0},{"$f":"INSERT!D21","v":0},null,null,null,null,null,0,null,null,null,null,null,0,null,null,null,null,null,null,null,0,null,null,null,null,null,null,null,0,null,null,null,null,null,null,0,null,null,null,0,null,null,null,null,null,null,null,0,null,null,null,null,null,null,0,null,null,null,null,null,null,0,null,null,null,null,null,0,null,null,null,null,null,null,null,null,0,null,null,null,null,null,0,0,0,0,0,0,null,0]
[null,20,null,{"$f":"INSERT!A22","v":0},{"$f":"INSERT!B22","v":0},{"$f":"INSERT!C22","v":0},{"$f":"INSERT!D22","v":0},null,null,null,null,null,0,null,null,null,null,null,0,null,null,null,null,null,null,null,0,null,null,null,null,null,null,null,0,null,null,null,null,null,null,0,null,null,null,0,null,null,null,null,null,null,null,0,null,null,null,null,null,null,0,null,null,null,null,null,null,0,null,null,null,null,null,0,null,null,null,null,null,null,null,null,0,null,null,null,null,null,0,0,0,0,0,{"$f":"SUM(CL35+CM35+CO35)","v":0},null,0]
[null,21,null,{"$f":"INSERT!A23","v":0},{"$f":"INSERT!B23","v":0},{"$f":"INSERT!C23","v":0},{"$f":"INSERT!D23","v":0},null,null,null,null,null,0,null,null,null,null,null,0,null,null,null,null,null,null,null,0,null,null,null,null,null,null,null,0,null,null,null,null,null,null,0,null,null,null,0,null,null,null,null,null,null,null,0,null,null,null,null,null,null,0,null,null,null,null,null,null,0,null,null,null,null,null,0,null,null,null,null,null,null,null,null,0,null,null,null,null,null,0,0,0,0,0,0,null,0]
[null,22,null,{"$f":"INSERT!A24","v":0},{"$f":"INSERT!B24","v":0},{"$f":"INSERT!C24","v":0},{"$f":"INSERT!D24","v":0},null,null,null,null,null,0,null,null,null,null,null,0,null,null,null,null,null,null,null,0,null,null,null,null,null,null,null,0,null,null,null,null,null,null,0,null,null,null,0,null,null,null,null,null,null,null,0,null,null,null,null,null,null,0,null,null,null,null,null,null,0,null,null,null,null,null,0,null,null,null,null,null,null,null,null,0,null,null,null,null,null,0,0,0,0,0,0,null,0]
[null,23,null,{"$f":"INSERT!A25","v":0},{"$f":"INSERT!B25","v":0},{"$f":"INSERT!C25","v":0},{"$f":"INSERT!D25","v":0},null,null,null,null,null,0,null,null,null,null,null,0,null,null,null,null,null,null,null,0,null,null,null,null,null,null,null,0,null,null,null,null,null,null,0,null,null,null,0,null,null,null,null,null,null,null,0,null,null,null,null,null,null,0,null,null,null,null,null,null,0,null,null,null,null,null,0,null,null,null,null,null,null,null,null,0,null,null,null,null,null,0,0,0,0,0,0,null,0]
[null,24,null,{"$f":"INSERT!A26","v":0},{"$f":"INSERT!B26","v":0},{"$f":"INSERT!C26","v":0},{"$f":"INSERT!D26","v":0},null,null,null,null,null,0,null,null,null,null,null,0,null,null,null,null,null,null,null,0,null,null,null,null,null,null,null,0,null,null,null,null,null,null,0,null,null,null,0,null,null,null,null,null,null,null,0,null,null,null,null,null,null,0,null,null,null,null,null,null,0,null,null,null,null,null,0,null,null,null,null,null,null,null,null,0,null,null,null,null,null,0,0,0,0,0,0,null,0]
[null,25,null,{"$f":"INSERT!A27","v":0},{"$f":"INSERT!B27","v":0},{"$f":"INSERT!C27","v":0},{"$f":"INSERT!D27","v":0},null,null,null,null,null,0,null,null,null,null,null,0,null,null,null,null,null,null,null,0,null,null,null,null,null,null,null,0,null,null,null,null,null,null,0,null,null,null,0,null,null,null,null,null,null,null,0,null,null,null,null,null,null,0,null,null,null,null,null,null,0,null,null,null,null,null,0,null,null,null,null,null,null,null,null,0,null,null,null,null,null,0,0,0,0,0,0,null,0]
[null,26,null,{"$f":"INSERT!A28","v":0},{"$f":"INSERT!B28","v":0},{"$f":"INSERT!C28","v":0},{"$f":"INSERT!D28","v":0},null,null,null,null,null,0,null,null,null,null,null,0,null,null,null,null,null,null,null,0,null,null,null,null,null,null,null,0,null,null,null,null,null,null,0,null,null,null,0,null,null,null,null,null,null,null,0,null,null,null,null,null,null,0,null,null,null,null,null,null,0,null,null,null,null,null,0,null,null,null,null,null,null,null,null,0,null,null,null,null,null,0,0,0,0,0,0,null,0]
[2,27,null,{"$f":"INSERT!A29","v":0},{"$f":"INSERT!B29","v":0},{"$f":"INSERT!C29","v":0},{"$f":"INSERT!D29","v":0},null,null,null,null,null,0,null,null,null,null,null,0,null,null,null,null,null,null,null,0,null,null,null,null,null,null,null,0,null,null,null,null,null,null,0,null,null,null,0,null,null,null,null,null,null,null,0,null,null,null,null,null,null,0,null,null,null,null,null,null,0,null,null,null,null,null,0,null,null,null,null,null,null,null,null,0,null,null,null,null,null,0,0,0,0,0,0,null,0,null,null,null,null,null,null,null,null,9,{"$f":"IF(F42=0,\"\",G42&\" \"&F42)","v":""}]
[2,28,null,{"$f":"INSERT!A30","v":0},{"$f":"INSERT!B30","v":0},{"$f":"INSERT!C30","v":0},{"$f":"INSERT!D30","v":0},null,null,null,null,null,0,null,null,null,null,null,0,null,null,null,null,null,null,null,0,null,null,null,null,null,null,null,0,null,null,null,null,null,null,0,null,null,null,0,null,null,null,null,null,null,null,0,null,null,null,null,null,null,0,null,null,null,null,null,null,0,null,null,null,null,null,0,null,null,null,null,null,null,null,null,0,null,null,null,null,null,0,0,0,0,0,0,null,0,null,null,null,null,null,null,null,null,10,""]
[2,29,null,{"$f":"INSERT!A31","v":0},{"$f":"INSERT!B31","v":0},{"$f":"INSERT!C31","v":0},{"$f":"INSERT!D31","v":0},null,null,null,null,null,0,null,null,null,null,null,0,null,null,null,null,null,null,null,0,null,null,null,null,null,null,null,0,null,null,null,null,null,null,0,null,null,null,0,null,null,null,null,null,null,null,0,null,null,null,null,null,null,0,null,null,null,null,null,null,0,null,null,null,null,null,0,null,null,null,null,null,null,null,null,0,null,null,null,null,null,0,0,0,0,0,0,null,0,null,null,null,null,null,null,null,null,null,""]
[2,30,null,{"$f":"INSERT!A32","v":0},{"$f":"INSERT!B32","v":0},{"$f":"INSERT!C32","v":0},{"$f":"INSERT!D32","v":0},null,null,null,null,null,0,null,null,null,null,null,0,null,null,null,null,null,null,null,0,null,null,null,null,null,null,null,0,null,null,null,null,null,null,0,null,null,null,0,null,null,null,null,null,null,null,0,null,null,null,null,null,null,0,null,null,null,null,null,null,0,null,null,null,null,null,0,null,null,null,null,null,null,null,null,0,null,null,null,null,null,0,0,0,0,0,0,null,0,null,null,null,null,null,null,null,null,null,""]
[2,31,null,{"$f":"INSERT!A33","v":0},{"$f":"INSERT!B33","v":0},{"$f":"INSERT!C33","v":0},{"$f":"INSERT!D33","v":0},null,null,null,null,null,0,null,null,null,null,null,0,null,null,null,null,null,null,null,0,null,null,null,null,null,null,null,0,null,null,null,null,null,null,0,null,null,null,0,null,null,null,null,null,null,null,0,null,null,null,null,null,null,0,null,null,null,null,null,null,0,null,null,null,null,null,0,null,null,null,null,null,null,null,null,0,null,null,null,null,null,0,0,0,0,0,0,null,0,null,null,null,null,null,null,null,null,null,""]
[2,32,null,{"$f":"INSERT!A34","v":0},{"$f":"INSERT!B34","v":0},{"$f":"INSERT!C34","v":0},{"$f":"INSERT!D34","v":0},null,null,null,null,null,0,null,null,null,null,null,0,null,null,null,null,null,null,null,0,null,null,null,null,null,null,null,0,null,null,null,null,null,null,0,null,null,null,0,null,null,null,null,null,null,null,0,null,null,null,null,null,null,0,null,null,null,null,null,null,0,null,null,null,null,null,0,null,null,null,null,null,null,null,null,0,null,null,null,null,null,0,0,0,0,0,0,null,0,null,null,null,null,null,null,null,null,null,""]
[2,33,null,{"$f":"INSERT!A35","v":0},{"$f":"INSERT!B35","v":0},{"$f":"INSERT!C35","v":0},{"$f":"INSERT!D35","v":0},null,null,null,null,null,0,null,null,null,null,null,{"$f":"SUM(N48:R48)","v":0},null,null,null,null,null,null,null,{"$f":"ROUND((SUM(T48:Z48)/1.5),0)","v":0},null,null,null,null,null,null,null,{"$f":"ROUND((SUM(AB48:AH48)/1.5),0)","v":0},null,null,null,null,null,null,0,null,null,null,0,null,null,null,null,null,null,null,0,null,null,null,null,null,null,0,null,null,null,null,null,null,0,null,null,null,null,null,0,null,null,null,null,null,null,null,null,0,null,null,null,null,null,{"$f":"SUM(CF48:CJ48)","v":0},{"$f":"ROUND((SUM(M48+S48+AA48+AI48+AP48+CE48+CK48)/2.82),0)","v":0},0,{"$f":"COUNTIF(BW48:BX48,\">0\")+COUNTIF(BY48:BZ48,\">0\")+COUNTIF(CA48:CB48,\">0\")","v":0},{"$f":"ROUND(IF(CN48=4,SUMIF(BW48:CB48,\">0\")/1.6,IF(CN48=6,SUMIF(BW48:CB48,\">0\")/2.4,SUMIF(BW48:CB48,\">0\"))),0)","v":0},0,null,0,null,null,null,null,null,null,null,null,null,""]
[2,34,null,{"$f":"INSERT!A36","v":0},{"$f":"INSERT!B36","v":0},{"$f":"INSERT!C36","v":0},{"$f":"INSERT!D36","v":0},null,null,null,null,null,0,null,null,null,null,null,0,null,null,null,null,null,null,null,0,null,null,null,null,null,null,null,0,null,null,null,null,null,null,0,null,null,null,0,null,null,null,null,null,null,null,0,null,null,null,null,null,null,0,null,null,null,null,null,null,0,null,null,null,null,null,0,null,null,null,null,null,null,null,null,0,null,null,null,null,null,0,0,0,0,0,0,null,0,null,null,null,null,null,null,null,null,null,""]
[null,35,null,{"$f":"INSERT!A37","v":0},{"$f":"INSERT!B37","v":0},{"$f":"INSERT!C37","v":0},{"$f":"INSERT!D37","v":0},null,null,null,null,null,{"$f":"SUM(H50:L50)","v":0},null,null,null,null,null,0,null,null,null,null,null,null,null,0,null,null,null,null,null,null,null,0,null,null,null,null,null,null,{"$f":"SUM(AJ50:AN50)","v":0},null,null,null,{"$f":"SUM(AQ50:AR50)","v":0},null,null,null,null,null,null,null,0,null,null,null,null,null,null,0,null,null,null,null,null,null,0,null,null,null,null,null,{"$f":"SUM(BQ50:BU50)","v":0},null,null,null,null,null,null,null,null,{"$f":"SUM(CC50:CD50)","v":0},null,null,null,null,null,0,0,0,0,0,{"$f":"SUM(CL50+CM50+CO50)","v":0},null,0]
[null,36,null,{"$f":"INSERT!A38","v":0},{"$f":"INSERT!B38","v":0},{"$f":"INSERT!C38","v":0},{"$f":"INSERT!D38","v":0},null,null,null,null,null,0,null,null,null,null,null,0,null,null,null,null,null,null,null,0,null,null,null,null,null,null,null,0,null,null,null,null,null,null,0,null,null,null,0,null,null,null,null,null,null,null,0,null,null,null,null,null,null,0,null,null,null,null,null,null,0,null,null,null,null,null,0,null,null,null,null,null,null,null,null,0,null,null,null,null,null,0,0,0,0,0,0,null,0]
[null,37,null,{"$f":"INSERT!A39","v":0},{"$f":"INSERT!B39","v":0},{"$f":"INSERT!C39","v":0},{"$f":"INSERT!D39","v":0},null,null,null,null,null,0,null,null,null,null,null,0,null,null,null,null,null,null,null,0,null,null,null,null,null,null,null,0,null,null,null,null,null,null,0,null,null,null,0,null,null,null,null,null,null,null,0,null,null,null,null,null,null,0,null,null,null,null,null,null,0,null,null,null,null,null,0,null,null,null,null,null,null,null,null,0,null,null,null,null,null,0,0,0,0,0,0,null,0]
[null,38,null,{"$f":"INSERT!A40","v":0},{"$f":"INSERT!B40","v":0},{"$f":"INSERT!C40","v":0},{"$f":"INSERT!D40","v":0},null,null,null,null,null,0,null,null,null,null,null,0,null,null,null,null,null,null,null,0,null,null,null,null,null,null,null,0,null,null,null,null,null,null,0,null,null,null,0,null,null,null,null,null,null,null,0,null,null,null,null,null,null,0,null,null,null,null,null,null,0,null,null,null,null,null,0,null,null,null,null,null,null,null,null,0,null,null,null,null,null,0,0,0,0,0,0,null,0]
[null,39,null,{"$f":"INSERT!A41","v":0},{"$f":"INSERT!B41","v":0},{"$f":"INSERT!C41","v":0},{"$f":"INSERT!D41","v":0},null,null,null,null,null,0,null,null,null,null,null,0,null,null,null,null,null,null,null,0,null,null,null,null,null,null,null,0,null,null,null,null,null,null,0,null,null,null,0,null,null,null,null,null,null,null,0,null,null,null,null,null,null,0,null,null,null,null,null,null,0,null,null,null,null,null,0,null,null,null,null,null,null,null,null,0,null,null,null,null,null,0,0,0,0,0,0,null,0]
[null,40,null,{"$f":"INSERT!A42","v":0},{"$f":"INSERT!B42","v":0},{"$f":"INSERT!C42","v":0},{"$f":"INSERT!D42","v":0},null,null,null,null,null,0,null,null,null,null,null,0,null,null,null,null,null,null,null,0,null,null,null,null,null,null,null,0,null,null,null,null,null,null,0,null,null,null,0,null,null,null,null,null,null,null,0,null,null,null,null,null,null,0,null,null,null,null,null,null,0,null,null,null,null,null,0,null,null,null,null,null,null,null,null,0,null,null,null,null,null,0,0,0,0,0,0,null,0]
[null,41,null,{"$f":"INSERT!A43","v":0},{"$f":"INSERT!B43","v":0},{"$f":"INSERT!C43","v":0},{"$f":"INSERT!D43","v":0},null,null,null,null,null,0,null,null,null,null,null,0,null,null,null,null,null,null,null,0,null,null,null,null,null,null,null,0,null,null,null,null,null,null,0,null,null,null,0,null,null,null,null,null,null,null,0,null,null,null,null,null,null,0,null,null,null,null,null,null,0,null,null,null,null,null,0,null,null,null,null,null,null,null,null,0,null,null,null,null,null,0,0,0,0,0,0,null,0]
[null,42,null,{"$f":"INSERT!A44","v":0},{"$f":"INSERT!B44","v":0},{"$f":"INSERT!C44","v":0},{"$f":"INSERT!D44","v":0},null,null,null,null,null,0,null,null,null,null,null,0,null,null,null,null,null,null,null,0,null,null,null,null,null,null,null,0,null,null,null,null,null,null,0,null,null,null,0,null,null,null,null,null,null,null,0,null,null,null,null,null,null,0,null,null,null,null,null,null,0,null,null,null,null,null,0,null,null,null,null,null,null,null,null,0,null,null,null,null,null,0,0,0,0,0,0,null,0]
[null,43,null,{"$f":"INSERT!A45","v":0},{"$f":"INSERT!B45","v":0},{"$f":"INSERT!C45","v":0},{"$f":"INSERT!D45","v":0},null,null,null,null,null,0,null,null,null,null,null,0,null,null,null,null,null,null,null,0,null,null,null,null,null,null,null,0,null,null,null,null,null,null,0,null,null,null,0,null,null,null,null,null,null,null,0,null,null,null,null,null,null,0,null,null,null,null,null,null,0,null,null,null,null,null,0,null,null,null,null,null,null,null,null,0,null,null,null,null,null,0,0,0,0,0,0,null,0]
[null,44,null,{"$f":"INSERT!A46","v":0},{"$f":"INSERT!B46","v":0},{"$f":"INSERT!C46","v":0},{"$f":"INSERT!D46","v":0},null,null,null,null,null,0,null,null,null,null,null,0,null,null,null,null,null,null,null,0,null,null,null,null,null,null,null,0,null,null,null,null,null,null,0,null,null,null,0,null,null,null,null,null,null,null,0,null,null,null,null,null,null,0,null,null,null,null,null,null,0,null,null,null,null,null,0,null,null,null,null,null,null,null,null,0,null,null,null,null,null,0,0,0,0,0,0,null,0]
[null,45,null,{"$f":"INSERT!A47","v":0},{"$f":"INSERT!B47","v":0},{"$f":"INSERT!C47","v":0},{"$f":"INSERT!D47","v":0},null,null,null,null,null,0,null,null,null,null,null,0,null,null,null,null,null,null,null,0,null,null,null,null,null,null,null,0,null,null,null,null,null,null,0,null,null,null,0,null,null,null,null,null,null,null,0,null,null,null,null,null,null,0,null,null,null,null,null,null,0,null,null,null,null,null,0,null,null,null,null,null,null,null,null,0,null,null,null,null,null,0,0,0,0,0,0,null,0]
[null,46,null,{"$f":"INSERT!A48","v":0},{"$f":"INSERT!B48","v":0},{"$f":"INSERT!C48","v":0},{"$f":"INSERT!D48","v":0},null,null,null,null,null,0,null,null,null,null,null,0,null,null,null,null,null,null,null,0,null,null,null,null,null,null,null,0,null,null,null,null,null,null,0,null,null,null,0,null,null,null,null,null,null,null,0,null,null,null,null,null,null,0,null,null,null,null,null,null,0,null,null,null,null,null,0,null,null,null,null,null,null,null,null,0,null,null,null,null,null,0,0,0,0,0,0,null,0]
[null,47,null,{"$f":"INSERT!A49","v":0},{"$f":"INSERT!B49","v":0},{"$f":"INSERT!C49","v":0},{"$f":"INSERT!D49","v":0},null,null,null,null,null,0,null,null,null,null,null,0,null,null,null,null,null,null,null,0,null,null,null,null,null,null,null,0,null,null,null,null,null,null,0,null,null,null,0,null,null,null,null,null,null,null,0,null,null,null,null,null,null,0,null,null,null,null,null,null,0,null,null,null,null,null,0,null,null,null,null,null,null,null,null,0,null,null,null,null,null,0,0,0,0,0,0,null,0]
[null,48,null,{"$f":"INSERT!A50","v":0},{"$f":"INSERT!B50","v":0},{"$f":"INSERT!C50","v":0},{"$f":"INSERT!D50","v":0},null,null,null,null,null,0,null,null,null,null,null,0,null,null,null,null,null,null,null,0,null,null,null,null,null,null,null,0,null,null,null,null,null,null,0,null,null,null,0,null,null,null,null,null,null,null,0,null,null,null,null,null,null,0,null,null,null,null,null,null,0,null,null,null,null,null,0,null,null,null,null,null,null,null,null,0,null,null,null,null,null,0,0,0,0,0,0,null,0]
[null,49,null,{"$f":"INSERT!A51","v":0},{"$f":"INSERT!B51","v":0},{"$f":"INSERT!C51","v":0},{"$f":"INSERT!D51","v":0},null,null,null,null,null,0,null,null,null,null,null,0,null,null,null,null,null,null,null,0,null,null,null,null,null,null,null,0,null,null,null,null,null,null,0,null,null,null,0,null,null,null,null,null,null,null,0,null,null,null,null,null,null,0,null,null,null,null,null,null,0,null,null,null,null,null,0,null,null,null,null,null,null,null,null,0,null,null,null,null,null,0,0,0,0,0,0,null,0]
[null,50,null,{"$f":"INSERT!A52","v":0},{"$f":"INSERT!B52","v":0},{"$f":"INSERT!C52","v":0},{"$f":"INSERT!D52","v":0},null,null,null,null,null,0,null,null,null,null,null,0,null,null,null,null,null,null,null,0,null,null,null,null,null,null,null,0,null,null,null,null,null,null,0,null,null,null,0,null,null,null,null,null,null,null,0,null,null,null,null,null,null,0,null,null,null,null,null,null,0,null,null,null,null,null,0,null,null,null,null,null,null,null,null,0,null,null,null,null,null,0,0,0,0,0,0,null,0]
[null,51,null,{"$f":"INSERT!A53","v":0},{"$f":"INSERT!B53","v":0},{"$f":"INSERT!C53","v":0},{"$f":"INSERT!D53","v":0},null,null,null,null,null,0,null,null,null,null,null,0,null,null,null,null,null,null,null,0,null,null,null,null,null,null,null,0,null,null,null,null,null,null,0,null,null,null,0,null,null,null,null,null,null,null,0,null,null,null,null,null,null,0,null,null,null,null,null,null,0,null,null,null,null,null,0,null,null,null,null,null,null,null,null,0,null,null,null,null,null,0,0,0,0,0,0,null,0]
[null,52,null,{"$f":"INSERT!A54","v":0},{"$f":"INSERT!B54","v":0},{"$f":"INSERT!C54","v":0},{"$f":"INSERT!D54","v":0},null,null,null,null,null,0,null,null,null,null,null,0,null,null,null,null,null,null,null,0,null,null,null,null,null,null,null,0,null,null,null,null,null,null,0,null,null,null,0,null,null,null,null,null,null,null,0,null,null,null,null,null,null,0,null,null,null,null,null,null,0,null,null,null,null,null,0,null,null,null,null,null,null,null,null,0,null,null,null,null,null,0,0,0,0,0,0,null,0]
[null,53,null,{"$f":"INSERT!A55","v":0},{"$f":"INSERT!B55","v":0},{"$f":"INSERT!C55","v":0},{"$f":"INSERT!D55","v":0},null,null,null,null,null,0,null,null,null,null,null,0,null,null,null,null,null,null,null,0,null,null,null,null,null,null,null,0,null,null,null,null,null,null,0,null,null,null,0,null,null,null,null,null,null,null,0,null,null,null,null,null,null,0,null,null,null,null,null,null,0,null,null,null,null,null,0,null,null,null,null,null,null,null,null,0,null,null,null,null,null,0,0,0,0,0,0,null,0]
[null,54,null,{"$f":"INSERT!A56","v":0},{"$f":"INSERT!B56","v":0},{"$f":"INSERT!C56","v":0},{"$f":"INSERT!D56","v":0},null,null,null,null,null,0,null,null,null,null,null,0,null,null,null,null,null,null,null,0,null,null,null,null,null,null,null,0,null,null,null,null,null,null,0,null,null,null,0,null,null,null,null,null,null,null,0,null,null,null,null,null,null,0,null,null,null,null,null,null,0,null,null,null,null,null,0,null,null,null,null,null,null,null,null,0,null,null,null,null,null,0,0,0,0,0,0,null,0]
[null,55,null,{"$f":"INSERT!A57","v":0},{"$f":"INSERT!B57","v":0},{"$f":"INSERT!C57","v":0},{"$f":"INSERT!D57","v":0},null,null,null,null,null,0,null,null,null,null,null,0,null,null,null,null,null,null,null,0,null,null,null,null,null,null,null,0,null,null,null,null,null,null,0,null,null,null,0,null,null,null,null,null,null,null,0,null,null,null,null,null,null,0,null,null,null,null,null,null,0,null,null,null,null,null,0,null,null,null,null,null,null,null,null,0,null,null,null,null,null,0,0,0,0,0,0,null,0]
[null,56,null,{"$f":"INSERT!A58","v":0},{"$f":"INSERT!B58","v":0},{"$f":"INSERT!C58","v":0},{"$f":"INSERT!D58","v":0},null,null,null,null,null,0,null,null,null,null,null,0,null,null,null,null,null,null,null,0,null,null,null,null,null,null,null,0,null,null,null,null,null,null,0,null,null,null,0,null,null,null,null,null,null,null,0,null,null,null,null,null,null,0,null,null,null,null,null,null,0,null,null,null,null,null,0,null,null,null,null,null,null,null,null,0,null,null,null,null,null,0,0,0,0,0,0,null,0]
[null,57,null,{"$f":"INSERT!A59","v":0},{"$f":"INSERT!B59","v":0},{"$f":"INSERT!C59","v":0},{"$f":"INSERT!D59","v":0},null,null,null,null,null,0,null,null,null,null,null,0,null,null,null,null,null,null,null,0,null,null,null,null,null,null,null,0,null,null,null,null,null,null,0,null,null,null,0,null,null,null,null,null,null,null,0,null,null,null,null,null,null,0,null,null,null,null,null,null,0,null,null,null,null,null,0,null,null,null,null,null,null,null,null,0,null,null,null,null,null,0,0,0,0,0,0,null,0]
[null,58,null,{"$f":"INSERT!A60","v":0},{"$f":"INSERT!B60","v":0},{"$f":"INSERT!C60","v":0},{"$f":"INSERT!D60","v":0},null,null,null,null,null,0,null,null,null,null,null,0,null,null,null,null,null,null,null,0,null,null,null,null,null,null,null,0,null,null,null,null,null,null,0,null,null,null,0,null,null,null,null,null,null,null,0,null,null,null,null,null,null,0,null,null,null,null,null,null,0,null,null,null,null,null,0,null,null,null,null,null,null,null,null,0,null,null,null,null,null,0,0,0,0,0,0,null,0]
[null,59,null,{"$f":"INSERT!A61","v":0},{"$f":"INSERT!B61","v":0},{"$f":"INSERT!C61","v":0},{"$f":"INSERT!D61","v":0},null,null,null,null,null,0,null,null,null,null,null,0,null,null,null,null,null,null,null,0,null,null,null,null,null,null,null,0,null,null,null,null,null,null,0,null,null,null,0,null,null,null,null,null,null,null,0,null,null,null,null,null,null,0,null,null,null,null,null,null,0,null,null,null,null,null,0,null,null,null,null,null,null,null,null,0,null,null,null,null,null,0,0,0,0,0,0,null,0]
[null,60,null,{"$f":"INSERT!A62","v":0},{"$f":"INSERT!B62","v":0},{"$f":"INSERT!C62","v":0},{"$f":"INSERT!D62","v":0},null,null,null,null,null,0,null,null,null,null,null,0,null,null,null,null,null,null,null,0,null,null,null,null,null,null,null,0,null,null,null,null,null,null,0,null,null,null,0,null,null,null,null,null,null,null,0,null,null,null,null,null,null,0,null,null,null,null,null,null,0,null,null,null,null,null,0,null,null,null,null,null,null,null,null,0,null,null,null,null,null,0,0,0,0,0,0,null,0]
[null,61,null,{"$f":"INSERT!A63","v":0},{"$f":"INSERT!B63","v":0},{"$f":"INSERT!C63","v":0},{"$f":"INSERT!D63","v":0},null,null,null,null,null,0,null,null,null,null,null,0,null,null,null,null,null,null,null,0,null,null,null,null,null,null,null,0,null,null,null,null,null,null,0,null,null,null,0,null,null,null,null,null,null,null,0,null,null,null,null,null,null,0,null,null,null,null,null,null,0,null,null,null,null,null,0,null,null,null,null,null,null,null,null,0,null,null,null,null,null,0,0,0,0,0,0,null,0]
[null,62,null,{"$f":"INSERT!A64","v":0},{"$f":"INSERT!B64","v":0},{"$f":"INSERT!C64","v":0},{"$f":"INSERT!D64","v":0},null,null,null,null,null,0,null,null,null,null,null,0,null,null,null,null,null,null,null,0,null,null,null,null,null,null,null,0,null,null,null,null,null,null,0,null,null,null,0,null,null,null,null,null,null,null,0,null,null,null,null,null,null,0,null,null,null,null,null,null,0,null,null,null,null,null,0,null,null,null,null,null,null,null,null,0,null,null,null,null,null,0,0,0,0,0,0,null,0]
[null,63,null,{"$f":"INSERT!A65","v":0},{"$f":"INSERT!B65","v":0},{"$f":"INSERT!C65","v":0},{"$f":"INSERT!D65","v":0},null,null,null,null,null,0,null,null,null,null,null,0,null,null,null,null,null,null,null,0,null,null,null,null,null,null,null,0,null,null,null,null,null,null,0,null,null,null,0,null,null,null,null,null,null,null,0,null,null,null,null,null,null,0,null,null,null,null,null,null,0,null,null,null,null,null,0,null,null,null,null,null,null,null,null,0,null,null,null,null,null,0,0,0,0,0,0,null,0]
[null,64,null,{"$f":"INSERT!A66","v":0},{"$f":"INSERT!B66","v":0},{"$f":"INSERT!C66","v":0},{"$f":"INSERT!D66","v":0},null,null,null,null,null,0,null,null,null,null,null,0,null,null,null,null,null,null,null,0,null,null,null,null,null,null,null,0,null,null,null,null,null,null,0,null,null,null,0,null,null,null,null,null,null,null,0,null,null,null,null,null,null,0,null,null,null,null,null,null,0,null,null,null,null,null,0,null,null,null,null,null,null,null,null,0,null,null,null,null,null,0,0,0,0,0,0,null,0]
[null,65,null,{"$f":"INSERT!A67","v":0},{"$f":"INSERT!B67","v":0},{"$f":"INSERT!C67","v":0},{"$f":"INSERT!D67","v":0},null,null,null,null,null,0,null,null,null,null,null,{"$f":"SUM(N80:R80)","v":0},null,null,null,null,null,null,null,{"$f":"ROUND((SUM(T80:Z80)/1.5),0)","v":0},null,null,null,null,null,null,null,{"$f":"ROUND((SUM(AB80:AH80)/1.5),0)","v":0},null,null,null,null,null,null,0,null,null,null,0,null,null,null,null,null,null,null,{"$f":"ROUND((SUM(AU80:BA80)),0)","v":0},null,null,null,null,null,null,{"$f":"ROUND((SUM(BC80:BH80)),0)","v":0},null,null,null,null,null,null,{"$f":"ROUND((SUM(BJ80:BO80)),0)","v":0},null,null,null,null,null,0,null,null,null,null,null,null,null,null,0,null,null,null,null,null,{"$f":"SUM(CF80:CJ80)","v":0},{"$f":"ROUND((SUM(M80+S80+AA80+AI80+AP80+CE80+CK80)/2.82),0)","v":0},{"$f":"ROUND((SUM(AT80+BB80+BI80+BP80+BV80)),0)","v":0},{"$f":"COUNTIF(BW80:BX80,\">0\")+COUNTIF(BY80:BZ80,\">0\")+COUNTIF(CA80:CB80,\">0\")","v":0},{"$f":"ROUND(IF(CN80=4,SUMIF(BW80:CB80,\">0\")/1.6,IF(CN80=6,SUMIF(BW80:CB80,\">0\")/2.4,SUMIF(BW80:CB80,\">0\"))),0)","v":0},0,null,0]
[null,66,null,{"$f":"INSERT!A68","v":0},{"$f":"INSERT!B68","v":0},{"$f":"INSERT!C68","v":0},{"$f":"INSERT!D68","v":0},null,null,null,null,null,0,null,null,null,null,null,0,null,null,null,null,null,null,null,0,null,null,null,null,null,null,null,0,null,null,null,null,null,null,0,null,null,null,0,null,null,null,null,null,null,null,0,null,null,null,null,null,null,0,null,null,null,null,null,null,0,null,null,null,null,null,0,null,null,null,null,null,null,null,null,0,null,null,null,null,null,0,0,0,0,0,0,null,{"$f":"ROUND(SUM(BB81+BI81+BP81)/(4),0)","v":0}]
[null,{"$f":"B81+1","v":67},null,{"$f":"INSERT!A69","v":0},{"$f":"INSERT!B69","v":0},{"$f":"INSERT!C69","v":0},{"$f":"INSERT!D69","v":0},null,null,null,null,null,0,null,null,null,null,null,0,null,null,null,null,null,null,null,0,null,null,null,null,null,null,null,0,null,null,null,null,null,null,0,null,null,null,0,null,null,null,null,null,null,null,0,null,null,null,null,null,null,0,null,null,null,null,null,null,0,null,null,null,null,null,0,null,null,null,null,null,null,null,null,0,null,null,null,null,null,0,0,0,0,0,0,null,0]
[2,68,null,{"$f":"INSERT!A70","v":0},{"$f":"INSERT!B70","v":0},{"$f":"INSERT!C70","v":0},{"$f":"INSERT!D70","v":0},null,null,null,null,null,0,null,null,null,null,null,0,null,null,null,null,null,null,null,0,null,null,null,null,null,null,null,0,null,null,null,null,null,null,0,null,null,null,0,null,null,null,null,null,null,null,0,null,null,null,null,null,null,0,null,null,null,null,null,null,0,null,null,null,null,null,0,null,null,null,null,null,null,null,null,0,null,null,null,null,null,0,0,0,0,0,0,null,0,null,null,null,null,null,null,null,null,null,{"$f":"IF(F83=0,\"\",G83&\" \"&F83)","v":""}]
[null,69,null,{"$f":"INSERT!A71","v":0},{"$f":"INSERT!B71","v":0},{"$f":"INSERT!C71","v":0},{"$f":"INSERT!D71","v":0},null,null,null,null,null,0,null,null,null,null,null,0,null,null,null,null,null,null,null,0,null,null,null,null,null,null,null,0,null,null,null,null,null,null,0,null,null,null,0,null,null,null,null,null,null,null,0,null,null,null,null,null,null,0,null,null,null,null,null,null,0,null,null,null,null,null,0,null,null,null,null,null,null,null,null,0,null,null,null,null,null,0,0,0,0,0,0,null,0]
[null,70,null,{"$f":"INSERT!A72","v":0},{"$f":"INSERT!B72","v":0},{"$f":"INSERT!C72","v":0},{"$f":"INSERT!D72","v":0},null,null,null,null,null,0,null,null,null,null,null,0,null,null,null,null,null,null,null,0,null,null,null,null,null,null,null,0,null,null,null,null,null,null,0,null,null,null,0,null,null,null,null,null,null,null,0,null,null,null,null,null,null,0,null,null,null,null,null,null,0,null,null,null,null,null,0,null,null,null,null,null,null,null,null,0,null,null,null,null,null,0,0,0,0,0,0,null,0]
[null,71,null,{"$f":"INSERT!A73","v":0},{"$f":"INSERT!B73","v":0},{"$f":"INSERT!C73","v":0},{"$f":"INSERT!D73","v":0},null,null,null,null,null,0,null,null,null,null,null,0,null,null,null,null,null,null,null,0,null,null,null,null,null,null,null,0,null,null,null,null,null,null,0,null,null,null,0,null,null,null,null,null,null,null,0,null,null,null,null,null,null,0,null,null,null,null,null,null,0,null,null,null,null,null,0,null,null,null,null,null,null,null,null,0,null,null,null,null,null,0,0,0,0,0,0,null,0]
[null,72,null,{"$f":"INSERT!A74","v":0},{"$f":"INSERT!B74","v":0},{"$f":"INSERT!C74","v":0},{"$f":"INSERT!D74","v":0},null,null,null,null,null,0,null,null,null,null,null,0,null,null,null,null,null,null,null,0,null,null,null,null,null,null,null,0,null,null,null,null,null,null,0,null,null,null,0,null,null,null,null,null,null,null,0,null,null,null,null,null,null,0,null,null,null,null,null,null,0,null,null,null,null,null,0,null,null,null,null,null,null,null,null,0,null,null,null,null,null,0,0,0,0,0,0,null,0]
[null,73,null,{"$f":"INSERT!A75","v":0},{"$f":"INSERT!B75","v":0},{"$f":"INSERT!C75","v":0},{"$f":"INSERT!D75","v":0},null,null,null,null,null,0,null,null,null,null,null,0,null,null,null,null,null,null,null,0,null,null,null,null,null,null,null,0,null,null,null,null,null,null,0,null,null,null,0,null,null,null,null,null,null,null,0,null,null,null,null,null,null,0,null,null,null,null,null,null,0,null,null,null,null,null,0,null,null,null,null,null,null,null,null,0,null,null,null,null,null,0,0,0,0,0,0,null,0]
[null,74,null,{"$f":"INSERT!A76","v":0},{"$f":"INSERT!B76","v":0},{"$f":"INSERT!C76","v":0},{"$f":"INSERT!D76","v":0},null,null,null,null,null,0,null,null,null,null,null,0,null,null,null,null,null,null,null,0,null,null,null,null,null,null,null,0,null,null,null,null,null,null,0,null,null,null,0,null,null,null,null,null,null,null,0,null,null,null,null,null,null,0,null,null,null,null,null,null,0,null,null,null,null,null,0,null,null,null,null,null,null,null,null,0,null,null,null,null,null,0,0,0,0,0,0,null,0]
[null,75,null,{"$f":"INSERT!A77","v":0},{"$f":"INSERT!B77","v":0},{"$f":"INSERT!C77","v":0},{"$f":"INSERT!D77","v":0},null,null,null,null,null,0,null,null,null,null,null,0,null,null,null,null,null,null,null,0,null,null,null,null,null,null,null,0,null,null,null,null,null,null,0,null,null,null,0,null,null,null,null,null,null,null,0,null,null,null,null,null,null,0,null,null,null,null,null,null,0,null,null,null,null,null,0,null,null,null,null,null,null,null,null,0,null,null,null,null,null,0,0,0,0,0,0,null,0]
[null,76,null,{"$f":"INSERT!A78","v":0},{"$f":"INSERT!B78","v":0},{"$f":"INSERT!C78","v":0},{"$f":"INSERT!D78","v":0},null,null,null,null,null,0,null,null,null,null,null,0,null,null,null,null,null,null,null,0,null,null,null,null,null,null,null,0,null,null,null,null,null,null,0,null,null,null,0,null,null,null,null,null,null,null,0,null,null,null,null,null,null,0,null,null,null,null,null,null,0,null,null,null,null,null,0,null,null,null,null,null,null,null,null,0,null,null,null,null,null,0,0,0,0,0,0,null,0]
[null,77,null,{"$f":"INSERT!A79","v":0},{"$f":"INSERT!B79","v":0},{"$f":"INSERT!C79","v":0},{"$f":"INSERT!D79","v":0},null,null,null,null,null,0,null,null,null,null,null,0,null,null,null,null,null,null,null,0,null,null,null,null,null,null,null,0,null,null,null,null,null,null,0,null,null,null,0,null,null,null,null,null,null,null,0,null,null,null,null,null,null,0,null,null,null,null,null,null,0,null,null,null,null,null,0,null,null,null,null,null,null,null,null,0,null,null,null,null,null,0,0,0,0,0,0,null,0]
[null,78,null,{"$f":"INSERT!A80","v":0},{"$f":"INSERT!B80","v":0},{"$f":"INSERT!C80","v":0},{"$f":"INSERT!D80","v":0},null,null,null,null,null,0,null,null,null,null,null,0,null,null,null,null,null,null,null,0,null,null,null,null,null,null,null,0,null,null,null,null,null,null,0,null,null,null,0,null,null,null,null,null,null,null,0,null,null,null,null,null,null,0,null,null,null,null,null,null,0,null,null,null,null,null,0,null,null,null,null,null,null,null,null,0,null,null,null,null,null,0,0,0,0,0,0,null,0]
[null,79,null,{"$f":"INSERT!A81","v":0},{"$f":"INSERT!B81","v":0},{"$f":"INSERT!C81","v":0},{"$f":"INSERT!D81","v":0},null,null,null,null,null,0,null,null,null,null,null,0,null,null,null,null,null,null,null,0,null,null,null,null,null,null,null,0,null,null,null,null,null,null,0,null,null,null,0,null,null,null,null,null,null,null,0,null,null,null,null,null,null,0,null,null,null,null,null,null,0,null,null,null,null,null,0,null,null,null,null,null,null,null,null,0,null,null,null,null,null,0,0,0,0,0,0,null,0]
[null,80,null,{"$f":"INSERT!A82","v":0},{"$f":"INSERT!B82","v":0},{"$f":"INSERT!C82","v":0},{"$f":"INSERT!D82","v":0},null,null,null,null,null,0,null,null,null,null,null,0,null,null,null,null,null,null,null,0,null,null,null,null,null,null,null,0,null,null,null,null,null,null,0,null,null,null,0,null,null,null,null,null,null,null,0,null,null,null,null,null,null,0,null,null,null,null,null,null,0,null,null,null,null,null,0,null,null,null,null,null,null,null,null,0,null,null,null,null,null,0,0,0,0,0,0,null,0]
[null,81,null,{"$f":"INSERT!A83","v":0},{"$f":"INSERT!B83","v":0},{"$f":"INSERT!C83","v":0},{"$f":"INSERT!D83","v":0},null,null,null,null,null,0,null,null,null,null,null,0,null,null,null,null,null,null,null,0,null,null,null,null,null,null,null,0,null,null,null,null,null,null,0,null,null,null,0,null,null,null,null,null,null,null,0,null,null,null,null,null,null,0,null,null,null,null,null,null,0,null,null,null,null,null,0,null,null,null,null,null,null,null,null,0,null,null,null,null,null,0,0,0,0,0,0,null,0]
[null,82,null,{"$f":"INSERT!A84","v":0},{"$f":"INSERT!B84","v":0},{"$f":"INSERT!C84","v":0},{"$f":"INSERT!D84","v":0},null,null,null,null,null,0,null,null,null,null,null,0,null,null,null,null,null,null,null,0,null,null,null,null,null,null,null,0,null,null,null,null,null,null,0,null,null,null,0,null,null,null,null,null,null,null,0,null,null,null,null,null,null,0,null,null,null,null,null,null,0,null,null,null,null,null,0,null,null,null,null,null,null,null,null,0,null,null,null,null,null,0,0,0,0,0,0,null,0]
[null,83,null,{"$f":"INSERT!A85","v":0},{"$f":"INSERT!B85","v":0},{"$f":"INSERT!C85","v":0},{"$f":"INSERT!D85","v":0},null,null,null,null,null,0,null,null,null,null,null,0,null,null,null,null,null,null,null,0,null,null,null,null,null,null,null,0,null,null,null,null,null,null,0,null,null,null,0,null,null,null,null,null,null,null,0,null,null,null,null,null,null,0,null,null,null,null,null,null,0,null,null,null,null,null,0,null,null,null,null,null,null,null,null,0,null,null,null,null,null,0,0,0,0,0,0,null,0]
[null,84,null,{"$f":"INSERT!A86","v":0},{"$f":"INSERT!B86","v":0},{"$f":"INSERT!C86","v":0},{"$f":"INSERT!D86","v":0},null,null,null,null,null,0,null,null,null,null,null,0,null,null,null,null,null,null,null,0,null,null,null,null,null,null,null,0,null,null,null,null,null,null,0,null,null,null,0,null,null,null,null,null,null,null,0,null,null,null,null,null,null,0,null,null,null,null,null,null,0,null,null,null,null,null,0,null,null,null,null,null,null,null,null,0,null,null,null,null,null,0,0,0,0,0,0,null,0]
[null,85,null,{"$f":"INSERT!A87","v":0},{"$f":"INSERT!B87","v":0},{"$f":"INSERT!C87","v":0},{"$f":"INSERT!D87","v":0},null,null,null,null,null,0,null,null,null,null,null,0,null,null,null,null,null,null,null,0,null,null,null,null,null,null,null,0,null,null,null,null,null,null,0,null,null,null,0,null,null,null,null,null,null,null,0,null,null,null,null,null,null,0,null,null,null,null,null,null,0,null,null,null,null,null,0,null,null,null,null,null,null,null,null,0,null,null,null,null,null,0,0,0,0,0,0,null,0]
[null,86,null,{"$f":"INSERT!A88","v":0},{"$f":"INSERT!B88","v":0},{"$f":"INSERT!C88","v":0},{"$f":"INSERT!D88","v":0},null,null,null,null,null,0,null,null,null,null,null,0,null,null,null,null,null,null,null,0,null,null,null,null,null,null,null,0,null,null,null,null,null,null,0,null,null,null,0,null,null,null,null,null,null,null,0,null,null,null,null,null,null,0,null,null,null,null,null,null,0,null,null,null,null,null,0,null,null,null,null,null,null,null,null,0,null,null,null,null,null,0,0,0,0,0,0,null,0]
[null,87,null,{"$f":"INSERT!A89","v":0},{"$f":"INSERT!B89","v":0},{"$f":"INSERT!C89","v":0},{"$f":"INSERT!D89","v":0},null,null,null,null,null,0,null,null,null,null,null,0,null,null,null,null,null,null,null,0,null,null,null,null,null,null,null,0,null,null,null,null,null,null,0,null,null,null,0,null,null,null,null,null,null,null,0,null,null,null,null,null,null,0,null,null,null,null,null,null,0,null,null,null,null,null,0,null,null,null,null,null,null,null,null,0,null,null,null,null,null,0,0,0,0,0,0,null,0]
[null,88,null,{"$f":"INSERT!A90","v":0},{"$f":"INSERT!B90","v":0},{"$f":"INSERT!C90","v":0},{"$f":"INSERT!D90","v":0},null,null,null,null,null,0,null,null,null,null,null,0,null,null,null,null,null,null,null,0,null,null,null,null,null,null,null,0,null,null,null,null,null,null,0,null,null,null,0,null,null,null,null,null,null,null,0,null,null,null,null,null,null,0,null,null,null,null,null,null,0,null,null,null,null,null,0,null,null,null,null,null,null,null,null,0,null,null,null,null,null,0,0,0,0,0,0,null,0]
[null,89,null,{"$f":"INSERT!A91","v":0},{"$f":"INSERT!B91","v":0},{"$f":"INSERT!C91","v":0},{"$f":"INSERT!D91","v":0},null,null,null,null,null,0,null,null,null,null,null,0,null,null,null,null,null,null,null,0,null,null,null,null,null,null,null,0,null,null,null,null,null,null,0,null,null,null,0,null,null,null,null,null,null,null,0,null,null,null,null,null,null,0,null,null,null,null,null,null,0,null,null,null,null,null,0,null,null,null,null,null,null,null,null,0,null,null,null,null,null,0,0,0,0,0,0,null,0]
[null,90,null,{"$f":"INSERT!A92","v":0},{"$f":"INSERT!B92","v":0},{"$f":"INSERT!C92","v":0},{"$f":"INSERT!D92","v":0},null,null,null,null,null,0,null,null,null,null,null,0,null,null,null,null,null,null,null,0,null,null,null,null,null,null,null,0,null,null,null,null,null,null,0,null,null,null,0,null,null,null,null,null,null,null,0,null,null,null,null,null,null,0,null,null,null,null,null,null,0,null,null,null,null,null,0,null,null,null,null,null,null,null,null,0,null,null,null,null,null,0,0,0,0,0,0,null,0]
[null,91,null,{"$f":"INSERT!A93","v":0},{"$f":"INSERT!B93","v":0},{"$f":"INSERT!C93","v":0},{"$f":"INSERT!D93","v":0},null,null,null,null,null,0,null,null,null,null,null,0,null,null,null,null,null,null,null,0,null,null,null,null,null,null,null,0,null,null,null,null,null,null,0,null,null,null,0,null,null,null,null,null,null,null,0,null,null,null,null,null,null,0,null,null,null,null,null,null,0,null,null,null,null,null,0,null,null,null,null,null,null,null,null,0,null,null,null,null,null,0,0,0,0,0,0,null,0]
[null,92,null,{"$f":"INSERT!A94","v":0},{"$f":"INSERT!B94","v":0},{"$f":"INSERT!C94","v":0},{"$f":"INSERT!D94","v":0},null,null,null,null,null,0,null,null,null,null,null,0,null,null,null,null,null,null,null,0,null,null,null,null,null,null,null,0,null,null,null,null,null,null,0,null,null,null,0,null,null,null,null,null,null,null,0,null,null,null,null,null,null,0,null,null,null,null,null,null,0,null,null,null,null,null,0,null,null,null,null,null,null,null,null,0,null,null,null,null,null,0,0,0,0,0,0,null,0]
[null,93,null,{"$f":"INSERT!A95","v":0},{"$f":"INSERT!B95","v":0},{"$f":"INSERT!C95","v":0},{"$f":"INSERT!D95","v":0},null,null,null,null,null,0,null,null,null,null,null,0,null,null,null,null,null,null,null,0,null,null,null,null,null,null,null,0,null,null,null,null,null,null,0,null,null,null,0,null,null,null,null,null,null,null,0,null,null,null,null,null,null,0,null,null,null,null,null,null,0,null,null,null,null,null,0,null,null,null,null,null,null,null,null,0,null,null,null,null,null,0,0,0,0,0,0,null,0]
[null,94,null,{"$f":"INSERT!A96","v":0},{"$f":"INSERT!B96","v":0},{"$f":"INSERT!C96","v":0},{"$f":"INSERT!D96","v":0},null,null,null,null,null,0,null,null,null,null,null,0,null,null,null,null,null,null,null,0,null,null,null,null,null,null,null,0,null,null,null,null,null,null,0,null,null,null,0,null,null,null,null,null,null,null,0,null,null,null,null,null,null,0,null,null,null,null,null,null,0,null,null,null,null,null,0,null,null,null,null,null,null,null,null,0,null,null,null,null,null,0,0,0,0,0,0,null,0]
[null,95,null,{"$f":"INSERT!A97","v":0},{"$f":"INSERT!B97","v":0},{"$f":"INSERT!C97","v":0},{"$f":"INSERT!D97","v":0},null,null,null,null,null,0,null,null,null,null,null,0,null,null,null,null,null,null,null,0,null,null,null,null,null,null,null,0,null,null,null,null,null,null,0,null,null,null,0,null,null,null,null,null,null,null,0,null,null,null,null,null,null,0,null,null,null,null,null,null,0,null,null,null,null,null,0,null,null,null,null,null,null,null,null,0,null,null,null,null,null,0,0,0,0,0,0,null,0]
[null,96,null,{"$f":"INSERT!A98","v":0},{"$f":"INSERT!B98","v":0},{"$f":"INSERT!C98","v":0},{"$f":"INSERT!D98","v":0},null,null,null,null,null,0,null,null,null,null,null,0,null,null,null,null,null,null,null,0,null,null,null,null,null,null,null,0,null,null,null,null,null,null,0,null,null,null,0,null,null,null,null,null,null,null,0,null,null,null,null,null,null,0,null,null,null,null,null,null,0,null,null,null,null,null,0,null,null,null,null,null,null,null,null,0,null,null,null,null,null,0,0,0,0,0,0,null,0]
[null,97,null,{"$f":"INSERT!A99","v":0},{"$f":"INSERT!B99","v":0},{"$f":"INSERT!C99","v":0},{"$f":"INSERT!D99","v":0},null,null,null,null,null,0,null,null,null,null,null,{"$f":"SUM(N112:R112)","v":0},null,null,null,null,null,null,null,{"$f":"ROUND((SUM(T112:Z112)/1.5),0)","v":0},null,null,null,null,null,null,null,{"$f":"ROUND((SUM(AB112:AH112)/1.5),0)","v":0},null,null,null,null,null,null,0,null,null,null,0,null,null,null,null,null,null,null,0,null,null,null,null,null,null,0,null,null,null,null,null,null,0,null,null,null,null,null,0,null,null,null,null,null,null,null,null,0,null,null,null,null,null,{"$f":"SUM(CF112:CJ112)","v":0},{"$f":"ROUND((SUM(M112+S112+AA112+AI112+AP112+CE112+CK112)/2.82),0)","v":0},0,0,{"$f":"ROUND(IF(CN112=4,SUMIF(BW112:CB112,\">0\")/1.6,IF(CN112=6,SUMIF(BW112:CB112,\">0\")/2.4,SUMIF(BW112:CB112,\">0\"))),0)","v":0},0,null,0]
[null,98,null,{"$f":"INSERT!A100","v":0},{"$f":"INSERT!B100","v":0},{"$f":"INSERT!C100","v":0},{"$f":"INSERT!D100","v":0},null,null,null,null,null,0,null,null,null,null,null,0,null,null,null,null,null,null,null,0,null,null,null,null,null,null,null,0,null,null,null,null,null,null,0,null,null,null,0,null,null,null,null,null,null,null,0,null,null,null,null,null,null,0,null,null,null,null,null,null,0,null,null,null,null,null,0,null,null,null,null,null,null,null,null,0,null,null,null,null,null,0,0,0,0,0,0,null,0]
[null,99,null,{"$f":"INSERT!A101","v":0},{"$f":"INSERT!B101","v":0},{"$f":"INSERT!C101","v":0},{"$f":"INSERT!D101","v":0},null,null,null,null,null,{"$f":"SUM(H114:L114)","v":0},null,null,null,null,null,0,null,null,null,null,null,null,null,0,null,null,null,null,null,null,null,0,null,null,null,null,null,null,{"$f":"SUM(AJ114:AN114)","v":0},null,null,null,{"$f":"SUM(AQ114:AR114)","v":0},null,null,null,null,null,null,null,0,null,null,null,null,null,null,0,null,null,null,null,null,null,0,null,null,null,null,null,{"$f":"SUM(BQ114:BU114)","v":0},null,null,null,null,null,null,null,null,{"$f":"SUM(CC114:CD114)","v":0},null,null,null,null,null,0,0,0,0,0,{"$f":"SUM(CL114+CM114+CO114)","v":0},null,0]
[null,100,null,{"$f":"INSERT!A102","v":0},{"$f":"INSERT!B102","v":0},{"$f":"INSERT!C102","v":0},{"$f":"INSERT!D102","v":0},null,null,null,null,null,0,null,null,null,null,null,0,null,null,null,null,null,null,null,0,null,null,null,null,null,null,null,0,null,null,null,null,null,null,0,null,null,null,0,null,null,null,null,null,null,null,0,null,null,null,null,null,null,0,null,null,null,null,null,null,0,null,null,null,null,null,0,null,null,null,null,null,null,null,null,0,null,null,null,null,null,0,0,0,0,0,0,null,0]
[null,"Total amount of learners on mark sheet",null,null,null,"TOTAL",null,{"$f":"SUM(H16:H115)","v":0},{"$f":"SUM(I16:I115)","v":0},0,0,0,{"$f":"SUM(M16:M115)","v":0},{"$f":"SUM(N16:N115)","v":0},0,0,0,0,{"$f":"SUM(S16:S115)","v":0},{"$f":"SUM(T16:T115)","v":0},0,0,0,0,0,0,{"$f":"SUM(AA16:AA115)","v":0},{"$f":"SUM(AB16:AB115)","v":0},0,0,0,0,0,0,{"$f":"SUM(AI16:AI115)","v":0},{"$f":"SUM(AJ16:AJ115)","v":0},0,0,0,0,null,{"$f":"SUM(AP16:AP115)","v":0},{"$f":"SUM(AQ16:AQ115)","v":0},0,null,{"$f":"SUM(AT16:AT115)","v":0},{"$f":"SUM(AU16:AU115)","v":0},0,0,0,0,0,null,{"$f":"SUM(BB16:BB115)","v":0},{"$f":"SUM(BC16:BC115)","v":0},0,0,0,0,0,{"$f":"SUM(BI16:BI115)","v":0},{"$f":"SUM(BJ16:BJ115)","v":0},0,0,0,0,0,{"$f":"SUM(BP16:BP115)","v":0},{"$f":"SUM(BQ16:BQ115)","v":0},0,0,0,0,{"$f":"SUM(BV16:BV115)","v":0},{"$f":"SUM(BW16:BW115)","v":0},0,0,0,0,0,0,0,{"$f":"SUM(CE16:CE83)","v":0},{"$f":"SUM(CF16:CF115)","v":0},0,0,0,0,{"$f":"SUM(CK16:CK115)","v":0},{"$f":"SUM(CL16:CL115)","v":0},0,0,0,0,null,null,null,null,null,null,null,null,null,null,null,{"$f":"IF(F116=0,\"\",G116&\" \"&F116)","v":" TOTAL"}]
[null,null,null,null,null,"AVERAGE",null,{"$f":"IFERROR(ROUND(SUM(H116/$B$119),2),\"0\")","v":"0"},{"$f":"IFERROR(ROUND(SUM(I116/$B$119),2),\"0\")","v":"0"},"0","0","0",{"$f":"IFERROR(ROUND(SUM(M116/$B$119),2),\"0\")","v":"0"},{"$f":"IFERROR(ROUND(SUM(N116/$B$119),2),\"0\")","v":"0"},"0","0","0","0",{"$f":"IFERROR(ROUND(SUM(S116/$B$119),2),\"0\")","v":"0"},"0","0","0","0","0","0","0",{"$f":"IFERROR(ROUND(SUM(AA116/$B$119),2),\"0\")","v":"0"},"0","0","0","0","0","0","0",{"$f":"IFERROR(ROUND(SUM(AI116/$B$119),2),\"0\")","v":"0"},"0","0","0","0","0",null,{"$f":"IFERROR(ROUND(SUM(AP116/$B$119),2),\"0\")","v":"0"},"0","0",null,{"$f":"IFERROR(ROUND(SUM(AT116/$B$119),2),\"0\")","v":"0"},"0","0","0","0","0","0",null,{"$f":"IFERROR(ROUND(SUM(BB116/$B$119),2),\"0\")","v":"0"},"0","0","0","0","0","0",{"$f":"IFERROR(ROUND(SUM(BI116/$B$119),2),\"0\")","v":"0"},"0","0","0","0","0","0",{"$f":"IFERROR(ROUND(SUM(BP116/$B$119),2),\"0\")","v":"0"},{"$f":"IFERROR(ROUND(SUM(BQ116/$B$119),2),\"0\")","v":"0"},"0","0","0","0",{"$f":"IFERROR(ROUND(SUM(BV116/$B$119),2),\"0\")","v":"0"},{"$f":"IFERROR(ROUND(SUM(BW116/$B$119),2),\"0\")","v":"0"},"0","0","0","0","0","0","0","0","0","0","0","0","0",{"$f":"IFERROR(ROUND(SUM(CK116/$B$119),2),\"0\")","v":"0"},{"$f":"IFERROR(ROUND(SUM(CL116/$B$119),2),\"0\")","v":"0"},"0","0","0","0"]
[null,null,null,null,null,"PERCENTAGE",null,{"$f":"IFERROR(ROUND((SUM(H117/H13)*100),0),\"0\")","v":0},{"$f":"IFERROR(ROUND((SUM(I117/I13)*100),0),\"0\")","v":0},0,0,0,{"$f":"IFERROR(ROUND((SUM(M117/M13)*100),0),\"0\")","v":0},{"$f":"IFERROR(ROUND((SUM(N117/N13)*100),0),\"0\")","v":0},0,0,0,0,{"$f":"IFERROR(ROUND((SUM(S117/S13)*100),0),\"0\")","v":0},{"$f":"IFERROR(ROUND((SUM(T117/T13)*100),0),\"0\")","v":0},0,0,0,0,0,0,{"$f":"IFERROR(ROUND((SUM(AA117/AA13)*100),0),\"0\")","v":0},{"$f":"IFERROR(ROUND((SUM(AB117/AB13)*100),0),\"0\")","v":0},0,0,0,0,0,0,{"$f":"IFERROR(ROUND((SUM(AI117/AI13)*100),0),\"0\")","v":0},{"$f":"IFERROR(ROUND((SUM(AJ117/AJ13)*100),0),\"0\")","v":0},0,0,0,0,null,{"$f":"IFERROR(ROUND((SUM(AP117/AP13)*100),0),\"0\")","v":0},{"$f":"IFERROR(ROUND((SUM(AQ117/AQ13)*100),0),\"0\")","v":0},0,null,{"$f":"IFERROR(ROUND((SUM(AT117/AT13)*100),0),\"0\")","v":0},{"$f":"IFERROR(ROUND((SUM(AU117/AU13)*100),0),\"0\")","v":0},0,0,0,0,0,null,{"$f":"IFERROR(ROUND((SUM(BB117/BB13)*100),0),\"0\")","v":0},{"$f":"IFERROR(ROUND((SUM(BC117/BC13)*100),0),\"0\")","v":0},0,0,0,0,0,{"$f":"IFERROR(ROUND((SUM(BI117/BI13)*100),0),\"0\")","v":0},{"$f":"IFERROR(ROUND((SUM(BJ117/BJ13)*100),0),\"0\")","v":0},0,0,0,0,0,{"$f":"IFERROR(ROUND((SUM(BP117/BP13)*100),0),\"0\")","v":0},{"$f":"IFERROR(ROUND((SUM(BQ117/BQ13)*100),0),\"0\")","v":0},0,0,0,0,{"$f":"IFERROR(ROUND((SUM(BV117/BV13)*100),0),\"0\")","v":0},{"$f":"IFERROR(ROUND((SUM(BW117/BW13)*100),0),\"0\")","v":0},0,0,0,0,0,0,0,{"$f":"IFERROR(ROUND((SUM(CE117/CE13)*100),0),\"0\")","v":0},{"$f":"IFERROR(ROUND((SUM(CF117/CF13)*100),0),\"0\")","v":0},0,0,0,0,{"$f":"IFERROR(ROUND((SUM(CK117/CK13)*100),0),\"0\")","v":0},{"$f":"IFERROR(ROUND((SUM(CL117/CL13)*100),0),\"0\")","v":0},0,"0",0,0]
[null,{"$f":"INSERT!$E$103","v":0},null,null,null,"TOTAL HANDED IN",null,{"$f":"COUNT(H16:H115)","v":0},{"$f":"COUNT(I16:I115)","v":0},0,0,0,null,{"$f":"COUNT(N16:N115)","v":0},0,0,0,0,null,{"$f":"COUNT(T16:T115)","v":0},0,0,0,0,0,0,null,{"$f":"COUNT(AB16:AB115)","v":0},0,0,0,0,0,0,null,{"$f":"COUNT(AJ16:AJ115)","v":0},0,0,0,0,null,null,{"$f":"COUNT(AQ16:AQ115)","v":0},0,null,null,{"$f":"COUNT(AU16:AU115)","v":0},0,0,0,0,0,null,null,{"$f":"COUNT(BC16:BC115)","v":0},0,0,0,0,0,null,{"$f":"COUNT(BJ16:BJ115)","v":0},0,0,0,0,0,null,{"$f":"COUNT(BQ16:BQ115)","v":0},0,0,0,0,null,{"$f":"COUNT(BW16:BW115)","v":0},0,0,0,0,0,0,0,{"$f":"COUNT(CE16:CE83)","v":68},{"$f":"COUNT(CF16:CF115)","v":0},0,0,0,0,{"$f":"COUNT(CK16:CK115)","v":100}]

{"sheet":"PAT Assessment","index":15,"n_rows":169,"n_cols":22,"rows_kept":169,"cut":false,"hidden":false,"merged":[[164,0,166,2],[164,3,165,3],[164,4,166,7],[164,8,165,8],[164,9,166,10],[158,0,160,2],[158,3,159,3],[158,4,160,7],[158,8,159,8],[158,9,160,10],[168,7,168,8],[168,12,168,14],[31,4,31,8],[40,2,40,8],[45,2,45,8],[46,2,46,8],[47,2,47,8],[48,1,48,14],[49,2,49,14],[164,13,164,14],[165,11,165,12],[165,13,165,14],[166,11,166,12],[166,13,166,14],[167,0,168,2],[167,3,168,6],[167,7,167,8],[167,9,168,11],[167,12,167,14],[160,11,160,12],[160,13,160,14],[156,0,156,2],[156,4,156,7],[156,9,156,12],[156,13,156,14],[164,11,164,12],[75,1,75,14],[65,1,65,9],[66,0,66,14],[91,1,91,14],[86,1,86,8],[161,0,162,2],[161,3,162,6],[161,7,161,8],[161,9,162,11],[161,12,161,14],[162,7,162,8],[162,12,162,14],[163,0,163,3],[163,4,163,8],[163,9,163,14],[157,0,157,3],[157,4,157,8],[151,9,152,12],[151,13,151,14],[153,9,154,12],[152,13,152,14],[153,13,153,14],[154,13,154,14],[158,11,158,12],[158,13,158,14],[159,11,159,12],[159,13,159,14],[157,9,157,14],[147,0,150,0],[147,1,150,2],[147,3,149,3],[147,6,150,7],[147,10,150,12],[147,13,149,14],[150,13,150,14],[155,0,155,2],[155,4,155,7],[155,9,155,12],[155,13,155,14],[143,5,150,5],[143,6,143,7],[143,8,149,8],[143,9,150,9],[143,10,146,10],[146,13,146,14],[143,11,146,12],[143,13,145,14],[144,6,146,7],[151,0,154,0],[151,1,154,2],[151,3,153,3],[151,4,154,8],[125,1,128,2],[125,3,127,3],[125,13,130,14],[128,6,135,6],[128,8,134,8],[129,0,139,0],[129,1,139,1],[129,2,133,2],[129,3,132,3],[131,10,136,10],[131,11,136,12],[131,13,135,14],[134,2,139,2],[134,3,138,3],[136,6,142,6],[136,8,141,8],[136,13,136,14],[137,7,142,7],[124,13,124,14],[125,10,130,12],[118,10,124,10],[118,11,124,12],[118,13,123,14],[121,4,142,4],[121,5,142,5],[121,6,127,6],[121,8,126,8],[122,7,127,7],[129,7,135,7],[131,9,142,9],[142,13,142,14],[125,0,128,0],[114,0,114,3],[114,4,114,14],[115,0,115,3],[115,4,115,14],[116,0,116,3],[116,4,116,8],[116,9,116,14],[137,10,142,12],[137,13,141,14],[140,0,146,0],[140,1,146,2],[140,3,145,3],[143,4,150,4],[117,0,117,2],[117,4,117,7],[117,9,117,12],[117,13,117,14],[118,0,124,0],[118,1,124,2],[118,3,123,3],[118,4,120,7],[118,8,119,8],[118,9,130,9],[108,13,108,14],[109,13,109,14],[111,0,111,14],[112,0,112,3],[112,4,112,14],[113,0,113,3],[113,4,113,14],[108,0,109,12],[106,0,107,12],[106,13,106,14],[107,13,107,14],[92,0,94,0],[92,2,92,8],[93,2,93,8],[96,2,96,8],[97,2,97,8],[101,13,101,14],[102,13,102,14],[103,13,103,14],[104,13,104,14],[96,0,98,0],[98,13,98,14],[98,1,98,8],[93,13,93,14],[96,13,96,14],[97,13,97,14],[100,13,100,14],[105,13,105,14],[100,0,105,0],[99,1,99,14],[102,2,102,8],[103,2,103,8],[104,2,104,8],[78,2,78,8],[79,2,79,8],[81,13,81,14],[76,0,81,0],[105,1,105,9],[100,2,100,8],[101,2,101,8],[84,0,86,0],[86,13,86,14],[84,2,84,8],[85,2,85,8],[83,1,83,14],[82,0,82,14],[84,13,84,14],[85,13,85,14],[88,13,88,14],[89,13,89,14],[92,13,92,14],[47,13,47,14],[90,13,90,14],[88,2,88,8],[89,2,89,8],[88,0,90,0],[90,1,90,9],[53,2,53,8],[56,2,56,8],[50,2,50,8],[51,2,51,8],[52,2,52,8],[54,2,54,8],[55,2,55,8],[64,2,64,8],[73,2,73,8],[57,1,57,9],[62,2,62,8],[70,2,70,8],[71,2,71,8],[65,13,65,14],[60,2,60,8],[61,2,61,8],[59,2,59,8],[58,2,58,14],[44,2,44,8],[36,2,36,8],[37,2,37,8],[35,2,35,8],[24,1,24,8],[24,9,24,12],[25,0,32,0],[25,1,31,2],[1,0,4,0],[17,1,17,14],[18,4,18,8],[42,1,42,14],[43,1,43,14],[32,1,32,9],[33,0,33,14],[34,1,34,14],[35,0,41,0],[38,2,38,8],[39,2,39,8],[41,1,41,9],[41,13,41,14],[44,13,44,14],[11,13,11,14],[12,13,12,14],[3,17,7,18],[18,0,23,0],[18,1,20,2],[22,1,22,8],[23,1,23,9],[23,13,23,14],[28,4,28,8],[29,4,29,8],[30,4,30,8],[25,4,25,8],[26,4,26,8],[27,4,27,8],[21,1,21,8],[16,1,16,9],[19,4,19,8],[20,4,20,8],[13,2,13,8],[14,2,14,8],[15,2,15,8],[10,1,10,14],[11,0,16,0],[11,2,11,8],[12,2,12,8],[16,13,16,14],[68,2,68,8],[69,2,69,8],[72,2,72,8],[76,2,76,8],[77,2,77,8],[80,2,80,8],[63,2,63,8],[67,2,67,14],[81,1,81,9],[74,1,74,9],[74,13,74,14],[68,13,68,14],[69,13,69,14],[70,13,70,14],[71,13,71,14],[72,13,72,14],[73,13,73,14],[0,0,0,14],[5,0,6,0],[5,2,5,8],[5,9,9,9],[5,10,9,10],[5,11,9,11],[5,12,9,12],[5,13,9,14],[6,2,6,8],[7,0,9,0],[7,2,7,8],[8,2,8,8],[9,2,9,8],[1,6,1,8],[2,6,2,8],[3,6,3,8],[4,6,4,8],[87,1,87,14],[94,1,94,9],[95,1,95,14],[94,13,94,14],[76,13,76,14],[77,13,77,14],[78,13,78,14],[79,13,79,14],[80,13,80,14],[59,13,59,14],[60,13,60,14],[61,13,61,14],[62,13,62,14],[63,13,63,14],[64,13,64,14],[50,13,50,14],[51,13,51,14],[52,13,52,14],[53,13,53,14],[54,13,54,14],[55,13,55,14],[56,13,56,14],[57,13,57,14],[13,13,13,14],[14,13,14,14],[15,13,15,14],[45,13,45,14],[46,13,46,14],[35,13,35,14],[36,13,36,14],[37,13,37,14],[38,13,38,14],[39,13,39,14],[40,13,40,14],[18,13,18,14],[19,13,19,14],[20,13,20,14],[21,13,21,14],[22,13,22,14]]}
["ASSESSMENT CRITERIA AND CHECKLIST FOR THE 2024 EGD GRADE 10 CIVIL PAT",null,null,null,null,null,null,null,null,null,null,null,null,null,null,null,null,"Surname:","b",null,"Rec",17]
[null,null,null,null,null,"NAME OF SCHOOL:",{"$f":"INSERT!$J$3","v":0},null,null,null,null,null,null,null,null,null,null,"Name:",{"$f":"IFERROR(VLOOKUP($S$1,INSERT!C3:E102,2,FALSE),\"\")","v":""},null,null,{"$f":"OFFSET(INSERT!$C$2,$V$1,0)","v":0}]
[null,null,null,null,null,"NAME AND SURNAME OF LEARNER:",{"$f":"INSERT!$J$3","v":0}]
[null,null,null,null,null,"NAME AND SURNAME OF TEACHER:",{"$f":"INSERT!$J$3","v":0},null,null,null,null,null,null,null,null,null,null,"Choose a leaerner's surename by clicking in the block right of \"Surname\"\nOn the right of the block is a dropdown menu. Click on the triangle and select a learners surname. "]
[null,null,null,null,null,"NAME AND SURNAME OF MODERATOR:",{"$f":"INSERT!$J$3","v":0}]
["1 mark level descriptive",0,"No evidence/not done or not correct/complete/complaint/achieved/very poor",null,null,null,null,null,null,"Due date for completion","Date Completed","Own Marks/ Notes/ Comments","Suggested mark Allocation","Moderated mark"]
[null,1,"All evidence shown/correct/complete/complaint/achieved/clear"]
["2 mark level descriptive",0,"No evidence/not done/very poor"]
[null,1,"Evidence shown but not correct/complete/complaint/achieved/clear/average"]
[null,2,"All evidence shown/correct/complete/complaint/achieved/clear/very good"]
[1,"Design Brief"]
[null,1.1000000000000001,"1st paragraph of design brief: identify problem(s) and what is required to be done",null,null,null,null,null,null,null,null,null,2,{"$f":"IFERROR(VLOOKUP($S$1,'PAT Detailed'!$F$16:$CY$115,3,FALSE),\"\")","v":""}]
[null,1.2,"2nd paragraph of design brief: your role & the process to be followed",null,null,null,null,null,null,null,null,null,2,{"$f":"IFERROR(VLOOKUP($S$1,'PAT Detailed'!$F$16:$CY$115,3,FALSE),\"\")","v":""}]
[null,1.3,"Lists of all the given specifications",null,null,null,null,null,null,null,null,null,2,{"$f":"IFERROR(VLOOKUP($S$1,'PAT Detailed'!$F$16:$CY$115,3,FALSE),\"\")","v":""}]
[null,1.4,"List of THREE constraints that are relevant to the project",null,null,null,null,null,null,null,null,null,2,{"$f":"IFERROR(VLOOKUP($S$1,'PAT Detailed'!$F$16:$CY$115,3,FALSE),\"\")","v":""}]
[null,1.5,"A management plan with target dates for ALL the presentation requirements",null,null,null,null,null,null,null,null,null,2,{"$f":"IFERROR(VLOOKUP($S$1,'PAT Detailed'!$F$16:$CY$115,3,FALSE),\"\")","v":""}]
[null,"TOTAL",null,null,null,null,null,null,null,null,null,null,{"$f":"SUM(M12:M16)","v":10},{"$f":"SUM(N12:O16)","v":0}]
[2,"Research (This should be restricted to a maximum of TWO A4 or ONE A3 page)"]
[null,"Relevant and usable research on:",null,2.1,"Design examples and possible variations",null,null,null,null,null,null,null,2,{"$f":"IFERROR(VLOOKUP($S$1,'PAT Detailed'!$F$16:$CY$115,9,FALSE),\"\")","v":""}]
[null,null,null,2.2000000000000002,"Materials suitable for manufacturing",null,null,null,null,null,null,null,2,{"$f":"IFERROR(VLOOKUP($S$1,'PAT Detailed'!$F$16:$CY$115,9,FALSE),\"\")","v":""}]
[null,null,null,2.2999999999999998,"Enduring and protection against natural elements",null,null,null,null,null,null,null,2,{"$f":"IFERROR(VLOOKUP($S$1,'PAT Detailed'!$F$16:$CY$115,9,FALSE),\"\")","v":""}]
[null,"Is there evidence that the research has been used in the PAT?",null,null,null,null,null,null,null,null,null,null,2,{"$f":"IFERROR(VLOOKUP($S$1,'PAT Detailed'!$F$16:$CY$115,9,FALSE),\"\")","v":""}]
[null,"Bibliography/List of sources included",null,null,null,null,null,null,null,null,null,null,2,{"$f":"IFERROR(VLOOKUP($S$1,'PAT Detailed'!$F$16:$CY$115,9,FALSE),\"\")","v":""}]
[null,"TOTAL",null,null,null,null,null,null,null,null,null,null,{"$f":"SUM(M19:M23)","v":10},{"$f":"SUM(N19:O23)","v":0}]
[3,"TWO derailed freehand drawings of possible design solutions",null,null,null,null,null,null,null,"SOLUTION",null,null,null,"No:1","No:2"]
[null,"Assess each freehand solution as follows:",null,3.1,"Drawn freehand",null,null,null,null,null,null,null,2,{"$f":"IFERROR(VLOOKUP($S$1,'PAT Detailed'!$F$16:$CY$115,15,FALSE),\"\")","v":""},{"$f":"IFERROR(VLOOKUP($S$1,'PAT Detailed'!$F$16:$CY$115,23,FALSE),\"\")","v":""}]
[null,null,null,3.2,"Correct presentation in correlation with the assignment",null,null,null,null,null,null,null,2,{"$f":"IFERROR(VLOOKUP($S$1,'PAT Detailed'!$F$16:$CY$115,16,FALSE),\"\")","v":""},{"$f":"IFERROR(VLOOKUP($S$1,'PAT Detailed'!$F$16:$CY$115,24,FALSE),\"\")","v":""}]
[null,null,null,3.3,"Relative size/proportion of features to each other.",null,null,null,null,null,null,null,2,{"$f":"IFERROR(VLOOKUP($S$1,'PAT Detailed'!$F$16:$CY$115,17,FALSE),\"\")","v":""},{"$f":"IFERROR(VLOOKUP($S$1,'PAT Detailed'!$F$16:$CY$115,25,FALSE),\"\")","v":""}]
[null,null,null,3.4,"Supply the necessary labels (1) & notes (1).",null,null,null,null,null,null,null,2,{"$f":"IFERROR(VLOOKUP($S$1,'PAT Detailed'!$F$16:$CY$115,18,FALSE),\"\")","v":""},{"$f":"IFERROR(VLOOKUP($S$1,'PAT Detailed'!$F$16:$CY$115,26,FALSE),\"\")","v":""}]
[null,null,null,3.5,"Supply the necessary dimensions",null,null,null,null,null,null,null,2,{"$f":"IFERROR(VLOOKUP($S$1,'PAT Detailed'!$F$16:$CY$115,19,FALSE),\"\")","v":""},{"$f":"IFERROR(VLOOKUP($S$1,'PAT Detailed'!$F$16:$CY$115,27,FALSE),\"\")","v":""}]
[null,null,null,3.6,"A freehand Isometric drawing per solution is shown for more clarity",null,null,null,null,null,null,null,2,{"$f":"IFERROR(VLOOKUP($S$1,'PAT Detailed'!$F$16:$CY$115,20,FALSE),\"\")","v":""},{"$f":"IFERROR(VLOOKUP($S$1,'PAT Detailed'!$F$16:$CY$115,28,FALSE),\"\")","v":""}]
[null,null,null,3.7,"Functionality of the new design (practicability for the purpose)",null,null,null,null,null,null,null,3,{"$f":"IFERROR(VLOOKUP($S$1,'PAT Detailed'!$F$16:$CY$115,21,FALSE),\"\")","v":""},{"$f":"IFERROR(VLOOKUP($S$1,'PAT Detailed'!$F$16:$CY$115,29,FALSE),\"\")","v":""}]
[null,"Subtotal = 15 ÷ 1,5 = TOTAL",null,null,null,null,null,null,null,null,null,null,{"$f":"ROUND((SUM(M26:M32))/1.5,0)","v":10},{"$f":"ROUND((SUM(N26:N32))/1.5,0)","v":0},{"$f":"ROUND((SUM(O26:O32))*0.666666666,0)","v":0}]
["(1 = 1 ; 2 = 1 ; 3 = 2 ; 4 = 3 ; 5 = 3 ; 6 = 4 ; 7 = 5 ; 8 = 5 ; 9 = 6 ; 10 = 7 ; 11 = 7 ; 12 = 8 ; 13 = 9 ; 14 = 9 ; 15 = 10)"]
[4,"Selecting the best freehand solution (This must be a separate presentation)"]
[null,4.0999999999999996,"The given table used for easy to understand representation of the selection process",null,null,null,null,null,null,null,null,null,1,{"$f":"IFERROR(VLOOKUP($S$1,'PAT Detailed'!$F$16:$CY$115,31,FALSE),\"\")","v":""}]
[null,4.2,"Select FOUR different criteria to evaluate and compare the two PAT freehand options.",null,null,null,null,null,null,null,null,null,2,{"$f":"IFERROR(VLOOKUP($S$1,'PAT Detailed'!$F$16:$CY$115,31,FALSE),\"\")","v":""}]
[null,4.3,"Discuss (reason) the advantages and disadvantages of each criteria.",null,null,null,null,null,null,null,null,null,2,{"$f":"IFERROR(VLOOKUP($S$1,'PAT Detailed'!$F$16:$CY$115,31,FALSE),\"\")","v":""}]
[null,4.4000000000000004,"Implement values in the given rating scale to evaluate three options",null,null,null,null,null,null,null,null,null,2,{"$f":"IFERROR(VLOOKUP($S$1,'PAT Detailed'!$F$16:$CY$115,31,FALSE),\"\")","v":""}]
[null,4.5,"Total the two options to determine the best option",null,null,null,null,null,null,null,null,null,1,{"$f":"IFERROR(VLOOKUP($S$1,'PAT Detailed'!$F$16:$CY$115,31,FALSE),\"\")","v":""}]
[null,4.5999999999999996,"Summarize and explain why you have chosen the selected drawing and mentioned changes or no changes",null,null,null,null,null,null,null,null,null,2,{"$f":"IFERROR(VLOOKUP($S$1,'PAT Detailed'!$F$16:$CY$115,31,FALSE),\"\")","v":""}]
[null,"TOTAL",null,null,null,null,null,null,null,null,null,null,{"$f":"SUM(M36:M41)","v":10},{"$f":"SUM(N36:O41)","v":0}]
[5,"Layout drawings and a pictorial drawing of selected solution"]
[null,"Drawing sheet preparation"]
[null,5.0999999999999996,"Two A3 drawing sheets",null,null,null,null,null,null,null,null,null,1,{"$f":"IFERROR(VLOOKUP($S$1,'PAT Detailed'!$F$16:$CY$115,38,FALSE),\"\")","v":""}]
[null,"5.1.1","A complete frame around all work drawing sheets",null,null,null,null,null,null,null,null,null,2,{"$f":"IFERROR(VLOOKUP($S$1,'PAT Detailed'!$F$16:$CY$115,38,FALSE),\"\")","v":""}]
[null,"5.1.2","Complete mechanical title panel on the first working drawing sheet",null,null,null,null,null,null,null,null,null,7,{"$f":"IFERROR(VLOOKUP($S$1,'PAT Detailed'!$F$16:$CY$115,38,FALSE),\"\")","v":""}]
[null,null,"NOTE: Use the 7 mark simplified rubric on page 45 of the EGD CAPS",null,null,null,null,null,null,"TOTAL",null,null,{"$f":"SUM(M45:M47)","v":10},{"$f":"SUM(N45:O47)","v":0}]
[6,"Detailed layout drawings of the selected proposed solution"]
[null,6,"The SECTIONAL FRONT VIEW (Presentation drawing 1)"]
[null,6.1,"All parts are shown",null,null,null,null,null,null,null,null,null,1,{"$f":"IFERROR(VLOOKUP($S$1,'PAT Detailed'!$F$16:$CY$115,42,FALSE),\"\")","v":""}]
[null,6.2,"Dimensions shown",null,null,null,null,null,null,null,null,null,1,{"$f":"IFERROR(VLOOKUP($S$1,'PAT Detailed'!$F$16:$CY$115,42,FALSE),\"\")","v":""}]
[null,6.3,"Section line correctly placed or part section on handle correctly shown",null,null,null,null,null,null,null,null,null,1,{"$f":"IFERROR(VLOOKUP($S$1,'PAT Detailed'!$F$16:$CY$115,42,FALSE),\"\")","v":""}]
[null,6.4,"Section line arrow direction correct or SANS compliant hatching detail shown correct on this view.",null,null,null,null,null,null,null,null,null,1,{"$f":"IFERROR(VLOOKUP($S$1,'PAT Detailed'!$F$16:$CY$115,42,FALSE),\"\")","v":""}]
[null,6.5,"Notes and labels added",null,null,null,null,null,null,null,null,null,2,{"$f":"IFERROR(VLOOKUP($S$1,'PAT Detailed'!$F$16:$CY$115,42,FALSE),\"\")","v":""}]
[null,6.6,"The title and scale indicated",null,null,null,null,null,null,null,null,null,2,{"$f":"IFERROR(VLOOKUP($S$1,'PAT Detailed'!$F$16:$CY$115,42,FALSE),\"\")","v":""}]
[null,6.7,"An interrupted view shown on handle",null,null,null,null,null,null,null,null,null,2,{"$f":"IFERROR(VLOOKUP($S$1,'PAT Detailed'!$F$16:$CY$115,42,FALSE),\"\")","v":""}]
[null,"TOTAL",null,null,null,null,null,null,null,null,null,null,{"$f":"ROUND((SUM(M51:M57)),0)","v":10},{"$f":"ROUND((SUM(N51:O57)),0)","v":0}]
[null,7,"The TOP VIEW (Presentation drawing 2)"]
[null,7.1,"View placed in Third-Angle Orthographic Projection (T.A.O.P.)",null,null,null,null,null,null,null,null,null,1,{"$f":"IFERROR(VLOOKUP($S$1,'PAT Detailed'!$F$16:$CY$115,50,FALSE),\"\")","v":""}]
[null,7.2,"All parts are shown",null,null,null,null,null,null,null,null,null,1,{"$f":"IFERROR(VLOOKUP($S$1,'PAT Detailed'!$F$16:$CY$115,50,FALSE),\"\")","v":""}]
[null,7.3,"Dimensions shown",null,null,null,null,null,null,null,null,null,1,{"$f":"IFERROR(VLOOKUP($S$1,'PAT Detailed'!$F$16:$CY$115,50,FALSE),\"\")","v":""}]
[null,7.4,"Section line correctly placed or part section correctly shown",null,null,null,null,null,null,null,null,null,1,{"$f":"IFERROR(VLOOKUP($S$1,'PAT Detailed'!$F$16:$CY$115,50,FALSE),\"\")","v":""}]
[null,7.5,"Section line arrow direction correct or SANS compliant hatching shown correctly",null,null,null,null,null,null,null,null,null,1,{"$f":"IFERROR(VLOOKUP($S$1,'PAT Detailed'!$F$16:$CY$115,50,FALSE),\"\")","v":""}]
[null,7.6,"An interrupted view shown on handle",null,null,null,null,null,null,null,null,null,5,{"$f":"IFERROR(VLOOKUP($S$1,'PAT Detailed'!$F$16:$CY$115,50,FALSE),\"\")","v":""}]
[null,"TOTAL",null,null,null,null,null,null,null,null,null,null,{"$f":"ROUND((SUM(M60:M65)),0)","v":10},{"$f":"ROUND((SUM(N60:O65)),0)","v":0}]
["(1 = 1 ; 2 = 1 ; 3 = 2 ; 4 = 3 ; 5 = 3 ; 6 = 4 ; 7 = 5 ; 8 = 5 ; 9 = 6 ; 10 = 7 ; 11 = 7 ; 12 = 8 ; 13 = 9 ; 14 = 9 ; 15 = 10)"]
[null,8,"The LEFT/RIGHT VIEW (Presentation drawing 3)"]
[null,8.1,"View placed in Third-Angle Orthographic Projection (T.A.O.P.)",null,null,null,null,null,null,null,null,null,1,{"$f":"IFERROR(VLOOKUP($S$1,'PAT Detailed'!$F$16:$CY$115,57,FALSE),\"\")","v":""}]
[null,8.1999999999999993,"All parts are shown",null,null,null,null,null,null,null,null,null,1,{"$f":"IFERROR(VLOOKUP($S$1,'PAT Detailed'!$F$16:$CY$115,57,FALSE),\"\")","v":""}]
[null,8.3000000000000007,"Dimensions shown",null,null,null,null,null,null,null,null,null,1,{"$f":"IFERROR(VLOOKUP($S$1,'PAT Detailed'!$F$16:$CY$115,57,FALSE),\"\")","v":""}]
[null,8.4,"Section line correctly placed or part section correctly shown",null,null,null,null,null,null,null,null,null,1,{"$f":"IFERROR(VLOOKUP($S$1,'PAT Detailed'!$F$16:$CY$115,57,FALSE),\"\")","v":""}]
[null,8.5,"Section line arrow direction correct or SANS compliant hatching shown correctly",null,null,null,null,null,null,null,null,null,1,{"$f":"IFERROR(VLOOKUP($S$1,'PAT Detailed'!$F$16:$CY$115,57,FALSE),\"\")","v":""}]
[null,8.6,"An interrupted view shown on handle",null,null,null,null,null,null,null,null,null,5,{"$f":"IFERROR(VLOOKUP($S$1,'PAT Detailed'!$F$16:$CY$115,57,FALSE),\"\")","v":""}]
[null,"TOTAL",null,null,null,null,null,null,null,null,null,null,{"$f":"SUM(M69:M74)","v":10},{"$f":"SUM(N69:O74)","v":0}]
[9,"Detailed ISOMETRIC drawing (Presentation drawing 4)"]
[null,9.1,"Isometric construction principles and methods applied correct (30° - 90° - 30°)",null,null,null,null,null,null,null,null,null,1,{"$f":"IFERROR(VLOOKUP($S$1,'PAT Detailed'!$F$16:$CY$115,64,FALSE),\"\")","v":""}]
[null,9.1999999999999993,"Show all auxiliary views, construction lines and non-isometric lines",null,null,null,null,null,null,null,null,null,1,{"$f":"IFERROR(VLOOKUP($S$1,'PAT Detailed'!$F$16:$CY$115,64,FALSE),\"\")","v":""}]
[null,9.3000000000000007,"Correct orientation of the isometric drawing according to the drawn views",null,null,null,null,null,null,null,null,null,1,{"$f":"IFERROR(VLOOKUP($S$1,'PAT Detailed'!$F$16:$CY$115,64,FALSE),\"\")","v":""}]
[null,9.4,"Correct scale used to maximise the isometric drawing on the A3 page",null,null,null,null,null,null,null,null,null,1,{"$f":"IFERROR(VLOOKUP($S$1,'PAT Detailed'!$F$16:$CY$115,64,FALSE),\"\")","v":""}]
[null,9.5,"Isometric answer correct.",null,null,null,null,null,null,null,null,null,6,{"$f":"IFERROR(VLOOKUP($S$1,'PAT Detailed'!$F$16:$CY$115,64,FALSE),\"\")","v":""}]
[null,"TOTAL",null,null,null,null,null,null,null,null,null,null,{"$f":"SUM(M77:M81)","v":10},{"$f":"SUM(N77:O81)","v":0}]
["Assessment of drawing methods, drawing skills and presentation"]
[10,"Assessment of FREEHAND."]
[null,10.1,"Freehand drawings METHODS (grid paper) & skills (see rubric grd 12 PAT – p 24)",null,null,null,null,null,null,null,null,null,10]
[null,10.199999999999999,"Consistency of line quality (see rubric grd 12 PAT – p 24).",null,null,null,null,null,null,null,null,null,10]
[null,null,null,null,null,null,null,null,null,"TOTAL",null,null,10,{"$f":"SUM(N85:O86)","v":0}]
[11,"Assessment of INSTRUMENT drawings."]
[null,11.1,"Drawing method & skills. Use of drawing instruments (see rubric grd 12 PAT – p 24).",null,null,null,null,null,null,null,null,null,10]
[null,11.2,"Consistency of, line quality and annotation (see rubric grd 12 PAT – p 24).",null,null,null,null,null,null,null,null,null,10]
[null,"TOTAL",null,null,null,null,null,null,null,null,null,null,{"$f":"SUM(M89:M90)","v":20},{"$f":"SUM(N89:O90)","v":0}]
[12,"Assessment of CAD drawings"]
[null,12.1,"Competence displayed in using a CAD program (see rubric grd 12 PAT – p 24).",null,null,null,null,null,null,null,null,null,10]
[null,12.2,"Layout and correctness of the drawings presentation (see rubric grd 12 PAT – p 24).",null,null,null,null,null,null,null,null,null,10]
[null,"TOTAL",null,null,null,null,null,null,null,null,null,null,{"$f":"SUM(M93:M94)","v":20},{"$f":"SUM(N93:O94)","v":0}]
[13,"Continuous self-evaluation and the meeting of deadlines"]
[null,13.1,"Checklist completed as evidence of continuous self-evaluation (mark out of 10 ÷ 2)",null,null,null,null,null,null,null,null,null,5]
[null,13.2,"The meeting of ALL the deadlines during the development (mark out of 10 ÷ 2)",null,null,null,null,null,null,null,null,null,5]
[null,"(NOTE: Use 7-mark rubric on page 45 of the EGD CAPS)",null,null,null,null,null,null,null,"TOTAL",null,null,{"$f":"SUM(M97:M98)","v":10},{"$f":"SUM(N97:O98)","v":0}]
[14,"The FINAL PRESENTATION of the complete PAT portfolio"]
[null,14.1,"Develop your own designed front page (copy isometric drawing add initials, surname & grade)",null,null,null,null,null,null,null,null,null,2,{"$f":"IFERROR(VLOOKUP($S$1,'PAT Detailed'!$F$16:$CY$115,79,FALSE),\"\")","v":""}]
[null,14.2,"Prepare the final Index with page references",null,null,null,null,null,null,null,null,null,2,{"$f":"IFERROR(VLOOKUP($S$1,'PAT Detailed'!$F$16:$CY$115,80,FALSE),\"\")","v":""}]
[null,14.3,"Summative assessment sheet and declaration added",null,null,null,null,null,null,null,null,null,2,{"$f":"IFERROR(VLOOKUP($S$1,'PAT Detailed'!$F$16:$CY$115,80,FALSE),\"\")","v":""}]
[null,14.4,"The presentation requirements of this document is filed in the correct sequencing",null,null,null,null,null,null,null,null,null,2,{"$f":"IFERROR(VLOOKUP($S$1,'PAT Detailed'!$F$16:$CY$115,80,FALSE),\"\")","v":""}]
[null,14.5,"The present the final presentation in a file format.",null,null,null,null,null,null,null,null,null,2,{"$f":"IFERROR(VLOOKUP($S$1,'PAT Detailed'!$F$16:$CY$115,80,FALSE),\"\")","v":""}]
[null,"TOTAL",null,null,null,null,null,null,null,null,null,null,{"$f":"SUM(M101:M105)","v":10},{"$f":"SUMIF(N101:O105,\">0\")","v":0}]
["Learner total without CAD",null,null,null,null,null,null,null,null,null,null,null,null,{"$f":"H162","v":0}]
[null,null,null,null,null,null,null,null,null,null,null,null,null,"/100"]
["Learner total with CAD",null,null,null,null,null,null,null,null,null,null,null,null,{"$f":"M162","v":0}]
[null,null,null,null,null,null,null,null,null,null,null,null,null,"/100"]
[]
["PRACTICAL ASSESSMENT TASK 2022                                                                                                                                                                                        SUMMATIVE ASSESSMENT SHEET"]
["NAME OF SCHOOL",null,null,null,{"$f":"G2","v":0}]
["NAME & SURNAME OF LEARNER:",null,null,null,{"$f":"G3","v":0}]
["NAME & SURNAME OF TEACHER",null,null,null,{"$f":"G4","v":0}]
["NAME & SURNAME OF MODERATOR",null,null,null,{"$f":"G5","v":0}]
["PART A: Design process",null,null,null,"PART B: Working and pictorial drawings",null,null,null,null,"Drawing competency and skill"]
["CRITERIA",null,null,"MARK","CRITERIA",null,null,null,"MARK","CRITERIA",null,null,null,"MARK"]
[1,"A design brief demonstrating a clear understanding of the scenario and the specifications, constraints and a management plan",null,{"$f":"N17","v":0},"All drawing sheets are appropriately set up with a border and an appropriate title block/panel.",null,null,null,{"$f":"N48","v":0},"Freehand drawings                                                                                         ANNEXURE A","METHOD","The drawing display correct freehand drawing method and skills and the method used to ensure proportion and size",null,{"$f":"N85","v":0}]
[]
[null,null,null,null,null,null,null,null,"/10"]
[null,null,null,null,"Orthographic drawings","Assess each view`s accuracy and correctness according to the selected solution, the stipulated requirements and EGD drawing principles","5.1.1","View 1",{"$f":"N58","v":0}]
[null,null,null,null,null,null,null,"Floor Plan"]
[]
[null,null,null,"/10",null,null,null,null,null,null,null,null,null,"/10"]
[2,"Evidence of relevant and usable research with the inclusion of a bibliography",null,{"$f":"N24","v":0},null,null,null,null,null,null,"The final drawing presentation is neat and there is consistency of line work/line quality, printing and dimensioning",null,null,{"$f":"N86","v":0}]
[]
[null,null,null,null,null,null,null,null,"/10"]
[null,null,null,"/10",null,null,"5.1.2","View 2",{"$f":"N66","v":0}]
[3,"TWO detailed freehand drawings of possible solutions","1st Solution",{"$f":"N33","v":0},null,null,null,"Two elevations"]
[]
[null,null,null,null,null,null,null,null,null,"Instrument drawings: ANNEXURE A","METHOD","The drawings display the correct use of drawing instruments, drawing methods and skills",null,{"$f":"N89","v":0}]
[]
[null,null,null,"/10"]
[null,null,"2nd Solution",{"$f":"O33","v":0}]
[null,null,null,null,null,null,null,null,"/10"]
[null,null,null,null,null,null,"5.1.3","View 3",{"$f":"N75","v":0},null,null,null,null,"/10"]
[null,null,null,null,null,null,null,"Section view",null,null,"The final drawing presentation is neat and there is consistency of line work line quality, printing and dimensioning",null,null,{"$f":"N90","v":0}]
[]
[null,null,null,"/10"]
[4,"Selecting the best solution which demonstrates a clear understanding of the design brief",null,{"$f":"N42","v":0}]
[]
[null,null,null,null,null,null,null,null,"/10",null,null,null,null,"/10"]
[null,null,null,null,"Pictorial drawing",5.2,"View 4",null,{"$f":"N82","v":0},"CAD drawings                 ANNEXURE A","METHOD","The level of competence displayed in using a CAD system",null,{"$f":"N93","v":0}]
[null,null,null,null,null,null,"The correct drawing method and the presentation of the drawing"]
[]
[null,null,null,"/10",null,null,null,null,null,null,null,null,null,"/10"]
[13,"Clear evidence of evaluation and meeting the of all the requirements",null,{"$f":"N87/2","v":0},null,null,"PAT 1: 2-point perspective",null,null,null,"The layout of the final drawing is correct and the line work, printing and dimensioning is compliant and consistent",null,null,{"$f":"N94","v":0}]
[]
[]
[null,null,null,"/10",null,null,null,null,"/10",null,null,null,null,"/10"]
[14,"The presentation of the complete PAT file/portfolio",null,{"$f":"N91/2","v":0},null,null,null,null,null,"NO CAD drawings",null,null,null,{"$f":"SUM((N119)+(N126)+(N132)+(N138))","v":0}]
[null,null,null,null,null,null,null,null,null,null,null,null,null,"/40"]
[null,null,null,null,null,null,null,null,null,"WITH CAD drawings",null,null,null,{"$f":"SUM((N119)+(N126)+(N132)+(N138)+(N144)+(N148))","v":0}]
[null,null,null,"/10",null,null,null,null,null,null,null,null,null,"/60"]
["SUB TOTAL",null,null,{"$f":"SUM((D119)+(D126)+(D130)+(D135)+(D141)+(D148)+(D152))","v":0},"SUB TOTAL",null,null,null,{"$f":"SUM((I119)+(I122)+(I137)+(I129)+(I144))","v":0},"CALCULATIOIN without CAD",null,null,null,{"$f":"ROUND(((N152)*0.625)*1,0)","v":0}]
["CALCULATION",null,null,"/70","CALCULATION",null,null,null,"/50","CALCULATION with CAD",null,null,null,{"$f":"ROUND(((N154)*0.416666666)*1,0)","v":0}]
["Teacher`s TOTAL",null,null,null,"Teacher`s TOTAL",null,null,null,null,"Teacher`s TOTAL"]
["TOTAL: A",null,null,{"$f":"ROUND(((D156)*0.36)*1,0)","v":0},"TOTAL: B",null,null,null,{"$f":"I156","v":0},"TOTAL: C",null,"Without CAD",null,{"$f":"ROUND(((N152)*0.625)*1,0)","v":0}]
[null,null,null,null,null,null,null,null,null,null,null,"With CAD",null,{"$f":"ROUND(((N154)*0.416666666)*1,0)","v":0}]
[null,null,null,"/25",null,null,null,null,"/50",null,null,null,null,"/25"]
["TEACHER`S TOTAL:",null,null,"A+B+C WITHOUT CAD =  ",null,null,null,{"$f":"SUM((D159)+(I159)+(N159))","v":0},null,"A+B+C WITH CAD",null,null,{"$f":"SUM((D159)+(I159)+(N160))","v":0}]
[null,null,null,null,null,null,null,"/100",null,null,null,null,"/100"]
["Moderated TOTAL",null,null,null,"Moderated TOTAL",null,null,null,null,"Moderated TOTAL"]
["TOTAL: A",null,null,null,"TOTAL: B",null,null,null,null,"TOTAL: C",null,"Without CAD"]
[null,null,null,null,null,null,null,null,null,null,null,"With CAD"]
[null,null,null,"/25",null,null,null,null,"/50",null,null,null,null,"/25"]
["MODERATED TOTAL:",null,null,"A+B+C WITHOUT CAD =  ",null,null,null,null,null,"A+B+C WITH CAD"]
[null,null,null,null,null,null,null,"/100",null,null,null,null,"/100"]

{"sheet":"FIN PAT MARK SHEET","index":16,"n_rows":123,"n_cols":35,"rows_kept":123,"cut":false,"hidden":false,"merged":[[5,24,14,24],[4,15,4,20],[1,2,1,33],[2,9,3,33],[4,2,4,5],[5,31,14,31],[6,2,6,5],[6,6,6,7],[7,2,7,5],[7,6,7,7],[12,6,12,7],[5,16,14,16],[5,19,14,19],[5,2,5,5],[5,6,5,7],[4,9,4,14],[121,2,121,5],[121,9,121,10],[121,11,121,12],[117,2,120,5],[117,6,117,7],[118,6,118,7],[119,6,121,7],[119,9,119,19],[120,9,120,10],[120,11,120,12],[120,15,120,16],[121,15,121,16],[4,6,4,7],[122,9,122,10],[122,11,122,12],[122,15,122,16],[5,20,14,20],[5,17,14,17],[5,18,14,18],[5,21,14,21],[5,12,14,12],[5,9,14,9],[5,11,14,11],[5,10,14,10],[4,32,4,33],[5,32,14,32],[5,33,14,33],[5,13,14,13],[5,14,14,14],[5,15,14,15],[5,25,14,25],[5,26,14,26],[5,27,14,27],[5,28,14,28],[5,29,14,29],[5,22,14,22],[5,23,14,23],[4,21,4,23],[4,24,4,31],[5,30,14,30]]}
[]
[null,null,"ENGINEERING GRAPHICS AND DESIGN"]
[null,null,null,null,null,null,null,null,null,"PROGRAM OF ASSESSMENT  :  PAT"]
[]
[null,null,"School:",null,null,null,{"$f":"INSERT!J3","v":0},null,null,"Phase 1 (term 1)",null,null,null,null,null,"Phase 2 (Term 2)",null,null,null,null,null,"Phase 3 (Term 3)",null,null,"Phase 3 (Q&M3)",null,null,null,null,null,null,null,"Marks"]
[null,null,"Grade:",null,null,null,{"$f":"INSERT!J4","v":0},null,null,"1. Design Brief","2. Research","3.1 Possible solutions","3.2 Possible solutions","4. Selection of Final Solution","Total:36","Drawing paper layout","Presentation drawing 1","Presentation drawing 2","Presentation drawing 3","Presentation Drawing 3D","Total:25","6. Continuous evaluation ","7. Final Presentation & Biblio.","Total:14","Freehan Method","Consistancy: Linework","Instrument Method","Consistancy: Linework","CAD Competency","Layout and correctness","Total: NO CAD 40 / CAD 60","Total: 25","FINAL PAT Mark / 100","PAT Mark / 7"]
[null,null,"Teacher:",null,null,null,{"$f":"INSERT!J5","v":0}]
[null,null,"HOD:",null,null,null,{"$f":"INSERT!J6","v":0}]
[null,null,null,null,null,"SES:",{"$f":"INSERT!J7","v":0},{"$f":"INSERT!K7","v":0}]
[]
[]
[]
[]
[]
[]
[{"$f":"'PAT Detailed'!#REF!","v":{"$error":"#REF!"}},null,"Nr.",null,"Class","Admission","Surname","Name","Gender",10,10,10,10,10,{"$f":"SUM((J16+K16+L16+M16+N16)/1.388888888)","v":36.000000023039995},10,10,10,10,10,{"$f":"SUM(P16:T16)/2","v":25},10,10,{"$f":"SUM(V16+W16)/1.428571428","v":14.0000000056},10,10,10,10,10,10,null,25,100," / 7"]
[{"$f":"'PAT Detailed'!#REF!","v":{"$error":"#REF!"}}]
[{"$f":"'PAT Detailed'!#REF!","v":{"$error":"#REF!"}},{"$f":"SUM(COUNTA(G18)+COUNT(C18))","v":2},1,1,{"$f":"INSERT!A3","v":0},{"$f":"INSERT!B3","v":0},{"$f":"INSERT!C3","v":0},{"$f":"INSERT!D3","v":0},{"$f":"INSERT!E3","v":0},{"$f":"'PAT Detailed'!M16","v":0},{"$f":"'PAT Detailed'!S16","v":0},{"$f":"'PAT Detailed'!AA16","v":0},{"$f":"'PAT Detailed'!AI16","v":0},{"$f":"'PAT Detailed'!AP16","v":0},{"$f":"SUM((J18+K18+L18+M18+N18)/1.388888888)","v":0},{"$f":"'PAT Detailed'!AT16","v":0},{"$f":"'PAT Detailed'!BB16","v":0},{"$f":"'PAT Detailed'!BI16","v":0},{"$f":"'PAT Detailed'!BP16","v":0},{"$f":"'PAT Detailed'!BV16","v":0},{"$f":"SUM(P18:T18)/2","v":0},{"$f":"'PAT Detailed'!CE16","v":0},{"$f":"'PAT Detailed'!CK16","v":0},{"$f":"SUM(V18+W18)/1.428571428","v":0},{"$f":"'PAT Detailed'!BW16","v":0},{"$f":"'PAT Detailed'!BX16","v":0},{"$f":"'PAT Detailed'!BY16","v":0},{"$f":"'PAT Detailed'!BZ16","v":0},{"$f":"'PAT Detailed'!CA16","v":0},{"$f":"'PAT Detailed'!CB16","v":0},{"$f":"SUMIF(Y18:AD18,\">0\")","v":0},{"$f":"IF(AI18=4,SUMIF(Y18:AB18,\">0\")/1.6,IF(AI18=6,SUMIF(Y18:AD18,\">0\")/2.4,SUMIF(Y18:AD18,\">0\")))","v":0},{"$f":"SUM(O18+U18+X18+AF18)","v":0},{"$f":"IF(AG18>79,\"7\",IF(AG18>69,\"6\",IF(AG18>59,\"5\",IF(AG18>49,\"4\",IF(AG18>39,\"3\",IF(AG18>29,\"2\",IF(AG18>0,\"1\",IF(AG18=0,\"\"))))))))","v":""},{"$f":"COUNTIF(Y18:AD18,\">0\")","v":0}]
[{"$f":"'PAT Detailed'!#REF!","v":{"$error":"#REF!"}},{"$f":"SUM(COUNTA(G19)+COUNT(C19))","v":2},{"$f":"C18+1","v":2},2,{"$f":"INSERT!A4","v":0},{"$f":"INSERT!B4","v":0},{"$f":"INSERT!C4","v":0},{"$f":"INSERT!D4","v":0},{"$f":"INSERT!E4","v":0},{"$f":"'PAT Detailed'!M17","v":0},{"$f":"'PAT Detailed'!S17","v":0},{"$f":"'PAT Detailed'!AA17","v":0},{"$f":"'PAT Detailed'!AI17","v":0},{"$f":"'PAT Detailed'!AP17","v":0},{"$f":"SUM((J19+K19+L19+M19+N19)/1.388888888)","v":0},{"$f":"'PAT Detailed'!AT17","v":0},{"$f":"'PAT Detailed'!BB17","v":0},{"$f":"'PAT Detailed'!BI17","v":0},{"$f":"'PAT Detailed'!BP17","v":0},{"$f":"'PAT Detailed'!BV17","v":0},{"$f":"SUM(P19:T19)/2","v":0},{"$f":"'PAT Detailed'!CE17","v":0},{"$f":"'PAT Detailed'!CK17","v":0},{"$f":"SUM(V19+W19)/1.428571428","v":0},{"$f":"'PAT Detailed'!BW17","v":0},{"$f":"'PAT Detailed'!BX17","v":0},{"$f":"'PAT Detailed'!BY17","v":0},{"$f":"'PAT Detailed'!BZ17","v":0},{"$f":"'PAT Detailed'!CA17","v":0},{"$f":"'PAT Detailed'!CB17","v":0},{"$f":"SUMIF(Y19:AD19,\">0\")","v":0},{"$f":"IF(AI19=4,SUMIF(Y19:AB19,\">0\")/1.6,IF(AI19=6,SUMIF(Y19:AD19,\">0\")/2.4,SUMIF(Y19:AD19,\">0\")))","v":0},{"$f":"SUM(O19+U19+X19+AF19)","v":0},{"$f":"IF(AG19>79,\"7\",IF(AG19>69,\"6\",IF(AG19>59,\"5\",IF(AG19>49,\"4\",IF(AG19>39,\"3\",IF(AG19>29,\"2\",IF(AG19>0,\"1\",IF(AG19=0,\"\"))))))))","v":""},{"$f":"COUNTIF(Y19:AD19,\">0\")","v":0}]
[{"$f":"'PAT Detailed'!#REF!","v":{"$error":"#REF!"}},2,{"$f":"C19+1","v":3},3,{"$f":"INSERT!A5","v":0},{"$f":"INSERT!B5","v":0},{"$f":"INSERT!C5","v":0},{"$f":"INSERT!D5","v":0},{"$f":"INSERT!E5","v":0},{"$f":"'PAT Detailed'!M18","v":0},{"$f":"'PAT Detailed'!S18","v":0},{"$f":"'PAT Detailed'!AA18","v":0},{"$f":"'PAT Detailed'!AI18","v":0},{"$f":"'PAT Detailed'!AP18","v":0},0,{"$f":"'PAT Detailed'!AT18","v":0},{"$f":"'PAT Detailed'!BB18","v":0},{"$f":"'PAT Detailed'!BI18","v":0},{"$f":"'PAT Detailed'!BP18","v":0},{"$f":"'PAT Detailed'!BV18","v":0},0,{"$f":"'PAT Detailed'!CE18","v":0},{"$f":"'PAT Detailed'!CK18","v":0},0,{"$f":"'PAT Detailed'!BW18","v":0},{"$f":"'PAT Detailed'!BX18","v":0},{"$f":"'PAT Detailed'!BY18","v":0},{"$f":"'PAT Detailed'!BZ18","v":0},{"$f":"'PAT Detailed'!CA18","v":0},{"$f":"'PAT Detailed'!CB18","v":0},0,0,0,"",0]
[{"$f":"'PAT Detailed'!#REF!","v":{"$error":"#REF!"}},2,4,4,{"$f":"INSERT!A6","v":0},{"$f":"INSERT!B6","v":0},{"$f":"INSERT!C6","v":0},{"$f":"INSERT!D6","v":0},{"$f":"INSERT!E6","v":0},{"$f":"'PAT Detailed'!M19","v":0},{"$f":"'PAT Detailed'!S19","v":0},{"$f":"'PAT Detailed'!AA19","v":0},{"$f":"'PAT Detailed'!AI19","v":0},{"$f":"'PAT Detailed'!AP19","v":0},0,{"$f":"'PAT Detailed'!AT19","v":0},{"$f":"'PAT Detailed'!BB19","v":0},{"$f":"'PAT Detailed'!BI19","v":0},{"$f":"'PAT Detailed'!BP19","v":0},{"$f":"'PAT Detailed'!BV19","v":0},0,{"$f":"'PAT Detailed'!CE19","v":0},{"$f":"'PAT Detailed'!CK19","v":0},0,{"$f":"'PAT Detailed'!BW19","v":0},{"$f":"'PAT Detailed'!BX19","v":0},{"$f":"'PAT Detailed'!BY19","v":0},{"$f":"'PAT Detailed'!BZ19","v":0},{"$f":"'PAT Detailed'!CA19","v":0},{"$f":"'PAT Detailed'!CB19","v":0},0,0,0,"",0]
[{"$f":"'PAT Detailed'!#REF!","v":{"$error":"#REF!"}},2,5,5,{"$f":"INSERT!A7","v":0},{"$f":"INSERT!B7","v":0},{"$f":"INSERT!C7","v":0},{"$f":"INSERT!D7","v":0},{"$f":"INSERT!E7","v":0},{"$f":"'PAT Detailed'!M20","v":0},{"$f":"'PAT Detailed'!S20","v":0},{"$f":"'PAT Detailed'!AA20","v":0},{"$f":"'PAT Detailed'!AI20","v":0},{"$f":"'PAT Detailed'!AP20","v":0},0,{"$f":"'PAT Detailed'!AT20","v":0},{"$f":"'PAT Detailed'!BB20","v":0},{"$f":"'PAT Detailed'!BI20","v":0},{"$f":"'PAT Detailed'!BP20","v":0},{"$f":"'PAT Detailed'!BV20","v":0},0,{"$f":"'PAT Detailed'!CE20","v":0},{"$f":"'PAT Detailed'!CK20","v":0},0,{"$f":"'PAT Detailed'!BW20","v":0},{"$f":"'PAT Detailed'!BX20","v":0},{"$f":"'PAT Detailed'!BY20","v":0},{"$f":"'PAT Detailed'!BZ20","v":0},{"$f":"'PAT Detailed'!CA20","v":0},{"$f":"'PAT Detailed'!CB20","v":0},0,0,0,"",0]
[{"$f":"'PAT Detailed'!#REF!","v":{"$error":"#REF!"}},2,6,6,{"$f":"INSERT!A8","v":0},{"$f":"INSERT!B8","v":0},{"$f":"INSERT!C8","v":0},{"$f":"INSERT!D8","v":0},{"$f":"INSERT!E8","v":0},{"$f":"'PAT Detailed'!M21","v":0},{"$f":"'PAT Detailed'!S21","v":0},{"$f":"'PAT Detailed'!AA21","v":0},{"$f":"'PAT Detailed'!AI21","v":0},{"$f":"'PAT Detailed'!AP21","v":0},0,{"$f":"'PAT Detailed'!AT21","v":0},{"$f":"'PAT Detailed'!BB21","v":0},{"$f":"'PAT Detailed'!BI21","v":0},{"$f":"'PAT Detailed'!BP21","v":0},{"$f":"'PAT Detailed'!BV21","v":0},0,{"$f":"'PAT Detailed'!CE21","v":0},{"$f":"'PAT Detailed'!CK21","v":0},0,{"$f":"'PAT Detailed'!BW21","v":0},{"$f":"'PAT Detailed'!BX21","v":0},{"$f":"'PAT Detailed'!BY21","v":0},{"$f":"'PAT Detailed'!BZ21","v":0},{"$f":"'PAT Detailed'!CA21","v":0},{"$f":"'PAT Detailed'!CB21","v":0},0,0,0,"",0]
[{"$f":"'PAT Detailed'!#REF!","v":{"$error":"#REF!"}},2,7,7,{"$f":"INSERT!A9","v":0},{"$f":"INSERT!B9","v":0},{"$f":"INSERT!C9","v":0},{"$f":"INSERT!D9","v":0},{"$f":"INSERT!E9","v":0},{"$f":"'PAT Detailed'!M22","v":0},{"$f":"'PAT Detailed'!S22","v":0},{"$f":"'PAT Detailed'!AA22","v":0},{"$f":"'PAT Detailed'!AI22","v":0},{"$f":"'PAT Detailed'!AP22","v":0},0,{"$f":"'PAT Detailed'!AT22","v":0},{"$f":"'PAT Detailed'!BB22","v":0},{"$f":"'PAT Detailed'!BI22","v":0},{"$f":"'PAT Detailed'!BP22","v":0},{"$f":"'PAT Detailed'!BV22","v":0},0,{"$f":"'PAT Detailed'!CE22","v":0},{"$f":"'PAT Detailed'!CK22","v":0},0,{"$f":"'PAT Detailed'!BW22","v":0},{"$f":"'PAT Detailed'!BX22","v":0},{"$f":"'PAT Detailed'!BY22","v":0},{"$f":"'PAT Detailed'!BZ22","v":0},{"$f":"'PAT Detailed'!CA22","v":0},{"$f":"'PAT Detailed'!CB22","v":0},0,0,0,"",0]
[{"$f":"'PAT Detailed'!#REF!","v":{"$error":"#REF!"}},2,8,8,{"$f":"INSERT!A10","v":0},{"$f":"INSERT!B10","v":0},{"$f":"INSERT!C10","v":0},{"$f":"INSERT!D10","v":0},{"$f":"INSERT!E10","v":0},{"$f":"'PAT Detailed'!M23","v":0},{"$f":"'PAT Detailed'!S23","v":0},{"$f":"'PAT Detailed'!AA23","v":0},{"$f":"'PAT Detailed'!AI23","v":0},{"$f":"'PAT Detailed'!AP23","v":0},0,{"$f":"'PAT Detailed'!AT23","v":0},{"$f":"'PAT Detailed'!BB23","v":0},{"$f":"'PAT Detailed'!BI23","v":0},{"$f":"'PAT Detailed'!BP23","v":0},{"$f":"'PAT Detailed'!BV23","v":0},0,{"$f":"'PAT Detailed'!CE23","v":0},{"$f":"'PAT Detailed'!CK23","v":0},0,{"$f":"'PAT Detailed'!BW23","v":0},{"$f":"'PAT Detailed'!BX23","v":0},{"$f":"'PAT Detailed'!BY23","v":0},{"$f":"'PAT Detailed'!BZ23","v":0},{"$f":"'PAT Detailed'!CA23","v":0},{"$f":"'PAT Detailed'!CB23","v":0},0,0,0,"",0]
[{"$f":"'PAT Detailed'!#REF!","v":{"$error":"#REF!"}},2,9,9,{"$f":"INSERT!A11","v":0},{"$f":"INSERT!B11","v":0},{"$f":"INSERT!C11","v":0},{"$f":"INSERT!D11","v":0},{"$f":"INSERT!E11","v":0},{"$f":"'PAT Detailed'!M24","v":0},{"$f":"'PAT Detailed'!S24","v":0},{"$f":"'PAT Detailed'!AA24","v":0},{"$f":"'PAT Detailed'!AI24","v":0},{"$f":"'PAT Detailed'!AP24","v":0},0,{"$f":"'PAT Detailed'!AT24","v":0},{"$f":"'PAT Detailed'!BB24","v":0},{"$f":"'PAT Detailed'!BI24","v":0},{"$f":"'PAT Detailed'!BP24","v":0},{"$f":"'PAT Detailed'!BV24","v":0},0,{"$f":"'PAT Detailed'!CE24","v":0},{"$f":"'PAT Detailed'!CK24","v":0},0,{"$f":"'PAT Detailed'!BW24","v":0},{"$f":"'PAT Detailed'!BX24","v":0},{"$f":"'PAT Detailed'!BY24","v":0},{"$f":"'PAT Detailed'!BZ24","v":0},{"$f":"'PAT Detailed'!CA24","v":0},{"$f":"'PAT Detailed'!CB24","v":0},0,0,0,"",0]
[{"$f":"'PAT Detailed'!#REF!","v":{"$error":"#REF!"}},2,10,10,{"$f":"INSERT!A12","v":0},{"$f":"INSERT!B12","v":0},{"$f":"INSERT!C12","v":0},{"$f":"INSERT!D12","v":0},{"$f":"INSERT!E12","v":0},{"$f":"'PAT Detailed'!M25","v":0},{"$f":"'PAT Detailed'!S25","v":0},{"$f":"'PAT Detailed'!AA25","v":0},{"$f":"'PAT Detailed'!AI25","v":0},{"$f":"'PAT Detailed'!AP25","v":0},0,{"$f":"'PAT Detailed'!AT25","v":0},{"$f":"'PAT Detailed'!BB25","v":0},{"$f":"'PAT Detailed'!BI25","v":0},{"$f":"'PAT Detailed'!BP25","v":0},{"$f":"'PAT Detailed'!BV25","v":0},0,{"$f":"'PAT Detailed'!CE25","v":0},{"$f":"'PAT Detailed'!CK25","v":0},0,{"$f":"'PAT Detailed'!BW25","v":0},{"$f":"'PAT Detailed'!BX25","v":0},{"$f":"'PAT Detailed'!BY25","v":0},{"$f":"'PAT Detailed'!BZ25","v":0},{"$f":"'PAT Detailed'!CA25","v":0},{"$f":"'PAT Detailed'!CB25","v":0},0,0,0,"",0]
[{"$f":"'PAT Detailed'!#REF!","v":{"$error":"#REF!"}},2,11,11,{"$f":"INSERT!A13","v":0},{"$f":"INSERT!B13","v":0},{"$f":"INSERT!C13","v":0},{"$f":"INSERT!D13","v":0},{"$f":"INSERT!E13","v":0},{"$f":"'PAT Detailed'!M26","v":0},{"$f":"'PAT Detailed'!S26","v":0},{"$f":"'PAT Detailed'!AA26","v":0},{"$f":"'PAT Detailed'!AI26","v":0},{"$f":"'PAT Detailed'!AP26","v":0},0,{"$f":"'PAT Detailed'!AT26","v":0},{"$f":"'PAT Detailed'!BB26","v":0},{"$f":"'PAT Detailed'!BI26","v":0},{"$f":"'PAT Detailed'!BP26","v":0},{"$f":"'PAT Detailed'!BV26","v":0},0,{"$f":"'PAT Detailed'!CE26","v":0},{"$f":"'PAT Detailed'!CK26","v":0},0,{"$f":"'PAT Detailed'!BW26","v":0},{"$f":"'PAT Detailed'!BX26","v":0},{"$f":"'PAT Detailed'!BY26","v":0},{"$f":"'PAT Detailed'!BZ26","v":0},{"$f":"'PAT Detailed'!CA26","v":0},{"$f":"'PAT Detailed'!CB26","v":0},0,0,0,"",0]
[{"$f":"'PAT Detailed'!#REF!","v":{"$error":"#REF!"}},null,12,12,{"$f":"INSERT!A14","v":0},{"$f":"INSERT!B14","v":0},{"$f":"INSERT!C14","v":0},{"$f":"INSERT!D14","v":0},{"$f":"INSERT!E14","v":0},{"$f":"'PAT Detailed'!M27","v":0},{"$f":"'PAT Detailed'!S27","v":0},{"$f":"'PAT Detailed'!AA27","v":0},{"$f":"'PAT Detailed'!AI27","v":0},{"$f":"'PAT Detailed'!AP27","v":0},0,{"$f":"'PAT Detailed'!AT27","v":0},{"$f":"'PAT Detailed'!BB27","v":0},{"$f":"'PAT Detailed'!BI27","v":0},{"$f":"'PAT Detailed'!BP27","v":0},{"$f":"'PAT Detailed'!BV27","v":0},0,{"$f":"'PAT Detailed'!CE27","v":0},{"$f":"'PAT Detailed'!CK27","v":0},0,{"$f":"'PAT Detailed'!BW27","v":0},{"$f":"'PAT Detailed'!BX27","v":0},{"$f":"'PAT Detailed'!BY27","v":0},{"$f":"'PAT Detailed'!BZ27","v":0},{"$f":"'PAT Detailed'!CA27","v":0},{"$f":"'PAT Detailed'!CB27","v":0},0,0,0,"",0]
[{"$f":"'PAT Detailed'!#REF!","v":{"$error":"#REF!"}},null,13,13,{"$f":"INSERT!A15","v":0},{"$f":"INSERT!B15","v":0},{"$f":"INSERT!C15","v":0},{"$f":"INSERT!D15","v":0},{"$f":"INSERT!E15","v":0},{"$f":"'PAT Detailed'!M28","v":0},{"$f":"'PAT Detailed'!S28","v":0},{"$f":"'PAT Detailed'!AA28","v":0},{"$f":"'PAT Detailed'!AI28","v":0},{"$f":"'PAT Detailed'!AP28","v":0},0,{"$f":"'PAT Detailed'!AT28","v":0},{"$f":"'PAT Detailed'!BB28","v":0},{"$f":"'PAT Detailed'!BI28","v":0},{"$f":"'PAT Detailed'!BP28","v":0},{"$f":"'PAT Detailed'!BV28","v":0},0,{"$f":"'PAT Detailed'!CE28","v":0},{"$f":"'PAT Detailed'!CK28","v":0},0,{"$f":"'PAT Detailed'!BW28","v":0},{"$f":"'PAT Detailed'!BX28","v":0},{"$f":"'PAT Detailed'!BY28","v":0},{"$f":"'PAT Detailed'!BZ28","v":0},{"$f":"'PAT Detailed'!CA28","v":0},{"$f":"'PAT Detailed'!CB28","v":0},0,0,0,"",0]
[{"$f":"'PAT Detailed'!#REF!","v":{"$error":"#REF!"}},null,14,14,{"$f":"INSERT!A16","v":0},{"$f":"INSERT!B16","v":0},{"$f":"INSERT!C16","v":0},{"$f":"INSERT!D16","v":0},{"$f":"INSERT!E16","v":0},{"$f":"'PAT Detailed'!M29","v":0},{"$f":"'PAT Detailed'!S29","v":0},{"$f":"'PAT Detailed'!AA29","v":0},{"$f":"'PAT Detailed'!AI29","v":0},{"$f":"'PAT Detailed'!AP29","v":0},0,{"$f":"'PAT Detailed'!AT29","v":0},{"$f":"'PAT Detailed'!BB29","v":0},{"$f":"'PAT Detailed'!BI29","v":0},{"$f":"'PAT Detailed'!BP29","v":0},{"$f":"'PAT Detailed'!BV29","v":0},0,{"$f":"'PAT Detailed'!CE29","v":0},{"$f":"'PAT Detailed'!CK29","v":0},0,{"$f":"'PAT Detailed'!BW29","v":0},{"$f":"'PAT Detailed'!BX29","v":0},{"$f":"'PAT Detailed'!BY29","v":0},{"$f":"'PAT Detailed'!BZ29","v":0},{"$f":"'PAT Detailed'!CA29","v":0},{"$f":"'PAT Detailed'!CB29","v":0},0,0,0,"",0]
[{"$f":"'PAT Detailed'!#REF!","v":{"$error":"#REF!"}},null,15,15,{"$f":"INSERT!A17","v":0},{"$f":"INSERT!B17","v":0},{"$f":"INSERT!C17","v":0},{"$f":"INSERT!D17","v":0},{"$f":"INSERT!E17","v":0},{"$f":"'PAT Detailed'!M30","v":0},{"$f":"'PAT Detailed'!S30","v":0},{"$f":"'PAT Detailed'!AA30","v":0},{"$f":"'PAT Detailed'!AI30","v":0},{"$f":"'PAT Detailed'!AP30","v":0},0,{"$f":"'PAT Detailed'!AT30","v":0},{"$f":"'PAT Detailed'!BB30","v":0},{"$f":"'PAT Detailed'!BI30","v":0},{"$f":"'PAT Detailed'!BP30","v":0},{"$f":"'PAT Detailed'!BV30","v":0},0,{"$f":"'PAT Detailed'!CE30","v":0},{"$f":"'PAT Detailed'!CK30","v":0},0,{"$f":"'PAT Detailed'!BW30","v":0},{"$f":"'PAT Detailed'!BX30","v":0},{"$f":"'PAT Detailed'!BY30","v":0},{"$f":"'PAT Detailed'!BZ30","v":0},{"$f":"'PAT Detailed'!CA30","v":0},{"$f":"'PAT Detailed'!CB30","v":0},0,0,0,"",0]
[{"$f":"'PAT Detailed'!#REF!","v":{"$error":"#REF!"}},null,16,16,{"$f":"INSERT!A18","v":0},{"$f":"INSERT!B18","v":0},{"$f":"INSERT!C18","v":0},{"$f":"INSERT!D18","v":0},{"$f":"INSERT!E18","v":0},{"$f":"'PAT Detailed'!M31","v":0},{"$f":"'PAT Detailed'!S31","v":0},{"$f":"'PAT Detailed'!AA31","v":0},{"$f":"'PAT Detailed'!AI31","v":0},{"$f":"'PAT Detailed'!AP31","v":0},0,{"$f":"'PAT Detailed'!AT31","v":0},{"$f":"'PAT Detailed'!BB31","v":0},{"$f":"'PAT Detailed'!BI31","v":0},{"$f":"'PAT Detailed'!BP31","v":0},{"$f":"'PAT Detailed'!BV31","v":0},0,{"$f":"'PAT Detailed'!CE31","v":0},{"$f":"'PAT Detailed'!CK31","v":0},0,{"$f":"'PAT Detailed'!BW31","v":0},{"$f":"'PAT Detailed'!BX31","v":0},{"$f":"'PAT Detailed'!BY31","v":0},{"$f":"'PAT Detailed'!BZ31","v":0},{"$f":"'PAT Detailed'!CA31","v":0},{"$f":"'PAT Detailed'!CB31","v":0},0,0,0,"",0]
[{"$f":"'PAT Detailed'!#REF!","v":{"$error":"#REF!"}},null,17,17,{"$f":"INSERT!A19","v":0},{"$f":"INSERT!B19","v":0},{"$f":"INSERT!C19","v":0},{"$f":"INSERT!D19","v":0},{"$f":"INSERT!E19","v":0},{"$f":"'PAT Detailed'!M32","v":0},{"$f":"'PAT Detailed'!S32","v":0},{"$f":"'PAT Detailed'!AA32","v":0},{"$f":"'PAT Detailed'!AI32","v":0},{"$f":"'PAT Detailed'!AP32","v":0},0,{"$f":"'PAT Detailed'!AT32","v":0},{"$f":"'PAT Detailed'!BB32","v":0},{"$f":"'PAT Detailed'!BI32","v":0},{"$f":"'PAT Detailed'!BP32","v":0},{"$f":"'PAT Detailed'!BV32","v":0},0,{"$f":"'PAT Detailed'!CE32","v":0},{"$f":"'PAT Detailed'!CK32","v":0},0,{"$f":"'PAT Detailed'!BW32","v":0},{"$f":"'PAT Detailed'!BX32","v":0},{"$f":"'PAT Detailed'!BY32","v":0},{"$f":"'PAT Detailed'!BZ32","v":0},{"$f":"'PAT Detailed'!CA32","v":0},{"$f":"'PAT Detailed'!CB32","v":0},0,0,0,"",0]
[{"$f":"'PAT Detailed'!#REF!","v":{"$error":"#REF!"}},null,{"$f":"C34+1","v":18},18,{"$f":"INSERT!A20","v":0},{"$f":"INSERT!B20","v":0},{"$f":"INSERT!C20","v":0},{"$f":"INSERT!D20","v":0},{"$f":"INSERT!E20","v":0},{"$f":"'PAT Detailed'!M33","v":0},{"$f":"'PAT Detailed'!S33","v":0},{"$f":"'PAT Detailed'!AA33","v":0},{"$f":"'PAT Detailed'!AI33","v":0},{"$f":"'PAT Detailed'!AP33","v":0},0,{"$f":"'PAT Detailed'!AT33","v":0},{"$f":"'PAT Detailed'!BB33","v":0},{"$f":"'PAT Detailed'!BI33","v":0},{"$f":"'PAT Detailed'!BP33","v":0},{"$f":"'PAT Detailed'!BV33","v":0},0,{"$f":"'PAT Detailed'!CE33","v":0},{"$f":"'PAT Detailed'!CK33","v":0},0,{"$f":"'PAT Detailed'!BW33","v":0},{"$f":"'PAT Detailed'!BX33","v":0},{"$f":"'PAT Detailed'!BY33","v":0},{"$f":"'PAT Detailed'!BZ33","v":0},{"$f":"'PAT Detailed'!CA33","v":0},{"$f":"'PAT Detailed'!CB33","v":0},0,0,0,"",0]
[{"$f":"'PAT Detailed'!#REF!","v":{"$error":"#REF!"}},null,19,19,{"$f":"INSERT!A21","v":0},{"$f":"INSERT!B21","v":0},{"$f":"INSERT!C21","v":0},{"$f":"INSERT!D21","v":0},{"$f":"INSERT!E21","v":0},{"$f":"'PAT Detailed'!M34","v":0},{"$f":"'PAT Detailed'!S34","v":0},{"$f":"'PAT Detailed'!AA34","v":0},{"$f":"'PAT Detailed'!AI34","v":0},{"$f":"'PAT Detailed'!AP34","v":0},0,{"$f":"'PAT Detailed'!AT34","v":0},{"$f":"'PAT Detailed'!BB34","v":0},{"$f":"'PAT Detailed'!BI34","v":0},{"$f":"'PAT Detailed'!BP34","v":0},{"$f":"'PAT Detailed'!BV34","v":0},0,{"$f":"'PAT Detailed'!CE34","v":0},{"$f":"'PAT Detailed'!CK34","v":0},0,{"$f":"'PAT Detailed'!BW34","v":0},{"$f":"'PAT Detailed'!BX34","v":0},{"$f":"'PAT Detailed'!BY34","v":0},{"$f":"'PAT Detailed'!BZ34","v":0},{"$f":"'PAT Detailed'!CA34","v":0},{"$f":"'PAT Detailed'!CB34","v":0},0,0,0,"",0]
[{"$f":"'PAT Detailed'!#REF!","v":{"$error":"#REF!"}},null,20,20,{"$f":"INSERT!A22","v":0},{"$f":"INSERT!B22","v":0},{"$f":"INSERT!C22","v":0},{"$f":"INSERT!D22","v":0},{"$f":"INSERT!E22","v":0},{"$f":"'PAT Detailed'!M35","v":0},{"$f":"'PAT Detailed'!S35","v":0},{"$f":"'PAT Detailed'!AA35","v":0},{"$f":"'PAT Detailed'!AI35","v":0},{"$f":"'PAT Detailed'!AP35","v":0},0,{"$f":"'PAT Detailed'!AT35","v":0},{"$f":"'PAT Detailed'!BB35","v":0},{"$f":"'PAT Detailed'!BI35","v":0},{"$f":"'PAT Detailed'!BP35","v":0},{"$f":"'PAT Detailed'!BV35","v":0},0,{"$f":"'PAT Detailed'!CE35","v":0},{"$f":"'PAT Detailed'!CK35","v":0},0,{"$f":"'PAT Detailed'!BW35","v":0},{"$f":"'PAT Detailed'!BX35","v":0},{"$f":"'PAT Detailed'!BY35","v":0},{"$f":"'PAT Detailed'!BZ35","v":0},{"$f":"'PAT Detailed'!CA35","v":0},{"$f":"'PAT Detailed'!CB35","v":0},0,0,0,"",0]
[{"$f":"'PAT Detailed'!#REF!","v":{"$error":"#REF!"}},null,21,21,{"$f":"INSERT!A23","v":0},{"$f":"INSERT!B23","v":0},{"$f":"INSERT!C23","v":0},{"$f":"INSERT!D23","v":0},{"$f":"INSERT!E23","v":0},{"$f":"'PAT Detailed'!M36","v":0},{"$f":"'PAT Detailed'!S36","v":0},{"$f":"'PAT Detailed'!AA36","v":0},{"$f":"'PAT Detailed'!AI36","v":0},{"$f":"'PAT Detailed'!AP36","v":0},0,{"$f":"'PAT Detailed'!AT36","v":0},{"$f":"'PAT Detailed'!BB36","v":0},{"$f":"'PAT Detailed'!BI36","v":0},{"$f":"'PAT Detailed'!BP36","v":0},{"$f":"'PAT Detailed'!BV36","v":0},0,{"$f":"'PAT Detailed'!CE36","v":0},{"$f":"'PAT Detailed'!CK36","v":0},0,{"$f":"'PAT Detailed'!BW36","v":0},{"$f":"'PAT Detailed'!BX36","v":0},{"$f":"'PAT Detailed'!BY36","v":0},{"$f":"'PAT Detailed'!BZ36","v":0},{"$f":"'PAT Detailed'!CA36","v":0},{"$f":"'PAT Detailed'!CB36","v":0},0,0,0,"",0]
[{"$f":"'PAT Detailed'!#REF!","v":{"$error":"#REF!"}},null,22,22,{"$f":"INSERT!A24","v":0},{"$f":"INSERT!B24","v":0},{"$f":"INSERT!C24","v":0},{"$f":"INSERT!D24","v":0},{"$f":"INSERT!E24","v":0},{"$f":"'PAT Detailed'!M37","v":0},{"$f":"'PAT Detailed'!S37","v":0},{"$f":"'PAT Detailed'!AA37","v":0},{"$f":"'PAT Detailed'!AI37","v":0},{"$f":"'PAT Detailed'!AP37","v":0},0,{"$f":"'PAT Detailed'!AT37","v":0},{"$f":"'PAT Detailed'!BB37","v":0},{"$f":"'PAT Detailed'!BI37","v":0},{"$f":"'PAT Detailed'!BP37","v":0},{"$f":"'PAT Detailed'!BV37","v":0},0,{"$f":"'PAT Detailed'!CE37","v":0},{"$f":"'PAT Detailed'!CK37","v":0},0,{"$f":"'PAT Detailed'!BW37","v":0},{"$f":"'PAT Detailed'!BX37","v":0},{"$f":"'PAT Detailed'!BY37","v":0},{"$f":"'PAT Detailed'!BZ37","v":0},{"$f":"'PAT Detailed'!CA37","v":0},{"$f":"'PAT Detailed'!CB37","v":0},0,0,0,"",0]
[{"$f":"'PAT Detailed'!#REF!","v":{"$error":"#REF!"}},null,23,23,{"$f":"INSERT!A25","v":0},{"$f":"INSERT!B25","v":0},{"$f":"INSERT!C25","v":0},{"$f":"INSERT!D25","v":0},{"$f":"INSERT!E25","v":0},{"$f":"'PAT Detailed'!M38","v":0},{"$f":"'PAT Detailed'!S38","v":0},{"$f":"'PAT Detailed'!AA38","v":0},{"$f":"'PAT Detailed'!AI38","v":0},{"$f":"'PAT Detailed'!AP38","v":0},0,{"$f":"'PAT Detailed'!AT38","v":0},{"$f":"'PAT Detailed'!BB38","v":0},{"$f":"'PAT Detailed'!BI38","v":0},{"$f":"'PAT Detailed'!BP38","v":0},{"$f":"'PAT Detailed'!BV38","v":0},0,{"$f":"'PAT Detailed'!CE38","v":0},{"$f":"'PAT Detailed'!CK38","v":0},0,{"$f":"'PAT Detailed'!BW38","v":0},{"$f":"'PAT Detailed'!BX38","v":0},{"$f":"'PAT Detailed'!BY38","v":0},{"$f":"'PAT Detailed'!BZ38","v":0},{"$f":"'PAT Detailed'!CA38","v":0},{"$f":"'PAT Detailed'!CB38","v":0},0,0,0,"",0]
[{"$f":"'PAT Detailed'!#REF!","v":{"$error":"#REF!"}},null,24,24,{"$f":"INSERT!A26","v":0},{"$f":"INSERT!B26","v":0},{"$f":"INSERT!C26","v":0},{"$f":"INSERT!D26","v":0},{"$f":"INSERT!E26","v":0},{"$f":"'PAT Detailed'!M39","v":0},{"$f":"'PAT Detailed'!S39","v":0},{"$f":"'PAT Detailed'!AA39","v":0},{"$f":"'PAT Detailed'!AI39","v":0},{"$f":"'PAT Detailed'!AP39","v":0},0,{"$f":"'PAT Detailed'!AT39","v":0},{"$f":"'PAT Detailed'!BB39","v":0},{"$f":"'PAT Detailed'!BI39","v":0},{"$f":"'PAT Detailed'!BP39","v":0},{"$f":"'PAT Detailed'!BV39","v":0},0,{"$f":"'PAT Detailed'!CE39","v":0},{"$f":"'PAT Detailed'!CK39","v":0},0,{"$f":"'PAT Detailed'!BW39","v":0},{"$f":"'PAT Detailed'!BX39","v":0},{"$f":"'PAT Detailed'!BY39","v":0},{"$f":"'PAT Detailed'!BZ39","v":0},{"$f":"'PAT Detailed'!CA39","v":0},{"$f":"'PAT Detailed'!CB39","v":0},0,0,0,"",0]
[{"$f":"'PAT Detailed'!#REF!","v":{"$error":"#REF!"}},null,25,25,{"$f":"INSERT!A27","v":0},{"$f":"INSERT!B27","v":0},{"$f":"INSERT!C27","v":0},{"$f":"INSERT!D27","v":0},{"$f":"INSERT!E27","v":0},{"$f":"'PAT Detailed'!M40","v":0},{"$f":"'PAT Detailed'!S40","v":0},{"$f":"'PAT Detailed'!AA40","v":0},{"$f":"'PAT Detailed'!AI40","v":0},{"$f":"'PAT Detailed'!AP40","v":0},0,{"$f":"'PAT Detailed'!AT40","v":0},{"$f":"'PAT Detailed'!BB40","v":0},{"$f":"'PAT Detailed'!BI40","v":0},{"$f":"'PAT Detailed'!BP40","v":0},{"$f":"'PAT Detailed'!BV40","v":0},0,{"$f":"'PAT Detailed'!CE40","v":0},{"$f":"'PAT Detailed'!CK40","v":0},0,{"$f":"'PAT Detailed'!BW40","v":0},{"$f":"'PAT Detailed'!BX40","v":0},{"$f":"'PAT Detailed'!BY40","v":0},{"$f":"'PAT Detailed'!BZ40","v":0},{"$f":"'PAT Detailed'!CA40","v":0},{"$f":"'PAT Detailed'!CB40","v":0},0,0,0,"",0]
[{"$f":"'PAT Detailed'!#REF!","v":{"$error":"#REF!"}},null,26,26,{"$f":"INSERT!A28","v":0},{"$f":"INSERT!B28","v":0},{"$f":"INSERT!C28","v":0},{"$f":"INSERT!D28","v":0},{"$f":"INSERT!E28","v":0},{"$f":"'PAT Detailed'!M41","v":0},{"$f":"'PAT Detailed'!S41","v":0},{"$f":"'PAT Detailed'!AA41","v":0},{"$f":"'PAT Detailed'!AI41","v":0},{"$f":"'PAT Detailed'!AP41","v":0},0,{"$f":"'PAT Detailed'!AT41","v":0},{"$f":"'PAT Detailed'!BB41","v":0},{"$f":"'PAT Detailed'!BI41","v":0},{"$f":"'PAT Detailed'!BP41","v":0},{"$f":"'PAT Detailed'!BV41","v":0},0,{"$f":"'PAT Detailed'!CE41","v":0},{"$f":"'PAT Detailed'!CK41","v":0},0,{"$f":"'PAT Detailed'!BW41","v":0},{"$f":"'PAT Detailed'!BX41","v":0},{"$f":"'PAT Detailed'!BY41","v":0},{"$f":"'PAT Detailed'!BZ41","v":0},{"$f":"'PAT Detailed'!CA41","v":0},{"$f":"'PAT Detailed'!CB41","v":0},0,0,0,"",0]
[{"$f":"'PAT Detailed'!#REF!","v":{"$error":"#REF!"}},null,27,27,{"$f":"INSERT!A29","v":0},{"$f":"INSERT!B29","v":0},{"$f":"INSERT!C29","v":0},{"$f":"INSERT!D29","v":0},{"$f":"INSERT!E29","v":0},{"$f":"'PAT Detailed'!M42","v":0},{"$f":"'PAT Detailed'!S42","v":0},{"$f":"'PAT Detailed'!AA42","v":0},{"$f":"'PAT Detailed'!AI42","v":0},{"$f":"'PAT Detailed'!AP42","v":0},0,{"$f":"'PAT Detailed'!AT42","v":0},{"$f":"'PAT Detailed'!BB42","v":0},{"$f":"'PAT Detailed'!BI42","v":0},{"$f":"'PAT Detailed'!BP42","v":0},{"$f":"'PAT Detailed'!BV42","v":0},0,{"$f":"'PAT Detailed'!CE42","v":0},{"$f":"'PAT Detailed'!CK42","v":0},0,{"$f":"'PAT Detailed'!BW42","v":0},{"$f":"'PAT Detailed'!BX42","v":0},{"$f":"'PAT Detailed'!BY42","v":0},{"$f":"'PAT Detailed'!BZ42","v":0},{"$f":"'PAT Detailed'!CA42","v":0},{"$f":"'PAT Detailed'!CB42","v":0},0,0,0,"",0]
[{"$f":"'PAT Detailed'!#REF!","v":{"$error":"#REF!"}},null,28,28,{"$f":"INSERT!A30","v":0},{"$f":"INSERT!B30","v":0},{"$f":"INSERT!C30","v":0},{"$f":"INSERT!D30","v":0},{"$f":"INSERT!E30","v":0},{"$f":"'PAT Detailed'!M43","v":0},{"$f":"'PAT Detailed'!S43","v":0},{"$f":"'PAT Detailed'!AA43","v":0},{"$f":"'PAT Detailed'!AI43","v":0},{"$f":"'PAT Detailed'!AP43","v":0},0,{"$f":"'PAT Detailed'!AT43","v":0},{"$f":"'PAT Detailed'!BB43","v":0},{"$f":"'PAT Detailed'!BI43","v":0},{"$f":"'PAT Detailed'!BP43","v":0},{"$f":"'PAT Detailed'!BV43","v":0},0,{"$f":"'PAT Detailed'!CE43","v":0},{"$f":"'PAT Detailed'!CK43","v":0},0,{"$f":"'PAT Detailed'!BW43","v":0},{"$f":"'PAT Detailed'!BX43","v":0},{"$f":"'PAT Detailed'!BY43","v":0},{"$f":"'PAT Detailed'!BZ43","v":0},{"$f":"'PAT Detailed'!CA43","v":0},{"$f":"'PAT Detailed'!CB43","v":0},0,0,0,"",0]
[{"$f":"'PAT Detailed'!#REF!","v":{"$error":"#REF!"}},null,29,29,{"$f":"INSERT!A31","v":0},{"$f":"INSERT!B31","v":0},{"$f":"INSERT!C31","v":0},{"$f":"INSERT!D31","v":0},{"$f":"INSERT!E31","v":0},{"$f":"'PAT Detailed'!M44","v":0},{"$f":"'PAT Detailed'!S44","v":0},{"$f":"'PAT Detailed'!AA44","v":0},{"$f":"'PAT Detailed'!AI44","v":0},{"$f":"'PAT Detailed'!AP44","v":0},0,{"$f":"'PAT Detailed'!AT44","v":0},{"$f":"'PAT Detailed'!BB44","v":0},{"$f":"'PAT Detailed'!BI44","v":0},{"$f":"'PAT Detailed'!BP44","v":0},{"$f":"'PAT Detailed'!BV44","v":0},0,{"$f":"'PAT Detailed'!CE44","v":0},{"$f":"'PAT Detailed'!CK44","v":0},0,{"$f":"'PAT Detailed'!BW44","v":0},{"$f":"'PAT Detailed'!BX44","v":0},{"$f":"'PAT Detailed'!BY44","v":0},{"$f":"'PAT Detailed'!BZ44","v":0},{"$f":"'PAT Detailed'!CA44","v":0},{"$f":"'PAT Detailed'!CB44","v":0},0,0,0,"",0]
[{"$f":"'PAT Detailed'!#REF!","v":{"$error":"#REF!"}},null,30,30,{"$f":"INSERT!A32","v":0},{"$f":"INSERT!B32","v":0},{"$f":"INSERT!C32","v":0},{"$f":"INSERT!D32","v":0},{"$f":"INSERT!E32","v":0},{"$f":"'PAT Detailed'!M45","v":0},{"$f":"'PAT Detailed'!S45","v":0},{"$f":"'PAT Detailed'!AA45","v":0},{"$f":"'PAT Detailed'!AI45","v":0},{"$f":"'PAT Detailed'!AP45","v":0},0,{"$f":"'PAT Detailed'!AT45","v":0},{"$f":"'PAT Detailed'!BB45","v":0},{"$f":"'PAT Detailed'!BI45","v":0},{"$f":"'PAT Detailed'!BP45","v":0},{"$f":"'PAT Detailed'!BV45","v":0},0,{"$f":"'PAT Detailed'!CE45","v":0},{"$f":"'PAT Detailed'!CK45","v":0},0,{"$f":"'PAT Detailed'!BW45","v":0},{"$f":"'PAT Detailed'!BX45","v":0},{"$f":"'PAT Detailed'!BY45","v":0},{"$f":"'PAT Detailed'!BZ45","v":0},{"$f":"'PAT Detailed'!CA45","v":0},{"$f":"'PAT Detailed'!CB45","v":0},0,0,0,"",0]
[{"$f":"'PAT Detailed'!#REF!","v":{"$error":"#REF!"}},null,31,31,{"$f":"INSERT!A33","v":0},{"$f":"INSERT!B33","v":0},{"$f":"INSERT!C33","v":0},{"$f":"INSERT!D33","v":0},{"$f":"INSERT!E33","v":0},{"$f":"'PAT Detailed'!M46","v":0},{"$f":"'PAT Detailed'!S46","v":0},{"$f":"'PAT Detailed'!AA46","v":0},{"$f":"'PAT Detailed'!AI46","v":0},{"$f":"'PAT Detailed'!AP46","v":0},0,{"$f":"'PAT Detailed'!AT46","v":0},{"$f":"'PAT Detailed'!BB46","v":0},{"$f":"'PAT Detailed'!BI46","v":0},{"$f":"'PAT Detailed'!BP46","v":0},{"$f":"'PAT Detailed'!BV46","v":0},0,{"$f":"'PAT Detailed'!CE46","v":0},{"$f":"'PAT Detailed'!CK46","v":0},0,{"$f":"'PAT Detailed'!BW46","v":0},{"$f":"'PAT Detailed'!BX46","v":0},{"$f":"'PAT Detailed'!BY46","v":0},{"$f":"'PAT Detailed'!BZ46","v":0},{"$f":"'PAT Detailed'!CA46","v":0},{"$f":"'PAT Detailed'!CB46","v":0},0,0,0,"",0]
[{"$f":"'PAT Detailed'!#REF!","v":{"$error":"#REF!"}},null,32,32,{"$f":"INSERT!A34","v":0},{"$f":"INSERT!B34","v":0},{"$f":"INSERT!C34","v":0},{"$f":"INSERT!D34","v":0},{"$f":"INSERT!E34","v":0},{"$f":"'PAT Detailed'!M47","v":0},{"$f":"'PAT Detailed'!S47","v":0},{"$f":"'PAT Detailed'!AA47","v":0},{"$f":"'PAT Detailed'!AI47","v":0},{"$f":"'PAT Detailed'!AP47","v":0},0,{"$f":"'PAT Detailed'!AT47","v":0},{"$f":"'PAT Detailed'!BB47","v":0},{"$f":"'PAT Detailed'!BI47","v":0},{"$f":"'PAT Detailed'!BP47","v":0},{"$f":"'PAT Detailed'!BV47","v":0},0,{"$f":"'PAT Detailed'!CE47","v":0},{"$f":"'PAT Detailed'!CK47","v":0},0,{"$f":"'PAT Detailed'!BW47","v":0},{"$f":"'PAT Detailed'!BX47","v":0},{"$f":"'PAT Detailed'!BY47","v":0},{"$f":"'PAT Detailed'!BZ47","v":0},{"$f":"'PAT Detailed'!CA47","v":0},{"$f":"'PAT Detailed'!CB47","v":0},0,0,0,"",0]
[{"$f":"'PAT Detailed'!#REF!","v":{"$error":"#REF!"}},null,33,33,{"$f":"INSERT!A35","v":0},{"$f":"INSERT!B35","v":0},{"$f":"INSERT!C35","v":0},{"$f":"INSERT!D35","v":0},{"$f":"INSERT!E35","v":0},{"$f":"'PAT Detailed'!M48","v":0},{"$f":"'PAT Detailed'!S48","v":0},{"$f":"'PAT Detailed'!AA48","v":0},{"$f":"'PAT Detailed'!AI48","v":0},{"$f":"'PAT Detailed'!AP48","v":0},0,{"$f":"'PAT Detailed'!AT48","v":0},{"$f":"'PAT Detailed'!BB48","v":0},{"$f":"'PAT Detailed'!BI48","v":0},{"$f":"'PAT Detailed'!BP48","v":0},{"$f":"'PAT Detailed'!BV48","v":0},0,{"$f":"'PAT Detailed'!CE48","v":0},{"$f":"'PAT Detailed'!CK48","v":0},0,{"$f":"'PAT Detailed'!BW48","v":0},{"$f":"'PAT Detailed'!BX48","v":0},{"$f":"'PAT Detailed'!BY48","v":0},{"$f":"'PAT Detailed'!BZ48","v":0},{"$f":"'PAT Detailed'!CA48","v":0},{"$f":"'PAT Detailed'!CB48","v":0},0,0,0,"",0]
[{"$f":"'PAT Detailed'!#REF!","v":{"$error":"#REF!"}},null,34,34,{"$f":"INSERT!A36","v":0},{"$f":"INSERT!B36","v":0},{"$f":"INSERT!C36","v":0},{"$f":"INSERT!D36","v":0},{"$f":"INSERT!E36","v":0},{"$f":"'PAT Detailed'!M49","v":0},{"$f":"'PAT Detailed'!S49","v":0},{"$f":"'PAT Detailed'!AA49","v":0},{"$f":"'PAT Detailed'!AI49","v":0},{"$f":"'PAT Detailed'!AP49","v":0},0,{"$f":"'PAT Detailed'!AT49","v":0},{"$f":"'PAT Detailed'!BB49","v":0},{"$f":"'PAT Detailed'!BI49","v":0},{"$f":"'PAT Detailed'!BP49","v":0},{"$f":"'PAT Detailed'!BV49","v":0},0,{"$f":"'PAT Detailed'!CE49","v":0},{"$f":"'PAT Detailed'!CK49","v":0},0,{"$f":"'PAT Detailed'!BW49","v":0},{"$f":"'PAT Detailed'!BX49","v":0},{"$f":"'PAT Detailed'!BY49","v":0},{"$f":"'PAT Detailed'!BZ49","v":0},{"$f":"'PAT Detailed'!CA49","v":0},{"$f":"'PAT Detailed'!CB49","v":0},0,0,0,"",0]
[{"$f":"'PAT Detailed'!#REF!","v":{"$error":"#REF!"}},null,35,35,{"$f":"INSERT!A37","v":0},{"$f":"INSERT!B37","v":0},{"$f":"INSERT!C37","v":0},{"$f":"INSERT!D37","v":0},{"$f":"INSERT!E37","v":0},{"$f":"'PAT Detailed'!M50","v":0},{"$f":"'PAT Detailed'!S50","v":0},{"$f":"'PAT Detailed'!AA50","v":0},{"$f":"'PAT Detailed'!AI50","v":0},{"$f":"'PAT Detailed'!AP50","v":0},0,{"$f":"'PAT Detailed'!AT50","v":0},{"$f":"'PAT Detailed'!BB50","v":0},{"$f":"'PAT Detailed'!BI50","v":0},{"$f":"'PAT Detailed'!BP50","v":0},{"$f":"'PAT Detailed'!BV50","v":0},0,{"$f":"'PAT Detailed'!CE50","v":0},{"$f":"'PAT Detailed'!CK50","v":0},0,{"$f":"'PAT Detailed'!BW50","v":0},{"$f":"'PAT Detailed'!BX50","v":0},{"$f":"'PAT Detailed'!BY50","v":0},{"$f":"'PAT Detailed'!BZ50","v":0},{"$f":"'PAT Detailed'!CA50","v":0},{"$f":"'PAT Detailed'!CB50","v":0},0,0,0,"",0]
[{"$f":"'PAT Detailed'!#REF!","v":{"$error":"#REF!"}},null,36,36,{"$f":"INSERT!A38","v":0},{"$f":"INSERT!B38","v":0},{"$f":"INSERT!C38","v":0},{"$f":"INSERT!D38","v":0},{"$f":"INSERT!E38","v":0},{"$f":"'PAT Detailed'!M51","v":0},{"$f":"'PAT Detailed'!S51","v":0},{"$f":"'PAT Detailed'!AA51","v":0},{"$f":"'PAT Detailed'!AI51","v":0},{"$f":"'PAT Detailed'!AP51","v":0},0,{"$f":"'PAT Detailed'!AT51","v":0},{"$f":"'PAT Detailed'!BB51","v":0},{"$f":"'PAT Detailed'!BI51","v":0},{"$f":"'PAT Detailed'!BP51","v":0},{"$f":"'PAT Detailed'!BV51","v":0},0,{"$f":"'PAT Detailed'!CE51","v":0},{"$f":"'PAT Detailed'!CK51","v":0},0,{"$f":"'PAT Detailed'!BW51","v":0},{"$f":"'PAT Detailed'!BX51","v":0},{"$f":"'PAT Detailed'!BY51","v":0},{"$f":"'PAT Detailed'!BZ51","v":0},{"$f":"'PAT Detailed'!CA51","v":0},{"$f":"'PAT Detailed'!CB51","v":0},0,0,0,"",0]
[{"$f":"'PAT Detailed'!#REF!","v":{"$error":"#REF!"}},null,37,37,{"$f":"INSERT!A39","v":0},{"$f":"INSERT!B39","v":0},{"$f":"INSERT!C39","v":0},{"$f":"INSERT!D39","v":0},{"$f":"INSERT!E39","v":0},{"$f":"'PAT Detailed'!M52","v":0},{"$f":"'PAT Detailed'!S52","v":0},{"$f":"'PAT Detailed'!AA52","v":0},{"$f":"'PAT Detailed'!AI52","v":0},{"$f":"'PAT Detailed'!AP52","v":0},0,{"$f":"'PAT Detailed'!AT52","v":0},{"$f":"'PAT Detailed'!BB52","v":0},{"$f":"'PAT Detailed'!BI52","v":0},{"$f":"'PAT Detailed'!BP52","v":0},{"$f":"'PAT Detailed'!BV52","v":0},0,{"$f":"'PAT Detailed'!CE52","v":0},{"$f":"'PAT Detailed'!CK52","v":0},0,{"$f":"'PAT Detailed'!BW52","v":0},{"$f":"'PAT Detailed'!BX52","v":0},{"$f":"'PAT Detailed'!BY52","v":0},{"$f":"'PAT Detailed'!BZ52","v":0},{"$f":"'PAT Detailed'!CA52","v":0},{"$f":"'PAT Detailed'!CB52","v":0},0,0,0,"",0]
[{"$f":"'PAT Detailed'!#REF!","v":{"$error":"#REF!"}},null,38,38,{"$f":"INSERT!A40","v":0},{"$f":"INSERT!B40","v":0},{"$f":"INSERT!C40","v":0},{"$f":"INSERT!D40","v":0},{"$f":"INSERT!E40","v":0},{"$f":"'PAT Detailed'!M53","v":0},{"$f":"'PAT Detailed'!S53","v":0},{"$f":"'PAT Detailed'!AA53","v":0},{"$f":"'PAT Detailed'!AI53","v":0},{"$f":"'PAT Detailed'!AP53","v":0},0,{"$f":"'PAT Detailed'!AT53","v":0},{"$f":"'PAT Detailed'!BB53","v":0},{"$f":"'PAT Detailed'!BI53","v":0},{"$f":"'PAT Detailed'!BP53","v":0},{"$f":"'PAT Detailed'!BV53","v":0},0,{"$f":"'PAT Detailed'!CE53","v":0},{"$f":"'PAT Detailed'!CK53","v":0},0,{"$f":"'PAT Detailed'!BW53","v":0},{"$f":"'PAT Detailed'!BX53","v":0},{"$f":"'PAT Detailed'!BY53","v":0},{"$f":"'PAT Detailed'!BZ53","v":0},{"$f":"'PAT Detailed'!CA53","v":0},{"$f":"'PAT Detailed'!CB53","v":0},0,0,0,"",0]
[{"$f":"'PAT Detailed'!#REF!","v":{"$error":"#REF!"}},null,39,39,{"$f":"INSERT!A41","v":0},{"$f":"INSERT!B41","v":0},{"$f":"INSERT!C41","v":0},{"$f":"INSERT!D41","v":0},{"$f":"INSERT!E41","v":0},{"$f":"'PAT Detailed'!M54","v":0},{"$f":"'PAT Detailed'!S54","v":0},{"$f":"'PAT Detailed'!AA54","v":0},{"$f":"'PAT Detailed'!AI54","v":0},{"$f":"'PAT Detailed'!AP54","v":0},0,{"$f":"'PAT Detailed'!AT54","v":0},{"$f":"'PAT Detailed'!BB54","v":0},{"$f":"'PAT Detailed'!BI54","v":0},{"$f":"'PAT Detailed'!BP54","v":0},{"$f":"'PAT Detailed'!BV54","v":0},0,{"$f":"'PAT Detailed'!CE54","v":0},{"$f":"'PAT Detailed'!CK54","v":0},0,{"$f":"'PAT Detailed'!BW54","v":0},{"$f":"'PAT Detailed'!BX54","v":0},{"$f":"'PAT Detailed'!BY54","v":0},{"$f":"'PAT Detailed'!BZ54","v":0},{"$f":"'PAT Detailed'!CA54","v":0},{"$f":"'PAT Detailed'!CB54","v":0},0,0,0,"",0]
[{"$f":"'PAT Detailed'!#REF!","v":{"$error":"#REF!"}},null,40,40,{"$f":"INSERT!A42","v":0},{"$f":"INSERT!B42","v":0},{"$f":"INSERT!C42","v":0},{"$f":"INSERT!D42","v":0},{"$f":"INSERT!E42","v":0},{"$f":"'PAT Detailed'!M55","v":0},{"$f":"'PAT Detailed'!S55","v":0},{"$f":"'PAT Detailed'!AA55","v":0},{"$f":"'PAT Detailed'!AI55","v":0},{"$f":"'PAT Detailed'!AP55","v":0},0,{"$f":"'PAT Detailed'!AT55","v":0},{"$f":"'PAT Detailed'!BB55","v":0},{"$f":"'PAT Detailed'!BI55","v":0},{"$f":"'PAT Detailed'!BP55","v":0},{"$f":"'PAT Detailed'!BV55","v":0},0,{"$f":"'PAT Detailed'!CE55","v":0},{"$f":"'PAT Detailed'!CK55","v":0},0,{"$f":"'PAT Detailed'!BW55","v":0},{"$f":"'PAT Detailed'!BX55","v":0},{"$f":"'PAT Detailed'!BY55","v":0},{"$f":"'PAT Detailed'!BZ55","v":0},{"$f":"'PAT Detailed'!CA55","v":0},{"$f":"'PAT Detailed'!CB55","v":0},0,0,0,"",0]
[{"$f":"'PAT Detailed'!#REF!","v":{"$error":"#REF!"}},null,41,41,{"$f":"INSERT!A43","v":0},{"$f":"INSERT!B43","v":0},{"$f":"INSERT!C43","v":0},{"$f":"INSERT!D43","v":0},{"$f":"INSERT!E43","v":0},{"$f":"'PAT Detailed'!M56","v":0},{"$f":"'PAT Detailed'!S56","v":0},{"$f":"'PAT Detailed'!AA56","v":0},{"$f":"'PAT Detailed'!AI56","v":0},{"$f":"'PAT Detailed'!AP56","v":0},0,{"$f":"'PAT Detailed'!AT56","v":0},{"$f":"'PAT Detailed'!BB56","v":0},{"$f":"'PAT Detailed'!BI56","v":0},{"$f":"'PAT Detailed'!BP56","v":0},{"$f":"'PAT Detailed'!BV56","v":0},0,{"$f":"'PAT Detailed'!CE56","v":0},{"$f":"'PAT Detailed'!CK56","v":0},0,{"$f":"'PAT Detailed'!BW56","v":0},{"$f":"'PAT Detailed'!BX56","v":0},{"$f":"'PAT Detailed'!BY56","v":0},{"$f":"'PAT Detailed'!BZ56","v":0},{"$f":"'PAT Detailed'!CA56","v":0},{"$f":"'PAT Detailed'!CB56","v":0},0,0,0,"",0]
[{"$f":"'PAT Detailed'!#REF!","v":{"$error":"#REF!"}},null,42,42,{"$f":"INSERT!A44","v":0},{"$f":"INSERT!B44","v":0},{"$f":"INSERT!C44","v":0},{"$f":"INSERT!D44","v":0},{"$f":"INSERT!E44","v":0},{"$f":"'PAT Detailed'!M57","v":0},{"$f":"'PAT Detailed'!S57","v":0},{"$f":"'PAT Detailed'!AA57","v":0},{"$f":"'PAT Detailed'!AI57","v":0},{"$f":"'PAT Detailed'!AP57","v":0},0,{"$f":"'PAT Detailed'!AT57","v":0},{"$f":"'PAT Detailed'!BB57","v":0},{"$f":"'PAT Detailed'!BI57","v":0},{"$f":"'PAT Detailed'!BP57","v":0},{"$f":"'PAT Detailed'!BV57","v":0},0,{"$f":"'PAT Detailed'!CE57","v":0},{"$f":"'PAT Detailed'!CK57","v":0},0,{"$f":"'PAT Detailed'!BW57","v":0},{"$f":"'PAT Detailed'!BX57","v":0},{"$f":"'PAT Detailed'!BY57","v":0},{"$f":"'PAT Detailed'!BZ57","v":0},{"$f":"'PAT Detailed'!CA57","v":0},{"$f":"'PAT Detailed'!CB57","v":0},0,0,0,"",0]
[{"$f":"'PAT Detailed'!#REF!","v":{"$error":"#REF!"}},null,43,43,{"$f":"INSERT!A45","v":0},{"$f":"INSERT!B45","v":0},{"$f":"INSERT!C45","v":0},{"$f":"INSERT!D45","v":0},{"$f":"INSERT!E45","v":0},{"$f":"'PAT Detailed'!M58","v":0},{"$f":"'PAT Detailed'!S58","v":0},{"$f":"'PAT Detailed'!AA58","v":0},{"$f":"'PAT Detailed'!AI58","v":0},{"$f":"'PAT Detailed'!AP58","v":0},0,{"$f":"'PAT Detailed'!AT58","v":0},{"$f":"'PAT Detailed'!BB58","v":0},{"$f":"'PAT Detailed'!BI58","v":0},{"$f":"'PAT Detailed'!BP58","v":0},{"$f":"'PAT Detailed'!BV58","v":0},0,{"$f":"'PAT Detailed'!CE58","v":0},{"$f":"'PAT Detailed'!CK58","v":0},0,{"$f":"'PAT Detailed'!BW58","v":0},{"$f":"'PAT Detailed'!BX58","v":0},{"$f":"'PAT Detailed'!BY58","v":0},{"$f":"'PAT Detailed'!BZ58","v":0},{"$f":"'PAT Detailed'!CA58","v":0},{"$f":"'PAT Detailed'!CB58","v":0},0,0,0,"",0]
[{"$f":"'PAT Detailed'!#REF!","v":{"$error":"#REF!"}},null,44,44,{"$f":"INSERT!A46","v":0},{"$f":"INSERT!B46","v":0},{"$f":"INSERT!C46","v":0},{"$f":"INSERT!D46","v":0},{"$f":"INSERT!E46","v":0},{"$f":"'PAT Detailed'!M59","v":0},{"$f":"'PAT Detailed'!S59","v":0},{"$f":"'PAT Detailed'!AA59","v":0},{"$f":"'PAT Detailed'!AI59","v":0},{"$f":"'PAT Detailed'!AP59","v":0},0,{"$f":"'PAT Detailed'!AT59","v":0},{"$f":"'PAT Detailed'!BB59","v":0},{"$f":"'PAT Detailed'!BI59","v":0},{"$f":"'PAT Detailed'!BP59","v":0},{"$f":"'PAT Detailed'!BV59","v":0},0,{"$f":"'PAT Detailed'!CE59","v":0},{"$f":"'PAT Detailed'!CK59","v":0},0,{"$f":"'PAT Detailed'!BW59","v":0},{"$f":"'PAT Detailed'!BX59","v":0},{"$f":"'PAT Detailed'!BY59","v":0},{"$f":"'PAT Detailed'!BZ59","v":0},{"$f":"'PAT Detailed'!CA59","v":0},{"$f":"'PAT Detailed'!CB59","v":0},0,0,0,"",0]
[{"$f":"'PAT Detailed'!#REF!","v":{"$error":"#REF!"}},null,45,45,{"$f":"INSERT!A47","v":0},{"$f":"INSERT!B47","v":0},{"$f":"INSERT!C47","v":0},{"$f":"INSERT!D47","v":0},{"$f":"INSERT!E47","v":0},{"$f":"'PAT Detailed'!M60","v":0},{"$f":"'PAT Detailed'!S60","v":0},{"$f":"'PAT Detailed'!AA60","v":0},{"$f":"'PAT Detailed'!AI60","v":0},{"$f":"'PAT Detailed'!AP60","v":0},0,{"$f":"'PAT Detailed'!AT60","v":0},{"$f":"'PAT Detailed'!BB60","v":0},{"$f":"'PAT Detailed'!BI60","v":0},{"$f":"'PAT Detailed'!BP60","v":0},{"$f":"'PAT Detailed'!BV60","v":0},0,{"$f":"'PAT Detailed'!CE60","v":0},{"$f":"'PAT Detailed'!CK60","v":0},0,{"$f":"'PAT Detailed'!BW60","v":0},{"$f":"'PAT Detailed'!BX60","v":0},{"$f":"'PAT Detailed'!BY60","v":0},{"$f":"'PAT Detailed'!BZ60","v":0},{"$f":"'PAT Detailed'!CA60","v":0},{"$f":"'PAT Detailed'!CB60","v":0},0,0,0,"",0]
[{"$f":"'PAT Detailed'!#REF!","v":{"$error":"#REF!"}},null,46,46,{"$f":"INSERT!A48","v":0},{"$f":"INSERT!B48","v":0},{"$f":"INSERT!C48","v":0},{"$f":"INSERT!D48","v":0},{"$f":"INSERT!E48","v":0},{"$f":"'PAT Detailed'!M61","v":0},{"$f":"'PAT Detailed'!S61","v":0},{"$f":"'PAT Detailed'!AA61","v":0},{"$f":"'PAT Detailed'!AI61","v":0},{"$f":"'PAT Detailed'!AP61","v":0},0,{"$f":"'PAT Detailed'!AT61","v":0},{"$f":"'PAT Detailed'!BB61","v":0},{"$f":"'PAT Detailed'!BI61","v":0},{"$f":"'PAT Detailed'!BP61","v":0},{"$f":"'PAT Detailed'!BV61","v":0},0,{"$f":"'PAT Detailed'!CE61","v":0},{"$f":"'PAT Detailed'!CK61","v":0},0,{"$f":"'PAT Detailed'!BW61","v":0},{"$f":"'PAT Detailed'!BX61","v":0},{"$f":"'PAT Detailed'!BY61","v":0},{"$f":"'PAT Detailed'!BZ61","v":0},{"$f":"'PAT Detailed'!CA61","v":0},{"$f":"'PAT Detailed'!CB61","v":0},0,0,0,"",0]
[{"$f":"'PAT Detailed'!#REF!","v":{"$error":"#REF!"}},null,47,47,{"$f":"INSERT!A49","v":0},{"$f":"INSERT!B49","v":0},{"$f":"INSERT!C49","v":0},{"$f":"INSERT!D49","v":0},{"$f":"INSERT!E49","v":0},{"$f":"'PAT Detailed'!M62","v":0},{"$f":"'PAT Detailed'!S62","v":0},{"$f":"'PAT Detailed'!AA62","v":0},{"$f":"'PAT Detailed'!AI62","v":0},{"$f":"'PAT Detailed'!AP62","v":0},0,{"$f":"'PAT Detailed'!AT62","v":0},{"$f":"'PAT Detailed'!BB62","v":0},{"$f":"'PAT Detailed'!BI62","v":0},{"$f":"'PAT Detailed'!BP62","v":0},{"$f":"'PAT Detailed'!BV62","v":0},0,{"$f":"'PAT Detailed'!CE62","v":0},{"$f":"'PAT Detailed'!CK62","v":0},0,{"$f":"'PAT Detailed'!BW62","v":0},{"$f":"'PAT Detailed'!BX62","v":0},{"$f":"'PAT Detailed'!BY62","v":0},{"$f":"'PAT Detailed'!BZ62","v":0},{"$f":"'PAT Detailed'!CA62","v":0},{"$f":"'PAT Detailed'!CB62","v":0},0,0,0,"",0]
[{"$f":"'PAT Detailed'!#REF!","v":{"$error":"#REF!"}},null,48,48,{"$f":"INSERT!A50","v":0},{"$f":"INSERT!B50","v":0},{"$f":"INSERT!C50","v":0},{"$f":"INSERT!D50","v":0},{"$f":"INSERT!E50","v":0},{"$f":"'PAT Detailed'!M63","v":0},{"$f":"'PAT Detailed'!S63","v":0},{"$f":"'PAT Detailed'!AA63","v":0},{"$f":"'PAT Detailed'!AI63","v":0},{"$f":"'PAT Detailed'!AP63","v":0},0,{"$f":"'PAT Detailed'!AT63","v":0},{"$f":"'PAT Detailed'!BB63","v":0},{"$f":"'PAT Detailed'!BI63","v":0},{"$f":"'PAT Detailed'!BP63","v":0},{"$f":"'PAT Detailed'!BV63","v":0},0,{"$f":"'PAT Detailed'!CE63","v":0},{"$f":"'PAT Detailed'!CK63","v":0},0,{"$f":"'PAT Detailed'!BW63","v":0},{"$f":"'PAT Detailed'!BX63","v":0},{"$f":"'PAT Detailed'!BY63","v":0},{"$f":"'PAT Detailed'!BZ63","v":0},{"$f":"'PAT Detailed'!CA63","v":0},{"$f":"'PAT Detailed'!CB63","v":0},0,0,0,"",0]
[{"$f":"'PAT Detailed'!#REF!","v":{"$error":"#REF!"}},null,49,49,{"$f":"INSERT!A51","v":0},{"$f":"INSERT!B51","v":0},{"$f":"INSERT!C51","v":0},{"$f":"INSERT!D51","v":0},{"$f":"INSERT!E51","v":0},{"$f":"'PAT Detailed'!M64","v":0},{"$f":"'PAT Detailed'!S64","v":0},{"$f":"'PAT Detailed'!AA64","v":0},{"$f":"'PAT Detailed'!AI64","v":0},{"$f":"'PAT Detailed'!AP64","v":0},0,{"$f":"'PAT Detailed'!AT64","v":0},{"$f":"'PAT Detailed'!BB64","v":0},{"$f":"'PAT Detailed'!BI64","v":0},{"$f":"'PAT Detailed'!BP64","v":0},{"$f":"'PAT Detailed'!BV64","v":0},0,{"$f":"'PAT Detailed'!CE64","v":0},{"$f":"'PAT Detailed'!CK64","v":0},0,{"$f":"'PAT Detailed'!BW64","v":0},{"$f":"'PAT Detailed'!BX64","v":0},{"$f":"'PAT Detailed'!BY64","v":0},{"$f":"'PAT Detailed'!BZ64","v":0},{"$f":"'PAT Detailed'!CA64","v":0},{"$f":"'PAT Detailed'!CB64","v":0},0,0,0,"",0]
[{"$f":"'PAT Detailed'!#REF!","v":{"$error":"#REF!"}},null,50,50,{"$f":"INSERT!A52","v":0},{"$f":"INSERT!B52","v":0},{"$f":"INSERT!C52","v":0},{"$f":"INSERT!D52","v":0},{"$f":"INSERT!E52","v":0},{"$f":"'PAT Detailed'!M65","v":0},{"$f":"'PAT Detailed'!S65","v":0},{"$f":"'PAT Detailed'!AA65","v":0},{"$f":"'PAT Detailed'!AI65","v":0},{"$f":"'PAT Detailed'!AP65","v":0},0,{"$f":"'PAT Detailed'!AT65","v":0},{"$f":"'PAT Detailed'!BB65","v":0},{"$f":"'PAT Detailed'!BI65","v":0},{"$f":"'PAT Detailed'!BP65","v":0},{"$f":"'PAT Detailed'!BV65","v":0},0,{"$f":"'PAT Detailed'!CE65","v":0},{"$f":"'PAT Detailed'!CK65","v":0},0,{"$f":"'PAT Detailed'!BW65","v":0},{"$f":"'PAT Detailed'!BX65","v":0},{"$f":"'PAT Detailed'!BY65","v":0},{"$f":"'PAT Detailed'!BZ65","v":0},{"$f":"'PAT Detailed'!CA65","v":0},{"$f":"'PAT Detailed'!CB65","v":0},0,0,0,"",0]
[{"$f":"'PAT Detailed'!#REF!","v":{"$error":"#REF!"}},null,51,51,{"$f":"INSERT!A53","v":0},{"$f":"INSERT!B53","v":0},{"$f":"INSERT!C53","v":0},{"$f":"INSERT!D53","v":0},{"$f":"INSERT!E53","v":0},{"$f":"'PAT Detailed'!M66","v":0},{"$f":"'PAT Detailed'!S66","v":0},{"$f":"'PAT Detailed'!AA66","v":0},{"$f":"'PAT Detailed'!AI66","v":0},{"$f":"'PAT Detailed'!AP66","v":0},0,{"$f":"'PAT Detailed'!AT66","v":0},{"$f":"'PAT Detailed'!BB66","v":0},{"$f":"'PAT Detailed'!BI66","v":0},{"$f":"'PAT Detailed'!BP66","v":0},{"$f":"'PAT Detailed'!BV66","v":0},0,{"$f":"'PAT Detailed'!CE66","v":0},{"$f":"'PAT Detailed'!CK66","v":0},0,{"$f":"'PAT Detailed'!BW66","v":0},{"$f":"'PAT Detailed'!BX66","v":0},{"$f":"'PAT Detailed'!BY66","v":0},{"$f":"'PAT Detailed'!BZ66","v":0},{"$f":"'PAT Detailed'!CA66","v":0},{"$f":"'PAT Detailed'!CB66","v":0},0,0,0,"",0]
[{"$f":"'PAT Detailed'!#REF!","v":{"$error":"#REF!"}},null,52,52,{"$f":"INSERT!A54","v":0},{"$f":"INSERT!B54","v":0},{"$f":"INSERT!C54","v":0},{"$f":"INSERT!D54","v":0},{"$f":"INSERT!E54","v":0},{"$f":"'PAT Detailed'!M67","v":0},{"$f":"'PAT Detailed'!S67","v":0},{"$f":"'PAT Detailed'!AA67","v":0},{"$f":"'PAT Detailed'!AI67","v":0},{"$f":"'PAT Detailed'!AP67","v":0},0,{"$f":"'PAT Detailed'!AT67","v":0},{"$f":"'PAT Detailed'!BB67","v":0},{"$f":"'PAT Detailed'!BI67","v":0},{"$f":"'PAT Detailed'!BP67","v":0},{"$f":"'PAT Detailed'!BV67","v":0},0,{"$f":"'PAT Detailed'!CE67","v":0},{"$f":"'PAT Detailed'!CK67","v":0},0,{"$f":"'PAT Detailed'!BW67","v":0},{"$f":"'PAT Detailed'!BX67","v":0},{"$f":"'PAT Detailed'!BY67","v":0},{"$f":"'PAT Detailed'!BZ67","v":0},{"$f":"'PAT Detailed'!CA67","v":0},{"$f":"'PAT Detailed'!CB67","v":0},0,0,0,"",0]
[{"$f":"'PAT Detailed'!#REF!","v":{"$error":"#REF!"}},null,53,53,{"$f":"INSERT!A55","v":0},{"$f":"INSERT!B55","v":0},{"$f":"INSERT!C55","v":0},{"$f":"INSERT!D55","v":0},{"$f":"INSERT!E55","v":0},{"$f":"'PAT Detailed'!M68","v":0},{"$f":"'PAT Detailed'!S68","v":0},{"$f":"'PAT Detailed'!AA68","v":0},{"$f":"'PAT Detailed'!AI68","v":0},{"$f":"'PAT Detailed'!AP68","v":0},0,{"$f":"'PAT Detailed'!AT68","v":0},{"$f":"'PAT Detailed'!BB68","v":0},{"$f":"'PAT Detailed'!BI68","v":0},{"$f":"'PAT Detailed'!BP68","v":0},{"$f":"'PAT Detailed'!BV68","v":0},0,{"$f":"'PAT Detailed'!CE68","v":0},{"$f":"'PAT Detailed'!CK68","v":0},0,{"$f":"'PAT Detailed'!BW68","v":0},{"$f":"'PAT Detailed'!BX68","v":0},{"$f":"'PAT Detailed'!BY68","v":0},{"$f":"'PAT Detailed'!BZ68","v":0},{"$f":"'PAT Detailed'!CA68","v":0},{"$f":"'PAT Detailed'!CB68","v":0},0,0,0,"",0]
[{"$f":"'PAT Detailed'!#REF!","v":{"$error":"#REF!"}},null,54,54,{"$f":"INSERT!A56","v":0},{"$f":"INSERT!B56","v":0},{"$f":"INSERT!C56","v":0},{"$f":"INSERT!D56","v":0},{"$f":"INSERT!E56","v":0},{"$f":"'PAT Detailed'!M69","v":0},{"$f":"'PAT Detailed'!S69","v":0},{"$f":"'PAT Detailed'!AA69","v":0},{"$f":"'PAT Detailed'!AI69","v":0},{"$f":"'PAT Detailed'!AP69","v":0},0,{"$f":"'PAT Detailed'!AT69","v":0},{"$f":"'PAT Detailed'!BB69","v":0},{"$f":"'PAT Detailed'!BI69","v":0},{"$f":"'PAT Detailed'!BP69","v":0},{"$f":"'PAT Detailed'!BV69","v":0},0,{"$f":"'PAT Detailed'!CE69","v":0},{"$f":"'PAT Detailed'!CK69","v":0},0,{"$f":"'PAT Detailed'!BW69","v":0},{"$f":"'PAT Detailed'!BX69","v":0},{"$f":"'PAT Detailed'!BY69","v":0},{"$f":"'PAT Detailed'!BZ69","v":0},{"$f":"'PAT Detailed'!CA69","v":0},{"$f":"'PAT Detailed'!CB69","v":0},0,0,0,"",0]
[{"$f":"'PAT Detailed'!#REF!","v":{"$error":"#REF!"}},null,55,55,{"$f":"INSERT!A57","v":0},{"$f":"INSERT!B57","v":0},{"$f":"INSERT!C57","v":0},{"$f":"INSERT!D57","v":0},{"$f":"INSERT!E57","v":0},{"$f":"'PAT Detailed'!M70","v":0},{"$f":"'PAT Detailed'!S70","v":0},{"$f":"'PAT Detailed'!AA70","v":0},{"$f":"'PAT Detailed'!AI70","v":0},{"$f":"'PAT Detailed'!AP70","v":0},0,{"$f":"'PAT Detailed'!AT70","v":0},{"$f":"'PAT Detailed'!BB70","v":0},{"$f":"'PAT Detailed'!BI70","v":0},{"$f":"'PAT Detailed'!BP70","v":0},{"$f":"'PAT Detailed'!BV70","v":0},0,{"$f":"'PAT Detailed'!CE70","v":0},{"$f":"'PAT Detailed'!CK70","v":0},0,{"$f":"'PAT Detailed'!BW70","v":0},{"$f":"'PAT Detailed'!BX70","v":0},{"$f":"'PAT Detailed'!BY70","v":0},{"$f":"'PAT Detailed'!BZ70","v":0},{"$f":"'PAT Detailed'!CA70","v":0},{"$f":"'PAT Detailed'!CB70","v":0},0,0,0,"",0]
[{"$f":"'PAT Detailed'!#REF!","v":{"$error":"#REF!"}},null,56,56,{"$f":"INSERT!A58","v":0},{"$f":"INSERT!B58","v":0},{"$f":"INSERT!C58","v":0},{"$f":"INSERT!D58","v":0},{"$f":"INSERT!E58","v":0},{"$f":"'PAT Detailed'!M71","v":0},{"$f":"'PAT Detailed'!S71","v":0},{"$f":"'PAT Detailed'!AA71","v":0},{"$f":"'PAT Detailed'!AI71","v":0},{"$f":"'PAT Detailed'!AP71","v":0},0,{"$f":"'PAT Detailed'!AT71","v":0},{"$f":"'PAT Detailed'!BB71","v":0},{"$f":"'PAT Detailed'!BI71","v":0},{"$f":"'PAT Detailed'!BP71","v":0},{"$f":"'PAT Detailed'!BV71","v":0},0,{"$f":"'PAT Detailed'!CE71","v":0},{"$f":"'PAT Detailed'!CK71","v":0},0,{"$f":"'PAT Detailed'!BW71","v":0},{"$f":"'PAT Detailed'!BX71","v":0},{"$f":"'PAT Detailed'!BY71","v":0},{"$f":"'PAT Detailed'!BZ71","v":0},{"$f":"'PAT Detailed'!CA71","v":0},{"$f":"'PAT Detailed'!CB71","v":0},0,0,0,"",0]
[{"$f":"'PAT Detailed'!#REF!","v":{"$error":"#REF!"}},null,57,57,{"$f":"INSERT!A59","v":0},{"$f":"INSERT!B59","v":0},{"$f":"INSERT!C59","v":0},{"$f":"INSERT!D59","v":0},{"$f":"INSERT!E59","v":0},{"$f":"'PAT Detailed'!M72","v":0},{"$f":"'PAT Detailed'!S72","v":0},{"$f":"'PAT Detailed'!AA72","v":0},{"$f":"'PAT Detailed'!AI72","v":0},{"$f":"'PAT Detailed'!AP72","v":0},0,{"$f":"'PAT Detailed'!AT72","v":0},{"$f":"'PAT Detailed'!BB72","v":0},{"$f":"'PAT Detailed'!BI72","v":0},{"$f":"'PAT Detailed'!BP72","v":0},{"$f":"'PAT Detailed'!BV72","v":0},0,{"$f":"'PAT Detailed'!CE72","v":0},{"$f":"'PAT Detailed'!CK72","v":0},0,{"$f":"'PAT Detailed'!BW72","v":0},{"$f":"'PAT Detailed'!BX72","v":0},{"$f":"'PAT Detailed'!BY72","v":0},{"$f":"'PAT Detailed'!BZ72","v":0},{"$f":"'PAT Detailed'!CA72","v":0},{"$f":"'PAT Detailed'!CB72","v":0},0,0,0,"",0]
[{"$f":"'PAT Detailed'!#REF!","v":{"$error":"#REF!"}},null,58,58,{"$f":"INSERT!A60","v":0},{"$f":"INSERT!B60","v":0},{"$f":"INSERT!C60","v":0},{"$f":"INSERT!D60","v":0},{"$f":"INSERT!E60","v":0},{"$f":"'PAT Detailed'!M73","v":0},{"$f":"'PAT Detailed'!S73","v":0},{"$f":"'PAT Detailed'!AA73","v":0},{"$f":"'PAT Detailed'!AI73","v":0},{"$f":"'PAT Detailed'!AP73","v":0},0,{"$f":"'PAT Detailed'!AT73","v":0},{"$f":"'PAT Detailed'!BB73","v":0},{"$f":"'PAT Detailed'!BI73","v":0},{"$f":"'PAT Detailed'!BP73","v":0},{"$f":"'PAT Detailed'!BV73","v":0},0,{"$f":"'PAT Detailed'!CE73","v":0},{"$f":"'PAT Detailed'!CK73","v":0},0,{"$f":"'PAT Detailed'!BW73","v":0},{"$f":"'PAT Detailed'!BX73","v":0},{"$f":"'PAT Detailed'!BY73","v":0},{"$f":"'PAT Detailed'!BZ73","v":0},{"$f":"'PAT Detailed'!CA73","v":0},{"$f":"'PAT Detailed'!CB73","v":0},0,0,0,"",0]
[{"$f":"'PAT Detailed'!#REF!","v":{"$error":"#REF!"}},null,59,59,{"$f":"INSERT!A61","v":0},{"$f":"INSERT!B61","v":0},{"$f":"INSERT!C61","v":0},{"$f":"INSERT!D61","v":0},{"$f":"INSERT!E61","v":0},{"$f":"'PAT Detailed'!M74","v":0},{"$f":"'PAT Detailed'!S74","v":0},{"$f":"'PAT Detailed'!AA74","v":0},{"$f":"'PAT Detailed'!AI74","v":0},{"$f":"'PAT Detailed'!AP74","v":0},0,{"$f":"'PAT Detailed'!AT74","v":0},{"$f":"'PAT Detailed'!BB74","v":0},{"$f":"'PAT Detailed'!BI74","v":0},{"$f":"'PAT Detailed'!BP74","v":0},{"$f":"'PAT Detailed'!BV74","v":0},0,{"$f":"'PAT Detailed'!CE74","v":0},{"$f":"'PAT Detailed'!CK74","v":0},0,{"$f":"'PAT Detailed'!BW74","v":0},{"$f":"'PAT Detailed'!BX74","v":0},{"$f":"'PAT Detailed'!BY74","v":0},{"$f":"'PAT Detailed'!BZ74","v":0},{"$f":"'PAT Detailed'!CA74","v":0},{"$f":"'PAT Detailed'!CB74","v":0},0,0,0,"",0]
[{"$f":"'PAT Detailed'!#REF!","v":{"$error":"#REF!"}},null,60,60,{"$f":"INSERT!A62","v":0},{"$f":"INSERT!B62","v":0},{"$f":"INSERT!C62","v":0},{"$f":"INSERT!D62","v":0},{"$f":"INSERT!E62","v":0},{"$f":"'PAT Detailed'!M75","v":0},{"$f":"'PAT Detailed'!S75","v":0},{"$f":"'PAT Detailed'!AA75","v":0},{"$f":"'PAT Detailed'!AI75","v":0},{"$f":"'PAT Detailed'!AP75","v":0},0,{"$f":"'PAT Detailed'!AT75","v":0},{"$f":"'PAT Detailed'!BB75","v":0},{"$f":"'PAT Detailed'!BI75","v":0},{"$f":"'PAT Detailed'!BP75","v":0},{"$f":"'PAT Detailed'!BV75","v":0},0,{"$f":"'PAT Detailed'!CE75","v":0},{"$f":"'PAT Detailed'!CK75","v":0},0,{"$f":"'PAT Detailed'!BW75","v":0},{"$f":"'PAT Detailed'!BX75","v":0},{"$f":"'PAT Detailed'!BY75","v":0},{"$f":"'PAT Detailed'!BZ75","v":0},{"$f":"'PAT Detailed'!CA75","v":0},{"$f":"'PAT Detailed'!CB75","v":0},0,0,0,"",0]
[{"$f":"'PAT Detailed'!#REF!","v":{"$error":"#REF!"}},null,61,61,{"$f":"INSERT!A63","v":0},{"$f":"INSERT!B63","v":0},{"$f":"INSERT!C63","v":0},{"$f":"INSERT!D63","v":0},{"$f":"INSERT!E63","v":0},{"$f":"'PAT Detailed'!M76","v":0},{"$f":"'PAT Detailed'!S76","v":0},{"$f":"'PAT Detailed'!AA76","v":0},{"$f":"'PAT Detailed'!AI76","v":0},{"$f":"'PAT Detailed'!AP76","v":0},0,{"$f":"'PAT Detailed'!AT76","v":0},{"$f":"'PAT Detailed'!BB76","v":0},{"$f":"'PAT Detailed'!BI76","v":0},{"$f":"'PAT Detailed'!BP76","v":0},{"$f":"'PAT Detailed'!BV76","v":0},0,{"$f":"'PAT Detailed'!CE76","v":0},{"$f":"'PAT Detailed'!CK76","v":0},0,{"$f":"'PAT Detailed'!BW76","v":0},{"$f":"'PAT Detailed'!BX76","v":0},{"$f":"'PAT Detailed'!BY76","v":0},{"$f":"'PAT Detailed'!BZ76","v":0},{"$f":"'PAT Detailed'!CA76","v":0},{"$f":"'PAT Detailed'!CB76","v":0},0,0,0,"",0]
[{"$f":"'PAT Detailed'!#REF!","v":{"$error":"#REF!"}},2,62,62,{"$f":"INSERT!A64","v":0},{"$f":"INSERT!B64","v":0},{"$f":"INSERT!C64","v":0},{"$f":"INSERT!D64","v":0},{"$f":"INSERT!E64","v":0},{"$f":"'PAT Detailed'!M77","v":0},{"$f":"'PAT Detailed'!S77","v":0},{"$f":"'PAT Detailed'!AA77","v":0},{"$f":"'PAT Detailed'!AI77","v":0},{"$f":"'PAT Detailed'!AP77","v":0},0,{"$f":"'PAT Detailed'!AT77","v":0},{"$f":"'PAT Detailed'!BB77","v":0},{"$f":"'PAT Detailed'!BI77","v":0},{"$f":"'PAT Detailed'!BP77","v":0},{"$f":"'PAT Detailed'!BV77","v":0},0,{"$f":"'PAT Detailed'!CE77","v":0},{"$f":"'PAT Detailed'!CK77","v":0},0,{"$f":"'PAT Detailed'!BW77","v":0},{"$f":"'PAT Detailed'!BX77","v":0},{"$f":"'PAT Detailed'!BY77","v":0},{"$f":"'PAT Detailed'!BZ77","v":0},{"$f":"'PAT Detailed'!CA77","v":0},{"$f":"'PAT Detailed'!CB77","v":0},0,0,0,"",0]
[{"$f":"'PAT Detailed'!#REF!","v":{"$error":"#REF!"}},2,63,63,{"$f":"INSERT!A65","v":0},{"$f":"INSERT!B65","v":0},{"$f":"INSERT!C65","v":0},{"$f":"INSERT!D65","v":0},{"$f":"INSERT!E65","v":0},{"$f":"'PAT Detailed'!M78","v":0},{"$f":"'PAT Detailed'!S78","v":0},{"$f":"'PAT Detailed'!AA78","v":0},{"$f":"'PAT Detailed'!AI78","v":0},{"$f":"'PAT Detailed'!AP78","v":0},0,{"$f":"'PAT Detailed'!AT78","v":0},{"$f":"'PAT Detailed'!BB78","v":0},{"$f":"'PAT Detailed'!BI78","v":0},{"$f":"'PAT Detailed'!BP78","v":0},{"$f":"'PAT Detailed'!BV78","v":0},0,{"$f":"'PAT Detailed'!CE78","v":0},{"$f":"'PAT Detailed'!CK78","v":0},0,{"$f":"'PAT Detailed'!BW78","v":0},{"$f":"'PAT Detailed'!BX78","v":0},{"$f":"'PAT Detailed'!BY78","v":0},{"$f":"'PAT Detailed'!BZ78","v":0},{"$f":"'PAT Detailed'!CA78","v":0},{"$f":"'PAT Detailed'!CB78","v":0},0,0,0,"",0]
[{"$f":"'PAT Detailed'!#REF!","v":{"$error":"#REF!"}},2,64,64,{"$f":"INSERT!A66","v":0},{"$f":"INSERT!B66","v":0},{"$f":"INSERT!C66","v":0},{"$f":"INSERT!D66","v":0},{"$f":"INSERT!E66","v":0},{"$f":"'PAT Detailed'!M79","v":0},{"$f":"'PAT Detailed'!S79","v":0},{"$f":"'PAT Detailed'!AA79","v":0},{"$f":"'PAT Detailed'!AI79","v":0},{"$f":"'PAT Detailed'!AP79","v":0},0,{"$f":"'PAT Detailed'!AT79","v":0},{"$f":"'PAT Detailed'!BB79","v":0},{"$f":"'PAT Detailed'!BI79","v":0},{"$f":"'PAT Detailed'!BP79","v":0},{"$f":"'PAT Detailed'!BV79","v":0},0,{"$f":"'PAT Detailed'!CE79","v":0},{"$f":"'PAT Detailed'!CK79","v":0},0,{"$f":"'PAT Detailed'!BW79","v":0},{"$f":"'PAT Detailed'!BX79","v":0},{"$f":"'PAT Detailed'!BY79","v":0},{"$f":"'PAT Detailed'!BZ79","v":0},{"$f":"'PAT Detailed'!CA79","v":0},{"$f":"'PAT Detailed'!CB79","v":0},0,0,0,"",0]
[{"$f":"'PAT Detailed'!#REF!","v":{"$error":"#REF!"}},2,65,65,{"$f":"INSERT!A67","v":0},{"$f":"INSERT!B67","v":0},{"$f":"INSERT!C67","v":0},{"$f":"INSERT!D67","v":0},{"$f":"INSERT!E67","v":0},{"$f":"'PAT Detailed'!M80","v":0},{"$f":"'PAT Detailed'!S80","v":0},{"$f":"'PAT Detailed'!AA80","v":0},{"$f":"'PAT Detailed'!AI80","v":0},{"$f":"'PAT Detailed'!AP80","v":0},0,{"$f":"'PAT Detailed'!AT80","v":0},{"$f":"'PAT Detailed'!BB80","v":0},{"$f":"'PAT Detailed'!BI80","v":0},{"$f":"'PAT Detailed'!BP80","v":0},{"$f":"'PAT Detailed'!BV80","v":0},0,{"$f":"'PAT Detailed'!CE80","v":0},{"$f":"'PAT Detailed'!CK80","v":0},0,{"$f":"'PAT Detailed'!BW80","v":0},{"$f":"'PAT Detailed'!BX80","v":0},{"$f":"'PAT Detailed'!BY80","v":0},{"$f":"'PAT Detailed'!BZ80","v":0},{"$f":"'PAT Detailed'!CA80","v":0},{"$f":"'PAT Detailed'!CB80","v":0},0,0,0,"",0]
[{"$f":"'PAT Detailed'!#REF!","v":{"$error":"#REF!"}},2,66,66,{"$f":"INSERT!A68","v":0},{"$f":"INSERT!B68","v":0},{"$f":"INSERT!C68","v":0},{"$f":"INSERT!D68","v":0},{"$f":"INSERT!E68","v":0},{"$f":"'PAT Detailed'!M81","v":0},{"$f":"'PAT Detailed'!S81","v":0},{"$f":"'PAT Detailed'!AA81","v":0},{"$f":"'PAT Detailed'!AI81","v":0},{"$f":"'PAT Detailed'!AP81","v":0},{"$f":"SUM((J83+K83+L83+M83+N83)/1.388888888)","v":0},{"$f":"'PAT Detailed'!AT81","v":0},{"$f":"'PAT Detailed'!BB81","v":0},{"$f":"'PAT Detailed'!BI81","v":0},{"$f":"'PAT Detailed'!BP81","v":0},{"$f":"'PAT Detailed'!BV81","v":0},{"$f":"SUM(P83:T83)/2","v":0},{"$f":"'PAT Detailed'!CE81","v":0},{"$f":"'PAT Detailed'!CK81","v":0},{"$f":"SUM(V83+W83)/1.428571428","v":0},{"$f":"'PAT Detailed'!BW81","v":0},{"$f":"'PAT Detailed'!BX81","v":0},{"$f":"'PAT Detailed'!BY81","v":0},{"$f":"'PAT Detailed'!BZ81","v":0},{"$f":"'PAT Detailed'!CA81","v":0},{"$f":"'PAT Detailed'!CB81","v":0},{"$f":"SUMIF(Y83:AD83,\">0\")","v":0},{"$f":"IF(AI83=4,SUMIF(Y83:AB83,\">0\")/1.6,IF(AI83=6,SUMIF(Y83:AD83,\">0\")/2.4,SUMIF(Y83:AD83,\">0\")))","v":0},{"$f":"SUM(O83+U83+X83+AF83)","v":0},{"$f":"IF(AG83>79,\"7\",IF(AG83>69,\"6\",IF(AG83>59,\"5\",IF(AG83>49,\"4\",IF(AG83>39,\"3\",IF(AG83>29,\"2\",IF(AG83>0,\"1\",IF(AG83=0,\"\"))))))))","v":""},{"$f":"COUNTIF(Y83:AD83,\">0\")","v":0}]
[{"$f":"'PAT Detailed'!#REF!","v":{"$error":"#REF!"}},2,{"$f":"C83+1","v":67},67,{"$f":"INSERT!A69","v":0},{"$f":"INSERT!B69","v":0},{"$f":"INSERT!C69","v":0},{"$f":"INSERT!D69","v":0},{"$f":"INSERT!E69","v":0},{"$f":"'PAT Detailed'!M82","v":0},{"$f":"'PAT Detailed'!S82","v":0},{"$f":"'PAT Detailed'!AA82","v":0},{"$f":"'PAT Detailed'!AI82","v":0},{"$f":"'PAT Detailed'!AP82","v":0},0,{"$f":"'PAT Detailed'!AT82","v":0},{"$f":"'PAT Detailed'!BB82","v":0},{"$f":"'PAT Detailed'!BI82","v":0},{"$f":"'PAT Detailed'!BP82","v":0},{"$f":"'PAT Detailed'!BV82","v":0},0,{"$f":"'PAT Detailed'!CE82","v":0},{"$f":"'PAT Detailed'!CK82","v":0},0,{"$f":"'PAT Detailed'!BW82","v":0},{"$f":"'PAT Detailed'!BX82","v":0},{"$f":"'PAT Detailed'!BY82","v":0},{"$f":"'PAT Detailed'!BZ82","v":0},{"$f":"'PAT Detailed'!CA82","v":0},{"$f":"'PAT Detailed'!CB82","v":0},0,0,0,"",0]
[{"$f":"'PAT Detailed'!#REF!","v":{"$error":"#REF!"}},2,68,68,{"$f":"INSERT!A70","v":0},{"$f":"INSERT!B70","v":0},{"$f":"INSERT!C70","v":0},{"$f":"INSERT!D70","v":0},{"$f":"INSERT!E70","v":0},{"$f":"'PAT Detailed'!M83","v":0},{"$f":"'PAT Detailed'!S83","v":0},{"$f":"'PAT Detailed'!AA83","v":0},{"$f":"'PAT Detailed'!AI83","v":0},{"$f":"'PAT Detailed'!AP83","v":0},0,{"$f":"'PAT Detailed'!AT83","v":0},{"$f":"'PAT Detailed'!BB83","v":0},{"$f":"'PAT Detailed'!BI83","v":0},{"$f":"'PAT Detailed'!BP83","v":0},{"$f":"'PAT Detailed'!BV83","v":0},0,{"$f":"'PAT Detailed'!CE83","v":0},{"$f":"'PAT Detailed'!CK83","v":0},0,{"$f":"'PAT Detailed'!BW83","v":0},{"$f":"'PAT Detailed'!BX83","v":0},{"$f":"'PAT Detailed'!BY83","v":0},{"$f":"'PAT Detailed'!BZ83","v":0},{"$f":"'PAT Detailed'!CA83","v":0},{"$f":"'PAT Detailed'!CB83","v":0},0,0,0,"",0]
[{"$f":"'PAT Detailed'!#REF!","v":{"$error":"#REF!"}},2,69,69,{"$f":"INSERT!A71","v":0},{"$f":"INSERT!B71","v":0},{"$f":"INSERT!C71","v":0},{"$f":"INSERT!D71","v":0},{"$f":"INSERT!E71","v":0},{"$f":"'PAT Detailed'!M84","v":0},{"$f":"'PAT Detailed'!S84","v":0},{"$f":"'PAT Detailed'!AA84","v":0},{"$f":"'PAT Detailed'!AI84","v":0},{"$f":"'PAT Detailed'!AP84","v":0},0,{"$f":"'PAT Detailed'!AT84","v":0},{"$f":"'PAT Detailed'!BB84","v":0},{"$f":"'PAT Detailed'!BI84","v":0},{"$f":"'PAT Detailed'!BP84","v":0},{"$f":"'PAT Detailed'!BV84","v":0},0,{"$f":"'PAT Detailed'!CE84","v":0},{"$f":"'PAT Detailed'!CK84","v":0},0,{"$f":"'PAT Detailed'!BW84","v":0},{"$f":"'PAT Detailed'!BX84","v":0},{"$f":"'PAT Detailed'!BY84","v":0},{"$f":"'PAT Detailed'!BZ84","v":0},{"$f":"'PAT Detailed'!CA84","v":0},{"$f":"'PAT Detailed'!CB84","v":0},0,0,0,"",0]
[{"$f":"'PAT Detailed'!#REF!","v":{"$error":"#REF!"}},2,70,70,{"$f":"INSERT!A72","v":0},{"$f":"INSERT!B72","v":0},{"$f":"INSERT!C72","v":0},{"$f":"INSERT!D72","v":0},{"$f":"INSERT!E72","v":0},{"$f":"'PAT Detailed'!M85","v":0},{"$f":"'PAT Detailed'!S85","v":0},{"$f":"'PAT Detailed'!AA85","v":0},{"$f":"'PAT Detailed'!AI85","v":0},{"$f":"'PAT Detailed'!AP85","v":0},0,{"$f":"'PAT Detailed'!AT85","v":0},{"$f":"'PAT Detailed'!BB85","v":0},{"$f":"'PAT Detailed'!BI85","v":0},{"$f":"'PAT Detailed'!BP85","v":0},{"$f":"'PAT Detailed'!BV85","v":0},0,{"$f":"'PAT Detailed'!CE85","v":0},{"$f":"'PAT Detailed'!CK85","v":0},0,{"$f":"'PAT Detailed'!BW85","v":0},{"$f":"'PAT Detailed'!BX85","v":0},{"$f":"'PAT Detailed'!BY85","v":0},{"$f":"'PAT Detailed'!BZ85","v":0},{"$f":"'PAT Detailed'!CA85","v":0},{"$f":"'PAT Detailed'!CB85","v":0},0,0,0,"",0]
[{"$f":"'PAT Detailed'!#REF!","v":{"$error":"#REF!"}},2,71,71,{"$f":"INSERT!A73","v":0},{"$f":"INSERT!B73","v":0},{"$f":"INSERT!C73","v":0},{"$f":"INSERT!D73","v":0},{"$f":"INSERT!E73","v":0},{"$f":"'PAT Detailed'!M86","v":0},{"$f":"'PAT Detailed'!S86","v":0},{"$f":"'PAT Detailed'!AA86","v":0},{"$f":"'PAT Detailed'!AI86","v":0},{"$f":"'PAT Detailed'!AP86","v":0},0,{"$f":"'PAT Detailed'!AT86","v":0},{"$f":"'PAT Detailed'!BB86","v":0},{"$f":"'PAT Detailed'!BI86","v":0},{"$f":"'PAT Detailed'!BP86","v":0},{"$f":"'PAT Detailed'!BV86","v":0},0,{"$f":"'PAT Detailed'!CE86","v":0},{"$f":"'PAT Detailed'!CK86","v":0},0,{"$f":"'PAT Detailed'!BW86","v":0},{"$f":"'PAT Detailed'!BX86","v":0},{"$f":"'PAT Detailed'!BY86","v":0},{"$f":"'PAT Detailed'!BZ86","v":0},{"$f":"'PAT Detailed'!CA86","v":0},{"$f":"'PAT Detailed'!CB86","v":0},0,0,0,"",0]
[{"$f":"'PAT Detailed'!#REF!","v":{"$error":"#REF!"}},2,72,72,{"$f":"INSERT!A74","v":0},{"$f":"INSERT!B74","v":0},{"$f":"INSERT!C74","v":0},{"$f":"INSERT!D74","v":0},{"$f":"INSERT!E74","v":0},{"$f":"'PAT Detailed'!M87","v":0},{"$f":"'PAT Detailed'!S87","v":0},{"$f":"'PAT Detailed'!AA87","v":0},{"$f":"'PAT Detailed'!AI87","v":0},{"$f":"'PAT Detailed'!AP87","v":0},0,{"$f":"'PAT Detailed'!AT87","v":0},{"$f":"'PAT Detailed'!BB87","v":0},{"$f":"'PAT Detailed'!BI87","v":0},{"$f":"'PAT Detailed'!BP87","v":0},{"$f":"'PAT Detailed'!BV87","v":0},0,{"$f":"'PAT Detailed'!CE87","v":0},{"$f":"'PAT Detailed'!CK87","v":0},0,{"$f":"'PAT Detailed'!BW87","v":0},{"$f":"'PAT Detailed'!BX87","v":0},{"$f":"'PAT Detailed'!BY87","v":0},{"$f":"'PAT Detailed'!BZ87","v":0},{"$f":"'PAT Detailed'!CA87","v":0},{"$f":"'PAT Detailed'!CB87","v":0},0,0,0,"",0]
[{"$f":"'PAT Detailed'!#REF!","v":{"$error":"#REF!"}},2,73,73,{"$f":"INSERT!A75","v":0},{"$f":"INSERT!B75","v":0},{"$f":"INSERT!C75","v":0},{"$f":"INSERT!D75","v":0},{"$f":"INSERT!E75","v":0},{"$f":"'PAT Detailed'!M88","v":0},{"$f":"'PAT Detailed'!S88","v":0},{"$f":"'PAT Detailed'!AA88","v":0},{"$f":"'PAT Detailed'!AI88","v":0},{"$f":"'PAT Detailed'!AP88","v":0},0,{"$f":"'PAT Detailed'!AT88","v":0},{"$f":"'PAT Detailed'!BB88","v":0},{"$f":"'PAT Detailed'!BI88","v":0},{"$f":"'PAT Detailed'!BP88","v":0},{"$f":"'PAT Detailed'!BV88","v":0},0,{"$f":"'PAT Detailed'!CE88","v":0},{"$f":"'PAT Detailed'!CK88","v":0},0,{"$f":"'PAT Detailed'!BW88","v":0},{"$f":"'PAT Detailed'!BX88","v":0},{"$f":"'PAT Detailed'!BY88","v":0},{"$f":"'PAT Detailed'!BZ88","v":0},{"$f":"'PAT Detailed'!CA88","v":0},{"$f":"'PAT Detailed'!CB88","v":0},0,0,0,"",0]
[{"$f":"'PAT Detailed'!#REF!","v":{"$error":"#REF!"}},2,{"$f":"C90+1","v":74},74,{"$f":"INSERT!A76","v":0},{"$f":"INSERT!B76","v":0},{"$f":"INSERT!C76","v":0},{"$f":"INSERT!D76","v":0},{"$f":"INSERT!E76","v":0},{"$f":"'PAT Detailed'!M89","v":0},{"$f":"'PAT Detailed'!S89","v":0},{"$f":"'PAT Detailed'!AA89","v":0},{"$f":"'PAT Detailed'!AI89","v":0},{"$f":"'PAT Detailed'!AP89","v":0},0,{"$f":"'PAT Detailed'!AT89","v":0},{"$f":"'PAT Detailed'!BB89","v":0},{"$f":"'PAT Detailed'!BI89","v":0},{"$f":"'PAT Detailed'!BP89","v":0},{"$f":"'PAT Detailed'!BV89","v":0},0,{"$f":"'PAT Detailed'!CE89","v":0},{"$f":"'PAT Detailed'!CK89","v":0},0,{"$f":"'PAT Detailed'!BW89","v":0},{"$f":"'PAT Detailed'!BX89","v":0},{"$f":"'PAT Detailed'!BY89","v":0},{"$f":"'PAT Detailed'!BZ89","v":0},{"$f":"'PAT Detailed'!CA89","v":0},{"$f":"'PAT Detailed'!CB89","v":0},0,0,0,"",0]
[{"$f":"'PAT Detailed'!#REF!","v":{"$error":"#REF!"}},2,75,75,{"$f":"INSERT!A77","v":0},{"$f":"INSERT!B77","v":0},{"$f":"INSERT!C77","v":0},{"$f":"INSERT!D77","v":0},{"$f":"INSERT!E77","v":0},{"$f":"'PAT Detailed'!M90","v":0},{"$f":"'PAT Detailed'!S90","v":0},{"$f":"'PAT Detailed'!AA90","v":0},{"$f":"'PAT Detailed'!AI90","v":0},{"$f":"'PAT Detailed'!AP90","v":0},0,{"$f":"'PAT Detailed'!AT90","v":0},{"$f":"'PAT Detailed'!BB90","v":0},{"$f":"'PAT Detailed'!BI90","v":0},{"$f":"'PAT Detailed'!BP90","v":0},{"$f":"'PAT Detailed'!BV90","v":0},0,{"$f":"'PAT Detailed'!CE90","v":0},{"$f":"'PAT Detailed'!CK90","v":0},0,{"$f":"'PAT Detailed'!BW90","v":0},{"$f":"'PAT Detailed'!BX90","v":0},{"$f":"'PAT Detailed'!BY90","v":0},{"$f":"'PAT Detailed'!BZ90","v":0},{"$f":"'PAT Detailed'!CA90","v":0},{"$f":"'PAT Detailed'!CB90","v":0},0,0,0,"",0]
[{"$f":"'PAT Detailed'!#REF!","v":{"$error":"#REF!"}},2,76,76,{"$f":"INSERT!A78","v":0},{"$f":"INSERT!B78","v":0},{"$f":"INSERT!C78","v":0},{"$f":"INSERT!D78","v":0},{"$f":"INSERT!E78","v":0},{"$f":"'PAT Detailed'!M91","v":0},{"$f":"'PAT Detailed'!S91","v":0},{"$f":"'PAT Detailed'!AA91","v":0},{"$f":"'PAT Detailed'!AI91","v":0},{"$f":"'PAT Detailed'!AP91","v":0},0,{"$f":"'PAT Detailed'!AT91","v":0},{"$f":"'PAT Detailed'!BB91","v":0},{"$f":"'PAT Detailed'!BI91","v":0},{"$f":"'PAT Detailed'!BP91","v":0},{"$f":"'PAT Detailed'!BV91","v":0},0,{"$f":"'PAT Detailed'!CE91","v":0},{"$f":"'PAT Detailed'!CK91","v":0},0,{"$f":"'PAT Detailed'!BW91","v":0},{"$f":"'PAT Detailed'!BX91","v":0},{"$f":"'PAT Detailed'!BY91","v":0},{"$f":"'PAT Detailed'!BZ91","v":0},{"$f":"'PAT Detailed'!CA91","v":0},{"$f":"'PAT Detailed'!CB91","v":0},0,0,0,"",0]
[{"$f":"'PAT Detailed'!#REF!","v":{"$error":"#REF!"}},2,77,77,{"$f":"INSERT!A79","v":0},{"$f":"INSERT!B79","v":0},{"$f":"INSERT!C79","v":0},{"$f":"INSERT!D79","v":0},{"$f":"INSERT!E79","v":0},{"$f":"'PAT Detailed'!M92","v":0},{"$f":"'PAT Detailed'!S92","v":0},{"$f":"'PAT Detailed'!AA92","v":0},{"$f":"'PAT Detailed'!AI92","v":0},{"$f":"'PAT Detailed'!AP92","v":0},0,{"$f":"'PAT Detailed'!AT92","v":0},{"$f":"'PAT Detailed'!BB92","v":0},{"$f":"'PAT Detailed'!BI92","v":0},{"$f":"'PAT Detailed'!BP92","v":0},{"$f":"'PAT Detailed'!BV92","v":0},0,{"$f":"'PAT Detailed'!CE92","v":0},{"$f":"'PAT Detailed'!CK92","v":0},0,{"$f":"'PAT Detailed'!BW92","v":0},{"$f":"'PAT Detailed'!BX92","v":0},{"$f":"'PAT Detailed'!BY92","v":0},{"$f":"'PAT Detailed'!BZ92","v":0},{"$f":"'PAT Detailed'!CA92","v":0},{"$f":"'PAT Detailed'!CB92","v":0},0,0,0,"",0]
[{"$f":"'PAT Detailed'!#REF!","v":{"$error":"#REF!"}},2,78,78,{"$f":"INSERT!A80","v":0},{"$f":"INSERT!B80","v":0},{"$f":"INSERT!C80","v":0},{"$f":"INSERT!D80","v":0},{"$f":"INSERT!E80","v":0},{"$f":"'PAT Detailed'!M93","v":0},{"$f":"'PAT Detailed'!S93","v":0},{"$f":"'PAT Detailed'!AA93","v":0},{"$f":"'PAT Detailed'!AI93","v":0},{"$f":"'PAT Detailed'!AP93","v":0},0,{"$f":"'PAT Detailed'!AT93","v":0},{"$f":"'PAT Detailed'!BB93","v":0},{"$f":"'PAT Detailed'!BI93","v":0},{"$f":"'PAT Detailed'!BP93","v":0},{"$f":"'PAT Detailed'!BV93","v":0},0,{"$f":"'PAT Detailed'!CE93","v":0},{"$f":"'PAT Detailed'!CK93","v":0},0,{"$f":"'PAT Detailed'!BW93","v":0},{"$f":"'PAT Detailed'!BX93","v":0},{"$f":"'PAT Detailed'!BY93","v":0},{"$f":"'PAT Detailed'!BZ93","v":0},{"$f":"'PAT Detailed'!CA93","v":0},{"$f":"'PAT Detailed'!CB93","v":0},0,0,0,"",0]
[{"$f":"'PAT Detailed'!#REF!","v":{"$error":"#REF!"}},2,79,79,{"$f":"INSERT!A81","v":0},{"$f":"INSERT!B81","v":0},{"$f":"INSERT!C81","v":0},{"$f":"INSERT!D81","v":0},{"$f":"INSERT!E81","v":0},{"$f":"'PAT Detailed'!M94","v":0},{"$f":"'PAT Detailed'!S94","v":0},{"$f":"'PAT Detailed'!AA94","v":0},{"$f":"'PAT Detailed'!AI94","v":0},{"$f":"'PAT Detailed'!AP94","v":0},0,{"$f":"'PAT Detailed'!AT94","v":0},{"$f":"'PAT Detailed'!BB94","v":0},{"$f":"'PAT Detailed'!BI94","v":0},{"$f":"'PAT Detailed'!BP94","v":0},{"$f":"'PAT Detailed'!BV94","v":0},0,{"$f":"'PAT Detailed'!CE94","v":0},{"$f":"'PAT Detailed'!CK94","v":0},0,{"$f":"'PAT Detailed'!BW94","v":0},{"$f":"'PAT Detailed'!BX94","v":0},{"$f":"'PAT Detailed'!BY94","v":0},{"$f":"'PAT Detailed'!BZ94","v":0},{"$f":"'PAT Detailed'!CA94","v":0},{"$f":"'PAT Detailed'!CB94","v":0},0,0,0,"",0]
[{"$f":"'PAT Detailed'!#REF!","v":{"$error":"#REF!"}},2,80,80,{"$f":"INSERT!A82","v":0},{"$f":"INSERT!B82","v":0},{"$f":"INSERT!C82","v":0},{"$f":"INSERT!D82","v":0},{"$f":"INSERT!E82","v":0},{"$f":"'PAT Detailed'!M95","v":0},{"$f":"'PAT Detailed'!S95","v":0},{"$f":"'PAT Detailed'!AA95","v":0},{"$f":"'PAT Detailed'!AI95","v":0},{"$f":"'PAT Detailed'!AP95","v":0},0,{"$f":"'PAT Detailed'!AT95","v":0},{"$f":"'PAT Detailed'!BB95","v":0},{"$f":"'PAT Detailed'!BI95","v":0},{"$f":"'PAT Detailed'!BP95","v":0},{"$f":"'PAT Detailed'!BV95","v":0},0,{"$f":"'PAT Detailed'!CE95","v":0},{"$f":"'PAT Detailed'!CK95","v":0},0,{"$f":"'PAT Detailed'!BW95","v":0},{"$f":"'PAT Detailed'!BX95","v":0},{"$f":"'PAT Detailed'!BY95","v":0},{"$f":"'PAT Detailed'!BZ95","v":0},{"$f":"'PAT Detailed'!CA95","v":0},{"$f":"'PAT Detailed'!CB95","v":0},0,0,0,"",0]
[{"$f":"'PAT Detailed'!#REF!","v":{"$error":"#REF!"}},2,81,81,{"$f":"INSERT!A83","v":0},{"$f":"INSERT!B83","v":0},{"$f":"INSERT!C83","v":0},{"$f":"INSERT!D83","v":0},{"$f":"INSERT!E83","v":0},{"$f":"'PAT Detailed'!M96","v":0},{"$f":"'PAT Detailed'!S96","v":0},{"$f":"'PAT Detailed'!AA96","v":0},{"$f":"'PAT Detailed'!AI96","v":0},{"$f":"'PAT Detailed'!AP96","v":0},0,{"$f":"'PAT Detailed'!AT96","v":0},{"$f":"'PAT Detailed'!BB96","v":0},{"$f":"'PAT Detailed'!BI96","v":0},{"$f":"'PAT Detailed'!BP96","v":0},{"$f":"'PAT Detailed'!BV96","v":0},0,{"$f":"'PAT Detailed'!CE96","v":0},{"$f":"'PAT Detailed'!CK96","v":0},0,{"$f":"'PAT Detailed'!BW96","v":0},{"$f":"'PAT Detailed'!BX96","v":0},{"$f":"'PAT Detailed'!BY96","v":0},{"$f":"'PAT Detailed'!BZ96","v":0},{"$f":"'PAT Detailed'!CA96","v":0},{"$f":"'PAT Detailed'!CB96","v":0},0,0,0,"",0]
[{"$f":"'PAT Detailed'!#REF!","v":{"$error":"#REF!"}},2,82,82,{"$f":"INSERT!A84","v":0},{"$f":"INSERT!B84","v":0},{"$f":"INSERT!C84","v":0},{"$f":"INSERT!D84","v":0},{"$f":"INSERT!E84","v":0},{"$f":"'PAT Detailed'!M97","v":0},{"$f":"'PAT Detailed'!S97","v":0},{"$f":"'PAT Detailed'!AA97","v":0},{"$f":"'PAT Detailed'!AI97","v":0},{"$f":"'PAT Detailed'!AP97","v":0},0,{"$f":"'PAT Detailed'!AT97","v":0},{"$f":"'PAT Detailed'!BB97","v":0},{"$f":"'PAT Detailed'!BI97","v":0},{"$f":"'PAT Detailed'!BP97","v":0},{"$f":"'PAT Detailed'!BV97","v":0},0,{"$f":"'PAT Detailed'!CE97","v":0},{"$f":"'PAT Detailed'!CK97","v":0},0,{"$f":"'PAT Detailed'!BW97","v":0},{"$f":"'PAT Detailed'!BX97","v":0},{"$f":"'PAT Detailed'!BY97","v":0},{"$f":"'PAT Detailed'!BZ97","v":0},{"$f":"'PAT Detailed'!CA97","v":0},{"$f":"'PAT Detailed'!CB97","v":0},0,0,0,"",0]
[{"$f":"'PAT Detailed'!#REF!","v":{"$error":"#REF!"}},2,83,83,{"$f":"INSERT!A85","v":0},{"$f":"INSERT!B85","v":0},{"$f":"INSERT!C85","v":0},{"$f":"INSERT!D85","v":0},{"$f":"INSERT!E85","v":0},{"$f":"'PAT Detailed'!M98","v":0},{"$f":"'PAT Detailed'!S98","v":0},{"$f":"'PAT Detailed'!AA98","v":0},{"$f":"'PAT Detailed'!AI98","v":0},{"$f":"'PAT Detailed'!AP98","v":0},0,{"$f":"'PAT Detailed'!AT98","v":0},{"$f":"'PAT Detailed'!BB98","v":0},{"$f":"'PAT Detailed'!BI98","v":0},{"$f":"'PAT Detailed'!BP98","v":0},{"$f":"'PAT Detailed'!BV98","v":0},0,{"$f":"'PAT Detailed'!CE98","v":0},{"$f":"'PAT Detailed'!CK98","v":0},0,{"$f":"'PAT Detailed'!BW98","v":0},{"$f":"'PAT Detailed'!BX98","v":0},{"$f":"'PAT Detailed'!BY98","v":0},{"$f":"'PAT Detailed'!BZ98","v":0},{"$f":"'PAT Detailed'!CA98","v":0},{"$f":"'PAT Detailed'!CB98","v":0},0,0,0,"",0]
[null,2,84,84,{"$f":"INSERT!A86","v":0},{"$f":"INSERT!B86","v":0},{"$f":"INSERT!C86","v":0},{"$f":"INSERT!D86","v":0},{"$f":"INSERT!E86","v":0},{"$f":"'PAT Detailed'!M99","v":0},{"$f":"'PAT Detailed'!S99","v":0},{"$f":"'PAT Detailed'!AA99","v":0},{"$f":"'PAT Detailed'!AI99","v":0},{"$f":"'PAT Detailed'!AP99","v":0},0,{"$f":"'PAT Detailed'!AT99","v":0},{"$f":"'PAT Detailed'!BB99","v":0},{"$f":"'PAT Detailed'!BI99","v":0},{"$f":"'PAT Detailed'!BP99","v":0},{"$f":"'PAT Detailed'!BV99","v":0},0,{"$f":"'PAT Detailed'!CE99","v":0},{"$f":"'PAT Detailed'!CK99","v":0},0,{"$f":"'PAT Detailed'!BW99","v":0},{"$f":"'PAT Detailed'!BX99","v":0},{"$f":"'PAT Detailed'!BY99","v":0},{"$f":"'PAT Detailed'!BZ99","v":0},{"$f":"'PAT Detailed'!CA99","v":0},{"$f":"'PAT Detailed'!CB99","v":0},0,0,0,"",0]
[null,2,85,85,{"$f":"INSERT!A87","v":0},{"$f":"INSERT!B87","v":0},{"$f":"INSERT!C87","v":0},{"$f":"INSERT!D87","v":0},{"$f":"INSERT!E87","v":0},{"$f":"'PAT Detailed'!M100","v":0},{"$f":"'PAT Detailed'!S100","v":0},{"$f":"'PAT Detailed'!AA100","v":0},{"$f":"'PAT Detailed'!AI100","v":0},{"$f":"'PAT Detailed'!AP100","v":0},0,{"$f":"'PAT Detailed'!AT100","v":0},{"$f":"'PAT Detailed'!BB100","v":0},{"$f":"'PAT Detailed'!BI100","v":0},{"$f":"'PAT Detailed'!BP100","v":0},{"$f":"'PAT Detailed'!BV100","v":0},0,{"$f":"'PAT Detailed'!CE100","v":0},{"$f":"'PAT Detailed'!CK100","v":0},0,{"$f":"'PAT Detailed'!BW100","v":0},{"$f":"'PAT Detailed'!BX100","v":0},{"$f":"'PAT Detailed'!BY100","v":0},{"$f":"'PAT Detailed'!BZ100","v":0},{"$f":"'PAT Detailed'!CA100","v":0},{"$f":"'PAT Detailed'!CB100","v":0},0,0,0,"",0]
[null,2,86,86,{"$f":"INSERT!A88","v":0},{"$f":"INSERT!B88","v":0},{"$f":"INSERT!C88","v":0},{"$f":"INSERT!D88","v":0},{"$f":"INSERT!E88","v":0},{"$f":"'PAT Detailed'!M101","v":0},{"$f":"'PAT Detailed'!S101","v":0},{"$f":"'PAT Detailed'!AA101","v":0},{"$f":"'PAT Detailed'!AI101","v":0},{"$f":"'PAT Detailed'!AP101","v":0},0,{"$f":"'PAT Detailed'!AT101","v":0},{"$f":"'PAT Detailed'!BB101","v":0},{"$f":"'PAT Detailed'!BI101","v":0},{"$f":"'PAT Detailed'!BP101","v":0},{"$f":"'PAT Detailed'!BV101","v":0},0,{"$f":"'PAT Detailed'!CE101","v":0},{"$f":"'PAT Detailed'!CK101","v":0},0,{"$f":"'PAT Detailed'!BW101","v":0},{"$f":"'PAT Detailed'!BX101","v":0},{"$f":"'PAT Detailed'!BY101","v":0},{"$f":"'PAT Detailed'!BZ101","v":0},{"$f":"'PAT Detailed'!CA101","v":0},{"$f":"'PAT Detailed'!CB101","v":0},0,0,0,"",0]
[null,2,87,87,{"$f":"INSERT!A89","v":0},{"$f":"INSERT!B89","v":0},{"$f":"INSERT!C89","v":0},{"$f":"INSERT!D89","v":0},{"$f":"INSERT!E89","v":0},{"$f":"'PAT Detailed'!M102","v":0},{"$f":"'PAT Detailed'!S102","v":0},{"$f":"'PAT Detailed'!AA102","v":0},{"$f":"'PAT Detailed'!AI102","v":0},{"$f":"'PAT Detailed'!AP102","v":0},0,{"$f":"'PAT Detailed'!AT102","v":0},{"$f":"'PAT Detailed'!BB102","v":0},{"$f":"'PAT Detailed'!BI102","v":0},{"$f":"'PAT Detailed'!BP102","v":0},{"$f":"'PAT Detailed'!BV102","v":0},0,{"$f":"'PAT Detailed'!CE102","v":0},{"$f":"'PAT Detailed'!CK102","v":0},0,{"$f":"'PAT Detailed'!BW102","v":0},{"$f":"'PAT Detailed'!BX102","v":0},{"$f":"'PAT Detailed'!BY102","v":0},{"$f":"'PAT Detailed'!BZ102","v":0},{"$f":"'PAT Detailed'!CA102","v":0},{"$f":"'PAT Detailed'!CB102","v":0},0,0,0,"",0]
[null,2,88,88,{"$f":"INSERT!A90","v":0},{"$f":"INSERT!B90","v":0},{"$f":"INSERT!C90","v":0},{"$f":"INSERT!D90","v":0},{"$f":"INSERT!E90","v":0},{"$f":"'PAT Detailed'!M103","v":0},{"$f":"'PAT Detailed'!S103","v":0},{"$f":"'PAT Detailed'!AA103","v":0},{"$f":"'PAT Detailed'!AI103","v":0},{"$f":"'PAT Detailed'!AP103","v":0},0,{"$f":"'PAT Detailed'!AT103","v":0},{"$f":"'PAT Detailed'!BB103","v":0},{"$f":"'PAT Detailed'!BI103","v":0},{"$f":"'PAT Detailed'!BP103","v":0},{"$f":"'PAT Detailed'!BV103","v":0},0,{"$f":"'PAT Detailed'!CE103","v":0},{"$f":"'PAT Detailed'!CK103","v":0},0,{"$f":"'PAT Detailed'!BW103","v":0},{"$f":"'PAT Detailed'!BX103","v":0},{"$f":"'PAT Detailed'!BY103","v":0},{"$f":"'PAT Detailed'!BZ103","v":0},{"$f":"'PAT Detailed'!CA103","v":0},{"$f":"'PAT Detailed'!CB103","v":0},0,0,0,"",0]
[null,2,89,89,{"$f":"INSERT!A91","v":0},{"$f":"INSERT!B91","v":0},{"$f":"INSERT!C91","v":0},{"$f":"INSERT!D91","v":0},{"$f":"INSERT!E91","v":0},{"$f":"'PAT Detailed'!M104","v":0},{"$f":"'PAT Detailed'!S104","v":0},{"$f":"'PAT Detailed'!AA104","v":0},{"$f":"'PAT Detailed'!AI104","v":0},{"$f":"'PAT Detailed'!AP104","v":0},0,{"$f":"'PAT Detailed'!AT104","v":0},{"$f":"'PAT Detailed'!BB104","v":0},{"$f":"'PAT Detailed'!BI104","v":0},{"$f":"'PAT Detailed'!BP104","v":0},{"$f":"'PAT Detailed'!BV104","v":0},0,{"$f":"'PAT Detailed'!CE104","v":0},{"$f":"'PAT Detailed'!CK104","v":0},0,{"$f":"'PAT Detailed'!BW104","v":0},{"$f":"'PAT Detailed'!BX104","v":0},{"$f":"'PAT Detailed'!BY104","v":0},{"$f":"'PAT Detailed'!BZ104","v":0},{"$f":"'PAT Detailed'!CA104","v":0},{"$f":"'PAT Detailed'!CB104","v":0},0,0,0,"",0]
[null,2,90,90,{"$f":"INSERT!A92","v":0},{"$f":"INSERT!B92","v":0},{"$f":"INSERT!C92","v":0},{"$f":"INSERT!D92","v":0},{"$f":"INSERT!E92","v":0},{"$f":"'PAT Detailed'!M105","v":0},{"$f":"'PAT Detailed'!S105","v":0},{"$f":"'PAT Detailed'!AA105","v":0},{"$f":"'PAT Detailed'!AI105","v":0},{"$f":"'PAT Detailed'!AP105","v":0},0,{"$f":"'PAT Detailed'!AT105","v":0},{"$f":"'PAT Detailed'!BB105","v":0},{"$f":"'PAT Detailed'!BI105","v":0},{"$f":"'PAT Detailed'!BP105","v":0},{"$f":"'PAT Detailed'!BV105","v":0},0,{"$f":"'PAT Detailed'!CE105","v":0},{"$f":"'PAT Detailed'!CK105","v":0},0,{"$f":"'PAT Detailed'!BW105","v":0},{"$f":"'PAT Detailed'!BX105","v":0},{"$f":"'PAT Detailed'!BY105","v":0},{"$f":"'PAT Detailed'!BZ105","v":0},{"$f":"'PAT Detailed'!CA105","v":0},{"$f":"'PAT Detailed'!CB105","v":0},0,0,0,"",0]
[null,2,91,91,{"$f":"INSERT!A93","v":0},{"$f":"INSERT!B93","v":0},{"$f":"INSERT!C93","v":0},{"$f":"INSERT!D93","v":0},{"$f":"INSERT!E93","v":0},{"$f":"'PAT Detailed'!M106","v":0},{"$f":"'PAT Detailed'!S106","v":0},{"$f":"'PAT Detailed'!AA106","v":0},{"$f":"'PAT Detailed'!AI106","v":0},{"$f":"'PAT Detailed'!AP106","v":0},0,{"$f":"'PAT Detailed'!AT106","v":0},{"$f":"'PAT Detailed'!BB106","v":0},{"$f":"'PAT Detailed'!BI106","v":0},{"$f":"'PAT Detailed'!BP106","v":0},{"$f":"'PAT Detailed'!BV106","v":0},0,{"$f":"'PAT Detailed'!CE106","v":0},{"$f":"'PAT Detailed'!CK106","v":0},0,{"$f":"'PAT Detailed'!BW106","v":0},{"$f":"'PAT Detailed'!BX106","v":0},{"$f":"'PAT Detailed'!BY106","v":0},{"$f":"'PAT Detailed'!BZ106","v":0},{"$f":"'PAT Detailed'!CA106","v":0},{"$f":"'PAT Detailed'!CB106","v":0},0,0,0,"",0]
[null,2,92,92,{"$f":"INSERT!A94","v":0},{"$f":"INSERT!B94","v":0},{"$f":"INSERT!C94","v":0},{"$f":"INSERT!D94","v":0},{"$f":"INSERT!E94","v":0},{"$f":"'PAT Detailed'!M107","v":0},{"$f":"'PAT Detailed'!S107","v":0},{"$f":"'PAT Detailed'!AA107","v":0},{"$f":"'PAT Detailed'!AI107","v":0},{"$f":"'PAT Detailed'!AP107","v":0},0,{"$f":"'PAT Detailed'!AT107","v":0},{"$f":"'PAT Detailed'!BB107","v":0},{"$f":"'PAT Detailed'!BI107","v":0},{"$f":"'PAT Detailed'!BP107","v":0},{"$f":"'PAT Detailed'!BV107","v":0},0,{"$f":"'PAT Detailed'!CE107","v":0},{"$f":"'PAT Detailed'!CK107","v":0},0,{"$f":"'PAT Detailed'!BW107","v":0},{"$f":"'PAT Detailed'!BX107","v":0},{"$f":"'PAT Detailed'!BY107","v":0},{"$f":"'PAT Detailed'!BZ107","v":0},{"$f":"'PAT Detailed'!CA107","v":0},{"$f":"'PAT Detailed'!CB107","v":0},0,0,0,"",0]
[null,2,93,93,{"$f":"INSERT!A95","v":0},{"$f":"INSERT!B95","v":0},{"$f":"INSERT!C95","v":0},{"$f":"INSERT!D95","v":0},{"$f":"INSERT!E95","v":0},{"$f":"'PAT Detailed'!M108","v":0},{"$f":"'PAT Detailed'!S108","v":0},{"$f":"'PAT Detailed'!AA108","v":0},{"$f":"'PAT Detailed'!AI108","v":0},{"$f":"'PAT Detailed'!AP108","v":0},0,{"$f":"'PAT Detailed'!AT108","v":0},{"$f":"'PAT Detailed'!BB108","v":0},{"$f":"'PAT Detailed'!BI108","v":0},{"$f":"'PAT Detailed'!BP108","v":0},{"$f":"'PAT Detailed'!BV108","v":0},0,{"$f":"'PAT Detailed'!CE108","v":0},{"$f":"'PAT Detailed'!CK108","v":0},0,{"$f":"'PAT Detailed'!BW108","v":0},{"$f":"'PAT Detailed'!BX108","v":0},{"$f":"'PAT Detailed'!BY108","v":0},{"$f":"'PAT Detailed'!BZ108","v":0},{"$f":"'PAT Detailed'!CA108","v":0},{"$f":"'PAT Detailed'!CB108","v":0},0,0,0,"",0]
[null,2,94,94,{"$f":"INSERT!A96","v":0},{"$f":"INSERT!B96","v":0},{"$f":"INSERT!C96","v":0},{"$f":"INSERT!D96","v":0},{"$f":"INSERT!E96","v":0},{"$f":"'PAT Detailed'!M109","v":0},{"$f":"'PAT Detailed'!S109","v":0},{"$f":"'PAT Detailed'!AA109","v":0},{"$f":"'PAT Detailed'!AI109","v":0},{"$f":"'PAT Detailed'!AP109","v":0},0,{"$f":"'PAT Detailed'!AT109","v":0},{"$f":"'PAT Detailed'!BB109","v":0},{"$f":"'PAT Detailed'!BI109","v":0},{"$f":"'PAT Detailed'!BP109","v":0},{"$f":"'PAT Detailed'!BV109","v":0},0,{"$f":"'PAT Detailed'!CE109","v":0},{"$f":"'PAT Detailed'!CK109","v":0},0,{"$f":"'PAT Detailed'!BW109","v":0},{"$f":"'PAT Detailed'!BX109","v":0},{"$f":"'PAT Detailed'!BY109","v":0},{"$f":"'PAT Detailed'!BZ109","v":0},{"$f":"'PAT Detailed'!CA109","v":0},{"$f":"'PAT Detailed'!CB109","v":0},0,0,0,"",0]
[null,2,95,95,{"$f":"INSERT!A97","v":0},{"$f":"INSERT!B97","v":0},{"$f":"INSERT!C97","v":0},{"$f":"INSERT!D97","v":0},{"$f":"INSERT!E97","v":0},{"$f":"'PAT Detailed'!M110","v":0},{"$f":"'PAT Detailed'!S110","v":0},{"$f":"'PAT Detailed'!AA110","v":0},{"$f":"'PAT Detailed'!AI110","v":0},{"$f":"'PAT Detailed'!AP110","v":0},0,{"$f":"'PAT Detailed'!AT110","v":0},{"$f":"'PAT Detailed'!BB110","v":0},{"$f":"'PAT Detailed'!BI110","v":0},{"$f":"'PAT Detailed'!BP110","v":0},{"$f":"'PAT Detailed'!BV110","v":0},0,{"$f":"'PAT Detailed'!CE110","v":0},{"$f":"'PAT Detailed'!CK110","v":0},0,{"$f":"'PAT Detailed'!BW110","v":0},{"$f":"'PAT Detailed'!BX110","v":0},{"$f":"'PAT Detailed'!BY110","v":0},{"$f":"'PAT Detailed'!BZ110","v":0},{"$f":"'PAT Detailed'!CA110","v":0},{"$f":"'PAT Detailed'!CB110","v":0},0,0,0,"",0]
[null,2,96,96,{"$f":"INSERT!A98","v":0},{"$f":"INSERT!B98","v":0},{"$f":"INSERT!C98","v":0},{"$f":"INSERT!D98","v":0},{"$f":"INSERT!E98","v":0},{"$f":"'PAT Detailed'!M111","v":0},{"$f":"'PAT Detailed'!S111","v":0},{"$f":"'PAT Detailed'!AA111","v":0},{"$f":"'PAT Detailed'!AI111","v":0},{"$f":"'PAT Detailed'!AP111","v":0},0,{"$f":"'PAT Detailed'!AT111","v":0},{"$f":"'PAT Detailed'!BB111","v":0},{"$f":"'PAT Detailed'!BI111","v":0},{"$f":"'PAT Detailed'!BP111","v":0},{"$f":"'PAT Detailed'!BV111","v":0},0,{"$f":"'PAT Detailed'!CE111","v":0},{"$f":"'PAT Detailed'!CK111","v":0},0,{"$f":"'PAT Detailed'!BW111","v":0},{"$f":"'PAT Detailed'!BX111","v":0},{"$f":"'PAT Detailed'!BY111","v":0},{"$f":"'PAT Detailed'!BZ111","v":0},{"$f":"'PAT Detailed'!CA111","v":0},{"$f":"'PAT Detailed'!CB111","v":0},0,0,0,"",0]
[null,2,97,97,{"$f":"INSERT!A99","v":0},{"$f":"INSERT!B99","v":0},{"$f":"INSERT!C99","v":0},{"$f":"INSERT!D99","v":0},{"$f":"INSERT!E99","v":0},{"$f":"'PAT Detailed'!M112","v":0},{"$f":"'PAT Detailed'!S112","v":0},{"$f":"'PAT Detailed'!AA112","v":0},{"$f":"'PAT Detailed'!AI112","v":0},{"$f":"'PAT Detailed'!AP112","v":0},0,{"$f":"'PAT Detailed'!AT112","v":0},{"$f":"'PAT Detailed'!BB112","v":0},{"$f":"'PAT Detailed'!BI112","v":0},{"$f":"'PAT Detailed'!BP112","v":0},{"$f":"'PAT Detailed'!BV112","v":0},0,{"$f":"'PAT Detailed'!CE112","v":0},{"$f":"'PAT Detailed'!CK112","v":0},0,{"$f":"'PAT Detailed'!BW112","v":0},{"$f":"'PAT Detailed'!BX112","v":0},{"$f":"'PAT Detailed'!BY112","v":0},{"$f":"'PAT Detailed'!BZ112","v":0},{"$f":"'PAT Detailed'!CA112","v":0},{"$f":"'PAT Detailed'!CB112","v":0},0,0,0,"",0]
[null,2,98,98,{"$f":"INSERT!A100","v":0},{"$f":"INSERT!B100","v":0},{"$f":"INSERT!C100","v":0},{"$f":"INSERT!D100","v":0},{"$f":"INSERT!E100","v":0},{"$f":"'PAT Detailed'!M113","v":0},{"$f":"'PAT Detailed'!S113","v":0},{"$f":"'PAT Detailed'!AA113","v":0},{"$f":"'PAT Detailed'!AI113","v":0},{"$f":"'PAT Detailed'!AP113","v":0},0,{"$f":"'PAT Detailed'!AT113","v":0},{"$f":"'PAT Detailed'!BB113","v":0},{"$f":"'PAT Detailed'!BI113","v":0},{"$f":"'PAT Detailed'!BP113","v":0},{"$f":"'PAT Detailed'!BV113","v":0},0,{"$f":"'PAT Detailed'!CE113","v":0},{"$f":"'PAT Detailed'!CK113","v":0},0,{"$f":"'PAT Detailed'!BW113","v":0},{"$f":"'PAT Detailed'!BX113","v":0},{"$f":"'PAT Detailed'!BY113","v":0},{"$f":"'PAT Detailed'!BZ113","v":0},{"$f":"'PAT Detailed'!CA113","v":0},{"$f":"'PAT Detailed'!CB113","v":0},0,0,0,"",0]
[null,2,99,99,{"$f":"INSERT!A101","v":0},{"$f":"INSERT!B101","v":0},{"$f":"INSERT!C101","v":0},{"$f":"INSERT!D101","v":0},{"$f":"INSERT!E101","v":0},{"$f":"'PAT Detailed'!M114","v":0},{"$f":"'PAT Detailed'!S114","v":0},{"$f":"'PAT Detailed'!AA114","v":0},{"$f":"'PAT Detailed'!AI114","v":0},{"$f":"'PAT Detailed'!AP114","v":0},0,{"$f":"'PAT Detailed'!AT114","v":0},{"$f":"'PAT Detailed'!BB114","v":0},{"$f":"'PAT Detailed'!BI114","v":0},{"$f":"'PAT Detailed'!BP114","v":0},{"$f":"'PAT Detailed'!BV114","v":0},0,{"$f":"'PAT Detailed'!CE114","v":0},{"$f":"'PAT Detailed'!CK114","v":0},0,{"$f":"'PAT Detailed'!BW114","v":0},{"$f":"'PAT Detailed'!BX114","v":0},{"$f":"'PAT Detailed'!BY114","v":0},{"$f":"'PAT Detailed'!BZ114","v":0},{"$f":"'PAT Detailed'!CA114","v":0},{"$f":"'PAT Detailed'!CB114","v":0},0,0,0,"",0]
[null,2,100,100,{"$f":"INSERT!A102","v":0},{"$f":"INSERT!B102","v":0},{"$f":"INSERT!C102","v":0},{"$f":"INSERT!D102","v":0},{"$f":"INSERT!E102","v":0},{"$f":"'PAT Detailed'!M115","v":0},{"$f":"'PAT Detailed'!S115","v":0},{"$f":"'PAT Detailed'!AA115","v":0},{"$f":"'PAT Detailed'!AI115","v":0},{"$f":"'PAT Detailed'!AP115","v":0},0,{"$f":"'PAT Detailed'!AT115","v":0},{"$f":"'PAT Detailed'!BB115","v":0},{"$f":"'PAT Detailed'!BI115","v":0},{"$f":"'PAT Detailed'!BP115","v":0},{"$f":"'PAT Detailed'!BV115","v":0},0,{"$f":"'PAT Detailed'!CE115","v":0},{"$f":"'PAT Detailed'!CK115","v":0},0,{"$f":"'PAT Detailed'!BW115","v":0},{"$f":"'PAT Detailed'!BX115","v":0},{"$f":"'PAT Detailed'!BY115","v":0},{"$f":"'PAT Detailed'!BZ115","v":0},{"$f":"'PAT Detailed'!CA115","v":0},{"$f":"'PAT Detailed'!CB115","v":0},0,0,0,"",0]
[null,null,"Total amount of learners on mark sheet",null,null,null,"Total",null,null,{"$f":"SUMIF(J18:J117,\">0\")","v":0},{"$f":"SUMIF(K18:K117,\">0\")","v":0},{"$f":"SUMIF(L18:L117,\">0\")","v":0},{"$f":"SUMIF(M18:M117,\">0\")","v":0},{"$f":"SUMIF(N18:N117,\">0\")","v":0},{"$f":"SUMIF(O18:O117,\">0\")","v":0},{"$f":"SUMIF(P18:P117,\">0\")","v":0},0,0,0,0,{"$f":"SUMIF(U18:U117,\">0\")","v":0},{"$f":"SUMIF(V18:V117,\">0\")","v":0},{"$f":"SUMIF(W18:W117,\">0\")","v":0},{"$f":"SUMIF(X18:X117,\">0\")","v":0},{"$f":"SUMIF(Y18:Y117,\">0\")","v":0},0,0,0,{"$f":"SUMIF(AC18:AC117,\">0\")","v":0},{"$f":"SUMIF(AD18:AD117,\">0\")","v":0},0,0,0,0]
[null,null,null,null,null,null,"Average",null,null,{"$f":"IFERROR(ROUND(SUM(J118/$C$122),1),\"0\")","v":"0"},"0","0","0","0","0","0",{"$f":"IFERROR(ROUND(SUM(Q118/$C$122),1),\"0\")","v":"0"},"0","0","0","0","0","0","0",{"$f":"IFERROR(ROUND(SUM(Y118/$C$122),1),\"0\")","v":"0"},"0","0","0","0","0","0","0","0","0"]
[null,null,null,null,null,null,"PAT results analysis",null,null,"PAT LEVELS"]
[null,null,null,null,null,null,null,null,null,"LEVEL 1",null,"LEVEL 2",null,null,null,"LEVEL 5",null,null,null,"LEVEL 6"]
[null,null,{"$f":"TERM1!$B$120","v":0},null,null,null,null,null,null," 0 - 29 ",null," 30 - 39 ",null,null,null," 60 - 69 ",null,null,null," 70 - 79 "]
[null,null,null,null,null,null,null,null,null,{"$f":"COUNTIF(AH18:AH117,1)","v":0},null,{"$f":"COUNTIF(AH18:AH117,2)","v":0},null,null,null,{"$f":"COUNTIF(AH18:AH117,5)","v":0},null,null,null,{"$f":"COUNTIF(AH18:AH117,6)","v":0}]

{"sheet":"FIN SBA MARK SHEET","index":17,"n_rows":134,"n_cols":40,"rows_kept":134,"cut":false,"hidden":false,"merged":[[122,9,122,10],[125,9,125,25],[126,14,126,15],[126,21,126,23],[122,19,122,20],[123,21,123,23],[126,9,126,10],[126,11,126,13],[123,9,123,10],[123,17,123,18],[123,19,123,20],[123,14,123,15],[126,17,126,18],[126,19,126,20],[122,11,122,13],[123,11,123,13],[2,39,15,39],[118,31,118,32],[118,38,118,39],[5,11,15,11],[5,20,15,20],[5,21,15,21],[5,30,15,30],[5,31,15,31],[5,32,15,32],[5,35,15,35],[5,36,15,36],[5,37,15,37],[4,29,4,30],[5,22,15,22],[4,17,4,22],[4,23,4,24],[1,2,1,39],[2,38,15,38],[4,26,4,27],[5,26,15,26],[118,25,119,25],[118,29,118,30],[5,27,15,27],[5,23,15,23],[4,31,4,34],[5,9,15,9],[118,33,118,34],[4,35,4,37],[4,2,4,5],[2,9,3,37],[5,14,15,14],[5,13,15,13],[121,17,121,18],[121,19,121,20],[4,6,4,7],[4,25,15,25],[5,24,15,24],[4,9,4,12],[4,13,4,16],[5,17,15,17],[5,18,15,18],[5,19,15,19],[5,10,15,10],[12,6,12,7],[5,33,15,33],[5,34,15,34],[5,16,15,16],[5,12,15,12],[5,29,15,29],[5,15,15,15],[5,2,5,5],[5,6,5,7],[122,17,122,18],[122,2,122,5],[118,2,121,5],[121,9,121,10],[121,11,121,13],[121,14,121,15],[122,14,122,15],[120,9,120,25],[121,21,121,23],[122,21,122,23],[6,2,6,5],[6,6,6,7],[7,2,7,5],[7,6,7,7],[131,9,131,10],[132,9,132,10],[133,9,133,10],[130,9,130,25],[127,21,127,23],[128,21,128,23],[128,9,128,10],[128,11,128,13],[127,9,127,10],[127,11,127,13],[127,14,127,15],[128,14,128,15],[127,17,127,18],[128,17,128,18],[127,19,127,20],[128,19,128,20]]}
[]
[null,null,"ENGINEERING GRAPHICS AND DESIGN"]
[null,null,null,null,null,null,null,null,null,"PROGRAM OF ASSESSMENT  :  FINAL MARK SHEET",null,null,null,null,null,null,null,null,null,null,null,null,null,null,null,null,null,null,null,null,null,null,null,null,null,null,null,null,"FINAL PROMOTION MARK","FINAL PROMOTION LEVELS"]
[]
[null,null,"School:",null,null,null,{"$f":"INSERT!J3","v":0},null,null,"TERM 1",null,null,null,"TERM 2",null,null,null,"TERM 3",null,null,null,null,null,"TERM 4",null,"Total CD for Year","Term Exam",null,null,"SBA",null,"PAT",null,null,null,"NOV EXAM"]
[null,null,"Grade:",null,null,null,{"$f":"INSERT!J4","v":0},null,null,{"$f":"TERM1!$I$4","v":"CD1  Free-hand drawing"},{"$f":"TERM1!$AA$4","v":"CD2  1st Geometrical Drawing"},{"$f":"TERM1!$AS$4","v":"CD3  2nd Geometrical Drawing"},"CD Term 1 Weighting",{"$f":"TERM2!$I$4","v":"CD4  1st Mechanical Drawings"},{"$f":"TERM2!$AA$4","v":"CD5  2nd Mechanical Drawings"},{"$f":"TERM2!$AS$4","v":"CD6  Isometric"},"CD Term 2 Weighting",{"$f":"TERM3!$I$4","v":"CD7 1st Solid Geometry\nPrism or Pyramid"},{"$f":"TERM3!$AA$4","v":"CD8 2nd Solid Geometry\nCylinder or Cone"},{"$f":"TERM3!$AS$4","v":"CD 9 Descriptive Geometry"},{"$f":"TERM3!$BK$4","v":"CD 10  Floor Plan"},{"$f":"TERM3!$CC$4","v":"CD 11 Civil Section of fondation"},"CD Term 3 Weighting",{"$f":"TERM4!$I$4","v":"CD12 1-point perspective"},"CD Term 4 Weighting",null,"June Exam","Term Exam Weighting",null,"SBA Final Mark","SBA Levels","PAT Final Mark","PAT Levels","PAT Mech Final Mark","PAT Mech Levels","Nov Exam Paper 1","Nov Exam Paper 2","NOV EXAM TOTAL"]
[null,null,"Teacher:",null,null,null,{"$f":"INSERT!J5","v":0}]
[null,null,"HOD:",null,null,null,{"$f":"INSERT!J6","v":0}]
[null,null,null,null,null,"SES:",{"$f":"INSERT!J7","v":0},{"$f":"INSERT!K7","v":0}]
[]
[]
[]
[]
[]
[]
[]
[null,null,"Nr.",null,"Class","Admission","Surname","Name","Gender",10,10,10,10,10,10,10,10,10,10,10,10,10,17,10,3,{"$f":"SUM(M17+Q17+W17+Y17)","v":40},100,60,null," / 100"," / 7",100," / 7",100," / 7",100,100,{"$f":"SUM(AJ17:AK17)","v":200},100," / 7"]
[]
[null,{"$f":"SUM(COUNTA(G19)+COUNT(C19))","v":2},1,1,{"$f":"INSERT!A3","v":0},{"$f":"INSERT!B3","v":0},{"$f":"INSERT!C3","v":0},{"$f":"INSERT!D3","v":0},{"$f":"INSERT!E3","v":0},{"$f":"TERM1!Z16","v":0},{"$f":"'SASAMS TERM1'!I9","v":0},{"$f":"'SASAMS TERM1'!J9","v":0},{"$f":"ROUND(SUM(J19:L19/3),0)","v":0},{"$f":"'SASAMS TERM2'!H9","v":0},{"$f":"'SASAMS TERM2'!I9","v":0},{"$f":"'SASAMS TERM2'!J9","v":0},{"$f":"ROUND(SUM(N19:P19/3),0)","v":0},{"$f":"'SASAMS TERM3'!H9","v":0},{"$f":"'SASAMS TERM3'!I9","v":0},{"$f":"'SASAMS TERM3'!J9","v":0},{"$f":"'SASAMS TERM3'!K9","v":0},{"$f":"'SASAMS TERM3'!L9","v":0},{"$f":"ROUND((SUM(R19:V19)/2.94117647),0)","v":0},{"$f":"'SASAMS TERM4'!H9","v":0},{"$f":"ROUND(SUM(X19/3.333333333),0)","v":0},{"$f":"SUM(M19+Q19+W19+Y19)","v":0},{"$f":"'SASAMS TERM2'!L9","v":0},{"$f":"ROUND(SUM(AA19/2.5),0)","v":0},null,{"$f":"SUM(Z19+AB19)","v":0},{"$f":"IF(AD19>79,\"7\",IF(AD19>69,\"6\",IF(AD19>59,\"5\",IF(AD19>49,\"4\",IF(AD19>39,\"3\",IF(AD19>29,\"2\",IF(AD19>0,\"1\",IF(AD19=0,\"\"))))))))","v":""},{"$f":"'FIN PAT MARK SHEET'!AG18","v":0},{"$f":"IF(AF19>79,\"7\",IF(AF19>69,\"6\",IF(AF19>59,\"5\",IF(AF19>49,\"4\",IF(AF19>39,\"3\",IF(AF19>29,\"2\",IF(AF19>0,\"1\",IF(AF19=0,\"\"))))))))","v":""},{"$f":"'PAT Mech'!AG17","v":0},{"$f":"IF(AH19>79,\"7\",IF(AH19>69,\"6\",IF(AH19>59,\"5\",IF(AH19>49,\"4\",IF(AH19>39,\"3\",IF(AH19>29,\"2\",IF(AH19>0,\"1\",IF(AH19=0,\"\"))))))))","v":""},{"$f":"'SASAMS TERM4'!AC9","v":0},{"$f":"'SASAMS TERM4'!AD9","v":0},{"$f":"SUM(AJ19:AK19)","v":0},{"$f":"SUM(AD19/2.5)+SUM(AF19/5)+SUM(AL19/2.5)","v":0},{"$f":"IF(AM19>79,\"7\",IF(AM19>69,\"6\",IF(AM19>59,\"5\",IF(AM19>49,\"4\",IF(AM19>39,\"3\",IF(AM19>29,\"2\",IF(AM19>0,\"1\",IF(AM19=0,\"\"))))))))","v":""}]
[null,{"$f":"SUM(COUNTA(G20)+COUNT(C20))","v":2},{"$f":"C19+1","v":2},2,{"$f":"INSERT!A4","v":0},{"$f":"INSERT!B4","v":0},{"$f":"INSERT!C4","v":0},{"$f":"INSERT!D4","v":0},{"$f":"INSERT!E4","v":0},{"$f":"TERM1!Z17","v":0},{"$f":"'SASAMS TERM1'!I10","v":0},{"$f":"'SASAMS TERM1'!J10","v":0},{"$f":"ROUND(SUM(J20:L20/3),0)","v":0},{"$f":"'SASAMS TERM2'!H10","v":0},{"$f":"'SASAMS TERM2'!I10","v":0},{"$f":"'SASAMS TERM2'!J10","v":0},{"$f":"ROUND(SUM(N20:P20/3),0)","v":0},{"$f":"'SASAMS TERM3'!H10","v":0},{"$f":"'SASAMS TERM3'!I10","v":0},{"$f":"'SASAMS TERM3'!J10","v":0},{"$f":"'SASAMS TERM3'!K10","v":0},{"$f":"'SASAMS TERM3'!L10","v":0},{"$f":"ROUND((SUM(R20:V20)/2.94117647),0)","v":0},{"$f":"'SASAMS TERM4'!H10","v":0},{"$f":"ROUND(SUM(X20/3.333333333),0)","v":0},{"$f":"SUM(M20+Q20+W20+Y20)","v":0},{"$f":"'SASAMS TERM2'!L10","v":0},{"$f":"ROUND(SUM(AA20/2.5),0)","v":0},null,0,{"$f":"IF(AD20>79,\"7\",IF(AD20>69,\"6\",IF(AD20>59,\"5\",IF(AD20>49,\"4\",IF(AD20>39,\"3\",IF(AD20>29,\"2\",IF(AD20>0,\"1\",IF(AD20=0,\"\"))))))))","v":""},{"$f":"'FIN PAT MARK SHEET'!AG19","v":0},"",{"$f":"'PAT Mech'!AG18","v":0},{"$f":"IF(AH20>79,\"7\",IF(AH20>69,\"6\",IF(AH20>59,\"5\",IF(AH20>49,\"4\",IF(AH20>39,\"3\",IF(AH20>29,\"2\",IF(AH20>0,\"1\",IF(AH20=0,\"\"))))))))","v":""},{"$f":"'SASAMS TERM4'!AC10","v":0},{"$f":"'SASAMS TERM4'!AD10","v":0},{"$f":"SUM(AJ20:AK20)","v":0},{"$f":"ROUND(SUM(AD20/2.5)+(AF20/5)+(AL20/5),0)","v":0},""]
[null,2,{"$f":"C20+1","v":3},3,{"$f":"INSERT!A5","v":0},{"$f":"INSERT!B5","v":0},{"$f":"INSERT!C5","v":0},{"$f":"INSERT!D5","v":0},{"$f":"INSERT!E5","v":0},{"$f":"TERM1!Z18","v":0},{"$f":"'SASAMS TERM1'!I11","v":0},{"$f":"'SASAMS TERM1'!J11","v":0},{"$f":"ROUND(SUM(J21:L21/3),0)","v":0},{"$f":"'SASAMS TERM2'!H11","v":0},{"$f":"'SASAMS TERM2'!I11","v":0},{"$f":"'SASAMS TERM2'!J11","v":0},{"$f":"ROUND(SUM(N21:P21/3),0)","v":0},{"$f":"'SASAMS TERM3'!H11","v":0},{"$f":"'SASAMS TERM3'!I11","v":0},{"$f":"'SASAMS TERM3'!J11","v":0},{"$f":"'SASAMS TERM3'!K11","v":0},{"$f":"'SASAMS TERM3'!L11","v":0},0,{"$f":"'SASAMS TERM4'!H11","v":0},0,0,{"$f":"'SASAMS TERM2'!L11","v":0},0,null,0,{"$f":"IF(AD21>79,\"7\",IF(AD21>69,\"6\",IF(AD21>59,\"5\",IF(AD21>49,\"4\",IF(AD21>39,\"3\",IF(AD21>29,\"2\",IF(AD21>0,\"1\",IF(AD21=0,\"\"))))))))","v":""},{"$f":"'FIN PAT MARK SHEET'!AG20","v":0},"",{"$f":"'PAT Mech'!AG19","v":0},"",{"$f":"'SASAMS TERM4'!AC11","v":0},{"$f":"'SASAMS TERM4'!AD11","v":0},0,0,""]
[null,2,4,4,{"$f":"INSERT!A6","v":0},{"$f":"INSERT!B6","v":0},{"$f":"INSERT!C6","v":0},{"$f":"INSERT!D6","v":0},{"$f":"INSERT!E6","v":0},{"$f":"TERM1!Z19","v":0},{"$f":"'SASAMS TERM1'!I12","v":0},{"$f":"'SASAMS TERM1'!J12","v":0},{"$f":"ROUND(SUM(J22:L22/3),0)","v":0},{"$f":"'SASAMS TERM2'!H12","v":0},{"$f":"'SASAMS TERM2'!I12","v":0},{"$f":"'SASAMS TERM2'!J12","v":0},{"$f":"ROUND(SUM(N22:P22/3),0)","v":0},{"$f":"'SASAMS TERM3'!H12","v":0},{"$f":"'SASAMS TERM3'!I12","v":0},{"$f":"'SASAMS TERM3'!J12","v":0},{"$f":"'SASAMS TERM3'!K12","v":0},{"$f":"'SASAMS TERM3'!L12","v":0},0,{"$f":"'SASAMS TERM4'!H12","v":0},0,0,{"$f":"'SASAMS TERM2'!L12","v":0},0,null,0,"",{"$f":"'FIN PAT MARK SHEET'!AG21","v":0},"",{"$f":"'PAT Mech'!AG20","v":0},"",{"$f":"'SASAMS TERM4'!AC12","v":0},{"$f":"'SASAMS TERM4'!AD12","v":0},0,0,""]
[null,2,5,5,{"$f":"INSERT!A7","v":0},{"$f":"INSERT!B7","v":0},{"$f":"INSERT!C7","v":0},{"$f":"INSERT!D7","v":0},{"$f":"INSERT!E7","v":0},{"$f":"TERM1!Z20","v":0},{"$f":"'SASAMS TERM1'!I13","v":0},{"$f":"'SASAMS TERM1'!J13","v":0},{"$f":"ROUND(SUM(J23:L23/3),0)","v":0},{"$f":"'SASAMS TERM2'!H13","v":0},{"$f":"'SASAMS TERM2'!I13","v":0},{"$f":"'SASAMS TERM2'!J13","v":0},{"$f":"ROUND(SUM(N23:P23/3),0)","v":0},{"$f":"'SASAMS TERM3'!H13","v":0},{"$f":"'SASAMS TERM3'!I13","v":0},{"$f":"'SASAMS TERM3'!J13","v":0},{"$f":"'SASAMS TERM3'!K13","v":0},{"$f":"'SASAMS TERM3'!L13","v":0},0,{"$f":"'SASAMS TERM4'!H13","v":0},0,0,{"$f":"'SASAMS TERM2'!L13","v":0},0,null,0,"",{"$f":"'FIN PAT MARK SHEET'!AG22","v":0},"",{"$f":"'PAT Mech'!AG21","v":0},"",{"$f":"'SASAMS TERM4'!AC13","v":0},{"$f":"'SASAMS TERM4'!AD13","v":0},0,0,""]
[null,2,6,6,{"$f":"INSERT!A8","v":0},{"$f":"INSERT!B8","v":0},{"$f":"INSERT!C8","v":0},{"$f":"INSERT!D8","v":0},{"$f":"INSERT!E8","v":0},{"$f":"TERM1!Z21","v":0},{"$f":"'SASAMS TERM1'!I14","v":0},{"$f":"'SASAMS TERM1'!J14","v":0},{"$f":"ROUND(SUM(J24:L24/3),0)","v":0},{"$f":"'SASAMS TERM2'!H14","v":0},{"$f":"'SASAMS TERM2'!I14","v":0},{"$f":"'SASAMS TERM2'!J14","v":0},{"$f":"ROUND(SUM(N24:P24/3),0)","v":0},{"$f":"'SASAMS TERM3'!H14","v":0},{"$f":"'SASAMS TERM3'!I14","v":0},{"$f":"'SASAMS TERM3'!J14","v":0},{"$f":"'SASAMS TERM3'!K14","v":0},{"$f":"'SASAMS TERM3'!L14","v":0},0,{"$f":"'SASAMS TERM4'!H14","v":0},0,0,{"$f":"'SASAMS TERM2'!L14","v":0},0,null,0,"",{"$f":"'FIN PAT MARK SHEET'!AG23","v":0},"",{"$f":"'PAT Mech'!AG22","v":0},"",{"$f":"'SASAMS TERM4'!AC14","v":0},{"$f":"'SASAMS TERM4'!AD14","v":0},0,0,""]
[null,2,7,7,{"$f":"INSERT!A9","v":0},{"$f":"INSERT!B9","v":0},{"$f":"INSERT!C9","v":0},{"$f":"INSERT!D9","v":0},{"$f":"INSERT!E9","v":0},{"$f":"TERM1!Z22","v":0},{"$f":"'SASAMS TERM1'!I15","v":0},{"$f":"'SASAMS TERM1'!J15","v":0},{"$f":"ROUND(SUM(J25:L25/3),0)","v":0},{"$f":"'SASAMS TERM2'!H15","v":0},{"$f":"'SASAMS TERM2'!I15","v":0},{"$f":"'SASAMS TERM2'!J15","v":0},{"$f":"ROUND(SUM(N25:P25/3),0)","v":0},{"$f":"'SASAMS TERM3'!H15","v":0},{"$f":"'SASAMS TERM3'!I15","v":0},{"$f":"'SASAMS TERM3'!J15","v":0},{"$f":"'SASAMS TERM3'!K15","v":0},{"$f":"'SASAMS TERM3'!L15","v":0},0,{"$f":"'SASAMS TERM4'!H15","v":0},0,0,{"$f":"'SASAMS TERM2'!L15","v":0},0,null,0,"",{"$f":"'FIN PAT MARK SHEET'!AG24","v":0},"",{"$f":"'PAT Mech'!AG23","v":0},"",{"$f":"'SASAMS TERM4'!AC15","v":0},{"$f":"'SASAMS TERM4'!AD15","v":0},0,0,""]
[null,2,8,8,{"$f":"INSERT!A10","v":0},{"$f":"INSERT!B10","v":0},{"$f":"INSERT!C10","v":0},{"$f":"INSERT!D10","v":0},{"$f":"INSERT!E10","v":0},{"$f":"TERM1!Z23","v":0},{"$f":"'SASAMS TERM1'!I16","v":0},{"$f":"'SASAMS TERM1'!J16","v":0},{"$f":"ROUND(SUM(J26:L26/3),0)","v":0},{"$f":"'SASAMS TERM2'!H16","v":0},{"$f":"'SASAMS TERM2'!I16","v":0},{"$f":"'SASAMS TERM2'!J16","v":0},{"$f":"ROUND(SUM(N26:P26/3),0)","v":0},{"$f":"'SASAMS TERM3'!H16","v":0},{"$f":"'SASAMS TERM3'!I16","v":0},{"$f":"'SASAMS TERM3'!J16","v":0},{"$f":"'SASAMS TERM3'!K16","v":0},{"$f":"'SASAMS TERM3'!L16","v":0},0,{"$f":"'SASAMS TERM4'!H16","v":0},0,0,{"$f":"'SASAMS TERM2'!L16","v":0},0,null,0,"",{"$f":"'FIN PAT MARK SHEET'!AG25","v":0},"",{"$f":"'PAT Mech'!AG24","v":0},"",{"$f":"'SASAMS TERM4'!AC16","v":0},{"$f":"'SASAMS TERM4'!AD16","v":0},0,0,""]
[null,2,9,9,{"$f":"INSERT!A11","v":0},{"$f":"INSERT!B11","v":0},{"$f":"INSERT!C11","v":0},{"$f":"INSERT!D11","v":0},{"$f":"INSERT!E11","v":0},{"$f":"TERM1!Z24","v":0},{"$f":"'SASAMS TERM1'!I17","v":0},{"$f":"'SASAMS TERM1'!J17","v":0},{"$f":"ROUND(SUM(J27:L27/3),0)","v":0},{"$f":"'SASAMS TERM2'!H17","v":0},{"$f":"'SASAMS TERM2'!I17","v":0},{"$f":"'SASAMS TERM2'!J17","v":0},{"$f":"ROUND(SUM(N27:P27/3),0)","v":0},{"$f":"'SASAMS TERM3'!H17","v":0},{"$f":"'SASAMS TERM3'!I17","v":0},{"$f":"'SASAMS TERM3'!J17","v":0},{"$f":"'SASAMS TERM3'!K17","v":0},{"$f":"'SASAMS TERM3'!L17","v":0},0,{"$f":"'SASAMS TERM4'!H17","v":0},0,0,{"$f":"'SASAMS TERM2'!L17","v":0},0,null,0,"",{"$f":"'FIN PAT MARK SHEET'!AG26","v":0},"",{"$f":"'PAT Mech'!AG25","v":0},"",{"$f":"'SASAMS TERM4'!AC17","v":0},{"$f":"'SASAMS TERM4'!AD17","v":0},0,0,""]
[null,2,10,10,{"$f":"INSERT!A12","v":0},{"$f":"INSERT!B12","v":0},{"$f":"INSERT!C12","v":0},{"$f":"INSERT!D12","v":0},{"$f":"INSERT!E12","v":0},{"$f":"TERM1!Z25","v":0},{"$f":"'SASAMS TERM1'!I18","v":0},{"$f":"'SASAMS TERM1'!J18","v":0},{"$f":"ROUND(SUM(J28:L28/3),0)","v":0},{"$f":"'SASAMS TERM2'!H18","v":0},{"$f":"'SASAMS TERM2'!I18","v":0},{"$f":"'SASAMS TERM2'!J18","v":0},{"$f":"ROUND(SUM(N28:P28/3),0)","v":0},{"$f":"'SASAMS TERM3'!H18","v":0},{"$f":"'SASAMS TERM3'!I18","v":0},{"$f":"'SASAMS TERM3'!J18","v":0},{"$f":"'SASAMS TERM3'!K18","v":0},{"$f":"'SASAMS TERM3'!L18","v":0},0,{"$f":"'SASAMS TERM4'!H18","v":0},0,0,{"$f":"'SASAMS TERM2'!L18","v":0},0,null,0,"",{"$f":"'FIN PAT MARK SHEET'!AG27","v":0},"",{"$f":"'PAT Mech'!AG26","v":0},"",{"$f":"'SASAMS TERM4'!AC18","v":0},{"$f":"'SASAMS TERM4'!AD18","v":0},0,0,""]
[null,2,11,11,{"$f":"INSERT!A13","v":0},{"$f":"INSERT!B13","v":0},{"$f":"INSERT!C13","v":0},{"$f":"INSERT!D13","v":0},{"$f":"INSERT!E13","v":0},{"$f":"TERM1!Z26","v":0},{"$f":"'SASAMS TERM1'!I19","v":0},{"$f":"'SASAMS TERM1'!J19","v":0},{"$f":"ROUND(SUM(J29:L29/3),0)","v":0},{"$f":"'SASAMS TERM2'!H19","v":0},{"$f":"'SASAMS TERM2'!I19","v":0},{"$f":"'SASAMS TERM2'!J19","v":0},{"$f":"ROUND(SUM(N29:P29/3),0)","v":0},{"$f":"'SASAMS TERM3'!H19","v":0},{"$f":"'SASAMS TERM3'!I19","v":0},{"$f":"'SASAMS TERM3'!J19","v":0},{"$f":"'SASAMS TERM3'!K19","v":0},{"$f":"'SASAMS TERM3'!L19","v":0},0,{"$f":"'SASAMS TERM4'!H19","v":0},0,0,{"$f":"'SASAMS TERM2'!L19","v":0},0,null,0,"",{"$f":"'FIN PAT MARK SHEET'!AG28","v":0},"",{"$f":"'PAT Mech'!AG27","v":0},"",{"$f":"'SASAMS TERM4'!AC19","v":0},{"$f":"'SASAMS TERM4'!AD19","v":0},0,0,""]
[null,null,12,12,{"$f":"INSERT!A14","v":0},{"$f":"INSERT!B14","v":0},{"$f":"INSERT!C14","v":0},{"$f":"INSERT!D14","v":0},{"$f":"INSERT!E14","v":0},{"$f":"TERM1!Z27","v":0},{"$f":"'SASAMS TERM1'!I20","v":0},{"$f":"'SASAMS TERM1'!J20","v":0},{"$f":"ROUND(SUM(J30:L30/3),0)","v":0},{"$f":"'SASAMS TERM2'!H20","v":0},{"$f":"'SASAMS TERM2'!I20","v":0},{"$f":"'SASAMS TERM2'!J20","v":0},{"$f":"ROUND(SUM(N30:P30/3),0)","v":0},{"$f":"'SASAMS TERM3'!H20","v":0},{"$f":"'SASAMS TERM3'!I20","v":0},{"$f":"'SASAMS TERM3'!J20","v":0},{"$f":"'SASAMS TERM3'!K20","v":0},{"$f":"'SASAMS TERM3'!L20","v":0},0,{"$f":"'SASAMS TERM4'!H20","v":0},0,0,{"$f":"'SASAMS TERM2'!L20","v":0},0,null,0,"",{"$f":"'FIN PAT MARK SHEET'!AG29","v":0},"",{"$f":"'PAT Mech'!AG28","v":0},"",{"$f":"'SASAMS TERM4'!AC20","v":0},{"$f":"'SASAMS TERM4'!AD20","v":0},0,0,""]
[null,null,13,13,{"$f":"INSERT!A15","v":0},{"$f":"INSERT!B15","v":0},{"$f":"INSERT!C15","v":0},{"$f":"INSERT!D15","v":0},{"$f":"INSERT!E15","v":0},{"$f":"TERM1!Z28","v":0},{"$f":"'SASAMS TERM1'!I21","v":0},{"$f":"'SASAMS TERM1'!J21","v":0},{"$f":"ROUND(SUM(J31:L31/3),0)","v":0},{"$f":"'SASAMS TERM2'!H21","v":0},{"$f":"'SASAMS TERM2'!I21","v":0},{"$f":"'SASAMS TERM2'!J21","v":0},{"$f":"ROUND(SUM(N31:P31/3),0)","v":0},{"$f":"'SASAMS TERM3'!H21","v":0},{"$f":"'SASAMS TERM3'!I21","v":0},{"$f":"'SASAMS TERM3'!J21","v":0},{"$f":"'SASAMS TERM3'!K21","v":0},{"$f":"'SASAMS TERM3'!L21","v":0},0,{"$f":"'SASAMS TERM4'!H21","v":0},0,0,{"$f":"'SASAMS TERM2'!L21","v":0},0,null,0,"",{"$f":"'FIN PAT MARK SHEET'!AG30","v":0},"",{"$f":"'PAT Mech'!AG29","v":0},"",{"$f":"'SASAMS TERM4'!AC21","v":0},{"$f":"'SASAMS TERM4'!AD21","v":0},0,0,""]
[null,null,14,14,{"$f":"INSERT!A16","v":0},{"$f":"INSERT!B16","v":0},{"$f":"INSERT!C16","v":0},{"$f":"INSERT!D16","v":0},{"$f":"INSERT!E16","v":0},{"$f":"TERM1!Z29","v":0},{"$f":"'SASAMS TERM1'!I22","v":0},{"$f":"'SASAMS TERM1'!J22","v":0},{"$f":"ROUND(SUM(J32:L32/3),0)","v":0},{"$f":"'SASAMS TERM2'!H22","v":0},{"$f":"'SASAMS TERM2'!I22","v":0},{"$f":"'SASAMS TERM2'!J22","v":0},{"$f":"ROUND(SUM(N32:P32/3),0)","v":0},{"$f":"'SASAMS TERM3'!H22","v":0},{"$f":"'SASAMS TERM3'!I22","v":0},{"$f":"'SASAMS TERM3'!J22","v":0},{"$f":"'SASAMS TERM3'!K22","v":0},{"$f":"'SASAMS TERM3'!L22","v":0},0,{"$f":"'SASAMS TERM4'!H22","v":0},0,0,{"$f":"'SASAMS TERM2'!L22","v":0},0,null,0,"",{"$f":"'FIN PAT MARK SHEET'!AG31","v":0},"",{"$f":"'PAT Mech'!AG30","v":0},"",{"$f":"'SASAMS TERM4'!AC22","v":0},{"$f":"'SASAMS TERM4'!AD22","v":0},0,0,""]
[null,null,15,15,{"$f":"INSERT!A17","v":0},{"$f":"INSERT!B17","v":0},{"$f":"INSERT!C17","v":0},{"$f":"INSERT!D17","v":0},{"$f":"INSERT!E17","v":0},{"$f":"TERM1!Z30","v":0},{"$f":"'SASAMS TERM1'!I23","v":0},{"$f":"'SASAMS TERM1'!J23","v":0},{"$f":"ROUND(SUM(J33:L33/3),0)","v":0},{"$f":"'SASAMS TERM2'!H23","v":0},{"$f":"'SASAMS TERM2'!I23","v":0},{"$f":"'SASAMS TERM2'!J23","v":0},{"$f":"ROUND(SUM(N33:P33/3),0)","v":0},{"$f":"'SASAMS TERM3'!H23","v":0},{"$f":"'SASAMS TERM3'!I23","v":0},{"$f":"'SASAMS TERM3'!J23","v":0},{"$f":"'SASAMS TERM3'!K23","v":0},{"$f":"'SASAMS TERM3'!L23","v":0},0,{"$f":"'SASAMS TERM4'!H23","v":0},0,0,{"$f":"'SASAMS TERM2'!L23","v":0},0,null,0,"",{"$f":"'FIN PAT MARK SHEET'!AG32","v":0},"",{"$f":"'PAT Mech'!AG31","v":0},"",{"$f":"'SASAMS TERM4'!AC23","v":0},{"$f":"'SASAMS TERM4'!AD23","v":0},0,0,""]
[null,null,16,16,{"$f":"INSERT!A18","v":0},{"$f":"INSERT!B18","v":0},{"$f":"INSERT!C18","v":0},{"$f":"INSERT!D18","v":0},{"$f":"INSERT!E18","v":0},{"$f":"TERM1!Z31","v":0},{"$f":"'SASAMS TERM1'!I24","v":0},{"$f":"'SASAMS TERM1'!J24","v":0},{"$f":"ROUND(SUM(J34:L34/3),0)","v":0},{"$f":"'SASAMS TERM2'!H24","v":0},{"$f":"'SASAMS TERM2'!I24","v":0},{"$f":"'SASAMS TERM2'!J24","v":0},{"$f":"ROUND(SUM(N34:P34/3),0)","v":0},{"$f":"'SASAMS TERM3'!H24","v":0},{"$f":"'SASAMS TERM3'!I24","v":0},{"$f":"'SASAMS TERM3'!J24","v":0},{"$f":"'SASAMS TERM3'!K24","v":0},{"$f":"'SASAMS TERM3'!L24","v":0},0,{"$f":"'SASAMS TERM4'!H24","v":0},0,0,{"$f":"'SASAMS TERM2'!L24","v":0},0,null,0,"",{"$f":"'FIN PAT MARK SHEET'!AG33","v":0},"",{"$f":"'PAT Mech'!AG32","v":0},"",{"$f":"'SASAMS TERM4'!AC24","v":0},{"$f":"'SASAMS TERM4'!AD24","v":0},0,0,""]
[null,null,17,17,{"$f":"INSERT!A19","v":0},{"$f":"INSERT!B19","v":0},{"$f":"INSERT!C19","v":0},{"$f":"INSERT!D19","v":0},{"$f":"INSERT!E19","v":0},{"$f":"TERM1!Z32","v":0},{"$f":"'SASAMS TERM1'!I25","v":0},{"$f":"'SASAMS TERM1'!J25","v":0},{"$f":"ROUND(SUM(J35:L35/3),0)","v":0},{"$f":"'SASAMS TERM2'!H25","v":0},{"$f":"'SASAMS TERM2'!I25","v":0},{"$f":"'SASAMS TERM2'!J25","v":0},{"$f":"ROUND(SUM(N35:P35/3),0)","v":0},{"$f":"'SASAMS TERM3'!H25","v":0},{"$f":"'SASAMS TERM3'!I25","v":0},{"$f":"'SASAMS TERM3'!J25","v":0},{"$f":"'SASAMS TERM3'!K25","v":0},{"$f":"'SASAMS TERM3'!L25","v":0},0,{"$f":"'SASAMS TERM4'!H25","v":0},0,0,{"$f":"'SASAMS TERM2'!L25","v":0},0,null,0,"",{"$f":"'FIN PAT MARK SHEET'!AG34","v":0},"",{"$f":"'PAT Mech'!AG33","v":0},"",{"$f":"'SASAMS TERM4'!AC25","v":0},{"$f":"'SASAMS TERM4'!AD25","v":0},0,0,""]
[null,null,{"$f":"C35+1","v":18},18,{"$f":"INSERT!A20","v":0},{"$f":"INSERT!B20","v":0},{"$f":"INSERT!C20","v":0},{"$f":"INSERT!D20","v":0},{"$f":"INSERT!E20","v":0},{"$f":"TERM1!Z33","v":0},{"$f":"'SASAMS TERM1'!I26","v":0},{"$f":"'SASAMS TERM1'!J26","v":0},{"$f":"ROUND(SUM(J36:L36/3),0)","v":0},{"$f":"'SASAMS TERM2'!H26","v":0},{"$f":"'SASAMS TERM2'!I26","v":0},{"$f":"'SASAMS TERM2'!J26","v":0},{"$f":"ROUND(SUM(N36:P36/3),0)","v":0},{"$f":"'SASAMS TERM3'!H26","v":0},{"$f":"'SASAMS TERM3'!I26","v":0},{"$f":"'SASAMS TERM3'!J26","v":0},{"$f":"'SASAMS TERM3'!K26","v":0},{"$f":"'SASAMS TERM3'!L26","v":0},0,{"$f":"'SASAMS TERM4'!H26","v":0},0,0,{"$f":"'SASAMS TERM2'!L26","v":0},0,null,0,"",{"$f":"'FIN PAT MARK SHEET'!AG35","v":0},"",{"$f":"'PAT Mech'!AG34","v":0},"",{"$f":"'SASAMS TERM4'!AC26","v":0},{"$f":"'SASAMS TERM4'!AD26","v":0},0,0,""]
[null,null,19,19,{"$f":"INSERT!A21","v":0},{"$f":"INSERT!B21","v":0},{"$f":"INSERT!C21","v":0},{"$f":"INSERT!D21","v":0},{"$f":"INSERT!E21","v":0},{"$f":"TERM1!Z34","v":0},{"$f":"'SASAMS TERM1'!I27","v":0},{"$f":"'SASAMS TERM1'!J27","v":0},{"$f":"ROUND(SUM(J37:L37/3),0)","v":0},{"$f":"'SASAMS TERM2'!H27","v":0},{"$f":"'SASAMS TERM2'!I27","v":0},{"$f":"'SASAMS TERM2'!J27","v":0},{"$f":"ROUND(SUM(N37:P37/3),0)","v":0},{"$f":"'SASAMS TERM3'!H27","v":0},{"$f":"'SASAMS TERM3'!I27","v":0},{"$f":"'SASAMS TERM3'!J27","v":0},{"$f":"'SASAMS TERM3'!K27","v":0},{"$f":"'SASAMS TERM3'!L27","v":0},0,{"$f":"'SASAMS TERM4'!H27","v":0},0,0,{"$f":"'SASAMS TERM2'!L27","v":0},0,null,0,"",{"$f":"'FIN PAT MARK SHEET'!AG36","v":0},"",{"$f":"'PAT Mech'!AG35","v":0},"",{"$f":"'SASAMS TERM4'!AC27","v":0},{"$f":"'SASAMS TERM4'!AD27","v":0},0,0,""]
[null,null,20,20,{"$f":"INSERT!A22","v":0},{"$f":"INSERT!B22","v":0},{"$f":"INSERT!C22","v":0},{"$f":"INSERT!D22","v":0},{"$f":"INSERT!E22","v":0},{"$f":"TERM1!Z35","v":0},{"$f":"'SASAMS TERM1'!I28","v":0},{"$f":"'SASAMS TERM1'!J28","v":0},{"$f":"ROUND(SUM(J38:L38/3),0)","v":0},{"$f":"'SASAMS TERM2'!H28","v":0},{"$f":"'SASAMS TERM2'!I28","v":0},{"$f":"'SASAMS TERM2'!J28","v":0},{"$f":"ROUND(SUM(N38:P38/3),0)","v":0},{"$f":"'SASAMS TERM3'!H28","v":0},{"$f":"'SASAMS TERM3'!I28","v":0},{"$f":"'SASAMS TERM3'!J28","v":0},{"$f":"'SASAMS TERM3'!K28","v":0},{"$f":"'SASAMS TERM3'!L28","v":0},0,{"$f":"'SASAMS TERM4'!H28","v":0},0,0,{"$f":"'SASAMS TERM2'!L28","v":0},0,null,0,"",{"$f":"'FIN PAT MARK SHEET'!AG37","v":0},"",{"$f":"'PAT Mech'!AG36","v":0},"",{"$f":"'SASAMS TERM4'!AC28","v":0},{"$f":"'SASAMS TERM4'!AD28","v":0},0,0,""]
[null,null,21,21,{"$f":"INSERT!A23","v":0},{"$f":"INSERT!B23","v":0},{"$f":"INSERT!C23","v":0},{"$f":"INSERT!D23","v":0},{"$f":"INSERT!E23","v":0},{"$f":"TERM1!Z36","v":0},{"$f":"'SASAMS TERM1'!I29","v":0},{"$f":"'SASAMS TERM1'!J29","v":0},{"$f":"ROUND(SUM(J39:L39/3),0)","v":0},{"$f":"'SASAMS TERM2'!H29","v":0},{"$f":"'SASAMS TERM2'!I29","v":0},{"$f":"'SASAMS TERM2'!J29","v":0},{"$f":"ROUND(SUM(N39:P39/3),0)","v":0},{"$f":"'SASAMS TERM3'!H29","v":0},{"$f":"'SASAMS TERM3'!I29","v":0},{"$f":"'SASAMS TERM3'!J29","v":0},{"$f":"'SASAMS TERM3'!K29","v":0},{"$f":"'SASAMS TERM3'!L29","v":0},0,{"$f":"'SASAMS TERM4'!H29","v":0},0,0,{"$f":"'SASAMS TERM2'!L29","v":0},0,null,0,"",{"$f":"'FIN PAT MARK SHEET'!AG38","v":0},"",{"$f":"'PAT Mech'!AG37","v":0},"",{"$f":"'SASAMS TERM4'!AC29","v":0},{"$f":"'SASAMS TERM4'!AD29","v":0},0,0,""]
[null,null,22,22,{"$f":"INSERT!A24","v":0},{"$f":"INSERT!B24","v":0},{"$f":"INSERT!C24","v":0},{"$f":"INSERT!D24","v":0},{"$f":"INSERT!E24","v":0},{"$f":"TERM1!Z37","v":0},{"$f":"'SASAMS TERM1'!I30","v":0},{"$f":"'SASAMS TERM1'!J30","v":0},{"$f":"ROUND(SUM(J40:L40/3),0)","v":0},{"$f":"'SASAMS TERM2'!H30","v":0},{"$f":"'SASAMS TERM2'!I30","v":0},{"$f":"'SASAMS TERM2'!J30","v":0},{"$f":"ROUND(SUM(N40:P40/3),0)","v":0},{"$f":"'SASAMS TERM3'!H30","v":0},{"$f":"'SASAMS TERM3'!I30","v":0},{"$f":"'SASAMS TERM3'!J30","v":0},{"$f":"'SASAMS TERM3'!K30","v":0},{"$f":"'SASAMS TERM3'!L30","v":0},0,{"$f":"'SASAMS TERM4'!H30","v":0},0,0,{"$f":"'SASAMS TERM2'!L30","v":0},0,null,0,"",{"$f":"'FIN PAT MARK SHEET'!AG39","v":0},"",{"$f":"'PAT Mech'!AG38","v":0},"",{"$f":"'SASAMS TERM4'!AC30","v":0},{"$f":"'SASAMS TERM4'!AD30","v":0},0,0,""]
[null,null,23,23,{"$f":"INSERT!A25","v":0},{"$f":"INSERT!B25","v":0},{"$f":"INSERT!C25","v":0},{"$f":"INSERT!D25","v":0},{"$f":"INSERT!E25","v":0},{"$f":"TERM1!Z38","v":0},{"$f":"'SASAMS TERM1'!I31","v":0},{"$f":"'SASAMS TERM1'!J31","v":0},{"$f":"ROUND(SUM(J41:L41/3),0)","v":0},{"$f":"'SASAMS TERM2'!H31","v":0},{"$f":"'SASAMS TERM2'!I31","v":0},{"$f":"'SASAMS TERM2'!J31","v":0},{"$f":"ROUND(SUM(N41:P41/3),0)","v":0},{"$f":"'SASAMS TERM3'!H31","v":0},{"$f":"'SASAMS TERM3'!I31","v":0},{"$f":"'SASAMS TERM3'!J31","v":0},{"$f":"'SASAMS TERM3'!K31","v":0},{"$f":"'SASAMS TERM3'!L31","v":0},0,{"$f":"'SASAMS TERM4'!H31","v":0},0,0,{"$f":"'SASAMS TERM2'!L31","v":0},0,null,0,"",{"$f":"'FIN PAT MARK SHEET'!AG40","v":0},"",{"$f":"'PAT Mech'!AG39","v":0},"",{"$f":"'SASAMS TERM4'!AC31","v":0},{"$f":"'SASAMS TERM4'!AD31","v":0},0,0,""]
[null,null,24,24,{"$f":"INSERT!A26","v":0},{"$f":"INSERT!B26","v":0},{"$f":"INSERT!C26","v":0},{"$f":"INSERT!D26","v":0},{"$f":"INSERT!E26","v":0},{"$f":"TERM1!Z39","v":0},{"$f":"'SASAMS TERM1'!I32","v":0},{"$f":"'SASAMS TERM1'!J32","v":0},{"$f":"ROUND(SUM(J42:L42/3),0)","v":0},{"$f":"'SASAMS TERM2'!H32","v":0},{"$f":"'SASAMS TERM2'!I32","v":0},{"$f":"'SASAMS TERM2'!J32","v":0},{"$f":"ROUND(SUM(N42:P42/3),0)","v":0},{"$f":"'SASAMS TERM3'!H32","v":0},{"$f":"'SASAMS TERM3'!I32","v":0},{"$f":"'SASAMS TERM3'!J32","v":0},{"$f":"'SASAMS TERM3'!K32","v":0},{"$f":"'SASAMS TERM3'!L32","v":0},0,{"$f":"'SASAMS TERM4'!H32","v":0},0,0,{"$f":"'SASAMS TERM2'!L32","v":0},0,null,0,"",{"$f":"'FIN PAT MARK SHEET'!AG41","v":0},"",{"$f":"'PAT Mech'!AG40","v":0},"",{"$f":"'SASAMS TERM4'!AC32","v":0},{"$f":"'SASAMS TERM4'!AD32","v":0},0,0,""]
[null,null,25,25,{"$f":"INSERT!A27","v":0},{"$f":"INSERT!B27","v":0},{"$f":"INSERT!C27","v":0},{"$f":"INSERT!D27","v":0},{"$f":"INSERT!E27","v":0},{"$f":"TERM1!Z40","v":0},{"$f":"'SASAMS TERM1'!I33","v":0},{"$f":"'SASAMS TERM1'!J33","v":0},{"$f":"ROUND(SUM(J43:L43/3),0)","v":0},{"$f":"'SASAMS TERM2'!H33","v":0},{"$f":"'SASAMS TERM2'!I33","v":0},{"$f":"'SASAMS TERM2'!J33","v":0},{"$f":"ROUND(SUM(N43:P43/3),0)","v":0},{"$f":"'SASAMS TERM3'!H33","v":0},{"$f":"'SASAMS TERM3'!I33","v":0},{"$f":"'SASAMS TERM3'!J33","v":0},{"$f":"'SASAMS TERM3'!K33","v":0},{"$f":"'SASAMS TERM3'!L33","v":0},0,{"$f":"'SASAMS TERM4'!H33","v":0},0,0,{"$f":"'SASAMS TERM2'!L33","v":0},0,null,0,"",{"$f":"'FIN PAT MARK SHEET'!AG42","v":0},"",{"$f":"'PAT Mech'!AG41","v":0},"",{"$f":"'SASAMS TERM4'!AC33","v":0},{"$f":"'SASAMS TERM4'!AD33","v":0},0,0,""]
[null,null,26,26,{"$f":"INSERT!A28","v":0},{"$f":"INSERT!B28","v":0},{"$f":"INSERT!C28","v":0},{"$f":"INSERT!D28","v":0},{"$f":"INSERT!E28","v":0},{"$f":"TERM1!Z41","v":0},{"$f":"'SASAMS TERM1'!I34","v":0},{"$f":"'SASAMS TERM1'!J34","v":0},{"$f":"ROUND(SUM(J44:L44/3),0)","v":0},{"$f":"'SASAMS TERM2'!H34","v":0},{"$f":"'SASAMS TERM2'!I34","v":0},{"$f":"'SASAMS TERM2'!J34","v":0},{"$f":"ROUND(SUM(N44:P44/3),0)","v":0},{"$f":"'SASAMS TERM3'!H34","v":0},{"$f":"'SASAMS TERM3'!I34","v":0},{"$f":"'SASAMS TERM3'!J34","v":0},{"$f":"'SASAMS TERM3'!K34","v":0},{"$f":"'SASAMS TERM3'!L34","v":0},0,{"$f":"'SASAMS TERM4'!H34","v":0},0,0,{"$f":"'SASAMS TERM2'!L34","v":0},0,null,0,"",{"$f":"'FIN PAT MARK SHEET'!AG43","v":0},"",{"$f":"'PAT Mech'!AG42","v":0},"",{"$f":"'SASAMS TERM4'!AC34","v":0},{"$f":"'SASAMS TERM4'!AD34","v":0},0,0,""]
[null,null,27,27,{"$f":"INSERT!A29","v":0},{"$f":"INSERT!B29","v":0},{"$f":"INSERT!C29","v":0},{"$f":"INSERT!D29","v":0},{"$f":"INSERT!E29","v":0},{"$f":"TERM1!Z42","v":0},{"$f":"'SASAMS TERM1'!I35","v":0},{"$f":"'SASAMS TERM1'!J35","v":0},{"$f":"ROUND(SUM(J45:L45/3),0)","v":0},{"$f":"'SASAMS TERM2'!H35","v":0},{"$f":"'SASAMS TERM2'!I35","v":0},{"$f":"'SASAMS TERM2'!J35","v":0},{"$f":"ROUND(SUM(N45:P45/3),0)","v":0},{"$f":"'SASAMS TERM3'!H35","v":0},{"$f":"'SASAMS TERM3'!I35","v":0},{"$f":"'SASAMS TERM3'!J35","v":0},{"$f":"'SASAMS TERM3'!K35","v":0},{"$f":"'SASAMS TERM3'!L35","v":0},0,{"$f":"'SASAMS TERM4'!H35","v":0},0,0,{"$f":"'SASAMS TERM2'!L35","v":0},0,null,0,"",{"$f":"'FIN PAT MARK SHEET'!AG44","v":0},"",{"$f":"'PAT Mech'!AG43","v":0},"",{"$f":"'SASAMS TERM4'!AC35","v":0},{"$f":"'SASAMS TERM4'!AD35","v":0},0,0,""]
[null,null,28,28,{"$f":"INSERT!A30","v":0},{"$f":"INSERT!B30","v":0},{"$f":"INSERT!C30","v":0},{"$f":"INSERT!D30","v":0},{"$f":"INSERT!E30","v":0},{"$f":"TERM1!Z43","v":0},{"$f":"'SASAMS TERM1'!I36","v":0},{"$f":"'SASAMS TERM1'!J36","v":0},{"$f":"ROUND(SUM(J46:L46/3),0)","v":0},{"$f":"'SASAMS TERM2'!H36","v":0},{"$f":"'SASAMS TERM2'!I36","v":0},{"$f":"'SASAMS TERM2'!J36","v":0},{"$f":"ROUND(SUM(N46:P46/3),0)","v":0},{"$f":"'SASAMS TERM3'!H36","v":0},{"$f":"'SASAMS TERM3'!I36","v":0},{"$f":"'SASAMS TERM3'!J36","v":0},{"$f":"'SASAMS TERM3'!K36","v":0},{"$f":"'SASAMS TERM3'!L36","v":0},0,{"$f":"'SASAMS TERM4'!H36","v":0},0,0,{"$f":"'SASAMS TERM2'!L36","v":0},0,null,0,"",{"$f":"'FIN PAT MARK SHEET'!AG45","v":0},"",{"$f":"'PAT Mech'!AG44","v":0},"",{"$f":"'SASAMS TERM4'!AC36","v":0},{"$f":"'SASAMS TERM4'!AD36","v":0},0,0,""]
[null,null,29,29,{"$f":"INSERT!A31","v":0},{"$f":"INSERT!B31","v":0},{"$f":"INSERT!C31","v":0},{"$f":"INSERT!D31","v":0},{"$f":"INSERT!E31","v":0},{"$f":"TERM1!Z44","v":0},{"$f":"'SASAMS TERM1'!I37","v":0},{"$f":"'SASAMS TERM1'!J37","v":0},{"$f":"ROUND(SUM(J47:L47/3),0)","v":0},{"$f":"'SASAMS TERM2'!H37","v":0},{"$f":"'SASAMS TERM2'!I37","v":0},{"$f":"'SASAMS TERM2'!J37","v":0},{"$f":"ROUND(SUM(N47:P47/3),0)","v":0},{"$f":"'SASAMS TERM3'!H37","v":0},{"$f":"'SASAMS TERM3'!I37","v":0},{"$f":"'SASAMS TERM3'!J37","v":0},{"$f":"'SASAMS TERM3'!K37","v":0},{"$f":"'SASAMS TERM3'!L37","v":0},0,{"$f":"'SASAMS TERM4'!H37","v":0},0,0,{"$f":"'SASAMS TERM2'!L37","v":0},0,null,0,"",{"$f":"'FIN PAT MARK SHEET'!AG46","v":0},"",{"$f":"'PAT Mech'!AG45","v":0},"",{"$f":"'SASAMS TERM4'!AC37","v":0},{"$f":"'SASAMS TERM4'!AD37","v":0},0,0,""]
[null,null,30,30,{"$f":"INSERT!A32","v":0},{"$f":"INSERT!B32","v":0},{"$f":"INSERT!C32","v":0},{"$f":"INSERT!D32","v":0},{"$f":"INSERT!E32","v":0},{"$f":"TERM1!Z45","v":0},{"$f":"'SASAMS TERM1'!I38","v":0},{"$f":"'SASAMS TERM1'!J38","v":0},{"$f":"ROUND(SUM(J48:L48/3),0)","v":0},{"$f":"'SASAMS TERM2'!H38","v":0},{"$f":"'SASAMS TERM2'!I38","v":0},{"$f":"'SASAMS TERM2'!J38","v":0},{"$f":"ROUND(SUM(N48:P48/3),0)","v":0},{"$f":"'SASAMS TERM3'!H38","v":0},{"$f":"'SASAMS TERM3'!I38","v":0},{"$f":"'SASAMS TERM3'!J38","v":0},{"$f":"'SASAMS TERM3'!K38","v":0},{"$f":"'SASAMS TERM3'!L38","v":0},0,{"$f":"'SASAMS TERM4'!H38","v":0},0,0,{"$f":"'SASAMS TERM2'!L38","v":0},0,null,0,"",{"$f":"'FIN PAT MARK SHEET'!AG47","v":0},"",{"$f":"'PAT Mech'!AG46","v":0},"",{"$f":"'SASAMS TERM4'!AC38","v":0},{"$f":"'SASAMS TERM4'!AD38","v":0},0,0,""]
[null,null,31,31,{"$f":"INSERT!A33","v":0},{"$f":"INSERT!B33","v":0},{"$f":"INSERT!C33","v":0},{"$f":"INSERT!D33","v":0},{"$f":"INSERT!E33","v":0},{"$f":"TERM1!Z46","v":0},{"$f":"'SASAMS TERM1'!I39","v":0},{"$f":"'SASAMS TERM1'!J39","v":0},{"$f":"ROUND(SUM(J49:L49/3),0)","v":0},{"$f":"'SASAMS TERM2'!H39","v":0},{"$f":"'SASAMS TERM2'!I39","v":0},{"$f":"'SASAMS TERM2'!J39","v":0},{"$f":"ROUND(SUM(N49:P49/3),0)","v":0},{"$f":"'SASAMS TERM3'!H39","v":0},{"$f":"'SASAMS TERM3'!I39","v":0},{"$f":"'SASAMS TERM3'!J39","v":0},{"$f":"'SASAMS TERM3'!K39","v":0},{"$f":"'SASAMS TERM3'!L39","v":0},0,{"$f":"'SASAMS TERM4'!H39","v":0},0,0,{"$f":"'SASAMS TERM2'!L39","v":0},0,null,0,"",{"$f":"'FIN PAT MARK SHEET'!AG48","v":0},"",{"$f":"'PAT Mech'!AG47","v":0},"",{"$f":"'SASAMS TERM4'!AC39","v":0},{"$f":"'SASAMS TERM4'!AD39","v":0},0,0,""]
[null,null,32,32,{"$f":"INSERT!A34","v":0},{"$f":"INSERT!B34","v":0},{"$f":"INSERT!C34","v":0},{"$f":"INSERT!D34","v":0},{"$f":"INSERT!E34","v":0},{"$f":"TERM1!Z47","v":0},{"$f":"'SASAMS TERM1'!I40","v":0},{"$f":"'SASAMS TERM1'!J40","v":0},{"$f":"ROUND(SUM(J50:L50/3),0)","v":0},{"$f":"'SASAMS TERM2'!H40","v":0},{"$f":"'SASAMS TERM2'!I40","v":0},{"$f":"'SASAMS TERM2'!J40","v":0},{"$f":"ROUND(SUM(N50:P50/3),0)","v":0},{"$f":"'SASAMS TERM3'!H40","v":0},{"$f":"'SASAMS TERM3'!I40","v":0},{"$f":"'SASAMS TERM3'!J40","v":0},{"$f":"'SASAMS TERM3'!K40","v":0},{"$f":"'SASAMS TERM3'!L40","v":0},0,{"$f":"'SASAMS TERM4'!H40","v":0},0,0,{"$f":"'SASAMS TERM2'!L40","v":0},0,null,0,"",{"$f":"'FIN PAT MARK SHEET'!AG49","v":0},"",{"$f":"'PAT Mech'!AG48","v":0},"",{"$f":"'SASAMS TERM4'!AC40","v":0},{"$f":"'SASAMS TERM4'!AD40","v":0},0,0,""]
[null,null,33,33,{"$f":"INSERT!A35","v":0},{"$f":"INSERT!B35","v":0},{"$f":"INSERT!C35","v":0},{"$f":"INSERT!D35","v":0},{"$f":"INSERT!E35","v":0},{"$f":"TERM1!Z48","v":0},{"$f":"'SASAMS TERM1'!I41","v":0},{"$f":"'SASAMS TERM1'!J41","v":0},{"$f":"ROUND(SUM(J51:L51/3),0)","v":0},{"$f":"'SASAMS TERM2'!H41","v":0},{"$f":"'SASAMS TERM2'!I41","v":0},{"$f":"'SASAMS TERM2'!J41","v":0},{"$f":"ROUND(SUM(N51:P51/3),0)","v":0},{"$f":"'SASAMS TERM3'!H41","v":0},{"$f":"'SASAMS TERM3'!I41","v":0},{"$f":"'SASAMS TERM3'!J41","v":0},{"$f":"'SASAMS TERM3'!K41","v":0},{"$f":"'SASAMS TERM3'!L41","v":0},0,{"$f":"'SASAMS TERM4'!H41","v":0},0,0,{"$f":"'SASAMS TERM2'!L41","v":0},0,null,{"$f":"SUM(Z51+AB51)","v":0},"",{"$f":"'FIN PAT MARK SHEET'!AG50","v":0},"",{"$f":"'PAT Mech'!AG49","v":0},"",{"$f":"'SASAMS TERM4'!AC41","v":0},{"$f":"'SASAMS TERM4'!AD41","v":0},0,0,""]
[null,null,34,34,{"$f":"INSERT!A36","v":0},{"$f":"INSERT!B36","v":0},{"$f":"INSERT!C36","v":0},{"$f":"INSERT!D36","v":0},{"$f":"INSERT!E36","v":0},{"$f":"TERM1!Z49","v":0},{"$f":"'SASAMS TERM1'!I42","v":0},{"$f":"'SASAMS TERM1'!J42","v":0},{"$f":"ROUND(SUM(J52:L52/3),0)","v":0},{"$f":"'SASAMS TERM2'!H42","v":0},{"$f":"'SASAMS TERM2'!I42","v":0},{"$f":"'SASAMS TERM2'!J42","v":0},{"$f":"ROUND(SUM(N52:P52/3),0)","v":0},{"$f":"'SASAMS TERM3'!H42","v":0},{"$f":"'SASAMS TERM3'!I42","v":0},{"$f":"'SASAMS TERM3'!J42","v":0},{"$f":"'SASAMS TERM3'!K42","v":0},{"$f":"'SASAMS TERM3'!L42","v":0},0,{"$f":"'SASAMS TERM4'!H42","v":0},0,0,{"$f":"'SASAMS TERM2'!L42","v":0},0,null,0,"",{"$f":"'FIN PAT MARK SHEET'!AG51","v":0},"",{"$f":"'PAT Mech'!AG50","v":0},"",{"$f":"'SASAMS TERM4'!AC42","v":0},{"$f":"'SASAMS TERM4'!AD42","v":0},0,0,""]
[null,null,35,35,{"$f":"INSERT!A37","v":0},{"$f":"INSERT!B37","v":0},{"$f":"INSERT!C37","v":0},{"$f":"INSERT!D37","v":0},{"$f":"INSERT!E37","v":0},{"$f":"TERM1!Z50","v":0},{"$f":"'SASAMS TERM1'!I43","v":0},{"$f":"'SASAMS TERM1'!J43","v":0},{"$f":"ROUND(SUM(J53:L53/3),0)","v":0},{"$f":"'SASAMS TERM2'!H43","v":0},{"$f":"'SASAMS TERM2'!I43","v":0},{"$f":"'SASAMS TERM2'!J43","v":0},{"$f":"ROUND(SUM(N53:P53/3),0)","v":0},{"$f":"'SASAMS TERM3'!H43","v":0},{"$f":"'SASAMS TERM3'!I43","v":0},{"$f":"'SASAMS TERM3'!J43","v":0},{"$f":"'SASAMS TERM3'!K43","v":0},{"$f":"'SASAMS TERM3'!L43","v":0},0,{"$f":"'SASAMS TERM4'!H43","v":0},0,0,{"$f":"'SASAMS TERM2'!L43","v":0},0,null,0,"",{"$f":"'FIN PAT MARK SHEET'!AG52","v":0},"",{"$f":"'PAT Mech'!AG51","v":0},"",{"$f":"'SASAMS TERM4'!AC43","v":0},{"$f":"'SASAMS TERM4'!AD43","v":0},0,0,""]
[null,null,36,36,{"$f":"INSERT!A38","v":0},{"$f":"INSERT!B38","v":0},{"$f":"INSERT!C38","v":0},{"$f":"INSERT!D38","v":0},{"$f":"INSERT!E38","v":0},{"$f":"TERM1!Z51","v":0},{"$f":"'SASAMS TERM1'!I44","v":0},{"$f":"'SASAMS TERM1'!J44","v":0},{"$f":"ROUND(SUM(J54:L54/3),0)","v":0},{"$f":"'SASAMS TERM2'!H44","v":0},{"$f":"'SASAMS TERM2'!I44","v":0},{"$f":"'SASAMS TERM2'!J44","v":0},{"$f":"ROUND(SUM(N54:P54/3),0)","v":0},{"$f":"'SASAMS TERM3'!H44","v":0},{"$f":"'SASAMS TERM3'!I44","v":0},{"$f":"'SASAMS TERM3'!J44","v":0},{"$f":"'SASAMS TERM3'!K44","v":0},{"$f":"'SASAMS TERM3'!L44","v":0},{"$f":"ROUND((SUM(R54:V54)/2.94117647),0)","v":0},{"$f":"'SASAMS TERM4'!H44","v":0},{"$f":"ROUND(SUM(X54/3.333333333),0)","v":0},{"$f":"SUM(M54+Q54+W54+Y54)","v":0},{"$f":"'SASAMS TERM2'!L44","v":0},0,null,0,"",{"$f":"'FIN PAT MARK SHEET'!AG53","v":0},{"$f":"IF(AF54>79,\"7\",IF(AF54>69,\"6\",IF(AF54>59,\"5\",IF(AF54>49,\"4\",IF(AF54>39,\"3\",IF(AF54>29,\"2\",IF(AF54>0,\"1\",IF(AF54=0,\"\"))))))))","v":""},{"$f":"'PAT Mech'!AG52","v":0},"",{"$f":"'SASAMS TERM4'!AC44","v":0},{"$f":"'SASAMS TERM4'!AD44","v":0},{"$f":"SUM(AJ54:AK54)/2","v":0},0,""]
[null,null,37,37,{"$f":"INSERT!A39","v":0},{"$f":"INSERT!B39","v":0},{"$f":"INSERT!C39","v":0},{"$f":"INSERT!D39","v":0},{"$f":"INSERT!E39","v":0},{"$f":"TERM1!Z52","v":0},{"$f":"'SASAMS TERM1'!I45","v":0},{"$f":"'SASAMS TERM1'!J45","v":0},{"$f":"ROUND(SUM(J55:L55/3),0)","v":0},{"$f":"'SASAMS TERM2'!H45","v":0},{"$f":"'SASAMS TERM2'!I45","v":0},{"$f":"'SASAMS TERM2'!J45","v":0},{"$f":"ROUND(SUM(N55:P55/3),0)","v":0},{"$f":"'SASAMS TERM3'!H45","v":0},{"$f":"'SASAMS TERM3'!I45","v":0},{"$f":"'SASAMS TERM3'!J45","v":0},{"$f":"'SASAMS TERM3'!K45","v":0},{"$f":"'SASAMS TERM3'!L45","v":0},0,{"$f":"'SASAMS TERM4'!H45","v":0},0,0,{"$f":"'SASAMS TERM2'!L45","v":0},0,null,0,"",{"$f":"'FIN PAT MARK SHEET'!AG54","v":0},"",{"$f":"'PAT Mech'!AG53","v":0},"",{"$f":"'SASAMS TERM4'!AC45","v":0},{"$f":"'SASAMS TERM4'!AD45","v":0},0,0,""]
[null,null,38,38,{"$f":"INSERT!A40","v":0},{"$f":"INSERT!B40","v":0},{"$f":"INSERT!C40","v":0},{"$f":"INSERT!D40","v":0},{"$f":"INSERT!E40","v":0},{"$f":"TERM1!Z53","v":0},{"$f":"'SASAMS TERM1'!I46","v":0},{"$f":"'SASAMS TERM1'!J46","v":0},{"$f":"ROUND(SUM(J56:L56/3),0)","v":0},{"$f":"'SASAMS TERM2'!H46","v":0},{"$f":"'SASAMS TERM2'!I46","v":0},{"$f":"'SASAMS TERM2'!J46","v":0},{"$f":"ROUND(SUM(N56:P56/3),0)","v":0},{"$f":"'SASAMS TERM3'!H46","v":0},{"$f":"'SASAMS TERM3'!I46","v":0},{"$f":"'SASAMS TERM3'!J46","v":0},{"$f":"'SASAMS TERM3'!K46","v":0},{"$f":"'SASAMS TERM3'!L46","v":0},0,{"$f":"'SASAMS TERM4'!H46","v":0},0,0,{"$f":"'SASAMS TERM2'!L46","v":0},0,null,0,"",{"$f":"'FIN PAT MARK SHEET'!AG55","v":0},"",{"$f":"'PAT Mech'!AG54","v":0},"",{"$f":"'SASAMS TERM4'!AC46","v":0},{"$f":"'SASAMS TERM4'!AD46","v":0},0,0,""]
[null,null,39,39,{"$f":"INSERT!A41","v":0},{"$f":"INSERT!B41","v":0},{"$f":"INSERT!C41","v":0},{"$f":"INSERT!D41","v":0},{"$f":"INSERT!E41","v":0},{"$f":"TERM1!Z54","v":0},{"$f":"'SASAMS TERM1'!I47","v":0},{"$f":"'SASAMS TERM1'!J47","v":0},{"$f":"ROUND(SUM(J57:L57/3),0)","v":0},{"$f":"'SASAMS TERM2'!H47","v":0},{"$f":"'SASAMS TERM2'!I47","v":0},{"$f":"'SASAMS TERM2'!J47","v":0},{"$f":"ROUND(SUM(N57:P57/3),0)","v":0},{"$f":"'SASAMS TERM3'!H47","v":0},{"$f":"'SASAMS TERM3'!I47","v":0},{"$f":"'SASAMS TERM3'!J47","v":0},{"$f":"'SASAMS TERM3'!K47","v":0},{"$f":"'SASAMS TERM3'!L47","v":0},0,{"$f":"'SASAMS TERM4'!H47","v":0},0,0,{"$f":"'SASAMS TERM2'!L47","v":0},0,null,0,"",{"$f":"'FIN PAT MARK SHEET'!AG56","v":0},"",{"$f":"'PAT Mech'!AG55","v":0},"",{"$f":"'SASAMS TERM4'!AC47","v":0},{"$f":"'SASAMS TERM4'!AD47","v":0},0,0,""]
[null,null,40,40,{"$f":"INSERT!A42","v":0},{"$f":"INSERT!B42","v":0},{"$f":"INSERT!C42","v":0},{"$f":"INSERT!D42","v":0},{"$f":"INSERT!E42","v":0},{"$f":"TERM1!Z55","v":0},{"$f":"'SASAMS TERM1'!I48","v":0},{"$f":"'SASAMS TERM1'!J48","v":0},{"$f":"ROUND(SUM(J58:L58/3),0)","v":0},{"$f":"'SASAMS TERM2'!H48","v":0},{"$f":"'SASAMS TERM2'!I48","v":0},{"$f":"'SASAMS TERM2'!J48","v":0},{"$f":"ROUND(SUM(N58:P58/3),0)","v":0},{"$f":"'SASAMS TERM3'!H48","v":0},{"$f":"'SASAMS TERM3'!I48","v":0},{"$f":"'SASAMS TERM3'!J48","v":0},{"$f":"'SASAMS TERM3'!K48","v":0},{"$f":"'SASAMS TERM3'!L48","v":0},0,{"$f":"'SASAMS TERM4'!H48","v":0},0,0,{"$f":"'SASAMS TERM2'!L48","v":0},0,null,0,"",{"$f":"'FIN PAT MARK SHEET'!AG57","v":0},"",{"$f":"'PAT Mech'!AG56","v":0},"",{"$f":"'SASAMS TERM4'!AC48","v":0},{"$f":"'SASAMS TERM4'!AD48","v":0},0,0,""]
[null,null,41,41,{"$f":"INSERT!A43","v":0},{"$f":"INSERT!B43","v":0},{"$f":"INSERT!C43","v":0},{"$f":"INSERT!D43","v":0},{"$f":"INSERT!E43","v":0},{"$f":"TERM1!Z56","v":0},{"$f":"'SASAMS TERM1'!I49","v":0},{"$f":"'SASAMS TERM1'!J49","v":0},{"$f":"ROUND(SUM(J59:L59/3),0)","v":0},{"$f":"'SASAMS TERM2'!H49","v":0},{"$f":"'SASAMS TERM2'!I49","v":0},{"$f":"'SASAMS TERM2'!J49","v":0},{"$f":"ROUND(SUM(N59:P59/3),0)","v":0},{"$f":"'SASAMS TERM3'!H49","v":0},{"$f":"'SASAMS TERM3'!I49","v":0},{"$f":"'SASAMS TERM3'!J49","v":0},{"$f":"'SASAMS TERM3'!K49","v":0},{"$f":"'SASAMS TERM3'!L49","v":0},0,{"$f":"'SASAMS TERM4'!H49","v":0},0,0,{"$f":"'SASAMS TERM2'!L49","v":0},0,null,0,"",{"$f":"'FIN PAT MARK SHEET'!AG58","v":0},"",{"$f":"'PAT Mech'!AG57","v":0},"",{"$f":"'SASAMS TERM4'!AC49","v":0},{"$f":"'SASAMS TERM4'!AD49","v":0},0,0,""]
[null,null,42,42,{"$f":"INSERT!A44","v":0},{"$f":"INSERT!B44","v":0},{"$f":"INSERT!C44","v":0},{"$f":"INSERT!D44","v":0},{"$f":"INSERT!E44","v":0},{"$f":"TERM1!Z57","v":0},{"$f":"'SASAMS TERM1'!I50","v":0},{"$f":"'SASAMS TERM1'!J50","v":0},{"$f":"ROUND(SUM(J60:L60/3),0)","v":0},{"$f":"'SASAMS TERM2'!H50","v":0},{"$f":"'SASAMS TERM2'!I50","v":0},{"$f":"'SASAMS TERM2'!J50","v":0},{"$f":"ROUND(SUM(N60:P60/3),0)","v":0},{"$f":"'SASAMS TERM3'!H50","v":0},{"$f":"'SASAMS TERM3'!I50","v":0},{"$f":"'SASAMS TERM3'!J50","v":0},{"$f":"'SASAMS TERM3'!K50","v":0},{"$f":"'SASAMS TERM3'!L50","v":0},0,{"$f":"'SASAMS TERM4'!H50","v":0},0,0,{"$f":"'SASAMS TERM2'!L50","v":0},0,null,0,"",{"$f":"'FIN PAT MARK SHEET'!AG59","v":0},"",{"$f":"'PAT Mech'!AG58","v":0},"",{"$f":"'SASAMS TERM4'!AC50","v":0},{"$f":"'SASAMS TERM4'!AD50","v":0},0,0,""]
[null,null,43,43,{"$f":"INSERT!A45","v":0},{"$f":"INSERT!B45","v":0},{"$f":"INSERT!C45","v":0},{"$f":"INSERT!D45","v":0},{"$f":"INSERT!E45","v":0},{"$f":"TERM1!Z58","v":0},{"$f":"'SASAMS TERM1'!I51","v":0},{"$f":"'SASAMS TERM1'!J51","v":0},{"$f":"ROUND(SUM(J61:L61/3),0)","v":0},{"$f":"'SASAMS TERM2'!H51","v":0},{"$f":"'SASAMS TERM2'!I51","v":0},{"$f":"'SASAMS TERM2'!J51","v":0},{"$f":"ROUND(SUM(N61:P61/3),0)","v":0},{"$f":"'SASAMS TERM3'!H51","v":0},{"$f":"'SASAMS TERM3'!I51","v":0},{"$f":"'SASAMS TERM3'!J51","v":0},{"$f":"'SASAMS TERM3'!K51","v":0},{"$f":"'SASAMS TERM3'!L51","v":0},0,{"$f":"'SASAMS TERM4'!H51","v":0},0,0,{"$f":"'SASAMS TERM2'!L51","v":0},0,null,0,"",{"$f":"'FIN PAT MARK SHEET'!AG60","v":0},"",{"$f":"'PAT Mech'!AG59","v":0},"",{"$f":"'SASAMS TERM4'!AC51","v":0},{"$f":"'SASAMS TERM4'!AD51","v":0},0,0,""]
[null,null,44,44,{"$f":"INSERT!A46","v":0},{"$f":"INSERT!B46","v":0},{"$f":"INSERT!C46","v":0},{"$f":"INSERT!D46","v":0},{"$f":"INSERT!E46","v":0},{"$f":"TERM1!Z59","v":0},{"$f":"'SASAMS TERM1'!I52","v":0},{"$f":"'SASAMS TERM1'!J52","v":0},{"$f":"ROUND(SUM(J62:L62/3),0)","v":0},{"$f":"'SASAMS TERM2'!H52","v":0},{"$f":"'SASAMS TERM2'!I52","v":0},{"$f":"'SASAMS TERM2'!J52","v":0},{"$f":"ROUND(SUM(N62:P62/3),0)","v":0},{"$f":"'SASAMS TERM3'!H52","v":0},{"$f":"'SASAMS TERM3'!I52","v":0},{"$f":"'SASAMS TERM3'!J52","v":0},{"$f":"'SASAMS TERM3'!K52","v":0},{"$f":"'SASAMS TERM3'!L52","v":0},0,{"$f":"'SASAMS TERM4'!H52","v":0},0,0,{"$f":"'SASAMS TERM2'!L52","v":0},0,null,0,"",{"$f":"'FIN PAT MARK SHEET'!AG61","v":0},"",{"$f":"'PAT Mech'!AG60","v":0},"",{"$f":"'SASAMS TERM4'!AC52","v":0},{"$f":"'SASAMS TERM4'!AD52","v":0},0,0,""]
[null,null,45,45,{"$f":"INSERT!A47","v":0},{"$f":"INSERT!B47","v":0},{"$f":"INSERT!C47","v":0},{"$f":"INSERT!D47","v":0},{"$f":"INSERT!E47","v":0},{"$f":"TERM1!Z60","v":0},{"$f":"'SASAMS TERM1'!I53","v":0},{"$f":"'SASAMS TERM1'!J53","v":0},{"$f":"ROUND(SUM(J63:L63/3),0)","v":0},{"$f":"'SASAMS TERM2'!H53","v":0},{"$f":"'SASAMS TERM2'!I53","v":0},{"$f":"'SASAMS TERM2'!J53","v":0},{"$f":"ROUND(SUM(N63:P63/3),0)","v":0},{"$f":"'SASAMS TERM3'!H53","v":0},{"$f":"'SASAMS TERM3'!I53","v":0},{"$f":"'SASAMS TERM3'!J53","v":0},{"$f":"'SASAMS TERM3'!K53","v":0},{"$f":"'SASAMS TERM3'!L53","v":0},0,{"$f":"'SASAMS TERM4'!H53","v":0},0,0,{"$f":"'SASAMS TERM2'!L53","v":0},0,null,0,"",{"$f":"'FIN PAT MARK SHEET'!AG62","v":0},"",{"$f":"'PAT Mech'!AG61","v":0},"",{"$f":"'SASAMS TERM4'!AC53","v":0},{"$f":"'SASAMS TERM4'!AD53","v":0},0,0,""]
[null,null,46,46,{"$f":"INSERT!A48","v":0},{"$f":"INSERT!B48","v":0},{"$f":"INSERT!C48","v":0},{"$f":"INSERT!D48","v":0},{"$f":"INSERT!E48","v":0},{"$f":"TERM1!Z61","v":0},{"$f":"'SASAMS TERM1'!I54","v":0},{"$f":"'SASAMS TERM1'!J54","v":0},{"$f":"ROUND(SUM(J64:L64/3),0)","v":0},{"$f":"'SASAMS TERM2'!H54","v":0},{"$f":"'SASAMS TERM2'!I54","v":0},{"$f":"'SASAMS TERM2'!J54","v":0},{"$f":"ROUND(SUM(N64:P64/3),0)","v":0},{"$f":"'SASAMS TERM3'!H54","v":0},{"$f":"'SASAMS TERM3'!I54","v":0},{"$f":"'SASAMS TERM3'!J54","v":0},{"$f":"'SASAMS TERM3'!K54","v":0},{"$f":"'SASAMS TERM3'!L54","v":0},0,{"$f":"'SASAMS TERM4'!H54","v":0},0,0,{"$f":"'SASAMS TERM2'!L54","v":0},0,null,0,"",{"$f":"'FIN PAT MARK SHEET'!AG63","v":0},"",{"$f":"'PAT Mech'!AG62","v":0},"",{"$f":"'SASAMS TERM4'!AC54","v":0},{"$f":"'SASAMS TERM4'!AD54","v":0},0,0,""]
[null,null,47,47,{"$f":"INSERT!A49","v":0},{"$f":"INSERT!B49","v":0},{"$f":"INSERT!C49","v":0},{"$f":"INSERT!D49","v":0},{"$f":"INSERT!E49","v":0},{"$f":"TERM1!Z62","v":0},{"$f":"'SASAMS TERM1'!I55","v":0},{"$f":"'SASAMS TERM1'!J55","v":0},{"$f":"ROUND(SUM(J65:L65/3),0)","v":0},{"$f":"'SASAMS TERM2'!H55","v":0},{"$f":"'SASAMS TERM2'!I55","v":0},{"$f":"'SASAMS TERM2'!J55","v":0},{"$f":"ROUND(SUM(N65:P65/3),0)","v":0},{"$f":"'SASAMS TERM3'!H55","v":0},{"$f":"'SASAMS TERM3'!I55","v":0},{"$f":"'SASAMS TERM3'!J55","v":0},{"$f":"'SASAMS TERM3'!K55","v":0},{"$f":"'SASAMS TERM3'!L55","v":0},0,{"$f":"'SASAMS TERM4'!H55","v":0},0,0,{"$f":"'SASAMS TERM2'!L55","v":0},0,null,0,"",{"$f":"'FIN PAT MARK SHEET'!AG64","v":0},"",{"$f":"'PAT Mech'!AG63","v":0},"",{"$f":"'SASAMS TERM4'!AC55","v":0},{"$f":"'SASAMS TERM4'!AD55","v":0},0,0,""]
[null,null,48,48,{"$f":"INSERT!A50","v":0},{"$f":"INSERT!B50","v":0},{"$f":"INSERT!C50","v":0},{"$f":"INSERT!D50","v":0},{"$f":"INSERT!E50","v":0},{"$f":"TERM1!Z63","v":0},{"$f":"'SASAMS TERM1'!I56","v":0},{"$f":"'SASAMS TERM1'!J56","v":0},{"$f":"ROUND(SUM(J66:L66/3),0)","v":0},{"$f":"'SASAMS TERM2'!H56","v":0},{"$f":"'SASAMS TERM2'!I56","v":0},{"$f":"'SASAMS TERM2'!J56","v":0},{"$f":"ROUND(SUM(N66:P66/3),0)","v":0},{"$f":"'SASAMS TERM3'!H56","v":0},{"$f":"'SASAMS TERM3'!I56","v":0},{"$f":"'SASAMS TERM3'!J56","v":0},{"$f":"'SASAMS TERM3'!K56","v":0},{"$f":"'SASAMS TERM3'!L56","v":0},0,{"$f":"'SASAMS TERM4'!H56","v":0},0,0,{"$f":"'SASAMS TERM2'!L56","v":0},0,null,0,"",{"$f":"'FIN PAT MARK SHEET'!AG65","v":0},"",{"$f":"'PAT Mech'!AG64","v":0},"",{"$f":"'SASAMS TERM4'!AC56","v":0},{"$f":"'SASAMS TERM4'!AD56","v":0},0,0,""]
[null,null,49,49,{"$f":"INSERT!A51","v":0},{"$f":"INSERT!B51","v":0},{"$f":"INSERT!C51","v":0},{"$f":"INSERT!D51","v":0},{"$f":"INSERT!E51","v":0},{"$f":"TERM1!Z64","v":0},{"$f":"'SASAMS TERM1'!I57","v":0},{"$f":"'SASAMS TERM1'!J57","v":0},{"$f":"ROUND(SUM(J67:L67/3),0)","v":0},{"$f":"'SASAMS TERM2'!H57","v":0},{"$f":"'SASAMS TERM2'!I57","v":0},{"$f":"'SASAMS TERM2'!J57","v":0},{"$f":"ROUND(SUM(N67:P67/3),0)","v":0},{"$f":"'SASAMS TERM3'!H57","v":0},{"$f":"'SASAMS TERM3'!I57","v":0},{"$f":"'SASAMS TERM3'!J57","v":0},{"$f":"'SASAMS TERM3'!K57","v":0},{"$f":"'SASAMS TERM3'!L57","v":0},0,{"$f":"'SASAMS TERM4'!H57","v":0},0,0,{"$f":"'SASAMS TERM2'!L57","v":0},0,null,0,"",{"$f":"'FIN PAT MARK SHEET'!AG66","v":0},"",{"$f":"'PAT Mech'!AG65","v":0},"",{"$f":"'SASAMS TERM4'!AC57","v":0},{"$f":"'SASAMS TERM4'!AD57","v":0},0,0,""]
[null,null,50,50,{"$f":"INSERT!A52","v":0},{"$f":"INSERT!B52","v":0},{"$f":"INSERT!C52","v":0},{"$f":"INSERT!D52","v":0},{"$f":"INSERT!E52","v":0},{"$f":"TERM1!Z65","v":0},{"$f":"'SASAMS TERM1'!I58","v":0},{"$f":"'SASAMS TERM1'!J58","v":0},{"$f":"ROUND(SUM(J68:L68/3),0)","v":0},{"$f":"'SASAMS TERM2'!H58","v":0},{"$f":"'SASAMS TERM2'!I58","v":0},{"$f":"'SASAMS TERM2'!J58","v":0},{"$f":"ROUND(SUM(N68:P68/3),0)","v":0},{"$f":"'SASAMS TERM3'!H58","v":0},{"$f":"'SASAMS TERM3'!I58","v":0},{"$f":"'SASAMS TERM3'!J58","v":0},{"$f":"'SASAMS TERM3'!K58","v":0},{"$f":"'SASAMS TERM3'!L58","v":0},0,{"$f":"'SASAMS TERM4'!H58","v":0},0,0,{"$f":"'SASAMS TERM2'!L58","v":0},0,null,0,"",{"$f":"'FIN PAT MARK SHEET'!AG67","v":0},"",{"$f":"'PAT Mech'!AG66","v":0},"",{"$f":"'SASAMS TERM4'!AC58","v":0},{"$f":"'SASAMS TERM4'!AD58","v":0},0,0,""]
[null,null,51,51,{"$f":"INSERT!A53","v":0},{"$f":"INSERT!B53","v":0},{"$f":"INSERT!C53","v":0},{"$f":"INSERT!D53","v":0},{"$f":"INSERT!E53","v":0},{"$f":"TERM1!Z66","v":0},{"$f":"'SASAMS TERM1'!I59","v":0},{"$f":"'SASAMS TERM1'!J59","v":0},{"$f":"ROUND(SUM(J69:L69/3),0)","v":0},{"$f":"'SASAMS TERM2'!H59","v":0},{"$f":"'SASAMS TERM2'!I59","v":0},{"$f":"'SASAMS TERM2'!J59","v":0},{"$f":"ROUND(SUM(N69:P69/3),0)","v":0},{"$f":"'SASAMS TERM3'!H59","v":0},{"$f":"'SASAMS TERM3'!I59","v":0},{"$f":"'SASAMS TERM3'!J59","v":0},{"$f":"'SASAMS TERM3'!K59","v":0},{"$f":"'SASAMS TERM3'!L59","v":0},0,{"$f":"'SASAMS TERM4'!H59","v":0},0,0,{"$f":"'SASAMS TERM2'!L59","v":0},0,null,0,"",{"$f":"'FIN PAT MARK SHEET'!AG68","v":0},"",{"$f":"'PAT Mech'!AG67","v":0},"",{"$f":"'SASAMS TERM4'!AC59","v":0},{"$f":"'SASAMS TERM4'!AD59","v":0},0,0,""]
[null,null,52,52,{"$f":"INSERT!A54","v":0},{"$f":"INSERT!B54","v":0},{"$f":"INSERT!C54","v":0},{"$f":"INSERT!D54","v":0},{"$f":"INSERT!E54","v":0},{"$f":"TERM1!Z67","v":0},{"$f":"'SASAMS TERM1'!I60","v":0},{"$f":"'SASAMS TERM1'!J60","v":0},{"$f":"ROUND(SUM(J70:L70/3),0)","v":0},{"$f":"'SASAMS TERM2'!H60","v":0},{"$f":"'SASAMS TERM2'!I60","v":0},{"$f":"'SASAMS TERM2'!J60","v":0},{"$f":"ROUND(SUM(N70:P70/3),0)","v":0},{"$f":"'SASAMS TERM3'!H60","v":0},{"$f":"'SASAMS TERM3'!I60","v":0},{"$f":"'SASAMS TERM3'!J60","v":0},{"$f":"'SASAMS TERM3'!K60","v":0},{"$f":"'SASAMS TERM3'!L60","v":0},0,{"$f":"'SASAMS TERM4'!H60","v":0},0,0,{"$f":"'SASAMS TERM2'!L60","v":0},0,null,0,"",{"$f":"'FIN PAT MARK SHEET'!AG69","v":0},"",{"$f":"'PAT Mech'!AG68","v":0},"",{"$f":"'SASAMS TERM4'!AC60","v":0},{"$f":"'SASAMS TERM4'!AD60","v":0},0,0,""]
[null,null,53,53,{"$f":"INSERT!A55","v":0},{"$f":"INSERT!B55","v":0},{"$f":"INSERT!C55","v":0},{"$f":"INSERT!D55","v":0},{"$f":"INSERT!E55","v":0},{"$f":"TERM1!Z68","v":0},{"$f":"'SASAMS TERM1'!I61","v":0},{"$f":"'SASAMS TERM1'!J61","v":0},{"$f":"ROUND(SUM(J71:L71/3),0)","v":0},{"$f":"'SASAMS TERM2'!H61","v":0},{"$f":"'SASAMS TERM2'!I61","v":0},{"$f":"'SASAMS TERM2'!J61","v":0},{"$f":"ROUND(SUM(N71:P71/3),0)","v":0},{"$f":"'SASAMS TERM3'!H61","v":0},{"$f":"'SASAMS TERM3'!I61","v":0},{"$f":"'SASAMS TERM3'!J61","v":0},{"$f":"'SASAMS TERM3'!K61","v":0},{"$f":"'SASAMS TERM3'!L61","v":0},0,{"$f":"'SASAMS TERM4'!H61","v":0},0,0,{"$f":"'SASAMS TERM2'!L61","v":0},0,null,0,"",{"$f":"'FIN PAT MARK SHEET'!AG70","v":0},"",{"$f":"'PAT Mech'!AG69","v":0},"",{"$f":"'SASAMS TERM4'!AC61","v":0},{"$f":"'SASAMS TERM4'!AD61","v":0},0,0,""]
[null,null,54,54,{"$f":"INSERT!A56","v":0},{"$f":"INSERT!B56","v":0},{"$f":"INSERT!C56","v":0},{"$f":"INSERT!D56","v":0},{"$f":"INSERT!E56","v":0},{"$f":"TERM1!Z69","v":0},{"$f":"'SASAMS TERM1'!I62","v":0},{"$f":"'SASAMS TERM1'!J62","v":0},{"$f":"ROUND(SUM(J72:L72/3),0)","v":0},{"$f":"'SASAMS TERM2'!H62","v":0},{"$f":"'SASAMS TERM2'!I62","v":0},{"$f":"'SASAMS TERM2'!J62","v":0},{"$f":"ROUND(SUM(N72:P72/3),0)","v":0},{"$f":"'SASAMS TERM3'!H62","v":0},{"$f":"'SASAMS TERM3'!I62","v":0},{"$f":"'SASAMS TERM3'!J62","v":0},{"$f":"'SASAMS TERM3'!K62","v":0},{"$f":"'SASAMS TERM3'!L62","v":0},0,{"$f":"'SASAMS TERM4'!H62","v":0},0,0,{"$f":"'SASAMS TERM2'!L62","v":0},0,null,0,"",{"$f":"'FIN PAT MARK SHEET'!AG71","v":0},"",{"$f":"'PAT Mech'!AG70","v":0},"",{"$f":"'SASAMS TERM4'!AC62","v":0},{"$f":"'SASAMS TERM4'!AD62","v":0},0,0,""]
[null,null,55,55,{"$f":"INSERT!A57","v":0},{"$f":"INSERT!B57","v":0},{"$f":"INSERT!C57","v":0},{"$f":"INSERT!D57","v":0},{"$f":"INSERT!E57","v":0},{"$f":"TERM1!Z70","v":0},{"$f":"'SASAMS TERM1'!I63","v":0},{"$f":"'SASAMS TERM1'!J63","v":0},{"$f":"ROUND(SUM(J73:L73/3),0)","v":0},{"$f":"'SASAMS TERM2'!H63","v":0},{"$f":"'SASAMS TERM2'!I63","v":0},{"$f":"'SASAMS TERM2'!J63","v":0},{"$f":"ROUND(SUM(N73:P73/3),0)","v":0},{"$f":"'SASAMS TERM3'!H63","v":0},{"$f":"'SASAMS TERM3'!I63","v":0},{"$f":"'SASAMS TERM3'!J63","v":0},{"$f":"'SASAMS TERM3'!K63","v":0},{"$f":"'SASAMS TERM3'!L63","v":0},0,{"$f":"'SASAMS TERM4'!H63","v":0},0,0,{"$f":"'SASAMS TERM2'!L63","v":0},0,null,0,"",{"$f":"'FIN PAT MARK SHEET'!AG72","v":0},"",{"$f":"'PAT Mech'!AG71","v":0},"",{"$f":"'SASAMS TERM4'!AC63","v":0},{"$f":"'SASAMS TERM4'!AD63","v":0},0,0,""]
[null,null,56,56,{"$f":"INSERT!A58","v":0},{"$f":"INSERT!B58","v":0},{"$f":"INSERT!C58","v":0},{"$f":"INSERT!D58","v":0},{"$f":"INSERT!E58","v":0},{"$f":"TERM1!Z71","v":0},{"$f":"'SASAMS TERM1'!I64","v":0},{"$f":"'SASAMS TERM1'!J64","v":0},{"$f":"ROUND(SUM(J74:L74/3),0)","v":0},{"$f":"'SASAMS TERM2'!H64","v":0},{"$f":"'SASAMS TERM2'!I64","v":0},{"$f":"'SASAMS TERM2'!J64","v":0},{"$f":"ROUND(SUM(N74:P74/3),0)","v":0},{"$f":"'SASAMS TERM3'!H64","v":0},{"$f":"'SASAMS TERM3'!I64","v":0},{"$f":"'SASAMS TERM3'!J64","v":0},{"$f":"'SASAMS TERM3'!K64","v":0},{"$f":"'SASAMS TERM3'!L64","v":0},0,{"$f":"'SASAMS TERM4'!H64","v":0},0,0,{"$f":"'SASAMS TERM2'!L64","v":0},0,null,0,"",{"$f":"'FIN PAT MARK SHEET'!AG73","v":0},"",{"$f":"'PAT Mech'!AG72","v":0},"",{"$f":"'SASAMS TERM4'!AC64","v":0},{"$f":"'SASAMS TERM4'!AD64","v":0},0,0,""]
[null,null,57,57,{"$f":"INSERT!A59","v":0},{"$f":"INSERT!B59","v":0},{"$f":"INSERT!C59","v":0},{"$f":"INSERT!D59","v":0},{"$f":"INSERT!E59","v":0},{"$f":"TERM1!Z72","v":0},{"$f":"'SASAMS TERM1'!I65","v":0},{"$f":"'SASAMS TERM1'!J65","v":0},{"$f":"ROUND(SUM(J75:L75/3),0)","v":0},{"$f":"'SASAMS TERM2'!H65","v":0},{"$f":"'SASAMS TERM2'!I65","v":0},{"$f":"'SASAMS TERM2'!J65","v":0},{"$f":"ROUND(SUM(N75:P75/3),0)","v":0},{"$f":"'SASAMS TERM3'!H65","v":0},{"$f":"'SASAMS TERM3'!I65","v":0},{"$f":"'SASAMS TERM3'!J65","v":0},{"$f":"'SASAMS TERM3'!K65","v":0},{"$f":"'SASAMS TERM3'!L65","v":0},0,{"$f":"'SASAMS TERM4'!H65","v":0},0,0,{"$f":"'SASAMS TERM2'!L65","v":0},0,null,0,"",{"$f":"'FIN PAT MARK SHEET'!AG74","v":0},"",{"$f":"'PAT Mech'!AG73","v":0},"",{"$f":"'SASAMS TERM4'!AC65","v":0},{"$f":"'SASAMS TERM4'!AD65","v":0},0,0,""]
[null,null,58,58,{"$f":"INSERT!A60","v":0},{"$f":"INSERT!B60","v":0},{"$f":"INSERT!C60","v":0},{"$f":"INSERT!D60","v":0},{"$f":"INSERT!E60","v":0},{"$f":"TERM1!Z73","v":0},{"$f":"'SASAMS TERM1'!I66","v":0},{"$f":"'SASAMS TERM1'!J66","v":0},{"$f":"ROUND(SUM(J76:L76/3),0)","v":0},{"$f":"'SASAMS TERM2'!H66","v":0},{"$f":"'SASAMS TERM2'!I66","v":0},{"$f":"'SASAMS TERM2'!J66","v":0},{"$f":"ROUND(SUM(N76:P76/3),0)","v":0},{"$f":"'SASAMS TERM3'!H66","v":0},{"$f":"'SASAMS TERM3'!I66","v":0},{"$f":"'SASAMS TERM3'!J66","v":0},{"$f":"'SASAMS TERM3'!K66","v":0},{"$f":"'SASAMS TERM3'!L66","v":0},0,{"$f":"'SASAMS TERM4'!H66","v":0},0,0,{"$f":"'SASAMS TERM2'!L66","v":0},0,null,0,"",{"$f":"'FIN PAT MARK SHEET'!AG75","v":0},"",{"$f":"'PAT Mech'!AG74","v":0},"",{"$f":"'SASAMS TERM4'!AC66","v":0},{"$f":"'SASAMS TERM4'!AD66","v":0},0,0,""]
[null,null,59,59,{"$f":"INSERT!A61","v":0},{"$f":"INSERT!B61","v":0},{"$f":"INSERT!C61","v":0},{"$f":"INSERT!D61","v":0},{"$f":"INSERT!E61","v":0},{"$f":"TERM1!Z74","v":0},{"$f":"'SASAMS TERM1'!I67","v":0},{"$f":"'SASAMS TERM1'!J67","v":0},{"$f":"ROUND(SUM(J77:L77/3),0)","v":0},{"$f":"'SASAMS TERM2'!H67","v":0},{"$f":"'SASAMS TERM2'!I67","v":0},{"$f":"'SASAMS TERM2'!J67","v":0},{"$f":"ROUND(SUM(N77:P77/3),0)","v":0},{"$f":"'SASAMS TERM3'!H67","v":0},{"$f":"'SASAMS TERM3'!I67","v":0},{"$f":"'SASAMS TERM3'!J67","v":0},{"$f":"'SASAMS TERM3'!K67","v":0},{"$f":"'SASAMS TERM3'!L67","v":0},0,{"$f":"'SASAMS TERM4'!H67","v":0},0,0,{"$f":"'SASAMS TERM2'!L67","v":0},0,null,0,"",{"$f":"'FIN PAT MARK SHEET'!AG76","v":0},"",{"$f":"'PAT Mech'!AG75","v":0},"",{"$f":"'SASAMS TERM4'!AC67","v":0},{"$f":"'SASAMS TERM4'!AD67","v":0},0,0,""]
[null,null,60,60,{"$f":"INSERT!A62","v":0},{"$f":"INSERT!B62","v":0},{"$f":"INSERT!C62","v":0},{"$f":"INSERT!D62","v":0},{"$f":"INSERT!E62","v":0},{"$f":"TERM1!Z75","v":0},{"$f":"'SASAMS TERM1'!I68","v":0},{"$f":"'SASAMS TERM1'!J68","v":0},{"$f":"ROUND(SUM(J78:L78/3),0)","v":0},{"$f":"'SASAMS TERM2'!H68","v":0},{"$f":"'SASAMS TERM2'!I68","v":0},{"$f":"'SASAMS TERM2'!J68","v":0},{"$f":"ROUND(SUM(N78:P78/3),0)","v":0},{"$f":"'SASAMS TERM3'!H68","v":0},{"$f":"'SASAMS TERM3'!I68","v":0},{"$f":"'SASAMS TERM3'!J68","v":0},{"$f":"'SASAMS TERM3'!K68","v":0},{"$f":"'SASAMS TERM3'!L68","v":0},0,{"$f":"'SASAMS TERM4'!H68","v":0},0,0,{"$f":"'SASAMS TERM2'!L68","v":0},0,null,0,"",{"$f":"'FIN PAT MARK SHEET'!AG77","v":0},"",{"$f":"'PAT Mech'!AG76","v":0},"",{"$f":"'SASAMS TERM4'!AC68","v":0},{"$f":"'SASAMS TERM4'!AD68","v":0},0,0,""]
[null,null,61,61,{"$f":"INSERT!A63","v":0},{"$f":"INSERT!B63","v":0},{"$f":"INSERT!C63","v":0},{"$f":"INSERT!D63","v":0},{"$f":"INSERT!E63","v":0},{"$f":"TERM1!Z76","v":0},{"$f":"'SASAMS TERM1'!I69","v":0},{"$f":"'SASAMS TERM1'!J69","v":0},{"$f":"ROUND(SUM(J79:L79/3),0)","v":0},{"$f":"'SASAMS TERM2'!H69","v":0},{"$f":"'SASAMS TERM2'!I69","v":0},{"$f":"'SASAMS TERM2'!J69","v":0},{"$f":"ROUND(SUM(N79:P79/3),0)","v":0},{"$f":"'SASAMS TERM3'!H69","v":0},{"$f":"'SASAMS TERM3'!I69","v":0},{"$f":"'SASAMS TERM3'!J69","v":0},{"$f":"'SASAMS TERM3'!K69","v":0},{"$f":"'SASAMS TERM3'!L69","v":0},0,{"$f":"'SASAMS TERM4'!H69","v":0},0,0,{"$f":"'SASAMS TERM2'!L69","v":0},0,null,0,"",{"$f":"'FIN PAT MARK SHEET'!AG78","v":0},"",{"$f":"'PAT Mech'!AG77","v":0},"",{"$f":"'SASAMS TERM4'!AC69","v":0},{"$f":"'SASAMS TERM4'!AD69","v":0},0,0,""]
[null,2,62,62,{"$f":"INSERT!A64","v":0},{"$f":"INSERT!B64","v":0},{"$f":"INSERT!C64","v":0},{"$f":"INSERT!D64","v":0},{"$f":"INSERT!E64","v":0},{"$f":"TERM1!Z77","v":0},{"$f":"'SASAMS TERM1'!I70","v":0},{"$f":"'SASAMS TERM1'!J70","v":0},{"$f":"ROUND(SUM(J80:L80/3),0)","v":0},{"$f":"'SASAMS TERM2'!H70","v":0},{"$f":"'SASAMS TERM2'!I70","v":0},{"$f":"'SASAMS TERM2'!J70","v":0},{"$f":"ROUND(SUM(N80:P80/3),0)","v":0},{"$f":"'SASAMS TERM3'!H70","v":0},{"$f":"'SASAMS TERM3'!I70","v":0},{"$f":"'SASAMS TERM3'!J70","v":0},{"$f":"'SASAMS TERM3'!K70","v":0},{"$f":"'SASAMS TERM3'!L70","v":0},0,{"$f":"'SASAMS TERM4'!H70","v":0},0,0,{"$f":"'SASAMS TERM2'!L70","v":0},0,null,0,"",{"$f":"'FIN PAT MARK SHEET'!AG79","v":0},"",{"$f":"'PAT Mech'!AG78","v":0},"",{"$f":"'SASAMS TERM4'!AC70","v":0},{"$f":"'SASAMS TERM4'!AD70","v":0},0,0,""]
[null,2,63,63,{"$f":"INSERT!A65","v":0},{"$f":"INSERT!B65","v":0},{"$f":"INSERT!C65","v":0},{"$f":"INSERT!D65","v":0},{"$f":"INSERT!E65","v":0},{"$f":"TERM1!Z78","v":0},{"$f":"'SASAMS TERM1'!I71","v":0},{"$f":"'SASAMS TERM1'!J71","v":0},{"$f":"ROUND(SUM(J81:L81/3),0)","v":0},{"$f":"'SASAMS TERM2'!H71","v":0},{"$f":"'SASAMS TERM2'!I71","v":0},{"$f":"'SASAMS TERM2'!J71","v":0},{"$f":"ROUND(SUM(N81:P81/3),0)","v":0},{"$f":"'SASAMS TERM3'!H71","v":0},{"$f":"'SASAMS TERM3'!I71","v":0},{"$f":"'SASAMS TERM3'!J71","v":0},{"$f":"'SASAMS TERM3'!K71","v":0},{"$f":"'SASAMS TERM3'!L71","v":0},0,{"$f":"'SASAMS TERM4'!H71","v":0},0,0,{"$f":"'SASAMS TERM2'!L71","v":0},0,null,0,"",{"$f":"'FIN PAT MARK SHEET'!AG80","v":0},"",{"$f":"'PAT Mech'!AG79","v":0},"",{"$f":"'SASAMS TERM4'!AC71","v":0},{"$f":"'SASAMS TERM4'!AD71","v":0},0,0,""]
[null,2,64,64,{"$f":"INSERT!A66","v":0},{"$f":"INSERT!B66","v":0},{"$f":"INSERT!C66","v":0},{"$f":"INSERT!D66","v":0},{"$f":"INSERT!E66","v":0},{"$f":"TERM1!Z79","v":0},{"$f":"'SASAMS TERM1'!I72","v":0},{"$f":"'SASAMS TERM1'!J72","v":0},{"$f":"ROUND(SUM(J82:L82/3),0)","v":0},{"$f":"'SASAMS TERM2'!H72","v":0},{"$f":"'SASAMS TERM2'!I72","v":0},{"$f":"'SASAMS TERM2'!J72","v":0},{"$f":"ROUND(SUM(N82:P82/3),0)","v":0},{"$f":"'SASAMS TERM3'!H72","v":0},{"$f":"'SASAMS TERM3'!I72","v":0},{"$f":"'SASAMS TERM3'!J72","v":0},{"$f":"'SASAMS TERM3'!K72","v":0},{"$f":"'SASAMS TERM3'!L72","v":0},0,{"$f":"'SASAMS TERM4'!H72","v":0},0,0,{"$f":"'SASAMS TERM2'!L72","v":0},0,null,0,"",{"$f":"'FIN PAT MARK SHEET'!AG81","v":0},"",{"$f":"'PAT Mech'!AG80","v":0},"",{"$f":"'SASAMS TERM4'!AC72","v":0},{"$f":"'SASAMS TERM4'!AD72","v":0},0,0,""]
[null,2,65,65,{"$f":"INSERT!A67","v":0},{"$f":"INSERT!B67","v":0},{"$f":"INSERT!C67","v":0},{"$f":"INSERT!D67","v":0},{"$f":"INSERT!E67","v":0},{"$f":"TERM1!Z80","v":0},{"$f":"'SASAMS TERM1'!I73","v":0},{"$f":"'SASAMS TERM1'!J73","v":0},{"$f":"ROUND(SUM(J83:L83/3),0)","v":0},{"$f":"'SASAMS TERM2'!H73","v":0},{"$f":"'SASAMS TERM2'!I73","v":0},{"$f":"'SASAMS TERM2'!J73","v":0},{"$f":"ROUND(SUM(N83:P83/3),0)","v":0},{"$f":"'SASAMS TERM3'!H73","v":0},{"$f":"'SASAMS TERM3'!I73","v":0},{"$f":"'SASAMS TERM3'!J73","v":0},{"$f":"'SASAMS TERM3'!K73","v":0},{"$f":"'SASAMS TERM3'!L73","v":0},0,{"$f":"'SASAMS TERM4'!H73","v":0},0,0,{"$f":"'SASAMS TERM2'!L73","v":0},0,null,{"$f":"SUM(Z83+AB83)","v":0},"",{"$f":"'FIN PAT MARK SHEET'!AG82","v":0},{"$f":"IF(AF83>79,\"7\",IF(AF83>69,\"6\",IF(AF83>59,\"5\",IF(AF83>49,\"4\",IF(AF83>39,\"3\",IF(AF83>29,\"2\",IF(AF83>0,\"1\",IF(AF83=0,\"\"))))))))","v":""},{"$f":"'PAT Mech'!AG81","v":0},"",{"$f":"'SASAMS TERM4'!AC73","v":0},{"$f":"'SASAMS TERM4'!AD73","v":0},0,0,{"$f":"IF(AM83>79,\"7\",IF(AM83>69,\"6\",IF(AM83>59,\"5\",IF(AM83>49,\"4\",IF(AM83>39,\"3\",IF(AM83>29,\"2\",IF(AM83>0,\"1\",IF(AM83=0,\"\"))))))))","v":""}]
[null,2,66,66,{"$f":"INSERT!A68","v":0},{"$f":"INSERT!B68","v":0},{"$f":"INSERT!C68","v":0},{"$f":"INSERT!D68","v":0},{"$f":"INSERT!E68","v":0},{"$f":"TERM1!Z81","v":0},{"$f":"'SASAMS TERM1'!I74","v":0},{"$f":"'SASAMS TERM1'!J74","v":0},{"$f":"ROUND(SUM(J84:L84/3),0)","v":0},{"$f":"'SASAMS TERM2'!H74","v":0},{"$f":"'SASAMS TERM2'!I74","v":0},{"$f":"'SASAMS TERM2'!J74","v":0},{"$f":"ROUND(SUM(N84:P84/3),0)","v":0},{"$f":"'SASAMS TERM3'!H74","v":0},{"$f":"'SASAMS TERM3'!I74","v":0},{"$f":"'SASAMS TERM3'!J74","v":0},{"$f":"'SASAMS TERM3'!K74","v":0},{"$f":"'SASAMS TERM3'!L74","v":0},0,{"$f":"'SASAMS TERM4'!H74","v":0},0,0,{"$f":"'SASAMS TERM2'!L74","v":0},{"$f":"ROUND(SUM(AA84/2.5),0)","v":0},null,0,"",{"$f":"'FIN PAT MARK SHEET'!AG83","v":0},"",{"$f":"'PAT Mech'!AG82","v":0},{"$f":"IF(AH84>79,\"7\",IF(AH84>69,\"6\",IF(AH84>59,\"5\",IF(AH84>49,\"4\",IF(AH84>39,\"3\",IF(AH84>29,\"2\",IF(AH84>0,\"1\",IF(AH84=0,\"\"))))))))","v":""},{"$f":"'SASAMS TERM4'!AC74","v":0},{"$f":"'SASAMS TERM4'!AD74","v":0},{"$f":"SUM(AJ84:AK84)/2","v":0},{"$f":"ROUND(SUM(AD84/2.5)+(AF84/5)+(AL84/5),0)","v":0},""]
[null,2,{"$f":"C84+1","v":67},67,{"$f":"INSERT!A69","v":0},{"$f":"INSERT!B69","v":0},{"$f":"INSERT!C69","v":0},{"$f":"INSERT!D69","v":0},{"$f":"INSERT!E69","v":0},{"$f":"TERM1!Z82","v":0},{"$f":"'SASAMS TERM1'!I75","v":0},{"$f":"'SASAMS TERM1'!J75","v":0},{"$f":"ROUND(SUM(J85:L85/3),0)","v":0},{"$f":"'SASAMS TERM2'!H75","v":0},{"$f":"'SASAMS TERM2'!I75","v":0},{"$f":"'SASAMS TERM2'!J75","v":0},{"$f":"ROUND(SUM(N85:P85/3),0)","v":0},{"$f":"'SASAMS TERM3'!H75","v":0},{"$f":"'SASAMS TERM3'!I75","v":0},{"$f":"'SASAMS TERM3'!J75","v":0},{"$f":"'SASAMS TERM3'!K75","v":0},{"$f":"'SASAMS TERM3'!L75","v":0},0,{"$f":"'SASAMS TERM4'!H75","v":0},0,0,{"$f":"'SASAMS TERM2'!L75","v":0},0,null,0,"",{"$f":"'FIN PAT MARK SHEET'!AG84","v":0},"",{"$f":"'PAT Mech'!AG83","v":0},"",{"$f":"'SASAMS TERM4'!AC75","v":0},{"$f":"'SASAMS TERM4'!AD75","v":0},0,0,""]
[null,2,68,68,{"$f":"INSERT!A70","v":0},{"$f":"INSERT!B70","v":0},{"$f":"INSERT!C70","v":0},{"$f":"INSERT!D70","v":0},{"$f":"INSERT!E70","v":0},{"$f":"TERM1!Z83","v":0},{"$f":"'SASAMS TERM1'!I76","v":0},{"$f":"'SASAMS TERM1'!J76","v":0},{"$f":"ROUND(SUM(J86:L86/3),0)","v":0},{"$f":"'SASAMS TERM2'!H76","v":0},{"$f":"'SASAMS TERM2'!I76","v":0},{"$f":"'SASAMS TERM2'!J76","v":0},{"$f":"ROUND(SUM(N86:P86/3),0)","v":0},{"$f":"'SASAMS TERM3'!H76","v":0},{"$f":"'SASAMS TERM3'!I76","v":0},{"$f":"'SASAMS TERM3'!J76","v":0},{"$f":"'SASAMS TERM3'!K76","v":0},{"$f":"'SASAMS TERM3'!L76","v":0},0,{"$f":"'SASAMS TERM4'!H76","v":0},0,0,{"$f":"'SASAMS TERM2'!L76","v":0},0,null,0,"",{"$f":"'FIN PAT MARK SHEET'!AG85","v":0},"",{"$f":"'PAT Mech'!AG84","v":0},"",{"$f":"'SASAMS TERM4'!AC76","v":0},{"$f":"'SASAMS TERM4'!AD76","v":0},0,0,""]
[null,2,69,69,{"$f":"INSERT!A71","v":0},{"$f":"INSERT!B71","v":0},{"$f":"INSERT!C71","v":0},{"$f":"INSERT!D71","v":0},{"$f":"INSERT!E71","v":0},{"$f":"TERM1!Z84","v":0},{"$f":"'SASAMS TERM1'!I77","v":0},{"$f":"'SASAMS TERM1'!J77","v":0},{"$f":"ROUND(SUM(J87:L87/3),0)","v":0},{"$f":"'SASAMS TERM2'!H77","v":0},{"$f":"'SASAMS TERM2'!I77","v":0},{"$f":"'SASAMS TERM2'!J77","v":0},{"$f":"ROUND(SUM(N87:P87/3),0)","v":0},{"$f":"'SASAMS TERM3'!H77","v":0},{"$f":"'SASAMS TERM3'!I77","v":0},{"$f":"'SASAMS TERM3'!J77","v":0},{"$f":"'SASAMS TERM3'!K77","v":0},{"$f":"'SASAMS TERM3'!L77","v":0},0,{"$f":"'SASAMS TERM4'!H77","v":0},0,0,{"$f":"'SASAMS TERM2'!L77","v":0},0,null,0,"",{"$f":"'FIN PAT MARK SHEET'!AG86","v":0},"",{"$f":"'PAT Mech'!AG85","v":0},"",{"$f":"'SASAMS TERM4'!AC77","v":0},{"$f":"'SASAMS TERM4'!AD77","v":0},0,0,""]
[null,2,70,70,{"$f":"INSERT!A72","v":0},{"$f":"INSERT!B72","v":0},{"$f":"INSERT!C72","v":0},{"$f":"INSERT!D72","v":0},{"$f":"INSERT!E72","v":0},{"$f":"TERM1!Z85","v":0},{"$f":"'SASAMS TERM1'!I78","v":0},{"$f":"'SASAMS TERM1'!J78","v":0},{"$f":"ROUND(SUM(J88:L88/3),0)","v":0},{"$f":"'SASAMS TERM2'!H78","v":0},{"$f":"'SASAMS TERM2'!I78","v":0},{"$f":"'SASAMS TERM2'!J78","v":0},{"$f":"ROUND(SUM(N88:P88/3),0)","v":0},{"$f":"'SASAMS TERM3'!H78","v":0},{"$f":"'SASAMS TERM3'!I78","v":0},{"$f":"'SASAMS TERM3'!J78","v":0},{"$f":"'SASAMS TERM3'!K78","v":0},{"$f":"'SASAMS TERM3'!L78","v":0},0,{"$f":"'SASAMS TERM4'!H78","v":0},0,0,{"$f":"'SASAMS TERM2'!L78","v":0},0,null,0,"",{"$f":"'FIN PAT MARK SHEET'!AG87","v":0},"",{"$f":"'PAT Mech'!AG86","v":0},"",{"$f":"'SASAMS TERM4'!AC78","v":0},{"$f":"'SASAMS TERM4'!AD78","v":0},0,0,""]
[null,2,71,71,{"$f":"INSERT!A73","v":0},{"$f":"INSERT!B73","v":0},{"$f":"INSERT!C73","v":0},{"$f":"INSERT!D73","v":0},{"$f":"INSERT!E73","v":0},{"$f":"TERM1!Z86","v":0},{"$f":"'SASAMS TERM1'!I79","v":0},{"$f":"'SASAMS TERM1'!J79","v":0},{"$f":"ROUND(SUM(J89:L89/3),0)","v":0},{"$f":"'SASAMS TERM2'!H79","v":0},{"$f":"'SASAMS TERM2'!I79","v":0},{"$f":"'SASAMS TERM2'!J79","v":0},{"$f":"ROUND(SUM(N89:P89/3),0)","v":0},{"$f":"'SASAMS TERM3'!H79","v":0},{"$f":"'SASAMS TERM3'!I79","v":0},{"$f":"'SASAMS TERM3'!J79","v":0},{"$f":"'SASAMS TERM3'!K79","v":0},{"$f":"'SASAMS TERM3'!L79","v":0},0,{"$f":"'SASAMS TERM4'!H79","v":0},0,0,{"$f":"'SASAMS TERM2'!L79","v":0},0,null,0,"",{"$f":"'FIN PAT MARK SHEET'!AG88","v":0},"",{"$f":"'PAT Mech'!AG87","v":0},"",{"$f":"'SASAMS TERM4'!AC79","v":0},{"$f":"'SASAMS TERM4'!AD79","v":0},0,0,""]
[null,2,72,72,{"$f":"INSERT!A74","v":0},{"$f":"INSERT!B74","v":0},{"$f":"INSERT!C74","v":0},{"$f":"INSERT!D74","v":0},{"$f":"INSERT!E74","v":0},{"$f":"TERM1!Z87","v":0},{"$f":"'SASAMS TERM1'!I80","v":0},{"$f":"'SASAMS TERM1'!J80","v":0},{"$f":"ROUND(SUM(J90:L90/3),0)","v":0},{"$f":"'SASAMS TERM2'!H80","v":0},{"$f":"'SASAMS TERM2'!I80","v":0},{"$f":"'SASAMS TERM2'!J80","v":0},{"$f":"ROUND(SUM(N90:P90/3),0)","v":0},{"$f":"'SASAMS TERM3'!H80","v":0},{"$f":"'SASAMS TERM3'!I80","v":0},{"$f":"'SASAMS TERM3'!J80","v":0},{"$f":"'SASAMS TERM3'!K80","v":0},{"$f":"'SASAMS TERM3'!L80","v":0},0,{"$f":"'SASAMS TERM4'!H80","v":0},0,0,{"$f":"'SASAMS TERM2'!L80","v":0},0,null,0,"",{"$f":"'FIN PAT MARK SHEET'!AG89","v":0},"",{"$f":"'PAT Mech'!AG88","v":0},"",{"$f":"'SASAMS TERM4'!AC80","v":0},{"$f":"'SASAMS TERM4'!AD80","v":0},0,0,""]
[null,2,73,73,{"$f":"INSERT!A75","v":0},{"$f":"INSERT!B75","v":0},{"$f":"INSERT!C75","v":0},{"$f":"INSERT!D75","v":0},{"$f":"INSERT!E75","v":0},{"$f":"TERM1!Z88","v":0},{"$f":"'SASAMS TERM1'!I81","v":0},{"$f":"'SASAMS TERM1'!J81","v":0},{"$f":"ROUND(SUM(J91:L91/3),0)","v":0},{"$f":"'SASAMS TERM2'!H81","v":0},{"$f":"'SASAMS TERM2'!I81","v":0},{"$f":"'SASAMS TERM2'!J81","v":0},{"$f":"ROUND(SUM(N91:P91/3),0)","v":0},{"$f":"'SASAMS TERM3'!H81","v":0},{"$f":"'SASAMS TERM3'!I81","v":0},{"$f":"'SASAMS TERM3'!J81","v":0},{"$f":"'SASAMS TERM3'!K81","v":0},{"$f":"'SASAMS TERM3'!L81","v":0},0,{"$f":"'SASAMS TERM4'!H81","v":0},0,0,{"$f":"'SASAMS TERM2'!L81","v":0},0,null,0,"",{"$f":"'FIN PAT MARK SHEET'!AG90","v":0},"",{"$f":"'PAT Mech'!AG89","v":0},"",{"$f":"'SASAMS TERM4'!AC81","v":0},{"$f":"'SASAMS TERM4'!AD81","v":0},0,0,""]
[null,2,{"$f":"C91+1","v":74},74,{"$f":"INSERT!A76","v":0},{"$f":"INSERT!B76","v":0},{"$f":"INSERT!C76","v":0},{"$f":"INSERT!D76","v":0},{"$f":"INSERT!E76","v":0},{"$f":"TERM1!Z89","v":0},{"$f":"'SASAMS TERM1'!I82","v":0},{"$f":"'SASAMS TERM1'!J82","v":0},{"$f":"ROUND(SUM(J92:L92/3),0)","v":0},{"$f":"'SASAMS TERM2'!H82","v":0},{"$f":"'SASAMS TERM2'!I82","v":0},{"$f":"'SASAMS TERM2'!J82","v":0},{"$f":"ROUND(SUM(N92:P92/3),0)","v":0},{"$f":"'SASAMS TERM3'!H82","v":0},{"$f":"'SASAMS TERM3'!I82","v":0},{"$f":"'SASAMS TERM3'!J82","v":0},{"$f":"'SASAMS TERM3'!K82","v":0},{"$f":"'SASAMS TERM3'!L82","v":0},0,{"$f":"'SASAMS TERM4'!H82","v":0},0,0,{"$f":"'SASAMS TERM2'!L82","v":0},0,null,0,"",{"$f":"'FIN PAT MARK SHEET'!AG91","v":0},"",{"$f":"'PAT Mech'!AG90","v":0},"",{"$f":"'SASAMS TERM4'!AC82","v":0},{"$f":"'SASAMS TERM4'!AD82","v":0},0,0,""]
[null,2,75,75,{"$f":"INSERT!A77","v":0},{"$f":"INSERT!B77","v":0},{"$f":"INSERT!C77","v":0},{"$f":"INSERT!D77","v":0},{"$f":"INSERT!E77","v":0},{"$f":"TERM1!Z90","v":0},{"$f":"'SASAMS TERM1'!I83","v":0},{"$f":"'SASAMS TERM1'!J83","v":0},{"$f":"ROUND(SUM(J93:L93/3),0)","v":0},{"$f":"'SASAMS TERM2'!H83","v":0},{"$f":"'SASAMS TERM2'!I83","v":0},{"$f":"'SASAMS TERM2'!J83","v":0},{"$f":"ROUND(SUM(N93:P93/3),0)","v":0},{"$f":"'SASAMS TERM3'!H83","v":0},{"$f":"'SASAMS TERM3'!I83","v":0},{"$f":"'SASAMS TERM3'!J83","v":0},{"$f":"'SASAMS TERM3'!K83","v":0},{"$f":"'SASAMS TERM3'!L83","v":0},0,{"$f":"'SASAMS TERM4'!H83","v":0},0,0,{"$f":"'SASAMS TERM2'!L83","v":0},0,null,0,"",{"$f":"'FIN PAT MARK SHEET'!AG92","v":0},"",{"$f":"'PAT Mech'!AG91","v":0},"",{"$f":"'SASAMS TERM4'!AC83","v":0},{"$f":"'SASAMS TERM4'!AD83","v":0},0,0,""]
[null,2,76,76,{"$f":"INSERT!A78","v":0},{"$f":"INSERT!B78","v":0},{"$f":"INSERT!C78","v":0},{"$f":"INSERT!D78","v":0},{"$f":"INSERT!E78","v":0},{"$f":"TERM1!Z91","v":0},{"$f":"'SASAMS TERM1'!I84","v":0},{"$f":"'SASAMS TERM1'!J84","v":0},{"$f":"ROUND(SUM(J94:L94/3),0)","v":0},{"$f":"'SASAMS TERM2'!H84","v":0},{"$f":"'SASAMS TERM2'!I84","v":0},{"$f":"'SASAMS TERM2'!J84","v":0},{"$f":"ROUND(SUM(N94:P94/3),0)","v":0},{"$f":"'SASAMS TERM3'!H84","v":0},{"$f":"'SASAMS TERM3'!I84","v":0},{"$f":"'SASAMS TERM3'!J84","v":0},{"$f":"'SASAMS TERM3'!K84","v":0},{"$f":"'SASAMS TERM3'!L84","v":0},0,{"$f":"'SASAMS TERM4'!H84","v":0},0,0,{"$f":"'SASAMS TERM2'!L84","v":0},0,null,0,"",{"$f":"'FIN PAT MARK SHEET'!AG93","v":0},"",{"$f":"'PAT Mech'!AG92","v":0},"",{"$f":"'SASAMS TERM4'!AC84","v":0},{"$f":"'SASAMS TERM4'!AD84","v":0},0,0,""]
[null,2,77,77,{"$f":"INSERT!A79","v":0},{"$f":"INSERT!B79","v":0},{"$f":"INSERT!C79","v":0},{"$f":"INSERT!D79","v":0},{"$f":"INSERT!E79","v":0},{"$f":"TERM1!Z92","v":0},{"$f":"'SASAMS TERM1'!I85","v":0},{"$f":"'SASAMS TERM1'!J85","v":0},{"$f":"ROUND(SUM(J95:L95/3),0)","v":0},{"$f":"'SASAMS TERM2'!H85","v":0},{"$f":"'SASAMS TERM2'!I85","v":0},{"$f":"'SASAMS TERM2'!J85","v":0},{"$f":"ROUND(SUM(N95:P95/3),0)","v":0},{"$f":"'SASAMS TERM3'!H85","v":0},{"$f":"'SASAMS TERM3'!I85","v":0},{"$f":"'SASAMS TERM3'!J85","v":0},{"$f":"'SASAMS TERM3'!K85","v":0},{"$f":"'SASAMS TERM3'!L85","v":0},0,{"$f":"'SASAMS TERM4'!H85","v":0},0,0,{"$f":"'SASAMS TERM2'!L85","v":0},0,null,0,"",{"$f":"'FIN PAT MARK SHEET'!AG94","v":0},"",{"$f":"'PAT Mech'!AG93","v":0},"",{"$f":"'SASAMS TERM4'!AC85","v":0},{"$f":"'SASAMS TERM4'!AD85","v":0},0,0,""]
[null,2,78,78,{"$f":"INSERT!A80","v":0},{"$f":"INSERT!B80","v":0},{"$f":"INSERT!C80","v":0},{"$f":"INSERT!D80","v":0},{"$f":"INSERT!E80","v":0},{"$f":"TERM1!Z93","v":0},{"$f":"'SASAMS TERM1'!I86","v":0},{"$f":"'SASAMS TERM1'!J86","v":0},{"$f":"ROUND(SUM(J96:L96/3),0)","v":0},{"$f":"'SASAMS TERM2'!H86","v":0},{"$f":"'SASAMS TERM2'!I86","v":0},{"$f":"'SASAMS TERM2'!J86","v":0},{"$f":"ROUND(SUM(N96:P96/3),0)","v":0},{"$f":"'SASAMS TERM3'!H86","v":0},{"$f":"'SASAMS TERM3'!I86","v":0},{"$f":"'SASAMS TERM3'!J86","v":0},{"$f":"'SASAMS TERM3'!K86","v":0},{"$f":"'SASAMS TERM3'!L86","v":0},0,{"$f":"'SASAMS TERM4'!H86","v":0},0,0,{"$f":"'SASAMS TERM2'!L86","v":0},0,null,0,"",{"$f":"'FIN PAT MARK SHEET'!AG95","v":0},"",{"$f":"'PAT Mech'!AG94","v":0},"",{"$f":"'SASAMS TERM4'!AC86","v":0},{"$f":"'SASAMS TERM4'!AD86","v":0},0,0,""]
[null,2,79,79,{"$f":"INSERT!A81","v":0},{"$f":"INSERT!B81","v":0},{"$f":"INSERT!C81","v":0},{"$f":"INSERT!D81","v":0},{"$f":"INSERT!E81","v":0},{"$f":"TERM1!Z94","v":0},{"$f":"'SASAMS TERM1'!I87","v":0},{"$f":"'SASAMS TERM1'!J87","v":0},{"$f":"ROUND(SUM(J97:L97/3),0)","v":0},{"$f":"'SASAMS TERM2'!H87","v":0},{"$f":"'SASAMS TERM2'!I87","v":0},{"$f":"'SASAMS TERM2'!J87","v":0},{"$f":"ROUND(SUM(N97:P97/3),0)","v":0},{"$f":"'SASAMS TERM3'!H87","v":0},{"$f":"'SASAMS TERM3'!I87","v":0},{"$f":"'SASAMS TERM3'!J87","v":0},{"$f":"'SASAMS TERM3'!K87","v":0},{"$f":"'SASAMS TERM3'!L87","v":0},0,{"$f":"'SASAMS TERM4'!H87","v":0},0,0,{"$f":"'SASAMS TERM2'!L87","v":0},0,null,0,"",{"$f":"'FIN PAT MARK SHEET'!AG96","v":0},"",{"$f":"'PAT Mech'!AG95","v":0},"",{"$f":"'SASAMS TERM4'!AC87","v":0},{"$f":"'SASAMS TERM4'!AD87","v":0},0,0,""]
[null,2,80,80,{"$f":"INSERT!A82","v":0},{"$f":"INSERT!B82","v":0},{"$f":"INSERT!C82","v":0},{"$f":"INSERT!D82","v":0},{"$f":"INSERT!E82","v":0},{"$f":"TERM1!Z95","v":0},{"$f":"'SASAMS TERM1'!I88","v":0},{"$f":"'SASAMS TERM1'!J88","v":0},{"$f":"ROUND(SUM(J98:L98/3),0)","v":0},{"$f":"'SASAMS TERM2'!H88","v":0},{"$f":"'SASAMS TERM2'!I88","v":0},{"$f":"'SASAMS TERM2'!J88","v":0},{"$f":"ROUND(SUM(N98:P98/3),0)","v":0},{"$f":"'SASAMS TERM3'!H88","v":0},{"$f":"'SASAMS TERM3'!I88","v":0},{"$f":"'SASAMS TERM3'!J88","v":0},{"$f":"'SASAMS TERM3'!K88","v":0},{"$f":"'SASAMS TERM3'!L88","v":0},0,{"$f":"'SASAMS TERM4'!H88","v":0},0,0,{"$f":"'SASAMS TERM2'!L88","v":0},0,null,0,"",{"$f":"'FIN PAT MARK SHEET'!AG97","v":0},"",{"$f":"'PAT Mech'!AG96","v":0},"",{"$f":"'SASAMS TERM4'!AC88","v":0},{"$f":"'SASAMS TERM4'!AD88","v":0},0,0,""]
[null,2,81,81,{"$f":"INSERT!A83","v":0},{"$f":"INSERT!B83","v":0},{"$f":"INSERT!C83","v":0},{"$f":"INSERT!D83","v":0},{"$f":"INSERT!E83","v":0},{"$f":"TERM1!Z96","v":0},{"$f":"'SASAMS TERM1'!I89","v":0},{"$f":"'SASAMS TERM1'!J89","v":0},{"$f":"ROUND(SUM(J99:L99/3),0)","v":0},{"$f":"'SASAMS TERM2'!H89","v":0},{"$f":"'SASAMS TERM2'!I89","v":0},{"$f":"'SASAMS TERM2'!J89","v":0},{"$f":"ROUND(SUM(N99:P99/3),0)","v":0},{"$f":"'SASAMS TERM3'!H89","v":0},{"$f":"'SASAMS TERM3'!I89","v":0},{"$f":"'SASAMS TERM3'!J89","v":0},{"$f":"'SASAMS TERM3'!K89","v":0},{"$f":"'SASAMS TERM3'!L89","v":0},0,{"$f":"'SASAMS TERM4'!H89","v":0},0,0,{"$f":"'SASAMS TERM2'!L89","v":0},0,null,0,"",{"$f":"'FIN PAT MARK SHEET'!AG98","v":0},"",{"$f":"'PAT Mech'!AG97","v":0},"",{"$f":"'SASAMS TERM4'!AC89","v":0},{"$f":"'SASAMS TERM4'!AD89","v":0},0,0,""]
[null,2,82,82,{"$f":"INSERT!A84","v":0},{"$f":"INSERT!B84","v":0},{"$f":"INSERT!C84","v":0},{"$f":"INSERT!D84","v":0},{"$f":"INSERT!E84","v":0},{"$f":"TERM1!Z97","v":0},{"$f":"'SASAMS TERM1'!I90","v":0},{"$f":"'SASAMS TERM1'!J90","v":0},{"$f":"ROUND(SUM(J100:L100/3),0)","v":0},{"$f":"'SASAMS TERM2'!H90","v":0},{"$f":"'SASAMS TERM2'!I90","v":0},{"$f":"'SASAMS TERM2'!J90","v":0},{"$f":"ROUND(SUM(N100:P100/3),0)","v":0},{"$f":"'SASAMS TERM3'!H90","v":0},{"$f":"'SASAMS TERM3'!I90","v":0},{"$f":"'SASAMS TERM3'!J90","v":0},{"$f":"'SASAMS TERM3'!K90","v":0},{"$f":"'SASAMS TERM3'!L90","v":0},0,{"$f":"'SASAMS TERM4'!H90","v":0},0,0,{"$f":"'SASAMS TERM2'!L90","v":0},0,null,0,"",{"$f":"'FIN PAT MARK SHEET'!AG99","v":0},"",{"$f":"'PAT Mech'!AG98","v":0},"",{"$f":"'SASAMS TERM4'!AC90","v":0},{"$f":"'SASAMS TERM4'!AD90","v":0},0,0,""]
[null,2,83,83,{"$f":"INSERT!A85","v":0},{"$f":"INSERT!B85","v":0},{"$f":"INSERT!C85","v":0},{"$f":"INSERT!D85","v":0},{"$f":"INSERT!E85","v":0},{"$f":"TERM1!Z98","v":0},{"$f":"'SASAMS TERM1'!I91","v":0},{"$f":"'SASAMS TERM1'!J91","v":0},{"$f":"ROUND(SUM(J101:L101/3),0)","v":0},{"$f":"'SASAMS TERM2'!H91","v":0},{"$f":"'SASAMS TERM2'!I91","v":0},{"$f":"'SASAMS TERM2'!J91","v":0},{"$f":"ROUND(SUM(N101:P101/3),0)","v":0},{"$f":"'SASAMS TERM3'!H91","v":0},{"$f":"'SASAMS TERM3'!I91","v":0},{"$f":"'SASAMS TERM3'!J91","v":0},{"$f":"'SASAMS TERM3'!K91","v":0},{"$f":"'SASAMS TERM3'!L91","v":0},0,{"$f":"'SASAMS TERM4'!H91","v":0},0,0,{"$f":"'SASAMS TERM2'!L91","v":0},0,null,0,"",{"$f":"'FIN PAT MARK SHEET'!AG100","v":0},"",{"$f":"'PAT Mech'!AG99","v":0},"",{"$f":"'SASAMS TERM4'!AC91","v":0},{"$f":"'SASAMS TERM4'!AD91","v":0},0,0,""]
[null,2,84,84,{"$f":"INSERT!A86","v":0},{"$f":"INSERT!B86","v":0},{"$f":"INSERT!C86","v":0},{"$f":"INSERT!D86","v":0},{"$f":"INSERT!E86","v":0},{"$f":"TERM1!Z99","v":0},{"$f":"'SASAMS TERM1'!I92","v":0},{"$f":"'SASAMS TERM1'!J92","v":0},{"$f":"ROUND(SUM(J102:L102/3),0)","v":0},{"$f":"'SASAMS TERM2'!H92","v":0},{"$f":"'SASAMS TERM2'!I92","v":0},{"$f":"'SASAMS TERM2'!J92","v":0},{"$f":"ROUND(SUM(N102:P102/3),0)","v":0},{"$f":"'SASAMS TERM3'!H92","v":0},{"$f":"'SASAMS TERM3'!I92","v":0},{"$f":"'SASAMS TERM3'!J92","v":0},{"$f":"'SASAMS TERM3'!K92","v":0},{"$f":"'SASAMS TERM3'!L92","v":0},0,{"$f":"'SASAMS TERM4'!H92","v":0},0,0,{"$f":"'SASAMS TERM2'!L92","v":0},0,null,0,"",{"$f":"'FIN PAT MARK SHEET'!AG101","v":0},"",{"$f":"'PAT Mech'!AG100","v":0},"",{"$f":"'SASAMS TERM4'!AC92","v":0},{"$f":"'SASAMS TERM4'!AD92","v":0},0,0,""]
[null,2,85,85,{"$f":"INSERT!A87","v":0},{"$f":"INSERT!B87","v":0},{"$f":"INSERT!C87","v":0},{"$f":"INSERT!D87","v":0},{"$f":"INSERT!E87","v":0},{"$f":"TERM1!Z100","v":0},{"$f":"'SASAMS TERM1'!I93","v":0},{"$f":"'SASAMS TERM1'!J93","v":0},{"$f":"ROUND(SUM(J103:L103/3),0)","v":0},{"$f":"'SASAMS TERM2'!H93","v":0},{"$f":"'SASAMS TERM2'!I93","v":0},{"$f":"'SASAMS TERM2'!J93","v":0},{"$f":"ROUND(SUM(N103:P103/3),0)","v":0},{"$f":"'SASAMS TERM3'!H93","v":0},{"$f":"'SASAMS TERM3'!I93","v":0},{"$f":"'SASAMS TERM3'!J93","v":0},{"$f":"'SASAMS TERM3'!K93","v":0},{"$f":"'SASAMS TERM3'!L93","v":0},0,{"$f":"'SASAMS TERM4'!H93","v":0},0,0,{"$f":"'SASAMS TERM2'!L93","v":0},0,null,0,"",{"$f":"'FIN PAT MARK SHEET'!AG102","v":0},"",{"$f":"'PAT Mech'!AG101","v":0},"",{"$f":"'SASAMS TERM4'!AC93","v":0},{"$f":"'SASAMS TERM4'!AD93","v":0},0,0,""]
[null,2,86,86,{"$f":"INSERT!A88","v":0},{"$f":"INSERT!B88","v":0},{"$f":"INSERT!C88","v":0},{"$f":"INSERT!D88","v":0},{"$f":"INSERT!E88","v":0},{"$f":"TERM1!Z101","v":0},{"$f":"'SASAMS TERM1'!I94","v":0},{"$f":"'SASAMS TERM1'!J94","v":0},{"$f":"ROUND(SUM(J104:L104/3),0)","v":0},{"$f":"'SASAMS TERM2'!H94","v":0},{"$f":"'SASAMS TERM2'!I94","v":0},{"$f":"'SASAMS TERM2'!J94","v":0},{"$f":"ROUND(SUM(N104:P104/3),0)","v":0},{"$f":"'SASAMS TERM3'!H94","v":0},{"$f":"'SASAMS TERM3'!I94","v":0},{"$f":"'SASAMS TERM3'!J94","v":0},{"$f":"'SASAMS TERM3'!K94","v":0},{"$f":"'SASAMS TERM3'!L94","v":0},0,{"$f":"'SASAMS TERM4'!H94","v":0},0,0,{"$f":"'SASAMS TERM2'!L94","v":0},0,null,0,"",{"$f":"'FIN PAT MARK SHEET'!AG103","v":0},"",{"$f":"'PAT Mech'!AG102","v":0},"",{"$f":"'SASAMS TERM4'!AC94","v":0},{"$f":"'SASAMS TERM4'!AD94","v":0},0,0,""]
[null,2,87,87,{"$f":"INSERT!A89","v":0},{"$f":"INSERT!B89","v":0},{"$f":"INSERT!C89","v":0},{"$f":"INSERT!D89","v":0},{"$f":"INSERT!E89","v":0},{"$f":"TERM1!Z102","v":0},{"$f":"'SASAMS TERM1'!I95","v":0},{"$f":"'SASAMS TERM1'!J95","v":0},{"$f":"ROUND(SUM(J105:L105/3),0)","v":0},{"$f":"'SASAMS TERM2'!H95","v":0},{"$f":"'SASAMS TERM2'!I95","v":0},{"$f":"'SASAMS TERM2'!J95","v":0},{"$f":"ROUND(SUM(N105:P105/3),0)","v":0},{"$f":"'SASAMS TERM3'!H95","v":0},{"$f":"'SASAMS TERM3'!I95","v":0},{"$f":"'SASAMS TERM3'!J95","v":0},{"$f":"'SASAMS TERM3'!K95","v":0},{"$f":"'SASAMS TERM3'!L95","v":0},0,{"$f":"'SASAMS TERM4'!H95","v":0},0,0,{"$f":"'SASAMS TERM2'!L95","v":0},0,null,0,"",{"$f":"'FIN PAT MARK SHEET'!AG104","v":0},"",{"$f":"'PAT Mech'!AG103","v":0},"",{"$f":"'SASAMS TERM4'!AC95","v":0},{"$f":"'SASAMS TERM4'!AD95","v":0},0,0,""]
[null,2,88,88,{"$f":"INSERT!A90","v":0},{"$f":"INSERT!B90","v":0},{"$f":"INSERT!C90","v":0},{"$f":"INSERT!D90","v":0},{"$f":"INSERT!E90","v":0},{"$f":"TERM1!Z103","v":0},{"$f":"'SASAMS TERM1'!I96","v":0},{"$f":"'SASAMS TERM1'!J96","v":0},{"$f":"ROUND(SUM(J106:L106/3),0)","v":0},{"$f":"'SASAMS TERM2'!H96","v":0},{"$f":"'SASAMS TERM2'!I96","v":0},{"$f":"'SASAMS TERM2'!J96","v":0},{"$f":"ROUND(SUM(N106:P106/3),0)","v":0},{"$f":"'SASAMS TERM3'!H96","v":0},{"$f":"'SASAMS TERM3'!I96","v":0},{"$f":"'SASAMS TERM3'!J96","v":0},{"$f":"'SASAMS TERM3'!K96","v":0},{"$f":"'SASAMS TERM3'!L96","v":0},0,{"$f":"'SASAMS TERM4'!H96","v":0},0,0,{"$f":"'SASAMS TERM2'!L96","v":0},0,null,0,"",{"$f":"'FIN PAT MARK SHEET'!AG105","v":0},"",{"$f":"'PAT Mech'!AG104","v":0},"",{"$f":"'SASAMS TERM4'!AC96","v":0},{"$f":"'SASAMS TERM4'!AD96","v":0},0,0,""]
[null,2,89,89,{"$f":"INSERT!A91","v":0},{"$f":"INSERT!B91","v":0},{"$f":"INSERT!C91","v":0},{"$f":"INSERT!D91","v":0},{"$f":"INSERT!E91","v":0},{"$f":"TERM1!Z104","v":0},{"$f":"'SASAMS TERM1'!I97","v":0},{"$f":"'SASAMS TERM1'!J97","v":0},{"$f":"ROUND(SUM(J107:L107/3),0)","v":0},{"$f":"'SASAMS TERM2'!H97","v":0},{"$f":"'SASAMS TERM2'!I97","v":0},{"$f":"'SASAMS TERM2'!J97","v":0},{"$f":"ROUND(SUM(N107:P107/3),0)","v":0},{"$f":"'SASAMS TERM3'!H97","v":0},{"$f":"'SASAMS TERM3'!I97","v":0},{"$f":"'SASAMS TERM3'!J97","v":0},{"$f":"'SASAMS TERM3'!K97","v":0},{"$f":"'SASAMS TERM3'!L97","v":0},0,{"$f":"'SASAMS TERM4'!H97","v":0},0,0,{"$f":"'SASAMS TERM2'!L97","v":0},0,null,0,"",{"$f":"'FIN PAT MARK SHEET'!AG106","v":0},"",{"$f":"'PAT Mech'!AG105","v":0},"",{"$f":"'SASAMS TERM4'!AC97","v":0},{"$f":"'SASAMS TERM4'!AD97","v":0},0,0,""]
[null,2,90,90,{"$f":"INSERT!A92","v":0},{"$f":"INSERT!B92","v":0},{"$f":"INSERT!C92","v":0},{"$f":"INSERT!D92","v":0},{"$f":"INSERT!E92","v":0},{"$f":"TERM1!Z105","v":0},{"$f":"'SASAMS TERM1'!I98","v":0},{"$f":"'SASAMS TERM1'!J98","v":0},{"$f":"ROUND(SUM(J108:L108/3),0)","v":0},{"$f":"'SASAMS TERM2'!H98","v":0},{"$f":"'SASAMS TERM2'!I98","v":0},{"$f":"'SASAMS TERM2'!J98","v":0},{"$f":"ROUND(SUM(N108:P108/3),0)","v":0},{"$f":"'SASAMS TERM3'!H98","v":0},{"$f":"'SASAMS TERM3'!I98","v":0},{"$f":"'SASAMS TERM3'!J98","v":0},{"$f":"'SASAMS TERM3'!K98","v":0},{"$f":"'SASAMS TERM3'!L98","v":0},0,{"$f":"'SASAMS TERM4'!H98","v":0},0,0,{"$f":"'SASAMS TERM2'!L98","v":0},0,null,0,"",{"$f":"'FIN PAT MARK SHEET'!AG107","v":0},"",{"$f":"'PAT Mech'!AG106","v":0},"",{"$f":"'SASAMS TERM4'!AC98","v":0},{"$f":"'SASAMS TERM4'!AD98","v":0},0,0,""]
[null,2,91,91,{"$f":"INSERT!A93","v":0},{"$f":"INSERT!B93","v":0},{"$f":"INSERT!C93","v":0},{"$f":"INSERT!D93","v":0},{"$f":"INSERT!E93","v":0},{"$f":"TERM1!Z106","v":0},{"$f":"'SASAMS TERM1'!I99","v":0},{"$f":"'SASAMS TERM1'!J99","v":0},{"$f":"ROUND(SUM(J109:L109/3),0)","v":0},{"$f":"'SASAMS TERM2'!H99","v":0},{"$f":"'SASAMS TERM2'!I99","v":0},{"$f":"'SASAMS TERM2'!J99","v":0},{"$f":"ROUND(SUM(N109:P109/3),0)","v":0},{"$f":"'SASAMS TERM3'!H99","v":0},{"$f":"'SASAMS TERM3'!I99","v":0},{"$f":"'SASAMS TERM3'!J99","v":0},{"$f":"'SASAMS TERM3'!K99","v":0},{"$f":"'SASAMS TERM3'!L99","v":0},0,{"$f":"'SASAMS TERM4'!H99","v":0},0,0,{"$f":"'SASAMS TERM2'!L99","v":0},0,null,0,"",{"$f":"'FIN PAT MARK SHEET'!AG108","v":0},"",{"$f":"'PAT Mech'!AG107","v":0},"",{"$f":"'SASAMS TERM4'!AC99","v":0},{"$f":"'SASAMS TERM4'!AD99","v":0},0,0,""]
[null,2,92,92,{"$f":"INSERT!A94","v":0},{"$f":"INSERT!B94","v":0},{"$f":"INSERT!C94","v":0},{"$f":"INSERT!D94","v":0},{"$f":"INSERT!E94","v":0},{"$f":"TERM1!Z107","v":0},{"$f":"'SASAMS TERM1'!I100","v":0},{"$f":"'SASAMS TERM1'!J100","v":0},{"$f":"ROUND(SUM(J110:L110/3),0)","v":0},{"$f":"'SASAMS TERM2'!H100","v":0},{"$f":"'SASAMS TERM2'!I100","v":0},{"$f":"'SASAMS TERM2'!J100","v":0},{"$f":"ROUND(SUM(N110:P110/3),0)","v":0},{"$f":"'SASAMS TERM3'!H100","v":0},{"$f":"'SASAMS TERM3'!I100","v":0},{"$f":"'SASAMS TERM3'!J100","v":0},{"$f":"'SASAMS TERM3'!K100","v":0},{"$f":"'SASAMS TERM3'!L100","v":0},0,{"$f":"'SASAMS TERM4'!H100","v":0},0,0,{"$f":"'SASAMS TERM2'!L100","v":0},0,null,0,"",{"$f":"'FIN PAT MARK SHEET'!AG109","v":0},"",{"$f":"'PAT Mech'!AG108","v":0},"",{"$f":"'SASAMS TERM4'!AC100","v":0},{"$f":"'SASAMS TERM4'!AD100","v":0},0,0,""]
[null,2,93,93,{"$f":"INSERT!A95","v":0},{"$f":"INSERT!B95","v":0},{"$f":"INSERT!C95","v":0},{"$f":"INSERT!D95","v":0},{"$f":"INSERT!E95","v":0},{"$f":"TERM1!Z108","v":0},{"$f":"'SASAMS TERM1'!I101","v":0},{"$f":"'SASAMS TERM1'!J101","v":0},{"$f":"ROUND(SUM(J111:L111/3),0)","v":0},{"$f":"'SASAMS TERM2'!H101","v":0},{"$f":"'SASAMS TERM2'!I101","v":0},{"$f":"'SASAMS TERM2'!J101","v":0},{"$f":"ROUND(SUM(N111:P111/3),0)","v":0},{"$f":"'SASAMS TERM3'!H101","v":0},{"$f":"'SASAMS TERM3'!I101","v":0},{"$f":"'SASAMS TERM3'!J101","v":0},{"$f":"'SASAMS TERM3'!K101","v":0},{"$f":"'SASAMS TERM3'!L101","v":0},0,{"$f":"'SASAMS TERM4'!H101","v":0},0,0,{"$f":"'SASAMS TERM2'!L101","v":0},0,null,0,"",{"$f":"'FIN PAT MARK SHEET'!AG110","v":0},"",{"$f":"'PAT Mech'!AG109","v":0},"",{"$f":"'SASAMS TERM4'!AC101","v":0},{"$f":"'SASAMS TERM4'!AD101","v":0},0,0,""]
[null,2,94,94,{"$f":"INSERT!A96","v":0},{"$f":"INSERT!B96","v":0},{"$f":"INSERT!C96","v":0},{"$f":"INSERT!D96","v":0},{"$f":"INSERT!E96","v":0},{"$f":"TERM1!Z109","v":0},{"$f":"'SASAMS TERM1'!I102","v":0},{"$f":"'SASAMS TERM1'!J102","v":0},{"$f":"ROUND(SUM(J112:L112/3),0)","v":0},{"$f":"'SASAMS TERM2'!H102","v":0},{"$f":"'SASAMS TERM2'!I102","v":0},{"$f":"'SASAMS TERM2'!J102","v":0},{"$f":"ROUND(SUM(N112:P112/3),0)","v":0},{"$f":"'SASAMS TERM3'!H102","v":0},{"$f":"'SASAMS TERM3'!I102","v":0},{"$f":"'SASAMS TERM3'!J102","v":0},{"$f":"'SASAMS TERM3'!K102","v":0},{"$f":"'SASAMS TERM3'!L102","v":0},0,{"$f":"'SASAMS TERM4'!H102","v":0},0,0,{"$f":"'SASAMS TERM2'!L102","v":0},0,null,0,"",{"$f":"'FIN PAT MARK SHEET'!AG111","v":0},"",{"$f":"'PAT Mech'!AG110","v":0},"",{"$f":"'SASAMS TERM4'!AC102","v":0},{"$f":"'SASAMS TERM4'!AD102","v":0},0,0,""]
[null,2,95,95,{"$f":"INSERT!A97","v":0},{"$f":"INSERT!B97","v":0},{"$f":"INSERT!C97","v":0},{"$f":"INSERT!D97","v":0},{"$f":"INSERT!E97","v":0},{"$f":"TERM1!Z110","v":0},{"$f":"'SASAMS TERM1'!I103","v":0},{"$f":"'SASAMS TERM1'!J103","v":0},{"$f":"ROUND(SUM(J113:L113/3),0)","v":0},{"$f":"'SASAMS TERM2'!H103","v":0},{"$f":"'SASAMS TERM2'!I103","v":0},{"$f":"'SASAMS TERM2'!J103","v":0},{"$f":"ROUND(SUM(N113:P113/3),0)","v":0},{"$f":"'SASAMS TERM3'!H103","v":0},{"$f":"'SASAMS TERM3'!I103","v":0},{"$f":"'SASAMS TERM3'!J103","v":0},{"$f":"'SASAMS TERM3'!K103","v":0},{"$f":"'SASAMS TERM3'!L103","v":0},0,{"$f":"'SASAMS TERM4'!H103","v":0},0,0,{"$f":"'SASAMS TERM2'!L103","v":0},0,null,0,"",{"$f":"'FIN PAT MARK SHEET'!AG112","v":0},"",{"$f":"'PAT Mech'!AG111","v":0},"",{"$f":"'SASAMS TERM4'!AC103","v":0},{"$f":"'SASAMS TERM4'!AD103","v":0},0,0,""]
[null,2,96,96,{"$f":"INSERT!A98","v":0},{"$f":"INSERT!B98","v":0},{"$f":"INSERT!C98","v":0},{"$f":"INSERT!D98","v":0},{"$f":"INSERT!E98","v":0},{"$f":"TERM1!Z111","v":0},{"$f":"'SASAMS TERM1'!I104","v":0},{"$f":"'SASAMS TERM1'!J104","v":0},{"$f":"ROUND(SUM(J114:L114/3),0)","v":0},{"$f":"'SASAMS TERM2'!H104","v":0},{"$f":"'SASAMS TERM2'!I104","v":0},{"$f":"'SASAMS TERM2'!J104","v":0},{"$f":"ROUND(SUM(N114:P114/3),0)","v":0},{"$f":"'SASAMS TERM3'!H104","v":0},{"$f":"'SASAMS TERM3'!I104","v":0},{"$f":"'SASAMS TERM3'!J104","v":0},{"$f":"'SASAMS TERM3'!K104","v":0},{"$f":"'SASAMS TERM3'!L104","v":0},0,{"$f":"'SASAMS TERM4'!H104","v":0},0,0,{"$f":"'SASAMS TERM2'!L104","v":0},0,null,0,"",{"$f":"'FIN PAT MARK SHEET'!AG113","v":0},"",{"$f":"'PAT Mech'!AG112","v":0},"",{"$f":"'SASAMS TERM4'!AC104","v":0},{"$f":"'SASAMS TERM4'!AD104","v":0},0,0,""]
[null,2,97,97,{"$f":"INSERT!A99","v":0},{"$f":"INSERT!B99","v":0},{"$f":"INSERT!C99","v":0},{"$f":"INSERT!D99","v":0},{"$f":"INSERT!E99","v":0},{"$f":"TERM1!Z112","v":0},{"$f":"'SASAMS TERM1'!I105","v":0},{"$f":"'SASAMS TERM1'!J105","v":0},{"$f":"ROUND(SUM(J115:L115/3),0)","v":0},{"$f":"'SASAMS TERM2'!H105","v":0},{"$f":"'SASAMS TERM2'!I105","v":0},{"$f":"'SASAMS TERM2'!J105","v":0},{"$f":"ROUND(SUM(N115:P115/3),0)","v":0},{"$f":"'SASAMS TERM3'!H105","v":0},{"$f":"'SASAMS TERM3'!I105","v":0},{"$f":"'SASAMS TERM3'!J105","v":0},{"$f":"'SASAMS TERM3'!K105","v":0},{"$f":"'SASAMS TERM3'!L105","v":0},0,{"$f":"'SASAMS TERM4'!H105","v":0},0,0,{"$f":"'SASAMS TERM2'!L105","v":0},0,null,0,"",{"$f":"'FIN PAT MARK SHEET'!AG114","v":0},"",{"$f":"'PAT Mech'!AG113","v":0},"",{"$f":"'SASAMS TERM4'!AC105","v":0},{"$f":"'SASAMS TERM4'!AD105","v":0},0,0,""]
[null,2,98,98,{"$f":"INSERT!A100","v":0},{"$f":"INSERT!B100","v":0},{"$f":"INSERT!C100","v":0},{"$f":"INSERT!D100","v":0},{"$f":"INSERT!E100","v":0},{"$f":"TERM1!Z113","v":0},{"$f":"'SASAMS TERM1'!I106","v":0},{"$f":"'SASAMS TERM1'!J106","v":0},{"$f":"ROUND(SUM(J116:L116/3),0)","v":0},{"$f":"'SASAMS TERM2'!H106","v":0},{"$f":"'SASAMS TERM2'!I106","v":0},{"$f":"'SASAMS TERM2'!J106","v":0},{"$f":"ROUND(SUM(N116:P116/3),0)","v":0},{"$f":"'SASAMS TERM3'!H106","v":0},{"$f":"'SASAMS TERM3'!I106","v":0},{"$f":"'SASAMS TERM3'!J106","v":0},{"$f":"'SASAMS TERM3'!K106","v":0},{"$f":"'SASAMS TERM3'!L106","v":0},0,{"$f":"'SASAMS TERM4'!H106","v":0},0,0,{"$f":"'SASAMS TERM2'!L106","v":0},0,null,0,"",{"$f":"'FIN PAT MARK SHEET'!AG115","v":0},"",{"$f":"'PAT Mech'!AG114","v":0},"",{"$f":"'SASAMS TERM4'!AC106","v":0},{"$f":"'SASAMS TERM4'!AD106","v":0},0,0,""]
[null,2,99,99,{"$f":"INSERT!A101","v":0},{"$f":"INSERT!B101","v":0},{"$f":"INSERT!C101","v":0},{"$f":"INSERT!D101","v":0},{"$f":"INSERT!E101","v":0},{"$f":"TERM1!Z114","v":0},{"$f":"'SASAMS TERM1'!I107","v":0},{"$f":"'SASAMS TERM1'!J107","v":0},{"$f":"ROUND(SUM(J117:L117/3),0)","v":0},{"$f":"'SASAMS TERM2'!H107","v":0},{"$f":"'SASAMS TERM2'!I107","v":0},{"$f":"'SASAMS TERM2'!J107","v":0},{"$f":"ROUND(SUM(N117:P117/3),0)","v":0},{"$f":"'SASAMS TERM3'!H107","v":0},{"$f":"'SASAMS TERM3'!I107","v":0},{"$f":"'SASAMS TERM3'!J107","v":0},{"$f":"'SASAMS TERM3'!K107","v":0},{"$f":"'SASAMS TERM3'!L107","v":0},0,{"$f":"'SASAMS TERM4'!H107","v":0},0,0,{"$f":"'SASAMS TERM2'!L107","v":0},0,null,0,"",{"$f":"'FIN PAT MARK SHEET'!AG116","v":0},"",{"$f":"'PAT Mech'!AG115","v":0},"",{"$f":"'SASAMS TERM4'!AC107","v":0},{"$f":"'SASAMS TERM4'!AD107","v":0},0,0,""]
[null,2,100,100,{"$f":"INSERT!A102","v":0},{"$f":"INSERT!B102","v":0},{"$f":"INSERT!C102","v":0},{"$f":"INSERT!D102","v":0},{"$f":"INSERT!E102","v":0},{"$f":"TERM1!Z115","v":0},{"$f":"'SASAMS TERM1'!I108","v":0},{"$f":"'SASAMS TERM1'!J108","v":0},{"$f":"ROUND(SUM(J118:L118/3),0)","v":0},{"$f":"'SASAMS TERM2'!H108","v":0},{"$f":"'SASAMS TERM2'!I108","v":0},{"$f":"'SASAMS TERM2'!J108","v":0},{"$f":"ROUND(SUM(N118:P118/3),0)","v":0},{"$f":"'SASAMS TERM3'!H108","v":0},{"$f":"'SASAMS TERM3'!I108","v":0},{"$f":"'SASAMS TERM3'!J108","v":0},{"$f":"'SASAMS TERM3'!K108","v":0},{"$f":"'SASAMS TERM3'!L108","v":0},{"$f":"ROUND((SUM(R118:V118)/2.94117647),0)","v":0},{"$f":"'SASAMS TERM4'!H108","v":0},{"$f":"ROUND(SUM(X118/3.333333333),0)","v":0},{"$f":"SUM(M118+Q118+W118+Y118)","v":0},{"$f":"'SASAMS TERM2'!L108","v":0},0,null,0,"",{"$f":"'FIN PAT MARK SHEET'!AG117","v":0},"",{"$f":"'PAT Mech'!AG116","v":0},"",{"$f":"'SASAMS TERM4'!AC108","v":0},{"$f":"'SASAMS TERM4'!AD108","v":0},0,0,""]
[null,null,"Total amount of learners on mark sheet",null,null,null,"x",null,"Total:",{"$f":"SUM(J19:J118)","v":0},0,0,null,0,0,0,null,{"$f":"SUM(R19:R118)","v":0},0,0,{"$f":"SUM(U19:U118)","v":0},{"$f":"SUM(V19:V118)","v":0},null,{"$f":"SUM(X19:X118)","v":0},null,null,{"$f":"SUM(AA19:AA118)","v":0},{"$f":"SUM(AB19:AB118)","v":0},null,{"$f":"SUM(AD19:AD118)","v":0},null,{"$f":"SUM(AF19:AF118)","v":0},null,{"$f":"SUM(AH19:AH118)","v":0},null,{"$f":"SUM(AJ19:AJ118)","v":0},0,{"$f":"SUM(AL19:AL118)","v":0},{"$f":"SUM(AM19:AM118)","v":0}]
[null,null,null,null,null,null,"x",null,"Average:",{"$f":"IFERROR(ROUND(SUM(J119/$C$123),1),\"0\")","v":"0"},{"$f":"IFERROR(ROUND(SUM(K119/$C$123),1),\"0\")","v":"0"},"0",null,"0","0","0",null,"0","0","0","0",{"$f":"IFERROR(ROUND(SUM(V119/$C$123),1),\"0\")","v":"0"},null,"0",null,null,{"$f":"IFERROR(ROUND(SUM(AA119/$C$123),1),\"0\")","v":"0"},"0",null,{"$f":"IFERROR(ROUND(SUM(AD119/$C$123),1),\"0\")","v":"0"},"0","0","0","0","0","0","0",{"$f":"IFERROR(ROUND(SUM(AL119/$C$123),1),\"0\")","v":"0"},"0","0"]
[null,null,null,null,null,null,"x",null,null,"SBA LEVELS"]
[null,null,null,null,null,null,"Term results analysis",null,null,"LEVEL 1",null,"LEVEL 2",null,null,"LEVEL 3",null,null,"LEVEL 4",null,"LEVEL 5",null,"LEVEL 6",null,null,null,"LEVEL 7"]
[null,null,{"$f":"TERM1!$B$120","v":0},null,null,null,"x",null,null," 0 - 29 ",null," 30 - 39 ",null,null," 40 - 49 ",null,null," 50 - 59 ",null," 60 - 69 ",null," 70 - 79 ",null,null,null,"80 - 100"]
[null,null,null,null,null,null,"x",null,null,{"$f":"COUNTIF(AE19:AE118,1)","v":0},null,{"$f":"COUNTIF($AE$19:$AE$118,2)","v":0},null,null,{"$f":"COUNTIF($AE$19:$AE$118,3)","v":0},null,null,{"$f":"COUNTIF($AE$19:$AE$118,4)","v":0},null,{"$f":"COUNTIF($AE$19:$AE$118,5)","v":0},null,{"$f":"COUNTIF($AE$19:$AE$118,6)","v":0},null,null,null,{"$f":"COUNTIF($AE$19:$AE$118,7)","v":0}]
[null,null,null,null,null,null,"x",null,null,null,null,null,null,null,null,null,null,null,null,null,null,null,null,null,null,null,null,null,null,"2013M"]
[null,null,null,null,null,null,"x",null,null,"PROMOTION LEVELS"]
[null,null,null,null,null,null,"x",null,null,"LEVEL 1",null,"LEVEL 2",null,null,"LEVEL 3",null,null,"LEVEL 4",null,"LEVEL 5",null,"LEVEL 6",null,null,null,"LEVEL 7"]
[null,null,null,null,null,null,"x",null,null," 0 - 29 ",null," 30 - 39 ",null,null," 40 - 49 ",null,null," 50 - 59 ",null," 60 - 69 ",null," 70 - 79 ",null,null,null,"80 - 100"]
[null,null,null,null,null,null,null,null,null,{"$f":"COUNTIF(AN19:AN118,1)","v":0},null,{"$f":"COUNTIF($AN$19:$AN$118,2)","v":0},null,null,{"$f":"COUNTIF($AN$19:$AN$118,3)","v":0},null,null,{"$f":"COUNTIF($AN$19:$AN$118,4)","v":0},null,{"$f":"COUNTIF($AN$19:$AN$118,5)","v":0},null,{"$f":"COUNTIF($AN$19:$AN$118,6)","v":0},null,null,null,{"$f":"COUNTIF($AN$19:$AN$118,7)","v":0}]
[]
[null,null,null,null,null,null,null,null,null,"PAT LEVELS"]
[null,null,null,null,null,null,null,null,null,"LEVEL 1",null,"LEVEL 2",null,null,"LEVEL 3",null,null,"LEVEL 4",null,"LEVEL 5",null,"LEVEL 6",null,null,null,"LEVEL 7"]
[null,null,null,null,null,null,null,null,null," 0 - 29 ",null," 30 - 39 ",null,null," 40 - 49 ",null,null," 50 - 59 ",null," 60 - 69 ",null," 70 - 79 ",null,null,null,"80 - 100"]
[null,null,null,null,null,null,null,null,null,{"$f":"COUNTIF(AG19:AG118,1)+COUNTIF(AI19:AI118,1)","v":0},null,{"$f":"COUNTIF($AG$19:$AG$118,2)+COUNTIF($AI$19:$AI$118,2)","v":0},null,null,{"$f":"COUNTIF(AE19:AE118,1)+COUNTIF(AG19:AG118,1)","v":0},null,null,{"$f":"COUNTIF($AG$19:$AG$118,4)+COUNTIF($AI$19:$AI$118,4)","v":0},null,{"$f":"COUNTIF($AG$19:$AG$118,5)+COUNTIF($AI$19:$AI$118,5)","v":0},null,{"$f":"COUNTIF($AG$19:$AG$118,6)+COUNTIF($AI$19:$AI$118,6)","v":0},null,null,null,{"$f":"COUNTIF($AG$19:$AG$118,7)+COUNTIF($AI$19:$AI$118,7)","v":0}]

{"sheet":"Term1 Sign","index":18,"n_rows":105,"n_cols":14,"rows_kept":105,"cut":false,"hidden":false,"merged":[[1,6,1,7],[1,8,1,9],[1,10,1,11],[1,12,1,13]]}
[null,null,null,null,null,"GRADE :",{"$f":"TERM1!$F$6","v":0},"EGD"]
[null,null,null,null,null,null,{"$f":"TERM1!$I$4","v":"CD1  Free-hand drawing"},null,{"$f":"TERM1!$AA$4","v":"CD2  1st Geometrical Drawing"},null,{"$f":"TERM1!$AS$4","v":"CD3  2nd Geometrical Drawing"}]
[null,null,null,null,null,null,"DUE DATE: ",null,"DUE DATE: ",null,"DUE DATE: ",null,"DUE DATE: "]
[null,"Class","Admission","SURNAME","NAME","Gender","Out","Back","Out","Back","Out","Back","Out","Back"]
[]
[1,{"$f":"INSERT!A3","v":0},{"$f":"INSERT!B3","v":0},{"$f":"INSERT!C3","v":0},{"$f":"INSERT!D3","v":0},{"$f":"INSERT!E3","v":0}]
[2,{"$f":"INSERT!A4","v":0},{"$f":"INSERT!B4","v":0},{"$f":"INSERT!C4","v":0},{"$f":"INSERT!D4","v":0},{"$f":"INSERT!E4","v":0}]
[3,{"$f":"INSERT!A5","v":0},{"$f":"INSERT!B5","v":0},{"$f":"INSERT!C5","v":0},{"$f":"INSERT!D5","v":0},{"$f":"INSERT!E5","v":0}]
[4,{"$f":"INSERT!A6","v":0},{"$f":"INSERT!B6","v":0},{"$f":"INSERT!C6","v":0},{"$f":"INSERT!D6","v":0},{"$f":"INSERT!E6","v":0}]
[5,{"$f":"INSERT!A7","v":0},{"$f":"INSERT!B7","v":0},{"$f":"INSERT!C7","v":0},{"$f":"INSERT!D7","v":0},{"$f":"INSERT!E7","v":0}]
[6,{"$f":"INSERT!A8","v":0},{"$f":"INSERT!B8","v":0},{"$f":"INSERT!C8","v":0},{"$f":"INSERT!D8","v":0},{"$f":"INSERT!E8","v":0}]
[7,{"$f":"INSERT!A9","v":0},{"$f":"INSERT!B9","v":0},{"$f":"INSERT!C9","v":0},{"$f":"INSERT!D9","v":0},{"$f":"INSERT!E9","v":0}]
[8,{"$f":"INSERT!A10","v":0},{"$f":"INSERT!B10","v":0},{"$f":"INSERT!C10","v":0},{"$f":"INSERT!D10","v":0},{"$f":"INSERT!E10","v":0}]
[9,{"$f":"INSERT!A11","v":0},{"$f":"INSERT!B11","v":0},{"$f":"INSERT!C11","v":0},{"$f":"INSERT!D11","v":0},{"$f":"INSERT!E11","v":0}]
[10,{"$f":"INSERT!A12","v":0},{"$f":"INSERT!B12","v":0},{"$f":"INSERT!C12","v":0},{"$f":"INSERT!D12","v":0},{"$f":"INSERT!E12","v":0}]
[11,{"$f":"INSERT!A13","v":0},{"$f":"INSERT!B13","v":0},{"$f":"INSERT!C13","v":0},{"$f":"INSERT!D13","v":0},{"$f":"INSERT!E13","v":0}]
[12,{"$f":"INSERT!A14","v":0},{"$f":"INSERT!B14","v":0},{"$f":"INSERT!C14","v":0},{"$f":"INSERT!D14","v":0},{"$f":"INSERT!E14","v":0}]
[13,{"$f":"INSERT!A15","v":0},{"$f":"INSERT!B15","v":0},{"$f":"INSERT!C15","v":0},{"$f":"INSERT!D15","v":0},{"$f":"INSERT!E15","v":0}]
[14,{"$f":"INSERT!A16","v":0},{"$f":"INSERT!B16","v":0},{"$f":"INSERT!C16","v":0},{"$f":"INSERT!D16","v":0},{"$f":"INSERT!E16","v":0}]
[15,{"$f":"INSERT!A17","v":0},{"$f":"INSERT!B17","v":0},{"$f":"INSERT!C17","v":0},{"$f":"INSERT!D17","v":0},{"$f":"INSERT!E17","v":0}]
[16,{"$f":"INSERT!A18","v":0},{"$f":"INSERT!B18","v":0},{"$f":"INSERT!C18","v":0},{"$f":"INSERT!D18","v":0},{"$f":"INSERT!E18","v":0}]
[17,{"$f":"INSERT!A19","v":0},{"$f":"INSERT!B19","v":0},{"$f":"INSERT!C19","v":0},{"$f":"INSERT!D19","v":0},{"$f":"INSERT!E19","v":0}]
[18,{"$f":"INSERT!A20","v":0},{"$f":"INSERT!B20","v":0},{"$f":"INSERT!C20","v":0},{"$f":"INSERT!D20","v":0},{"$f":"INSERT!E20","v":0}]
[19,{"$f":"INSERT!A21","v":0},{"$f":"INSERT!B21","v":0},{"$f":"INSERT!C21","v":0},{"$f":"INSERT!D21","v":0},{"$f":"INSERT!E21","v":0}]
[20,{"$f":"INSERT!A22","v":0},{"$f":"INSERT!B22","v":0},{"$f":"INSERT!C22","v":0},{"$f":"INSERT!D22","v":0},{"$f":"INSERT!E22","v":0}]
[21,{"$f":"INSERT!A23","v":0},{"$f":"INSERT!B23","v":0},{"$f":"INSERT!C23","v":0},{"$f":"INSERT!D23","v":0},{"$f":"INSERT!E23","v":0}]
[22,{"$f":"INSERT!A24","v":0},{"$f":"INSERT!B24","v":0},{"$f":"INSERT!C24","v":0},{"$f":"INSERT!D24","v":0},{"$f":"INSERT!E24","v":0}]
[23,{"$f":"INSERT!A25","v":0},{"$f":"INSERT!B25","v":0},{"$f":"INSERT!C25","v":0},{"$f":"INSERT!D25","v":0},{"$f":"INSERT!E25","v":0}]
[24,{"$f":"INSERT!A26","v":0},{"$f":"INSERT!B26","v":0},{"$f":"INSERT!C26","v":0},{"$f":"INSERT!D26","v":0},{"$f":"INSERT!E26","v":0}]
[25,{"$f":"INSERT!A27","v":0},{"$f":"INSERT!B27","v":0},{"$f":"INSERT!C27","v":0},{"$f":"INSERT!D27","v":0},{"$f":"INSERT!E27","v":0}]
[26,{"$f":"INSERT!A28","v":0},{"$f":"INSERT!B28","v":0},{"$f":"INSERT!C28","v":0},{"$f":"INSERT!D28","v":0},{"$f":"INSERT!E28","v":0}]
[27,{"$f":"INSERT!A29","v":0},{"$f":"INSERT!B29","v":0},{"$f":"INSERT!C29","v":0},{"$f":"INSERT!D29","v":0},{"$f":"INSERT!E29","v":0}]
[28,{"$f":"INSERT!A30","v":0},{"$f":"INSERT!B30","v":0},{"$f":"INSERT!C30","v":0},{"$f":"INSERT!D30","v":0},{"$f":"INSERT!E30","v":0}]
[29,{"$f":"INSERT!A31","v":0},{"$f":"INSERT!B31","v":0},{"$f":"INSERT!C31","v":0},{"$f":"INSERT!D31","v":0},{"$f":"INSERT!E31","v":0}]
[30,{"$f":"INSERT!A32","v":0},{"$f":"INSERT!B32","v":0},{"$f":"INSERT!C32","v":0},{"$f":"INSERT!D32","v":0},{"$f":"INSERT!E32","v":0}]
[31,{"$f":"INSERT!A33","v":0},{"$f":"INSERT!B33","v":0},{"$f":"INSERT!C33","v":0},{"$f":"INSERT!D33","v":0},{"$f":"INSERT!E33","v":0}]
[32,{"$f":"INSERT!A34","v":0},{"$f":"INSERT!B34","v":0},{"$f":"INSERT!C34","v":0},{"$f":"INSERT!D34","v":0},{"$f":"INSERT!E34","v":0}]
[33,{"$f":"INSERT!A35","v":0},{"$f":"INSERT!B35","v":0},{"$f":"INSERT!C35","v":0},{"$f":"INSERT!D35","v":0},{"$f":"INSERT!E35","v":0}]
[34,{"$f":"INSERT!A36","v":0},{"$f":"INSERT!B36","v":0},{"$f":"INSERT!C36","v":0},{"$f":"INSERT!D36","v":0},{"$f":"INSERT!E36","v":0}]
[35,{"$f":"INSERT!A37","v":0},{"$f":"INSERT!B37","v":0},{"$f":"INSERT!C37","v":0},{"$f":"INSERT!D37","v":0},{"$f":"INSERT!E37","v":0}]
[36,{"$f":"INSERT!A38","v":0},{"$f":"INSERT!B38","v":0},{"$f":"INSERT!C38","v":0},{"$f":"INSERT!D38","v":0},{"$f":"INSERT!E38","v":0}]
[37,{"$f":"INSERT!A39","v":0},{"$f":"INSERT!B39","v":0},{"$f":"INSERT!C39","v":0},{"$f":"INSERT!D39","v":0},{"$f":"INSERT!E39","v":0}]
[38,{"$f":"INSERT!A40","v":0},{"$f":"INSERT!B40","v":0},{"$f":"INSERT!C40","v":0},{"$f":"INSERT!D40","v":0},{"$f":"INSERT!E40","v":0}]
[39,{"$f":"INSERT!A41","v":0},{"$f":"INSERT!B41","v":0},{"$f":"INSERT!C41","v":0},{"$f":"INSERT!D41","v":0},{"$f":"INSERT!E41","v":0}]
[40,{"$f":"INSERT!A42","v":0},{"$f":"INSERT!B42","v":0},{"$f":"INSERT!C42","v":0},{"$f":"INSERT!D42","v":0},{"$f":"INSERT!E42","v":0}]
[41,{"$f":"INSERT!A43","v":0},{"$f":"INSERT!B43","v":0},{"$f":"INSERT!C43","v":0},{"$f":"INSERT!D43","v":0},{"$f":"INSERT!E43","v":0}]
[42,{"$f":"INSERT!A44","v":0},{"$f":"INSERT!B44","v":0},{"$f":"INSERT!C44","v":0},{"$f":"INSERT!D44","v":0},{"$f":"INSERT!E44","v":0}]
[43,{"$f":"INSERT!A45","v":0},{"$f":"INSERT!B45","v":0},{"$f":"INSERT!C45","v":0},{"$f":"INSERT!D45","v":0},{"$f":"INSERT!E45","v":0}]
[44,{"$f":"INSERT!A46","v":0},{"$f":"INSERT!B46","v":0},{"$f":"INSERT!C46","v":0},{"$f":"INSERT!D46","v":0},{"$f":"INSERT!E46","v":0}]
[45,{"$f":"INSERT!A47","v":0},{"$f":"INSERT!B47","v":0},{"$f":"INSERT!C47","v":0},{"$f":"INSERT!D47","v":0},{"$f":"INSERT!E47","v":0}]
[46,{"$f":"INSERT!A48","v":0},{"$f":"INSERT!B48","v":0},{"$f":"INSERT!C48","v":0},{"$f":"INSERT!D48","v":0},{"$f":"INSERT!E48","v":0}]
[47,{"$f":"INSERT!A49","v":0},{"$f":"INSERT!B49","v":0},{"$f":"INSERT!C49","v":0},{"$f":"INSERT!D49","v":0},{"$f":"INSERT!E49","v":0}]
[48,{"$f":"INSERT!A50","v":0},{"$f":"INSERT!B50","v":0},{"$f":"INSERT!C50","v":0},{"$f":"INSERT!D50","v":0},{"$f":"INSERT!E50","v":0}]
[49,{"$f":"INSERT!A51","v":0},{"$f":"INSERT!B51","v":0},{"$f":"INSERT!C51","v":0},{"$f":"INSERT!D51","v":0},{"$f":"INSERT!E51","v":0}]
[50,{"$f":"INSERT!A52","v":0},{"$f":"INSERT!B52","v":0},{"$f":"INSERT!C52","v":0},{"$f":"INSERT!D52","v":0},{"$f":"INSERT!E52","v":0}]
[51,{"$f":"INSERT!A53","v":0},{"$f":"INSERT!B53","v":0},{"$f":"INSERT!C53","v":0},{"$f":"INSERT!D53","v":0},{"$f":"INSERT!E53","v":0}]
[52,{"$f":"INSERT!A54","v":0},{"$f":"INSERT!B54","v":0},{"$f":"INSERT!C54","v":0},{"$f":"INSERT!D54","v":0},{"$f":"INSERT!E54","v":0}]
[53,{"$f":"INSERT!A55","v":0},{"$f":"INSERT!B55","v":0},{"$f":"INSERT!C55","v":0},{"$f":"INSERT!D55","v":0},{"$f":"INSERT!E55","v":0}]
[54,{"$f":"INSERT!A56","v":0},{"$f":"INSERT!B56","v":0},{"$f":"INSERT!C56","v":0},{"$f":"INSERT!D56","v":0},{"$f":"INSERT!E56","v":0}]
[55,{"$f":"INSERT!A57","v":0},{"$f":"INSERT!B57","v":0},{"$f":"INSERT!C57","v":0},{"$f":"INSERT!D57","v":0},{"$f":"INSERT!E57","v":0}]
[56,{"$f":"INSERT!A58","v":0},{"$f":"INSERT!B58","v":0},{"$f":"INSERT!C58","v":0},{"$f":"INSERT!D58","v":0},{"$f":"INSERT!E58","v":0}]
[57,{"$f":"INSERT!A59","v":0},{"$f":"INSERT!B59","v":0},{"$f":"INSERT!C59","v":0},{"$f":"INSERT!D59","v":0},{"$f":"INSERT!E59","v":0}]
[58,{"$f":"INSERT!A60","v":0},{"$f":"INSERT!B60","v":0},{"$f":"INSERT!C60","v":0},{"$f":"INSERT!D60","v":0},{"$f":"INSERT!E60","v":0}]
[59,{"$f":"INSERT!A61","v":0},{"$f":"INSERT!B61","v":0},{"$f":"INSERT!C61","v":0},{"$f":"INSERT!D61","v":0},{"$f":"INSERT!E61","v":0}]
[60,{"$f":"INSERT!A62","v":0},{"$f":"INSERT!B62","v":0},{"$f":"INSERT!C62","v":0},{"$f":"INSERT!D62","v":0},{"$f":"INSERT!E62","v":0}]
[61,{"$f":"INSERT!A63","v":0},{"$f":"INSERT!B63","v":0},{"$f":"INSERT!C63","v":0},{"$f":"INSERT!D63","v":0},{"$f":"INSERT!E63","v":0}]
[62,{"$f":"INSERT!A64","v":0},{"$f":"INSERT!B64","v":0},{"$f":"INSERT!C64","v":0},{"$f":"INSERT!D64","v":0},{"$f":"INSERT!E64","v":0}]
[63,{"$f":"INSERT!A65","v":0},{"$f":"INSERT!B65","v":0},{"$f":"INSERT!C65","v":0},{"$f":"INSERT!D65","v":0},{"$f":"INSERT!E65","v":0}]
[64,{"$f":"INSERT!A66","v":0},{"$f":"INSERT!B66","v":0},{"$f":"INSERT!C66","v":0},{"$f":"INSERT!D66","v":0},{"$f":"INSERT!E66","v":0}]
[65,{"$f":"INSERT!A67","v":0},{"$f":"INSERT!B67","v":0},{"$f":"INSERT!C67","v":0},{"$f":"INSERT!D67","v":0},{"$f":"INSERT!E67","v":0}]
[66,{"$f":"INSERT!A68","v":0},{"$f":"INSERT!B68","v":0},{"$f":"INSERT!C68","v":0},{"$f":"INSERT!D68","v":0},{"$f":"INSERT!E68","v":0}]
[67,{"$f":"INSERT!A69","v":0},{"$f":"INSERT!B69","v":0},{"$f":"INSERT!C69","v":0},{"$f":"INSERT!D69","v":0},{"$f":"INSERT!E69","v":0}]
[68,{"$f":"INSERT!A70","v":0},{"$f":"INSERT!B70","v":0},{"$f":"INSERT!C70","v":0},{"$f":"INSERT!D70","v":0},{"$f":"INSERT!E70","v":0}]
[69,{"$f":"INSERT!A71","v":0},{"$f":"INSERT!B71","v":0},{"$f":"INSERT!C71","v":0},{"$f":"INSERT!D71","v":0},{"$f":"INSERT!E71","v":0}]
[70,{"$f":"INSERT!A72","v":0},{"$f":"INSERT!B72","v":0},{"$f":"INSERT!C72","v":0},{"$f":"INSERT!D72","v":0},{"$f":"INSERT!E72","v":0}]
[71,{"$f":"INSERT!A73","v":0},{"$f":"INSERT!B73","v":0},{"$f":"INSERT!C73","v":0},{"$f":"INSERT!D73","v":0},{"$f":"INSERT!E73","v":0}]
[72,{"$f":"INSERT!A74","v":0},{"$f":"INSERT!B74","v":0},{"$f":"INSERT!C74","v":0},{"$f":"INSERT!D74","v":0},{"$f":"INSERT!E74","v":0}]
[73,{"$f":"INSERT!A75","v":0},{"$f":"INSERT!B75","v":0},{"$f":"INSERT!C75","v":0},{"$f":"INSERT!D75","v":0},{"$f":"INSERT!E75","v":0}]
[74,{"$f":"INSERT!A76","v":0},{"$f":"INSERT!B76","v":0},{"$f":"INSERT!C76","v":0},{"$f":"INSERT!D76","v":0},{"$f":"INSERT!E76","v":0}]
[75,{"$f":"INSERT!A77","v":0},{"$f":"INSERT!B77","v":0},{"$f":"INSERT!C77","v":0},{"$f":"INSERT!D77","v":0},{"$f":"INSERT!E77","v":0}]
[76,{"$f":"INSERT!A78","v":0},{"$f":"INSERT!B78","v":0},{"$f":"INSERT!C78","v":0},{"$f":"INSERT!D78","v":0},{"$f":"INSERT!E78","v":0}]
[77,{"$f":"INSERT!A79","v":0},{"$f":"INSERT!B79","v":0},{"$f":"INSERT!C79","v":0},{"$f":"INSERT!D79","v":0},{"$f":"INSERT!E79","v":0}]
[78,{"$f":"INSERT!A80","v":0},{"$f":"INSERT!B80","v":0},{"$f":"INSERT!C80","v":0},{"$f":"INSERT!D80","v":0},{"$f":"INSERT!E80","v":0}]
[79,{"$f":"INSERT!A81","v":0},{"$f":"INSERT!B81","v":0},{"$f":"INSERT!C81","v":0},{"$f":"INSERT!D81","v":0},{"$f":"INSERT!E81","v":0}]
[80,{"$f":"INSERT!A82","v":0},{"$f":"INSERT!B82","v":0},{"$f":"INSERT!C82","v":0},{"$f":"INSERT!D82","v":0},{"$f":"INSERT!E82","v":0}]
[81,{"$f":"INSERT!A83","v":0},{"$f":"INSERT!B83","v":0},{"$f":"INSERT!C83","v":0},{"$f":"INSERT!D83","v":0},{"$f":"INSERT!E83","v":0}]
[82,{"$f":"INSERT!A84","v":0},{"$f":"INSERT!B84","v":0},{"$f":"INSERT!C84","v":0},{"$f":"INSERT!D84","v":0},{"$f":"INSERT!E84","v":0}]
[83,{"$f":"INSERT!A85","v":0},{"$f":"INSERT!B85","v":0},{"$f":"INSERT!C85","v":0},{"$f":"INSERT!D85","v":0},{"$f":"INSERT!E85","v":0}]
[84,{"$f":"INSERT!A86","v":0},{"$f":"INSERT!B86","v":0},{"$f":"INSERT!C86","v":0},{"$f":"INSERT!D86","v":0},{"$f":"INSERT!E86","v":0}]
[85,{"$f":"INSERT!A87","v":0},{"$f":"INSERT!B87","v":0},{"$f":"INSERT!C87","v":0},{"$f":"INSERT!D87","v":0},{"$f":"INSERT!E87","v":0}]
[86,{"$f":"INSERT!A88","v":0},{"$f":"INSERT!B88","v":0},{"$f":"INSERT!C88","v":0},{"$f":"INSERT!D88","v":0},{"$f":"INSERT!E88","v":0}]
[87,{"$f":"INSERT!A89","v":0},{"$f":"INSERT!B89","v":0},{"$f":"INSERT!C89","v":0},{"$f":"INSERT!D89","v":0},{"$f":"INSERT!E89","v":0}]
[88,{"$f":"INSERT!A90","v":0},{"$f":"INSERT!B90","v":0},{"$f":"INSERT!C90","v":0},{"$f":"INSERT!D90","v":0},{"$f":"INSERT!E90","v":0}]
[89,{"$f":"INSERT!A91","v":0},{"$f":"INSERT!B91","v":0},{"$f":"INSERT!C91","v":0},{"$f":"INSERT!D91","v":0},{"$f":"INSERT!E91","v":0}]
[90,{"$f":"INSERT!A92","v":0},{"$f":"INSERT!B92","v":0},{"$f":"INSERT!C92","v":0},{"$f":"INSERT!D92","v":0},{"$f":"INSERT!E92","v":0}]
[91,{"$f":"INSERT!A93","v":0},{"$f":"INSERT!B93","v":0},{"$f":"INSERT!C93","v":0},{"$f":"INSERT!D93","v":0},{"$f":"INSERT!E93","v":0}]
[92,{"$f":"INSERT!A94","v":0},{"$f":"INSERT!B94","v":0},{"$f":"INSERT!C94","v":0},{"$f":"INSERT!D94","v":0},{"$f":"INSERT!E94","v":0}]
[93,{"$f":"INSERT!A95","v":0},{"$f":"INSERT!B95","v":0},{"$f":"INSERT!C95","v":0},{"$f":"INSERT!D95","v":0},{"$f":"INSERT!E95","v":0}]
[94,{"$f":"INSERT!A96","v":0},{"$f":"INSERT!B96","v":0},{"$f":"INSERT!C96","v":0},{"$f":"INSERT!D96","v":0},{"$f":"INSERT!E96","v":0}]
[95,{"$f":"INSERT!A97","v":0},{"$f":"INSERT!B97","v":0},{"$f":"INSERT!C97","v":0},{"$f":"INSERT!D97","v":0},{"$f":"INSERT!E97","v":0}]
[96,{"$f":"INSERT!A98","v":0},{"$f":"INSERT!B98","v":0},{"$f":"INSERT!C98","v":0},{"$f":"INSERT!D98","v":0},{"$f":"INSERT!E98","v":0}]
[97,{"$f":"INSERT!A99","v":0},{"$f":"INSERT!B99","v":0},{"$f":"INSERT!C99","v":0},{"$f":"INSERT!D99","v":0},{"$f":"INSERT!E99","v":0}]
[98,{"$f":"INSERT!A100","v":0},{"$f":"INSERT!B100","v":0},{"$f":"INSERT!C100","v":0},{"$f":"INSERT!D100","v":0},{"$f":"INSERT!E100","v":0}]
[99,{"$f":"INSERT!A101","v":0},{"$f":"INSERT!B101","v":0},{"$f":"INSERT!C101","v":0},{"$f":"INSERT!D101","v":0},{"$f":"INSERT!E101","v":0}]
[100,{"$f":"INSERT!A102","v":0},{"$f":"INSERT!B102","v":0},{"$f":"INSERT!C102","v":0},{"$f":"INSERT!D102","v":0},{"$f":"INSERT!E102","v":0}]

{"sheet":"Term2 Sign","index":19,"n_rows":105,"n_cols":12,"rows_kept":105,"cut":false,"hidden":false,"merged":[[1,6,1,7],[1,8,1,9],[1,10,1,11],[1,12,1,13]]}
[null,null,null,null,null,"GRADE :",{"$f":"TERM1!$F$6","v":0},"EGD"]
[null,null,null,null,null,null,{"$f":"TERM2!$I$4","v":"CD4  1st Mechanical Drawings"},null,{"$f":"TERM2!$AA$4","v":"CD5  2nd Mechanical Drawings"},null,{"$f":"TERM2!$AS$4","v":"CD6  Isometric"}]
[null,null,null,null,null,"DUE DATE: "]
[null,"Class","Admission","SURNAME","NAME","Gender","4.1",null,"5",null,"6.1","6.2"]
[]
[1,{"$f":"INSERT!A3","v":0},{"$f":"INSERT!B3","v":0},{"$f":"INSERT!C3","v":0},{"$f":"INSERT!D3","v":0},{"$f":"INSERT!E3","v":0}]
[2,{"$f":"INSERT!A4","v":0},{"$f":"INSERT!B4","v":0},{"$f":"INSERT!C4","v":0},{"$f":"INSERT!D4","v":0},{"$f":"INSERT!E4","v":0}]
[3,{"$f":"INSERT!A5","v":0},{"$f":"INSERT!B5","v":0},{"$f":"INSERT!C5","v":0},{"$f":"INSERT!D5","v":0},{"$f":"INSERT!E5","v":0}]
[4,{"$f":"INSERT!A6","v":0},{"$f":"INSERT!B6","v":0},{"$f":"INSERT!C6","v":0},{"$f":"INSERT!D6","v":0},{"$f":"INSERT!E6","v":0}]
[5,{"$f":"INSERT!A7","v":0},{"$f":"INSERT!B7","v":0},{"$f":"INSERT!C7","v":0},{"$f":"INSERT!D7","v":0},{"$f":"INSERT!E7","v":0}]
[6,{"$f":"INSERT!A8","v":0},{"$f":"INSERT!B8","v":0},{"$f":"INSERT!C8","v":0},{"$f":"INSERT!D8","v":0},{"$f":"INSERT!E8","v":0}]
[7,{"$f":"INSERT!A9","v":0},{"$f":"INSERT!B9","v":0},{"$f":"INSERT!C9","v":0},{"$f":"INSERT!D9","v":0},{"$f":"INSERT!E9","v":0}]
[8,{"$f":"INSERT!A10","v":0},{"$f":"INSERT!B10","v":0},{"$f":"INSERT!C10","v":0},{"$f":"INSERT!D10","v":0},{"$f":"INSERT!E10","v":0}]
[9,{"$f":"INSERT!A11","v":0},{"$f":"INSERT!B11","v":0},{"$f":"INSERT!C11","v":0},{"$f":"INSERT!D11","v":0},{"$f":"INSERT!E11","v":0}]
[10,{"$f":"INSERT!A12","v":0},{"$f":"INSERT!B12","v":0},{"$f":"INSERT!C12","v":0},{"$f":"INSERT!D12","v":0},{"$f":"INSERT!E12","v":0}]
[11,{"$f":"INSERT!A13","v":0},{"$f":"INSERT!B13","v":0},{"$f":"INSERT!C13","v":0},{"$f":"INSERT!D13","v":0},{"$f":"INSERT!E13","v":0}]
[12,{"$f":"INSERT!A14","v":0},{"$f":"INSERT!B14","v":0},{"$f":"INSERT!C14","v":0},{"$f":"INSERT!D14","v":0},{"$f":"INSERT!E14","v":0}]
[13,{"$f":"INSERT!A15","v":0},{"$f":"INSERT!B15","v":0},{"$f":"INSERT!C15","v":0},{"$f":"INSERT!D15","v":0},{"$f":"INSERT!E15","v":0}]
[14,{"$f":"INSERT!A16","v":0},{"$f":"INSERT!B16","v":0},{"$f":"INSERT!C16","v":0},{"$f":"INSERT!D16","v":0},{"$f":"INSERT!E16","v":0}]
[15,{"$f":"INSERT!A17","v":0},{"$f":"INSERT!B17","v":0},{"$f":"INSERT!C17","v":0},{"$f":"INSERT!D17","v":0},{"$f":"INSERT!E17","v":0}]
[16,{"$f":"INSERT!A18","v":0},{"$f":"INSERT!B18","v":0},{"$f":"INSERT!C18","v":0},{"$f":"INSERT!D18","v":0},{"$f":"INSERT!E18","v":0}]
[17,{"$f":"INSERT!A19","v":0},{"$f":"INSERT!B19","v":0},{"$f":"INSERT!C19","v":0},{"$f":"INSERT!D19","v":0},{"$f":"INSERT!E19","v":0}]
[18,{"$f":"INSERT!A20","v":0},{"$f":"INSERT!B20","v":0},{"$f":"INSERT!C20","v":0},{"$f":"INSERT!D20","v":0},{"$f":"INSERT!E20","v":0}]
[19,{"$f":"INSERT!A21","v":0},{"$f":"INSERT!B21","v":0},{"$f":"INSERT!C21","v":0},{"$f":"INSERT!D21","v":0},{"$f":"INSERT!E21","v":0}]
[20,{"$f":"INSERT!A22","v":0},{"$f":"INSERT!B22","v":0},{"$f":"INSERT!C22","v":0},{"$f":"INSERT!D22","v":0},{"$f":"INSERT!E22","v":0}]
[21,{"$f":"INSERT!A23","v":0},{"$f":"INSERT!B23","v":0},{"$f":"INSERT!C23","v":0},{"$f":"INSERT!D23","v":0},{"$f":"INSERT!E23","v":0}]
[22,{"$f":"INSERT!A24","v":0},{"$f":"INSERT!B24","v":0},{"$f":"INSERT!C24","v":0},{"$f":"INSERT!D24","v":0},{"$f":"INSERT!E24","v":0}]
[23,{"$f":"INSERT!A25","v":0},{"$f":"INSERT!B25","v":0},{"$f":"INSERT!C25","v":0},{"$f":"INSERT!D25","v":0},{"$f":"INSERT!E25","v":0}]
[24,{"$f":"INSERT!A26","v":0},{"$f":"INSERT!B26","v":0},{"$f":"INSERT!C26","v":0},{"$f":"INSERT!D26","v":0},{"$f":"INSERT!E26","v":0}]
[25,{"$f":"INSERT!A27","v":0},{"$f":"INSERT!B27","v":0},{"$f":"INSERT!C27","v":0},{"$f":"INSERT!D27","v":0},{"$f":"INSERT!E27","v":0}]
[26,{"$f":"INSERT!A28","v":0},{"$f":"INSERT!B28","v":0},{"$f":"INSERT!C28","v":0},{"$f":"INSERT!D28","v":0},{"$f":"INSERT!E28","v":0}]
[27,{"$f":"INSERT!A29","v":0},{"$f":"INSERT!B29","v":0},{"$f":"INSERT!C29","v":0},{"$f":"INSERT!D29","v":0},{"$f":"INSERT!E29","v":0}]
[28,{"$f":"INSERT!A30","v":0},{"$f":"INSERT!B30","v":0},{"$f":"INSERT!C30","v":0},{"$f":"INSERT!D30","v":0},{"$f":"INSERT!E30","v":0}]
[29,{"$f":"INSERT!A31","v":0},{"$f":"INSERT!B31","v":0},{"$f":"INSERT!C31","v":0},{"$f":"INSERT!D31","v":0},{"$f":"INSERT!E31","v":0}]
[30,{"$f":"INSERT!A32","v":0},{"$f":"INSERT!B32","v":0},{"$f":"INSERT!C32","v":0},{"$f":"INSERT!D32","v":0},{"$f":"INSERT!E32","v":0}]
[31,{"$f":"INSERT!A33","v":0},{"$f":"INSERT!B33","v":0},{"$f":"INSERT!C33","v":0},{"$f":"INSERT!D33","v":0},{"$f":"INSERT!E33","v":0}]
[32,{"$f":"INSERT!A34","v":0},{"$f":"INSERT!B34","v":0},{"$f":"INSERT!C34","v":0},{"$f":"INSERT!D34","v":0},{"$f":"INSERT!E34","v":0}]
[33,{"$f":"INSERT!A35","v":0},{"$f":"INSERT!B35","v":0},{"$f":"INSERT!C35","v":0},{"$f":"INSERT!D35","v":0},{"$f":"INSERT!E35","v":0}]
[34,{"$f":"INSERT!A36","v":0},{"$f":"INSERT!B36","v":0},{"$f":"INSERT!C36","v":0},{"$f":"INSERT!D36","v":0},{"$f":"INSERT!E36","v":0}]
[35,{"$f":"INSERT!A37","v":0},{"$f":"INSERT!B37","v":0},{"$f":"INSERT!C37","v":0},{"$f":"INSERT!D37","v":0},{"$f":"INSERT!E37","v":0}]
[36,{"$f":"INSERT!A38","v":0},{"$f":"INSERT!B38","v":0},{"$f":"INSERT!C38","v":0},{"$f":"INSERT!D38","v":0},{"$f":"INSERT!E38","v":0}]
[37,{"$f":"INSERT!A39","v":0},{"$f":"INSERT!B39","v":0},{"$f":"INSERT!C39","v":0},{"$f":"INSERT!D39","v":0},{"$f":"INSERT!E39","v":0}]
[38,{"$f":"INSERT!A40","v":0},{"$f":"INSERT!B40","v":0},{"$f":"INSERT!C40","v":0},{"$f":"INSERT!D40","v":0},{"$f":"INSERT!E40","v":0}]
[39,{"$f":"INSERT!A41","v":0},{"$f":"INSERT!B41","v":0},{"$f":"INSERT!C41","v":0},{"$f":"INSERT!D41","v":0},{"$f":"INSERT!E41","v":0}]
[40,{"$f":"INSERT!A42","v":0},{"$f":"INSERT!B42","v":0},{"$f":"INSERT!C42","v":0},{"$f":"INSERT!D42","v":0},{"$f":"INSERT!E42","v":0}]
[41,{"$f":"INSERT!A43","v":0},{"$f":"INSERT!B43","v":0},{"$f":"INSERT!C43","v":0},{"$f":"INSERT!D43","v":0},{"$f":"INSERT!E43","v":0}]
[42,{"$f":"INSERT!A44","v":0},{"$f":"INSERT!B44","v":0},{"$f":"INSERT!C44","v":0},{"$f":"INSERT!D44","v":0},{"$f":"INSERT!E44","v":0}]
[43,{"$f":"INSERT!A45","v":0},{"$f":"INSERT!B45","v":0},{"$f":"INSERT!C45","v":0},{"$f":"INSERT!D45","v":0},{"$f":"INSERT!E45","v":0}]
[44,{"$f":"INSERT!A46","v":0},{"$f":"INSERT!B46","v":0},{"$f":"INSERT!C46","v":0},{"$f":"INSERT!D46","v":0},{"$f":"INSERT!E46","v":0}]
[45,{"$f":"INSERT!A47","v":0},{"$f":"INSERT!B47","v":0},{"$f":"INSERT!C47","v":0},{"$f":"INSERT!D47","v":0},{"$f":"INSERT!E47","v":0}]
[46,{"$f":"INSERT!A48","v":0},{"$f":"INSERT!B48","v":0},{"$f":"INSERT!C48","v":0},{"$f":"INSERT!D48","v":0},{"$f":"INSERT!E48","v":0}]
[47,{"$f":"INSERT!A49","v":0},{"$f":"INSERT!B49","v":0},{"$f":"INSERT!C49","v":0},{"$f":"INSERT!D49","v":0},{"$f":"INSERT!E49","v":0}]
[48,{"$f":"INSERT!A50","v":0},{"$f":"INSERT!B50","v":0},{"$f":"INSERT!C50","v":0},{"$f":"INSERT!D50","v":0},{"$f":"INSERT!E50","v":0}]
[49,{"$f":"INSERT!A51","v":0},{"$f":"INSERT!B51","v":0},{"$f":"INSERT!C51","v":0},{"$f":"INSERT!D51","v":0},{"$f":"INSERT!E51","v":0}]
[50,{"$f":"INSERT!A52","v":0},{"$f":"INSERT!B52","v":0},{"$f":"INSERT!C52","v":0},{"$f":"INSERT!D52","v":0},{"$f":"INSERT!E52","v":0}]
[51,{"$f":"INSERT!A53","v":0},{"$f":"INSERT!B53","v":0},{"$f":"INSERT!C53","v":0},{"$f":"INSERT!D53","v":0},{"$f":"INSERT!E53","v":0}]
[52,{"$f":"INSERT!A54","v":0},{"$f":"INSERT!B54","v":0},{"$f":"INSERT!C54","v":0},{"$f":"INSERT!D54","v":0},{"$f":"INSERT!E54","v":0}]
[53,{"$f":"INSERT!A55","v":0},{"$f":"INSERT!B55","v":0},{"$f":"INSERT!C55","v":0},{"$f":"INSERT!D55","v":0},{"$f":"INSERT!E55","v":0}]
[54,{"$f":"INSERT!A56","v":0},{"$f":"INSERT!B56","v":0},{"$f":"INSERT!C56","v":0},{"$f":"INSERT!D56","v":0},{"$f":"INSERT!E56","v":0}]
[55,{"$f":"INSERT!A57","v":0},{"$f":"INSERT!B57","v":0},{"$f":"INSERT!C57","v":0},{"$f":"INSERT!D57","v":0},{"$f":"INSERT!E57","v":0}]
[56,{"$f":"INSERT!A58","v":0},{"$f":"INSERT!B58","v":0},{"$f":"INSERT!C58","v":0},{"$f":"INSERT!D58","v":0},{"$f":"INSERT!E58","v":0}]
[57,{"$f":"INSERT!A59","v":0},{"$f":"INSERT!B59","v":0},{"$f":"INSERT!C59","v":0},{"$f":"INSERT!D59","v":0},{"$f":"INSERT!E59","v":0}]
[58,{"$f":"INSERT!A60","v":0},{"$f":"INSERT!B60","v":0},{"$f":"INSERT!C60","v":0},{"$f":"INSERT!D60","v":0},{"$f":"INSERT!E60","v":0}]
[59,{"$f":"INSERT!A61","v":0},{"$f":"INSERT!B61","v":0},{"$f":"INSERT!C61","v":0},{"$f":"INSERT!D61","v":0},{"$f":"INSERT!E61","v":0}]
[60,{"$f":"INSERT!A62","v":0},{"$f":"INSERT!B62","v":0},{"$f":"INSERT!C62","v":0},{"$f":"INSERT!D62","v":0},{"$f":"INSERT!E62","v":0}]
[61,{"$f":"INSERT!A63","v":0},{"$f":"INSERT!B63","v":0},{"$f":"INSERT!C63","v":0},{"$f":"INSERT!D63","v":0},{"$f":"INSERT!E63","v":0}]
[62,{"$f":"INSERT!A64","v":0},{"$f":"INSERT!B64","v":0},{"$f":"INSERT!C64","v":0},{"$f":"INSERT!D64","v":0},{"$f":"INSERT!E64","v":0}]
[63,{"$f":"INSERT!A65","v":0},{"$f":"INSERT!B65","v":0},{"$f":"INSERT!C65","v":0},{"$f":"INSERT!D65","v":0},{"$f":"INSERT!E65","v":0}]
[64,{"$f":"INSERT!A66","v":0},{"$f":"INSERT!B66","v":0},{"$f":"INSERT!C66","v":0},{"$f":"INSERT!D66","v":0},{"$f":"INSERT!E66","v":0}]
[65,{"$f":"INSERT!A67","v":0},{"$f":"INSERT!B67","v":0},{"$f":"INSERT!C67","v":0},{"$f":"INSERT!D67","v":0},{"$f":"INSERT!E67","v":0}]
[66,{"$f":"INSERT!A68","v":0},{"$f":"INSERT!B68","v":0},{"$f":"INSERT!C68","v":0},{"$f":"INSERT!D68","v":0},{"$f":"INSERT!E68","v":0}]
[67,{"$f":"INSERT!A69","v":0},{"$f":"INSERT!B69","v":0},{"$f":"INSERT!C69","v":0},{"$f":"INSERT!D69","v":0},{"$f":"INSERT!E69","v":0}]
[68,{"$f":"INSERT!A70","v":0},{"$f":"INSERT!B70","v":0},{"$f":"INSERT!C70","v":0},{"$f":"INSERT!D70","v":0},{"$f":"INSERT!E70","v":0}]
[69,{"$f":"INSERT!A71","v":0},{"$f":"INSERT!B71","v":0},{"$f":"INSERT!C71","v":0},{"$f":"INSERT!D71","v":0},{"$f":"INSERT!E71","v":0}]
[70,{"$f":"INSERT!A72","v":0},{"$f":"INSERT!B72","v":0},{"$f":"INSERT!C72","v":0},{"$f":"INSERT!D72","v":0},{"$f":"INSERT!E72","v":0}]
[71,{"$f":"INSERT!A73","v":0},{"$f":"INSERT!B73","v":0},{"$f":"INSERT!C73","v":0},{"$f":"INSERT!D73","v":0},{"$f":"INSERT!E73","v":0}]
[72,{"$f":"INSERT!A74","v":0},{"$f":"INSERT!B74","v":0},{"$f":"INSERT!C74","v":0},{"$f":"INSERT!D74","v":0},{"$f":"INSERT!E74","v":0}]
[73,{"$f":"INSERT!A75","v":0},{"$f":"INSERT!B75","v":0},{"$f":"INSERT!C75","v":0},{"$f":"INSERT!D75","v":0},{"$f":"INSERT!E75","v":0}]
[74,{"$f":"INSERT!A76","v":0},{"$f":"INSERT!B76","v":0},{"$f":"INSERT!C76","v":0},{"$f":"INSERT!D76","v":0},{"$f":"INSERT!E76","v":0}]
[75,{"$f":"INSERT!A77","v":0},{"$f":"INSERT!B77","v":0},{"$f":"INSERT!C77","v":0},{"$f":"INSERT!D77","v":0},{"$f":"INSERT!E77","v":0}]
[76,{"$f":"INSERT!A78","v":0},{"$f":"INSERT!B78","v":0},{"$f":"INSERT!C78","v":0},{"$f":"INSERT!D78","v":0},{"$f":"INSERT!E78","v":0}]
[77,{"$f":"INSERT!A79","v":0},{"$f":"INSERT!B79","v":0},{"$f":"INSERT!C79","v":0},{"$f":"INSERT!D79","v":0},{"$f":"INSERT!E79","v":0}]
[78,{"$f":"INSERT!A80","v":0},{"$f":"INSERT!B80","v":0},{"$f":"INSERT!C80","v":0},{"$f":"INSERT!D80","v":0},{"$f":"INSERT!E80","v":0}]
[79,{"$f":"INSERT!A81","v":0},{"$f":"INSERT!B81","v":0},{"$f":"INSERT!C81","v":0},{"$f":"INSERT!D81","v":0},{"$f":"INSERT!E81","v":0}]
[80,{"$f":"INSERT!A82","v":0},{"$f":"INSERT!B82","v":0},{"$f":"INSERT!C82","v":0},{"$f":"INSERT!D82","v":0},{"$f":"INSERT!E82","v":0}]
[81,{"$f":"INSERT!A83","v":0},{"$f":"INSERT!B83","v":0},{"$f":"INSERT!C83","v":0},{"$f":"INSERT!D83","v":0},{"$f":"INSERT!E83","v":0}]
[82,{"$f":"INSERT!A84","v":0},{"$f":"INSERT!B84","v":0},{"$f":"INSERT!C84","v":0},{"$f":"INSERT!D84","v":0},{"$f":"INSERT!E84","v":0}]
[83,{"$f":"INSERT!A85","v":0},{"$f":"INSERT!B85","v":0},{"$f":"INSERT!C85","v":0},{"$f":"INSERT!D85","v":0},{"$f":"INSERT!E85","v":0}]
[84,{"$f":"INSERT!A86","v":0},{"$f":"INSERT!B86","v":0},{"$f":"INSERT!C86","v":0},{"$f":"INSERT!D86","v":0},{"$f":"INSERT!E86","v":0}]
[85,{"$f":"INSERT!A87","v":0},{"$f":"INSERT!B87","v":0},{"$f":"INSERT!C87","v":0},{"$f":"INSERT!D87","v":0},{"$f":"INSERT!E87","v":0}]
[86,{"$f":"INSERT!A88","v":0},{"$f":"INSERT!B88","v":0},{"$f":"INSERT!C88","v":0},{"$f":"INSERT!D88","v":0},{"$f":"INSERT!E88","v":0}]
[87,{"$f":"INSERT!A89","v":0},{"$f":"INSERT!B89","v":0},{"$f":"INSERT!C89","v":0},{"$f":"INSERT!D89","v":0},{"$f":"INSERT!E89","v":0}]
[88,{"$f":"INSERT!A90","v":0},{"$f":"INSERT!B90","v":0},{"$f":"INSERT!C90","v":0},{"$f":"INSERT!D90","v":0},{"$f":"INSERT!E90","v":0}]
[89,{"$f":"INSERT!A91","v":0},{"$f":"INSERT!B91","v":0},{"$f":"INSERT!C91","v":0},{"$f":"INSERT!D91","v":0},{"$f":"INSERT!E91","v":0}]
[90,{"$f":"INSERT!A92","v":0},{"$f":"INSERT!B92","v":0},{"$f":"INSERT!C92","v":0},{"$f":"INSERT!D92","v":0},{"$f":"INSERT!E92","v":0}]
[91,{"$f":"INSERT!A93","v":0},{"$f":"INSERT!B93","v":0},{"$f":"INSERT!C93","v":0},{"$f":"INSERT!D93","v":0},{"$f":"INSERT!E93","v":0}]
[92,{"$f":"INSERT!A94","v":0},{"$f":"INSERT!B94","v":0},{"$f":"INSERT!C94","v":0},{"$f":"INSERT!D94","v":0},{"$f":"INSERT!E94","v":0}]
[93,{"$f":"INSERT!A95","v":0},{"$f":"INSERT!B95","v":0},{"$f":"INSERT!C95","v":0},{"$f":"INSERT!D95","v":0},{"$f":"INSERT!E95","v":0}]
[94,{"$f":"INSERT!A96","v":0},{"$f":"INSERT!B96","v":0},{"$f":"INSERT!C96","v":0},{"$f":"INSERT!D96","v":0},{"$f":"INSERT!E96","v":0}]
[95,{"$f":"INSERT!A97","v":0},{"$f":"INSERT!B97","v":0},{"$f":"INSERT!C97","v":0},{"$f":"INSERT!D97","v":0},{"$f":"INSERT!E97","v":0}]
[96,{"$f":"INSERT!A98","v":0},{"$f":"INSERT!B98","v":0},{"$f":"INSERT!C98","v":0},{"$f":"INSERT!D98","v":0},{"$f":"INSERT!E98","v":0}]
[97,{"$f":"INSERT!A99","v":0},{"$f":"INSERT!B99","v":0},{"$f":"INSERT!C99","v":0},{"$f":"INSERT!D99","v":0},{"$f":"INSERT!E99","v":0}]
[98,{"$f":"INSERT!A100","v":0},{"$f":"INSERT!B100","v":0},{"$f":"INSERT!C100","v":0},{"$f":"INSERT!D100","v":0},{"$f":"INSERT!E100","v":0}]
[99,{"$f":"INSERT!A101","v":0},{"$f":"INSERT!B101","v":0},{"$f":"INSERT!C101","v":0},{"$f":"INSERT!D101","v":0},{"$f":"INSERT!E101","v":0}]
[100,{"$f":"INSERT!A102","v":0},{"$f":"INSERT!B102","v":0},{"$f":"INSERT!C102","v":0},{"$f":"INSERT!D102","v":0},{"$f":"INSERT!E102","v":0}]

{"sheet":"Term3 Sign","index":20,"n_rows":105,"n_cols":16,"rows_kept":105,"cut":false,"hidden":false,"merged":[[1,6,1,7],[1,8,1,9],[1,10,1,11],[1,12,1,13],[1,14,1,15]]}
[null,null,null,null,null,"GRADE :",{"$f":"TERM1!$F$6","v":0},"EGD"]
[null,null,null,null,null,null,{"$f":"TERM3!$I$4","v":"CD7 1st Solid Geometry\nPrism or Pyramid"},null,{"$f":"TERM3!$AA$4","v":"CD8 2nd Solid Geometry\nCylinder or Cone"},null,{"$f":"TERM3!$AS$4","v":"CD 9 Descriptive Geometry"},null,{"$f":"TERM3!$BK$4","v":"CD 10  Floor Plan"},null,{"$f":"TERM3!$CC$4","v":"CD 11 Civil Section of fondation"}]
[]
[null,"Class","Admission","SURNAME","NAME","Gender","CD 7",null,"CD 8",null,"CD 9",null,"CD 10.1","CD 10.2","CD 11.1","CD 11.2"]
[]
[1,{"$f":"INSERT!A3","v":0},{"$f":"INSERT!B3","v":0},{"$f":"INSERT!C3","v":0},{"$f":"INSERT!D3","v":0},{"$f":"INSERT!E3","v":0}]
[2,{"$f":"INSERT!A4","v":0},{"$f":"INSERT!B4","v":0},{"$f":"INSERT!C4","v":0},{"$f":"INSERT!D4","v":0},{"$f":"INSERT!E4","v":0}]
[3,{"$f":"INSERT!A5","v":0},{"$f":"INSERT!B5","v":0},{"$f":"INSERT!C5","v":0},{"$f":"INSERT!D5","v":0},{"$f":"INSERT!E5","v":0}]
[4,{"$f":"INSERT!A6","v":0},{"$f":"INSERT!B6","v":0},{"$f":"INSERT!C6","v":0},{"$f":"INSERT!D6","v":0},{"$f":"INSERT!E6","v":0}]
[5,{"$f":"INSERT!A7","v":0},{"$f":"INSERT!B7","v":0},{"$f":"INSERT!C7","v":0},{"$f":"INSERT!D7","v":0},{"$f":"INSERT!E7","v":0}]
[6,{"$f":"INSERT!A8","v":0},{"$f":"INSERT!B8","v":0},{"$f":"INSERT!C8","v":0},{"$f":"INSERT!D8","v":0},{"$f":"INSERT!E8","v":0}]
[7,{"$f":"INSERT!A9","v":0},{"$f":"INSERT!B9","v":0},{"$f":"INSERT!C9","v":0},{"$f":"INSERT!D9","v":0},{"$f":"INSERT!E9","v":0}]
[8,{"$f":"INSERT!A10","v":0},{"$f":"INSERT!B10","v":0},{"$f":"INSERT!C10","v":0},{"$f":"INSERT!D10","v":0},{"$f":"INSERT!E10","v":0}]
[9,{"$f":"INSERT!A11","v":0},{"$f":"INSERT!B11","v":0},{"$f":"INSERT!C11","v":0},{"$f":"INSERT!D11","v":0},{"$f":"INSERT!E11","v":0}]
[10,{"$f":"INSERT!A12","v":0},{"$f":"INSERT!B12","v":0},{"$f":"INSERT!C12","v":0},{"$f":"INSERT!D12","v":0},{"$f":"INSERT!E12","v":0}]
[11,{"$f":"INSERT!A13","v":0},{"$f":"INSERT!B13","v":0},{"$f":"INSERT!C13","v":0},{"$f":"INSERT!D13","v":0},{"$f":"INSERT!E13","v":0}]
[12,{"$f":"INSERT!A14","v":0},{"$f":"INSERT!B14","v":0},{"$f":"INSERT!C14","v":0},{"$f":"INSERT!D14","v":0},{"$f":"INSERT!E14","v":0}]
[13,{"$f":"INSERT!A15","v":0},{"$f":"INSERT!B15","v":0},{"$f":"INSERT!C15","v":0},{"$f":"INSERT!D15","v":0},{"$f":"INSERT!E15","v":0}]
[14,{"$f":"INSERT!A16","v":0},{"$f":"INSERT!B16","v":0},{"$f":"INSERT!C16","v":0},{"$f":"INSERT!D16","v":0},{"$f":"INSERT!E16","v":0}]
[15,{"$f":"INSERT!A17","v":0},{"$f":"INSERT!B17","v":0},{"$f":"INSERT!C17","v":0},{"$f":"INSERT!D17","v":0},{"$f":"INSERT!E17","v":0}]
[16,{"$f":"INSERT!A18","v":0},{"$f":"INSERT!B18","v":0},{"$f":"INSERT!C18","v":0},{"$f":"INSERT!D18","v":0},{"$f":"INSERT!E18","v":0}]
[17,{"$f":"INSERT!A19","v":0},{"$f":"INSERT!B19","v":0},{"$f":"INSERT!C19","v":0},{"$f":"INSERT!D19","v":0},{"$f":"INSERT!E19","v":0}]
[18,{"$f":"INSERT!A20","v":0},{"$f":"INSERT!B20","v":0},{"$f":"INSERT!C20","v":0},{"$f":"INSERT!D20","v":0},{"$f":"INSERT!E20","v":0}]
[19,{"$f":"INSERT!A21","v":0},{"$f":"INSERT!B21","v":0},{"$f":"INSERT!C21","v":0},{"$f":"INSERT!D21","v":0},{"$f":"INSERT!E21","v":0}]
[20,{"$f":"INSERT!A22","v":0},{"$f":"INSERT!B22","v":0},{"$f":"INSERT!C22","v":0},{"$f":"INSERT!D22","v":0},{"$f":"INSERT!E22","v":0}]
[21,{"$f":"INSERT!A23","v":0},{"$f":"INSERT!B23","v":0},{"$f":"INSERT!C23","v":0},{"$f":"INSERT!D23","v":0},{"$f":"INSERT!E23","v":0}]
[22,{"$f":"INSERT!A24","v":0},{"$f":"INSERT!B24","v":0},{"$f":"INSERT!C24","v":0},{"$f":"INSERT!D24","v":0},{"$f":"INSERT!E24","v":0}]
[23,{"$f":"INSERT!A25","v":0},{"$f":"INSERT!B25","v":0},{"$f":"INSERT!C25","v":0},{"$f":"INSERT!D25","v":0},{"$f":"INSERT!E25","v":0}]
[24,{"$f":"INSERT!A26","v":0},{"$f":"INSERT!B26","v":0},{"$f":"INSERT!C26","v":0},{"$f":"INSERT!D26","v":0},{"$f":"INSERT!E26","v":0}]
[25,{"$f":"INSERT!A27","v":0},{"$f":"INSERT!B27","v":0},{"$f":"INSERT!C27","v":0},{"$f":"INSERT!D27","v":0},{"$f":"INSERT!E27","v":0}]
[26,{"$f":"INSERT!A28","v":0},{"$f":"INSERT!B28","v":0},{"$f":"INSERT!C28","v":0},{"$f":"INSERT!D28","v":0},{"$f":"INSERT!E28","v":0}]
[27,{"$f":"INSERT!A29","v":0},{"$f":"INSERT!B29","v":0},{"$f":"INSERT!C29","v":0},{"$f":"INSERT!D29","v":0},{"$f":"INSERT!E29","v":0}]
[28,{"$f":"INSERT!A30","v":0},{"$f":"INSERT!B30","v":0},{"$f":"INSERT!C30","v":0},{"$f":"INSERT!D30","v":0},{"$f":"INSERT!E30","v":0}]
[29,{"$f":"INSERT!A31","v":0},{"$f":"INSERT!B31","v":0},{"$f":"INSERT!C31","v":0},{"$f":"INSERT!D31","v":0},{"$f":"INSERT!E31","v":0}]
[30,{"$f":"INSERT!A32","v":0},{"$f":"INSERT!B32","v":0},{"$f":"INSERT!C32","v":0},{"$f":"INSERT!D32","v":0},{"$f":"INSERT!E32","v":0}]
[31,{"$f":"INSERT!A33","v":0},{"$f":"INSERT!B33","v":0},{"$f":"INSERT!C33","v":0},{"$f":"INSERT!D33","v":0},{"$f":"INSERT!E33","v":0}]
[32,{"$f":"INSERT!A34","v":0},{"$f":"INSERT!B34","v":0},{"$f":"INSERT!C34","v":0},{"$f":"INSERT!D34","v":0},{"$f":"INSERT!E34","v":0}]
[33,{"$f":"INSERT!A35","v":0},{"$f":"INSERT!B35","v":0},{"$f":"INSERT!C35","v":0},{"$f":"INSERT!D35","v":0},{"$f":"INSERT!E35","v":0}]
[34,{"$f":"INSERT!A36","v":0},{"$f":"INSERT!B36","v":0},{"$f":"INSERT!C36","v":0},{"$f":"INSERT!D36","v":0},{"$f":"INSERT!E36","v":0}]
[35,{"$f":"INSERT!A37","v":0},{"$f":"INSERT!B37","v":0},{"$f":"INSERT!C37","v":0},{"$f":"INSERT!D37","v":0},{"$f":"INSERT!E37","v":0}]
[36,{"$f":"INSERT!A38","v":0},{"$f":"INSERT!B38","v":0},{"$f":"INSERT!C38","v":0},{"$f":"INSERT!D38","v":0},{"$f":"INSERT!E38","v":0}]
[37,{"$f":"INSERT!A39","v":0},{"$f":"INSERT!B39","v":0},{"$f":"INSERT!C39","v":0},{"$f":"INSERT!D39","v":0},{"$f":"INSERT!E39","v":0}]
[38,{"$f":"INSERT!A40","v":0},{"$f":"INSERT!B40","v":0},{"$f":"INSERT!C40","v":0},{"$f":"INSERT!D40","v":0},{"$f":"INSERT!E40","v":0}]
[39,{"$f":"INSERT!A41","v":0},{"$f":"INSERT!B41","v":0},{"$f":"INSERT!C41","v":0},{"$f":"INSERT!D41","v":0},{"$f":"INSERT!E41","v":0}]
[40,{"$f":"INSERT!A42","v":0},{"$f":"INSERT!B42","v":0},{"$f":"INSERT!C42","v":0},{"$f":"INSERT!D42","v":0},{"$f":"INSERT!E42","v":0}]
[41,{"$f":"INSERT!A43","v":0},{"$f":"INSERT!B43","v":0},{"$f":"INSERT!C43","v":0},{"$f":"INSERT!D43","v":0},{"$f":"INSERT!E43","v":0}]
[42,{"$f":"INSERT!A44","v":0},{"$f":"INSERT!B44","v":0},{"$f":"INSERT!C44","v":0},{"$f":"INSERT!D44","v":0},{"$f":"INSERT!E44","v":0}]
[43,{"$f":"INSERT!A45","v":0},{"$f":"INSERT!B45","v":0},{"$f":"INSERT!C45","v":0},{"$f":"INSERT!D45","v":0},{"$f":"INSERT!E45","v":0}]
[44,{"$f":"INSERT!A46","v":0},{"$f":"INSERT!B46","v":0},{"$f":"INSERT!C46","v":0},{"$f":"INSERT!D46","v":0},{"$f":"INSERT!E46","v":0}]
[45,{"$f":"INSERT!A47","v":0},{"$f":"INSERT!B47","v":0},{"$f":"INSERT!C47","v":0},{"$f":"INSERT!D47","v":0},{"$f":"INSERT!E47","v":0}]
[46,{"$f":"INSERT!A48","v":0},{"$f":"INSERT!B48","v":0},{"$f":"INSERT!C48","v":0},{"$f":"INSERT!D48","v":0},{"$f":"INSERT!E48","v":0}]
[47,{"$f":"INSERT!A49","v":0},{"$f":"INSERT!B49","v":0},{"$f":"INSERT!C49","v":0},{"$f":"INSERT!D49","v":0},{"$f":"INSERT!E49","v":0}]
[48,{"$f":"INSERT!A50","v":0},{"$f":"INSERT!B50","v":0},{"$f":"INSERT!C50","v":0},{"$f":"INSERT!D50","v":0},{"$f":"INSERT!E50","v":0}]
[49,{"$f":"INSERT!A51","v":0},{"$f":"INSERT!B51","v":0},{"$f":"INSERT!C51","v":0},{"$f":"INSERT!D51","v":0},{"$f":"INSERT!E51","v":0}]
[50,{"$f":"INSERT!A52","v":0},{"$f":"INSERT!B52","v":0},{"$f":"INSERT!C52","v":0},{"$f":"INSERT!D52","v":0},{"$f":"INSERT!E52","v":0}]
[51,{"$f":"INSERT!A53","v":0},{"$f":"INSERT!B53","v":0},{"$f":"INSERT!C53","v":0},{"$f":"INSERT!D53","v":0},{"$f":"INSERT!E53","v":0}]
[52,{"$f":"INSERT!A54","v":0},{"$f":"INSERT!B54","v":0},{"$f":"INSERT!C54","v":0},{"$f":"INSERT!D54","v":0},{"$f":"INSERT!E54","v":0}]
[53,{"$f":"INSERT!A55","v":0},{"$f":"INSERT!B55","v":0},{"$f":"INSERT!C55","v":0},{"$f":"INSERT!D55","v":0},{"$f":"INSERT!E55","v":0}]
[54,{"$f":"INSERT!A56","v":0},{"$f":"INSERT!B56","v":0},{"$f":"INSERT!C56","v":0},{"$f":"INSERT!D56","v":0},{"$f":"INSERT!E56","v":0}]
[55,{"$f":"INSERT!A57","v":0},{"$f":"INSERT!B57","v":0},{"$f":"INSERT!C57","v":0},{"$f":"INSERT!D57","v":0},{"$f":"INSERT!E57","v":0}]
[56,{"$f":"INSERT!A58","v":0},{"$f":"INSERT!B58","v":0},{"$f":"INSERT!C58","v":0},{"$f":"INSERT!D58","v":0},{"$f":"INSERT!E58","v":0}]
[57,{"$f":"INSERT!A59","v":0},{"$f":"INSERT!B59","v":0},{"$f":"INSERT!C59","v":0},{"$f":"INSERT!D59","v":0},{"$f":"INSERT!E59","v":0}]
[58,{"$f":"INSERT!A60","v":0},{"$f":"INSERT!B60","v":0},{"$f":"INSERT!C60","v":0},{"$f":"INSERT!D60","v":0},{"$f":"INSERT!E60","v":0}]
[59,{"$f":"INSERT!A61","v":0},{"$f":"INSERT!B61","v":0},{"$f":"INSERT!C61","v":0},{"$f":"INSERT!D61","v":0},{"$f":"INSERT!E61","v":0}]
[60,{"$f":"INSERT!A62","v":0},{"$f":"INSERT!B62","v":0},{"$f":"INSERT!C62","v":0},{"$f":"INSERT!D62","v":0},{"$f":"INSERT!E62","v":0}]
[61,{"$f":"INSERT!A63","v":0},{"$f":"INSERT!B63","v":0},{"$f":"INSERT!C63","v":0},{"$f":"INSERT!D63","v":0},{"$f":"INSERT!E63","v":0}]
[62,{"$f":"INSERT!A64","v":0},{"$f":"INSERT!B64","v":0},{"$f":"INSERT!C64","v":0},{"$f":"INSERT!D64","v":0},{"$f":"INSERT!E64","v":0}]
[63,{"$f":"INSERT!A65","v":0},{"$f":"INSERT!B65","v":0},{"$f":"INSERT!C65","v":0},{"$f":"INSERT!D65","v":0},{"$f":"INSERT!E65","v":0}]
[64,{"$f":"INSERT!A66","v":0},{"$f":"INSERT!B66","v":0},{"$f":"INSERT!C66","v":0},{"$f":"INSERT!D66","v":0},{"$f":"INSERT!E66","v":0}]
[65,{"$f":"INSERT!A67","v":0},{"$f":"INSERT!B67","v":0},{"$f":"INSERT!C67","v":0},{"$f":"INSERT!D67","v":0},{"$f":"INSERT!E67","v":0}]
[66,{"$f":"INSERT!A68","v":0},{"$f":"INSERT!B68","v":0},{"$f":"INSERT!C68","v":0},{"$f":"INSERT!D68","v":0},{"$f":"INSERT!E68","v":0}]
[67,{"$f":"INSERT!A69","v":0},{"$f":"INSERT!B69","v":0},{"$f":"INSERT!C69","v":0},{"$f":"INSERT!D69","v":0},{"$f":"INSERT!E69","v":0}]
[68,{"$f":"INSERT!A70","v":0},{"$f":"INSERT!B70","v":0},{"$f":"INSERT!C70","v":0},{"$f":"INSERT!D70","v":0},{"$f":"INSERT!E70","v":0}]
[69,{"$f":"INSERT!A71","v":0},{"$f":"INSERT!B71","v":0},{"$f":"INSERT!C71","v":0},{"$f":"INSERT!D71","v":0},{"$f":"INSERT!E71","v":0}]
[70,{"$f":"INSERT!A72","v":0},{"$f":"INSERT!B72","v":0},{"$f":"INSERT!C72","v":0},{"$f":"INSERT!D72","v":0},{"$f":"INSERT!E72","v":0}]
[71,{"$f":"INSERT!A73","v":0},{"$f":"INSERT!B73","v":0},{"$f":"INSERT!C73","v":0},{"$f":"INSERT!D73","v":0},{"$f":"INSERT!E73","v":0}]
[72,{"$f":"INSERT!A74","v":0},{"$f":"INSERT!B74","v":0},{"$f":"INSERT!C74","v":0},{"$f":"INSERT!D74","v":0},{"$f":"INSERT!E74","v":0}]
[73,{"$f":"INSERT!A75","v":0},{"$f":"INSERT!B75","v":0},{"$f":"INSERT!C75","v":0},{"$f":"INSERT!D75","v":0},{"$f":"INSERT!E75","v":0}]
[74,{"$f":"INSERT!A76","v":0},{"$f":"INSERT!B76","v":0},{"$f":"INSERT!C76","v":0},{"$f":"INSERT!D76","v":0},{"$f":"INSERT!E76","v":0}]
[75,{"$f":"INSERT!A77","v":0},{"$f":"INSERT!B77","v":0},{"$f":"INSERT!C77","v":0},{"$f":"INSERT!D77","v":0},{"$f":"INSERT!E77","v":0}]
[76,{"$f":"INSERT!A78","v":0},{"$f":"INSERT!B78","v":0},{"$f":"INSERT!C78","v":0},{"$f":"INSERT!D78","v":0},{"$f":"INSERT!E78","v":0}]
[77,{"$f":"INSERT!A79","v":0},{"$f":"INSERT!B79","v":0},{"$f":"INSERT!C79","v":0},{"$f":"INSERT!D79","v":0},{"$f":"INSERT!E79","v":0}]
[78,{"$f":"INSERT!A80","v":0},{"$f":"INSERT!B80","v":0},{"$f":"INSERT!C80","v":0},{"$f":"INSERT!D80","v":0},{"$f":"INSERT!E80","v":0}]
[79,{"$f":"INSERT!A81","v":0},{"$f":"INSERT!B81","v":0},{"$f":"INSERT!C81","v":0},{"$f":"INSERT!D81","v":0},{"$f":"INSERT!E81","v":0}]
[80,{"$f":"INSERT!A82","v":0},{"$f":"INSERT!B82","v":0},{"$f":"INSERT!C82","v":0},{"$f":"INSERT!D82","v":0},{"$f":"INSERT!E82","v":0}]
[81,{"$f":"INSERT!A83","v":0},{"$f":"INSERT!B83","v":0},{"$f":"INSERT!C83","v":0},{"$f":"INSERT!D83","v":0},{"$f":"INSERT!E83","v":0}]
[82,{"$f":"INSERT!A84","v":0},{"$f":"INSERT!B84","v":0},{"$f":"INSERT!C84","v":0},{"$f":"INSERT!D84","v":0},{"$f":"INSERT!E84","v":0}]
[83,{"$f":"INSERT!A85","v":0},{"$f":"INSERT!B85","v":0},{"$f":"INSERT!C85","v":0},{"$f":"INSERT!D85","v":0},{"$f":"INSERT!E85","v":0}]
[84,{"$f":"INSERT!A86","v":0},{"$f":"INSERT!B86","v":0},{"$f":"INSERT!C86","v":0},{"$f":"INSERT!D86","v":0},{"$f":"INSERT!E86","v":0}]
[85,{"$f":"INSERT!A87","v":0},{"$f":"INSERT!B87","v":0},{"$f":"INSERT!C87","v":0},{"$f":"INSERT!D87","v":0},{"$f":"INSERT!E87","v":0}]
[86,{"$f":"INSERT!A88","v":0},{"$f":"INSERT!B88","v":0},{"$f":"INSERT!C88","v":0},{"$f":"INSERT!D88","v":0},{"$f":"INSERT!E88","v":0}]
[87,{"$f":"INSERT!A89","v":0},{"$f":"INSERT!B89","v":0},{"$f":"INSERT!C89","v":0},{"$f":"INSERT!D89","v":0},{"$f":"INSERT!E89","v":0}]
[88,{"$f":"INSERT!A90","v":0},{"$f":"INSERT!B90","v":0},{"$f":"INSERT!C90","v":0},{"$f":"INSERT!D90","v":0},{"$f":"INSERT!E90","v":0}]
[89,{"$f":"INSERT!A91","v":0},{"$f":"INSERT!B91","v":0},{"$f":"INSERT!C91","v":0},{"$f":"INSERT!D91","v":0},{"$f":"INSERT!E91","v":0}]
[90,{"$f":"INSERT!A92","v":0},{"$f":"INSERT!B92","v":0},{"$f":"INSERT!C92","v":0},{"$f":"INSERT!D92","v":0},{"$f":"INSERT!E92","v":0}]
[91,{"$f":"INSERT!A93","v":0},{"$f":"INSERT!B93","v":0},{"$f":"INSERT!C93","v":0},{"$f":"INSERT!D93","v":0},{"$f":"INSERT!E93","v":0}]
[92,{"$f":"INSERT!A94","v":0},{"$f":"INSERT!B94","v":0},{"$f":"INSERT!C94","v":0},{"$f":"INSERT!D94","v":0},{"$f":"INSERT!E94","v":0}]
[93,{"$f":"INSERT!A95","v":0},{"$f":"INSERT!B95","v":0},{"$f":"INSERT!C95","v":0},{"$f":"INSERT!D95","v":0},{"$f":"INSERT!E95","v":0}]
[94,{"$f":"INSERT!A96","v":0},{"$f":"INSERT!B96","v":0},{"$f":"INSERT!C96","v":0},{"$f":"INSERT!D96","v":0},{"$f":"INSERT!E96","v":0}]
[95,{"$f":"INSERT!A97","v":0},{"$f":"INSERT!B97","v":0},{"$f":"INSERT!C97","v":0},{"$f":"INSERT!D97","v":0},{"$f":"INSERT!E97","v":0}]
[96,{"$f":"INSERT!A98","v":0},{"$f":"INSERT!B98","v":0},{"$f":"INSERT!C98","v":0},{"$f":"INSERT!D98","v":0},{"$f":"INSERT!E98","v":0}]
[97,{"$f":"INSERT!A99","v":0},{"$f":"INSERT!B99","v":0},{"$f":"INSERT!C99","v":0},{"$f":"INSERT!D99","v":0},{"$f":"INSERT!E99","v":0}]
[98,{"$f":"INSERT!A100","v":0},{"$f":"INSERT!B100","v":0},{"$f":"INSERT!C100","v":0},{"$f":"INSERT!D100","v":0},{"$f":"INSERT!E100","v":0}]
[99,{"$f":"INSERT!A101","v":0},{"$f":"INSERT!B101","v":0},{"$f":"INSERT!C101","v":0},{"$f":"INSERT!D101","v":0},{"$f":"INSERT!E101","v":0}]
[100,{"$f":"INSERT!A102","v":0},{"$f":"INSERT!B102","v":0},{"$f":"INSERT!C102","v":0},{"$f":"INSERT!D102","v":0},{"$f":"INSERT!E102","v":0}]

{"sheet":"Term4 Sign","index":21,"n_rows":105,"n_cols":14,"rows_kept":105,"cut":false,"hidden":false,"merged":[[1,6,1,7],[1,8,1,9],[1,10,1,11],[1,12,1,13]]}
[null,null,null,null,null,"GRADE :",{"$f":"TERM1!$F$6","v":0},"EGD"]
[null,null,null,null,null,null,{"$f":"TERM4!$I$4","v":"CD12 1-point perspective"}]
[null,null,null,null,null,null,"DUE DATE: ",null,"DUE DATE: ",null,"DUE DATE: ",null,"DUE DATE: "]
[null,"Class","Admission","SURNAME","NAME","Gender","Out","Back","Out","Back","Out","Back","Out","Back"]
[]
[1,{"$f":"INSERT!A3","v":0},{"$f":"INSERT!B3","v":0},{"$f":"INSERT!C3","v":0},{"$f":"INSERT!D3","v":0},{"$f":"INSERT!E3","v":0}]
[2,{"$f":"INSERT!A4","v":0},{"$f":"INSERT!B4","v":0},{"$f":"INSERT!C4","v":0},{"$f":"INSERT!D4","v":0},{"$f":"INSERT!E4","v":0}]
[3,{"$f":"INSERT!A5","v":0},{"$f":"INSERT!B5","v":0},{"$f":"INSERT!C5","v":0},{"$f":"INSERT!D5","v":0},{"$f":"INSERT!E5","v":0}]
[4,{"$f":"INSERT!A6","v":0},{"$f":"INSERT!B6","v":0},{"$f":"INSERT!C6","v":0},{"$f":"INSERT!D6","v":0},{"$f":"INSERT!E6","v":0}]
[5,{"$f":"INSERT!A7","v":0},{"$f":"INSERT!B7","v":0},{"$f":"INSERT!C7","v":0},{"$f":"INSERT!D7","v":0},{"$f":"INSERT!E7","v":0}]
[6,{"$f":"INSERT!A8","v":0},{"$f":"INSERT!B8","v":0},{"$f":"INSERT!C8","v":0},{"$f":"INSERT!D8","v":0},{"$f":"INSERT!E8","v":0}]
[7,{"$f":"INSERT!A9","v":0},{"$f":"INSERT!B9","v":0},{"$f":"INSERT!C9","v":0},{"$f":"INSERT!D9","v":0},{"$f":"INSERT!E9","v":0}]
[8,{"$f":"INSERT!A10","v":0},{"$f":"INSERT!B10","v":0},{"$f":"INSERT!C10","v":0},{"$f":"INSERT!D10","v":0},{"$f":"INSERT!E10","v":0}]
[9,{"$f":"INSERT!A11","v":0},{"$f":"INSERT!B11","v":0},{"$f":"INSERT!C11","v":0},{"$f":"INSERT!D11","v":0},{"$f":"INSERT!E11","v":0}]
[10,{"$f":"INSERT!A12","v":0},{"$f":"INSERT!B12","v":0},{"$f":"INSERT!C12","v":0},{"$f":"INSERT!D12","v":0},{"$f":"INSERT!E12","v":0}]
[11,{"$f":"INSERT!A13","v":0},{"$f":"INSERT!B13","v":0},{"$f":"INSERT!C13","v":0},{"$f":"INSERT!D13","v":0},{"$f":"INSERT!E13","v":0}]
[12,{"$f":"INSERT!A14","v":0},{"$f":"INSERT!B14","v":0},{"$f":"INSERT!C14","v":0},{"$f":"INSERT!D14","v":0},{"$f":"INSERT!E14","v":0}]
[13,{"$f":"INSERT!A15","v":0},{"$f":"INSERT!B15","v":0},{"$f":"INSERT!C15","v":0},{"$f":"INSERT!D15","v":0},{"$f":"INSERT!E15","v":0}]
[14,{"$f":"INSERT!A16","v":0},{"$f":"INSERT!B16","v":0},{"$f":"INSERT!C16","v":0},{"$f":"INSERT!D16","v":0},{"$f":"INSERT!E16","v":0}]
[15,{"$f":"INSERT!A17","v":0},{"$f":"INSERT!B17","v":0},{"$f":"INSERT!C17","v":0},{"$f":"INSERT!D17","v":0},{"$f":"INSERT!E17","v":0}]
[16,{"$f":"INSERT!A18","v":0},{"$f":"INSERT!B18","v":0},{"$f":"INSERT!C18","v":0},{"$f":"INSERT!D18","v":0},{"$f":"INSERT!E18","v":0}]
[17,{"$f":"INSERT!A19","v":0},{"$f":"INSERT!B19","v":0},{"$f":"INSERT!C19","v":0},{"$f":"INSERT!D19","v":0},{"$f":"INSERT!E19","v":0}]
[18,{"$f":"INSERT!A20","v":0},{"$f":"INSERT!B20","v":0},{"$f":"INSERT!C20","v":0},{"$f":"INSERT!D20","v":0},{"$f":"INSERT!E20","v":0}]
[19,{"$f":"INSERT!A21","v":0},{"$f":"INSERT!B21","v":0},{"$f":"INSERT!C21","v":0},{"$f":"INSERT!D21","v":0},{"$f":"INSERT!E21","v":0}]
[20,{"$f":"INSERT!A22","v":0},{"$f":"INSERT!B22","v":0},{"$f":"INSERT!C22","v":0},{"$f":"INSERT!D22","v":0},{"$f":"INSERT!E22","v":0}]
[21,{"$f":"INSERT!A23","v":0},{"$f":"INSERT!B23","v":0},{"$f":"INSERT!C23","v":0},{"$f":"INSERT!D23","v":0},{"$f":"INSERT!E23","v":0}]
[22,{"$f":"INSERT!A24","v":0},{"$f":"INSERT!B24","v":0},{"$f":"INSERT!C24","v":0},{"$f":"INSERT!D24","v":0},{"$f":"INSERT!E24","v":0}]
[23,{"$f":"INSERT!A25","v":0},{"$f":"INSERT!B25","v":0},{"$f":"INSERT!C25","v":0},{"$f":"INSERT!D25","v":0},{"$f":"INSERT!E25","v":0}]
[24,{"$f":"INSERT!A26","v":0},{"$f":"INSERT!B26","v":0},{"$f":"INSERT!C26","v":0},{"$f":"INSERT!D26","v":0},{"$f":"INSERT!E26","v":0}]
[25,{"$f":"INSERT!A27","v":0},{"$f":"INSERT!B27","v":0},{"$f":"INSERT!C27","v":0},{"$f":"INSERT!D27","v":0},{"$f":"INSERT!E27","v":0}]
[26,{"$f":"INSERT!A28","v":0},{"$f":"INSERT!B28","v":0},{"$f":"INSERT!C28","v":0},{"$f":"INSERT!D28","v":0},{"$f":"INSERT!E28","v":0}]
[27,{"$f":"INSERT!A29","v":0},{"$f":"INSERT!B29","v":0},{"$f":"INSERT!C29","v":0},{"$f":"INSERT!D29","v":0},{"$f":"INSERT!E29","v":0}]
[28,{"$f":"INSERT!A30","v":0},{"$f":"INSERT!B30","v":0},{"$f":"INSERT!C30","v":0},{"$f":"INSERT!D30","v":0},{"$f":"INSERT!E30","v":0}]
[29,{"$f":"INSERT!A31","v":0},{"$f":"INSERT!B31","v":0},{"$f":"INSERT!C31","v":0},{"$f":"INSERT!D31","v":0},{"$f":"INSERT!E31","v":0}]
[30,{"$f":"INSERT!A32","v":0},{"$f":"INSERT!B32","v":0},{"$f":"INSERT!C32","v":0},{"$f":"INSERT!D32","v":0},{"$f":"INSERT!E32","v":0}]
[31,{"$f":"INSERT!A33","v":0},{"$f":"INSERT!B33","v":0},{"$f":"INSERT!C33","v":0},{"$f":"INSERT!D33","v":0},{"$f":"INSERT!E33","v":0}]
[32,{"$f":"INSERT!A34","v":0},{"$f":"INSERT!B34","v":0},{"$f":"INSERT!C34","v":0},{"$f":"INSERT!D34","v":0},{"$f":"INSERT!E34","v":0}]
[33,{"$f":"INSERT!A35","v":0},{"$f":"INSERT!B35","v":0},{"$f":"INSERT!C35","v":0},{"$f":"INSERT!D35","v":0},{"$f":"INSERT!E35","v":0}]
[34,{"$f":"INSERT!A36","v":0},{"$f":"INSERT!B36","v":0},{"$f":"INSERT!C36","v":0},{"$f":"INSERT!D36","v":0},{"$f":"INSERT!E36","v":0}]
[35,{"$f":"INSERT!A37","v":0},{"$f":"INSERT!B37","v":0},{"$f":"INSERT!C37","v":0},{"$f":"INSERT!D37","v":0},{"$f":"INSERT!E37","v":0}]
[36,{"$f":"INSERT!A38","v":0},{"$f":"INSERT!B38","v":0},{"$f":"INSERT!C38","v":0},{"$f":"INSERT!D38","v":0},{"$f":"INSERT!E38","v":0}]
[37,{"$f":"INSERT!A39","v":0},{"$f":"INSERT!B39","v":0},{"$f":"INSERT!C39","v":0},{"$f":"INSERT!D39","v":0},{"$f":"INSERT!E39","v":0}]
[38,{"$f":"INSERT!A40","v":0},{"$f":"INSERT!B40","v":0},{"$f":"INSERT!C40","v":0},{"$f":"INSERT!D40","v":0},{"$f":"INSERT!E40","v":0}]
[39,{"$f":"INSERT!A41","v":0},{"$f":"INSERT!B41","v":0},{"$f":"INSERT!C41","v":0},{"$f":"INSERT!D41","v":0},{"$f":"INSERT!E41","v":0}]
[40,{"$f":"INSERT!A42","v":0},{"$f":"INSERT!B42","v":0},{"$f":"INSERT!C42","v":0},{"$f":"INSERT!D42","v":0},{"$f":"INSERT!E42","v":0}]
[41,{"$f":"INSERT!A43","v":0},{"$f":"INSERT!B43","v":0},{"$f":"INSERT!C43","v":0},{"$f":"INSERT!D43","v":0},{"$f":"INSERT!E43","v":0}]
[42,{"$f":"INSERT!A44","v":0},{"$f":"INSERT!B44","v":0},{"$f":"INSERT!C44","v":0},{"$f":"INSERT!D44","v":0},{"$f":"INSERT!E44","v":0}]
[43,{"$f":"INSERT!A45","v":0},{"$f":"INSERT!B45","v":0},{"$f":"INSERT!C45","v":0},{"$f":"INSERT!D45","v":0},{"$f":"INSERT!E45","v":0}]
[44,{"$f":"INSERT!A46","v":0},{"$f":"INSERT!B46","v":0},{"$f":"INSERT!C46","v":0},{"$f":"INSERT!D46","v":0},{"$f":"INSERT!E46","v":0}]
[45,{"$f":"INSERT!A47","v":0},{"$f":"INSERT!B47","v":0},{"$f":"INSERT!C47","v":0},{"$f":"INSERT!D47","v":0},{"$f":"INSERT!E47","v":0}]
[46,{"$f":"INSERT!A48","v":0},{"$f":"INSERT!B48","v":0},{"$f":"INSERT!C48","v":0},{"$f":"INSERT!D48","v":0},{"$f":"INSERT!E48","v":0}]
[47,{"$f":"INSERT!A49","v":0},{"$f":"INSERT!B49","v":0},{"$f":"INSERT!C49","v":0},{"$f":"INSERT!D49","v":0},{"$f":"INSERT!E49","v":0}]
[48,{"$f":"INSERT!A50","v":0},{"$f":"INSERT!B50","v":0},{"$f":"INSERT!C50","v":0},{"$f":"INSERT!D50","v":0},{"$f":"INSERT!E50","v":0}]
[49,{"$f":"INSERT!A51","v":0},{"$f":"INSERT!B51","v":0},{"$f":"INSERT!C51","v":0},{"$f":"INSERT!D51","v":0},{"$f":"INSERT!E51","v":0}]
[50,{"$f":"INSERT!A52","v":0},{"$f":"INSERT!B52","v":0},{"$f":"INSERT!C52","v":0},{"$f":"INSERT!D52","v":0},{"$f":"INSERT!E52","v":0}]
[51,{"$f":"INSERT!A53","v":0},{"$f":"INSERT!B53","v":0},{"$f":"INSERT!C53","v":0},{"$f":"INSERT!D53","v":0},{"$f":"INSERT!E53","v":0}]
[52,{"$f":"INSERT!A54","v":0},{"$f":"INSERT!B54","v":0},{"$f":"INSERT!C54","v":0},{"$f":"INSERT!D54","v":0},{"$f":"INSERT!E54","v":0}]
[53,{"$f":"INSERT!A55","v":0},{"$f":"INSERT!B55","v":0},{"$f":"INSERT!C55","v":0},{"$f":"INSERT!D55","v":0},{"$f":"INSERT!E55","v":0}]
[54,{"$f":"INSERT!A56","v":0},{"$f":"INSERT!B56","v":0},{"$f":"INSERT!C56","v":0},{"$f":"INSERT!D56","v":0},{"$f":"INSERT!E56","v":0}]
[55,{"$f":"INSERT!A57","v":0},{"$f":"INSERT!B57","v":0},{"$f":"INSERT!C57","v":0},{"$f":"INSERT!D57","v":0},{"$f":"INSERT!E57","v":0}]
[56,{"$f":"INSERT!A58","v":0},{"$f":"INSERT!B58","v":0},{"$f":"INSERT!C58","v":0},{"$f":"INSERT!D58","v":0},{"$f":"INSERT!E58","v":0}]
[57,{"$f":"INSERT!A59","v":0},{"$f":"INSERT!B59","v":0},{"$f":"INSERT!C59","v":0},{"$f":"INSERT!D59","v":0},{"$f":"INSERT!E59","v":0}]
[58,{"$f":"INSERT!A60","v":0},{"$f":"INSERT!B60","v":0},{"$f":"INSERT!C60","v":0},{"$f":"INSERT!D60","v":0},{"$f":"INSERT!E60","v":0}]
[59,{"$f":"INSERT!A61","v":0},{"$f":"INSERT!B61","v":0},{"$f":"INSERT!C61","v":0},{"$f":"INSERT!D61","v":0},{"$f":"INSERT!E61","v":0}]
[60,{"$f":"INSERT!A62","v":0},{"$f":"INSERT!B62","v":0},{"$f":"INSERT!C62","v":0},{"$f":"INSERT!D62","v":0},{"$f":"INSERT!E62","v":0}]
[61,{"$f":"INSERT!A63","v":0},{"$f":"INSERT!B63","v":0},{"$f":"INSERT!C63","v":0},{"$f":"INSERT!D63","v":0},{"$f":"INSERT!E63","v":0}]
[62,{"$f":"INSERT!A64","v":0},{"$f":"INSERT!B64","v":0},{"$f":"INSERT!C64","v":0},{"$f":"INSERT!D64","v":0},{"$f":"INSERT!E64","v":0}]
[63,{"$f":"INSERT!A65","v":0},{"$f":"INSERT!B65","v":0},{"$f":"INSERT!C65","v":0},{"$f":"INSERT!D65","v":0},{"$f":"INSERT!E65","v":0}]
[64,{"$f":"INSERT!A66","v":0},{"$f":"INSERT!B66","v":0},{"$f":"INSERT!C66","v":0},{"$f":"INSERT!D66","v":0},{"$f":"INSERT!E66","v":0}]
[65,{"$f":"INSERT!A67","v":0},{"$f":"INSERT!B67","v":0},{"$f":"INSERT!C67","v":0},{"$f":"INSERT!D67","v":0},{"$f":"INSERT!E67","v":0}]
[66,{"$f":"INSERT!A68","v":0},{"$f":"INSERT!B68","v":0},{"$f":"INSERT!C68","v":0},{"$f":"INSERT!D68","v":0},{"$f":"INSERT!E68","v":0}]
[67,{"$f":"INSERT!A69","v":0},{"$f":"INSERT!B69","v":0},{"$f":"INSERT!C69","v":0},{"$f":"INSERT!D69","v":0},{"$f":"INSERT!E69","v":0}]
[68,{"$f":"INSERT!A70","v":0},{"$f":"INSERT!B70","v":0},{"$f":"INSERT!C70","v":0},{"$f":"INSERT!D70","v":0},{"$f":"INSERT!E70","v":0}]
[69,{"$f":"INSERT!A71","v":0},{"$f":"INSERT!B71","v":0},{"$f":"INSERT!C71","v":0},{"$f":"INSERT!D71","v":0},{"$f":"INSERT!E71","v":0}]
[70,{"$f":"INSERT!A72","v":0},{"$f":"INSERT!B72","v":0},{"$f":"INSERT!C72","v":0},{"$f":"INSERT!D72","v":0},{"$f":"INSERT!E72","v":0}]
[71,{"$f":"INSERT!A73","v":0},{"$f":"INSERT!B73","v":0},{"$f":"INSERT!C73","v":0},{"$f":"INSERT!D73","v":0},{"$f":"INSERT!E73","v":0}]
[72,{"$f":"INSERT!A74","v":0},{"$f":"INSERT!B74","v":0},{"$f":"INSERT!C74","v":0},{"$f":"INSERT!D74","v":0},{"$f":"INSERT!E74","v":0}]
[73,{"$f":"INSERT!A75","v":0},{"$f":"INSERT!B75","v":0},{"$f":"INSERT!C75","v":0},{"$f":"INSERT!D75","v":0},{"$f":"INSERT!E75","v":0}]
[74,{"$f":"INSERT!A76","v":0},{"$f":"INSERT!B76","v":0},{"$f":"INSERT!C76","v":0},{"$f":"INSERT!D76","v":0},{"$f":"INSERT!E76","v":0}]
[75,{"$f":"INSERT!A77","v":0},{"$f":"INSERT!B77","v":0},{"$f":"INSERT!C77","v":0},{"$f":"INSERT!D77","v":0},{"$f":"INSERT!E77","v":0}]
[76,{"$f":"INSERT!A78","v":0},{"$f":"INSERT!B78","v":0},{"$f":"INSERT!C78","v":0},{"$f":"INSERT!D78","v":0},{"$f":"INSERT!E78","v":0}]
[77,{"$f":"INSERT!A79","v":0},{"$f":"INSERT!B79","v":0},{"$f":"INSERT!C79","v":0},{"$f":"INSERT!D79","v":0},{"$f":"INSERT!E79","v":0}]
[78,{"$f":"INSERT!A80","v":0},{"$f":"INSERT!B80","v":0},{"$f":"INSERT!C80","v":0},{"$f":"INSERT!D80","v":0},{"$f":"INSERT!E80","v":0}]
[79,{"$f":"INSERT!A81","v":0},{"$f":"INSERT!B81","v":0},{"$f":"INSERT!C81","v":0},{"$f":"INSERT!D81","v":0},{"$f":"INSERT!E81","v":0}]
[80,{"$f":"INSERT!A82","v":0},{"$f":"INSERT!B82","v":0},{"$f":"INSERT!C82","v":0},{"$f":"INSERT!D82","v":0},{"$f":"INSERT!E82","v":0}]
[81,{"$f":"INSERT!A83","v":0},{"$f":"INSERT!B83","v":0},{"$f":"INSERT!C83","v":0},{"$f":"INSERT!D83","v":0},{"$f":"INSERT!E83","v":0}]
[82,{"$f":"INSERT!A84","v":0},{"$f":"INSERT!B84","v":0},{"$f":"INSERT!C84","v":0},{"$f":"INSERT!D84","v":0},{"$f":"INSERT!E84","v":0}]
[83,{"$f":"INSERT!A85","v":0},{"$f":"INSERT!B85","v":0},{"$f":"INSERT!C85","v":0},{"$f":"INSERT!D85","v":0},{"$f":"INSERT!E85","v":0}]
[84,{"$f":"INSERT!A86","v":0},{"$f":"INSERT!B86","v":0},{"$f":"INSERT!C86","v":0},{"$f":"INSERT!D86","v":0},{"$f":"INSERT!E86","v":0}]
[85,{"$f":"INSERT!A87","v":0},{"$f":"INSERT!B87","v":0},{"$f":"INSERT!C87","v":0},{"$f":"INSERT!D87","v":0},{"$f":"INSERT!E87","v":0}]
[86,{"$f":"INSERT!A88","v":0},{"$f":"INSERT!B88","v":0},{"$f":"INSERT!C88","v":0},{"$f":"INSERT!D88","v":0},{"$f":"INSERT!E88","v":0}]
[87,{"$f":"INSERT!A89","v":0},{"$f":"INSERT!B89","v":0},{"$f":"INSERT!C89","v":0},{"$f":"INSERT!D89","v":0},{"$f":"INSERT!E89","v":0}]
[88,{"$f":"INSERT!A90","v":0},{"$f":"INSERT!B90","v":0},{"$f":"INSERT!C90","v":0},{"$f":"INSERT!D90","v":0},{"$f":"INSERT!E90","v":0}]
[89,{"$f":"INSERT!A91","v":0},{"$f":"INSERT!B91","v":0},{"$f":"INSERT!C91","v":0},{"$f":"INSERT!D91","v":0},{"$f":"INSERT!E91","v":0}]
[90,{"$f":"INSERT!A92","v":0},{"$f":"INSERT!B92","v":0},{"$f":"INSERT!C92","v":0},{"$f":"INSERT!D92","v":0},{"$f":"INSERT!E92","v":0}]
[91,{"$f":"INSERT!A93","v":0},{"$f":"INSERT!B93","v":0},{"$f":"INSERT!C93","v":0},{"$f":"INSERT!D93","v":0},{"$f":"INSERT!E93","v":0}]
[92,{"$f":"INSERT!A94","v":0},{"$f":"INSERT!B94","v":0},{"$f":"INSERT!C94","v":0},{"$f":"INSERT!D94","v":0},{"$f":"INSERT!E94","v":0}]
[93,{"$f":"INSERT!A95","v":0},{"$f":"INSERT!B95","v":0},{"$f":"INSERT!C95","v":0},{"$f":"INSERT!D95","v":0},{"$f":"INSERT!E95","v":0}]
[94,{"$f":"INSERT!A96","v":0},{"$f":"INSERT!B96","v":0},{"$f":"INSERT!C96","v":0},{"$f":"INSERT!D96","v":0},{"$f":"INSERT!E96","v":0}]
[95,{"$f":"INSERT!A97","v":0},{"$f":"INSERT!B97","v":0},{"$f":"INSERT!C97","v":0},{"$f":"INSERT!D97","v":0},{"$f":"INSERT!E97","v":0}]
[96,{"$f":"INSERT!A98","v":0},{"$f":"INSERT!B98","v":0},{"$f":"INSERT!C98","v":0},{"$f":"INSERT!D98","v":0},{"$f":"INSERT!E98","v":0}]
[97,{"$f":"INSERT!A99","v":0},{"$f":"INSERT!B99","v":0},{"$f":"INSERT!C99","v":0},{"$f":"INSERT!D99","v":0},{"$f":"INSERT!E99","v":0}]
[98,{"$f":"INSERT!A100","v":0},{"$f":"INSERT!B100","v":0},{"$f":"INSERT!C100","v":0},{"$f":"INSERT!D100","v":0},{"$f":"INSERT!E100","v":0}]
[99,{"$f":"INSERT!A101","v":0},{"$f":"INSERT!B101","v":0},{"$f":"INSERT!C101","v":0},{"$f":"INSERT!D101","v":0},{"$f":"INSERT!E101","v":0}]
[100,{"$f":"INSERT!A102","v":0},{"$f":"INSERT!B102","v":0},{"$f":"INSERT!C102","v":0},{"$f":"INSERT!D102","v":0},{"$f":"INSERT!E102","v":0}]

{"sheet":"PAT Sign","index":22,"n_rows":105,"n_cols":14,"rows_kept":105,"cut":false,"hidden":false,"merged":[[1,6,1,7],[1,8,1,9],[1,10,1,11],[1,12,1,13]]}
[null,null,null,null,null,"GRADE :",{"$f":"TERM1!$F$6","v":0},"EGD"]
[null,null,null,null,null,null,"PAT (Paper 3) Scenario`s",null,"PAT (Paper 3)           Phase 1",null,"PAT (Paper 3)           Phase 2"]
[null,null,null,null,null,null,"DUE DATE: ",null,"DUE DATE: ",null,"DUE DATE: ",null,"DUE DATE: "]
[null,"Class","Admission","SURNAME","NAME","Gender","Out","Back","Out","Back","Out","Back","Out","Back"]
[]
[1,{"$f":"INSERT!A3","v":0},{"$f":"INSERT!B3","v":0},{"$f":"INSERT!C3","v":0},{"$f":"INSERT!D3","v":0},{"$f":"INSERT!E3","v":0}]
[2,{"$f":"INSERT!A4","v":0},{"$f":"INSERT!B4","v":0},{"$f":"INSERT!C4","v":0},{"$f":"INSERT!D4","v":0},{"$f":"INSERT!E4","v":0}]
[3,{"$f":"INSERT!A5","v":0},{"$f":"INSERT!B5","v":0},{"$f":"INSERT!C5","v":0},{"$f":"INSERT!D5","v":0},{"$f":"INSERT!E5","v":0}]
[4,{"$f":"INSERT!A6","v":0},{"$f":"INSERT!B6","v":0},{"$f":"INSERT!C6","v":0},{"$f":"INSERT!D6","v":0},{"$f":"INSERT!E6","v":0}]
[5,{"$f":"INSERT!A7","v":0},{"$f":"INSERT!B7","v":0},{"$f":"INSERT!C7","v":0},{"$f":"INSERT!D7","v":0},{"$f":"INSERT!E7","v":0}]
[6,{"$f":"INSERT!A8","v":0},{"$f":"INSERT!B8","v":0},{"$f":"INSERT!C8","v":0},{"$f":"INSERT!D8","v":0},{"$f":"INSERT!E8","v":0}]
[7,{"$f":"INSERT!A9","v":0},{"$f":"INSERT!B9","v":0},{"$f":"INSERT!C9","v":0},{"$f":"INSERT!D9","v":0},{"$f":"INSERT!E9","v":0}]
[8,{"$f":"INSERT!A10","v":0},{"$f":"INSERT!B10","v":0},{"$f":"INSERT!C10","v":0},{"$f":"INSERT!D10","v":0},{"$f":"INSERT!E10","v":0}]
[9,{"$f":"INSERT!A11","v":0},{"$f":"INSERT!B11","v":0},{"$f":"INSERT!C11","v":0},{"$f":"INSERT!D11","v":0},{"$f":"INSERT!E11","v":0}]
[10,{"$f":"INSERT!A12","v":0},{"$f":"INSERT!B12","v":0},{"$f":"INSERT!C12","v":0},{"$f":"INSERT!D12","v":0},{"$f":"INSERT!E12","v":0}]
[11,{"$f":"INSERT!A13","v":0},{"$f":"INSERT!B13","v":0},{"$f":"INSERT!C13","v":0},{"$f":"INSERT!D13","v":0},{"$f":"INSERT!E13","v":0}]
[12,{"$f":"INSERT!A14","v":0},{"$f":"INSERT!B14","v":0},{"$f":"INSERT!C14","v":0},{"$f":"INSERT!D14","v":0},{"$f":"INSERT!E14","v":0}]
[13,{"$f":"INSERT!A15","v":0},{"$f":"INSERT!B15","v":0},{"$f":"INSERT!C15","v":0},{"$f":"INSERT!D15","v":0},{"$f":"INSERT!E15","v":0}]
[14,{"$f":"INSERT!A16","v":0},{"$f":"INSERT!B16","v":0},{"$f":"INSERT!C16","v":0},{"$f":"INSERT!D16","v":0},{"$f":"INSERT!E16","v":0}]
[15,{"$f":"INSERT!A17","v":0},{"$f":"INSERT!B17","v":0},{"$f":"INSERT!C17","v":0},{"$f":"INSERT!D17","v":0},{"$f":"INSERT!E17","v":0}]
[16,{"$f":"INSERT!A18","v":0},{"$f":"INSERT!B18","v":0},{"$f":"INSERT!C18","v":0},{"$f":"INSERT!D18","v":0},{"$f":"INSERT!E18","v":0}]
[17,{"$f":"INSERT!A19","v":0},{"$f":"INSERT!B19","v":0},{"$f":"INSERT!C19","v":0},{"$f":"INSERT!D19","v":0},{"$f":"INSERT!E19","v":0}]
[18,{"$f":"INSERT!A20","v":0},{"$f":"INSERT!B20","v":0},{"$f":"INSERT!C20","v":0},{"$f":"INSERT!D20","v":0},{"$f":"INSERT!E20","v":0}]
[19,{"$f":"INSERT!A21","v":0},{"$f":"INSERT!B21","v":0},{"$f":"INSERT!C21","v":0},{"$f":"INSERT!D21","v":0},{"$f":"INSERT!E21","v":0}]
[20,{"$f":"INSERT!A22","v":0},{"$f":"INSERT!B22","v":0},{"$f":"INSERT!C22","v":0},{"$f":"INSERT!D22","v":0},{"$f":"INSERT!E22","v":0}]
[21,{"$f":"INSERT!A23","v":0},{"$f":"INSERT!B23","v":0},{"$f":"INSERT!C23","v":0},{"$f":"INSERT!D23","v":0},{"$f":"INSERT!E23","v":0}]
[22,{"$f":"INSERT!A24","v":0},{"$f":"INSERT!B24","v":0},{"$f":"INSERT!C24","v":0},{"$f":"INSERT!D24","v":0},{"$f":"INSERT!E24","v":0}]
[23,{"$f":"INSERT!A25","v":0},{"$f":"INSERT!B25","v":0},{"$f":"INSERT!C25","v":0},{"$f":"INSERT!D25","v":0},{"$f":"INSERT!E25","v":0}]
[24,{"$f":"INSERT!A26","v":0},{"$f":"INSERT!B26","v":0},{"$f":"INSERT!C26","v":0},{"$f":"INSERT!D26","v":0},{"$f":"INSERT!E26","v":0}]
[25,{"$f":"INSERT!A27","v":0},{"$f":"INSERT!B27","v":0},{"$f":"INSERT!C27","v":0},{"$f":"INSERT!D27","v":0},{"$f":"INSERT!E27","v":0}]
[26,{"$f":"INSERT!A28","v":0},{"$f":"INSERT!B28","v":0},{"$f":"INSERT!C28","v":0},{"$f":"INSERT!D28","v":0},{"$f":"INSERT!E28","v":0}]
[27,{"$f":"INSERT!A29","v":0},{"$f":"INSERT!B29","v":0},{"$f":"INSERT!C29","v":0},{"$f":"INSERT!D29","v":0},{"$f":"INSERT!E29","v":0}]
[28,{"$f":"INSERT!A30","v":0},{"$f":"INSERT!B30","v":0},{"$f":"INSERT!C30","v":0},{"$f":"INSERT!D30","v":0},{"$f":"INSERT!E30","v":0}]
[29,{"$f":"INSERT!A31","v":0},{"$f":"INSERT!B31","v":0},{"$f":"INSERT!C31","v":0},{"$f":"INSERT!D31","v":0},{"$f":"INSERT!E31","v":0}]
[30,{"$f":"INSERT!A32","v":0},{"$f":"INSERT!B32","v":0},{"$f":"INSERT!C32","v":0},{"$f":"INSERT!D32","v":0},{"$f":"INSERT!E32","v":0}]
[31,{"$f":"INSERT!A33","v":0},{"$f":"INSERT!B33","v":0},{"$f":"INSERT!C33","v":0},{"$f":"INSERT!D33","v":0},{"$f":"INSERT!E33","v":0}]
[32,{"$f":"INSERT!A34","v":0},{"$f":"INSERT!B34","v":0},{"$f":"INSERT!C34","v":0},{"$f":"INSERT!D34","v":0},{"$f":"INSERT!E34","v":0}]
[33,{"$f":"INSERT!A35","v":0},{"$f":"INSERT!B35","v":0},{"$f":"INSERT!C35","v":0},{"$f":"INSERT!D35","v":0},{"$f":"INSERT!E35","v":0}]
[34,{"$f":"INSERT!A36","v":0},{"$f":"INSERT!B36","v":0},{"$f":"INSERT!C36","v":0},{"$f":"INSERT!D36","v":0},{"$f":"INSERT!E36","v":0}]
[35,{"$f":"INSERT!A37","v":0},{"$f":"INSERT!B37","v":0},{"$f":"INSERT!C37","v":0},{"$f":"INSERT!D37","v":0},{"$f":"INSERT!E37","v":0}]
[36,{"$f":"INSERT!A38","v":0},{"$f":"INSERT!B38","v":0},{"$f":"INSERT!C38","v":0},{"$f":"INSERT!D38","v":0},{"$f":"INSERT!E38","v":0}]
[37,{"$f":"INSERT!A39","v":0},{"$f":"INSERT!B39","v":0},{"$f":"INSERT!C39","v":0},{"$f":"INSERT!D39","v":0},{"$f":"INSERT!E39","v":0}]
[38,{"$f":"INSERT!A40","v":0},{"$f":"INSERT!B40","v":0},{"$f":"INSERT!C40","v":0},{"$f":"INSERT!D40","v":0},{"$f":"INSERT!E40","v":0}]
[39,{"$f":"INSERT!A41","v":0},{"$f":"INSERT!B41","v":0},{"$f":"INSERT!C41","v":0},{"$f":"INSERT!D41","v":0},{"$f":"INSERT!E41","v":0}]
[40,{"$f":"INSERT!A42","v":0},{"$f":"INSERT!B42","v":0},{"$f":"INSERT!C42","v":0},{"$f":"INSERT!D42","v":0},{"$f":"INSERT!E42","v":0}]
[41,{"$f":"INSERT!A43","v":0},{"$f":"INSERT!B43","v":0},{"$f":"INSERT!C43","v":0},{"$f":"INSERT!D43","v":0},{"$f":"INSERT!E43","v":0}]
[42,{"$f":"INSERT!A44","v":0},{"$f":"INSERT!B44","v":0},{"$f":"INSERT!C44","v":0},{"$f":"INSERT!D44","v":0},{"$f":"INSERT!E44","v":0}]
[43,{"$f":"INSERT!A45","v":0},{"$f":"INSERT!B45","v":0},{"$f":"INSERT!C45","v":0},{"$f":"INSERT!D45","v":0},{"$f":"INSERT!E45","v":0}]
[44,{"$f":"INSERT!A46","v":0},{"$f":"INSERT!B46","v":0},{"$f":"INSERT!C46","v":0},{"$f":"INSERT!D46","v":0},{"$f":"INSERT!E46","v":0}]
[45,{"$f":"INSERT!A47","v":0},{"$f":"INSERT!B47","v":0},{"$f":"INSERT!C47","v":0},{"$f":"INSERT!D47","v":0},{"$f":"INSERT!E47","v":0}]
[46,{"$f":"INSERT!A48","v":0},{"$f":"INSERT!B48","v":0},{"$f":"INSERT!C48","v":0},{"$f":"INSERT!D48","v":0},{"$f":"INSERT!E48","v":0}]
[47,{"$f":"INSERT!A49","v":0},{"$f":"INSERT!B49","v":0},{"$f":"INSERT!C49","v":0},{"$f":"INSERT!D49","v":0},{"$f":"INSERT!E49","v":0}]
[48,{"$f":"INSERT!A50","v":0},{"$f":"INSERT!B50","v":0},{"$f":"INSERT!C50","v":0},{"$f":"INSERT!D50","v":0},{"$f":"INSERT!E50","v":0}]
[49,{"$f":"INSERT!A51","v":0},{"$f":"INSERT!B51","v":0},{"$f":"INSERT!C51","v":0},{"$f":"INSERT!D51","v":0},{"$f":"INSERT!E51","v":0}]
[50,{"$f":"INSERT!A52","v":0},{"$f":"INSERT!B52","v":0},{"$f":"INSERT!C52","v":0},{"$f":"INSERT!D52","v":0},{"$f":"INSERT!E52","v":0}]
[51,{"$f":"INSERT!A53","v":0},{"$f":"INSERT!B53","v":0},{"$f":"INSERT!C53","v":0},{"$f":"INSERT!D53","v":0},{"$f":"INSERT!E53","v":0}]
[52,{"$f":"INSERT!A54","v":0},{"$f":"INSERT!B54","v":0},{"$f":"INSERT!C54","v":0},{"$f":"INSERT!D54","v":0},{"$f":"INSERT!E54","v":0}]
[53,{"$f":"INSERT!A55","v":0},{"$f":"INSERT!B55","v":0},{"$f":"INSERT!C55","v":0},{"$f":"INSERT!D55","v":0},{"$f":"INSERT!E55","v":0}]
[54,{"$f":"INSERT!A56","v":0},{"$f":"INSERT!B56","v":0},{"$f":"INSERT!C56","v":0},{"$f":"INSERT!D56","v":0},{"$f":"INSERT!E56","v":0}]
[55,{"$f":"INSERT!A57","v":0},{"$f":"INSERT!B57","v":0},{"$f":"INSERT!C57","v":0},{"$f":"INSERT!D57","v":0},{"$f":"INSERT!E57","v":0}]
[56,{"$f":"INSERT!A58","v":0},{"$f":"INSERT!B58","v":0},{"$f":"INSERT!C58","v":0},{"$f":"INSERT!D58","v":0},{"$f":"INSERT!E58","v":0}]
[57,{"$f":"INSERT!A59","v":0},{"$f":"INSERT!B59","v":0},{"$f":"INSERT!C59","v":0},{"$f":"INSERT!D59","v":0},{"$f":"INSERT!E59","v":0}]
[58,{"$f":"INSERT!A60","v":0},{"$f":"INSERT!B60","v":0},{"$f":"INSERT!C60","v":0},{"$f":"INSERT!D60","v":0},{"$f":"INSERT!E60","v":0}]
[59,{"$f":"INSERT!A61","v":0},{"$f":"INSERT!B61","v":0},{"$f":"INSERT!C61","v":0},{"$f":"INSERT!D61","v":0},{"$f":"INSERT!E61","v":0}]
[60,{"$f":"INSERT!A62","v":0},{"$f":"INSERT!B62","v":0},{"$f":"INSERT!C62","v":0},{"$f":"INSERT!D62","v":0},{"$f":"INSERT!E62","v":0}]
[61,{"$f":"INSERT!A63","v":0},{"$f":"INSERT!B63","v":0},{"$f":"INSERT!C63","v":0},{"$f":"INSERT!D63","v":0},{"$f":"INSERT!E63","v":0}]
[62,{"$f":"INSERT!A64","v":0},{"$f":"INSERT!B64","v":0},{"$f":"INSERT!C64","v":0},{"$f":"INSERT!D64","v":0},{"$f":"INSERT!E64","v":0}]
[63,{"$f":"INSERT!A65","v":0},{"$f":"INSERT!B65","v":0},{"$f":"INSERT!C65","v":0},{"$f":"INSERT!D65","v":0},{"$f":"INSERT!E65","v":0}]
[64,{"$f":"INSERT!A66","v":0},{"$f":"INSERT!B66","v":0},{"$f":"INSERT!C66","v":0},{"$f":"INSERT!D66","v":0},{"$f":"INSERT!E66","v":0}]
[65,{"$f":"INSERT!A67","v":0},{"$f":"INSERT!B67","v":0},{"$f":"INSERT!C67","v":0},{"$f":"INSERT!D67","v":0},{"$f":"INSERT!E67","v":0}]
[66,{"$f":"INSERT!A68","v":0},{"$f":"INSERT!B68","v":0},{"$f":"INSERT!C68","v":0},{"$f":"INSERT!D68","v":0},{"$f":"INSERT!E68","v":0}]
[67,{"$f":"INSERT!A69","v":0},{"$f":"INSERT!B69","v":0},{"$f":"INSERT!C69","v":0},{"$f":"INSERT!D69","v":0},{"$f":"INSERT!E69","v":0}]
[68,{"$f":"INSERT!A70","v":0},{"$f":"INSERT!B70","v":0},{"$f":"INSERT!C70","v":0},{"$f":"INSERT!D70","v":0},{"$f":"INSERT!E70","v":0}]
[69,{"$f":"INSERT!A71","v":0},{"$f":"INSERT!B71","v":0},{"$f":"INSERT!C71","v":0},{"$f":"INSERT!D71","v":0},{"$f":"INSERT!E71","v":0}]
[70,{"$f":"INSERT!A72","v":0},{"$f":"INSERT!B72","v":0},{"$f":"INSERT!C72","v":0},{"$f":"INSERT!D72","v":0},{"$f":"INSERT!E72","v":0}]
[71,{"$f":"INSERT!A73","v":0},{"$f":"INSERT!B73","v":0},{"$f":"INSERT!C73","v":0},{"$f":"INSERT!D73","v":0},{"$f":"INSERT!E73","v":0}]
[72,{"$f":"INSERT!A74","v":0},{"$f":"INSERT!B74","v":0},{"$f":"INSERT!C74","v":0},{"$f":"INSERT!D74","v":0},{"$f":"INSERT!E74","v":0}]
[73,{"$f":"INSERT!A75","v":0},{"$f":"INSERT!B75","v":0},{"$f":"INSERT!C75","v":0},{"$f":"INSERT!D75","v":0},{"$f":"INSERT!E75","v":0}]
[74,{"$f":"INSERT!A76","v":0},{"$f":"INSERT!B76","v":0},{"$f":"INSERT!C76","v":0},{"$f":"INSERT!D76","v":0},{"$f":"INSERT!E76","v":0}]
[75,{"$f":"INSERT!A77","v":0},{"$f":"INSERT!B77","v":0},{"$f":"INSERT!C77","v":0},{"$f":"INSERT!D77","v":0},{"$f":"INSERT!E77","v":0}]
[76,{"$f":"INSERT!A78","v":0},{"$f":"INSERT!B78","v":0},{"$f":"INSERT!C78","v":0},{"$f":"INSERT!D78","v":0},{"$f":"INSERT!E78","v":0}]
[77,{"$f":"INSERT!A79","v":0},{"$f":"INSERT!B79","v":0},{"$f":"INSERT!C79","v":0},{"$f":"INSERT!D79","v":0},{"$f":"INSERT!E79","v":0}]
[78,{"$f":"INSERT!A80","v":0},{"$f":"INSERT!B80","v":0},{"$f":"INSERT!C80","v":0},{"$f":"INSERT!D80","v":0},{"$f":"INSERT!E80","v":0}]
[79,{"$f":"INSERT!A81","v":0},{"$f":"INSERT!B81","v":0},{"$f":"INSERT!C81","v":0},{"$f":"INSERT!D81","v":0},{"$f":"INSERT!E81","v":0}]
[80,{"$f":"INSERT!A82","v":0},{"$f":"INSERT!B82","v":0},{"$f":"INSERT!C82","v":0},{"$f":"INSERT!D82","v":0},{"$f":"INSERT!E82","v":0}]
[81,{"$f":"INSERT!A83","v":0},{"$f":"INSERT!B83","v":0},{"$f":"INSERT!C83","v":0},{"$f":"INSERT!D83","v":0},{"$f":"INSERT!E83","v":0}]
[82,{"$f":"INSERT!A84","v":0},{"$f":"INSERT!B84","v":0},{"$f":"INSERT!C84","v":0},{"$f":"INSERT!D84","v":0},{"$f":"INSERT!E84","v":0}]
[83,{"$f":"INSERT!A85","v":0},{"$f":"INSERT!B85","v":0},{"$f":"INSERT!C85","v":0},{"$f":"INSERT!D85","v":0},{"$f":"INSERT!E85","v":0}]
[84,{"$f":"INSERT!A86","v":0},{"$f":"INSERT!B86","v":0},{"$f":"INSERT!C86","v":0},{"$f":"INSERT!D86","v":0},{"$f":"INSERT!E86","v":0}]
[85,{"$f":"INSERT!A87","v":0},{"$f":"INSERT!B87","v":0},{"$f":"INSERT!C87","v":0},{"$f":"INSERT!D87","v":0},{"$f":"INSERT!E87","v":0}]
[86,{"$f":"INSERT!A88","v":0},{"$f":"INSERT!B88","v":0},{"$f":"INSERT!C88","v":0},{"$f":"INSERT!D88","v":0},{"$f":"INSERT!E88","v":0}]
[87,{"$f":"INSERT!A89","v":0},{"$f":"INSERT!B89","v":0},{"$f":"INSERT!C89","v":0},{"$f":"INSERT!D89","v":0},{"$f":"INSERT!E89","v":0}]
[88,{"$f":"INSERT!A90","v":0},{"$f":"INSERT!B90","v":0},{"$f":"INSERT!C90","v":0},{"$f":"INSERT!D90","v":0},{"$f":"INSERT!E90","v":0}]
[89,{"$f":"INSERT!A91","v":0},{"$f":"INSERT!B91","v":0},{"$f":"INSERT!C91","v":0},{"$f":"INSERT!D91","v":0},{"$f":"INSERT!E91","v":0}]
[90,{"$f":"INSERT!A92","v":0},{"$f":"INSERT!B92","v":0},{"$f":"INSERT!C92","v":0},{"$f":"INSERT!D92","v":0},{"$f":"INSERT!E92","v":0}]
[91,{"$f":"INSERT!A93","v":0},{"$f":"INSERT!B93","v":0},{"$f":"INSERT!C93","v":0},{"$f":"INSERT!D93","v":0},{"$f":"INSERT!E93","v":0}]
[92,{"$f":"INSERT!A94","v":0},{"$f":"INSERT!B94","v":0},{"$f":"INSERT!C94","v":0},{"$f":"INSERT!D94","v":0},{"$f":"INSERT!E94","v":0}]
[93,{"$f":"INSERT!A95","v":0},{"$f":"INSERT!B95","v":0},{"$f":"INSERT!C95","v":0},{"$f":"INSERT!D95","v":0},{"$f":"INSERT!E95","v":0}]
[94,{"$f":"INSERT!A96","v":0},{"$f":"INSERT!B96","v":0},{"$f":"INSERT!C96","v":0},{"$f":"INSERT!D96","v":0},{"$f":"INSERT!E96","v":0}]
[95,{"$f":"INSERT!A97","v":0},{"$f":"INSERT!B97","v":0},{"$f":"INSERT!C97","v":0},{"$f":"INSERT!D97","v":0},{"$f":"INSERT!E97","v":0}]
[96,{"$f":"INSERT!A98","v":0},{"$f":"INSERT!B98","v":0},{"$f":"INSERT!C98","v":0},{"$f":"INSERT!D98","v":0},{"$f":"INSERT!E98","v":0}]
[97,{"$f":"INSERT!A99","v":0},{"$f":"INSERT!B99","v":0},{"$f":"INSERT!C99","v":0},{"$f":"INSERT!D99","v":0},{"$f":"INSERT!E99","v":0}]
[98,{"$f":"INSERT!A100","v":0},{"$f":"INSERT!B100","v":0},{"$f":"INSERT!C100","v":0},{"$f":"INSERT!D100","v":0},{"$f":"INSERT!E100","v":0}]
[99,{"$f":"INSERT!A101","v":0},{"$f":"INSERT!B101","v":0},{"$f":"INSERT!C101","v":0},{"$f":"INSERT!D101","v":0},{"$f":"INSERT!E101","v":0}]
[100,{"$f":"INSERT!A102","v":0},{"$f":"INSERT!B102","v":0},{"$f":"INSERT!C102","v":0},{"$f":"INSERT!D102","v":0},{"$f":"INSERT!E102","v":0}]