{"text_format":"1","workbook":"xlsx","n_sheets":20,"sheets":["INDEX","INSERT","Decleration","TERM1","TERM2","TERM3","TERM4","SASAMS TERM1","SASAMS TERM2","SASAMS TERM3","SASAMS TERM4","PAT Civil Detailed","Civil Assessment","FIN PAT MARK SHEET","FIN SBA MARK SHEET","Term1 Sign","Term2 Sign","Term3 Sign","Term4 Sign","PAT Sign"],"not_rendered":{"charts":1,"images":0,"macros":1,"external_links":0,"defined_names":40,"comments":0,"pivot_tables":0},"unopened":[],"bounds":{"document_bytes":16777216,"sheet_cells":100000,"rows_first":2000,"rows_last":500,"rows_between":2000,"halvings":0,"cell_chars":16384,"cell_head_chars":4096},"cells_cut":0,"cells_raw":0,"read":"whole","date_system":"1900"}

{"sheet":"INDEX","index":0,"n_rows":23,"n_cols":3,"rows_kept":23,"cut":false,"hidden":false,"merged":[]}
[null,"Sheets Names","Go to Sheets"]
[null,{"$f":"IFERROR(REPLACE(INDEX(MySheets,ROW()),1,FIND(\"]\",INDEX(MySheets,ROW())),\"\"),\"\")","v":"INSERT"},{"$f":"HYPERLINK(\"#'\"&B2&\"'!a1\",B2)","v":"INSERT"}]
[null,{"$f":"IFERROR(REPLACE(INDEX(MySheets,ROW()),1,FIND(\"]\",INDEX(MySheets,ROW())),\"\"),\"\")","v":"Decleration"},{"$f":"HYPERLINK(\"#'\"&B3&\"'!a1\",B3)","v":"Decleration"}]
[null,{"$f":"IFERROR(REPLACE(INDEX(MySheets,ROW()),1,FIND(\"]\",INDEX(MySheets,ROW())),\"\"),\"\")","v":"TERM1"},"TERM1"]
[null,{"$f":"IFERROR(REPLACE(INDEX(MySheets,ROW()),1,FIND(\"]\",INDEX(MySheets,ROW())),\"\"),\"\")","v":"TERM2"},"TERM2"]
[null,{"$f":"IFERROR(REPLACE(INDEX(MySheets,ROW()),1,FIND(\"]\",INDEX(MySheets,ROW())),\"\"),\"\")","v":"TERM3"},"TERM3"]
[null,{"$f":"IFERROR(REPLACE(INDEX(MySheets,ROW()),1,FIND(\"]\",INDEX(MySheets,ROW())),\"\"),\"\")","v":"TERM4"},"TERM4"]
[null,{"$f":"IFERROR(REPLACE(INDEX(MySheets,ROW()),1,FIND(\"]\",INDEX(MySheets,ROW())),\"\"),\"\")","v":"SASAMS TERM1"},"SASAMS TERM1"]
[null,{"$f":"IFERROR(REPLACE(INDEX(MySheets,ROW()),1,FIND(\"]\",INDEX(MySheets,ROW())),\"\"),\"\")","v":"SASAMS TERM2"},"SASAMS TERM2"]
[null,{"$f":"IFERROR(REPLACE(INDEX(MySheets,ROW()),1,FIND(\"]\",INDEX(MySheets,ROW())),\"\"),\"\")","v":"SASAMS TERM3"},"SASAMS TERM3"]
[null,{"$f":"IFERROR(REPLACE(INDEX(MySheets,ROW()),1,FIND(\"]\",INDEX(MySheets,ROW())),\"\"),\"\")","v":"SASAMS TERM4"},"SASAMS TERM4"]
[null,{"$f":"IFERROR(REPLACE(INDEX(MySheets,ROW()),1,FIND(\"]\",INDEX(MySheets,ROW())),\"\"),\"\")","v":"PAT Civil Detailed"},"PAT Civil Detailed"]
[null,{"$f":"IFERROR(REPLACE(INDEX(MySheets,ROW()),1,FIND(\"]\",INDEX(MySheets,ROW())),\"\"),\"\")","v":"Civil Assessment"},"Civil Assessment"]
[null,{"$f":"IFERROR(REPLACE(INDEX(MySheets,ROW()),1,FIND(\"]\",INDEX(MySheets,ROW())),\"\"),\"\")","v":"FIN PAT MARK SHEET"},"FIN PAT MARK SHEET"]
[null,{"$f":"IFERROR(REPLACE(INDEX(MySheets,ROW()),1,FIND(\"]\",INDEX(MySheets,ROW())),\"\"),\"\")","v":"FIN MARK SHEET"},"FIN MARK SHEET"]
[null,{"$f":"IFERROR(REPLACE(INDEX(MySheets,ROW()),1,FIND(\"]\",INDEX(MySheets,ROW())),\"\"),\"\")","v":"Term1 Sign"},"Term1 Sign"]
[null,{"$f":"IFERROR(REPLACE(INDEX(MySheets,ROW()),1,FIND(\"]\",INDEX(MySheets,ROW())),\"\"),\"\")","v":"Term2 Sign"},"Term2 Sign"]
[null,{"$f":"IFERROR(REPLACE(INDEX(MySheets,ROW()),1,FIND(\"]\",INDEX(MySheets,ROW())),\"\"),\"\")","v":"Term3 Sign"},"Term3 Sign"]
[null,{"$f":"IFERROR(REPLACE(INDEX(MySheets,ROW()),1,FIND(\"]\",INDEX(MySheets,ROW())),\"\"),\"\")","v":"Term4 Sign"},"Term4 Sign"]
[null,{"$f":"IFERROR(REPLACE(INDEX(MySheets,ROW()),1,FIND(\"]\",INDEX(MySheets,ROW())),\"\"),\"\")","v":"PAT Sign"},"PAT Sign"]
[]
[null,{"$f":"IFERROR(REPLACE(INDEX(MySheets,ROW()),1,FIND(\"]\",INDEX(MySheets,ROW())),\"\"),\"\")","v":""}]
[null,{"$f":"IFERROR(REPLACE(INDEX(MySheets,ROW()),1,FIND(\"]\",INDEX(MySheets,ROW())),\"\"),\"\")","v":""}]

{"sheet":"INSERT","index":1,"n_rows":103,"n_cols":9,"rows_kept":103,"cut":false,"hidden":false,"merged":[[102,3,103,3],[102,4,103,4]]}
[]
["Class","Admission","SURNAME","NAME","Gender","CELLPHONE NR.","E-MAIL ADRESS",null,"INFORMATION"]
[null,null,null,null,null,null,null,null,"Name of School:"]
[null,null,null,null,null,null,null,null,"Grade:"]
[null,null,null,null,null,null,null,null,"Your Initials and Surname:"]
[null,null,null,null,null,null,null,null,"Initials and Surname of HOD for EGD:"]
[null,null,null,null,null,null,null,null,"Your EGD SES Initials and Surname:"]
[]
[]
[]
[]
[]
[]
[]
[]
[]
[]
[]
[]
[]
[]
[]
[]
[]
[]
[]
[]
[]
[]
[]
[]
[]
[]
[]
[]
[]
[]
[]
[]
[]
[]
[]
[]
[]
[]
[]
[]
[]
[]
[]
[]
[]
[]
[]
[]
[]
[]
[]
[]
[]
[]
[]
[]
[]
[]
[]
[]
[]
[]
[]
[]
[]
[]
[]
[]
[]
[]
[]
[]
[]
[]
[]
[]
[]
[]
[]
[]
[]
[]
[]
[]
[]
[]
[]
[]
[]
[]
[]
[]
[]
[]
[]
[null,null,null,"Total amount of learners on mark sheet",{"$f":"COUNTA(C3:C102)","v":0}]

{"sheet":"Decleration","index":2,"n_rows":29,"n_cols":22,"rows_kept":29,"cut":false,"hidden":false,"merged":[[28,3,35,7],[5,3,5,9],[7,3,7,9],[11,1,11,9],[14,6,14,8],[22,1,22,9],[25,6,25,8]]}
[null,null,null,null,null,null,null,null,null,null,null,null,null,"Surname:",null,null,41,null,{"$f":"$V$2","v":0},null,null,1]
["DECLARATION OF AUTHENTICITY",null,null,null,null,null,null,null,null,null,null,null,null,"Name:",{"$f":"IFERROR(VLOOKUP($O$1,INSERT!C3:D102,2,FALSE),\"\")","v":""},null,{"$f":"OFFSET(INSERT!$C$2,$Q$1,0)","v":0}]
[]
["To be submitted with each learner's practical assessment task portfolio"]
[]
[null,"NAME OF SCHOOL:",null,{"$f":"INSERT!$J$3","v":0}]
[]
[null,"NAME OF LEARNER:",null,{"$f":"O2&\" \"&O1","v":" "}]
[null,null,null,null,"(SURNAME AND INITIALS)"]
[]
[null,"Learner information:"]
[null,"I hereby declare that all the contents of the practical assessment task submitted by myself for assessment is my own original work and has not been plagiarised, copied from someone else or previously submitted for assessment.\n\nBy signing this page, you as learner commit yourself to the responsibilities and your cooperation to submit the 2022, grade 11 PAT as part of your (2022) year mark. By failing to submit this PAT before the date of moderation (October 2022), it will be seen as an exam irregularity resulting a zero (0) mark for EGD (despite all exam and SBA efforts committed) during your grade 11 year for 2022."]
[]
[]
[]
[null,"SIGNATURE OF CANIDATE",null,null,null,null,null,"DATE"]
[]
[]
[null,"NAME OF TEACHER:",null,{"$f":"INSERT!$J$5","v":0}]
[null,null,null,null,"(SURNAME AND INITIALS)"]
[]
[null,"Teacher information:"]
[null,"By signing this page, you as the teacher of above-mentioned learner, indicate that all the information was given to the learner during term 1 of 2022 and that the terms and conditions as well as the consequences of no submission of the 2022, grade 11 PAT was explained to the learner."]
[]
[]
[]
[null,"SIGNATURE OF TEACHER",null,null,null,null,null,"DATE"]
[]
[null,null,null,"SCHOOL STAMP"]

{"sheet":"TERM1","index":3,"n_rows":120,"n_cols":86,"rows_kept":120,"cut":false,"hidden":false,"merged":[[2,8,2,84],[4,50,9,50],[4,51,9,51],[4,52,9,52],[4,36,9,36],[4,37,9,37],[4,38,9,38],[4,39,9,39],[4,40,9,40],[4,31,9,31],[4,32,9,32],[4,33,9,33],[4,34,9,34],[4,35,9,35],[4,53,9,53],[4,54,9,54],[4,55,9,55],[4,56,9,56],[4,57,9,57],[4,74,9,74],[4,75,9,75],[4,71,9,71],[4,72,9,72],[4,73,9,73],[4,63,9,63],[4,61,10,61],[4,64,9,64],[4,65,9,65],[3,80,3,84],[4,79,10,79],[4,77,9,77],[4,76,9,76],[3,62,3,79],[4,78,10,78],[4,62,9,62],[4,66,9,66],[4,67,9,67],[4,68,9,68],[4,69,9,69],[4,70,9,70],[10,1,10,4],[4,5,4,7],[9,1,9,4],[1,1,1,84],[9,5,9,6],[4,84,10,84],[4,8,9,8],[4,82,10,82],[4,80,10,80],[3,8,3,25],[3,26,3,43],[3,44,3,61],[4,29,9,29],[4,46,9,46],[4,30,9,30],[10,5,10,6],[115,1,118,4],[119,1,119,4],[115,6,115,7],[116,6,116,7],[117,6,117,7],[119,6,119,7],[4,9,9,9],[4,23,9,23],[4,10,9,10],[4,11,9,11],[4,22,9,22],[4,12,9,12],[4,13,9,13],[4,14,9,14],[4,15,9,15],[4,16,9,16],[4,17,9,17],[4,18,9,18],[4,19,9,19],[4,20,9,20],[4,21,9,21],[4,24,10,24],[4,42,10,42],[4,60,10,60],[4,26,9,26],[4,27,9,27],[4,41,9,41],[4,25,10,25],[4,28,9,28],[4,44,9,44],[4,45,9,45],[4,59,9,59],[4,47,9,47],[4,58,9,58],[4,43,10,43],[4,48,9,48],[4,49,9,49]]}
[]
[null,"ENGINEERING GRAPHICS AND DESIGN"]
[null,null,null,null,null,null,null,null,"PROGRAM OF ASSESSMENT  :  TERM 1"]
[null,null,null,null,null,null,null,null,"CD1 Mechanical analytical",null,null,null,null,null,null,null,null,null,null,null,null,null,null,null,null,null,"CD2 1st Mechanical assembly",null,null,null,null,null,null,null,null,null,null,null,null,null,null,null,null,null,"CD3 2nd Mechanical Assembly",null,null,null,null,null,null,null,null,null,null,null,null,null,null,null,null,null,"CD4 Isometric drawing",null,null,null,null,null,null,null,null,null,null,null,null,null,null,null,null,null,"TERM TEST"]
[null,null,null,null,"School:",{"$f":"INSERT!J3","v":0},null,null,"CD 1.1","CD 1.2","CD 1.3",null,null,null,null,null,null,null,null,null,null,null,null,null,"TOTAL CD1","TOTAL","CD 2.1","CD 2.2","CD 2.3",null,null,null,null,null,null,null,null,null,null,null,null,null,"TOTAL CD2","TOTAL","CD 3.1","CD 3.2","CD 3.3",null,null,null,null,null,null,null,null,null,null,null,null,null,"TOTAL CD3","TOTAL","CD 4.1","CD 4.2","CD 4.3",null,null,null,null,null,null,null,null,null,null,null,null,null,"TOTAL CD4","TOTAL","TEST 1",null,"TEST 2",null,"TEST TOTAL"]
[null,null,null,null,"Grade:",{"$f":"INSERT!J4","v":0}]
[null,null,null,null,"Teacher:",{"$f":"INSERT!J5","v":0}]
[null,null,null,null,"HOD:",{"$f":"INSERT!J6","v":0}]
[null,null,null,null,"EGD SES:",{"$f":"INSERT!J7","v":0}]
[]
[null,null,null,null,null,null,null,null,1.1000000000000001,1.2,1.3,1.4,1.5,1.6,1.7,1.8,1.9,1.1000000000000001,1.1100000000000001,1.1200000000000001,1.1299999999999999,1.1399999999999999,1.1499999999999999,1.1599999999999999,null,null,2.1,2.2000000000000002,2.2999999999999998,2.4,2.5,2.6,2.7,2.8,2.9,2.1,2.11,2.12,2.13,2.14,2.15,2.16,null,null,3.1,3.2,3.3,3.4,3.5,3.6,3.7,3.8,3.9,3.1,3.11,3.12,3.13,3.14,3.15,3.16,null,null,4.0999999999999996,4.2,4.3,4.4000000000000004,4.5,4.5999999999999996,4.7,4.8,4.9000000000000004,4.0999999999999996,4.1100000000000003,4.12,4.13,4.1399999999999997,4.1500000000000004,4.16]
[null,"Nr.",null,"Class","Admission","SURNAME","NAME","GENDER",null,null,null,null,null,null,null,null,null,null,null,null,null,null,null,null,{"$f":"SUM(I12:X12)","v":0},10,null,null,null,null,null,null,null,null,null,null,null,null,null,null,null,null,{"$f":"SUM(AA12:AP12)","v":0},10,null,null,null,null,null,null,null,null,null,null,null,null,null,null,null,null,{"$f":"SUM(AS12:BH12)","v":0},10,null,null,null,null,null,null,null,null,null,null,null,null,null,null,null,null,{"$f":"SUM(BK12:BZ12)","v":0},10,50,null,null,null,60]
[null,null,null,null,null,null,null,null,{"$f":"IF(I12>0,\"\",\"X\")","v":"X"},{"$f":"IF(J12>0,\"\",\"X\")","v":"X"},"X","X","X","X","X","X","X","X","X","X","X","X","X","X",{"$f":"SUM(100/Y12)","v":{"$error":"#DIV/0!"}},null,{"$f":"IF(AA12>0,\"\",\"X\")","v":"X"},"X","X","X","X","X","X","X","X","X","X","X","X","X","X","X",{"$f":"SUM(100/AQ12)","v":{"$error":"#DIV/0!"}},null,{"$f":"IF(AS12>0,\"\",\"X\")","v":"X"},"X","X","X","X","X","X","X","X","X","X","X","X","X","X","X",{"$f":"SUM(100/BI12)","v":{"$error":"#DIV/0!"}},null,{"$f":"IF(BK12>0,\"\",\"X\")","v":"X"},"X","X","X","X","X","X","X","X","X","X","X","X","X","X","X",{"$f":"SUM(100/CA12)","v":{"$error":"#DIV/0!"}},null,{"$f":"SUM(100/CC12)*(CG12/100)","v":1.2},null,{"$f":"IFERROR(SUM(100/CE12)*(CG12/100),\"\")","v":""},{"$f":"COUNT(CC12,CE12)","v":1}]
[null,null,null,null,null,null,null,"DATE:"]
[]
[{"$f":"IF(CH16=0,\"X\",\"\")","v":""},1,1,{"$f":"INSERT!A3","v":0},{"$f":"INSERT!B3","v":0},{"$f":"INSERT!C3","v":0},{"$f":"INSERT!D3","v":0},{"$f":"INSERT!E3","v":0},null,null,null,null,null,null,null,null,null,null,null,null,null,null,null,null,{"$f":"SUM(I16:X16)","v":0},{"$f":"IFERROR(ROUND((SUM(Y16*$Y$13)/10),0),\"0\")","v":"0"},null,null,null,null,null,null,null,null,null,null,null,null,null,null,null,null,{"$f":"SUM(AA16:AP16)","v":0},{"$f":"IFERROR(ROUND((SUM(AQ16*$AQ$13)/10),0),\"0\")","v":"0"},null,null,null,null,null,null,null,null,null,null,null,null,null,null,null,null,{"$f":"SUM(AS16:BH16)","v":0},{"$f":"IFERROR(ROUND((SUM(BI16*$BI$13)/10),0),\"0\")","v":"0"},null,null,null,null,null,null,null,null,null,null,null,null,null,null,null,null,{"$f":"SUM(BK16:BZ16)","v":0},{"$f":"IFERROR(ROUND((SUM(CA16*$CA$13)/10),0),\"0\")","v":"0"},null,null,null,{"$f":"IFERROR(ROUND(SUM(CE16*$CE$13),0),\"\")","v":""},{"$f":"ROUND(IF($CF$13=1,CD16,IF($CF$13=2,(CF16+CD16)/2)),0)","v":0},{"$f":"COUNTA(D16:G16,I16,AA16,AS16,BK16,CC16:CE16)","v":4}]
["",{"$f":"B16+1","v":2},2,{"$f":"INSERT!A4","v":0},{"$f":"INSERT!B4","v":0},{"$f":"INSERT!C4","v":0},{"$f":"INSERT!D4","v":0},{"$f":"INSERT!E4","v":0},null,null,null,null,null,null,null,null,null,null,null,null,null,null,null,null,0,"0",null,null,null,null,null,null,null,null,null,null,null,null,null,null,null,null,0,"0",null,null,null,null,null,null,null,null,null,null,null,null,null,null,null,null,0,"0",null,null,null,null,null,null,null,null,null,null,null,null,null,null,null,null,0,"0",null,null,null,"",0,4]
["",{"$f":"B17+1","v":3},3,{"$f":"INSERT!A5","v":0},{"$f":"INSERT!B5","v":0},{"$f":"INSERT!C5","v":0},{"$f":"INSERT!D5","v":0},{"$f":"INSERT!E5","v":0},null,null,null,null,null,null,null,null,null,null,null,null,null,null,null,null,0,"0",null,null,null,null,null,null,null,null,null,null,null,null,null,null,null,null,0,"0",null,null,null,null,null,null,null,null,null,null,null,null,null,null,null,null,0,"0",null,null,null,null,null,null,null,null,null,null,null,null,null,null,null,null,0,"0",null,null,null,"",0,4]
["",4,4,{"$f":"INSERT!A6","v":0},{"$f":"INSERT!B6","v":0},{"$f":"INSERT!C6","v":0},{"$f":"INSERT!D6","v":0},{"$f":"INSERT!E6","v":0},null,null,null,null,null,null,null,null,null,null,null,null,null,null,null,null,0,"0",null,null,null,null,null,null,null,null,null,null,null,null,null,null,null,null,0,"0",null,null,null,null,null,null,null,null,null,null,null,null,null,null,null,null,0,"0",null,null,null,null,null,null,null,null,null,null,null,null,null,null,null,null,0,"0",null,null,null,"",0,4]
["",5,5,{"$f":"INSERT!A7","v":0},{"$f":"INSERT!B7","v":0},{"$f":"INSERT!C7","v":0},{"$f":"INSERT!D7","v":0},{"$f":"INSERT!E7","v":0},null,null,null,null,null,null,null,null,null,null,null,null,null,null,null,null,0,"0",null,null,null,null,null,null,null,null,null,null,null,null,null,null,null,null,0,"0",null,null,null,null,null,null,null,null,null,null,null,null,null,null,null,null,0,"0",null,null,null,null,null,null,null,null,null,null,null,null,null,null,null,null,0,"0",null,null,null,"",0,4]
["",6,6,{"$f":"INSERT!A8","v":0},{"$f":"INSERT!B8","v":0},{"$f":"INSERT!C8","v":0},{"$f":"INSERT!D8","v":0},{"$f":"INSERT!E8","v":0},null,null,null,null,null,null,null,null,null,null,null,null,null,null,null,null,0,"0",null,null,null,null,null,null,null,null,null,null,null,null,null,null,null,null,0,"0",null,null,null,null,null,null,null,null,null,null,null,null,null,null,null,null,0,"0",null,null,null,null,null,null,null,null,null,null,null,null,null,null,null,null,0,"0",null,null,null,"",0,4]
["",7,7,{"$f":"INSERT!A9","v":0},{"$f":"INSERT!B9","v":0},{"$f":"INSERT!C9","v":0},{"$f":"INSERT!D9","v":0},{"$f":"INSERT!E9","v":0},null,null,null,null,null,null,null,null,null,null,null,null,null,null,null,null,0,"0",null,null,null,null,null,null,null,null,null,null,null,null,null,null,null,null,0,"0",null,null,null,null,null,null,null,null,null,null,null,null,null,null,null,null,0,"0",null,null,null,null,null,null,null,null,null,null,null,null,null,null,null,null,0,"0",null,null,null,"",0,4]
["",8,8,{"$f":"INSERT!A10","v":0},{"$f":"INSERT!B10","v":0},{"$f":"INSERT!C10","v":0},{"$f":"INSERT!D10","v":0},{"$f":"INSERT!E10","v":0},null,null,null,null,null,null,null,null,null,null,null,null,null,null,null,null,0,"0",null,null,null,null,null,null,null,null,null,null,null,null,null,null,null,null,0,"0",null,null,null,null,null,null,null,null,null,null,null,null,null,null,null,null,0,"0",null,null,null,null,null,null,null,null,null,null,null,null,null,null,null,null,0,"0",null,null,null,"",0,4]
["",{"$f":"B23+1","v":9},9,{"$f":"INSERT!A11","v":0},{"$f":"INSERT!B11","v":0},{"$f":"INSERT!C11","v":0},{"$f":"INSERT!D11","v":0},{"$f":"INSERT!E11","v":0},null,null,null,null,null,null,null,null,null,null,null,null,null,null,null,null,0,"0",null,null,null,null,null,null,null,null,null,null,null,null,null,null,null,null,0,"0",null,null,null,null,null,null,null,null,null,null,null,null,null,null,null,null,0,"0",null,null,null,null,null,null,null,null,null,null,null,null,null,null,null,null,0,"0",null,null,null,"",0,4]
["",10,10,{"$f":"INSERT!A12","v":0},{"$f":"INSERT!B12","v":0},{"$f":"INSERT!C12","v":0},{"$f":"INSERT!D12","v":0},{"$f":"INSERT!E12","v":0},null,null,null,null,null,null,null,null,null,null,null,null,null,null,null,null,0,"0",null,null,null,null,null,null,null,null,null,null,null,null,null,null,null,null,0,"0",null,null,null,null,null,null,null,null,null,null,null,null,null,null,null,null,0,"0",null,null,null,null,null,null,null,null,null,null,null,null,null,null,null,null,0,"0",null,null,null,"",0,4]
["",11,11,{"$f":"INSERT!A13","v":0},{"$f":"INSERT!B13","v":0},{"$f":"INSERT!C13","v":0},{"$f":"INSERT!D13","v":0},{"$f":"INSERT!E13","v":0},null,null,null,null,null,null,null,null,null,null,null,null,null,null,null,null,0,"0",null,null,null,null,null,null,null,null,null,null,null,null,null,null,null,null,0,"0",null,null,null,null,null,null,null,null,null,null,null,null,null,null,null,null,0,"0",null,null,null,null,null,null,null,null,null,null,null,null,null,null,null,null,0,"0",null,null,null,"",0,4]
["",12,12,{"$f":"INSERT!A14","v":0},{"$f":"INSERT!B14","v":0},{"$f":"INSERT!C14","v":0},{"$f":"INSERT!D14","v":0},{"$f":"INSERT!E14","v":0},null,null,null,null,null,null,null,null,null,null,null,null,null,null,null,null,0,"0",null,null,null,null,null,null,null,null,null,null,null,null,null,null,null,null,0,"0",null,null,null,null,null,null,null,null,null,null,null,null,null,null,null,null,0,"0",null,null,null,null,null,null,null,null,null,null,null,null,null,null,null,null,0,"0",null,null,null,"",0,4]
["",13,13,{"$f":"INSERT!A15","v":0},{"$f":"INSERT!B15","v":0},{"$f":"INSERT!C15","v":0},{"$f":"INSERT!D15","v":0},{"$f":"INSERT!E15","v":0},null,null,null,null,null,null,null,null,null,null,null,null,null,null,null,null,0,"0",null,null,null,null,null,null,null,null,null,null,null,null,null,null,null,null,0,"0",null,null,null,null,null,null,null,null,null,null,null,null,null,null,null,null,0,"0",null,null,null,null,null,null,null,null,null,null,null,null,null,null,null,null,0,"0",null,null,null,"",0,4]
["",14,14,{"$f":"INSERT!A16","v":0},{"$f":"INSERT!B16","v":0},{"$f":"INSERT!C16","v":0},{"$f":"INSERT!D16","v":0},{"$f":"INSERT!E16","v":0},null,null,null,null,null,null,null,null,null,null,null,null,null,null,null,null,0,"0",null,null,null,null,null,null,null,null,null,null,null,null,null,null,null,null,0,"0",null,null,null,null,null,null,null,null,null,null,null,null,null,null,null,null,0,"0",null,null,null,null,null,null,null,null,null,null,null,null,null,null,null,null,0,"0",null,null,null,"",0,4]
["",15,15,{"$f":"INSERT!A17","v":0},{"$f":"INSERT!B17","v":0},{"$f":"INSERT!C17","v":0},{"$f":"INSERT!D17","v":0},{"$f":"INSERT!E17","v":0},null,null,null,null,null,null,null,null,null,null,null,null,null,null,null,null,0,"0",null,null,null,null,null,null,null,null,null,null,null,null,null,null,null,null,0,"0",null,null,null,null,null,null,null,null,null,null,null,null,null,null,null,null,0,"0",null,null,null,null,null,null,null,null,null,null,null,null,null,null,null,null,0,"0",null,null,null,"",0,4]
["",16,16,{"$f":"INSERT!A18","v":0},{"$f":"INSERT!B18","v":0},{"$f":"INSERT!C18","v":0},{"$f":"INSERT!D18","v":0},{"$f":"INSERT!E18","v":0},null,null,null,null,null,null,null,null,null,null,null,null,null,null,null,null,0,"0",null,null,null,null,null,null,null,null,null,null,null,null,null,null,null,null,0,"0",null,null,null,null,null,null,null,null,null,null,null,null,null,null,null,null,0,"0",null,null,null,null,null,null,null,null,null,null,null,null,null,null,null,null,0,"0",null,null,null,"",0,4]
["",17,17,{"$f":"INSERT!A19","v":0},{"$f":"INSERT!B19","v":0},{"$f":"INSERT!C19","v":0},{"$f":"INSERT!D19","v":0},{"$f":"INSERT!E19","v":0},null,null,null,null,null,null,null,null,null,null,null,null,null,null,null,null,0,"0",null,null,null,null,null,null,null,null,null,null,null,null,null,null,null,null,0,"0",null,null,null,null,null,null,null,null,null,null,null,null,null,null,null,null,0,"0",null,null,null,null,null,null,null,null,null,null,null,null,null,null,null,null,0,"0",null,null,null,"",0,4]
["",18,18,{"$f":"INSERT!A20","v":0},{"$f":"INSERT!B20","v":0},{"$f":"INSERT!C20","v":0},{"$f":"INSERT!D20","v":0},{"$f":"INSERT!E20","v":0},null,null,null,null,null,null,null,null,null,null,null,null,null,null,null,null,0,"0",null,null,null,null,null,null,null,null,null,null,null,null,null,null,null,null,0,"0",null,null,null,null,null,null,null,null,null,null,null,null,null,null,null,null,0,"0",null,null,null,null,null,null,null,null,null,null,null,null,null,null,null,null,0,"0",null,null,null,"",0,4]
["",19,19,{"$f":"INSERT!A21","v":0},{"$f":"INSERT!B21","v":0},{"$f":"INSERT!C21","v":0},{"$f":"INSERT!D21","v":0},{"$f":"INSERT!E21","v":0},null,null,null,null,null,null,null,null,null,null,null,null,null,null,null,null,0,"0",null,null,null,null,null,null,null,null,null,null,null,null,null,null,null,null,0,"0",null,null,null,null,null,null,null,null,null,null,null,null,null,null,null,null,0,"0",null,null,null,null,null,null,null,null,null,null,null,null,null,null,null,null,0,"0",null,null,null,"",0,4]
["",20,20,{"$f":"INSERT!A22","v":0},{"$f":"INSERT!B22","v":0},{"$f":"INSERT!C22","v":0},{"$f":"INSERT!D22","v":0},{"$f":"INSERT!E22","v":0},null,null,null,null,null,null,null,null,null,null,null,null,null,null,null,null,0,"0",null,null,null,null,null,null,null,null,null,null,null,null,null,null,null,null,0,"0",null,null,null,null,null,null,null,null,null,null,null,null,null,null,null,null,0,"0",null,null,null,null,null,null,null,null,null,null,null,null,null,null,null,null,0,"0",null,null,null,"",0,4]
["",21,21,{"$f":"INSERT!A23","v":0},{"$f":"INSERT!B23","v":0},{"$f":"INSERT!C23","v":0},{"$f":"INSERT!D23","v":0},{"$f":"INSERT!E23","v":0},null,null,null,null,null,null,null,null,null,null,null,null,null,null,null,null,0,"0",null,null,null,null,null,null,null,null,null,null,null,null,null,null,null,null,0,"0",null,null,null,null,null,null,null,null,null,null,null,null,null,null,null,null,0,"0",null,null,null,null,null,null,null,null,null,null,null,null,null,null,null,null,0,"0",null,null,null,"",0,4]
["",22,22,{"$f":"INSERT!A24","v":0},{"$f":"INSERT!B24","v":0},{"$f":"INSERT!C24","v":0},{"$f":"INSERT!D24","v":0},{"$f":"INSERT!E24","v":0},null,null,null,null,null,null,null,null,null,null,null,null,null,null,null,null,0,"0",null,null,null,null,null,null,null,null,null,null,null,null,null,null,null,null,0,"0",null,null,null,null,null,null,null,null,null,null,null,null,null,null,null,null,0,"0",null,null,null,null,null,null,null,null,null,null,null,null,null,null,null,null,0,"0",null,null,null,"",0,4]
["",23,23,{"$f":"INSERT!A25","v":0},{"$f":"INSERT!B25","v":0},{"$f":"INSERT!C25","v":0},{"$f":"INSERT!D25","v":0},{"$f":"INSERT!E25","v":0},null,null,null,null,null,null,null,null,null,null,null,null,null,null,null,null,0,"0",null,null,null,null,null,null,null,null,null,null,null,null,null,null,null,null,0,"0",null,null,null,null,null,null,null,null,null,null,null,null,null,null,null,null,0,"0",null,null,null,null,null,null,null,null,null,null,null,null,null,null,null,null,0,"0",null,null,null,"",0,4]
["",24,24,{"$f":"INSERT!A26","v":0},{"$f":"INSERT!B26","v":0},{"$f":"INSERT!C26","v":0},{"$f":"INSERT!D26","v":0},{"$f":"INSERT!E26","v":0},null,null,null,null,null,null,null,null,null,null,null,null,null,null,null,null,0,"0",null,null,null,null,null,null,null,null,null,null,null,null,null,null,null,null,0,"0",null,null,null,null,null,null,null,null,null,null,null,null,null,null,null,null,0,"0",null,null,null,null,null,null,null,null,null,null,null,null,null,null,null,null,0,"0",null,null,null,"",0,4]
["",25,25,{"$f":"INSERT!A27","v":0},{"$f":"INSERT!B27","v":0},{"$f":"INSERT!C27","v":0},{"$f":"INSERT!D27","v":0},{"$f":"INSERT!E27","v":0},null,null,null,null,null,null,null,null,null,null,null,null,null,null,null,null,0,"0",null,null,null,null,null,null,null,null,null,null,null,null,null,null,null,null,0,"0",null,null,null,null,null,null,null,null,null,null,null,null,null,null,null,null,0,"0",null,null,null,null,null,null,null,null,null,null,null,null,null,null,null,null,0,"0",null,null,null,"",0,4]
["",26,26,{"$f":"INSERT!A28","v":0},{"$f":"INSERT!B28","v":0},{"$f":"INSERT!C28","v":0},{"$f":"INSERT!D28","v":0},{"$f":"INSERT!E28","v":0},null,null,null,null,null,null,null,null,null,null,null,null,null,null,null,null,0,"0",null,null,null,null,null,null,null,null,null,null,null,null,null,null,null,null,0,"0",null,null,null,null,null,null,null,null,null,null,null,null,null,null,null,null,0,"0",null,null,null,null,null,null,null,null,null,null,null,null,null,null,null,null,0,"0",null,null,null,"",0,4]
["",27,27,{"$f":"INSERT!A29","v":0},{"$f":"INSERT!B29","v":0},{"$f":"INSERT!C29","v":0},{"$f":"INSERT!D29","v":0},{"$f":"INSERT!E29","v":0},null,null,null,null,null,null,null,null,null,null,null,null,null,null,null,null,0,"0",null,null,null,null,null,null,null,null,null,null,null,null,null,null,null,null,0,"0",null,null,null,null,null,null,null,null,null,null,null,null,null,null,null,null,0,"0",null,null,null,null,null,null,null,null,null,null,null,null,null,null,null,null,0,"0",null,null,null,"",0,4]
[{"$f":"IF(CH43=0,\"X\",\"\")","v":""},28,28,{"$f":"INSERT!A30","v":0},{"$f":"INSERT!B30","v":0},{"$f":"INSERT!C30","v":0},{"$f":"INSERT!D30","v":0},{"$f":"INSERT!E30","v":0},null,null,null,null,null,null,null,null,null,null,null,null,null,null,null,null,0,"0",null,null,null,null,null,null,null,null,null,null,null,null,null,null,null,null,0,"0",null,null,null,null,null,null,null,null,null,null,null,null,null,null,null,null,0,"0",null,null,null,null,null,null,null,null,null,null,null,null,null,null,null,null,0,"0",null,null,null,"",0,4]
[{"$f":"IF(CH44=0,\"X\",\"\")","v":""},29,29,{"$f":"INSERT!A31","v":0},{"$f":"INSERT!B31","v":0},{"$f":"INSERT!C31","v":0},{"$f":"INSERT!D31","v":0},{"$f":"INSERT!E31","v":0},null,null,null,null,null,null,null,null,null,null,null,null,null,null,null,null,0,"0",null,null,null,null,null,null,null,null,null,null,null,null,null,null,null,null,0,"0",null,null,null,null,null,null,null,null,null,null,null,null,null,null,null,null,0,"0",null,null,null,null,null,null,null,null,null,null,null,null,null,null,null,null,0,"0",null,null,null,"",0,4]
["",30,30,{"$f":"INSERT!A32","v":0},{"$f":"INSERT!B32","v":0},{"$f":"INSERT!C32","v":0},{"$f":"INSERT!D32","v":0},{"$f":"INSERT!E32","v":0},null,null,null,null,null,null,null,null,null,null,null,null,null,null,null,null,0,"0",null,null,null,null,null,null,null,null,null,null,null,null,null,null,null,null,0,"0",null,null,null,null,null,null,null,null,null,null,null,null,null,null,null,null,0,"0",null,null,null,null,null,null,null,null,null,null,null,null,null,null,null,null,0,"0",null,null,null,"",0,4]
["",31,31,{"$f":"INSERT!A33","v":0},{"$f":"INSERT!B33","v":0},{"$f":"INSERT!C33","v":0},{"$f":"INSERT!D33","v":0},{"$f":"INSERT!E33","v":0},null,null,null,null,null,null,null,null,null,null,null,null,null,null,null,null,0,"0",null,null,null,null,null,null,null,null,null,null,null,null,null,null,null,null,0,"0",null,null,null,null,null,null,null,null,null,null,null,null,null,null,null,null,0,"0",null,null,null,null,null,null,null,null,null,null,null,null,null,null,null,null,0,"0",null,null,null,"",0,4]
["",{"$f":"B46+1","v":32},32,{"$f":"INSERT!A34","v":0},{"$f":"INSERT!B34","v":0},{"$f":"INSERT!C34","v":0},{"$f":"INSERT!D34","v":0},{"$f":"INSERT!E34","v":0},null,null,null,null,null,null,null,null,null,null,null,null,null,null,null,null,0,"0",null,null,null,null,null,null,null,null,null,null,null,null,null,null,null,null,0,"0",null,null,null,null,null,null,null,null,null,null,null,null,null,null,null,null,0,"0",null,null,null,null,null,null,null,null,null,null,null,null,null,null,null,null,0,"0",null,null,null,"",0,4]
["",33,33,{"$f":"INSERT!A35","v":0},{"$f":"INSERT!B35","v":0},{"$f":"INSERT!C35","v":0},{"$f":"INSERT!D35","v":0},{"$f":"INSERT!E35","v":0},null,null,null,null,null,null,null,null,null,null,null,null,null,null,null,null,{"$f":"SUM(I48:X48)","v":0},{"$f":"IFERROR(ROUND((SUM(Y48*$Y$13)/10),0),\"0\")","v":"0"},null,null,null,null,null,null,null,null,null,null,null,null,null,null,null,null,{"$f":"SUM(AA48:AP48)","v":0},{"$f":"IFERROR(ROUND((SUM(AQ48*$AQ$13)/10),0),\"0\")","v":"0"},null,null,null,null,null,null,null,null,null,null,null,null,null,null,null,null,{"$f":"SUM(AS48:BH48)","v":0},{"$f":"IFERROR(ROUND((SUM(BI48*$BI$13)/10),0),\"0\")","v":"0"},null,null,null,null,null,null,null,null,null,null,null,null,null,null,null,null,{"$f":"SUM(BK48:BZ48)","v":0},{"$f":"IFERROR(ROUND((SUM(CA48*$CA$13)/10),0),\"0\")","v":"0"},null,null,null,{"$f":"IFERROR(ROUND(SUM(CE48*$CE$13),0),\"\")","v":""},{"$f":"ROUND(IF($CF$13=1,CD48,IF($CF$13=2,(CF48+CD48)/2)),0)","v":0},{"$f":"COUNTA(D48:G48,I48,AA48,AS48,BK48,CC48:CE48)","v":4}]
["",{"$f":"B48+1","v":34},34,{"$f":"INSERT!A36","v":0},{"$f":"INSERT!B36","v":0},{"$f":"INSERT!C36","v":0},{"$f":"INSERT!D36","v":0},{"$f":"INSERT!E36","v":0},null,null,null,null,null,null,null,null,null,null,null,null,null,null,null,null,0,"0",null,null,null,null,null,null,null,null,null,null,null,null,null,null,null,null,0,"0",null,null,null,null,null,null,null,null,null,null,null,null,null,null,null,null,0,"0",null,null,null,null,null,null,null,null,null,null,null,null,null,null,null,null,0,"0",null,null,null,"",0,4]
["",35,35,{"$f":"INSERT!A37","v":0},{"$f":"INSERT!B37","v":0},{"$f":"INSERT!C37","v":0},{"$f":"INSERT!D37","v":0},{"$f":"INSERT!E37","v":0},null,null,null,null,null,null,null,null,null,null,null,null,null,null,null,null,0,"0",null,null,null,null,null,null,null,null,null,null,null,null,null,null,null,null,0,"0",null,null,null,null,null,null,null,null,null,null,null,null,null,null,null,null,0,"0",null,null,null,null,null,null,null,null,null,null,null,null,null,null,null,null,0,"0",null,null,null,"",0,4]
["",36,36,{"$f":"INSERT!A38","v":0},{"$f":"INSERT!B38","v":0},{"$f":"INSERT!C38","v":0},{"$f":"INSERT!D38","v":0},{"$f":"INSERT!E38","v":0},null,null,null,null,null,null,null,null,null,null,null,null,null,null,null,null,0,"0",null,null,null,null,null,null,null,null,null,null,null,null,null,null,null,null,0,"0",null,null,null,null,null,null,null,null,null,null,null,null,null,null,null,null,0,"0",null,null,null,null,null,null,null,null,null,null,null,null,null,null,null,null,0,"0",null,null,null,"",0,4]
["",37,37,{"$f":"INSERT!A39","v":0},{"$f":"INSERT!B39","v":0},{"$f":"INSERT!C39","v":0},{"$f":"INSERT!D39","v":0},{"$f":"INSERT!E39","v":0},null,null,null,null,null,null,null,null,null,null,null,null,null,null,null,null,0,"0",null,null,null,null,null,null,null,null,null,null,null,null,null,null,null,null,0,"0",null,null,null,null,null,null,null,null,null,null,null,null,null,null,null,null,0,"0",null,null,null,null,null,null,null,null,null,null,null,null,null,null,null,null,0,"0",null,null,null,"",0,4]
["",38,38,{"$f":"INSERT!A40","v":0},{"$f":"INSERT!B40","v":0},{"$f":"INSERT!C40","v":0},{"$f":"INSERT!D40","v":0},{"$f":"INSERT!E40","v":0},null,null,null,null,null,null,null,null,null,null,null,null,null,null,null,null,0,"0",null,null,null,null,null,null,null,null,null,null,null,null,null,null,null,null,0,"0",null,null,null,null,null,null,null,null,null,null,null,null,null,null,null,null,0,"0",null,null,null,null,null,null,null,null,null,null,null,null,null,null,null,null,0,"0",null,null,null,"",0,4]
["",39,39,{"$f":"INSERT!A41","v":0},{"$f":"INSERT!B41","v":0},{"$f":"INSERT!C41","v":0},{"$f":"INSERT!D41","v":0},{"$f":"INSERT!E41","v":0},null,null,null,null,null,null,null,null,null,null,null,null,null,null,null,null,0,"0",null,null,null,null,null,null,null,null,null,null,null,null,null,null,null,null,0,"0",null,null,null,null,null,null,null,null,null,null,null,null,null,null,null,null,0,"0",null,null,null,null,null,null,null,null,null,null,null,null,null,null,null,null,0,"0",null,null,null,"",0,4]
["",40,40,{"$f":"INSERT!A42","v":0},{"$f":"INSERT!B42","v":0},{"$f":"INSERT!C42","v":0},{"$f":"INSERT!D42","v":0},{"$f":"INSERT!E42","v":0},null,null,null,null,null,null,null,null,null,null,null,null,null,null,null,null,0,"0",null,null,null,null,null,null,null,null,null,null,null,null,null,null,null,null,0,"0",null,null,null,null,null,null,null,null,null,null,null,null,null,null,null,null,0,"0",null,null,null,null,null,null,null,null,null,null,null,null,null,null,null,null,0,"0",null,null,null,"",0,4]
["",41,41,{"$f":"INSERT!A43","v":0},{"$f":"INSERT!B43","v":0},{"$f":"INSERT!C43","v":0},{"$f":"INSERT!D43","v":0},{"$f":"INSERT!E43","v":0},null,null,null,null,null,null,null,null,null,null,null,null,null,null,null,null,0,"0",null,null,null,null,null,null,null,null,null,null,null,null,null,null,null,null,0,"0",null,null,null,null,null,null,null,null,null,null,null,null,null,null,null,null,0,"0",null,null,null,null,null,null,null,null,null,null,null,null,null,null,null,null,0,"0",null,null,null,"",0,4]
["",42,42,{"$f":"INSERT!A44","v":0},{"$f":"INSERT!B44","v":0},{"$f":"INSERT!C44","v":0},{"$f":"INSERT!D44","v":0},{"$f":"INSERT!E44","v":0},null,null,null,null,null,null,null,null,null,null,null,null,null,null,null,null,0,"0",null,null,null,null,null,null,null,null,null,null,null,null,null,null,null,null,0,"0",null,null,null,null,null,null,null,null,null,null,null,null,null,null,null,null,0,"0",null,null,null,null,null,null,null,null,null,null,null,null,null,null,null,null,0,"0",null,null,null,"",0,4]
["",43,43,{"$f":"INSERT!A45","v":0},{"$f":"INSERT!B45","v":0},{"$f":"INSERT!C45","v":0},{"$f":"INSERT!D45","v":0},{"$f":"INSERT!E45","v":0},null,null,null,null,null,null,null,null,null,null,null,null,null,null,null,null,0,"0",null,null,null,null,null,null,null,null,null,null,null,null,null,null,null,null,0,"0",null,null,null,null,null,null,null,null,null,null,null,null,null,null,null,null,0,"0",null,null,null,null,null,null,null,null,null,null,null,null,null,null,null,null,0,"0",null,null,null,"",0,4]
["",44,44,{"$f":"INSERT!A46","v":0},{"$f":"INSERT!B46","v":0},{"$f":"INSERT!C46","v":0},{"$f":"INSERT!D46","v":0},{"$f":"INSERT!E46","v":0},null,null,null,null,null,null,null,null,null,null,null,null,null,null,null,null,0,"0",null,null,null,null,null,null,null,null,null,null,null,null,null,null,null,null,0,"0",null,null,null,null,null,null,null,null,null,null,null,null,null,null,null,null,0,"0",null,null,null,null,null,null,null,null,null,null,null,null,null,null,null,null,0,"0",null,null,null,"",0,4]
["",45,45,{"$f":"INSERT!A47","v":0},{"$f":"INSERT!B47","v":0},{"$f":"INSERT!C47","v":0},{"$f":"INSERT!D47","v":0},{"$f":"INSERT!E47","v":0},null,null,null,null,null,null,null,null,null,null,null,null,null,null,null,null,0,"0",null,null,null,null,null,null,null,null,null,null,null,null,null,null,null,null,0,"0",null,null,null,null,null,null,null,null,null,null,null,null,null,null,null,null,0,"0",null,null,null,null,null,null,null,null,null,null,null,null,null,null,null,null,0,"0",null,null,null,"",0,4]
["",46,46,{"$f":"INSERT!A48","v":0},{"$f":"INSERT!B48","v":0},{"$f":"INSERT!C48","v":0},{"$f":"INSERT!D48","v":0},{"$f":"INSERT!E48","v":0},null,null,null,null,null,null,null,null,null,null,null,null,null,null,null,null,0,"0",null,null,null,null,null,null,null,null,null,null,null,null,null,null,null,null,0,"0",null,null,null,null,null,null,null,null,null,null,null,null,null,null,null,null,0,"0",null,null,null,null,null,null,null,null,null,null,null,null,null,null,null,null,0,"0",null,null,null,"",0,4]
["",47,47,{"$f":"INSERT!A49","v":0},{"$f":"INSERT!B49","v":0},{"$f":"INSERT!C49","v":0},{"$f":"INSERT!D49","v":0},{"$f":"INSERT!E49","v":0},null,null,null,null,null,null,null,null,null,null,null,null,null,null,null,null,0,"0",null,null,null,null,null,null,null,null,null,null,null,null,null,null,null,null,0,"0",null,null,null,null,null,null,null,null,null,null,null,null,null,null,null,null,0,"0",null,null,null,null,null,null,null,null,null,null,null,null,null,null,null,null,0,"0",null,null,null,"",0,4]
["",48,48,{"$f":"INSERT!A50","v":0},{"$f":"INSERT!B50","v":0},{"$f":"INSERT!C50","v":0},{"$f":"INSERT!D50","v":0},{"$f":"INSERT!E50","v":0},null,null,null,null,null,null,null,null,null,null,null,null,null,null,null,null,0,"0",null,null,null,null,null,null,null,null,null,null,null,null,null,null,null,null,0,"0",null,null,null,null,null,null,null,null,null,null,null,null,null,null,null,null,0,"0",null,null,null,null,null,null,null,null,null,null,null,null,null,null,null,null,0,"0",null,null,null,"",0,4]
["",49,49,{"$f":"INSERT!A51","v":0},{"$f":"INSERT!B51","v":0},{"$f":"INSERT!C51","v":0},{"$f":"INSERT!D51","v":0},{"$f":"INSERT!E51","v":0},null,null,null,null,null,null,null,null,null,null,null,null,null,null,null,null,0,"0",null,null,null,null,null,null,null,null,null,null,null,null,null,null,null,null,0,"0",null,null,null,null,null,null,null,null,null,null,null,null,null,null,null,null,0,"0",null,null,null,null,null,null,null,null,null,null,null,null,null,null,null,null,0,"0",null,null,null,"",0,4]
["",50,50,{"$f":"INSERT!A52","v":0},{"$f":"INSERT!B52","v":0},{"$f":"INSERT!C52","v":0},{"$f":"INSERT!D52","v":0},{"$f":"INSERT!E52","v":0},null,null,null,null,null,null,null,null,null,null,null,null,null,null,null,null,0,"0",null,null,null,null,null,null,null,null,null,null,null,null,null,null,null,null,0,"0",null,null,null,null,null,null,null,null,null,null,null,null,null,null,null,null,0,"0",null,null,null,null,null,null,null,null,null,null,null,null,null,null,null,null,0,"0",null,null,null,"",0,4]
["",51,51,{"$f":"INSERT!A53","v":0},{"$f":"INSERT!B53","v":0},{"$f":"INSERT!C53","v":0},{"$f":"INSERT!D53","v":0},{"$f":"INSERT!E53","v":0},null,null,null,null,null,null,null,null,null,null,null,null,null,null,null,null,0,"0",null,null,null,null,null,null,null,null,null,null,null,null,null,null,null,null,0,"0",null,null,null,null,null,null,null,null,null,null,null,null,null,null,null,null,0,"0",null,null,null,null,null,null,null,null,null,null,null,null,null,null,null,null,0,"0",null,null,null,"",0,4]
["",52,52,{"$f":"INSERT!A54","v":0},{"$f":"INSERT!B54","v":0},{"$f":"INSERT!C54","v":0},{"$f":"INSERT!D54","v":0},{"$f":"INSERT!E54","v":0},null,null,null,null,null,null,null,null,null,null,null,null,null,null,null,null,0,"0",null,null,null,null,null,null,null,null,null,null,null,null,null,null,null,null,0,"0",null,null,null,null,null,null,null,null,null,null,null,null,null,null,null,null,0,"0",null,null,null,null,null,null,null,null,null,null,null,null,null,null,null,null,0,"0",null,null,null,"",0,4]
["",53,53,{"$f":"INSERT!A55","v":0},{"$f":"INSERT!B55","v":0},{"$f":"INSERT!C55","v":0},{"$f":"INSERT!D55","v":0},{"$f":"INSERT!E55","v":0},null,null,null,null,null,null,null,null,null,null,null,null,null,null,null,null,0,"0",null,null,null,null,null,null,null,null,null,null,null,null,null,null,null,null,0,"0",null,null,null,null,null,null,null,null,null,null,null,null,null,null,null,null,0,"0",null,null,null,null,null,null,null,null,null,null,null,null,null,null,null,null,0,"0",null,null,null,"",0,4]
["",54,54,{"$f":"INSERT!A56","v":0},{"$f":"INSERT!B56","v":0},{"$f":"INSERT!C56","v":0},{"$f":"INSERT!D56","v":0},{"$f":"INSERT!E56","v":0},null,null,null,null,null,null,null,null,null,null,null,null,null,null,null,null,0,"0",null,null,null,null,null,null,null,null,null,null,null,null,null,null,null,null,0,"0",null,null,null,null,null,null,null,null,null,null,null,null,null,null,null,null,0,"0",null,null,null,null,null,null,null,null,null,null,null,null,null,null,null,null,0,"0",null,null,null,"",0,4]
["",55,55,{"$f":"INSERT!A57","v":0},{"$f":"INSERT!B57","v":0},{"$f":"INSERT!C57","v":0},{"$f":"INSERT!D57","v":0},{"$f":"INSERT!E57","v":0},null,null,null,null,null,null,null,null,null,null,null,null,null,null,null,null,0,"0",null,null,null,null,null,null,null,null,null,null,null,null,null,null,null,null,0,"0",null,null,null,null,null,null,null,null,null,null,null,null,null,null,null,null,0,"0",null,null,null,null,null,null,null,null,null,null,null,null,null,null,null,null,0,"0",null,null,null,"",0,4]
["",56,56,{"$f":"INSERT!A58","v":0},{"$f":"INSERT!B58","v":0},{"$f":"INSERT!C58","v":0},{"$f":"INSERT!D58","v":0},{"$f":"INSERT!E58","v":0},null,null,null,null,null,null,null,null,null,null,null,null,null,null,null,null,0,"0",null,null,null,null,null,null,null,null,null,null,null,null,null,null,null,null,0,"0",null,null,null,null,null,null,null,null,null,null,null,null,null,null,null,null,0,"0",null,null,null,null,null,null,null,null,null,null,null,null,null,null,null,null,0,"0",null,null,null,"",0,4]
["",57,57,{"$f":"INSERT!A59","v":0},{"$f":"INSERT!B59","v":0},{"$f":"INSERT!C59","v":0},{"$f":"INSERT!D59","v":0},{"$f":"INSERT!E59","v":0},null,null,null,null,null,null,null,null,null,null,null,null,null,null,null,null,0,"0",null,null,null,null,null,null,null,null,null,null,null,null,null,null,null,null,0,"0",null,null,null,null,null,null,null,null,null,null,null,null,null,null,null,null,0,"0",null,null,null,null,null,null,null,null,null,null,null,null,null,null,null,null,0,"0",null,null,null,"",0,4]
["",58,58,{"$f":"INSERT!A60","v":0},{"$f":"INSERT!B60","v":0},{"$f":"INSERT!C60","v":0},{"$f":"INSERT!D60","v":0},{"$f":"INSERT!E60","v":0},null,null,null,null,null,null,null,null,null,null,null,null,null,null,null,null,0,"0",null,null,null,null,null,null,null,null,null,null,null,null,null,null,null,null,0,"0",null,null,null,null,null,null,null,null,null,null,null,null,null,null,null,null,0,"0",null,null,null,null,null,null,null,null,null,null,null,null,null,null,null,null,0,"0",null,null,null,"",0,4]
["",59,59,{"$f":"INSERT!A61","v":0},{"$f":"INSERT!B61","v":0},{"$f":"INSERT!C61","v":0},{"$f":"INSERT!D61","v":0},{"$f":"INSERT!E61","v":0},null,null,null,null,null,null,null,null,null,null,null,null,null,null,null,null,0,"0",null,null,null,null,null,null,null,null,null,null,null,null,null,null,null,null,0,"0",null,null,null,null,null,null,null,null,null,null,null,null,null,null,null,null,0,"0",null,null,null,null,null,null,null,null,null,null,null,null,null,null,null,null,0,"0",null,null,null,"",0,4]
["",60,60,{"$f":"INSERT!A62","v":0},{"$f":"INSERT!B62","v":0},{"$f":"INSERT!C62","v":0},{"$f":"INSERT!D62","v":0},{"$f":"INSERT!E62","v":0},null,null,null,null,null,null,null,null,null,null,null,null,null,null,null,null,0,"0",null,null,null,null,null,null,null,null,null,null,null,null,null,null,null,null,0,"0",null,null,null,null,null,null,null,null,null,null,null,null,null,null,null,null,0,"0",null,null,null,null,null,null,null,null,null,null,null,null,null,null,null,null,0,"0",null,null,null,"",0,4]
["",61,61,{"$f":"INSERT!A63","v":0},{"$f":"INSERT!B63","v":0},{"$f":"INSERT!C63","v":0},{"$f":"INSERT!D63","v":0},{"$f":"INSERT!E63","v":0},null,null,null,null,null,null,null,null,null,null,null,null,null,null,null,null,0,"0",null,null,null,null,null,null,null,null,null,null,null,null,null,null,null,null,0,"0",null,null,null,null,null,null,null,null,null,null,null,null,null,null,null,null,0,"0",null,null,null,null,null,null,null,null,null,null,null,null,null,null,null,null,0,"0",null,null,null,"",0,4]
["",62,62,{"$f":"INSERT!A64","v":0},{"$f":"INSERT!B64","v":0},{"$f":"INSERT!C64","v":0},{"$f":"INSERT!D64","v":0},{"$f":"INSERT!E64","v":0},null,null,null,null,null,null,null,null,null,null,null,null,null,null,null,null,0,"0",null,null,null,null,null,null,null,null,null,null,null,null,null,null,null,null,0,"0",null,null,null,null,null,null,null,null,null,null,null,null,null,null,null,null,0,"0",null,null,null,null,null,null,null,null,null,null,null,null,null,null,null,null,0,"0",null,null,null,"",0,4]
["",63,63,{"$f":"INSERT!A65","v":0},{"$f":"INSERT!B65","v":0},{"$f":"INSERT!C65","v":0},{"$f":"INSERT!D65","v":0},{"$f":"INSERT!E65","v":0},null,null,null,null,null,null,null,null,null,null,null,null,null,null,null,null,0,"0",null,null,null,null,null,null,null,null,null,null,null,null,null,null,null,null,0,"0",null,null,null,null,null,null,null,null,null,null,null,null,null,null,null,null,0,"0",null,null,null,null,null,null,null,null,null,null,null,null,null,null,null,null,0,"0",null,null,null,"",0,4]
["",64,64,{"$f":"INSERT!A66","v":0},{"$f":"INSERT!B66","v":0},{"$f":"INSERT!C66","v":0},{"$f":"INSERT!D66","v":0},{"$f":"INSERT!E66","v":0},null,null,null,null,null,null,null,null,null,null,null,null,null,null,null,null,0,"0",null,null,null,null,null,null,null,null,null,null,null,null,null,null,null,null,0,"0",null,null,null,null,null,null,null,null,null,null,null,null,null,null,null,null,0,"0",null,null,null,null,null,null,null,null,null,null,null,null,null,null,null,null,0,"0",null,null,null,"",0,4]
["",65,65,{"$f":"INSERT!A67","v":0},{"$f":"INSERT!B67","v":0},{"$f":"INSERT!C67","v":0},{"$f":"INSERT!D67","v":0},{"$f":"INSERT!E67","v":0},null,null,null,null,null,null,null,null,null,null,null,null,null,null,null,null,{"$f":"SUM(I80:X80)","v":0},{"$f":"IFERROR(ROUND((SUM(Y80*$Y$13)/10),0),\"0\")","v":"0"},null,null,null,null,null,null,null,null,null,null,null,null,null,null,null,null,{"$f":"SUM(AA80:AP80)","v":0},{"$f":"IFERROR(ROUND((SUM(AQ80*$AQ$13)/10),0),\"0\")","v":"0"},null,null,null,null,null,null,null,null,null,null,null,null,null,null,null,null,{"$f":"SUM(AS80:BH80)","v":0},{"$f":"IFERROR(ROUND((SUM(BI80*$BI$13)/10),0),\"0\")","v":"0"},null,null,null,null,null,null,null,null,null,null,null,null,null,null,null,null,{"$f":"SUM(BK80:BZ80)","v":0},{"$f":"IFERROR(ROUND((SUM(CA80*$CA$13)/10),0),\"0\")","v":"0"},null,null,null,{"$f":"IFERROR(ROUND(SUM(CE80*$CE$13),0),\"\")","v":""},{"$f":"ROUND(IF($CF$13=1,CD80,IF($CF$13=2,(CF80+CD80)/2)),0)","v":0},{"$f":"COUNTA(D80:G80,I80,AA80,AS80,BK80,CC80:CE80)","v":4}]
["",66,66,{"$f":"INSERT!A68","v":0},{"$f":"INSERT!B68","v":0},{"$f":"INSERT!C68","v":0},{"$f":"INSERT!D68","v":0},{"$f":"INSERT!E68","v":0},null,null,null,null,null,null,null,null,null,null,null,null,null,null,null,null,0,"0",null,null,null,null,null,null,null,null,null,null,null,null,null,null,null,null,0,"0",null,null,null,null,null,null,null,null,null,null,null,null,null,null,null,null,0,"0",null,null,null,null,null,null,null,null,null,null,null,null,null,null,null,null,0,"0",null,null,null,"",0,4]
["",67,67,{"$f":"INSERT!A69","v":0},{"$f":"INSERT!B69","v":0},{"$f":"INSERT!C69","v":0},{"$f":"INSERT!D69","v":0},{"$f":"INSERT!E69","v":0},null,null,null,null,null,null,null,null,null,null,null,null,null,null,null,null,0,"0",null,null,null,null,null,null,null,null,null,null,null,null,null,null,null,null,0,"0",null,null,null,null,null,null,null,null,null,null,null,null,null,null,null,null,0,"0",null,null,null,null,null,null,null,null,null,null,null,null,null,null,null,null,0,"0",null,null,null,"",0,4]
["",68,68,{"$f":"INSERT!A70","v":0},{"$f":"INSERT!B70","v":0},{"$f":"INSERT!C70","v":0},{"$f":"INSERT!D70","v":0},{"$f":"INSERT!E70","v":0},null,null,null,null,null,null,null,null,null,null,null,null,null,null,null,null,0,"0",null,null,null,null,null,null,null,null,null,null,null,null,null,null,null,null,0,"0",null,null,null,null,null,null,null,null,null,null,null,null,null,null,null,null,0,"0",null,null,null,null,null,null,null,null,null,null,null,null,null,null,null,null,0,"0",null,null,null,"",0,4]
["",69,69,{"$f":"INSERT!A71","v":0},{"$f":"INSERT!B71","v":0},{"$f":"INSERT!C71","v":0},{"$f":"INSERT!D71","v":0},{"$f":"INSERT!E71","v":0},null,null,null,null,null,null,null,null,null,null,null,null,null,null,null,null,0,"0",null,null,null,null,null,null,null,null,null,null,null,null,null,null,null,null,0,"0",null,null,null,null,null,null,null,null,null,null,null,null,null,null,null,null,0,"0",null,null,null,null,null,null,null,null,null,null,null,null,null,null,null,null,0,"0",null,null,null,"",0,4]
["",70,70,{"$f":"INSERT!A72","v":0},{"$f":"INSERT!B72","v":0},{"$f":"INSERT!C72","v":0},{"$f":"INSERT!D72","v":0},{"$f":"INSERT!E72","v":0},null,null,null,null,null,null,null,null,null,null,null,null,null,null,null,null,0,"0",null,null,null,null,null,null,null,null,null,null,null,null,null,null,null,null,0,"0",null,null,null,null,null,null,null,null,null,null,null,null,null,null,null,null,0,"0",null,null,null,null,null,null,null,null,null,null,null,null,null,null,null,null,0,"0",null,null,null,"",0,4]
["",71,71,{"$f":"INSERT!A73","v":0},{"$f":"INSERT!B73","v":0},{"$f":"INSERT!C73","v":0},{"$f":"INSERT!D73","v":0},{"$f":"INSERT!E73","v":0},null,null,null,null,null,null,null,null,null,null,null,null,null,null,null,null,0,"0",null,null,null,null,null,null,null,null,null,null,null,null,null,null,null,null,0,"0",null,null,null,null,null,null,null,null,null,null,null,null,null,null,null,null,0,"0",null,null,null,null,null,null,null,null,null,null,null,null,null,null,null,null,0,"0",null,null,null,"",0,4]
["",72,72,{"$f":"INSERT!A74","v":0},{"$f":"INSERT!B74","v":0},{"$f":"INSERT!C74","v":0},{"$f":"INSERT!D74","v":0},{"$f":"INSERT!E74","v":0},null,null,null,null,null,null,null,null,null,null,null,null,null,null,null,null,0,"0",null,null,null,null,null,null,null,null,null,null,null,null,null,null,null,null,0,"0",null,null,null,null,null,null,null,null,null,null,null,null,null,null,null,null,0,"0",null,null,null,null,null,null,null,null,null,null,null,null,null,null,null,null,0,"0",null,null,null,"",0,4]
["",73,73,{"$f":"INSERT!A75","v":0},{"$f":"INSERT!B75","v":0},{"$f":"INSERT!C75","v":0},{"$f":"INSERT!D75","v":0},{"$f":"INSERT!E75","v":0},null,null,null,null,null,null,null,null,null,null,null,null,null,null,null,null,0,"0",null,null,null,null,null,null,null,null,null,null,null,null,null,null,null,null,0,"0",null,null,null,null,null,null,null,null,null,null,null,null,null,null,null,null,0,"0",null,null,null,null,null,null,null,null,null,null,null,null,null,null,null,null,0,"0",null,null,null,"",0,4]
["",74,74,{"$f":"INSERT!A76","v":0},{"$f":"INSERT!B76","v":0},{"$f":"INSERT!C76","v":0},{"$f":"INSERT!D76","v":0},{"$f":"INSERT!E76","v":0},null,null,null,null,null,null,null,null,null,null,null,null,null,null,null,null,0,"0",null,null,null,null,null,null,null,null,null,null,null,null,null,null,null,null,0,"0",null,null,null,null,null,null,null,null,null,null,null,null,null,null,null,null,0,"0",null,null,null,null,null,null,null,null,null,null,null,null,null,null,null,null,0,"0",null,null,null,"",0,4]
["",75,75,{"$f":"INSERT!A77","v":0},{"$f":"INSERT!B77","v":0},{"$f":"INSERT!C77","v":0},{"$f":"INSERT!D77","v":0},{"$f":"INSERT!E77","v":0},null,null,null,null,null,null,null,null,null,null,null,null,null,null,null,null,0,"0",null,null,null,null,null,null,null,null,null,null,null,null,null,null,null,null,0,"0",null,null,null,null,null,null,null,null,null,null,null,null,null,null,null,null,0,"0",null,null,null,null,null,null,null,null,null,null,null,null,null,null,null,null,0,"0",null,null,null,"",0,4]
["",76,76,{"$f":"INSERT!A78","v":0},{"$f":"INSERT!B78","v":0},{"$f":"INSERT!C78","v":0},{"$f":"INSERT!D78","v":0},{"$f":"INSERT!E78","v":0},null,null,null,null,null,null,null,null,null,null,null,null,null,null,null,null,0,"0",null,null,null,null,null,null,null,null,null,null,null,null,null,null,null,null,0,"0",null,null,null,null,null,null,null,null,null,null,null,null,null,null,null,null,0,"0",null,null,null,null,null,null,null,null,null,null,null,null,null,null,null,null,0,"0",null,null,null,"",0,4]
["",77,77,{"$f":"INSERT!A79","v":0},{"$f":"INSERT!B79","v":0},{"$f":"INSERT!C79","v":0},{"$f":"INSERT!D79","v":0},{"$f":"INSERT!E79","v":0},null,null,null,null,null,null,null,null,null,null,null,null,null,null,null,null,0,"0",null,null,null,null,null,null,null,null,null,null,null,null,null,null,null,null,0,"0",null,null,null,null,null,null,null,null,null,null,null,null,null,null,null,null,0,"0",null,null,null,null,null,null,null,null,null,null,null,null,null,null,null,null,0,"0",null,null,null,"",0,4]
["",78,78,{"$f":"INSERT!A80","v":0},{"$f":"INSERT!B80","v":0},{"$f":"INSERT!C80","v":0},{"$f":"INSERT!D80","v":0},{"$f":"INSERT!E80","v":0},null,null,null,null,null,null,null,null,null,null,null,null,null,null,null,null,0,"0",null,null,null,null,null,null,null,null,null,null,null,null,null,null,null,null,0,"0",null,null,null,null,null,null,null,null,null,null,null,null,null,null,null,null,0,"0",null,null,null,null,null,null,null,null,null,null,null,null,null,null,null,null,0,"0",null,null,null,"",0,4]
["",79,79,{"$f":"INSERT!A81","v":0},{"$f":"INSERT!B81","v":0},{"$f":"INSERT!C81","v":0},{"$f":"INSERT!D81","v":0},{"$f":"INSERT!E81","v":0},null,null,null,null,null,null,null,null,null,null,null,null,null,null,null,null,0,"0",null,null,null,null,null,null,null,null,null,null,null,null,null,null,null,null,0,"0",null,null,null,null,null,null,null,null,null,null,null,null,null,null,null,null,0,"0",null,null,null,null,null,null,null,null,null,null,null,null,null,null,null,null,0,"0",null,null,null,"",0,4]
["",80,80,{"$f":"INSERT!A82","v":0},{"$f":"INSERT!B82","v":0},{"$f":"INSERT!C82","v":0},{"$f":"INSERT!D82","v":0},{"$f":"INSERT!E82","v":0},null,null,null,null,null,null,null,null,null,null,null,null,null,null,null,null,0,"0",null,null,null,null,null,null,null,null,null,null,null,null,null,null,null,null,0,"0",null,null,null,null,null,null,null,null,null,null,null,null,null,null,null,null,0,"0",null,null,null,null,null,null,null,null,null,null,null,null,null,null,null,null,0,"0",null,null,null,"",0,4]
["",81,81,{"$f":"INSERT!A83","v":0},{"$f":"INSERT!B83","v":0},{"$f":"INSERT!C83","v":0},{"$f":"INSERT!D83","v":0},{"$f":"INSERT!E83","v":0},null,null,null,null,null,null,null,null,null,null,null,null,null,null,null,null,0,"0",null,null,null,null,null,null,null,null,null,null,null,null,null,null,null,null,0,"0",null,null,null,null,null,null,null,null,null,null,null,null,null,null,null,null,0,"0",null,null,null,null,null,null,null,null,null,null,null,null,null,null,null,null,0,"0",null,null,null,"",0,4]
["",82,82,{"$f":"INSERT!A84","v":0},{"$f":"INSERT!B84","v":0},{"$f":"INSERT!C84","v":0},{"$f":"INSERT!D84","v":0},{"$f":"INSERT!E84","v":0},null,null,null,null,null,null,null,null,null,null,null,null,null,null,null,null,0,"0",null,null,null,null,null,null,null,null,null,null,null,null,null,null,null,null,0,"0",null,null,null,null,null,null,null,null,null,null,null,null,null,null,null,null,0,"0",null,null,null,null,null,null,null,null,null,null,null,null,null,null,null,null,0,"0",null,null,null,"",0,4]
["",83,83,{"$f":"INSERT!A85","v":0},{"$f":"INSERT!B85","v":0},{"$f":"INSERT!C85","v":0},{"$f":"INSERT!D85","v":0},{"$f":"INSERT!E85","v":0},null,null,null,null,null,null,null,null,null,null,null,null,null,null,null,null,0,"0",null,null,null,null,null,null,null,null,null,null,null,null,null,null,null,null,0,"0",null,null,null,null,null,null,null,null,null,null,null,null,null,null,null,null,0,"0",null,null,null,null,null,null,null,null,null,null,null,null,null,null,null,null,0,"0",null,null,null,"",0,4]
["",84,84,{"$f":"INSERT!A86","v":0},{"$f":"INSERT!B86","v":0},{"$f":"INSERT!C86","v":0},{"$f":"INSERT!D86","v":0},{"$f":"INSERT!E86","v":0},null,null,null,null,null,null,null,null,null,null,null,null,null,null,null,null,0,"0",null,null,null,null,null,null,null,null,null,null,null,null,null,null,null,null,0,"0",null,null,null,null,null,null,null,null,null,null,null,null,null,null,null,null,0,"0",null,null,null,null,null,null,null,null,null,null,null,null,null,null,null,null,0,"0",null,null,null,"",0,4]
["",85,85,{"$f":"INSERT!A87","v":0},{"$f":"INSERT!B87","v":0},{"$f":"INSERT!C87","v":0},{"$f":"INSERT!D87","v":0},{"$f":"INSERT!E87","v":0},null,null,null,null,null,null,null,null,null,null,null,null,null,null,null,null,0,"0",null,null,null,null,null,null,null,null,null,null,null,null,null,null,null,null,0,"0",null,null,null,null,null,null,null,null,null,null,null,null,null,null,null,null,0,"0",null,null,null,null,null,null,null,null,null,null,null,null,null,null,null,null,0,"0",null,null,null,"",0,4]
["",86,86,{"$f":"INSERT!A88","v":0},{"$f":"INSERT!B88","v":0},{"$f":"INSERT!C88","v":0},{"$f":"INSERT!D88","v":0},{"$f":"INSERT!E88","v":0},null,null,null,null,null,null,null,null,null,null,null,null,null,null,null,null,0,"0",null,null,null,null,null,null,null,null,null,null,null,null,null,null,null,null,0,"0",null,null,null,null,null,null,null,null,null,null,null,null,null,null,null,null,0,"0",null,null,null,null,null,null,null,null,null,null,null,null,null,null,null,null,0,"0",null,null,null,"",0,4]
["",87,87,{"$f":"INSERT!A89","v":0},{"$f":"INSERT!B89","v":0},{"$f":"INSERT!C89","v":0},{"$f":"INSERT!D89","v":0},{"$f":"INSERT!E89","v":0},null,null,null,null,null,null,null,null,null,null,null,null,null,null,null,null,0,"0",null,null,null,null,null,null,null,null,null,null,null,null,null,null,null,null,0,"0",null,null,null,null,null,null,null,null,null,null,null,null,null,null,null,null,0,"0",null,null,null,null,null,null,null,null,null,null,null,null,null,null,null,null,0,"0",null,null,null,"",0,4]
["",88,88,{"$f":"INSERT!A90","v":0},{"$f":"INSERT!B90","v":0},{"$f":"INSERT!C90","v":0},{"$f":"INSERT!D90","v":0},{"$f":"INSERT!E90","v":0},null,null,null,null,null,null,null,null,null,null,null,null,null,null,null,null,0,"0",null,null,null,null,null,null,null,null,null,null,null,null,null,null,null,null,0,"0",null,null,null,null,null,null,null,null,null,null,null,null,null,null,null,null,0,"0",null,null,null,null,null,null,null,null,null,null,null,null,null,null,null,null,0,"0",null,null,null,"",0,4]
["",89,89,{"$f":"INSERT!A91","v":0},{"$f":"INSERT!B91","v":0},{"$f":"INSERT!C91","v":0},{"$f":"INSERT!D91","v":0},{"$f":"INSERT!E91","v":0},null,null,null,null,null,null,null,null,null,null,null,null,null,null,null,null,0,"0",null,null,null,null,null,null,null,null,null,null,null,null,null,null,null,null,0,"0",null,null,null,null,null,null,null,null,null,null,null,null,null,null,null,null,0,"0",null,null,null,null,null,null,null,null,null,null,null,null,null,null,null,null,0,"0",null,null,null,"",0,4]
["",90,90,{"$f":"INSERT!A92","v":0},{"$f":"INSERT!B92","v":0},{"$f":"INSERT!C92","v":0},{"$f":"INSERT!D92","v":0},{"$f":"INSERT!E92","v":0},null,null,null,null,null,null,null,null,null,null,null,null,null,null,null,null,0,"0",null,null,null,null,null,null,null,null,null,null,null,null,null,null,null,null,0,"0",null,null,null,null,null,null,null,null,null,null,null,null,null,null,null,null,0,"0",null,null,null,null,null,null,null,null,null,null,null,null,null,null,null,null,0,"0",null,null,null,"",0,4]
["",91,91,{"$f":"INSERT!A93","v":0},{"$f":"INSERT!B93","v":0},{"$f":"INSERT!C93","v":0},{"$f":"INSERT!D93","v":0},{"$f":"INSERT!E93","v":0},null,null,null,null,null,null,null,null,null,null,null,null,null,null,null,null,0,"0",null,null,null,null,null,null,null,null,null,null,null,null,null,null,null,null,0,"0",null,null,null,null,null,null,null,null,null,null,null,null,null,null,null,null,0,"0",null,null,null,null,null,null,null,null,null,null,null,null,null,null,null,null,0,"0",null,null,null,"",0,4]
["",92,92,{"$f":"INSERT!A94","v":0},{"$f":"INSERT!B94","v":0},{"$f":"INSERT!C94","v":0},{"$f":"INSERT!D94","v":0},{"$f":"INSERT!E94","v":0},null,null,null,null,null,null,null,null,null,null,null,null,null,null,null,null,0,"0",null,null,null,null,null,null,null,null,null,null,null,null,null,null,null,null,0,"0",null,null,null,null,null,null,null,null,null,null,null,null,null,null,null,null,0,"0",null,null,null,null,null,null,null,null,null,null,null,null,null,null,null,null,0,"0",null,null,null,"",0,4]
[{"$f":"IF(CH108=0,\"X\",\"\")","v":""},93,93,{"$f":"INSERT!A95","v":0},{"$f":"INSERT!B95","v":0},{"$f":"INSERT!C95","v":0},{"$f":"INSERT!D95","v":0},{"$f":"INSERT!E95","v":0},null,null,null,null,null,null,null,null,null,null,null,null,null,null,null,null,0,"0",null,null,null,null,null,null,null,null,null,null,null,null,null,null,null,null,0,"0",null,null,null,null,null,null,null,null,null,null,null,null,null,null,null,null,0,"0",null,null,null,null,null,null,null,null,null,null,null,null,null,null,null,null,0,"0",null,null,null,"",0,4]
["",94,94,{"$f":"INSERT!A96","v":0},{"$f":"INSERT!B96","v":0},{"$f":"INSERT!C96","v":0},{"$f":"INSERT!D96","v":0},{"$f":"INSERT!E96","v":0},null,null,null,null,null,null,null,null,null,null,null,null,null,null,null,null,0,"0",null,null,null,null,null,null,null,null,null,null,null,null,null,null,null,null,0,"0",null,null,null,null,null,null,null,null,null,null,null,null,null,null,null,null,0,"0",null,null,null,null,null,null,null,null,null,null,null,null,null,null,null,null,0,"0",null,null,null,"",0,4]
["",95,95,{"$f":"INSERT!A97","v":0},{"$f":"INSERT!B97","v":0},{"$f":"INSERT!C97","v":0},{"$f":"INSERT!D97","v":0},{"$f":"INSERT!E97","v":0},null,null,null,null,null,null,null,null,null,null,null,null,null,null,null,null,0,"0",null,null,null,null,null,null,null,null,null,null,null,null,null,null,null,null,0,"0",null,null,null,null,null,null,null,null,null,null,null,null,null,null,null,null,0,"0",null,null,null,null,null,null,null,null,null,null,null,null,null,null,null,null,0,"0",null,null,null,"",0,4]
["",96,96,{"$f":"INSERT!A98","v":0},{"$f":"INSERT!B98","v":0},{"$f":"INSERT!C98","v":0},{"$f":"INSERT!D98","v":0},{"$f":"INSERT!E98","v":0},null,null,null,null,null,null,null,null,null,null,null,null,null,null,null,null,0,"0",null,null,null,null,null,null,null,null,null,null,null,null,null,null,null,null,0,"0",null,null,null,null,null,null,null,null,null,null,null,null,null,null,null,null,0,"0",null,null,null,null,null,null,null,null,null,null,null,null,null,null,null,null,0,"0",null,null,null,"",0,4]
["",97,97,{"$f":"INSERT!A99","v":0},{"$f":"INSERT!B99","v":0},{"$f":"INSERT!C99","v":0},{"$f":"INSERT!D99","v":0},{"$f":"INSERT!E99","v":0},null,null,null,null,null,null,null,null,null,null,null,null,null,null,null,null,{"$f":"SUM(I112:X112)","v":0},{"$f":"IFERROR(ROUND((SUM(Y112*$Y$13)/10),0),\"0\")","v":"0"},null,null,null,null,null,null,null,null,null,null,null,null,null,null,null,null,{"$f":"SUM(AA112:AP112)","v":0},{"$f":"IFERROR(ROUND((SUM(AQ112*$AQ$13)/10),0),\"0\")","v":"0"},null,null,null,null,null,null,null,null,null,null,null,null,null,null,null,null,{"$f":"SUM(AS112:BH112)","v":0},{"$f":"IFERROR(ROUND((SUM(BI112*$BI$13)/10),0),\"0\")","v":"0"},null,null,null,null,null,null,null,null,null,null,null,null,null,null,null,null,{"$f":"SUM(BK112:BZ112)","v":0},{"$f":"IFERROR(ROUND((SUM(CA112*$CA$13)/10),0),\"0\")","v":"0"},null,null,null,{"$f":"IFERROR(ROUND(SUM(CE112*$CE$13),0),\"\")","v":""},{"$f":"ROUND(IF($CF$13=1,CD112,IF($CF$13=2,(CF112+CD112)/2)),0)","v":0},4]
["",98,98,{"$f":"INSERT!A100","v":0},{"$f":"INSERT!B100","v":0},{"$f":"INSERT!C100","v":0},{"$f":"INSERT!D100","v":0},{"$f":"INSERT!E100","v":0},null,null,null,null,null,null,null,null,null,null,null,null,null,null,null,null,0,"0",null,null,null,null,null,null,null,null,null,null,null,null,null,null,null,null,0,"0",null,null,null,null,null,null,null,null,null,null,null,null,null,null,null,null,0,"0",null,null,null,null,null,null,null,null,null,null,null,null,null,null,null,null,0,"0",null,null,null,"",0,4]
["",99,99,{"$f":"INSERT!A101","v":0},{"$f":"INSERT!B101","v":0},{"$f":"INSERT!C101","v":0},{"$f":"INSERT!D101","v":0},{"$f":"INSERT!E101","v":0},null,null,null,null,null,null,null,null,null,null,null,null,null,null,null,null,0,"0",null,null,null,null,null,null,null,null,null,null,null,null,null,null,null,null,0,"0",null,null,null,null,null,null,null,null,null,null,null,null,null,null,null,null,0,"0",null,null,null,null,null,null,null,null,null,null,null,null,null,null,null,null,0,"0",null,null,null,"",0,4]
["",100,100,{"$f":"INSERT!A102","v":0},{"$f":"INSERT!B102","v":0},{"$f":"INSERT!C102","v":0},{"$f":"INSERT!D102","v":0},{"$f":"INSERT!E102","v":0},null,null,null,null,null,null,null,null,null,null,null,null,null,null,null,null,0,"0",null,null,null,null,null,null,null,null,null,null,null,null,null,null,null,null,0,"0",null,null,null,null,null,null,null,null,null,null,null,null,null,null,null,null,0,"0",null,null,null,null,null,null,null,null,null,null,null,null,null,null,null,null,0,"0",null,null,null,"",0,4]
[null,"Total amount of learners on mark sheet",null,null,null,0,"TOTAL",null,{"$f":"SUM(I16:I115)","v":0},0,0,0,{"$f":"SUM(M16:M115)","v":0},0,0,0,0,0,0,0,0,0,0,0,0,0,0,0,0,0,0,{"$f":"SUM(AF16:AF115)","v":0},0,0,0,0,0,0,0,0,0,0,0,0,0,0,0,0,{"$f":"SUM(AW16:AW115)","v":0},0,0,0,0,0,0,0,0,0,0,0,0,0,0,0,0,0,{"$f":"SUM(BO16:BO115)","v":0},0,0,0,0,0,0,0,0,0,0,0,0,0,0,0,0,{"$f":"SUM(CF16:CF115)","v":0},0]
[null,null,null,null,null,0,"AVERAGE",null,{"$f":"IFERROR(SUM(I116/I120),\"0\")","v":"0"},{"$f":"IFERROR(SUM(J116/J120),\"0\")","v":"0"},"0","0",{"$f":"IFERROR(SUM(M116/M120),\"0\")","v":"0"},"0","0","0","0","0","0","0","0","0","0","0",{"$f":"IFERROR(SUM(Y116/B120),\"0\")","v":"0"},{"$f":"IFERROR(SUM(Z116/B120),\"0\")","v":"0"},"0","0","0","0","0",{"$f":"IFERROR(SUM(AF116/AF120),\"0\")","v":"0"},"0","0","0","0","0","0","0","0","0","0",{"$f":"IFERROR(SUM(AQ116/B120),\"0\")","v":"0"},{"$f":"IFERROR(SUM(AR116/B120),\"0\")","v":"0"},"0","0","0","0",{"$f":"IFERROR(SUM(AW116/AW120),\"0\")","v":"0"},"0","0","0","0","0","0","0","0","0","0","0",{"$f":"IFERROR(SUM(BI116/B120),\"0\")","v":"0"},{"$f":"IFERROR(SUM(BJ116/B120),\"0\")","v":"0"},"0","0","0","0",{"$f":"IFERROR(SUM(BO116/BO120),\"0\")","v":"0"},"0","0","0","0","0","0","0","0","0","0","0",{"$f":"IFERROR(SUM(CA116/B120),\"0\")","v":"0"},{"$f":"IFERROR(SUM(CB116/B120),\"0\")","v":"0"},"0","0","0",{"$f":"IFERROR(SUM(CF116/CF120),\"0\")","v":"0"},{"$f":"IFERROR(SUM(CG116/B120),\"0\")","v":"0"}]
[null,null,null,null,null,0,"PERCENTAGE",null,{"$f":"IFERROR(ROUND((SUM(I117/I12)*100),0),\"0\")","v":"0"},{"$f":"IFERROR(ROUND((SUM(J117/J12)*100),0),\"0\")","v":"0"},"0","0",{"$f":"IFERROR(ROUND((SUM(M117/M12)*100),0),\"0\")","v":"0"},"0","0","0","0","0","0","0","0","0","0","0","0",0,"0","0","0","0","0",{"$f":"IFERROR(ROUND((SUM(AF117/AF12)*100),0),\"0\")","v":"0"},"0","0","0","0","0","0","0","0","0","0","0",0,"0","0","0","0",{"$f":"IFERROR(ROUND((SUM(AW117/AW12)*100),0),\"0\")","v":"0"},"0","0","0","0","0","0","0","0","0","0","0","0",0,"0","0","0","0",{"$f":"IFERROR(ROUND((SUM(BO117/BO12)*100),0),\"0\")","v":"0"},"0","0","0","0","0","0","0","0","0","0","0","0",0,0,"0","0",{"$f":"IFERROR(ROUND((SUM(CF117/CF12)*100),0),\"0\")","v":"0"},0]
[null,null,null,null,null,0,0]
[null,{"$f":"INSERT!$E$103","v":0},null,null,null,0,"TOTAL HANDED IN",null,{"$f":"COUNT(I16:I115)","v":0},{"$f":"COUNT(J16:J115)","v":0},{"$f":"COUNT(K16:K115)","v":0},0,{"$f":"COUNT(M16:M115)","v":0},0,0,0,0,0,0,0,0,0,0,{"$f":"COUNT(X16:X115)","v":0},null,null,{"$f":"COUNT(AA16:AA115)","v":0},{"$f":"COUNT(AB16:AB115)","v":0},{"$f":"COUNT(AC16:AC115)","v":0},0,0,{"$f":"COUNT(AF16:AF115)","v":0},0,0,0,0,0,0,0,0,0,{"$f":"COUNT(AP16:AP115)","v":0},null,null,{"$f":"COUNT(AS16:AS115)","v":0},{"$f":"COUNT(AT16:AT115)","v":0},{"$f":"COUNT(AU16:AU115)","v":0},0,{"$f":"COUNT(AW16:AW115)","v":0},0,0,0,0,0,0,0,0,0,0,{"$f":"COUNT(BH16:BH115)","v":0},null,null,{"$f":"COUNT(BK16:BK115)","v":0},{"$f":"COUNT(BL16:BL115)","v":0},{"$f":"COUNT(BM16:BM115)","v":0},0,{"$f":"COUNT(BO16:BO115)","v":0},0,0,0,0,0,0,0,0,0,0,{"$f":"COUNT(BZ16:BZ115)","v":0},null,null,{"$f":"COUNT(CC16:CC115)","v":0},0,0]

{"sheet":"TERM2","index":4,"n_rows":123,"n_cols":80,"rows_kept":123,"cut":false,"hidden":false,"merged":[[4,55,9,55],[4,56,9,56],[4,57,9,57],[4,58,9,58],[2,8,2,67],[4,36,9,36],[4,37,9,37],[4,38,9,38],[4,39,9,39],[4,40,9,40],[4,31,9,31],[4,32,9,32],[4,33,9,33],[4,34,9,34],[4,35,9,35],[4,21,9,21],[4,22,9,22],[4,28,9,28],[4,29,9,29],[4,30,9,30],[3,62,3,67],[4,67,10,67],[4,10,9,10],[4,11,9,11],[4,69,10,69],[4,62,10,62],[4,64,10,64],[4,66,10,66],[4,68,10,68],[120,68,120,69],[121,68,121,69],[120,62,120,64],[121,62,121,64],[4,74,10,74],[4,75,10,75],[4,76,10,76],[4,77,10,77],[4,78,10,78],[115,1,118,4],[119,1,119,4],[115,6,115,7],[116,6,116,7],[117,6,117,7],[119,6,119,7],[4,47,9,47],[4,48,9,48],[4,49,9,49],[4,50,9,50],[4,51,9,51],[4,52,9,52],[4,53,9,53],[4,54,9,54],[4,8,9,8],[4,9,9,9],[4,23,9,23],[4,41,9,41],[4,42,10,42],[4,79,10,79],[1,1,1,79],[3,8,3,25],[3,26,3,43],[3,44,3,61],[4,25,10,25],[4,26,9,26],[4,27,9,27],[4,59,9,59],[4,60,10,60],[4,73,10,73],[10,1,10,4],[10,5,10,6],[4,24,10,24],[9,1,9,4],[9,5,9,6],[4,70,10,70],[4,71,10,71],[4,72,10,72],[4,61,10,61],[4,43,10,43],[4,44,9,44],[4,45,9,45],[4,46,9,46],[4,12,9,12],[4,13,9,13],[4,14,9,14],[4,15,9,15],[4,16,9,16],[4,17,9,17],[4,18,9,18],[4,19,9,19],[4,20,9,20],[120,76,120,77],[121,76,121,77],[122,76,122,77],[119,62,119,77],[121,72,121,73],[122,72,122,73],[120,74,120,75],[121,74,121,75],[122,74,122,75],[120,70,120,71],[121,70,121,71],[122,70,122,71],[122,68,122,69],[120,72,120,73],[122,66,122,67],[122,62,122,64],[120,66,120,67],[121,66,121,67]]}
[]
[null,"ENGINEERING GRAPHICS AND DESIGN"]
[null,null,null,null,null,null,null,null,"PROGRAM OF ASSESSMENT  :  TERM 2",null,null,null,null,null,null,null,null,null,null,null,null,null,null,null,null,null,null,null,null,null,null,null,null,null,null,null,null,null,null,null,null,null,null,null,null,null,null,null,null,null,null,null,null,null,null,null,null,null,null,null,null,null,null,null,null,null,null,null,"JUNE EXAM",null,null,null,null,null,"JUNE EXAM"]
[null,null,null,null,null,null,null,null,"CD5 2-point perspective",null,null,null,null,null,null,null,null,null,null,null,null,null,null,null,null,null,"CD6  Floor Plan & Elevations",null,null,null,null,null,null,null,null,null,null,null,null,null,null,null,null,null,"CD7  Sectional Elevation",null,null,null,null,null,null,null,null,null,null,null,null,null,null,null,null,null,"JUNE EXAM",null,null,null,null,null,"PAPER 1",null,null,null,null,null,"PAPER 2"]
[17,null,null,null,"School:",{"$f":"INSERT!J3","v":0},null,null,"CD 5.1","CD 5.2","CD 5.3",null,null,null,null,null,null,null,null,null,null,null,null,null,"TOTAL CD7","TOTAL","CD 6.1","CD 6.2","CD 6.3",null,null,null,null,null,null,null,null,null,null,null,null,null,"TOTAL CD8","TOTAL","CD 7.1","CD 7.2","CD 7.3",null,null,null,null,null,null,null,null,null,null,null,null,null,"TOTAL CD9","TOTAL","PAPER 1",null,"PAPER 2",null,"EXAM TOTAL","LEVELS","Question 1","Question 2","Question 3","Question 4","TOTAL","TOTAL = 200","Question 1","Question 2","Question 3","Question 4","TOTAL","TOTAL = 200"]
[null,null,null,null,"Grade:",{"$f":"INSERT!J4","v":0}]
[null,null,null,null,"Teacher:",{"$f":"INSERT!J5","v":0}]
[null,null,null,null,"HOD:",{"$f":"INSERT!J6","v":0}]
[null,null,null,null,"EGD SES:",{"$f":"INSERT!J7","v":0},{"$f":"INSERT!K7","v":0},{"$f":"INSERT!L7","v":0}]
[]
[null,null,null,null,null,null,null,null,7.1,7.2,7.3,7.4,7.5,7.6,7.7,7.8,7.9,7.1,7.11,7.12,7.13,7.14,7.15,7.16,null,null,8.1,8.1999999999999993,8.3000000000000007,8.4,8.5,8.6,8.6999999999999993,8.8000000000000007,8.9,8.1,8.11,8.1199999999999992,8.1300000000000008,8.14,8.15,8.16,null,null,9.1,9.1999999999999993,9.3000000000000007,9.4,9.5,9.6,9.6999999999999993,9.8000000000000007,9.9,9.1,9.11,9.1199999999999992,9.1300000000000008,9.14,9.15,9.16]
[null,"Nr.",null,"Class","Admission","SURNAME","NAME","GENDER",null,null,null,null,null,null,null,null,null,null,null,null,null,null,null,null,{"$f":"SUM(I12:X12)","v":0},10,null,null,null,null,null,null,null,null,null,null,null,null,null,null,null,null,{"$f":"SUM(AA12:AP12)","v":0},10,null,null,null,null,null,null,null,null,null,null,null,null,null,null,null,null,{"$f":"SUM(AS12:BH12)","v":0},10,{"$f":"$BV$12","v":75},null,{"$f":"$CB$12","v":75},null,{"$f":"SUM(BK12:BM12)","v":150},null,30,24,35,71,{"$f":"SUM(BQ12:BT12)","v":160},{"$f":"SUM(BU12*$BU$13)","v":75},25,31,28,64.5,{"$f":"SUM(BW12:BZ12)","v":148.5},{"$f":"SUM(CA12*$CA$13)","v":75}]
[null,null,null,null,null,null,null,null,{"$f":"IF(I12>0,\"\",\"X\")","v":"X"},"X","X","X","X","X","X","X","X","X","X","X","X","X","X","X",{"$f":"SUM(100/Y12)","v":{"$error":"#DIV/0!"}},null,{"$f":"IF(AA12>0,\"\",\"X\")","v":"X"},"X","X","X","X","X","X","X","X","X","X","X","X","X","X","X",{"$f":"SUM(100/AQ12)","v":{"$error":"#DIV/0!"}},null,{"$f":"IF(AS12>0,\"\",\"X\")","v":"X"},"X","X","X","X","X","X","X","X","X","X","X","X","X","X","X",{"$f":"SUM(100/BI12)","v":{"$error":"#DIV/0!"}},null,{"$f":"SUM(100/BK12)*0.5","v":0.66666666666666663},null,{"$f":"IFERROR((SUM(100/BM12)*0.5),\"0\")","v":0.66666666666666663},{"$f":"COUNT(BQ12)+COUNT(BW12)","v":2},null,null,null,null,null,null,{"$f":"IFERROR(SUM(75/BU12),\"0\")","v":0.46875},null,null,null,null,null,{"$f":"IFERROR(SUM(75/CA12),\"0\")","v":0.50505050505050508}]
[null,null,null,null,null,null,null,"DATE:"]
[]
[{"$f":"SUM(COUNTA(F16)+COUNT(B16))","v":2},1,1,{"$f":"INSERT!A3","v":0},{"$f":"INSERT!B3","v":0},{"$f":"INSERT!C3","v":0},{"$f":"INSERT!D3","v":0},{"$f":"INSERT!E3","v":0},null,null,null,null,null,null,null,null,null,null,null,null,null,null,null,null,{"$f":"SUM(I16:X16)","v":0},{"$f":"IFERROR((ROUND((SUM(Y16*$Y$13)/10),0)),0)","v":0},null,null,null,null,null,null,null,null,null,null,null,null,null,null,null,null,{"$f":"SUM(AA16:AP16)","v":0},{"$f":"IFERROR((ROUND((SUM(AQ16*$AQ$13)/10),0)),0)","v":0},null,null,null,null,null,null,null,null,null,null,null,null,null,null,null,null,{"$f":"SUM(AS16:BH16)","v":0},{"$f":"IFERROR((ROUND((SUM(BI16*$BI$13)/10),0)),0)","v":0},{"$f":"ROUND((BV16),0)","v":0},{"$f":"SUM(BK16*$BK$13)","v":0},{"$f":"ROUND((CB16),0)","v":0},{"$f":"SUM(BM16*$BM$13)","v":0},{"$f":"SUM(BK16+BM16)","v":0},{"$f":"IF(BO16>79.4,\"7\",IF(BO16>69.4,\"6\",IF(BO16>59.4,\"5\",IF(BO16>49.4,\"4\",IF(BO16>39.4,\"3\",IF(BO16>29.4,\"2\",IF(BO16>0,\"1\",IF(BO16=0,\"\",IF(BO16=-1,\"\")))))))))","v":""},null,null,null,null,{"$f":"SUM(BQ16:BT16)","v":0},{"$f":"ROUND(SUM(BU16*$BU$13),0)","v":0},null,null,null,null,{"$f":"SUM(BW16:BZ16)","v":0},{"$f":"ROUND(SUM(CA16*$CA$13),0)","v":0}]
[null,{"$f":"B16+1","v":2},36,{"$f":"INSERT!A4","v":0},{"$f":"INSERT!B4","v":0},{"$f":"INSERT!C4","v":0},{"$f":"INSERT!D4","v":0},{"$f":"INSERT!E4","v":0},null,null,null,null,null,null,null,null,null,null,null,null,null,null,null,null,0,0,null,null,null,null,null,null,null,null,null,null,null,null,null,null,null,null,0,0,null,null,null,null,null,null,null,null,null,null,null,null,null,null,null,null,0,0,0,0,0,0,{"$f":"SUM(BK17+BM17)","v":0},"",null,null,null,null,0,0,null,null,null,null,0,0]
[null,{"$f":"B17+1","v":3},2,{"$f":"INSERT!A5","v":0},{"$f":"INSERT!B5","v":0},{"$f":"INSERT!C5","v":0},{"$f":"INSERT!D5","v":0},{"$f":"INSERT!E5","v":0},null,null,null,null,null,null,null,null,null,null,null,null,null,null,null,null,0,0,null,null,null,null,null,null,null,null,null,null,null,null,null,null,null,null,0,0,null,null,null,null,null,null,null,null,null,null,null,null,null,null,null,null,0,0,0,0,0,0,0,"",null,null,null,null,0,0,null,null,null,null,0,0]
[null,4,3,{"$f":"INSERT!A6","v":0},{"$f":"INSERT!B6","v":0},{"$f":"INSERT!C6","v":0},{"$f":"INSERT!D6","v":0},{"$f":"INSERT!E6","v":0},null,null,null,null,null,null,null,null,null,null,null,null,null,null,null,null,0,0,null,null,null,null,null,null,null,null,null,null,null,null,null,null,null,null,0,0,null,null,null,null,null,null,null,null,null,null,null,null,null,null,null,null,0,0,0,0,0,0,0,"",null,null,null,null,0,0,null,null,null,null,0,0]
[null,5,4,{"$f":"INSERT!A7","v":0},{"$f":"INSERT!B7","v":0},{"$f":"INSERT!C7","v":0},{"$f":"INSERT!D7","v":0},{"$f":"INSERT!E7","v":0},null,null,null,null,null,null,null,null,null,null,null,null,null,null,null,null,0,0,null,null,null,null,null,null,null,null,null,null,null,null,null,null,null,null,0,0,null,null,null,null,null,null,null,null,null,null,null,null,null,null,null,null,0,0,0,0,0,0,0,"",null,null,null,null,0,0,null,null,null,null,0,0]
[null,6,5,{"$f":"INSERT!A8","v":0},{"$f":"INSERT!B8","v":0},{"$f":"INSERT!C8","v":0},{"$f":"INSERT!D8","v":0},{"$f":"INSERT!E8","v":0},null,null,null,null,null,null,null,null,null,null,null,null,null,null,null,null,0,0,null,null,null,null,null,null,null,null,null,null,null,null,null,null,null,null,0,0,null,null,null,null,null,null,null,null,null,null,null,null,null,null,null,null,0,0,0,0,0,0,0,"",null,null,null,null,0,0,null,null,null,null,0,0]
[null,7,6,{"$f":"INSERT!A9","v":0},{"$f":"INSERT!B9","v":0},{"$f":"INSERT!C9","v":0},{"$f":"INSERT!D9","v":0},{"$f":"INSERT!E9","v":0},null,null,null,null,null,null,null,null,null,null,null,null,null,null,null,null,0,0,null,null,null,null,null,null,null,null,null,null,null,null,null,null,null,null,0,0,null,null,null,null,null,null,null,null,null,null,null,null,null,null,null,null,0,0,0,0,0,0,0,"",null,null,null,null,0,0,null,null,null,null,0,0]
[null,8,7,{"$f":"INSERT!A10","v":0},{"$f":"INSERT!B10","v":0},{"$f":"INSERT!C10","v":0},{"$f":"INSERT!D10","v":0},{"$f":"INSERT!E10","v":0},null,null,null,null,null,null,null,null,null,null,null,null,null,null,null,null,0,0,null,null,null,null,null,null,null,null,null,null,null,null,null,null,null,null,0,0,null,null,null,null,null,null,null,null,null,null,null,null,null,null,null,null,0,0,0,0,0,0,0,"",null,null,null,null,0,0,null,null,null,null,0,0]
[null,9,8,{"$f":"INSERT!A11","v":0},{"$f":"INSERT!B11","v":0},{"$f":"INSERT!C11","v":0},{"$f":"INSERT!D11","v":0},{"$f":"INSERT!E11","v":0},null,null,null,null,null,null,null,null,null,null,null,null,null,null,null,null,0,0,null,null,null,null,null,null,null,null,null,null,null,null,null,null,null,null,0,0,null,null,null,null,null,null,null,null,null,null,null,null,null,null,null,null,0,0,0,0,0,0,0,"",null,null,null,null,0,0,null,null,null,null,0,0]
[null,10,9,{"$f":"INSERT!A12","v":0},{"$f":"INSERT!B12","v":0},{"$f":"INSERT!C12","v":0},{"$f":"INSERT!D12","v":0},{"$f":"INSERT!E12","v":0},null,null,null,null,null,null,null,null,null,null,null,null,null,null,null,null,0,0,null,null,null,null,null,null,null,null,null,null,null,null,null,null,null,null,0,0,null,null,null,null,null,null,null,null,null,null,null,null,null,null,null,null,0,0,0,0,0,0,0,"",null,null,null,null,0,0,null,null,null,null,0,0]
[null,11,11,{"$f":"INSERT!A13","v":0},{"$f":"INSERT!B13","v":0},{"$f":"INSERT!C13","v":0},{"$f":"INSERT!D13","v":0},{"$f":"INSERT!E13","v":0},null,null,null,null,null,null,null,null,null,null,null,null,null,null,null,null,0,0,null,null,null,null,null,null,null,null,null,null,null,null,null,null,null,null,0,0,null,null,null,null,null,null,null,null,null,null,null,null,null,null,null,null,0,0,0,0,0,0,0,"",null,null,null,null,0,0,null,null,null,null,0,0]
[null,12,12,{"$f":"INSERT!A14","v":0},{"$f":"INSERT!B14","v":0},{"$f":"INSERT!C14","v":0},{"$f":"INSERT!D14","v":0},{"$f":"INSERT!E14","v":0},null,null,null,null,null,null,null,null,null,null,null,null,null,null,null,null,0,0,null,null,null,null,null,null,null,null,null,null,null,null,null,null,null,null,0,0,null,null,null,null,null,null,null,null,null,null,null,null,null,null,null,null,0,0,0,0,0,0,0,"",null,null,null,null,0,0,null,null,null,null,0,0]
[null,13,13,{"$f":"INSERT!A15","v":0},{"$f":"INSERT!B15","v":0},{"$f":"INSERT!C15","v":0},{"$f":"INSERT!D15","v":0},{"$f":"INSERT!E15","v":0},null,null,null,null,null,null,null,null,null,null,null,null,null,null,null,null,0,0,null,null,null,null,null,null,null,null,null,null,null,null,null,null,null,null,0,0,null,null,null,null,null,null,null,null,null,null,null,null,null,null,null,null,0,0,0,0,0,0,0,"",null,null,null,null,0,0,null,null,null,null,0,0]
[null,14,14,{"$f":"INSERT!A16","v":0},{"$f":"INSERT!B16","v":0},{"$f":"INSERT!C16","v":0},{"$f":"INSERT!D16","v":0},{"$f":"INSERT!E16","v":0},null,null,null,null,null,null,null,null,null,null,null,null,null,null,null,null,0,0,null,null,null,null,null,null,null,null,null,null,null,null,null,null,null,null,0,0,null,null,null,null,null,null,null,null,null,null,null,null,null,null,null,null,0,0,0,0,0,0,0,"",null,null,null,null,0,0,null,null,null,null,0,0]
[null,15,15,{"$f":"INSERT!A17","v":0},{"$f":"INSERT!B17","v":0},{"$f":"INSERT!C17","v":0},{"$f":"INSERT!D17","v":0},{"$f":"INSERT!E17","v":0},null,null,null,null,null,null,null,null,null,null,null,null,null,null,null,null,0,0,null,null,null,null,null,null,null,null,null,null,null,null,null,null,null,null,0,0,null,null,null,null,null,null,null,null,null,null,null,null,null,null,null,null,0,0,0,0,0,0,0,"",null,null,null,null,0,0,null,null,null,null,0,0]
[null,16,16,{"$f":"INSERT!A18","v":0},{"$f":"INSERT!B18","v":0},{"$f":"INSERT!C18","v":0},{"$f":"INSERT!D18","v":0},{"$f":"INSERT!E18","v":0},null,null,null,null,null,null,null,null,null,null,null,null,null,null,null,null,0,0,null,null,null,null,null,null,null,null,null,null,null,null,null,null,null,null,0,0,null,null,null,null,null,null,null,null,null,null,null,null,null,null,null,null,0,0,0,0,0,0,0,"",null,null,null,null,0,0,null,null,null,null,0,0]
[null,17,17,{"$f":"INSERT!A19","v":0},{"$f":"INSERT!B19","v":0},{"$f":"INSERT!C19","v":0},{"$f":"INSERT!D19","v":0},{"$f":"INSERT!E19","v":0},null,null,null,null,null,null,null,null,null,null,null,null,null,null,null,null,0,0,null,null,null,null,null,null,null,null,null,null,null,null,null,null,null,null,0,0,null,null,null,null,null,null,null,null,null,null,null,null,null,null,null,null,0,0,0,0,0,0,0,"",null,null,null,null,0,0,null,null,null,null,0,0]
[null,18,18,{"$f":"INSERT!A20","v":0},{"$f":"INSERT!B20","v":0},{"$f":"INSERT!C20","v":0},{"$f":"INSERT!D20","v":0},{"$f":"INSERT!E20","v":0},null,null,null,null,null,null,null,null,null,null,null,null,null,null,null,null,0,0,null,null,null,null,null,null,null,null,null,null,null,null,null,null,null,null,0,0,null,null,null,null,null,null,null,null,null,null,null,null,null,null,null,null,0,0,0,0,0,0,0,"",null,null,null,null,0,0,null,null,null,null,0,0]
[null,19,19,{"$f":"INSERT!A21","v":0},{"$f":"INSERT!B21","v":0},{"$f":"INSERT!C21","v":0},{"$f":"INSERT!D21","v":0},{"$f":"INSERT!E21","v":0},null,null,null,null,null,null,null,null,null,null,null,null,null,null,null,null,0,0,null,null,null,null,null,null,null,null,null,null,null,null,null,null,null,null,0,0,null,null,null,null,null,null,null,null,null,null,null,null,null,null,null,null,0,0,0,0,0,0,0,"",null,null,null,null,0,0,null,null,null,null,0,0]
[null,20,20,{"$f":"INSERT!A22","v":0},{"$f":"INSERT!B22","v":0},{"$f":"INSERT!C22","v":0},{"$f":"INSERT!D22","v":0},{"$f":"INSERT!E22","v":0},null,null,null,null,null,null,null,null,null,null,null,null,null,null,null,null,0,0,null,null,null,null,null,null,null,null,null,null,null,null,null,null,null,null,0,0,null,null,null,null,null,null,null,null,null,null,null,null,null,null,null,null,0,0,0,0,0,0,0,"",null,null,null,null,0,0,null,null,null,null,0,0]
[null,21,21,{"$f":"INSERT!A23","v":0},{"$f":"INSERT!B23","v":0},{"$f":"INSERT!C23","v":0},{"$f":"INSERT!D23","v":0},{"$f":"INSERT!E23","v":0},null,null,null,null,null,null,null,null,null,null,null,null,null,null,null,null,0,0,null,null,null,null,null,null,null,null,null,null,null,null,null,null,null,null,0,0,null,null,null,null,null,null,null,null,null,null,null,null,null,null,null,null,0,0,0,0,0,0,0,"",null,null,null,null,0,0,null,null,null,null,0,0]
[null,22,22,{"$f":"INSERT!A24","v":0},{"$f":"INSERT!B24","v":0},{"$f":"INSERT!C24","v":0},{"$f":"INSERT!D24","v":0},{"$f":"INSERT!E24","v":0},null,null,null,null,null,null,null,null,null,null,null,null,null,null,null,null,0,0,null,null,null,null,null,null,null,null,null,null,null,null,null,null,null,null,0,0,null,null,null,null,null,null,null,null,null,null,null,null,null,null,null,null,0,0,0,0,0,0,0,"",null,null,null,null,0,0,null,null,null,null,0,0]
[null,23,23,{"$f":"INSERT!A25","v":0},{"$f":"INSERT!B25","v":0},{"$f":"INSERT!C25","v":0},{"$f":"INSERT!D25","v":0},{"$f":"INSERT!E25","v":0},null,null,null,null,null,null,null,null,null,null,null,null,null,null,null,null,0,0,null,null,null,null,null,null,null,null,null,null,null,null,null,null,null,null,0,0,null,null,null,null,null,null,null,null,null,null,null,null,null,null,null,null,0,0,0,0,0,0,0,"",null,null,null,null,0,0,null,null,null,null,0,0]
[null,24,24,{"$f":"INSERT!A26","v":0},{"$f":"INSERT!B26","v":0},{"$f":"INSERT!C26","v":0},{"$f":"INSERT!D26","v":0},{"$f":"INSERT!E26","v":0},null,null,null,null,null,null,null,null,null,null,null,null,null,null,null,null,0,0,null,null,null,null,null,null,null,null,null,null,null,null,null,null,null,null,0,0,null,null,null,null,null,null,null,null,null,null,null,null,null,null,null,null,0,0,0,0,0,0,0,"",null,null,null,null,0,0,null,null,null,null,0,0]
[null,25,25,{"$f":"INSERT!A27","v":0},{"$f":"INSERT!B27","v":0},{"$f":"INSERT!C27","v":0},{"$f":"INSERT!D27","v":0},{"$f":"INSERT!E27","v":0},null,null,null,null,null,null,null,null,null,null,null,null,null,null,null,null,0,0,null,null,null,null,null,null,null,null,null,null,null,null,null,null,null,null,0,0,null,null,null,null,null,null,null,null,null,null,null,null,null,null,null,null,0,0,0,0,0,0,0,"",null,null,null,null,0,0,null,null,null,null,0,0]
[null,26,26,{"$f":"INSERT!A28","v":0},{"$f":"INSERT!B28","v":0},{"$f":"INSERT!C28","v":0},{"$f":"INSERT!D28","v":0},{"$f":"INSERT!E28","v":0},null,null,null,null,null,null,null,null,null,null,null,null,null,null,null,null,0,0,null,null,null,null,null,null,null,null,null,null,null,null,null,null,null,null,0,0,null,null,null,null,null,null,null,null,null,null,null,null,null,null,null,null,0,0,0,0,0,0,0,"",null,null,null,null,0,0,null,null,null,null,0,0]
[null,27,28,{"$f":"INSERT!A29","v":0},{"$f":"INSERT!B29","v":0},{"$f":"INSERT!C29","v":0},{"$f":"INSERT!D29","v":0},{"$f":"INSERT!E29","v":0},null,null,null,null,null,null,null,null,null,null,null,null,null,null,null,null,0,0,null,null,null,null,null,null,null,null,null,null,null,null,null,null,null,null,0,0,null,null,null,null,null,null,null,null,null,null,null,null,null,null,null,null,0,0,0,0,0,0,0,"",null,null,null,null,0,0,null,null,null,null,0,0]
[null,28,29,{"$f":"INSERT!A30","v":0},{"$f":"INSERT!B30","v":0},{"$f":"INSERT!C30","v":0},{"$f":"INSERT!D30","v":0},{"$f":"INSERT!E30","v":0},null,null,null,null,null,null,null,null,null,null,null,null,null,null,null,null,0,0,null,null,null,null,null,null,null,null,null,null,null,null,null,null,null,null,0,0,null,null,null,null,null,null,null,null,null,null,null,null,null,null,null,null,0,0,0,0,0,0,0,"",null,null,null,null,0,0,null,null,null,null,0,0]
[null,29,30,{"$f":"INSERT!A31","v":0},{"$f":"INSERT!B31","v":0},{"$f":"INSERT!C31","v":0},{"$f":"INSERT!D31","v":0},{"$f":"INSERT!E31","v":0},null,null,null,null,null,null,null,null,null,null,null,null,null,null,null,null,0,0,null,null,null,null,null,null,null,null,null,null,null,null,null,null,null,null,0,0,null,null,null,null,null,null,null,null,null,null,null,null,null,null,null,null,0,0,0,0,0,0,0,"",null,null,null,null,0,0,null,null,null,null,0,0]
[null,30,31,{"$f":"INSERT!A32","v":0},{"$f":"INSERT!B32","v":0},{"$f":"INSERT!C32","v":0},{"$f":"INSERT!D32","v":0},{"$f":"INSERT!E32","v":0},null,null,null,null,null,null,null,null,null,null,null,null,null,null,null,null,0,0,null,null,null,null,null,null,null,null,null,null,null,null,null,null,null,null,0,0,null,null,null,null,null,null,null,null,null,null,null,null,null,null,null,null,0,0,0,0,0,0,0,"",null,null,null,null,0,0,null,null,null,null,0,0]
[null,31,32,{"$f":"INSERT!A33","v":0},{"$f":"INSERT!B33","v":0},{"$f":"INSERT!C33","v":0},{"$f":"INSERT!D33","v":0},{"$f":"INSERT!E33","v":0},null,null,null,null,null,null,null,null,null,null,null,null,null,null,null,null,0,0,null,null,null,null,null,null,null,null,null,null,null,null,null,null,null,null,0,0,null,null,null,null,null,null,null,null,null,null,null,null,null,null,null,null,0,0,0,0,0,0,0,"",null,null,null,null,0,0,null,null,null,null,0,0]
[{"$f":"SUM(COUNTA(F47)+COUNT(B47))","v":2},{"$f":"B46+1","v":32},33,{"$f":"INSERT!A34","v":0},{"$f":"INSERT!B34","v":0},{"$f":"INSERT!C34","v":0},{"$f":"INSERT!D34","v":0},{"$f":"INSERT!E34","v":0},null,null,null,null,null,null,null,null,null,null,null,null,null,null,null,null,0,0,null,null,null,null,null,null,null,null,null,null,null,null,null,null,null,null,0,0,null,null,null,null,null,null,null,null,null,null,null,null,null,null,null,null,0,0,0,0,0,0,0,"",null,null,null,null,0,0,null,null,null,null,0,0]
[2,33,34,{"$f":"INSERT!A35","v":0},{"$f":"INSERT!B35","v":0},{"$f":"INSERT!C35","v":0},{"$f":"INSERT!D35","v":0},{"$f":"INSERT!E35","v":0},null,null,null,null,null,null,null,null,null,null,null,null,null,null,null,null,{"$f":"SUM(I48:X48)","v":0},{"$f":"IFERROR((ROUND((SUM(Y48*$Y$13)/10),0)),0)","v":0},null,null,null,null,null,null,null,null,null,null,null,null,null,null,null,null,{"$f":"SUM(AA48:AP48)","v":0},{"$f":"IFERROR((ROUND((SUM(AQ48*$AQ$13)/10),0)),0)","v":0},null,null,null,null,null,null,null,null,null,null,null,null,null,null,null,null,{"$f":"SUM(AS48:BH48)","v":0},{"$f":"IFERROR((ROUND((SUM(BI48*$BI$13)/10),0)),0)","v":0},{"$f":"ROUND((BV48),0)","v":0},{"$f":"SUM(BK48*$BK$13)","v":0},{"$f":"ROUND((CB48),0)","v":0},{"$f":"SUM(BM48*$BM$13)","v":0},0,{"$f":"IF(BO48>79.4,\"7\",IF(BO48>69.4,\"6\",IF(BO48>59.4,\"5\",IF(BO48>49.4,\"4\",IF(BO48>39.4,\"3\",IF(BO48>29.4,\"2\",IF(BO48>0,\"1\",IF(BO48=0,\"\",IF(BO48=-1,\"\")))))))))","v":""},null,null,null,null,{"$f":"SUM(BQ48:BT48)","v":0},{"$f":"ROUND(SUM(BU48*$BU$13),0)","v":0},null,null,null,null,{"$f":"SUM(BW48:BZ48)","v":0},{"$f":"ROUND(SUM(CA48*$CA$13),0)","v":0}]
[2,34,37,{"$f":"INSERT!A36","v":0},{"$f":"INSERT!B36","v":0},{"$f":"INSERT!C36","v":0},{"$f":"INSERT!D36","v":0},{"$f":"INSERT!E36","v":0},null,null,null,null,null,null,null,null,null,null,null,null,null,null,null,null,0,0,null,null,null,null,null,null,null,null,null,null,null,null,null,null,null,null,0,0,null,null,null,null,null,null,null,null,null,null,null,null,null,null,null,null,0,0,0,0,0,0,0,"",null,null,null,null,0,0,null,null,null,null,0,0]
[2,35,35,{"$f":"INSERT!A37","v":0},{"$f":"INSERT!B37","v":0},{"$f":"INSERT!C37","v":0},{"$f":"INSERT!D37","v":0},{"$f":"INSERT!E37","v":0},null,null,null,null,null,null,null,null,null,null,null,null,null,null,null,null,0,0,null,null,null,null,null,null,null,null,null,null,null,null,null,null,null,null,0,0,null,null,null,null,null,null,null,null,null,null,null,null,null,null,null,null,0,0,0,0,0,0,0,"",null,null,null,null,0,0,null,null,null,null,0,0]
[2,36,10,{"$f":"INSERT!A38","v":0},{"$f":"INSERT!B38","v":0},{"$f":"INSERT!C38","v":0},{"$f":"INSERT!D38","v":0},{"$f":"INSERT!E38","v":0},null,null,null,null,null,null,null,null,null,null,null,null,null,null,null,null,0,0,null,null,null,null,null,null,null,null,null,null,null,null,null,null,null,null,0,0,null,null,null,null,null,null,null,null,null,null,null,null,null,null,null,null,0,0,0,0,0,0,0,"",null,null,null,null,0,0,null,null,null,null,0,0]
[2,37,27,{"$f":"INSERT!A39","v":0},{"$f":"INSERT!B39","v":0},{"$f":"INSERT!C39","v":0},{"$f":"INSERT!D39","v":0},{"$f":"INSERT!E39","v":0},null,null,null,null,null,null,null,null,null,null,null,null,null,null,null,null,0,0,null,null,null,null,null,null,null,null,null,null,null,null,null,null,null,null,0,0,null,null,null,null,null,null,null,null,null,null,null,null,null,null,null,null,0,0,0,0,0,0,0,"",null,null,null,null,0,0,null,null,null,null,0,0]
[null,38,38,{"$f":"INSERT!A40","v":0},{"$f":"INSERT!B40","v":0},{"$f":"INSERT!C40","v":0},{"$f":"INSERT!D40","v":0},{"$f":"INSERT!E40","v":0},null,null,null,null,null,null,null,null,null,null,null,null,null,null,null,null,0,0,null,null,null,null,null,null,null,null,null,null,null,null,null,null,null,null,0,0,null,null,null,null,null,null,null,null,null,null,null,null,null,null,null,null,0,0,0,0,0,0,0,"",null,null,null,null,0,0,null,null,null,null,0,0]
[null,39,39,{"$f":"INSERT!A41","v":0},{"$f":"INSERT!B41","v":0},{"$f":"INSERT!C41","v":0},{"$f":"INSERT!D41","v":0},{"$f":"INSERT!E41","v":0},null,null,null,null,null,null,null,null,null,null,null,null,null,null,null,null,0,0,null,null,null,null,null,null,null,null,null,null,null,null,null,null,null,null,0,0,null,null,null,null,null,null,null,null,null,null,null,null,null,null,null,null,0,0,0,0,0,0,0,"",null,null,null,null,0,0,null,null,null,null,0,0]
[null,40,40,{"$f":"INSERT!A42","v":0},{"$f":"INSERT!B42","v":0},{"$f":"INSERT!C42","v":0},{"$f":"INSERT!D42","v":0},{"$f":"INSERT!E42","v":0},null,null,null,null,null,null,null,null,null,null,null,null,null,null,null,null,0,0,null,null,null,null,null,null,null,null,null,null,null,null,null,null,null,null,0,0,null,null,null,null,null,null,null,null,null,null,null,null,null,null,null,null,0,0,0,0,0,0,0,"",null,null,null,null,0,0,null,null,null,null,0,0]
[null,41,41,{"$f":"INSERT!A43","v":0},{"$f":"INSERT!B43","v":0},{"$f":"INSERT!C43","v":0},{"$f":"INSERT!D43","v":0},{"$f":"INSERT!E43","v":0},null,null,null,null,null,null,null,null,null,null,null,null,null,null,null,null,0,0,null,null,null,null,null,null,null,null,null,null,null,null,null,null,null,null,0,0,null,null,null,null,null,null,null,null,null,null,null,null,null,null,null,null,0,0,0,0,0,0,0,"",null,null,null,null,0,0,null,null,null,null,0,0]
[null,42,42,{"$f":"INSERT!A44","v":0},{"$f":"INSERT!B44","v":0},{"$f":"INSERT!C44","v":0},{"$f":"INSERT!D44","v":0},{"$f":"INSERT!E44","v":0},null,null,null,null,null,null,null,null,null,null,null,null,null,null,null,null,0,0,null,null,null,null,null,null,null,null,null,null,null,null,null,null,null,null,0,0,null,null,null,null,null,null,null,null,null,null,null,null,null,null,null,null,0,0,0,0,0,0,0,"",null,null,null,null,0,0,null,null,null,null,0,0]
[null,43,43,{"$f":"INSERT!A45","v":0},{"$f":"INSERT!B45","v":0},{"$f":"INSERT!C45","v":0},{"$f":"INSERT!D45","v":0},{"$f":"INSERT!E45","v":0},null,null,null,null,null,null,null,null,null,null,null,null,null,null,null,null,0,0,null,null,null,null,null,null,null,null,null,null,null,null,null,null,null,null,0,0,null,null,null,null,null,null,null,null,null,null,null,null,null,null,null,null,0,0,0,0,0,0,0,"",null,null,null,null,0,0,null,null,null,null,0,0]
[null,44,44,{"$f":"INSERT!A46","v":0},{"$f":"INSERT!B46","v":0},{"$f":"INSERT!C46","v":0},{"$f":"INSERT!D46","v":0},{"$f":"INSERT!E46","v":0},null,null,null,null,null,null,null,null,null,null,null,null,null,null,null,null,0,0,null,null,null,null,null,null,null,null,null,null,null,null,null,null,null,null,0,0,null,null,null,null,null,null,null,null,null,null,null,null,null,null,null,null,0,0,0,0,0,0,0,"",null,null,null,null,0,0,null,null,null,null,0,0]
[null,45,45,{"$f":"INSERT!A47","v":0},{"$f":"INSERT!B47","v":0},{"$f":"INSERT!C47","v":0},{"$f":"INSERT!D47","v":0},{"$f":"INSERT!E47","v":0},null,null,null,null,null,null,null,null,null,null,null,null,null,null,null,null,0,0,null,null,null,null,null,null,null,null,null,null,null,null,null,null,null,null,0,0,null,null,null,null,null,null,null,null,null,null,null,null,null,null,null,null,0,0,0,0,0,0,0,"",null,null,null,null,0,0,null,null,null,null,0,0]
[null,46,46,{"$f":"INSERT!A48","v":0},{"$f":"INSERT!B48","v":0},{"$f":"INSERT!C48","v":0},{"$f":"INSERT!D48","v":0},{"$f":"INSERT!E48","v":0},null,null,null,null,null,null,null,null,null,null,null,null,null,null,null,null,0,0,null,null,null,null,null,null,null,null,null,null,null,null,null,null,null,null,0,0,null,null,null,null,null,null,null,null,null,null,null,null,null,null,null,null,0,0,0,0,0,0,0,"",null,null,null,null,0,0,null,null,null,null,0,0]
[null,47,47,{"$f":"INSERT!A49","v":0},{"$f":"INSERT!B49","v":0},{"$f":"INSERT!C49","v":0},{"$f":"INSERT!D49","v":0},{"$f":"INSERT!E49","v":0},null,null,null,null,null,null,null,null,null,null,null,null,null,null,null,null,0,0,null,null,null,null,null,null,null,null,null,null,null,null,null,null,null,null,0,0,null,null,null,null,null,null,null,null,null,null,null,null,null,null,null,null,0,0,0,0,0,0,0,"",null,null,null,null,0,0,null,null,null,null,0,0]
[null,48,48,{"$f":"INSERT!A50","v":0},{"$f":"INSERT!B50","v":0},{"$f":"INSERT!C50","v":0},{"$f":"INSERT!D50","v":0},{"$f":"INSERT!E50","v":0},null,null,null,null,null,null,null,null,null,null,null,null,null,null,null,null,0,0,null,null,null,null,null,null,null,null,null,null,null,null,null,null,null,null,0,0,null,null,null,null,null,null,null,null,null,null,null,null,null,null,null,null,0,0,0,0,0,0,0,"",null,null,null,null,0,0,null,null,null,null,0,0]
[null,49,49,{"$f":"INSERT!A51","v":0},{"$f":"INSERT!B51","v":0},{"$f":"INSERT!C51","v":0},{"$f":"INSERT!D51","v":0},{"$f":"INSERT!E51","v":0},null,null,null,null,null,null,null,null,null,null,null,null,null,null,null,null,0,0,null,null,null,null,null,null,null,null,null,null,null,null,null,null,null,null,0,0,null,null,null,null,null,null,null,null,null,null,null,null,null,null,null,null,0,0,0,0,0,0,0,"",null,null,null,null,0,0,null,null,null,null,0,0]
[null,50,50,{"$f":"INSERT!A52","v":0},{"$f":"INSERT!B52","v":0},{"$f":"INSERT!C52","v":0},{"$f":"INSERT!D52","v":0},{"$f":"INSERT!E52","v":0},null,null,null,null,null,null,null,null,null,null,null,null,null,null,null,null,0,0,null,null,null,null,null,null,null,null,null,null,null,null,null,null,null,null,0,0,null,null,null,null,null,null,null,null,null,null,null,null,null,null,null,null,0,0,0,0,0,0,0,"",null,null,null,null,0,0,null,null,null,null,0,0]
[null,51,51,{"$f":"INSERT!A53","v":0},{"$f":"INSERT!B53","v":0},{"$f":"INSERT!C53","v":0},{"$f":"INSERT!D53","v":0},{"$f":"INSERT!E53","v":0},null,null,null,null,null,null,null,null,null,null,null,null,null,null,null,null,0,0,null,null,null,null,null,null,null,null,null,null,null,null,null,null,null,null,0,0,null,null,null,null,null,null,null,null,null,null,null,null,null,null,null,null,0,0,0,0,0,0,0,"",null,null,null,null,0,0,null,null,null,null,0,0]
[null,52,52,{"$f":"INSERT!A54","v":0},{"$f":"INSERT!B54","v":0},{"$f":"INSERT!C54","v":0},{"$f":"INSERT!D54","v":0},{"$f":"INSERT!E54","v":0},null,null,null,null,null,null,null,null,null,null,null,null,null,null,null,null,0,0,null,null,null,null,null,null,null,null,null,null,null,null,null,null,null,null,0,0,null,null,null,null,null,null,null,null,null,null,null,null,null,null,null,null,0,0,0,0,0,0,0,"",null,null,null,null,0,0,null,null,null,null,0,0]
[null,53,53,{"$f":"INSERT!A55","v":0},{"$f":"INSERT!B55","v":0},{"$f":"INSERT!C55","v":0},{"$f":"INSERT!D55","v":0},{"$f":"INSERT!E55","v":0},null,null,null,null,null,null,null,null,null,null,null,null,null,null,null,null,0,0,null,null,null,null,null,null,null,null,null,null,null,null,null,null,null,null,0,0,null,null,null,null,null,null,null,null,null,null,null,null,null,null,null,null,0,0,0,0,0,0,0,"",null,null,null,null,0,0,null,null,null,null,0,0]
[null,54,54,{"$f":"INSERT!A56","v":0},{"$f":"INSERT!B56","v":0},{"$f":"INSERT!C56","v":0},{"$f":"INSERT!D56","v":0},{"$f":"INSERT!E56","v":0},null,null,null,null,null,null,null,null,null,null,null,null,null,null,null,null,0,0,null,null,null,null,null,null,null,null,null,null,null,null,null,null,null,null,0,0,null,null,null,null,null,null,null,null,null,null,null,null,null,null,null,null,0,0,0,0,0,0,0,"",null,null,null,null,0,0,null,null,null,null,0,0]
[null,55,55,{"$f":"INSERT!A57","v":0},{"$f":"INSERT!B57","v":0},{"$f":"INSERT!C57","v":0},{"$f":"INSERT!D57","v":0},{"$f":"INSERT!E57","v":0},null,null,null,null,null,null,null,null,null,null,null,null,null,null,null,null,0,0,null,null,null,null,null,null,null,null,null,null,null,null,null,null,null,null,0,0,null,null,null,null,null,null,null,null,null,null,null,null,null,null,null,null,0,0,0,0,0,0,0,"",null,null,null,null,0,0,null,null,null,null,0,0]
[null,56,56,{"$f":"INSERT!A58","v":0},{"$f":"INSERT!B58","v":0},{"$f":"INSERT!C58","v":0},{"$f":"INSERT!D58","v":0},{"$f":"INSERT!E58","v":0},null,null,null,null,null,null,null,null,null,null,null,null,null,null,null,null,0,0,null,null,null,null,null,null,null,null,null,null,null,null,null,null,null,null,0,0,null,null,null,null,null,null,null,null,null,null,null,null,null,null,null,null,0,0,0,0,0,0,0,"",null,null,null,null,0,0,null,null,null,null,0,0]
[null,57,57,{"$f":"INSERT!A59","v":0},{"$f":"INSERT!B59","v":0},{"$f":"INSERT!C59","v":0},{"$f":"INSERT!D59","v":0},{"$f":"INSERT!E59","v":0},null,null,null,null,null,null,null,null,null,null,null,null,null,null,null,null,0,0,null,null,null,null,null,null,null,null,null,null,null,null,null,null,null,null,0,0,null,null,null,null,null,null,null,null,null,null,null,null,null,null,null,null,0,0,0,0,0,0,0,"",null,null,null,null,0,0,null,null,null,null,0,0]
[{"$f":"SUM(COUNTA(F73)+COUNT(B73))","v":2},58,58,{"$f":"INSERT!A60","v":0},{"$f":"INSERT!B60","v":0},{"$f":"INSERT!C60","v":0},{"$f":"INSERT!D60","v":0},{"$f":"INSERT!E60","v":0},null,null,null,null,null,null,null,null,null,null,null,null,null,null,null,null,0,0,null,null,null,null,null,null,null,null,null,null,null,null,null,null,null,null,0,0,null,null,null,null,null,null,null,null,null,null,null,null,null,null,null,null,0,0,0,0,0,0,0,"",null,null,null,null,0,0,null,null,null,null,0,0]
[2,59,59,{"$f":"INSERT!A61","v":0},{"$f":"INSERT!B61","v":0},{"$f":"INSERT!C61","v":0},{"$f":"INSERT!D61","v":0},{"$f":"INSERT!E61","v":0},null,null,null,null,null,null,null,null,null,null,null,null,null,null,null,null,0,0,null,null,null,null,null,null,null,null,null,null,null,null,null,null,null,null,0,0,null,null,null,null,null,null,null,null,null,null,null,null,null,null,null,null,0,0,0,0,0,0,0,"",null,null,null,null,0,0,null,null,null,null,0,0]
[2,60,60,{"$f":"INSERT!A62","v":0},{"$f":"INSERT!B62","v":0},{"$f":"INSERT!C62","v":0},{"$f":"INSERT!D62","v":0},{"$f":"INSERT!E62","v":0},null,null,null,null,null,null,null,null,null,null,null,null,null,null,null,null,0,0,null,null,null,null,null,null,null,null,null,null,null,null,null,null,null,null,0,0,null,null,null,null,null,null,null,null,null,null,null,null,null,null,null,null,0,0,0,0,0,0,0,"",null,null,null,null,0,0,null,null,null,null,0,0]
[2,61,61,{"$f":"INSERT!A63","v":0},{"$f":"INSERT!B63","v":0},{"$f":"INSERT!C63","v":0},{"$f":"INSERT!D63","v":0},{"$f":"INSERT!E63","v":0},null,null,null,null,null,null,null,null,null,null,null,null,null,null,null,null,0,0,null,null,null,null,null,null,null,null,null,null,null,null,null,null,null,null,0,0,null,null,null,null,null,null,null,null,null,null,null,null,null,null,null,null,0,0,0,0,0,0,0,"",null,null,null,null,0,0,null,null,null,null,0,0]
[2,62,62,{"$f":"INSERT!A64","v":0},{"$f":"INSERT!B64","v":0},{"$f":"INSERT!C64","v":0},{"$f":"INSERT!D64","v":0},{"$f":"INSERT!E64","v":0},null,null,null,null,null,null,null,null,null,null,null,null,null,null,null,null,0,0,null,null,null,null,null,null,null,null,null,null,null,null,null,null,null,null,0,0,null,null,null,null,null,null,null,null,null,null,null,null,null,null,null,null,0,0,0,0,0,0,0,"",null,null,null,null,0,0,null,null,null,null,0,0]
[2,63,63,{"$f":"INSERT!A65","v":0},{"$f":"INSERT!B65","v":0},{"$f":"INSERT!C65","v":0},{"$f":"INSERT!D65","v":0},{"$f":"INSERT!E65","v":0},null,null,null,null,null,null,null,null,null,null,null,null,null,null,null,null,0,0,null,null,null,null,null,null,null,null,null,null,null,null,null,null,null,null,0,0,null,null,null,null,null,null,null,null,null,null,null,null,null,null,null,null,0,0,0,0,0,0,0,"",null,null,null,null,0,0,null,null,null,null,0,0]
[2,64,64,{"$f":"INSERT!A66","v":0},{"$f":"INSERT!B66","v":0},{"$f":"INSERT!C66","v":0},{"$f":"INSERT!D66","v":0},{"$f":"INSERT!E66","v":0},null,null,null,null,null,null,null,null,null,null,null,null,null,null,null,null,0,0,null,null,null,null,null,null,null,null,null,null,null,null,null,null,null,null,0,0,null,null,null,null,null,null,null,null,null,null,null,null,null,null,null,null,0,0,0,0,0,0,0,"",null,null,null,null,0,0,null,null,null,null,0,0]
[2,65,65,{"$f":"INSERT!A67","v":0},{"$f":"INSERT!B67","v":0},{"$f":"INSERT!C67","v":0},{"$f":"INSERT!D67","v":0},{"$f":"INSERT!E67","v":0},null,null,null,null,null,null,null,null,null,null,null,null,null,null,null,null,{"$f":"SUM(I80:X80)","v":0},{"$f":"IFERROR((ROUND((SUM(Y80*$Y$13)/10),0)),0)","v":0},null,null,null,null,null,null,null,null,null,null,null,null,null,null,null,null,{"$f":"SUM(AA80:AP80)","v":0},{"$f":"IFERROR((ROUND((SUM(AQ80*$AQ$13)/10),0)),0)","v":0},null,null,null,null,null,null,null,null,null,null,null,null,null,null,null,null,{"$f":"SUM(AS80:BH80)","v":0},{"$f":"IFERROR((ROUND((SUM(BI80*$BI$13)/10),0)),0)","v":0},{"$f":"ROUND((BV80),0)","v":0},{"$f":"SUM(BK80*$BK$13)","v":0},{"$f":"ROUND((CB80),0)","v":0},{"$f":"SUM(BM80*$BM$13)","v":0},0,{"$f":"IF(BO80>79.4,\"7\",IF(BO80>69.4,\"6\",IF(BO80>59.4,\"5\",IF(BO80>49.4,\"4\",IF(BO80>39.4,\"3\",IF(BO80>29.4,\"2\",IF(BO80>0,\"1\",IF(BO80=0,\"\",IF(BO80=-1,\"\")))))))))","v":""},null,null,null,null,{"$f":"SUM(BQ80:BT80)","v":0},{"$f":"ROUND(SUM(BU80*$BU$13),0)","v":0},null,null,null,null,{"$f":"SUM(BW80:BZ80)","v":0},{"$f":"ROUND(SUM(CA80*$CA$13),0)","v":0}]
[2,66,66,{"$f":"INSERT!A68","v":0},{"$f":"INSERT!B68","v":0},{"$f":"INSERT!C68","v":0},{"$f":"INSERT!D68","v":0},{"$f":"INSERT!E68","v":0},null,null,null,null,null,null,null,null,null,null,null,null,null,null,null,null,0,0,null,null,null,null,null,null,null,null,null,null,null,null,null,null,null,null,0,0,null,null,null,null,null,null,null,null,null,null,null,null,null,null,null,null,0,0,0,0,0,0,{"$f":"SUM(BK81+BM81)","v":0},"",null,null,null,null,0,0,null,null,null,null,0,0]
[2,{"$f":"B81+1","v":67},67,{"$f":"INSERT!A69","v":0},{"$f":"INSERT!B69","v":0},{"$f":"INSERT!C69","v":0},{"$f":"INSERT!D69","v":0},{"$f":"INSERT!E69","v":0},null,null,null,null,null,null,null,null,null,null,null,null,null,null,null,null,0,0,null,null,null,null,null,null,null,null,null,null,null,null,null,null,null,null,0,0,null,null,null,null,null,null,null,null,null,null,null,null,null,null,null,null,0,0,0,0,0,0,0,"",null,null,null,null,0,0,null,null,null,null,0,0]
[2,68,68,{"$f":"INSERT!A70","v":0},{"$f":"INSERT!B70","v":0},{"$f":"INSERT!C70","v":0},{"$f":"INSERT!D70","v":0},{"$f":"INSERT!E70","v":0},null,null,null,null,null,null,null,null,null,null,null,null,null,null,null,null,0,0,null,null,null,null,null,null,null,null,null,null,null,null,null,null,null,null,0,0,null,null,null,null,null,null,null,null,null,null,null,null,null,null,null,null,0,0,0,0,0,0,0,"",null,null,null,null,0,0,null,null,null,null,0,0]
[2,69,69,{"$f":"INSERT!A71","v":0},{"$f":"INSERT!B71","v":0},{"$f":"INSERT!C71","v":0},{"$f":"INSERT!D71","v":0},{"$f":"INSERT!E71","v":0},null,null,null,null,null,null,null,null,null,null,null,null,null,null,null,null,0,0,null,null,null,null,null,null,null,null,null,null,null,null,null,null,null,null,0,0,null,null,null,null,null,null,null,null,null,null,null,null,null,null,null,null,0,0,0,0,0,0,0,"",null,null,null,null,0,0,null,null,null,null,0,0]
[2,70,70,{"$f":"INSERT!A72","v":0},{"$f":"INSERT!B72","v":0},{"$f":"INSERT!C72","v":0},{"$f":"INSERT!D72","v":0},{"$f":"INSERT!E72","v":0},null,null,null,null,null,null,null,null,null,null,null,null,null,null,null,null,0,0,null,null,null,null,null,null,null,null,null,null,null,null,null,null,null,null,0,0,null,null,null,null,null,null,null,null,null,null,null,null,null,null,null,null,0,0,0,0,0,0,0,"",null,null,null,null,0,0,null,null,null,null,0,0]
[2,71,71,{"$f":"INSERT!A73","v":0},{"$f":"INSERT!B73","v":0},{"$f":"INSERT!C73","v":0},{"$f":"INSERT!D73","v":0},{"$f":"INSERT!E73","v":0},null,null,null,null,null,null,null,null,null,null,null,null,null,null,null,null,0,0,null,null,null,null,null,null,null,null,null,null,null,null,null,null,null,null,0,0,null,null,null,null,null,null,null,null,null,null,null,null,null,null,null,null,0,0,0,0,0,0,0,"",null,null,null,null,0,0,null,null,null,null,0,0]
[2,72,72,{"$f":"INSERT!A74","v":0},{"$f":"INSERT!B74","v":0},{"$f":"INSERT!C74","v":0},{"$f":"INSERT!D74","v":0},{"$f":"INSERT!E74","v":0},null,null,null,null,null,null,null,null,null,null,null,null,null,null,null,null,0,0,null,null,null,null,null,null,null,null,null,null,null,null,null,null,null,null,0,0,null,null,null,null,null,null,null,null,null,null,null,null,null,null,null,null,0,0,0,0,0,0,0,"",null,null,null,null,0,0,null,null,null,null,0,0]
[2,73,73,{"$f":"INSERT!A75","v":0},{"$f":"INSERT!B75","v":0},{"$f":"INSERT!C75","v":0},{"$f":"INSERT!D75","v":0},{"$f":"INSERT!E75","v":0},null,null,null,null,null,null,null,null,null,null,null,null,null,null,null,null,0,0,null,null,null,null,null,null,null,null,null,null,null,null,null,null,null,null,0,0,null,null,null,null,null,null,null,null,null,null,null,null,null,null,null,null,0,0,0,0,0,0,0,"",null,null,null,null,0,0,null,null,null,null,0,0]
[2,74,74,{"$f":"INSERT!A76","v":0},{"$f":"INSERT!B76","v":0},{"$f":"INSERT!C76","v":0},{"$f":"INSERT!D76","v":0},{"$f":"INSERT!E76","v":0},null,null,null,null,null,null,null,null,null,null,null,null,null,null,null,null,0,0,null,null,null,null,null,null,null,null,null,null,null,null,null,null,null,null,0,0,null,null,null,null,null,null,null,null,null,null,null,null,null,null,null,null,0,0,0,0,0,0,0,"",null,null,null,null,0,0,null,null,null,null,0,0]
[2,75,75,{"$f":"INSERT!A77","v":0},{"$f":"INSERT!B77","v":0},{"$f":"INSERT!C77","v":0},{"$f":"INSERT!D77","v":0},{"$f":"INSERT!E77","v":0},null,null,null,null,null,null,null,null,null,null,null,null,null,null,null,null,0,0,null,null,null,null,null,null,null,null,null,null,null,null,null,null,null,null,0,0,null,null,null,null,null,null,null,null,null,null,null,null,null,null,null,null,0,0,0,0,0,0,0,"",null,null,null,null,0,0,null,null,null,null,0,0]
[2,76,76,{"$f":"INSERT!A78","v":0},{"$f":"INSERT!B78","v":0},{"$f":"INSERT!C78","v":0},{"$f":"INSERT!D78","v":0},{"$f":"INSERT!E78","v":0},null,null,null,null,null,null,null,null,null,null,null,null,null,null,null,null,0,0,null,null,null,null,null,null,null,null,null,null,null,null,null,null,null,null,0,0,null,null,null,null,null,null,null,null,null,null,null,null,null,null,null,null,0,0,0,0,0,0,0,"",null,null,null,null,0,0,null,null,null,null,0,0]
[2,77,77,{"$f":"INSERT!A79","v":0},{"$f":"INSERT!B79","v":0},{"$f":"INSERT!C79","v":0},{"$f":"INSERT!D79","v":0},{"$f":"INSERT!E79","v":0},null,null,null,null,null,null,null,null,null,null,null,null,null,null,null,null,0,0,null,null,null,null,null,null,null,null,null,null,null,null,null,null,null,null,0,0,null,null,null,null,null,null,null,null,null,null,null,null,null,null,null,null,0,0,0,0,0,0,0,"",null,null,null,null,0,0,null,null,null,null,0,0]
[2,78,78,{"$f":"INSERT!A80","v":0},{"$f":"INSERT!B80","v":0},{"$f":"INSERT!C80","v":0},{"$f":"INSERT!D80","v":0},{"$f":"INSERT!E80","v":0},null,null,null,null,null,null,null,null,null,null,null,null,null,null,null,null,0,0,null,null,null,null,null,null,null,null,null,null,null,null,null,null,null,null,0,0,null,null,null,null,null,null,null,null,null,null,null,null,null,null,null,null,0,0,0,0,0,0,0,"",null,null,null,null,0,0,null,null,null,null,0,0]
[2,79,79,{"$f":"INSERT!A81","v":0},{"$f":"INSERT!B81","v":0},{"$f":"INSERT!C81","v":0},{"$f":"INSERT!D81","v":0},{"$f":"INSERT!E81","v":0},null,null,null,null,null,null,null,null,null,null,null,null,null,null,null,null,0,0,null,null,null,null,null,null,null,null,null,null,null,null,null,null,null,null,0,0,null,null,null,null,null,null,null,null,null,null,null,null,null,null,null,null,0,0,0,0,0,0,0,"",null,null,null,null,0,0,null,null,null,null,0,0]
[2,80,80,{"$f":"INSERT!A82","v":0},{"$f":"INSERT!B82","v":0},{"$f":"INSERT!C82","v":0},{"$f":"INSERT!D82","v":0},{"$f":"INSERT!E82","v":0},null,null,null,null,null,null,null,null,null,null,null,null,null,null,null,null,0,0,null,null,null,null,null,null,null,null,null,null,null,null,null,null,null,null,0,0,null,null,null,null,null,null,null,null,null,null,null,null,null,null,null,null,0,0,0,0,0,0,0,"",null,null,null,null,0,0,null,null,null,null,0,0]
[2,81,81,{"$f":"INSERT!A83","v":0},{"$f":"INSERT!B83","v":0},{"$f":"INSERT!C83","v":0},{"$f":"INSERT!D83","v":0},{"$f":"INSERT!E83","v":0},null,null,null,null,null,null,null,null,null,null,null,null,null,null,null,null,0,0,null,null,null,null,null,null,null,null,null,null,null,null,null,null,null,null,0,0,null,null,null,null,null,null,null,null,null,null,null,null,null,null,null,null,0,0,0,0,0,0,0,"",null,null,null,null,0,0,null,null,null,null,0,0]
[2,82,82,{"$f":"INSERT!A84","v":0},{"$f":"INSERT!B84","v":0},{"$f":"INSERT!C84","v":0},{"$f":"INSERT!D84","v":0},{"$f":"INSERT!E84","v":0},null,null,null,null,null,null,null,null,null,null,null,null,null,null,null,null,0,0,null,null,null,null,null,null,null,null,null,null,null,null,null,null,null,null,0,0,null,null,null,null,null,null,null,null,null,null,null,null,null,null,null,null,0,0,0,0,0,0,0,"",null,null,null,null,0,0,null,null,null,null,0,0]
[2,83,83,{"$f":"INSERT!A85","v":0},{"$f":"INSERT!B85","v":0},{"$f":"INSERT!C85","v":0},{"$f":"INSERT!D85","v":0},{"$f":"INSERT!E85","v":0},null,null,null,null,null,null,null,null,null,null,null,null,null,null,null,null,0,0,null,null,null,null,null,null,null,null,null,null,null,null,null,null,null,null,0,0,null,null,null,null,null,null,null,null,null,null,null,null,null,null,null,null,0,0,0,0,0,0,0,"",null,null,null,null,0,0,null,null,null,null,0,0]
[2,84,84,{"$f":"INSERT!A86","v":0},{"$f":"INSERT!B86","v":0},{"$f":"INSERT!C86","v":0},{"$f":"INSERT!D86","v":0},{"$f":"INSERT!E86","v":0},null,null,null,null,null,null,null,null,null,null,null,null,null,null,null,null,0,0,null,null,null,null,null,null,null,null,null,null,null,null,null,null,null,null,0,0,null,null,null,null,null,null,null,null,null,null,null,null,null,null,null,null,0,0,0,0,0,0,0,"",null,null,null,null,0,0,null,null,null,null,0,0]
[2,85,85,{"$f":"INSERT!A87","v":0},{"$f":"INSERT!B87","v":0},{"$f":"INSERT!C87","v":0},{"$f":"INSERT!D87","v":0},{"$f":"INSERT!E87","v":0},null,null,null,null,null,null,null,null,null,null,null,null,null,null,null,null,0,0,null,null,null,null,null,null,null,null,null,null,null,null,null,null,null,null,0,0,null,null,null,null,null,null,null,null,null,null,null,null,null,null,null,null,0,0,0,0,0,0,0,"",null,null,null,null,0,0,null,null,null,null,0,0]
[2,86,86,{"$f":"INSERT!A88","v":0},{"$f":"INSERT!B88","v":0},{"$f":"INSERT!C88","v":0},{"$f":"INSERT!D88","v":0},{"$f":"INSERT!E88","v":0},null,null,null,null,null,null,null,null,null,null,null,null,null,null,null,null,0,0,null,null,null,null,null,null,null,null,null,null,null,null,null,null,null,null,0,0,null,null,null,null,null,null,null,null,null,null,null,null,null,null,null,null,0,0,0,0,0,0,0,"",null,null,null,null,0,0,null,null,null,null,0,0]
[2,87,87,{"$f":"INSERT!A89","v":0},{"$f":"INSERT!B89","v":0},{"$f":"INSERT!C89","v":0},{"$f":"INSERT!D89","v":0},{"$f":"INSERT!E89","v":0},null,null,null,null,null,null,null,null,null,null,null,null,null,null,null,null,0,0,null,null,null,null,null,null,null,null,null,null,null,null,null,null,null,null,0,0,null,null,null,null,null,null,null,null,null,null,null,null,null,null,null,null,0,0,0,0,0,0,0,"",null,null,null,null,0,0,null,null,null,null,0,0]
[2,88,88,{"$f":"INSERT!A90","v":0},{"$f":"INSERT!B90","v":0},{"$f":"INSERT!C90","v":0},{"$f":"INSERT!D90","v":0},{"$f":"INSERT!E90","v":0},null,null,null,null,null,null,null,null,null,null,null,null,null,null,null,null,0,0,null,null,null,null,null,null,null,null,null,null,null,null,null,null,null,null,0,0,null,null,null,null,null,null,null,null,null,null,null,null,null,null,null,null,0,0,0,0,0,0,0,"",null,null,null,null,0,0,null,null,null,null,0,0]
[2,89,89,{"$f":"INSERT!A91","v":0},{"$f":"INSERT!B91","v":0},{"$f":"INSERT!C91","v":0},{"$f":"INSERT!D91","v":0},{"$f":"INSERT!E91","v":0},null,null,null,null,null,null,null,null,null,null,null,null,null,null,null,null,0,0,null,null,null,null,null,null,null,null,null,null,null,null,null,null,null,null,0,0,null,null,null,null,null,null,null,null,null,null,null,null,null,null,null,null,0,0,0,0,0,0,0,"",null,null,null,null,0,0,null,null,null,null,0,0]
[2,90,90,{"$f":"INSERT!A92","v":0},{"$f":"INSERT!B92","v":0},{"$f":"INSERT!C92","v":0},{"$f":"INSERT!D92","v":0},{"$f":"INSERT!E92","v":0},null,null,null,null,null,null,null,null,null,null,null,null,null,null,null,null,0,0,null,null,null,null,null,null,null,null,null,null,null,null,null,null,null,null,0,0,null,null,null,null,null,null,null,null,null,null,null,null,null,null,null,null,0,0,0,0,0,0,0,"",null,null,null,null,0,0,null,null,null,null,0,0]
[2,91,91,{"$f":"INSERT!A93","v":0},{"$f":"INSERT!B93","v":0},{"$f":"INSERT!C93","v":0},{"$f":"INSERT!D93","v":0},{"$f":"INSERT!E93","v":0},null,null,null,null,null,null,null,null,null,null,null,null,null,null,null,null,0,0,null,null,null,null,null,null,null,null,null,null,null,null,null,null,null,null,0,0,null,null,null,null,null,null,null,null,null,null,null,null,null,null,null,null,0,0,0,0,0,0,0,"",null,null,null,null,0,0,null,null,null,null,0,0]
[2,92,92,{"$f":"INSERT!A94","v":0},{"$f":"INSERT!B94","v":0},{"$f":"INSERT!C94","v":0},{"$f":"INSERT!D94","v":0},{"$f":"INSERT!E94","v":0},null,null,null,null,null,null,null,null,null,null,null,null,null,null,null,null,0,0,null,null,null,null,null,null,null,null,null,null,null,null,null,null,null,null,0,0,null,null,null,null,null,null,null,null,null,null,null,null,null,null,null,null,0,0,0,0,0,0,0,"",null,null,null,null,0,0,null,null,null,null,0,0]
[2,93,93,{"$f":"INSERT!A95","v":0},{"$f":"INSERT!B95","v":0},{"$f":"INSERT!C95","v":0},{"$f":"INSERT!D95","v":0},{"$f":"INSERT!E95","v":0},null,null,null,null,null,null,null,null,null,null,null,null,null,null,null,null,0,0,null,null,null,null,null,null,null,null,null,null,null,null,null,null,null,null,0,0,null,null,null,null,null,null,null,null,null,null,null,null,null,null,null,null,0,0,0,0,0,0,0,"",null,null,null,null,0,0,null,null,null,null,0,0]
[2,94,94,{"$f":"INSERT!A96","v":0},{"$f":"INSERT!B96","v":0},{"$f":"INSERT!C96","v":0},{"$f":"INSERT!D96","v":0},{"$f":"INSERT!E96","v":0},null,null,null,null,null,null,null,null,null,null,null,null,null,null,null,null,0,0,null,null,null,null,null,null,null,null,null,null,null,null,null,null,null,null,0,0,null,null,null,null,null,null,null,null,null,null,null,null,null,null,null,null,0,0,0,0,0,0,0,"",null,null,null,null,0,0,null,null,null,null,0,0]
[2,95,95,{"$f":"INSERT!A97","v":0},{"$f":"INSERT!B97","v":0},{"$f":"INSERT!C97","v":0},{"$f":"INSERT!D97","v":0},{"$f":"INSERT!E97","v":0},null,null,null,null,null,null,null,null,null,null,null,null,null,null,null,null,0,0,null,null,null,null,null,null,null,null,null,null,null,null,null,null,null,null,0,0,null,null,null,null,null,null,null,null,null,null,null,null,null,null,null,null,0,0,0,0,0,0,0,"",null,null,null,null,0,0,null,null,null,null,0,0]
[2,96,96,{"$f":"INSERT!A98","v":0},{"$f":"INSERT!B98","v":0},{"$f":"INSERT!C98","v":0},{"$f":"INSERT!D98","v":0},{"$f":"INSERT!E98","v":0},null,null,null,null,null,null,null,null,null,null,null,null,null,null,null,null,0,0,null,null,null,null,null,null,null,null,null,null,null,null,null,null,null,null,0,0,null,null,null,null,null,null,null,null,null,null,null,null,null,null,null,null,0,0,0,0,0,0,0,"",null,null,null,null,0,0,null,null,null,null,0,0]
[2,97,97,{"$f":"INSERT!A99","v":0},{"$f":"INSERT!B99","v":0},{"$f":"INSERT!C99","v":0},{"$f":"INSERT!D99","v":0},{"$f":"INSERT!E99","v":0},null,null,null,null,null,null,null,null,null,null,null,null,null,null,null,null,{"$f":"SUM(I112:X112)","v":0},{"$f":"IFERROR((ROUND((SUM(Y112*$Y$13)/10),0)),0)","v":0},null,null,null,null,null,null,null,null,null,null,null,null,null,null,null,null,{"$f":"SUM(AA112:AP112)","v":0},{"$f":"IFERROR((ROUND((SUM(AQ112*$AQ$13)/10),0)),0)","v":0},null,null,null,null,null,null,null,null,null,null,null,null,null,null,null,null,{"$f":"SUM(AS112:BH112)","v":0},{"$f":"IFERROR((ROUND((SUM(BI112*$BI$13)/10),0)),0)","v":0},0,{"$f":"SUM(BK112*$BK$13)","v":0},0,{"$f":"SUM(BM112*$BM$13)","v":0},0,{"$f":"IF(BO112>79.4,\"7\",IF(BO112>69.4,\"6\",IF(BO112>59.4,\"5\",IF(BO112>49.4,\"4\",IF(BO112>39.4,\"3\",IF(BO112>29.4,\"2\",IF(BO112>0,\"1\",IF(BO112=0,\"\",IF(BO112=-1,\"\")))))))))","v":""},null,null,null,null,{"$f":"SUM(BQ112:BT112)","v":0},{"$f":"ROUND(SUM(BU112*$BU$13),0)","v":0},null,null,null,null,{"$f":"SUM(BW112:BZ112)","v":0},{"$f":"ROUND(SUM(CA112*$CA$13),0)","v":0}]
[2,98,98,{"$f":"INSERT!A100","v":0},{"$f":"INSERT!B100","v":0},{"$f":"INSERT!C100","v":0},{"$f":"INSERT!D100","v":0},{"$f":"INSERT!E100","v":0},null,null,null,null,null,null,null,null,null,null,null,null,null,null,null,null,0,0,null,null,null,null,null,null,null,null,null,null,null,null,null,null,null,null,0,0,null,null,null,null,null,null,null,null,null,null,null,null,null,null,null,null,0,0,0,0,0,0,0,"",null,null,null,null,0,0,null,null,null,null,0,0]
[2,99,99,{"$f":"INSERT!A101","v":0},{"$f":"INSERT!B101","v":0},{"$f":"INSERT!C101","v":0},{"$f":"INSERT!D101","v":0},{"$f":"INSERT!E101","v":0},null,null,null,null,null,null,null,null,null,null,null,null,null,null,null,null,0,0,null,null,null,null,null,null,null,null,null,null,null,null,null,null,null,null,0,0,null,null,null,null,null,null,null,null,null,null,null,null,null,null,null,null,0,0,0,0,0,0,0,"",null,null,null,null,0,0,null,null,null,null,0,0]
[2,100,100,{"$f":"INSERT!A102","v":0},{"$f":"INSERT!B102","v":0},{"$f":"INSERT!C102","v":0},{"$f":"INSERT!D102","v":0},{"$f":"INSERT!E102","v":0},null,null,null,null,null,null,null,null,null,null,null,null,null,null,null,null,0,0,null,null,null,null,null,null,null,null,null,null,null,null,null,null,null,null,0,0,null,null,null,null,null,null,null,null,null,null,null,null,null,null,null,null,0,0,0,0,0,0,0,"",null,null,null,null,0,0,null,null,null,null,0,0]
[null,"Total amount of learners on mark sheet",null,null,null,"x","TOTAL",null,{"$f":"SUM(I16:I115)","v":0},0,0,0,{"$f":"SUM(M16:M115)","v":0},0,0,0,0,0,0,0,0,0,0,0,{"$f":"SUMIF(Y16:Y115,\">0\")","v":0},0,0,0,0,0,{"$f":"SUM(AE16:AE115)","v":0},0,0,0,0,0,0,0,0,0,0,0,{"$f":"SUMIF(AQ16:AQ115,\">0\")","v":0},0,0,0,0,0,{"$f":"SUM(AW16:AW115)","v":0},0,0,0,0,0,0,0,0,0,0,0,{"$f":"SUM(BI16:BI115)","v":0},{"$f":"SUM(BJ16:BJ115)","v":0},{"$f":"SUMIF(BK16:BK115,\">0\")","v":0},{"$f":"SUMIF(BL16:BL115,\">0\")","v":0},0,0,0,null,{"$f":"SUMIF(BQ16:BQ115,\">0\")","v":0},0,0,0,0,0,{"$f":"SUMIF(BW16:BW115,\">0\")","v":0},0,0,0,0,0]
[null,null,null,null,null,"x","AVERAGE",null,{"$f":"IFERROR(SUM(I116/I120),\"0\")","v":"0"},{"$f":"IFERROR(SUM(J116/J120),\"0\")","v":"0"},"0","0",{"$f":"IFERROR(SUM(M116/M120),\"0\")","v":"0"},"0","0","0","0","0","0","0","0","0","0","0",{"$f":"IFERROR(SUM(Y116/$B$120),\"0\")","v":"0"},"0","0","0","0","0",{"$f":"IFERROR(SUM(AE116/AE120),\"0\")","v":"0"},"0","0","0","0","0","0","0","0","0","0","0",{"$f":"IFERROR(SUM(AQ116/$B$120),\"0\")","v":"0"},"0","0","0","0","0",{"$f":"IFERROR(SUM(AW116/AW120),\"0\")","v":"0"},"0","0","0","0","0","0","0","0","0","0",{"$f":"IFERROR(SUM(BH116/BH120),\"0\")","v":"0"},{"$f":"IFERROR(SUM(BI116/$B$120),\"0\")","v":"0"},"0","0","0","0","0","0",null,{"$f":"IFERROR(SUM(BQ116/$B$120),\"0\")","v":"0"},{"$f":"IFERROR(SUM(BR116/$B$120),\"0\")","v":"0"},"0","0","0","0","0","0","0","0","0","0"]
[null,null,null,null,null,"x","PERCENTAGE",null,{"$f":"IFERROR(ROUND((SUM(I117/I12)*100),0),\"0\")","v":"0"},{"$f":"IFERROR(ROUND((SUM(J117/J12)*100),0),\"0\")","v":"0"},"0","0",{"$f":"IFERROR(ROUND((SUM(M117/M12)*100),0),\"0\")","v":"0"},"0","0","0","0","0","0","0","0","0","0","0","0",0,"0","0","0","0",{"$f":"IFERROR(ROUND((SUM(AE117/AE12)*100),0),\"0\")","v":"0"},"0","0","0","0","0","0","0","0","0","0","0","0",0,"0","0","0","0","0","0","0","0","0","0","0","0","0","0","0","0","0",0,0,"0",0,"0",0,null,{"$f":"IFERROR(ROUND((SUM(BQ117/BQ12)*100),0),\"0\")","v":0},0,0,0,0,0,0,0,0,0,0,0]
[null,null,null,null,null,"x",0]
[null,{"$f":"INSERT!$E$103","v":0},null,null,null,"x","TOTAL HANDED IN",null,{"$f":"COUNT(I16:I115)","v":0},{"$f":"COUNT(J16:J115)","v":0},{"$f":"COUNT(K16:K115)","v":0},0,{"$f":"COUNT(M16:M115)","v":0},0,0,0,0,0,0,0,0,0,0,{"$f":"COUNT(X16:X115)","v":0},null,null,{"$f":"COUNT(AA16:AA115)","v":0},{"$f":"COUNT(AB16:AB115)","v":0},{"$f":"COUNT(AC16:AC115)","v":0},0,{"$f":"COUNT(AE16:AE115)","v":0},0,0,0,0,0,0,0,0,0,0,{"$f":"COUNT(AP16:AP115)","v":0},null,null,{"$f":"COUNT(AS16:AS115)","v":0},{"$f":"COUNT(AT16:AT115)","v":0},{"$f":"COUNT(AU16:AU115)","v":0},0,{"$f":"COUNT(AW16:AW115)","v":0},0,0,0,0,0,0,0,0,0,0,{"$f":"COUNT(BH16:BH115)","v":0},null,null,"EXAM LEVELS"]
["x","x",null,"x","x","x","x","x","x","x","x","x",null,null,null,null,null,null,null,null,null,null,"x","x","x","x","x","x","x","x",null,null,null,null,null,null,null,null,null,null,"x","x","x","x","x","x","x","x",null,null,null,null,null,null,null,null,null,null,"x","x","x","x","LEVEL 1",null,null,null,"LEVEL 2",null,"LEVEL 3",null,"LEVEL 4",null,"LEVEL 5",null,"LEVEL 6",null,"LEVEL 7"]
["x","x",null,"x","x","x","x","x","x","x","x","x",null,null,null,null,null,null,null,null,null,null,"x","x","x","x","x","x","x","x",null,null,null,null,null,null,null,null,null,null,"x","x","x","x","x","x","x","x",null,null,null,null,null,null,null,null,null,null,"x","x","x","x"," 0 - 29 ",null,null,null," 30 - 39 ",null," 40 - 49 ",null," 50 - 59 ",null," 60 - 69 ",null," 70 - 79 ",null,"80 - 100"]
["x","x",null,"x","x","x","x","x","x","x","x","x",null,null,null,null,null,null,null,null,null,null,"x","x","x","x","x","x","x","x",null,null,null,null,null,null,null,null,null,null,"x","x","x","x","x","x","x","x",null,null,null,null,null,null,null,null,null,null,"x","x","x","x",{"$f":"COUNTIF($BP$16:$BP$115,1)","v":0},null,null,null,{"$f":"COUNTIF($BP$16:$BP$115,2)","v":0},null,{"$f":"COUNTIF($BP$16:$BP$115,3)","v":0},null,{"$f":"COUNTIF($BP$16:$BP$115,4)","v":0},null,{"$f":"COUNTIF($BP$16:$BP$115,5)","v":0},null,{"$f":"COUNTIF($BP$16:$BP$115,6)","v":0},null,{"$f":"COUNTIF($BP$16:$BP$115,7)","v":0}]

{"sheet":"TERM3","index":5,"n_rows":120,"n_cols":103,"rows_kept":120,"cut":false,"hidden":false,"merged":[[4,91,9,91],[4,92,9,92],[4,93,9,93],[4,94,9,94],[4,86,9,86],[4,87,9,87],[4,88,9,88],[4,89,9,89],[4,90,9,90],[4,76,9,76],[4,82,9,82],[4,83,9,83],[4,84,9,84],[4,85,9,85],[4,71,9,71],[4,72,9,72],[4,73,9,73],[4,74,9,74],[4,75,9,75],[4,66,9,66],[4,67,9,67],[4,68,9,68],[4,69,9,69],[4,70,9,70],[4,40,9,40],[4,46,9,46],[4,47,9,47],[4,48,9,48],[4,49,9,49],[4,36,9,36],[4,37,9,37],[4,38,9,38],[4,39,9,39],[4,30,9,30],[4,31,9,31],[4,32,9,32],[4,33,9,33],[4,34,9,34],[1,1,1,102],[4,59,9,59],[4,60,10,60],[4,61,10,61],[4,62,9,62],[4,77,9,77],[4,98,10,98],[4,102,10,102],[3,80,3,97],[4,80,9,80],[4,97,10,97],[3,98,3,102],[4,99,10,99],[4,95,9,95],[4,96,10,96],[3,44,3,61],[9,1,9,4],[9,5,9,6],[4,25,10,25],[4,20,9,20],[4,21,9,21],[4,22,9,22],[4,28,9,28],[4,29,9,29],[119,1,119,4],[10,1,10,4],[10,5,10,6],[115,1,118,4],[115,6,115,7],[116,6,116,7],[117,6,117,7],[119,6,119,7],[4,81,9,81],[4,78,10,78],[4,79,10,79],[4,44,9,44],[4,45,9,45],[4,50,9,50],[4,51,9,51],[4,52,9,52],[4,53,9,53],[4,54,9,54],[4,55,9,55],[4,56,9,56],[4,57,9,57],[4,58,9,58],[4,64,9,64],[4,65,9,65],[3,26,3,43],[4,63,9,63],[4,26,9,26],[4,27,9,27],[4,41,9,41],[4,42,10,42],[4,24,10,24],[3,8,3,25],[4,8,9,8],[4,23,9,23],[4,9,9,9],[3,62,3,79],[4,43,10,43],[4,10,9,10],[4,11,9,11],[4,12,9,12],[4,13,9,13],[4,14,9,14],[4,15,9,15],[4,16,9,16],[4,17,9,17],[4,18,9,18],[4,19,9,19],[4,35,9,35]]}
[]
[null,"ENGINEERING GRAPHICS AND DESIGN"]
[null,null,null,null,null,null,null,null,"PROGRAM OF ASSESSMENT  :  TERM 3"]
[null,null,null,null,null,null,null,null,"CD8 1st Solid Geometry\ntwo adjacent Solids sectioned",null,null,null,null,null,null,null,null,null,null,null,null,null,null,null,null,null,"CD9  2nd Solid Geometry\nSectioned Solid with a hole",null,null,null,null,null,null,null,null,null,null,null,null,null,null,null,null,null,"CD10 1st Interpenetration & Development\n(Two prisms)",null,null,null,null,null,null,null,null,null,null,null,null,null,null,null,null,null,"CD11 2nd Interpenetration & Development\n(Including a cylinder(s))",null,null,null,null,null,null,null,null,null,null,null,null,null,null,null,null,null,"CD12  3rd Mechanical Assembly",null,null,null,null,null,null,null,null,null,null,null,null,null,null,null,null,null,"TERM TEST"]
[17,null,null,null,"School:",{"$f":"INSERT!J3","v":0},null,null,"CD 8.1","CD 8.2","CD 8.3",null,null,null,null,null,null,null,null,null,null,null,null,null,"TOTAL CD1","TOTAL","CD 9.1","CD 9.2","CD 9.3",null,null,null,null,null,null,null,null,null,null,null,null,null,"TOTAL CD2","TOTAL","CD 10.1","CD 10.2","CD 10.3",null,null,null,null,null,null,null,null,null,null,null,null,null,"TOTAL CD3","TOTAL","CD 11.1","CD 11.2","CD 11.3",null,null,null,null,null,null,null,null,null,null,null,null,null,"TOTAL CD10","TOTAL","CD 12.1","CD 12.2","CD 12.3",null,null,null,null,null,null,null,null,null,null,null,null,null,"TOTAL CD15","TOTAL","TEST 1","TEST 2",null,null,"TEST TOTAL"]
[null,null,null,null,"Grade:",{"$f":"INSERT!J4","v":0}]
[null,null,null,null,"Teacher:",{"$f":"INSERT!J5","v":0}]
[null,null,null,null,"HOD:",{"$f":"INSERT!J6","v":0}]
[null,null,null,null,"EGD SES:",{"$f":"INSERT!J7","v":0},{"$f":"INSERT!K7","v":0},{"$f":"INSERT!L7","v":0}]
[]
[null,null,null,null,null,null,null,null,11.1,11.2,11.3,11.4,11.5,11.6,11.7,11.8,11.9,11.1,11.11,11.12,11.13,11.14,11.15,11.16,null,null,12.1,12.2,12.3,12.4,12.5,12.6,12.7,12.8,12.9,12.1,12.11,12.12,12.13,12.14,12.15,12.16,null,null,13.1,13.2,13.3,13.4,13.5,13.6,13.7,13.8,13.9,13.1,13.11,13.12,13.13,13.14,13.15,13.16,null,null,14.1,14.2,14.3,14.4,14.5,14.6,14.7,14.8,14.9,14.1,14.11,14.12,14.13,14.14,14.15,14.16,null,null,15.1,15.2,15.3,15.4,15.5,15.6,15.7,15.8,15.9,15.1,15.11,15.12,15.13,15.14,15.15,15.6]
[null,"Nr.",null,"Class","Admission","SURNAME","NAME","GENDER",30,null,null,null,null,null,null,null,null,null,null,null,null,null,null,null,{"$f":"SUM(I12:X12)","v":30},10,49,null,null,null,null,null,null,null,null,null,null,null,null,null,null,null,{"$f":"SUM(AA12:AP12)","v":49},10,39,null,null,null,null,null,null,null,null,null,null,null,null,null,null,null,{"$f":"SUM(AS12:BH12)","v":39},10,46,null,null,null,null,null,null,null,null,null,null,null,null,null,null,null,{"$f":"SUM(BK12:BZ12)","v":46},10,75,null,null,null,null,null,null,null,null,null,null,null,null,null,null,null,{"$f":"SUM(CC12:CR12)","v":75},10,null,null,null,null,50]
[null,null,null,null,null,null,null,null,{"$f":"IF(I12>0,\"\",\"X\")","v":""},"X","X","X","X","X","X","X","X","X","X","X","X","X","X","X",{"$f":"IFERROR(SUM(100/Y12),\"0\")","v":3.3333333333333335},null,{"$f":"IF(AA12>0,\"\",\"X\")","v":""},"X","X","X","X","X","X","X","X","X","X","X","X","X","X","X",{"$f":"IFERROR(SUM(100/AQ12),\"0\")","v":2.0408163265306123},null,{"$f":"IF(AS12>0,\"\",\"X\")","v":""},"X","X","X","X","X","X","X","X","X","X","X","X","X","X","X",{"$f":"IFERROR(SUM(100/BI12),\"0\")","v":2.5641025641025643},null,{"$f":"IF(BK12>0,\"\",\"X\")","v":""},"X","X","X","X","X","X","X","X","X","X","X","X","X","X","X",{"$f":"IFERROR(SUM(100/CA12),\"0\")","v":2.1739130434782608},null,{"$f":"IF(CC12>0,\"\",\"X\")","v":""},"X","X","X","X","X","X","X","X","X","X","X","X","X","X","X",{"$f":"IFERROR(SUM(100/CS12),\"0\")","v":1.3333333333333333},null,{"$f":"SUM(100/CU12)*0.5","v":{"$error":"#DIV/0!"}},{"$f":"SUM(100/CV12)*0.5","v":{"$error":"#DIV/0!"}},null,{"$f":"COUNT(CU12)+COUNT(CV12)","v":0}]
[null,null,null,null,null,null,null,"DATE:"]
[]
[{"$f":"SUM(COUNTA(F16)+COUNT(B16))","v":2},1,3,{"$f":"INSERT!A3","v":0},{"$f":"INSERT!B3","v":0},{"$f":"INSERT!C3","v":0},{"$f":"INSERT!D3","v":0},{"$f":"INSERT!E3","v":0},null,null,null,null,null,null,null,null,null,null,null,null,null,null,null,null,{"$f":"SUM(I16:X16)","v":0},{"$f":"ROUND((SUM(Y16*$Y$13)/10),0)","v":0},null,null,null,null,null,null,null,null,null,null,null,null,null,null,null,null,{"$f":"SUM(AA16:AP16)","v":0},{"$f":"ROUND((SUM(AQ16*$AQ$13)/10),0)","v":0},null,null,null,null,null,null,null,null,null,null,null,null,null,null,null,null,{"$f":"SUM(AS16:BH16)","v":0},{"$f":"ROUND((SUM(BI16*$BI$13)/10),0)","v":0},null,null,null,null,null,null,null,null,null,null,null,null,null,null,null,null,{"$f":"SUM(BK16:BZ16)","v":0},{"$f":"ROUND((SUM(CA16*$CA$13)/10),0)","v":0},null,null,null,null,null,null,null,null,null,null,null,null,null,null,null,null,{"$f":"SUM(CC16:CR16)","v":0},{"$f":"ROUND((SUM(CS16*$CS$13)/10),0)","v":0},null,null,{"$f":"SUM(CU16*$CU$13)","v":{"$error":"#DIV/0!"}},{"$f":"SUM(CV16*$CV$13)","v":{"$error":"#DIV/0!"}},{"$f":"ROUND(IF($CX$13=1,CW16,IF($CX$13=2,(CX16+CW16)/2)),0)","v":0}]
[null,{"$f":"B16+1","v":2},36,{"$f":"INSERT!A4","v":0},{"$f":"INSERT!B4","v":0},{"$f":"INSERT!C4","v":0},{"$f":"INSERT!D4","v":0},{"$f":"INSERT!E4","v":0},null,null,null,null,null,null,null,null,null,null,null,null,null,null,null,null,0,0,null,null,null,null,null,null,null,null,null,null,null,null,null,null,null,null,0,0,null,null,null,null,null,null,null,null,null,null,null,null,null,null,null,null,0,0,null,null,null,null,null,null,null,null,null,null,null,null,null,null,null,null,0,0,null,null,null,null,null,null,null,null,null,null,null,null,null,null,null,null,0,0,null,null,{"$error":"#DIV/0!"},{"$error":"#DIV/0!"},0]
[null,3,2,{"$f":"INSERT!A5","v":0},{"$f":"INSERT!B5","v":0},{"$f":"INSERT!C5","v":0},{"$f":"INSERT!D5","v":0},{"$f":"INSERT!E5","v":0},null,null,null,null,null,null,null,null,null,null,null,null,null,null,null,null,0,0,null,null,null,null,null,null,null,null,null,null,null,null,null,null,null,null,0,0,null,null,null,null,null,null,null,null,null,null,null,null,null,null,null,null,0,0,null,null,null,null,null,null,null,null,null,null,null,null,null,null,null,null,0,0,null,null,null,null,null,null,null,null,null,null,null,null,null,null,null,null,0,0,null,null,{"$error":"#DIV/0!"},{"$error":"#DIV/0!"},0]
[null,4,1,{"$f":"INSERT!A6","v":0},{"$f":"INSERT!B6","v":0},{"$f":"INSERT!C6","v":0},{"$f":"INSERT!D6","v":0},{"$f":"INSERT!E6","v":0},null,null,null,null,null,null,null,null,null,null,null,null,null,null,null,null,0,0,null,null,null,null,null,null,null,null,null,null,null,null,null,null,null,null,0,0,null,null,null,null,null,null,null,null,null,null,null,null,null,null,null,null,0,0,null,null,null,null,null,null,null,null,null,null,null,null,null,null,null,null,0,0,null,null,null,null,null,null,null,null,null,null,null,null,null,null,null,null,0,0,null,null,{"$error":"#DIV/0!"},{"$error":"#DIV/0!"},0]
[null,5,4,{"$f":"INSERT!A7","v":0},{"$f":"INSERT!B7","v":0},{"$f":"INSERT!C7","v":0},{"$f":"INSERT!D7","v":0},{"$f":"INSERT!E7","v":0},null,null,null,null,null,null,null,null,null,null,null,null,null,null,null,null,0,0,null,null,null,null,null,null,null,null,null,null,null,null,null,null,null,null,0,0,null,null,null,null,null,null,null,null,null,null,null,null,null,null,null,null,0,0,null,null,null,null,null,null,null,null,null,null,null,null,null,null,null,null,0,0,null,null,null,null,null,null,null,null,null,null,null,null,null,null,null,null,0,0,null,null,{"$error":"#DIV/0!"},{"$error":"#DIV/0!"},0]
[null,6,5,{"$f":"INSERT!A8","v":0},{"$f":"INSERT!B8","v":0},{"$f":"INSERT!C8","v":0},{"$f":"INSERT!D8","v":0},{"$f":"INSERT!E8","v":0},null,null,null,null,null,null,null,null,null,null,null,null,null,null,null,null,0,0,null,null,null,null,null,null,null,null,null,null,null,null,null,null,null,null,0,0,null,null,null,null,null,null,null,null,null,null,null,null,null,null,null,null,0,0,null,null,null,null,null,null,null,null,null,null,null,null,null,null,null,null,0,0,null,null,null,null,null,null,null,null,null,null,null,null,null,null,null,null,0,0,null,null,{"$error":"#DIV/0!"},{"$error":"#DIV/0!"},0]
[null,7,6,{"$f":"INSERT!A9","v":0},{"$f":"INSERT!B9","v":0},{"$f":"INSERT!C9","v":0},{"$f":"INSERT!D9","v":0},{"$f":"INSERT!E9","v":0},null,null,null,null,null,null,null,null,null,null,null,null,null,null,null,null,0,0,null,null,null,null,null,null,null,null,null,null,null,null,null,null,null,null,0,0,null,null,null,null,null,null,null,null,null,null,null,null,null,null,null,null,0,0,null,null,null,null,null,null,null,null,null,null,null,null,null,null,null,null,0,0,null,null,null,null,null,null,null,null,null,null,null,null,null,null,null,null,0,0,null,null,{"$error":"#DIV/0!"},{"$error":"#DIV/0!"},0]
[null,8,7,{"$f":"INSERT!A10","v":0},{"$f":"INSERT!B10","v":0},{"$f":"INSERT!C10","v":0},{"$f":"INSERT!D10","v":0},{"$f":"INSERT!E10","v":0},null,null,null,null,null,null,null,null,null,null,null,null,null,null,null,null,0,0,null,null,null,null,null,null,null,null,null,null,null,null,null,null,null,null,0,0,null,null,null,null,null,null,null,null,null,null,null,null,null,null,null,null,0,0,null,null,null,null,null,null,null,null,null,null,null,null,null,null,null,null,0,0,null,null,null,null,null,null,null,null,null,null,null,null,null,null,null,null,0,0,null,null,{"$error":"#DIV/0!"},{"$error":"#DIV/0!"},0]
[null,9,8,{"$f":"INSERT!A11","v":0},{"$f":"INSERT!B11","v":0},{"$f":"INSERT!C11","v":0},{"$f":"INSERT!D11","v":0},{"$f":"INSERT!E11","v":0},null,null,null,null,null,null,null,null,null,null,null,null,null,null,null,null,0,0,null,null,null,null,null,null,null,null,null,null,null,null,null,null,null,null,0,0,null,null,null,null,null,null,null,null,null,null,null,null,null,null,null,null,0,0,null,null,null,null,null,null,null,null,null,null,null,null,null,null,null,null,0,0,null,null,null,null,null,null,null,null,null,null,null,null,null,null,null,null,0,0,null,null,{"$error":"#DIV/0!"},{"$error":"#DIV/0!"},0]
[null,10,9,{"$f":"INSERT!A12","v":0},{"$f":"INSERT!B12","v":0},{"$f":"INSERT!C12","v":0},{"$f":"INSERT!D12","v":0},{"$f":"INSERT!E12","v":0},null,null,null,null,null,null,null,null,null,null,null,null,null,null,null,null,0,0,null,null,null,null,null,null,null,null,null,null,null,null,null,null,null,null,0,0,null,null,null,null,null,null,null,null,null,null,null,null,null,null,null,null,0,0,null,null,null,null,null,null,null,null,null,null,null,null,null,null,null,null,0,0,null,null,null,null,null,null,null,null,null,null,null,null,null,null,null,null,0,0,null,null,{"$error":"#DIV/0!"},{"$error":"#DIV/0!"},0]
[null,11,11,{"$f":"INSERT!A13","v":0},{"$f":"INSERT!B13","v":0},{"$f":"INSERT!C13","v":0},{"$f":"INSERT!D13","v":0},{"$f":"INSERT!E13","v":0},null,null,null,null,null,null,null,null,null,null,null,null,null,null,null,null,0,0,null,null,null,null,null,null,null,null,null,null,null,null,null,null,null,null,0,0,null,null,null,null,null,null,null,null,null,null,null,null,null,null,null,null,0,0,null,null,null,null,null,null,null,null,null,null,null,null,null,null,null,null,0,0,null,null,null,null,null,null,null,null,null,null,null,null,null,null,null,null,0,0,null,null,{"$error":"#DIV/0!"},{"$error":"#DIV/0!"},0]
[null,12,12,{"$f":"INSERT!A14","v":0},{"$f":"INSERT!B14","v":0},{"$f":"INSERT!C14","v":0},{"$f":"INSERT!D14","v":0},{"$f":"INSERT!E14","v":0},null,null,null,null,null,null,null,null,null,null,null,null,null,null,null,null,0,0,null,null,null,null,null,null,null,null,null,null,null,null,null,null,null,null,0,0,null,null,null,null,null,null,null,null,null,null,null,null,null,null,null,null,0,0,null,null,null,null,null,null,null,null,null,null,null,null,null,null,null,null,0,0,null,null,null,null,null,null,null,null,null,null,null,null,null,null,null,null,0,0,null,null,{"$error":"#DIV/0!"},{"$error":"#DIV/0!"},0]
[null,13,13,{"$f":"INSERT!A15","v":0},{"$f":"INSERT!B15","v":0},{"$f":"INSERT!C15","v":0},{"$f":"INSERT!D15","v":0},{"$f":"INSERT!E15","v":0},null,null,null,null,null,null,null,null,null,null,null,null,null,null,null,null,0,0,null,null,null,null,null,null,null,null,null,null,null,null,null,null,null,null,0,0,null,null,null,null,null,null,null,null,null,null,null,null,null,null,null,null,0,0,null,null,null,null,null,null,null,null,null,null,null,null,null,null,null,null,0,0,null,null,null,null,null,null,null,null,null,null,null,null,null,null,null,null,0,0,null,null,{"$error":"#DIV/0!"},{"$error":"#DIV/0!"},0]
[null,14,14,{"$f":"INSERT!A16","v":0},{"$f":"INSERT!B16","v":0},{"$f":"INSERT!C16","v":0},{"$f":"INSERT!D16","v":0},{"$f":"INSERT!E16","v":0},null,null,null,null,null,null,null,null,null,null,null,null,null,null,null,null,0,0,null,null,null,null,null,null,null,null,null,null,null,null,null,null,null,null,0,0,null,null,null,null,null,null,null,null,null,null,null,null,null,null,null,null,0,0,null,null,null,null,null,null,null,null,null,null,null,null,null,null,null,null,0,0,null,null,null,null,null,null,null,null,null,null,null,null,null,null,null,null,0,0,null,null,{"$error":"#DIV/0!"},{"$error":"#DIV/0!"},0]
[null,15,15,{"$f":"INSERT!A17","v":0},{"$f":"INSERT!B17","v":0},{"$f":"INSERT!C17","v":0},{"$f":"INSERT!D17","v":0},{"$f":"INSERT!E17","v":0},null,null,null,null,null,null,null,null,null,null,null,null,null,null,null,null,0,0,null,null,null,null,null,null,null,null,null,null,null,null,null,null,null,null,0,0,null,null,null,null,null,null,null,null,null,null,null,null,null,null,null,null,0,0,null,null,null,null,null,null,null,null,null,null,null,null,null,null,null,null,0,0,null,null,null,null,null,null,null,null,null,null,null,null,null,null,null,null,0,0,null,null,{"$error":"#DIV/0!"},{"$error":"#DIV/0!"},0]
[null,16,16,{"$f":"INSERT!A18","v":0},{"$f":"INSERT!B18","v":0},{"$f":"INSERT!C18","v":0},{"$f":"INSERT!D18","v":0},{"$f":"INSERT!E18","v":0},null,null,null,null,null,null,null,null,null,null,null,null,null,null,null,null,0,0,null,null,null,null,null,null,null,null,null,null,null,null,null,null,null,null,0,0,null,null,null,null,null,null,null,null,null,null,null,null,null,null,null,null,0,0,null,null,null,null,null,null,null,null,null,null,null,null,null,null,null,null,0,0,null,null,null,null,null,null,null,null,null,null,null,null,null,null,null,null,0,0,null,null,{"$error":"#DIV/0!"},{"$error":"#DIV/0!"},0]
[null,17,17,{"$f":"INSERT!A19","v":0},{"$f":"INSERT!B19","v":0},{"$f":"INSERT!C19","v":0},{"$f":"INSERT!D19","v":0},{"$f":"INSERT!E19","v":0},null,null,null,null,null,null,null,null,null,null,null,null,null,null,null,null,0,0,null,null,null,null,null,null,null,null,null,null,null,null,null,null,null,null,0,0,null,null,null,null,null,null,null,null,null,null,null,null,null,null,null,null,0,0,null,null,null,null,null,null,null,null,null,null,null,null,null,null,null,null,0,0,null,null,null,null,null,null,null,null,null,null,null,null,null,null,null,null,0,0,null,null,{"$error":"#DIV/0!"},{"$error":"#DIV/0!"},0]
[null,18,18,{"$f":"INSERT!A20","v":0},{"$f":"INSERT!B20","v":0},{"$f":"INSERT!C20","v":0},{"$f":"INSERT!D20","v":0},{"$f":"INSERT!E20","v":0},null,null,null,null,null,null,null,null,null,null,null,null,null,null,null,null,0,0,null,null,null,null,null,null,null,null,null,null,null,null,null,null,null,null,0,0,null,null,null,null,null,null,null,null,null,null,null,null,null,null,null,null,0,0,null,null,null,null,null,null,null,null,null,null,null,null,null,null,null,null,0,0,null,null,null,null,null,null,null,null,null,null,null,null,null,null,null,null,0,0,null,null,{"$error":"#DIV/0!"},{"$error":"#DIV/0!"},0]
[null,19,19,{"$f":"INSERT!A21","v":0},{"$f":"INSERT!B21","v":0},{"$f":"INSERT!C21","v":0},{"$f":"INSERT!D21","v":0},{"$f":"INSERT!E21","v":0},null,null,null,null,null,null,null,null,null,null,null,null,null,null,null,null,0,0,null,null,null,null,null,null,null,null,null,null,null,null,null,null,null,null,0,0,null,null,null,null,null,null,null,null,null,null,null,null,null,null,null,null,0,0,null,null,null,null,null,null,null,null,null,null,null,null,null,null,null,null,0,0,null,null,null,null,null,null,null,null,null,null,null,null,null,null,null,null,0,0,null,null,{"$error":"#DIV/0!"},{"$error":"#DIV/0!"},0]
[null,20,20,{"$f":"INSERT!A22","v":0},{"$f":"INSERT!B22","v":0},{"$f":"INSERT!C22","v":0},{"$f":"INSERT!D22","v":0},{"$f":"INSERT!E22","v":0},null,null,null,null,null,null,null,null,null,null,null,null,null,null,null,null,0,0,null,null,null,null,null,null,null,null,null,null,null,null,null,null,null,null,0,0,null,null,null,null,null,null,null,null,null,null,null,null,null,null,null,null,0,0,null,null,null,null,null,null,null,null,null,null,null,null,null,null,null,null,0,0,null,null,null,null,null,null,null,null,null,null,null,null,null,null,null,null,0,0,null,null,{"$error":"#DIV/0!"},{"$error":"#DIV/0!"},0]
[null,21,21,{"$f":"INSERT!A23","v":0},{"$f":"INSERT!B23","v":0},{"$f":"INSERT!C23","v":0},{"$f":"INSERT!D23","v":0},{"$f":"INSERT!E23","v":0},null,null,null,null,null,null,null,null,null,null,null,null,null,null,null,null,0,0,null,null,null,null,null,null,null,null,null,null,null,null,null,null,null,null,0,0,null,null,null,null,null,null,null,null,null,null,null,null,null,null,null,null,0,0,null,null,null,null,null,null,null,null,null,null,null,null,null,null,null,null,0,0,null,null,null,null,null,null,null,null,null,null,null,null,null,null,null,null,0,0,null,null,{"$error":"#DIV/0!"},{"$error":"#DIV/0!"},0]
[null,22,22,{"$f":"INSERT!A24","v":0},{"$f":"INSERT!B24","v":0},{"$f":"INSERT!C24","v":0},{"$f":"INSERT!D24","v":0},{"$f":"INSERT!E24","v":0},null,null,null,null,null,null,null,null,null,null,null,null,null,null,null,null,0,0,null,null,null,null,null,null,null,null,null,null,null,null,null,null,null,null,0,0,null,null,null,null,null,null,null,null,null,null,null,null,null,null,null,null,0,0,null,null,null,null,null,null,null,null,null,null,null,null,null,null,null,null,0,0,null,null,null,null,null,null,null,null,null,null,null,null,null,null,null,null,0,0,null,null,{"$error":"#DIV/0!"},{"$error":"#DIV/0!"},0]
[null,23,23,{"$f":"INSERT!A25","v":0},{"$f":"INSERT!B25","v":0},{"$f":"INSERT!C25","v":0},{"$f":"INSERT!D25","v":0},{"$f":"INSERT!E25","v":0},null,null,null,null,null,null,null,null,null,null,null,null,null,null,null,null,0,0,null,null,null,null,null,null,null,null,null,null,null,null,null,null,null,null,0,0,null,null,null,null,null,null,null,null,null,null,null,null,null,null,null,null,0,0,null,null,null,null,null,null,null,null,null,null,null,null,null,null,null,null,0,0,null,null,null,null,null,null,null,null,null,null,null,null,null,null,null,null,0,0,null,null,{"$error":"#DIV/0!"},{"$error":"#DIV/0!"},0]
[null,24,24,{"$f":"INSERT!A26","v":0},{"$f":"INSERT!B26","v":0},{"$f":"INSERT!C26","v":0},{"$f":"INSERT!D26","v":0},{"$f":"INSERT!E26","v":0},null,null,null,null,null,null,null,null,null,null,null,null,null,null,null,null,0,0,null,null,null,null,null,null,null,null,null,null,null,null,null,null,null,null,0,0,null,null,null,null,null,null,null,null,null,null,null,null,null,null,null,null,0,0,null,null,null,null,null,null,null,null,null,null,null,null,null,null,null,null,0,0,null,null,null,null,null,null,null,null,null,null,null,null,null,null,null,null,0,0,null,null,{"$error":"#DIV/0!"},{"$error":"#DIV/0!"},0]
[null,25,25,{"$f":"INSERT!A27","v":0},{"$f":"INSERT!B27","v":0},{"$f":"INSERT!C27","v":0},{"$f":"INSERT!D27","v":0},{"$f":"INSERT!E27","v":0},null,null,null,null,null,null,null,null,null,null,null,null,null,null,null,null,0,0,null,null,null,null,null,null,null,null,null,null,null,null,null,null,null,null,0,0,null,null,null,null,null,null,null,null,null,null,null,null,null,null,null,null,0,0,null,null,null,null,null,null,null,null,null,null,null,null,null,null,null,null,0,0,null,null,null,null,null,null,null,null,null,null,null,null,null,null,null,null,0,0,null,null,{"$error":"#DIV/0!"},{"$error":"#DIV/0!"},0]
[null,26,26,{"$f":"INSERT!A28","v":0},{"$f":"INSERT!B28","v":0},{"$f":"INSERT!C28","v":0},{"$f":"INSERT!D28","v":0},{"$f":"INSERT!E28","v":0},null,null,null,null,null,null,null,null,null,null,null,null,null,null,null,null,0,0,null,null,null,null,null,null,null,null,null,null,null,null,null,null,null,null,0,0,null,null,null,null,null,null,null,null,null,null,null,null,null,null,null,null,0,0,null,null,null,null,null,null,null,null,null,null,null,null,null,null,null,null,0,0,null,null,null,null,null,null,null,null,null,null,null,null,null,null,null,null,0,0,null,null,{"$error":"#DIV/0!"},{"$error":"#DIV/0!"},0]
[null,27,28,{"$f":"INSERT!A29","v":0},{"$f":"INSERT!B29","v":0},{"$f":"INSERT!C29","v":0},{"$f":"INSERT!D29","v":0},{"$f":"INSERT!E29","v":0},null,null,null,null,null,null,null,null,null,null,null,null,null,null,null,null,0,0,null,null,null,null,null,null,null,null,null,null,null,null,null,null,null,null,0,0,null,null,null,null,null,null,null,null,null,null,null,null,null,null,null,null,0,0,null,null,null,null,null,null,null,null,null,null,null,null,null,null,null,null,0,0,null,null,null,null,null,null,null,null,null,null,null,null,null,null,null,null,0,0,null,null,{"$error":"#DIV/0!"},{"$error":"#DIV/0!"},0]
[null,28,29,{"$f":"INSERT!A30","v":0},{"$f":"INSERT!B30","v":0},{"$f":"INSERT!C30","v":0},{"$f":"INSERT!D30","v":0},{"$f":"INSERT!E30","v":0},null,null,null,null,null,null,null,null,null,null,null,null,null,null,null,null,0,0,null,null,null,null,null,null,null,null,null,null,null,null,null,null,null,null,0,0,null,null,null,null,null,null,null,null,null,null,null,null,null,null,null,null,0,0,null,null,null,null,null,null,null,null,null,null,null,null,null,null,null,null,0,0,null,null,null,null,null,null,null,null,null,null,null,null,null,null,null,null,0,0,null,null,{"$error":"#DIV/0!"},{"$error":"#DIV/0!"},0]
[null,29,30,{"$f":"INSERT!A31","v":0},{"$f":"INSERT!B31","v":0},{"$f":"INSERT!C31","v":0},{"$f":"INSERT!D31","v":0},{"$f":"INSERT!E31","v":0},null,null,null,null,null,null,null,null,null,null,null,null,null,null,null,null,0,0,null,null,null,null,null,null,null,null,null,null,null,null,null,null,null,null,0,0,null,null,null,null,null,null,null,null,null,null,null,null,null,null,null,null,0,0,null,null,null,null,null,null,null,null,null,null,null,null,null,null,null,null,0,0,null,null,null,null,null,null,null,null,null,null,null,null,null,null,null,null,0,0,null,null,{"$error":"#DIV/0!"},{"$error":"#DIV/0!"},0]
[null,30,31,{"$f":"INSERT!A32","v":0},{"$f":"INSERT!B32","v":0},{"$f":"INSERT!C32","v":0},{"$f":"INSERT!D32","v":0},{"$f":"INSERT!E32","v":0},null,null,null,null,null,null,null,null,null,null,null,null,null,null,null,null,0,0,null,null,null,null,null,null,null,null,null,null,null,null,null,null,null,null,0,0,null,null,null,null,null,null,null,null,null,null,null,null,null,null,null,null,0,0,null,null,null,null,null,null,null,null,null,null,null,null,null,null,null,null,0,0,null,null,null,null,null,null,null,null,null,null,null,null,null,null,null,null,0,0,null,null,{"$error":"#DIV/0!"},{"$error":"#DIV/0!"},0]
[null,31,32,{"$f":"INSERT!A33","v":0},{"$f":"INSERT!B33","v":0},{"$f":"INSERT!C33","v":0},{"$f":"INSERT!D33","v":0},{"$f":"INSERT!E33","v":0},null,null,null,null,null,null,null,null,null,null,null,null,null,null,null,null,0,0,null,null,null,null,null,null,null,null,null,null,null,null,null,null,null,null,0,0,null,null,null,null,null,null,null,null,null,null,null,null,null,null,null,null,0,0,null,null,null,null,null,null,null,null,null,null,null,null,null,null,null,null,0,0,null,null,null,null,null,null,null,null,null,null,null,null,null,null,null,null,0,0,null,null,{"$error":"#DIV/0!"},{"$error":"#DIV/0!"},0]
[{"$f":"SUM(COUNTA(F47)+COUNT(B47))","v":2},32,33,{"$f":"INSERT!A34","v":0},{"$f":"INSERT!B34","v":0},{"$f":"INSERT!C34","v":0},{"$f":"INSERT!D34","v":0},{"$f":"INSERT!E34","v":0},null,null,null,null,null,null,null,null,null,null,null,null,null,null,null,null,0,0,null,null,null,null,null,null,null,null,null,null,null,null,null,null,null,null,0,0,null,null,null,null,null,null,null,null,null,null,null,null,null,null,null,null,0,0,null,null,null,null,null,null,null,null,null,null,null,null,null,null,null,null,0,0,null,null,null,null,null,null,null,null,null,null,null,null,null,null,null,null,0,0,null,null,{"$error":"#DIV/0!"},{"$error":"#DIV/0!"},0]
[2,33,34,{"$f":"INSERT!A35","v":0},{"$f":"INSERT!B35","v":0},{"$f":"INSERT!C35","v":0},{"$f":"INSERT!D35","v":0},{"$f":"INSERT!E35","v":0},null,null,null,null,null,null,null,null,null,null,null,null,null,null,null,null,{"$f":"SUM(I48:X48)","v":0},{"$f":"ROUND((SUM(Y48*$Y$13)/10),0)","v":0},null,null,null,null,null,null,null,null,null,null,null,null,null,null,null,null,{"$f":"SUM(AA48:AP48)","v":0},{"$f":"ROUND((SUM(AQ48*$AQ$13)/10),0)","v":0},null,null,null,null,null,null,null,null,null,null,null,null,null,null,null,null,{"$f":"SUM(AS48:BH48)","v":0},{"$f":"ROUND((SUM(BI48*$BI$13)/10),0)","v":0},null,null,null,null,null,null,null,null,null,null,null,null,null,null,null,null,{"$f":"SUM(BK48:BZ48)","v":0},{"$f":"ROUND((SUM(CA48*$CA$13)/10),0)","v":0},null,null,null,null,null,null,null,null,null,null,null,null,null,null,null,null,{"$f":"SUM(CC48:CR48)","v":0},{"$f":"ROUND((SUM(CS48*$CS$13)/10),0)","v":0},null,null,{"$f":"SUM(CU48*$CU$13)","v":{"$error":"#DIV/0!"}},{"$f":"SUM(CV48*$CV$13)","v":{"$error":"#DIV/0!"}},{"$f":"ROUND(IF($CX$13=1,CW48,IF($CX$13=2,(CX48+CW48)/2)),0)","v":0}]
[2,{"$f":"B48+1","v":34},37,{"$f":"INSERT!A36","v":0},{"$f":"INSERT!B36","v":0},{"$f":"INSERT!C36","v":0},{"$f":"INSERT!D36","v":0},{"$f":"INSERT!E36","v":0},null,null,null,null,null,null,null,null,null,null,null,null,null,null,null,null,0,0,null,null,null,null,null,null,null,null,null,null,null,null,null,null,null,null,0,0,null,null,null,null,null,null,null,null,null,null,null,null,null,null,null,null,0,0,null,null,null,null,null,null,null,null,null,null,null,null,null,null,null,null,0,0,null,null,null,null,null,null,null,null,null,null,null,null,null,null,null,null,0,0,null,null,{"$error":"#DIV/0!"},{"$error":"#DIV/0!"},0]
[2,35,35,{"$f":"INSERT!A37","v":0},{"$f":"INSERT!B37","v":0},{"$f":"INSERT!C37","v":0},{"$f":"INSERT!D37","v":0},{"$f":"INSERT!E37","v":0},null,null,null,null,null,null,null,null,null,null,null,null,null,null,null,null,0,0,null,null,null,null,null,null,null,null,null,null,null,null,null,null,null,null,0,0,null,null,null,null,null,null,null,null,null,null,null,null,null,null,null,null,0,0,null,null,null,null,null,null,null,null,null,null,null,null,null,null,null,null,0,0,null,null,null,null,null,null,null,null,null,null,null,null,null,null,null,null,0,0,null,null,{"$error":"#DIV/0!"},{"$error":"#DIV/0!"},0]
[2,36,10,{"$f":"INSERT!A38","v":0},{"$f":"INSERT!B38","v":0},{"$f":"INSERT!C38","v":0},{"$f":"INSERT!D38","v":0},{"$f":"INSERT!E38","v":0},null,null,null,null,null,null,null,null,null,null,null,null,null,null,null,null,0,0,null,null,null,null,null,null,null,null,null,null,null,null,null,null,null,null,0,0,null,null,null,null,null,null,null,null,null,null,null,null,null,null,null,null,0,0,null,null,null,null,null,null,null,null,null,null,null,null,null,null,null,null,0,0,null,null,null,null,null,null,null,null,null,null,null,null,null,null,null,null,0,0,null,null,{"$error":"#DIV/0!"},{"$error":"#DIV/0!"},0]
[2,37,27,{"$f":"INSERT!A39","v":0},{"$f":"INSERT!B39","v":0},{"$f":"INSERT!C39","v":0},{"$f":"INSERT!D39","v":0},{"$f":"INSERT!E39","v":0},null,null,null,null,null,null,null,null,null,null,null,null,null,null,null,null,0,0,null,null,null,null,null,null,null,null,null,null,null,null,null,null,null,null,0,0,null,null,null,null,null,null,null,null,null,null,null,null,null,null,null,null,0,0,null,null,null,null,null,null,null,null,null,null,null,null,null,null,null,null,0,0,null,null,null,null,null,null,null,null,null,null,null,null,null,null,null,null,0,0,null,null,{"$error":"#DIV/0!"},{"$error":"#DIV/0!"},0]
[null,38,38,{"$f":"INSERT!A40","v":0},{"$f":"INSERT!B40","v":0},{"$f":"INSERT!C40","v":0},{"$f":"INSERT!D40","v":0},{"$f":"INSERT!E40","v":0},null,null,null,null,null,null,null,null,null,null,null,null,null,null,null,null,0,0,null,null,null,null,null,null,null,null,null,null,null,null,null,null,null,null,0,0,null,null,null,null,null,null,null,null,null,null,null,null,null,null,null,null,0,0,null,null,null,null,null,null,null,null,null,null,null,null,null,null,null,null,0,0,null,null,null,null,null,null,null,null,null,null,null,null,null,null,null,null,0,0,null,null,{"$error":"#DIV/0!"},{"$error":"#DIV/0!"},0]
[null,39,39,{"$f":"INSERT!A41","v":0},{"$f":"INSERT!B41","v":0},{"$f":"INSERT!C41","v":0},{"$f":"INSERT!D41","v":0},{"$f":"INSERT!E41","v":0},null,null,null,null,null,null,null,null,null,null,null,null,null,null,null,null,0,0,null,null,null,null,null,null,null,null,null,null,null,null,null,null,null,null,0,0,null,null,null,null,null,null,null,null,null,null,null,null,null,null,null,null,0,0,null,null,null,null,null,null,null,null,null,null,null,null,null,null,null,null,0,0,null,null,null,null,null,null,null,null,null,null,null,null,null,null,null,null,0,0,null,null,{"$error":"#DIV/0!"},{"$error":"#DIV/0!"},0]
[null,40,40,{"$f":"INSERT!A42","v":0},{"$f":"INSERT!B42","v":0},{"$f":"INSERT!C42","v":0},{"$f":"INSERT!D42","v":0},{"$f":"INSERT!E42","v":0},null,null,null,null,null,null,null,null,null,null,null,null,null,null,null,null,0,0,null,null,null,null,null,null,null,null,null,null,null,null,null,null,null,null,0,0,null,null,null,null,null,null,null,null,null,null,null,null,null,null,null,null,0,0,null,null,null,null,null,null,null,null,null,null,null,null,null,null,null,null,0,0,null,null,null,null,null,null,null,null,null,null,null,null,null,null,null,null,0,0,null,null,{"$error":"#DIV/0!"},{"$error":"#DIV/0!"},0]
[null,41,41,{"$f":"INSERT!A43","v":0},{"$f":"INSERT!B43","v":0},{"$f":"INSERT!C43","v":0},{"$f":"INSERT!D43","v":0},{"$f":"INSERT!E43","v":0},null,null,null,null,null,null,null,null,null,null,null,null,null,null,null,null,0,0,null,null,null,null,null,null,null,null,null,null,null,null,null,null,null,null,0,0,null,null,null,null,null,null,null,null,null,null,null,null,null,null,null,null,0,0,null,null,null,null,null,null,null,null,null,null,null,null,null,null,null,null,0,0,null,null,null,null,null,null,null,null,null,null,null,null,null,null,null,null,0,0,null,null,{"$error":"#DIV/0!"},{"$error":"#DIV/0!"},0]
[null,42,42,{"$f":"INSERT!A44","v":0},{"$f":"INSERT!B44","v":0},{"$f":"INSERT!C44","v":0},{"$f":"INSERT!D44","v":0},{"$f":"INSERT!E44","v":0},null,null,null,null,null,null,null,null,null,null,null,null,null,null,null,null,0,0,null,null,null,null,null,null,null,null,null,null,null,null,null,null,null,null,0,0,null,null,null,null,null,null,null,null,null,null,null,null,null,null,null,null,0,0,null,null,null,null,null,null,null,null,null,null,null,null,null,null,null,null,0,0,null,null,null,null,null,null,null,null,null,null,null,null,null,null,null,null,0,0,null,null,{"$error":"#DIV/0!"},{"$error":"#DIV/0!"},0]
[null,43,43,{"$f":"INSERT!A45","v":0},{"$f":"INSERT!B45","v":0},{"$f":"INSERT!C45","v":0},{"$f":"INSERT!D45","v":0},{"$f":"INSERT!E45","v":0},null,null,null,null,null,null,null,null,null,null,null,null,null,null,null,null,0,0,null,null,null,null,null,null,null,null,null,null,null,null,null,null,null,null,0,0,null,null,null,null,null,null,null,null,null,null,null,null,null,null,null,null,0,0,null,null,null,null,null,null,null,null,null,null,null,null,null,null,null,null,0,0,null,null,null,null,null,null,null,null,null,null,null,null,null,null,null,null,0,0,null,null,{"$error":"#DIV/0!"},{"$error":"#DIV/0!"},0]
[null,44,44,{"$f":"INSERT!A46","v":0},{"$f":"INSERT!B46","v":0},{"$f":"INSERT!C46","v":0},{"$f":"INSERT!D46","v":0},{"$f":"INSERT!E46","v":0},null,null,null,null,null,null,null,null,null,null,null,null,null,null,null,null,0,0,null,null,null,null,null,null,null,null,null,null,null,null,null,null,null,null,0,0,null,null,null,null,null,null,null,null,null,null,null,null,null,null,null,null,0,0,null,null,null,null,null,null,null,null,null,null,null,null,null,null,null,null,0,0,null,null,null,null,null,null,null,null,null,null,null,null,null,null,null,null,0,0,null,null,{"$error":"#DIV/0!"},{"$error":"#DIV/0!"},0]
[null,45,45,{"$f":"INSERT!A47","v":0},{"$f":"INSERT!B47","v":0},{"$f":"INSERT!C47","v":0},{"$f":"INSERT!D47","v":0},{"$f":"INSERT!E47","v":0},null,null,null,null,null,null,null,null,null,null,null,null,null,null,null,null,0,0,null,null,null,null,null,null,null,null,null,null,null,null,null,null,null,null,0,0,null,null,null,null,null,null,null,null,null,null,null,null,null,null,null,null,0,0,null,null,null,null,null,null,null,null,null,null,null,null,null,null,null,null,0,0,null,null,null,null,null,null,null,null,null,null,null,null,null,null,null,null,0,0,null,null,{"$error":"#DIV/0!"},{"$error":"#DIV/0!"},0]
[null,46,46,{"$f":"INSERT!A48","v":0},{"$f":"INSERT!B48","v":0},{"$f":"INSERT!C48","v":0},{"$f":"INSERT!D48","v":0},{"$f":"INSERT!E48","v":0},null,null,null,null,null,null,null,null,null,null,null,null,null,null,null,null,0,0,null,null,null,null,null,null,null,null,null,null,null,null,null,null,null,null,0,0,null,null,null,null,null,null,null,null,null,null,null,null,null,null,null,null,0,0,null,null,null,null,null,null,null,null,null,null,null,null,null,null,null,null,0,0,null,null,null,null,null,null,null,null,null,null,null,null,null,null,null,null,0,0,null,null,{"$error":"#DIV/0!"},{"$error":"#DIV/0!"},0]
[null,47,47,{"$f":"INSERT!A49","v":0},{"$f":"INSERT!B49","v":0},{"$f":"INSERT!C49","v":0},{"$f":"INSERT!D49","v":0},{"$f":"INSERT!E49","v":0},null,null,null,null,null,null,null,null,null,null,null,null,null,null,null,null,0,0,null,null,null,null,null,null,null,null,null,null,null,null,null,null,null,null,0,0,null,null,null,null,null,null,null,null,null,null,null,null,null,null,null,null,0,0,null,null,null,null,null,null,null,null,null,null,null,null,null,null,null,null,0,0,null,null,null,null,null,null,null,null,null,null,null,null,null,null,null,null,0,0,null,null,{"$error":"#DIV/0!"},{"$error":"#DIV/0!"},0]
[null,48,48,{"$f":"INSERT!A50","v":0},{"$f":"INSERT!B50","v":0},{"$f":"INSERT!C50","v":0},{"$f":"INSERT!D50","v":0},{"$f":"INSERT!E50","v":0},null,null,null,null,null,null,null,null,null,null,null,null,null,null,null,null,0,0,null,null,null,null,null,null,null,null,null,null,null,null,null,null,null,null,0,0,null,null,null,null,null,null,null,null,null,null,null,null,null,null,null,null,0,0,null,null,null,null,null,null,null,null,null,null,null,null,null,null,null,null,0,0,null,null,null,null,null,null,null,null,null,null,null,null,null,null,null,null,0,0,null,null,{"$error":"#DIV/0!"},{"$error":"#DIV/0!"},0]
[null,49,49,{"$f":"INSERT!A51","v":0},{"$f":"INSERT!B51","v":0},{"$f":"INSERT!C51","v":0},{"$f":"INSERT!D51","v":0},{"$f":"INSERT!E51","v":0},null,null,null,null,null,null,null,null,null,null,null,null,null,null,null,null,0,0,null,null,null,null,null,null,null,null,null,null,null,null,null,null,null,null,0,0,null,null,null,null,null,null,null,null,null,null,null,null,null,null,null,null,0,0,null,null,null,null,null,null,null,null,null,null,null,null,null,null,null,null,0,0,null,null,null,null,null,null,null,null,null,null,null,null,null,null,null,null,0,0,null,null,{"$error":"#DIV/0!"},{"$error":"#DIV/0!"},0]
[null,50,50,{"$f":"INSERT!A52","v":0},{"$f":"INSERT!B52","v":0},{"$f":"INSERT!C52","v":0},{"$f":"INSERT!D52","v":0},{"$f":"INSERT!E52","v":0},null,null,null,null,null,null,null,null,null,null,null,null,null,null,null,null,0,0,null,null,null,null,null,null,null,null,null,null,null,null,null,null,null,null,0,0,null,null,null,null,null,null,null,null,null,null,null,null,null,null,null,null,0,0,null,null,null,null,null,null,null,null,null,null,null,null,null,null,null,null,0,0,null,null,null,null,null,null,null,null,null,null,null,null,null,null,null,null,0,0,null,null,{"$error":"#DIV/0!"},{"$error":"#DIV/0!"},0]
[null,51,51,{"$f":"INSERT!A53","v":0},{"$f":"INSERT!B53","v":0},{"$f":"INSERT!C53","v":0},{"$f":"INSERT!D53","v":0},{"$f":"INSERT!E53","v":0},null,null,null,null,null,null,null,null,null,null,null,null,null,null,null,null,0,0,null,null,null,null,null,null,null,null,null,null,null,null,null,null,null,null,0,0,null,null,null,null,null,null,null,null,null,null,null,null,null,null,null,null,0,0,null,null,null,null,null,null,null,null,null,null,null,null,null,null,null,null,0,0,null,null,null,null,null,null,null,null,null,null,null,null,null,null,null,null,0,0,null,null,{"$error":"#DIV/0!"},{"$error":"#DIV/0!"},0]
[null,52,52,{"$f":"INSERT!A54","v":0},{"$f":"INSERT!B54","v":0},{"$f":"INSERT!C54","v":0},{"$f":"INSERT!D54","v":0},{"$f":"INSERT!E54","v":0},null,null,null,null,null,null,null,null,null,null,null,null,null,null,null,null,0,0,null,null,null,null,null,null,null,null,null,null,null,null,null,null,null,null,0,0,null,null,null,null,null,null,null,null,null,null,null,null,null,null,null,null,0,0,null,null,null,null,null,null,null,null,null,null,null,null,null,null,null,null,0,0,null,null,null,null,null,null,null,null,null,null,null,null,null,null,null,null,0,0,null,null,{"$error":"#DIV/0!"},{"$error":"#DIV/0!"},0]
[null,53,53,{"$f":"INSERT!A55","v":0},{"$f":"INSERT!B55","v":0},{"$f":"INSERT!C55","v":0},{"$f":"INSERT!D55","v":0},{"$f":"INSERT!E55","v":0},null,null,null,null,null,null,null,null,null,null,null,null,null,null,null,null,0,0,null,null,null,null,null,null,null,null,null,null,null,null,null,null,null,null,0,0,null,null,null,null,null,null,null,null,null,null,null,null,null,null,null,null,0,0,null,null,null,null,null,null,null,null,null,null,null,null,null,null,null,null,0,0,null,null,null,null,null,null,null,null,null,null,null,null,null,null,null,null,0,0,null,null,{"$error":"#DIV/0!"},{"$error":"#DIV/0!"},0]
[null,54,54,{"$f":"INSERT!A56","v":0},{"$f":"INSERT!B56","v":0},{"$f":"INSERT!C56","v":0},{"$f":"INSERT!D56","v":0},{"$f":"INSERT!E56","v":0},null,null,null,null,null,null,null,null,null,null,null,null,null,null,null,null,0,0,null,null,null,null,null,null,null,null,null,null,null,null,null,null,null,null,0,0,null,null,null,null,null,null,null,null,null,null,null,null,null,null,null,null,0,0,null,null,null,null,null,null,null,null,null,null,null,null,null,null,null,null,0,0,null,null,null,null,null,null,null,null,null,null,null,null,null,null,null,null,0,0,null,null,{"$error":"#DIV/0!"},{"$error":"#DIV/0!"},0]
[null,55,55,{"$f":"INSERT!A57","v":0},{"$f":"INSERT!B57","v":0},{"$f":"INSERT!C57","v":0},{"$f":"INSERT!D57","v":0},{"$f":"INSERT!E57","v":0},null,null,null,null,null,null,null,null,null,null,null,null,null,null,null,null,0,0,null,null,null,null,null,null,null,null,null,null,null,null,null,null,null,null,0,0,null,null,null,null,null,null,null,null,null,null,null,null,null,null,null,null,0,0,null,null,null,null,null,null,null,null,null,null,null,null,null,null,null,null,0,0,null,null,null,null,null,null,null,null,null,null,null,null,null,null,null,null,0,0,null,null,{"$error":"#DIV/0!"},{"$error":"#DIV/0!"},0]
[null,56,56,{"$f":"INSERT!A58","v":0},{"$f":"INSERT!B58","v":0},{"$f":"INSERT!C58","v":0},{"$f":"INSERT!D58","v":0},{"$f":"INSERT!E58","v":0},null,null,null,null,null,null,null,null,null,null,null,null,null,null,null,null,0,0,null,null,null,null,null,null,null,null,null,null,null,null,null,null,null,null,0,0,null,null,null,null,null,null,null,null,null,null,null,null,null,null,null,null,0,0,null,null,null,null,null,null,null,null,null,null,null,null,null,null,null,null,0,0,null,null,null,null,null,null,null,null,null,null,null,null,null,null,null,null,0,0,null,null,{"$error":"#DIV/0!"},{"$error":"#DIV/0!"},0]
[null,57,57,{"$f":"INSERT!A59","v":0},{"$f":"INSERT!B59","v":0},{"$f":"INSERT!C59","v":0},{"$f":"INSERT!D59","v":0},{"$f":"INSERT!E59","v":0},null,null,null,null,null,null,null,null,null,null,null,null,null,null,null,null,0,0,null,null,null,null,null,null,null,null,null,null,null,null,null,null,null,null,0,0,null,null,null,null,null,null,null,null,null,null,null,null,null,null,null,null,0,0,null,null,null,null,null,null,null,null,null,null,null,null,null,null,null,null,0,0,null,null,null,null,null,null,null,null,null,null,null,null,null,null,null,null,0,0,null,null,{"$error":"#DIV/0!"},{"$error":"#DIV/0!"},0]
[{"$f":"SUM(COUNTA(F73)+COUNT(B73))","v":2},58,58,{"$f":"INSERT!A60","v":0},{"$f":"INSERT!B60","v":0},{"$f":"INSERT!C60","v":0},{"$f":"INSERT!D60","v":0},{"$f":"INSERT!E60","v":0},null,null,null,null,null,null,null,null,null,null,null,null,null,null,null,null,0,0,null,null,null,null,null,null,null,null,null,null,null,null,null,null,null,null,0,0,null,null,null,null,null,null,null,null,null,null,null,null,null,null,null,null,0,0,null,null,null,null,null,null,null,null,null,null,null,null,null,null,null,null,0,0,null,null,null,null,null,null,null,null,null,null,null,null,null,null,null,null,0,0,null,null,{"$error":"#DIV/0!"},{"$error":"#DIV/0!"},0]
[2,59,59,{"$f":"INSERT!A61","v":0},{"$f":"INSERT!B61","v":0},{"$f":"INSERT!C61","v":0},{"$f":"INSERT!D61","v":0},{"$f":"INSERT!E61","v":0},null,null,null,null,null,null,null,null,null,null,null,null,null,null,null,null,0,0,null,null,null,null,null,null,null,null,null,null,null,null,null,null,null,null,0,0,null,null,null,null,null,null,null,null,null,null,null,null,null,null,null,null,0,0,null,null,null,null,null,null,null,null,null,null,null,null,null,null,null,null,0,0,null,null,null,null,null,null,null,null,null,null,null,null,null,null,null,null,0,0,null,null,{"$error":"#DIV/0!"},{"$error":"#DIV/0!"},0]
[2,60,60,{"$f":"INSERT!A62","v":0},{"$f":"INSERT!B62","v":0},{"$f":"INSERT!C62","v":0},{"$f":"INSERT!D62","v":0},{"$f":"INSERT!E62","v":0},null,null,null,null,null,null,null,null,null,null,null,null,null,null,null,null,0,0,null,null,null,null,null,null,null,null,null,null,null,null,null,null,null,null,0,0,null,null,null,null,null,null,null,null,null,null,null,null,null,null,null,null,0,0,null,null,null,null,null,null,null,null,null,null,null,null,null,null,null,null,0,0,null,null,null,null,null,null,null,null,null,null,null,null,null,null,null,null,0,0,null,null,{"$error":"#DIV/0!"},{"$error":"#DIV/0!"},0]
[2,61,61,{"$f":"INSERT!A63","v":0},{"$f":"INSERT!B63","v":0},{"$f":"INSERT!C63","v":0},{"$f":"INSERT!D63","v":0},{"$f":"INSERT!E63","v":0},null,null,null,null,null,null,null,null,null,null,null,null,null,null,null,null,0,0,null,null,null,null,null,null,null,null,null,null,null,null,null,null,null,null,0,0,null,null,null,null,null,null,null,null,null,null,null,null,null,null,null,null,0,0,null,null,null,null,null,null,null,null,null,null,null,null,null,null,null,null,0,0,null,null,null,null,null,null,null,null,null,null,null,null,null,null,null,null,0,0,null,null,{"$error":"#DIV/0!"},{"$error":"#DIV/0!"},0]
[2,62,62,{"$f":"INSERT!A64","v":0},{"$f":"INSERT!B64","v":0},{"$f":"INSERT!C64","v":0},{"$f":"INSERT!D64","v":0},{"$f":"INSERT!E64","v":0},null,null,null,null,null,null,null,null,null,null,null,null,null,null,null,null,0,0,null,null,null,null,null,null,null,null,null,null,null,null,null,null,null,null,0,0,null,null,null,null,null,null,null,null,null,null,null,null,null,null,null,null,0,0,null,null,null,null,null,null,null,null,null,null,null,null,null,null,null,null,0,0,null,null,null,null,null,null,null,null,null,null,null,null,null,null,null,null,0,0,null,null,{"$error":"#DIV/0!"},{"$error":"#DIV/0!"},0]
[2,63,63,{"$f":"INSERT!A65","v":0},{"$f":"INSERT!B65","v":0},{"$f":"INSERT!C65","v":0},{"$f":"INSERT!D65","v":0},{"$f":"INSERT!E65","v":0},null,null,null,null,null,null,null,null,null,null,null,null,null,null,null,null,0,0,null,null,null,null,null,null,null,null,null,null,null,null,null,null,null,null,0,0,null,null,null,null,null,null,null,null,null,null,null,null,null,null,null,null,0,0,null,null,null,null,null,null,null,null,null,null,null,null,null,null,null,null,0,0,null,null,null,null,null,null,null,null,null,null,null,null,null,null,null,null,0,0,null,null,{"$error":"#DIV/0!"},{"$error":"#DIV/0!"},0]
[2,64,64,{"$f":"INSERT!A66","v":0},{"$f":"INSERT!B66","v":0},{"$f":"INSERT!C66","v":0},{"$f":"INSERT!D66","v":0},{"$f":"INSERT!E66","v":0},null,null,null,null,null,null,null,null,null,null,null,null,null,null,null,null,0,0,null,null,null,null,null,null,null,null,null,null,null,null,null,null,null,null,0,0,null,null,null,null,null,null,null,null,null,null,null,null,null,null,null,null,0,0,null,null,null,null,null,null,null,null,null,null,null,null,null,null,null,null,0,0,null,null,null,null,null,null,null,null,null,null,null,null,null,null,null,null,0,0,null,null,{"$error":"#DIV/0!"},{"$error":"#DIV/0!"},0]
[2,65,65,{"$f":"INSERT!A67","v":0},{"$f":"INSERT!B67","v":0},{"$f":"INSERT!C67","v":0},{"$f":"INSERT!D67","v":0},{"$f":"INSERT!E67","v":0},null,null,null,null,null,null,null,null,null,null,null,null,null,null,null,null,{"$f":"SUM(I80:X80)","v":0},{"$f":"ROUND((SUM(Y80*$Y$13)/10),0)","v":0},null,null,null,null,null,null,null,null,null,null,null,null,null,null,null,null,{"$f":"SUM(AA80:AP80)","v":0},{"$f":"ROUND((SUM(AQ80*$AQ$13)/10),0)","v":0},null,null,null,null,null,null,null,null,null,null,null,null,null,null,null,null,{"$f":"SUM(AS80:BH80)","v":0},{"$f":"ROUND((SUM(BI80*$BI$13)/10),0)","v":0},null,null,null,null,null,null,null,null,null,null,null,null,null,null,null,null,{"$f":"SUM(BK80:BZ80)","v":0},{"$f":"ROUND((SUM(CA80*$CA$13)/10),0)","v":0},null,null,null,null,null,null,null,null,null,null,null,null,null,null,null,null,{"$f":"SUM(CC80:CR80)","v":0},{"$f":"ROUND((SUM(CS80*$CS$13)/10),0)","v":0},null,null,{"$f":"SUM(CU80*$CU$13)","v":{"$error":"#DIV/0!"}},{"$f":"SUM(CV80*$CV$13)","v":{"$error":"#DIV/0!"}},{"$f":"ROUND(IF($CX$13=1,CW80,IF($CX$13=2,(CX80+CW80)/2)),0)","v":0}]
[2,{"$f":"B80+1","v":66},66,{"$f":"INSERT!A68","v":0},{"$f":"INSERT!B68","v":0},{"$f":"INSERT!C68","v":0},{"$f":"INSERT!D68","v":0},{"$f":"INSERT!E68","v":0},null,null,null,null,null,null,null,null,null,null,null,null,null,null,null,null,0,0,null,null,null,null,null,null,null,null,null,null,null,null,null,null,null,null,0,0,null,null,null,null,null,null,null,null,null,null,null,null,null,null,null,null,0,0,null,null,null,null,null,null,null,null,null,null,null,null,null,null,null,null,0,0,null,null,null,null,null,null,null,null,null,null,null,null,null,null,null,null,0,0,null,null,{"$error":"#DIV/0!"},{"$error":"#DIV/0!"},0]
[2,67,67,{"$f":"INSERT!A69","v":0},{"$f":"INSERT!B69","v":0},{"$f":"INSERT!C69","v":0},{"$f":"INSERT!D69","v":0},{"$f":"INSERT!E69","v":0},null,null,null,null,null,null,null,null,null,null,null,null,null,null,null,null,0,0,null,null,null,null,null,null,null,null,null,null,null,null,null,null,null,null,0,0,null,null,null,null,null,null,null,null,null,null,null,null,null,null,null,null,0,0,null,null,null,null,null,null,null,null,null,null,null,null,null,null,null,null,0,0,null,null,null,null,null,null,null,null,null,null,null,null,null,null,null,null,0,0,null,null,{"$error":"#DIV/0!"},{"$error":"#DIV/0!"},0]
[2,68,68,{"$f":"INSERT!A70","v":0},{"$f":"INSERT!B70","v":0},{"$f":"INSERT!C70","v":0},{"$f":"INSERT!D70","v":0},{"$f":"INSERT!E70","v":0},null,null,null,null,null,null,null,null,null,null,null,null,null,null,null,null,0,0,null,null,null,null,null,null,null,null,null,null,null,null,null,null,null,null,0,0,null,null,null,null,null,null,null,null,null,null,null,null,null,null,null,null,0,0,null,null,null,null,null,null,null,null,null,null,null,null,null,null,null,null,0,0,null,null,null,null,null,null,null,null,null,null,null,null,null,null,null,null,0,0,null,null,{"$error":"#DIV/0!"},{"$error":"#DIV/0!"},0]
[2,69,69,{"$f":"INSERT!A71","v":0},{"$f":"INSERT!B71","v":0},{"$f":"INSERT!C71","v":0},{"$f":"INSERT!D71","v":0},{"$f":"INSERT!E71","v":0},null,null,null,null,null,null,null,null,null,null,null,null,null,null,null,null,0,0,null,null,null,null,null,null,null,null,null,null,null,null,null,null,null,null,0,0,null,null,null,null,null,null,null,null,null,null,null,null,null,null,null,null,0,0,null,null,null,null,null,null,null,null,null,null,null,null,null,null,null,null,0,0,null,null,null,null,null,null,null,null,null,null,null,null,null,null,null,null,0,0,null,null,{"$error":"#DIV/0!"},{"$error":"#DIV/0!"},0]
[2,70,70,{"$f":"INSERT!A72","v":0},{"$f":"INSERT!B72","v":0},{"$f":"INSERT!C72","v":0},{"$f":"INSERT!D72","v":0},{"$f":"INSERT!E72","v":0},null,null,null,null,null,null,null,null,null,null,null,null,null,null,null,null,0,0,null,null,null,null,null,null,null,null,null,null,null,null,null,null,null,null,0,0,null,null,null,null,null,null,null,null,null,null,null,null,null,null,null,null,0,0,null,null,null,null,null,null,null,null,null,null,null,null,null,null,null,null,0,0,null,null,null,null,null,null,null,null,null,null,null,null,null,null,null,null,0,0,null,null,{"$error":"#DIV/0!"},{"$error":"#DIV/0!"},0]
[2,71,71,{"$f":"INSERT!A73","v":0},{"$f":"INSERT!B73","v":0},{"$f":"INSERT!C73","v":0},{"$f":"INSERT!D73","v":0},{"$f":"INSERT!E73","v":0},null,null,null,null,null,null,null,null,null,null,null,null,null,null,null,null,0,0,null,null,null,null,null,null,null,null,null,null,null,null,null,null,null,null,0,0,null,null,null,null,null,null,null,null,null,null,null,null,null,null,null,null,0,0,null,null,null,null,null,null,null,null,null,null,null,null,null,null,null,null,0,0,null,null,null,null,null,null,null,null,null,null,null,null,null,null,null,null,0,0,null,null,{"$error":"#DIV/0!"},{"$error":"#DIV/0!"},0]
[2,72,72,{"$f":"INSERT!A74","v":0},{"$f":"INSERT!B74","v":0},{"$f":"INSERT!C74","v":0},{"$f":"INSERT!D74","v":0},{"$f":"INSERT!E74","v":0},null,null,null,null,null,null,null,null,null,null,null,null,null,null,null,null,0,0,null,null,null,null,null,null,null,null,null,null,null,null,null,null,null,null,0,0,null,null,null,null,null,null,null,null,null,null,null,null,null,null,null,null,0,0,null,null,null,null,null,null,null,null,null,null,null,null,null,null,null,null,0,0,null,null,null,null,null,null,null,null,null,null,null,null,null,null,null,null,0,0,null,null,{"$error":"#DIV/0!"},{"$error":"#DIV/0!"},0]
[2,73,73,{"$f":"INSERT!A75","v":0},{"$f":"INSERT!B75","v":0},{"$f":"INSERT!C75","v":0},{"$f":"INSERT!D75","v":0},{"$f":"INSERT!E75","v":0},null,null,null,null,null,null,null,null,null,null,null,null,null,null,null,null,0,0,null,null,null,null,null,null,null,null,null,null,null,null,null,null,null,null,0,0,null,null,null,null,null,null,null,null,null,null,null,null,null,null,null,null,0,0,null,null,null,null,null,null,null,null,null,null,null,null,null,null,null,null,0,0,null,null,null,null,null,null,null,null,null,null,null,null,null,null,null,null,0,0,null,null,{"$error":"#DIV/0!"},{"$error":"#DIV/0!"},0]
[2,74,74,{"$f":"INSERT!A76","v":0},{"$f":"INSERT!B76","v":0},{"$f":"INSERT!C76","v":0},{"$f":"INSERT!D76","v":0},{"$f":"INSERT!E76","v":0},null,null,null,null,null,null,null,null,null,null,null,null,null,null,null,null,0,0,null,null,null,null,null,null,null,null,null,null,null,null,null,null,null,null,0,0,null,null,null,null,null,null,null,null,null,null,null,null,null,null,null,null,0,0,null,null,null,null,null,null,null,null,null,null,null,null,null,null,null,null,0,0,null,null,null,null,null,null,null,null,null,null,null,null,null,null,null,null,0,0,null,null,{"$error":"#DIV/0!"},{"$error":"#DIV/0!"},0]
[2,75,75,{"$f":"INSERT!A77","v":0},{"$f":"INSERT!B77","v":0},{"$f":"INSERT!C77","v":0},{"$f":"INSERT!D77","v":0},{"$f":"INSERT!E77","v":0},null,null,null,null,null,null,null,null,null,null,null,null,null,null,null,null,0,0,null,null,null,null,null,null,null,null,null,null,null,null,null,null,null,null,0,0,null,null,null,null,null,null,null,null,null,null,null,null,null,null,null,null,0,0,null,null,null,null,null,null,null,null,null,null,null,null,null,null,null,null,0,0,null,null,null,null,null,null,null,null,null,null,null,null,null,null,null,null,0,0,null,null,{"$error":"#DIV/0!"},{"$error":"#DIV/0!"},0]
[2,76,76,{"$f":"INSERT!A78","v":0},{"$f":"INSERT!B78","v":0},{"$f":"INSERT!C78","v":0},{"$f":"INSERT!D78","v":0},{"$f":"INSERT!E78","v":0},null,null,null,null,null,null,null,null,null,null,null,null,null,null,null,null,0,0,null,null,null,null,null,null,null,null,null,null,null,null,null,null,null,null,0,0,null,null,null,null,null,null,null,null,null,null,null,null,null,null,null,null,0,0,null,null,null,null,null,null,null,null,null,null,null,null,null,null,null,null,0,0,null,null,null,null,null,null,null,null,null,null,null,null,null,null,null,null,0,0,null,null,{"$error":"#DIV/0!"},{"$error":"#DIV/0!"},0]
[2,77,77,{"$f":"INSERT!A79","v":0},{"$f":"INSERT!B79","v":0},{"$f":"INSERT!C79","v":0},{"$f":"INSERT!D79","v":0},{"$f":"INSERT!E79","v":0},null,null,null,null,null,null,null,null,null,null,null,null,null,null,null,null,0,0,null,null,null,null,null,null,null,null,null,null,null,null,null,null,null,null,0,0,null,null,null,null,null,null,null,null,null,null,null,null,null,null,null,null,0,0,null,null,null,null,null,null,null,null,null,null,null,null,null,null,null,null,0,0,null,null,null,null,null,null,null,null,null,null,null,null,null,null,null,null,0,0,null,null,{"$error":"#DIV/0!"},{"$error":"#DIV/0!"},0]
[2,78,78,{"$f":"INSERT!A80","v":0},{"$f":"INSERT!B80","v":0},{"$f":"INSERT!C80","v":0},{"$f":"INSERT!D80","v":0},{"$f":"INSERT!E80","v":0},null,null,null,null,null,null,null,null,null,null,null,null,null,null,null,null,0,0,null,null,null,null,null,null,null,null,null,null,null,null,null,null,null,null,0,0,null,null,null,null,null,null,null,null,null,null,null,null,null,null,null,null,0,0,null,null,null,null,null,null,null,null,null,null,null,null,null,null,null,null,0,0,null,null,null,null,null,null,null,null,null,null,null,null,null,null,null,null,0,0,null,null,{"$error":"#DIV/0!"},{"$error":"#DIV/0!"},0]
[2,79,79,{"$f":"INSERT!A81","v":0},{"$f":"INSERT!B81","v":0},{"$f":"INSERT!C81","v":0},{"$f":"INSERT!D81","v":0},{"$f":"INSERT!E81","v":0},null,null,null,null,null,null,null,null,null,null,null,null,null,null,null,null,0,0,null,null,null,null,null,null,null,null,null,null,null,null,null,null,null,null,0,0,null,null,null,null,null,null,null,null,null,null,null,null,null,null,null,null,0,0,null,null,null,null,null,null,null,null,null,null,null,null,null,null,null,null,0,0,null,null,null,null,null,null,null,null,null,null,null,null,null,null,null,null,0,0,null,null,{"$error":"#DIV/0!"},{"$error":"#DIV/0!"},0]
[2,80,80,{"$f":"INSERT!A82","v":0},{"$f":"INSERT!B82","v":0},{"$f":"INSERT!C82","v":0},{"$f":"INSERT!D82","v":0},{"$f":"INSERT!E82","v":0},null,null,null,null,null,null,null,null,null,null,null,null,null,null,null,null,0,0,null,null,null,null,null,null,null,null,null,null,null,null,null,null,null,null,0,0,null,null,null,null,null,null,null,null,null,null,null,null,null,null,null,null,0,0,null,null,null,null,null,null,null,null,null,null,null,null,null,null,null,null,0,0,null,null,null,null,null,null,null,null,null,null,null,null,null,null,null,null,0,0,null,null,{"$error":"#DIV/0!"},{"$error":"#DIV/0!"},0]
[2,81,81,{"$f":"INSERT!A83","v":0},{"$f":"INSERT!B83","v":0},{"$f":"INSERT!C83","v":0},{"$f":"INSERT!D83","v":0},{"$f":"INSERT!E83","v":0},null,null,null,null,null,null,null,null,null,null,null,null,null,null,null,null,0,0,null,null,null,null,null,null,null,null,null,null,null,null,null,null,null,null,0,0,null,null,null,null,null,null,null,null,null,null,null,null,null,null,null,null,0,0,null,null,null,null,null,null,null,null,null,null,null,null,null,null,null,null,0,0,null,null,null,null,null,null,null,null,null,null,null,null,null,null,null,null,0,0,null,null,{"$error":"#DIV/0!"},{"$error":"#DIV/0!"},0]
[2,82,82,{"$f":"INSERT!A84","v":0},{"$f":"INSERT!B84","v":0},{"$f":"INSERT!C84","v":0},{"$f":"INSERT!D84","v":0},{"$f":"INSERT!E84","v":0},null,null,null,null,null,null,null,null,null,null,null,null,null,null,null,null,0,0,null,null,null,null,null,null,null,null,null,null,null,null,null,null,null,null,0,0,null,null,null,null,null,null,null,null,null,null,null,null,null,null,null,null,0,0,null,null,null,null,null,null,null,null,null,null,null,null,null,null,null,null,0,0,null,null,null,null,null,null,null,null,null,null,null,null,null,null,null,null,0,0,null,null,{"$error":"#DIV/0!"},{"$error":"#DIV/0!"},0]
[2,83,83,{"$f":"INSERT!A85","v":0},{"$f":"INSERT!B85","v":0},{"$f":"INSERT!C85","v":0},{"$f":"INSERT!D85","v":0},{"$f":"INSERT!E85","v":0},null,null,null,null,null,null,null,null,null,null,null,null,null,null,null,null,0,0,null,null,null,null,null,null,null,null,null,null,null,null,null,null,null,null,0,0,null,null,null,null,null,null,null,null,null,null,null,null,null,null,null,null,0,0,null,null,null,null,null,null,null,null,null,null,null,null,null,null,null,null,0,0,null,null,null,null,null,null,null,null,null,null,null,null,null,null,null,null,0,0,null,null,{"$error":"#DIV/0!"},{"$error":"#DIV/0!"},0]
[2,84,84,{"$f":"INSERT!A86","v":0},{"$f":"INSERT!B86","v":0},{"$f":"INSERT!C86","v":0},{"$f":"INSERT!D86","v":0},{"$f":"INSERT!E86","v":0},null,null,null,null,null,null,null,null,null,null,null,null,null,null,null,null,0,0,null,null,null,null,null,null,null,null,null,null,null,null,null,null,null,null,0,0,null,null,null,null,null,null,null,null,null,null,null,null,null,null,null,null,0,0,null,null,null,null,null,null,null,null,null,null,null,null,null,null,null,null,0,0,null,null,null,null,null,null,null,null,null,null,null,null,null,null,null,null,0,0,null,null,{"$error":"#DIV/0!"},{"$error":"#DIV/0!"},0]
[2,85,85,{"$f":"INSERT!A87","v":0},{"$f":"INSERT!B87","v":0},{"$f":"INSERT!C87","v":0},{"$f":"INSERT!D87","v":0},{"$f":"INSERT!E87","v":0},null,null,null,null,null,null,null,null,null,null,null,null,null,null,null,null,0,0,null,null,null,null,null,null,null,null,null,null,null,null,null,null,null,null,0,0,null,null,null,null,null,null,null,null,null,null,null,null,null,null,null,null,0,0,null,null,null,null,null,null,null,null,null,null,null,null,null,null,null,null,0,0,null,null,null,null,null,null,null,null,null,null,null,null,null,null,null,null,0,0,null,null,{"$error":"#DIV/0!"},{"$error":"#DIV/0!"},0]
[2,86,86,{"$f":"INSERT!A88","v":0},{"$f":"INSERT!B88","v":0},{"$f":"INSERT!C88","v":0},{"$f":"INSERT!D88","v":0},{"$f":"INSERT!E88","v":0},null,null,null,null,null,null,null,null,null,null,null,null,null,null,null,null,0,0,null,null,null,null,null,null,null,null,null,null,null,null,null,null,null,null,0,0,null,null,null,null,null,null,null,null,null,null,null,null,null,null,null,null,0,0,null,null,null,null,null,null,null,null,null,null,null,null,null,null,null,null,0,0,null,null,null,null,null,null,null,null,null,null,null,null,null,null,null,null,0,0,null,null,{"$error":"#DIV/0!"},{"$error":"#DIV/0!"},0]
[2,87,87,{"$f":"INSERT!A89","v":0},{"$f":"INSERT!B89","v":0},{"$f":"INSERT!C89","v":0},{"$f":"INSERT!D89","v":0},{"$f":"INSERT!E89","v":0},null,null,null,null,null,null,null,null,null,null,null,null,null,null,null,null,0,0,null,null,null,null,null,null,null,null,null,null,null,null,null,null,null,null,0,0,null,null,null,null,null,null,null,null,null,null,null,null,null,null,null,null,0,0,null,null,null,null,null,null,null,null,null,null,null,null,null,null,null,null,0,0,null,null,null,null,null,null,null,null,null,null,null,null,null,null,null,null,0,0,null,null,{"$error":"#DIV/0!"},{"$error":"#DIV/0!"},0]
[2,88,88,{"$f":"INSERT!A90","v":0},{"$f":"INSERT!B90","v":0},{"$f":"INSERT!C90","v":0},{"$f":"INSERT!D90","v":0},{"$f":"INSERT!E90","v":0},null,null,null,null,null,null,null,null,null,null,null,null,null,null,null,null,0,0,null,null,null,null,null,null,null,null,null,null,null,null,null,null,null,null,0,0,null,null,null,null,null,null,null,null,null,null,null,null,null,null,null,null,0,0,null,null,null,null,null,null,null,null,null,null,null,null,null,null,null,null,0,0,null,null,null,null,null,null,null,null,null,null,null,null,null,null,null,null,0,0,null,null,{"$error":"#DIV/0!"},{"$error":"#DIV/0!"},0]
[2,89,89,{"$f":"INSERT!A91","v":0},{"$f":"INSERT!B91","v":0},{"$f":"INSERT!C91","v":0},{"$f":"INSERT!D91","v":0},{"$f":"INSERT!E91","v":0},null,null,null,null,null,null,null,null,null,null,null,null,null,null,null,null,0,0,null,null,null,null,null,null,null,null,null,null,null,null,null,null,null,null,0,0,null,null,null,null,null,null,null,null,null,null,null,null,null,null,null,null,0,0,null,null,null,null,null,null,null,null,null,null,null,null,null,null,null,null,0,0,null,null,null,null,null,null,null,null,null,null,null,null,null,null,null,null,0,0,null,null,{"$error":"#DIV/0!"},{"$error":"#DIV/0!"},0]
[2,90,90,{"$f":"INSERT!A92","v":0},{"$f":"INSERT!B92","v":0},{"$f":"INSERT!C92","v":0},{"$f":"INSERT!D92","v":0},{"$f":"INSERT!E92","v":0},null,null,null,null,null,null,null,null,null,null,null,null,null,null,null,null,0,0,null,null,null,null,null,null,null,null,null,null,null,null,null,null,null,null,0,0,null,null,null,null,null,null,null,null,null,null,null,null,null,null,null,null,0,0,null,null,null,null,null,null,null,null,null,null,null,null,null,null,null,null,0,0,null,null,null,null,null,null,null,null,null,null,null,null,null,null,null,null,0,0,null,null,{"$error":"#DIV/0!"},{"$error":"#DIV/0!"},0]
[2,91,91,{"$f":"INSERT!A93","v":0},{"$f":"INSERT!B93","v":0},{"$f":"INSERT!C93","v":0},{"$f":"INSERT!D93","v":0},{"$f":"INSERT!E93","v":0},null,null,null,null,null,null,null,null,null,null,null,null,null,null,null,null,0,0,null,null,null,null,null,null,null,null,null,null,null,null,null,null,null,null,0,0,null,null,null,null,null,null,null,null,null,null,null,null,null,null,null,null,0,0,null,null,null,null,null,null,null,null,null,null,null,null,null,null,null,null,0,0,null,null,null,null,null,null,null,null,null,null,null,null,null,null,null,null,0,0,null,null,{"$error":"#DIV/0!"},{"$error":"#DIV/0!"},0]
[2,92,92,{"$f":"INSERT!A94","v":0},{"$f":"INSERT!B94","v":0},{"$f":"INSERT!C94","v":0},{"$f":"INSERT!D94","v":0},{"$f":"INSERT!E94","v":0},null,null,null,null,null,null,null,null,null,null,null,null,null,null,null,null,0,0,null,null,null,null,null,null,null,null,null,null,null,null,null,null,null,null,0,0,null,null,null,null,null,null,null,null,null,null,null,null,null,null,null,null,0,0,null,null,null,null,null,null,null,null,null,null,null,null,null,null,null,null,0,0,null,null,null,null,null,null,null,null,null,null,null,null,null,null,null,null,0,0,null,null,{"$error":"#DIV/0!"},{"$error":"#DIV/0!"},0]
[2,93,93,{"$f":"INSERT!A95","v":0},{"$f":"INSERT!B95","v":0},{"$f":"INSERT!C95","v":0},{"$f":"INSERT!D95","v":0},{"$f":"INSERT!E95","v":0},null,null,null,null,null,null,null,null,null,null,null,null,null,null,null,null,0,0,null,null,null,null,null,null,null,null,null,null,null,null,null,null,null,null,0,0,null,null,null,null,null,null,null,null,null,null,null,null,null,null,null,null,0,0,null,null,null,null,null,null,null,null,null,null,null,null,null,null,null,null,0,0,null,null,null,null,null,null,null,null,null,null,null,null,null,null,null,null,0,0,null,null,{"$error":"#DIV/0!"},{"$error":"#DIV/0!"},0]
[2,94,94,{"$f":"INSERT!A96","v":0},{"$f":"INSERT!B96","v":0},{"$f":"INSERT!C96","v":0},{"$f":"INSERT!D96","v":0},{"$f":"INSERT!E96","v":0},null,null,null,null,null,null,null,null,null,null,null,null,null,null,null,null,0,0,null,null,null,null,null,null,null,null,null,null,null,null,null,null,null,null,0,0,null,null,null,null,null,null,null,null,null,null,null,null,null,null,null,null,0,0,null,null,null,null,null,null,null,null,null,null,null,null,null,null,null,null,0,0,null,null,null,null,null,null,null,null,null,null,null,null,null,null,null,null,0,0,null,null,{"$error":"#DIV/0!"},{"$error":"#DIV/0!"},0]
[2,95,95,{"$f":"INSERT!A97","v":0},{"$f":"INSERT!B97","v":0},{"$f":"INSERT!C97","v":0},{"$f":"INSERT!D97","v":0},{"$f":"INSERT!E97","v":0},null,null,null,null,null,null,null,null,null,null,null,null,null,null,null,null,0,0,null,null,null,null,null,null,null,null,null,null,null,null,null,null,null,null,0,0,null,null,null,null,null,null,null,null,null,null,null,null,null,null,null,null,0,0,null,null,null,null,null,null,null,null,null,null,null,null,null,null,null,null,0,0,null,null,null,null,null,null,null,null,null,null,null,null,null,null,null,null,0,0,null,null,{"$error":"#DIV/0!"},{"$error":"#DIV/0!"},0]
[2,96,96,{"$f":"INSERT!A98","v":0},{"$f":"INSERT!B98","v":0},{"$f":"INSERT!C98","v":0},{"$f":"INSERT!D98","v":0},{"$f":"INSERT!E98","v":0},null,null,null,null,null,null,null,null,null,null,null,null,null,null,null,null,0,0,null,null,null,null,null,null,null,null,null,null,null,null,null,null,null,null,0,0,null,null,null,null,null,null,null,null,null,null,null,null,null,null,null,null,0,0,null,null,null,null,null,null,null,null,null,null,null,null,null,null,null,null,0,0,null,null,null,null,null,null,null,null,null,null,null,null,null,null,null,null,0,0,null,null,{"$error":"#DIV/0!"},{"$error":"#DIV/0!"},0]
[2,97,97,{"$f":"INSERT!A99","v":0},{"$f":"INSERT!B99","v":0},{"$f":"INSERT!C99","v":0},{"$f":"INSERT!D99","v":0},{"$f":"INSERT!E99","v":0},null,null,null,null,null,null,null,null,null,null,null,null,null,null,null,null,{"$f":"SUM(I112:X112)","v":0},{"$f":"ROUND((SUM(Y112*$Y$13)/10),0)","v":0},null,null,null,null,null,null,null,null,null,null,null,null,null,null,null,null,{"$f":"SUM(AA112:AP112)","v":0},{"$f":"ROUND((SUM(AQ112*$AQ$13)/10),0)","v":0},null,null,null,null,null,null,null,null,null,null,null,null,null,null,null,null,{"$f":"SUM(AS112:BH112)","v":0},{"$f":"ROUND((SUM(BI112*$BI$13)/10),0)","v":0},null,null,null,null,null,null,null,null,null,null,null,null,null,null,null,null,{"$f":"SUM(BK112:BZ112)","v":0},{"$f":"ROUND((SUM(CA112*$CA$13)/10),0)","v":0},null,null,null,null,null,null,null,null,null,null,null,null,null,null,null,null,{"$f":"SUM(CC112:CR112)","v":0},{"$f":"ROUND((SUM(CS112*$CS$13)/10),0)","v":0},null,null,{"$error":"#DIV/0!"},{"$error":"#DIV/0!"},{"$f":"ROUND(IF($CX$13=1,CW112,IF($CX$13=2,(CX112+CW112)/2)),0)","v":0}]
[2,98,98,{"$f":"INSERT!A100","v":0},{"$f":"INSERT!B100","v":0},{"$f":"INSERT!C100","v":0},{"$f":"INSERT!D100","v":0},{"$f":"INSERT!E100","v":0},null,null,null,null,null,null,null,null,null,null,null,null,null,null,null,null,0,0,null,null,null,null,null,null,null,null,null,null,null,null,null,null,null,null,0,0,null,null,null,null,null,null,null,null,null,null,null,null,null,null,null,null,0,0,null,null,null,null,null,null,null,null,null,null,null,null,null,null,null,null,0,0,null,null,null,null,null,null,null,null,null,null,null,null,null,null,null,null,0,0,null,null,{"$error":"#DIV/0!"},{"$error":"#DIV/0!"},0]
[2,99,99,{"$f":"INSERT!A101","v":0},{"$f":"INSERT!B101","v":0},{"$f":"INSERT!C101","v":0},{"$f":"INSERT!D101","v":0},{"$f":"INSERT!E101","v":0},null,null,null,null,null,null,null,null,null,null,null,null,null,null,null,null,0,0,null,null,null,null,null,null,null,null,null,null,null,null,null,null,null,null,0,0,null,null,null,null,null,null,null,null,null,null,null,null,null,null,null,null,0,0,null,null,null,null,null,null,null,null,null,null,null,null,null,null,null,null,0,0,null,null,null,null,null,null,null,null,null,null,null,null,null,null,null,null,0,0,null,null,{"$error":"#DIV/0!"},{"$error":"#DIV/0!"},0]
[2,100,100,{"$f":"INSERT!A102","v":0},{"$f":"INSERT!B102","v":0},{"$f":"INSERT!C102","v":0},{"$f":"INSERT!D102","v":0},{"$f":"INSERT!E102","v":0},null,null,null,null,null,null,null,null,null,null,null,null,null,null,null,null,0,0,null,null,null,null,null,null,null,null,null,null,null,null,null,null,null,null,0,0,null,null,null,null,null,null,null,null,null,null,null,null,null,null,null,null,0,0,null,null,null,null,null,null,null,null,null,null,null,null,null,null,null,null,0,0,null,null,null,null,null,null,null,null,null,null,null,null,null,null,null,null,0,0,null,null,{"$error":"#DIV/0!"},{"$error":"#DIV/0!"},0]
[null,"Total amount of learners on mark sheet",null,null,null,0,"TOTAL",null,{"$f":"SUM(I16:I115)","v":0},{"$f":"SUM(J16:J115)","v":0},0,0,{"$f":"SUM(M16:M115)","v":0},0,0,0,0,0,0,0,0,0,0,0,0,0,0,0,{"$f":"SUM(AC16:AC115)","v":0},0,0,0,0,0,0,0,0,0,0,0,0,0,0,0,0,{"$f":"SUM(AT16:AT115)","v":0},0,0,0,0,0,0,0,0,0,0,0,0,0,0,0,0,0,{"$f":"SUM(BL16:BL115)","v":0},0,0,0,0,0,0,0,0,0,0,0,0,0,0,0,0,{"$f":"SUM(CC16:CC115)","v":0},0,0,0,0,0,0,0,0,0,0,0,0,0,0,0,0,0,0,{"$f":"SUM(CV16:CV115)","v":0},{"$f":"SUM(CW16:CW115)","v":{"$error":"#DIV/0!"}},{"$f":"SUM(CX16:CX115)","v":{"$error":"#DIV/0!"}},{"$f":"SUM(CY16:CY115)","v":0}]
[null,null,null,null,null,0,"AVERAGE",null,{"$f":"IFERROR(SUM(I116/$B$120),\"0\")","v":"0"},{"$f":"IFERROR(SUM(J116/$B$120),\"0\")","v":"0"},"0","0",{"$f":"IFERROR(SUM(M116/$B$120),\"0\")","v":"0"},"0","0","0","0","0","0","0","0","0","0","0","0","0","0","0",{"$f":"IFERROR(SUM(AC116/$B$120),\"0\")","v":"0"},"0","0","0","0","0","0","0","0","0","0","0","0","0","0","0","0",{"$f":"IFERROR(SUM(AT116/$B$120),\"0\")","v":"0"},"0","0","0","0","0","0","0","0","0","0","0","0","0","0","0","0","0",{"$f":"IFERROR(SUM(BL116/$B$120),\"0\")","v":"0"},"0","0","0","0","0","0","0","0","0","0","0","0","0","0","0","0",{"$f":"IFERROR(SUM(CC116/$B$120),\"0\")","v":"0"},"0","0","0","0","0","0","0","0","0","0","0","0","0","0","0","0","0","0",{"$f":"IFERROR(SUM(CV116/$B$120),\"0\")","v":"0"},{"$f":"SUM(CW116/$B$120)","v":{"$error":"#DIV/0!"}},{"$f":"IFERROR(SUM(CX116/$B$120),\"0\")","v":"0"},{"$f":"IFERROR(SUM(CY116/$B$120),\"0\")","v":"0"}]
[null,null,null,null,null,0,"PERCENTAGE",null,{"$f":"IFERROR(ROUND((SUM(I117/I12)*100),0),\"0\")","v":0},{"$f":"IFERROR(ROUND((SUM(J117/J12)*100),0),\"0\")","v":"0"},"0","0",{"$f":"IFERROR(ROUND((SUM(M117/M12)*100),0),\"0\")","v":"0"},"0","0","0","0","0","0","0","0","0","0","0",0,0,0,"0",{"$f":"IFERROR(ROUND((SUM(AC117/AC12)*100),0),\"0\")","v":"0"},"0","0","0","0","0","0","0","0","0","0","0","0","0",0,0,0,{"$f":"IFERROR(ROUND((SUM(AT117/AT12)*100),0),\"0\")","v":"0"},"0","0","0","0","0","0","0","0","0","0","0","0","0","0",0,0,0,{"$f":"IFERROR(ROUND((SUM(BL117/BL12)*100),0),\"0\")","v":"0"},"0","0","0","0","0","0","0","0","0","0","0","0","0","0",0,0,{"$f":"IFERROR(ROUND((SUM(CC117/CC12)*100),0),\"0\")","v":0},"0","0","0","0","0","0","0","0","0","0","0","0","0","0","0",0,0,"0","0",{"$f":"IFERROR(ROUND((SUM(CW117/CW12)*100),0),\"0\")","v":"0"},{"$f":"IFERROR(ROUND((SUM(CX117/CX12)*100),0),\"0\")","v":"0"},0]
[null,null,null,null,null,0,0]
[null,{"$f":"INSERT!$E$103","v":0},null,null,null,0,"TOTAL HANDED IN",null,{"$f":"COUNT(I16:I115)","v":0},{"$f":"COUNT(J16:J115)","v":0},0,0,{"$f":"COUNT(M16:M115)","v":0},0,0,0,0,0,0,0,0,0,{"$f":"COUNT(W16:W115)","v":0},{"$f":"COUNT(X16:X115)","v":0},null,null,{"$f":"COUNT(AA16:AA115)","v":0},{"$f":"COUNT(AB16:AB115)","v":0},{"$f":"COUNT(AC16:AC115)","v":0},0,0,0,0,0,0,0,0,0,0,0,0,{"$f":"COUNT(AP16:AP115)","v":0},null,null,{"$f":"COUNT(AS16:AS115)","v":0},{"$f":"COUNT(AT16:AT115)","v":0},0,0,0,0,0,0,0,0,0,0,0,0,0,{"$f":"COUNT(BH16:BH115)","v":0},null,null,{"$f":"COUNT(BK16:BK115)","v":0},{"$f":"COUNT(BL16:BL115)","v":0},0,0,0,0,0,0,0,0,0,0,0,0,{"$f":"COUNT(BY16:BY115)","v":0},{"$f":"COUNT(BZ16:BZ115)","v":0},null,null,{"$f":"COUNT(CC16:CC115)","v":0},{"$f":"COUNT(CD16:CD115)","v":0},0,0,0,0,0,0,0,0,0,0,0,0,0,0,null,null,0,0,{"$f":"COUNT(CW16:CW115)","v":0},0]

{"sheet":"TERM4","index":6,"n_rows":123,"n_cols":44,"rows_kept":123,"cut":false,"hidden":false,"merged":[[121,26,121,28],[121,34,121,35],[121,32,121,33],[121,30,121,31],[4,30,10,30],[4,26,10,26],[4,28,10,28],[122,26,122,28],[122,30,122,31],[122,32,122,33],[122,34,122,35],[122,42,122,43],[121,42,121,43],[121,38,121,39],[122,38,122,39],[121,36,121,37],[122,36,122,37],[121,40,121,41],[122,40,122,41],[119,1,119,4],[119,26,119,43],[120,26,120,28],[120,30,120,31],[120,32,120,33],[120,34,120,35],[119,6,119,7],[120,36,120,37],[120,38,120,39],[120,42,120,43],[120,40,120,41],[9,1,9,4],[9,5,9,6],[4,8,9,8],[115,1,118,4],[10,1,10,4],[10,5,10,6],[115,6,115,7],[116,6,116,7],[117,6,117,7],[4,9,9,9],[4,23,9,23],[4,10,9,10],[4,11,9,11],[4,12,9,12],[4,13,9,13],[4,14,9,14],[4,15,9,15],[4,16,9,16],[4,17,9,17],[4,18,9,18],[4,19,9,19],[4,20,9,20],[4,21,9,21],[4,22,9,22],[1,1,1,43],[3,8,3,25],[3,26,3,31],[4,40,10,40],[4,33,10,33],[4,32,10,32],[4,41,10,41],[4,43,10,43],[4,31,10,31],[4,37,10,37],[4,38,10,38],[4,39,10,39],[4,24,10,24],[4,25,10,25],[4,35,10,35],[4,34,10,34]]}
[]
[null,"ENGINEERING GRAPHICS AND DESIGN"]
[null,null,null,null,null,null,null,null,"PROGRAM OF ASSESSMENT  :  TERM 4",null,null,null,null,null,null,null,null,null,null,null,null,null,null,null,null,null,null,null,null,null,null,null,"NOV EXAM",null,null,null,null,null,"NOV EXAM"]
[null,null,null,null,null,null,null,null,"CD13 Loci: Cam",null,null,null,null,null,null,null,null,null,null,null,null,null,null,null,null,null,"NOV EXAM",null,null,null,null,null,"PAPER 1",null,null,null,null,null,"PAPER 2"]
[17,null,null,null,"School:",{"$f":"INSERT!J3","v":0},null,null,"CD 13.1","CD 13.2","CD 13.3",null,null,null,null,null,null,null,null,null,null,null,null,null,"TOTAL CD13","TOTAL","PAPER 1",null,"PAPER 2",null,"EXAM TOTAL","LEVELS","Question 1","Question 2","Question 3","Question 4",null,"TOTAL","Question 1","Question 2","Question 3","Question 4",null,"TOTAL"]
[null,null,null,null,"Grade:",{"$f":"INSERT!J4","v":0}]
[null,null,null,null,"Teacher:",{"$f":"INSERT!J5","v":0}]
[null,null,null,null,"HOD:",{"$f":"INSERT!J6","v":0}]
[null,null,null,null,"EGD SES:",{"$f":"INSERT!J7","v":0},{"$f":"INSERT!K7","v":0},{"$f":"INSERT!L7","v":0}]
[]
[null,null,null,null,null,null,null,null,13.1,13.2,13.3,13.4,13.5,13.6,13.7,13.8,13.9,13.1,13.11,13.12,13.13,13.14,13.15,13.16]
[null,"Nr.",null,"Class","Admission","SURNAME","NAME","GENDER",null,null,null,null,null,null,null,null,null,null,null,null,null,null,null,null,{"$f":"SUM(I12:X12)","v":0},10,{"$f":"$AL$12/2","v":100},null,{"$f":"$AR$12/2","v":99.999999999999986},null,100,null,30,40,50,80,{"$f":"SUBTOTAL(9,AG12:AJ12)","v":200},{"$f":"SUM(AK13*AK12)*2","v":200},30,40,45,80,{"$f":"SUBTOTAL(9,AM12:AP12)","v":195},{"$f":"IFERROR((SUM(AQ13*AQ12)*2),\"0\")","v":199.99999999999997}]
[null,null,null,null,null,null,null,null,{"$f":"IF(I12>0,\"\",\"X\")","v":"X"},"X","X","X","X","X","X","X","X","X","X","X","X","X","X","X",{"$f":"IFERROR(SUM(100/Y12),\"0\")","v":"0"},null,{"$f":"IFERROR((SUM(100/AA12)*0.5),\"0\")","v":0.5},null,{"$f":"IFERROR((SUM(100/AC12)*0.5),\"0\")","v":0.50000000000000011},{"$f":"COUNT(AG12)+COUNT(AM12)","v":2},null,null,null,null,null,null,{"$f":"IFERROR(SUM(100/AK12),\"0\")","v":0.5},{"$f":"SUM(AG13:AJ13)","v":0},null,null,null,null,{"$f":"IFERROR(SUM(100/AQ12),\"0\")","v":0.51282051282051277},{"$f":"SUM(AM13:AP13)","v":0}]
[null,null,null,null,null,null,null,"DATE:"]
[]
[{"$f":"SUM(COUNTA(F16)+COUNT(B16))","v":2},1,3,{"$f":"INSERT!A3","v":0},{"$f":"INSERT!B3","v":0},{"$f":"INSERT!C3","v":0},{"$f":"INSERT!D3","v":0},{"$f":"INSERT!E3","v":0},null,null,null,null,null,null,null,null,null,null,null,null,null,null,null,null,{"$f":"SUM(I16:X16)","v":0},{"$f":"ROUND((SUM(Y16*$Y$13)/10),0)","v":0},{"$f":"ROUND((AL16/2),0)","v":0},{"$f":"SUM(AA16*$AA$13)","v":0},{"$f":"ROUND((AR16/2),0)","v":0},{"$f":"SUM(AC16*$AC$13)","v":0},{"$f":"ROUND(IF($AD$13=1,AA16,IF($AD$13=2,SUM(AA16+AC16)/2)),0)","v":0},{"$f":"IF(AE16>79.4,\"7\",IF(AE16>69.4,\"6\",IF(AE16>59.4,\"5\",IF(AE16>49.4,\"4\",IF(AE16>39.4,\"3\",IF(AE16>29.4,\"2\",IF(AE16>0,\"1\",IF(AE16=0,\"\"))))))))","v":""},null,null,null,null,{"$f":"SUM(AG16:AJ16)","v":0},{"$f":"ROUND((SUM(AK16*$AK$13)*2),0)","v":0},null,null,null,null,{"$f":"SUM(AM16:AP16)","v":0},{"$f":"ROUND((SUM(AQ16*$AQ$13)*2),0)","v":0}]
[null,{"$f":"B16+1","v":2},36,{"$f":"INSERT!A4","v":0},{"$f":"INSERT!B4","v":0},{"$f":"INSERT!C4","v":0},{"$f":"INSERT!D4","v":0},{"$f":"INSERT!E4","v":0},null,null,null,null,null,null,null,null,null,null,null,null,null,null,null,null,{"$f":"SUM(I17:X17)","v":0},{"$f":"ROUND((SUM(Y17*$Y$13)/10),0)","v":0},0,0,0,0,0,"",null,null,null,null,0,0,null,null,null,null,0,0]
[null,3,2,{"$f":"INSERT!A5","v":0},{"$f":"INSERT!B5","v":0},{"$f":"INSERT!C5","v":0},{"$f":"INSERT!D5","v":0},{"$f":"INSERT!E5","v":0},null,null,null,null,null,null,null,null,null,null,null,null,null,null,null,null,0,0,0,0,0,0,0,"",null,null,null,null,0,0,null,null,null,null,0,0]
[null,4,1,{"$f":"INSERT!A6","v":0},{"$f":"INSERT!B6","v":0},{"$f":"INSERT!C6","v":0},{"$f":"INSERT!D6","v":0},{"$f":"INSERT!E6","v":0},null,null,null,null,null,null,null,null,null,null,null,null,null,null,null,null,0,0,0,0,0,0,0,"",null,null,null,null,0,0,null,null,null,null,0,0]
[null,5,4,{"$f":"INSERT!A7","v":0},{"$f":"INSERT!B7","v":0},{"$f":"INSERT!C7","v":0},{"$f":"INSERT!D7","v":0},{"$f":"INSERT!E7","v":0},null,null,null,null,null,null,null,null,null,null,null,null,null,null,null,null,0,0,0,0,0,0,0,"",null,null,null,null,0,0,null,null,null,null,0,0]
[null,6,5,{"$f":"INSERT!A8","v":0},{"$f":"INSERT!B8","v":0},{"$f":"INSERT!C8","v":0},{"$f":"INSERT!D8","v":0},{"$f":"INSERT!E8","v":0},null,null,null,null,null,null,null,null,null,null,null,null,null,null,null,null,0,0,0,0,0,0,0,"",null,null,null,null,0,0,null,null,null,null,0,0]
[null,7,6,{"$f":"INSERT!A9","v":0},{"$f":"INSERT!B9","v":0},{"$f":"INSERT!C9","v":0},{"$f":"INSERT!D9","v":0},{"$f":"INSERT!E9","v":0},null,null,null,null,null,null,null,null,null,null,null,null,null,null,null,null,0,0,0,0,0,0,0,"",null,null,null,null,0,0,null,null,null,null,0,0]
[null,8,7,{"$f":"INSERT!A10","v":0},{"$f":"INSERT!B10","v":0},{"$f":"INSERT!C10","v":0},{"$f":"INSERT!D10","v":0},{"$f":"INSERT!E10","v":0},null,null,null,null,null,null,null,null,null,null,null,null,null,null,null,null,0,0,0,0,0,0,0,"",null,null,null,null,0,0,null,null,null,null,0,0]
[null,9,8,{"$f":"INSERT!A11","v":0},{"$f":"INSERT!B11","v":0},{"$f":"INSERT!C11","v":0},{"$f":"INSERT!D11","v":0},{"$f":"INSERT!E11","v":0},null,null,null,null,null,null,null,null,null,null,null,null,null,null,null,null,0,0,0,0,0,0,0,"",null,null,null,null,0,0,null,null,null,null,0,0]
[null,10,9,{"$f":"INSERT!A12","v":0},{"$f":"INSERT!B12","v":0},{"$f":"INSERT!C12","v":0},{"$f":"INSERT!D12","v":0},{"$f":"INSERT!E12","v":0},null,null,null,null,null,null,null,null,null,null,null,null,null,null,null,null,0,0,0,0,0,0,0,"",null,null,null,null,0,0,null,null,null,null,0,0]
[null,11,11,{"$f":"INSERT!A13","v":0},{"$f":"INSERT!B13","v":0},{"$f":"INSERT!C13","v":0},{"$f":"INSERT!D13","v":0},{"$f":"INSERT!E13","v":0},null,null,null,null,null,null,null,null,null,null,null,null,null,null,null,null,0,0,0,0,0,0,0,"",null,null,null,null,0,0,null,null,null,null,0,0]
[null,12,12,{"$f":"INSERT!A14","v":0},{"$f":"INSERT!B14","v":0},{"$f":"INSERT!C14","v":0},{"$f":"INSERT!D14","v":0},{"$f":"INSERT!E14","v":0},null,null,null,null,null,null,null,null,null,null,null,null,null,null,null,null,0,0,0,0,0,0,0,"",null,null,null,null,0,0,null,null,null,null,0,0]
[null,13,13,{"$f":"INSERT!A15","v":0},{"$f":"INSERT!B15","v":0},{"$f":"INSERT!C15","v":0},{"$f":"INSERT!D15","v":0},{"$f":"INSERT!E15","v":0},null,null,null,null,null,null,null,null,null,null,null,null,null,null,null,null,0,0,0,0,0,0,0,"",null,null,null,null,0,0,null,null,null,null,0,0]
[null,14,14,{"$f":"INSERT!A16","v":0},{"$f":"INSERT!B16","v":0},{"$f":"INSERT!C16","v":0},{"$f":"INSERT!D16","v":0},{"$f":"INSERT!E16","v":0},null,null,null,null,null,null,null,null,null,null,null,null,null,null,null,null,0,0,0,0,0,0,0,"",null,null,null,null,0,0,null,null,null,null,0,0]
[null,15,15,{"$f":"INSERT!A17","v":0},{"$f":"INSERT!B17","v":0},{"$f":"INSERT!C17","v":0},{"$f":"INSERT!D17","v":0},{"$f":"INSERT!E17","v":0},null,null,null,null,null,null,null,null,null,null,null,null,null,null,null,null,0,0,0,0,0,0,0,"",null,null,null,null,0,0,null,null,null,null,0,0]
[null,16,16,{"$f":"INSERT!A18","v":0},{"$f":"INSERT!B18","v":0},{"$f":"INSERT!C18","v":0},{"$f":"INSERT!D18","v":0},{"$f":"INSERT!E18","v":0},null,null,null,null,null,null,null,null,null,null,null,null,null,null,null,null,0,0,0,0,0,0,0,"",null,null,null,null,0,0,null,null,null,null,0,0]
[null,17,17,{"$f":"INSERT!A19","v":0},{"$f":"INSERT!B19","v":0},{"$f":"INSERT!C19","v":0},{"$f":"INSERT!D19","v":0},{"$f":"INSERT!E19","v":0},null,null,null,null,null,null,null,null,null,null,null,null,null,null,null,null,0,0,0,0,0,0,0,"",null,null,null,null,0,0,null,null,null,null,0,0]
[null,18,18,{"$f":"INSERT!A20","v":0},{"$f":"INSERT!B20","v":0},{"$f":"INSERT!C20","v":0},{"$f":"INSERT!D20","v":0},{"$f":"INSERT!E20","v":0},null,null,null,null,null,null,null,null,null,null,null,null,null,null,null,null,0,0,0,0,0,0,0,"",null,null,null,null,0,0,null,null,null,null,0,0]
[null,19,19,{"$f":"INSERT!A21","v":0},{"$f":"INSERT!B21","v":0},{"$f":"INSERT!C21","v":0},{"$f":"INSERT!D21","v":0},{"$f":"INSERT!E21","v":0},null,null,null,null,null,null,null,null,null,null,null,null,null,null,null,null,0,0,0,0,0,0,0,"",null,null,null,null,0,0,null,null,null,null,0,0]
[null,20,20,{"$f":"INSERT!A22","v":0},{"$f":"INSERT!B22","v":0},{"$f":"INSERT!C22","v":0},{"$f":"INSERT!D22","v":0},{"$f":"INSERT!E22","v":0},null,null,null,null,null,null,null,null,null,null,null,null,null,null,null,null,0,0,0,0,0,0,0,"",null,null,null,null,0,0,null,null,null,null,0,0]
[null,21,21,{"$f":"INSERT!A23","v":0},{"$f":"INSERT!B23","v":0},{"$f":"INSERT!C23","v":0},{"$f":"INSERT!D23","v":0},{"$f":"INSERT!E23","v":0},null,null,null,null,null,null,null,null,null,null,null,null,null,null,null,null,0,0,0,0,0,0,0,"",null,null,null,null,0,0,null,null,null,null,0,0]
[null,22,22,{"$f":"INSERT!A24","v":0},{"$f":"INSERT!B24","v":0},{"$f":"INSERT!C24","v":0},{"$f":"INSERT!D24","v":0},{"$f":"INSERT!E24","v":0},null,null,null,null,null,null,null,null,null,null,null,null,null,null,null,null,0,0,0,0,0,0,0,"",null,null,null,null,0,0,null,null,null,null,0,0]
[null,23,23,{"$f":"INSERT!A25","v":0},{"$f":"INSERT!B25","v":0},{"$f":"INSERT!C25","v":0},{"$f":"INSERT!D25","v":0},{"$f":"INSERT!E25","v":0},null,null,null,null,null,null,null,null,null,null,null,null,null,null,null,null,0,0,0,0,0,0,0,"",null,null,null,null,0,0,null,null,null,null,0,0]
[null,24,24,{"$f":"INSERT!A26","v":0},{"$f":"INSERT!B26","v":0},{"$f":"INSERT!C26","v":0},{"$f":"INSERT!D26","v":0},{"$f":"INSERT!E26","v":0},null,null,null,null,null,null,null,null,null,null,null,null,null,null,null,null,0,0,0,0,0,0,0,"",null,null,null,null,0,0,null,null,null,null,0,0]
[null,25,25,{"$f":"INSERT!A27","v":0},{"$f":"INSERT!B27","v":0},{"$f":"INSERT!C27","v":0},{"$f":"INSERT!D27","v":0},{"$f":"INSERT!E27","v":0},null,null,null,null,null,null,null,null,null,null,null,null,null,null,null,null,0,0,0,0,0,0,0,"",null,null,null,null,0,0,null,null,null,null,0,0]
[null,26,26,{"$f":"INSERT!A28","v":0},{"$f":"INSERT!B28","v":0},{"$f":"INSERT!C28","v":0},{"$f":"INSERT!D28","v":0},{"$f":"INSERT!E28","v":0},null,null,null,null,null,null,null,null,null,null,null,null,null,null,null,null,0,0,0,0,0,0,0,"",null,null,null,null,0,0,null,null,null,null,0,0]
[null,27,28,{"$f":"INSERT!A29","v":0},{"$f":"INSERT!B29","v":0},{"$f":"INSERT!C29","v":0},{"$f":"INSERT!D29","v":0},{"$f":"INSERT!E29","v":0},null,null,null,null,null,null,null,null,null,null,null,null,null,null,null,null,0,0,0,0,0,0,0,"",null,null,null,null,0,0,null,null,null,null,0,0]
[null,28,29,{"$f":"INSERT!A30","v":0},{"$f":"INSERT!B30","v":0},{"$f":"INSERT!C30","v":0},{"$f":"INSERT!D30","v":0},{"$f":"INSERT!E30","v":0},null,null,null,null,null,null,null,null,null,null,null,null,null,null,null,null,0,0,0,0,0,0,0,"",null,null,null,null,0,0,null,null,null,null,0,0]
[null,29,30,{"$f":"INSERT!A31","v":0},{"$f":"INSERT!B31","v":0},{"$f":"INSERT!C31","v":0},{"$f":"INSERT!D31","v":0},{"$f":"INSERT!E31","v":0},null,null,null,null,null,null,null,null,null,null,null,null,null,null,null,null,0,0,0,0,0,0,0,"",null,null,null,null,0,0,null,null,null,null,0,0]
[null,30,31,{"$f":"INSERT!A32","v":0},{"$f":"INSERT!B32","v":0},{"$f":"INSERT!C32","v":0},{"$f":"INSERT!D32","v":0},{"$f":"INSERT!E32","v":0},null,null,null,null,null,null,null,null,null,null,null,null,null,null,null,null,0,0,0,0,0,0,0,"",null,null,null,null,0,0,null,null,null,null,0,0]
[null,31,32,{"$f":"INSERT!A33","v":0},{"$f":"INSERT!B33","v":0},{"$f":"INSERT!C33","v":0},{"$f":"INSERT!D33","v":0},{"$f":"INSERT!E33","v":0},null,null,null,null,null,null,null,null,null,null,null,null,null,null,null,null,0,0,0,0,0,0,0,"",null,null,null,null,0,0,null,null,null,null,0,0]
[{"$f":"SUM(COUNTA(F47)+COUNT(B47))","v":2},32,33,{"$f":"INSERT!A34","v":0},{"$f":"INSERT!B34","v":0},{"$f":"INSERT!C34","v":0},{"$f":"INSERT!D34","v":0},{"$f":"INSERT!E34","v":0},null,null,null,null,null,null,null,null,null,null,null,null,null,null,null,null,0,0,0,0,0,0,0,"",null,null,null,null,0,0,null,null,null,null,0,0]
[2,33,34,{"$f":"INSERT!A35","v":0},{"$f":"INSERT!B35","v":0},{"$f":"INSERT!C35","v":0},{"$f":"INSERT!D35","v":0},{"$f":"INSERT!E35","v":0},null,null,null,null,null,null,null,null,null,null,null,null,null,null,null,null,0,{"$f":"ROUND((SUM(Y48*$Y$13)/10),0)","v":0},{"$f":"ROUND((AL48/2),0)","v":0},{"$f":"SUM(AA48*$AA$13)","v":0},{"$f":"ROUND((AR48/2),0)","v":0},{"$f":"SUM(AC48*$AC$13)","v":0},{"$f":"ROUND(IF($AD$13=1,AA48,IF($AD$13=2,SUM(AA48+AC48)/2)),0)","v":0},{"$f":"IF(AE48>79.4,\"7\",IF(AE48>69.4,\"6\",IF(AE48>59.4,\"5\",IF(AE48>49.4,\"4\",IF(AE48>39.4,\"3\",IF(AE48>29.4,\"2\",IF(AE48>0,\"1\",IF(AE48=0,\"\"))))))))","v":""},null,null,null,null,{"$f":"SUM(AG48:AJ48)","v":0},{"$f":"ROUND((SUM(AK48*$AK$13)*2),0)","v":0},null,null,null,null,{"$f":"SUM(AM48:AP48)","v":0},{"$f":"ROUND((SUM(AQ48*$AQ$13)*2),0)","v":0}]
[2,{"$f":"B48+1","v":34},37,{"$f":"INSERT!A36","v":0},{"$f":"INSERT!B36","v":0},{"$f":"INSERT!C36","v":0},{"$f":"INSERT!D36","v":0},{"$f":"INSERT!E36","v":0},null,null,null,null,null,null,null,null,null,null,null,null,null,null,null,null,0,0,0,0,0,0,0,"",null,null,null,null,0,0,null,null,null,null,0,0]
[2,35,35,{"$f":"INSERT!A37","v":0},{"$f":"INSERT!B37","v":0},{"$f":"INSERT!C37","v":0},{"$f":"INSERT!D37","v":0},{"$f":"INSERT!E37","v":0},null,null,null,null,null,null,null,null,null,null,null,null,null,null,null,null,0,0,0,0,0,0,0,"",null,null,null,null,0,0,null,null,null,null,0,0]
[2,36,10,{"$f":"INSERT!A38","v":0},{"$f":"INSERT!B38","v":0},{"$f":"INSERT!C38","v":0},{"$f":"INSERT!D38","v":0},{"$f":"INSERT!E38","v":0},null,null,null,null,null,null,null,null,null,null,null,null,null,null,null,null,{"$f":"SUM(I51:X51)","v":0},0,0,0,0,0,0,"",null,null,null,null,0,0,null,null,null,null,0,0]
[2,37,27,{"$f":"INSERT!A39","v":0},{"$f":"INSERT!B39","v":0},{"$f":"INSERT!C39","v":0},{"$f":"INSERT!D39","v":0},{"$f":"INSERT!E39","v":0},null,null,null,null,null,null,null,null,null,null,null,null,null,null,null,null,0,0,0,0,0,0,0,"",null,null,null,null,0,0,null,null,null,null,0,0]
[null,38,38,{"$f":"INSERT!A40","v":0},{"$f":"INSERT!B40","v":0},{"$f":"INSERT!C40","v":0},{"$f":"INSERT!D40","v":0},{"$f":"INSERT!E40","v":0},null,null,null,null,null,null,null,null,null,null,null,null,null,null,null,null,0,0,0,0,0,0,0,"",null,null,null,null,0,0,null,null,null,null,0,0]
[null,39,39,{"$f":"INSERT!A41","v":0},{"$f":"INSERT!B41","v":0},{"$f":"INSERT!C41","v":0},{"$f":"INSERT!D41","v":0},{"$f":"INSERT!E41","v":0},null,null,null,null,null,null,null,null,null,null,null,null,null,null,null,null,0,0,0,0,0,0,0,"",null,null,null,null,0,0,null,null,null,null,0,0]
[null,40,40,{"$f":"INSERT!A42","v":0},{"$f":"INSERT!B42","v":0},{"$f":"INSERT!C42","v":0},{"$f":"INSERT!D42","v":0},{"$f":"INSERT!E42","v":0},null,null,null,null,null,null,null,null,null,null,null,null,null,null,null,null,0,0,0,0,0,0,0,"",null,null,null,null,0,0,null,null,null,null,0,0]
[null,41,41,{"$f":"INSERT!A43","v":0},{"$f":"INSERT!B43","v":0},{"$f":"INSERT!C43","v":0},{"$f":"INSERT!D43","v":0},{"$f":"INSERT!E43","v":0},null,null,null,null,null,null,null,null,null,null,null,null,null,null,null,null,0,0,0,0,0,0,0,"",null,null,null,null,0,0,null,null,null,null,0,0]
[null,42,42,{"$f":"INSERT!A44","v":0},{"$f":"INSERT!B44","v":0},{"$f":"INSERT!C44","v":0},{"$f":"INSERT!D44","v":0},{"$f":"INSERT!E44","v":0},null,null,null,null,null,null,null,null,null,null,null,null,null,null,null,null,0,0,0,0,0,0,0,"",null,null,null,null,0,0,null,null,null,null,0,0]
[null,43,43,{"$f":"INSERT!A45","v":0},{"$f":"INSERT!B45","v":0},{"$f":"INSERT!C45","v":0},{"$f":"INSERT!D45","v":0},{"$f":"INSERT!E45","v":0},null,null,null,null,null,null,null,null,null,null,null,null,null,null,null,null,0,0,0,0,0,0,0,"",null,null,null,null,0,0,null,null,null,null,0,0]
[null,44,44,{"$f":"INSERT!A46","v":0},{"$f":"INSERT!B46","v":0},{"$f":"INSERT!C46","v":0},{"$f":"INSERT!D46","v":0},{"$f":"INSERT!E46","v":0},null,null,null,null,null,null,null,null,null,null,null,null,null,null,null,null,0,0,0,0,0,0,0,"",null,null,null,null,0,0,null,null,null,null,0,0]
[null,45,45,{"$f":"INSERT!A47","v":0},{"$f":"INSERT!B47","v":0},{"$f":"INSERT!C47","v":0},{"$f":"INSERT!D47","v":0},{"$f":"INSERT!E47","v":0},null,null,null,null,null,null,null,null,null,null,null,null,null,null,null,null,0,0,0,0,0,0,0,"",null,null,null,null,0,0,null,null,null,null,0,0]
[null,46,46,{"$f":"INSERT!A48","v":0},{"$f":"INSERT!B48","v":0},{"$f":"INSERT!C48","v":0},{"$f":"INSERT!D48","v":0},{"$f":"INSERT!E48","v":0},null,null,null,null,null,null,null,null,null,null,null,null,null,null,null,null,0,0,0,0,0,0,0,"",null,null,null,null,0,0,null,null,null,null,0,0]
[null,47,47,{"$f":"INSERT!A49","v":0},{"$f":"INSERT!B49","v":0},{"$f":"INSERT!C49","v":0},{"$f":"INSERT!D49","v":0},{"$f":"INSERT!E49","v":0},null,null,null,null,null,null,null,null,null,null,null,null,null,null,null,null,0,0,0,0,0,0,0,"",null,null,null,null,0,0,null,null,null,null,0,0]
[null,48,48,{"$f":"INSERT!A50","v":0},{"$f":"INSERT!B50","v":0},{"$f":"INSERT!C50","v":0},{"$f":"INSERT!D50","v":0},{"$f":"INSERT!E50","v":0},null,null,null,null,null,null,null,null,null,null,null,null,null,null,null,null,0,0,0,0,0,0,0,"",null,null,null,null,0,0,null,null,null,null,0,0]
[null,49,49,{"$f":"INSERT!A51","v":0},{"$f":"INSERT!B51","v":0},{"$f":"INSERT!C51","v":0},{"$f":"INSERT!D51","v":0},{"$f":"INSERT!E51","v":0},null,null,null,null,null,null,null,null,null,null,null,null,null,null,null,null,0,0,0,0,0,0,0,"",null,null,null,null,0,0,null,null,null,null,0,0]
[null,50,50,{"$f":"INSERT!A52","v":0},{"$f":"INSERT!B52","v":0},{"$f":"INSERT!C52","v":0},{"$f":"INSERT!D52","v":0},{"$f":"INSERT!E52","v":0},null,null,null,null,null,null,null,null,null,null,null,null,null,null,null,null,0,0,0,0,0,0,0,"",null,null,null,null,0,0,null,null,null,null,0,0]
[null,51,51,{"$f":"INSERT!A53","v":0},{"$f":"INSERT!B53","v":0},{"$f":"INSERT!C53","v":0},{"$f":"INSERT!D53","v":0},{"$f":"INSERT!E53","v":0},null,null,null,null,null,null,null,null,null,null,null,null,null,null,null,null,0,0,0,0,0,0,0,"",null,null,null,null,0,0,null,null,null,null,0,0]
[null,52,52,{"$f":"INSERT!A54","v":0},{"$f":"INSERT!B54","v":0},{"$f":"INSERT!C54","v":0},{"$f":"INSERT!D54","v":0},{"$f":"INSERT!E54","v":0},null,null,null,null,null,null,null,null,null,null,null,null,null,null,null,null,0,0,0,0,0,0,0,"",null,null,null,null,0,0,null,null,null,null,0,0]
[null,53,53,{"$f":"INSERT!A55","v":0},{"$f":"INSERT!B55","v":0},{"$f":"INSERT!C55","v":0},{"$f":"INSERT!D55","v":0},{"$f":"INSERT!E55","v":0},null,null,null,null,null,null,null,null,null,null,null,null,null,null,null,null,0,0,0,0,0,0,0,"",null,null,null,null,0,0,null,null,null,null,0,0]
[null,54,54,{"$f":"INSERT!A56","v":0},{"$f":"INSERT!B56","v":0},{"$f":"INSERT!C56","v":0},{"$f":"INSERT!D56","v":0},{"$f":"INSERT!E56","v":0},null,null,null,null,null,null,null,null,null,null,null,null,null,null,null,null,0,0,0,0,0,0,0,"",null,null,null,null,0,0,null,null,null,null,0,0]
[null,55,55,{"$f":"INSERT!A57","v":0},{"$f":"INSERT!B57","v":0},{"$f":"INSERT!C57","v":0},{"$f":"INSERT!D57","v":0},{"$f":"INSERT!E57","v":0},null,null,null,null,null,null,null,null,null,null,null,null,null,null,null,null,0,0,0,0,0,0,0,"",null,null,null,null,0,0,null,null,null,null,0,0]
[null,56,56,{"$f":"INSERT!A58","v":0},{"$f":"INSERT!B58","v":0},{"$f":"INSERT!C58","v":0},{"$f":"INSERT!D58","v":0},{"$f":"INSERT!E58","v":0},null,null,null,null,null,null,null,null,null,null,null,null,null,null,null,null,0,0,0,0,0,0,0,"",null,null,null,null,0,0,null,null,null,null,0,0]
[null,57,57,{"$f":"INSERT!A59","v":0},{"$f":"INSERT!B59","v":0},{"$f":"INSERT!C59","v":0},{"$f":"INSERT!D59","v":0},{"$f":"INSERT!E59","v":0},null,null,null,null,null,null,null,null,null,null,null,null,null,null,null,null,0,0,0,0,0,0,0,"",null,null,null,null,0,0,null,null,null,null,0,0]
[{"$f":"SUM(COUNTA(F73)+COUNT(B73))","v":2},58,58,{"$f":"INSERT!A60","v":0},{"$f":"INSERT!B60","v":0},{"$f":"INSERT!C60","v":0},{"$f":"INSERT!D60","v":0},{"$f":"INSERT!E60","v":0},null,null,null,null,null,null,null,null,null,null,null,null,null,null,null,null,0,0,0,0,0,0,0,"",null,null,null,null,0,0,null,null,null,null,0,0]
[2,59,59,{"$f":"INSERT!A61","v":0},{"$f":"INSERT!B61","v":0},{"$f":"INSERT!C61","v":0},{"$f":"INSERT!D61","v":0},{"$f":"INSERT!E61","v":0},null,null,null,null,null,null,null,null,null,null,null,null,null,null,null,null,0,0,0,0,0,0,0,"",null,null,null,null,0,0,null,null,null,null,0,0]
[2,60,60,{"$f":"INSERT!A62","v":0},{"$f":"INSERT!B62","v":0},{"$f":"INSERT!C62","v":0},{"$f":"INSERT!D62","v":0},{"$f":"INSERT!E62","v":0},null,null,null,null,null,null,null,null,null,null,null,null,null,null,null,null,0,0,0,0,0,0,0,"",null,null,null,null,0,0,null,null,null,null,0,0]
[2,61,61,{"$f":"INSERT!A63","v":0},{"$f":"INSERT!B63","v":0},{"$f":"INSERT!C63","v":0},{"$f":"INSERT!D63","v":0},{"$f":"INSERT!E63","v":0},null,null,null,null,null,null,null,null,null,null,null,null,null,null,null,null,0,0,0,0,0,0,0,"",null,null,null,null,0,0,null,null,null,null,0,0]
[2,62,62,{"$f":"INSERT!A64","v":0},{"$f":"INSERT!B64","v":0},{"$f":"INSERT!C64","v":0},{"$f":"INSERT!D64","v":0},{"$f":"INSERT!E64","v":0},null,null,null,null,null,null,null,null,null,null,null,null,null,null,null,null,0,0,0,0,0,0,0,"",null,null,null,null,0,0,null,null,null,null,0,0]
[2,63,63,{"$f":"INSERT!A65","v":0},{"$f":"INSERT!B65","v":0},{"$f":"INSERT!C65","v":0},{"$f":"INSERT!D65","v":0},{"$f":"INSERT!E65","v":0},null,null,null,null,null,null,null,null,null,null,null,null,null,null,null,null,0,0,0,0,0,0,0,"",null,null,null,null,0,0,null,null,null,null,0,0]
[2,64,64,{"$f":"INSERT!A66","v":0},{"$f":"INSERT!B66","v":0},{"$f":"INSERT!C66","v":0},{"$f":"INSERT!D66","v":0},{"$f":"INSERT!E66","v":0},null,null,null,null,null,null,null,null,null,null,null,null,null,null,null,null,0,0,0,0,0,0,0,"",null,null,null,null,0,0,null,null,null,null,0,0]
[2,65,65,{"$f":"INSERT!A67","v":0},{"$f":"INSERT!B67","v":0},{"$f":"INSERT!C67","v":0},{"$f":"INSERT!D67","v":0},{"$f":"INSERT!E67","v":0},null,null,null,null,null,null,null,null,null,null,null,null,null,null,null,null,{"$f":"SUM(I80:X80)","v":0},{"$f":"ROUND((SUM(Y80*$Y$13)/10),0)","v":0},{"$f":"ROUND((AL80/2),0)","v":0},{"$f":"SUM(AA80*$AA$13)","v":0},{"$f":"ROUND((AR80/2),0)","v":0},{"$f":"SUM(AC80*$AC$13)","v":0},{"$f":"ROUND(IF($AD$13=1,AA80,IF($AD$13=2,SUM(AA80+AC80)/2)),0)","v":0},{"$f":"IF(AE80>79.4,\"7\",IF(AE80>69.4,\"6\",IF(AE80>59.4,\"5\",IF(AE80>49.4,\"4\",IF(AE80>39.4,\"3\",IF(AE80>29.4,\"2\",IF(AE80>0,\"1\",IF(AE80=0,\"\"))))))))","v":""},null,null,null,null,{"$f":"SUM(AG80:AJ80)","v":0},{"$f":"ROUND((SUM(AK80*$AK$13)*2),0)","v":0},null,null,null,null,{"$f":"SUM(AM80:AP80)","v":0},{"$f":"ROUND((SUM(AQ80*$AQ$13)*2),0)","v":0}]
[2,{"$f":"B80+1","v":66},66,{"$f":"INSERT!A68","v":0},{"$f":"INSERT!B68","v":0},{"$f":"INSERT!C68","v":0},{"$f":"INSERT!D68","v":0},{"$f":"INSERT!E68","v":0},null,null,null,null,null,null,null,null,null,null,null,null,null,null,null,null,0,0,0,0,0,0,0,"",null,null,null,null,0,0,null,null,null,null,0,0]
[2,67,67,{"$f":"INSERT!A69","v":0},{"$f":"INSERT!B69","v":0},{"$f":"INSERT!C69","v":0},{"$f":"INSERT!D69","v":0},{"$f":"INSERT!E69","v":0},null,null,null,null,null,null,null,null,null,null,null,null,null,null,null,null,0,0,0,0,0,0,0,"",null,null,null,null,0,0,null,null,null,null,0,0]
[2,68,68,{"$f":"INSERT!A70","v":0},{"$f":"INSERT!B70","v":0},{"$f":"INSERT!C70","v":0},{"$f":"INSERT!D70","v":0},{"$f":"INSERT!E70","v":0},null,null,null,null,null,null,null,null,null,null,null,null,null,null,null,null,0,0,0,0,0,0,0,"",null,null,null,null,0,0,null,null,null,null,0,0]
[2,69,69,{"$f":"INSERT!A71","v":0},{"$f":"INSERT!B71","v":0},{"$f":"INSERT!C71","v":0},{"$f":"INSERT!D71","v":0},{"$f":"INSERT!E71","v":0},null,null,null,null,null,null,null,null,null,null,null,null,null,null,null,null,0,0,0,0,0,0,0,"",null,null,null,null,0,0,null,null,null,null,0,0]
[2,70,70,{"$f":"INSERT!A72","v":0},{"$f":"INSERT!B72","v":0},{"$f":"INSERT!C72","v":0},{"$f":"INSERT!D72","v":0},{"$f":"INSERT!E72","v":0},null,null,null,null,null,null,null,null,null,null,null,null,null,null,null,null,0,0,0,0,0,0,0,"",null,null,null,null,0,0,null,null,null,null,0,0]
[2,71,71,{"$f":"INSERT!A73","v":0},{"$f":"INSERT!B73","v":0},{"$f":"INSERT!C73","v":0},{"$f":"INSERT!D73","v":0},{"$f":"INSERT!E73","v":0},null,null,null,null,null,null,null,null,null,null,null,null,null,null,null,null,0,0,0,0,0,0,0,"",null,null,null,null,0,0,null,null,null,null,0,0]
[2,72,72,{"$f":"INSERT!A74","v":0},{"$f":"INSERT!B74","v":0},{"$f":"INSERT!C74","v":0},{"$f":"INSERT!D74","v":0},{"$f":"INSERT!E74","v":0},null,null,null,null,null,null,null,null,null,null,null,null,null,null,null,null,0,0,0,0,0,0,0,"",null,null,null,null,0,0,null,null,null,null,0,0]
[2,73,73,{"$f":"INSERT!A75","v":0},{"$f":"INSERT!B75","v":0},{"$f":"INSERT!C75","v":0},{"$f":"INSERT!D75","v":0},{"$f":"INSERT!E75","v":0},null,null,null,null,null,null,null,null,null,null,null,null,null,null,null,null,0,0,0,0,0,0,0,"",null,null,null,null,0,0,null,null,null,null,0,0]
[2,74,74,{"$f":"INSERT!A76","v":0},{"$f":"INSERT!B76","v":0},{"$f":"INSERT!C76","v":0},{"$f":"INSERT!D76","v":0},{"$f":"INSERT!E76","v":0},null,null,null,null,null,null,null,null,null,null,null,null,null,null,null,null,0,0,0,0,0,0,0,"",null,null,null,null,0,0,null,null,null,null,0,0]
[2,75,75,{"$f":"INSERT!A77","v":0},{"$f":"INSERT!B77","v":0},{"$f":"INSERT!C77","v":0},{"$f":"INSERT!D77","v":0},{"$f":"INSERT!E77","v":0},null,null,null,null,null,null,null,null,null,null,null,null,null,null,null,null,0,0,0,0,0,0,0,"",null,null,null,null,0,0,null,null,null,null,0,0]
[2,76,76,{"$f":"INSERT!A78","v":0},{"$f":"INSERT!B78","v":0},{"$f":"INSERT!C78","v":0},{"$f":"INSERT!D78","v":0},{"$f":"INSERT!E78","v":0},null,null,null,null,null,null,null,null,null,null,null,null,null,null,null,null,0,0,0,0,0,0,0,"",null,null,null,null,0,0,null,null,null,null,0,0]
[2,77,77,{"$f":"INSERT!A79","v":0},{"$f":"INSERT!B79","v":0},{"$f":"INSERT!C79","v":0},{"$f":"INSERT!D79","v":0},{"$f":"INSERT!E79","v":0},null,null,null,null,null,null,null,null,null,null,null,null,null,null,null,null,0,0,0,0,0,0,0,"",null,null,null,null,0,0,null,null,null,null,0,0]
[2,78,78,{"$f":"INSERT!A80","v":0},{"$f":"INSERT!B80","v":0},{"$f":"INSERT!C80","v":0},{"$f":"INSERT!D80","v":0},{"$f":"INSERT!E80","v":0},null,null,null,null,null,null,null,null,null,null,null,null,null,null,null,null,0,0,0,0,0,0,0,"",null,null,null,null,0,0,null,null,null,null,0,0]
[2,79,79,{"$f":"INSERT!A81","v":0},{"$f":"INSERT!B81","v":0},{"$f":"INSERT!C81","v":0},{"$f":"INSERT!D81","v":0},{"$f":"INSERT!E81","v":0},null,null,null,null,null,null,null,null,null,null,null,null,null,null,null,null,0,0,0,0,0,0,0,"",null,null,null,null,0,0,null,null,null,null,0,0]
[2,80,80,{"$f":"INSERT!A82","v":0},{"$f":"INSERT!B82","v":0},{"$f":"INSERT!C82","v":0},{"$f":"INSERT!D82","v":0},{"$f":"INSERT!E82","v":0},null,null,null,null,null,null,null,null,null,null,null,null,null,null,null,null,0,0,0,0,0,0,0,"",null,null,null,null,0,0,null,null,null,null,0,0]
[2,81,81,{"$f":"INSERT!A83","v":0},{"$f":"INSERT!B83","v":0},{"$f":"INSERT!C83","v":0},{"$f":"INSERT!D83","v":0},{"$f":"INSERT!E83","v":0},null,null,null,null,null,null,null,null,null,null,null,null,null,null,null,null,0,0,0,0,0,0,0,"",null,null,null,null,0,0,null,null,null,null,0,0]
[2,82,82,{"$f":"INSERT!A84","v":0},{"$f":"INSERT!B84","v":0},{"$f":"INSERT!C84","v":0},{"$f":"INSERT!D84","v":0},{"$f":"INSERT!E84","v":0},null,null,null,null,null,null,null,null,null,null,null,null,null,null,null,null,0,0,0,0,0,0,0,"",null,null,null,null,0,0,null,null,null,null,0,0]
[2,83,83,{"$f":"INSERT!A85","v":0},{"$f":"INSERT!B85","v":0},{"$f":"INSERT!C85","v":0},{"$f":"INSERT!D85","v":0},{"$f":"INSERT!E85","v":0},null,null,null,null,null,null,null,null,null,null,null,null,null,null,null,null,0,0,0,0,0,0,0,"",null,null,null,null,0,0,null,null,null,null,0,0]
[2,84,84,{"$f":"INSERT!A86","v":0},{"$f":"INSERT!B86","v":0},{"$f":"INSERT!C86","v":0},{"$f":"INSERT!D86","v":0},{"$f":"INSERT!E86","v":0},null,null,null,null,null,null,null,null,null,null,null,null,null,null,null,null,0,0,0,0,0,0,0,"",null,null,null,null,0,0,null,null,null,null,0,0]
[2,85,85,{"$f":"INSERT!A87","v":0},{"$f":"INSERT!B87","v":0},{"$f":"INSERT!C87","v":0},{"$f":"INSERT!D87","v":0},{"$f":"INSERT!E87","v":0},null,null,null,null,null,null,null,null,null,null,null,null,null,null,null,null,0,0,0,0,0,0,0,"",null,null,null,null,0,0,null,null,null,null,0,0]
[2,86,86,{"$f":"INSERT!A88","v":0},{"$f":"INSERT!B88","v":0},{"$f":"INSERT!C88","v":0},{"$f":"INSERT!D88","v":0},{"$f":"INSERT!E88","v":0},null,null,null,null,null,null,null,null,null,null,null,null,null,null,null,null,0,0,0,0,0,0,0,"",null,null,null,null,0,0,null,null,null,null,0,0]
[2,87,87,{"$f":"INSERT!A89","v":0},{"$f":"INSERT!B89","v":0},{"$f":"INSERT!C89","v":0},{"$f":"INSERT!D89","v":0},{"$f":"INSERT!E89","v":0},null,null,null,null,null,null,null,null,null,null,null,null,null,null,null,null,0,0,0,0,0,0,0,"",null,null,null,null,0,0,null,null,null,null,0,0]
[2,88,88,{"$f":"INSERT!A90","v":0},{"$f":"INSERT!B90","v":0},{"$f":"INSERT!C90","v":0},{"$f":"INSERT!D90","v":0},{"$f":"INSERT!E90","v":0},null,null,null,null,null,null,null,null,null,null,null,null,null,null,null,null,0,0,0,0,0,0,0,"",null,null,null,null,0,0,null,null,null,null,0,0]
[2,89,89,{"$f":"INSERT!A91","v":0},{"$f":"INSERT!B91","v":0},{"$f":"INSERT!C91","v":0},{"$f":"INSERT!D91","v":0},{"$f":"INSERT!E91","v":0},null,null,null,null,null,null,null,null,null,null,null,null,null,null,null,null,0,0,0,0,0,0,0,"",null,null,null,null,0,0,null,null,null,null,0,0]
[2,90,90,{"$f":"INSERT!A92","v":0},{"$f":"INSERT!B92","v":0},{"$f":"INSERT!C92","v":0},{"$f":"INSERT!D92","v":0},{"$f":"INSERT!E92","v":0},null,null,null,null,null,null,null,null,null,null,null,null,null,null,null,null,0,0,0,0,0,0,0,"",null,null,null,null,0,0,null,null,null,null,0,0]
[2,91,91,{"$f":"INSERT!A93","v":0},{"$f":"INSERT!B93","v":0},{"$f":"INSERT!C93","v":0},{"$f":"INSERT!D93","v":0},{"$f":"INSERT!E93","v":0},null,null,null,null,null,null,null,null,null,null,null,null,null,null,null,null,0,0,0,0,0,0,0,"",null,null,null,null,0,0,null,null,null,null,0,0]
[2,92,92,{"$f":"INSERT!A94","v":0},{"$f":"INSERT!B94","v":0},{"$f":"INSERT!C94","v":0},{"$f":"INSERT!D94","v":0},{"$f":"INSERT!E94","v":0},null,null,null,null,null,null,null,null,null,null,null,null,null,null,null,null,0,0,0,0,0,0,0,"",null,null,null,null,0,0,null,null,null,null,0,0]
[2,93,93,{"$f":"INSERT!A95","v":0},{"$f":"INSERT!B95","v":0},{"$f":"INSERT!C95","v":0},{"$f":"INSERT!D95","v":0},{"$f":"INSERT!E95","v":0},null,null,null,null,null,null,null,null,null,null,null,null,null,null,null,null,0,0,0,0,0,0,0,"",null,null,null,null,0,0,null,null,null,null,0,0]
[2,94,94,{"$f":"INSERT!A96","v":0},{"$f":"INSERT!B96","v":0},{"$f":"INSERT!C96","v":0},{"$f":"INSERT!D96","v":0},{"$f":"INSERT!E96","v":0},null,null,null,null,null,null,null,null,null,null,null,null,null,null,null,null,0,0,0,0,0,0,0,"",null,null,null,null,0,0,null,null,null,null,0,0]
[2,95,95,{"$f":"INSERT!A97","v":0},{"$f":"INSERT!B97","v":0},{"$f":"INSERT!C97","v":0},{"$f":"INSERT!D97","v":0},{"$f":"INSERT!E97","v":0},null,null,null,null,null,null,null,null,null,null,null,null,null,null,null,null,0,0,0,0,0,0,0,"",null,null,null,null,0,0,null,null,null,null,0,0]
[2,96,96,{"$f":"INSERT!A98","v":0},{"$f":"INSERT!B98","v":0},{"$f":"INSERT!C98","v":0},{"$f":"INSERT!D98","v":0},{"$f":"INSERT!E98","v":0},null,null,null,null,null,null,null,null,null,null,null,null,null,null,null,null,0,0,0,0,0,0,0,"",null,null,null,null,0,0,null,null,null,null,0,0]
[2,97,97,{"$f":"INSERT!A99","v":0},{"$f":"INSERT!B99","v":0},{"$f":"INSERT!C99","v":0},{"$f":"INSERT!D99","v":0},{"$f":"INSERT!E99","v":0},null,null,null,null,null,null,null,null,null,null,null,null,null,null,null,null,{"$f":"SUM(I112:X112)","v":0},{"$f":"ROUND((SUM(Y112*$Y$13)/10),0)","v":0},0,{"$f":"SUM(AA112*$AA$13)","v":0},0,{"$f":"SUM(AC112*$AC$13)","v":0},0,{"$f":"IF(AE112>79.4,\"7\",IF(AE112>69.4,\"6\",IF(AE112>59.4,\"5\",IF(AE112>49.4,\"4\",IF(AE112>39.4,\"3\",IF(AE112>29.4,\"2\",IF(AE112>0,\"1\",IF(AE112=0,\"\"))))))))","v":""},null,null,null,null,{"$f":"SUM(AG112:AJ112)","v":0},{"$f":"ROUND((SUM(AK112*$AK$13)*2),0)","v":0},null,null,null,null,{"$f":"SUM(AM112:AP112)","v":0},{"$f":"ROUND((SUM(AQ112*$AQ$13)*2),0)","v":0}]
[2,98,98,{"$f":"INSERT!A100","v":0},{"$f":"INSERT!B100","v":0},{"$f":"INSERT!C100","v":0},{"$f":"INSERT!D100","v":0},{"$f":"INSERT!E100","v":0},null,null,null,null,null,null,null,null,null,null,null,null,null,null,null,null,0,0,0,0,0,0,0,"",null,null,null,null,0,0,null,null,null,null,0,0]
[2,99,99,{"$f":"INSERT!A101","v":0},{"$f":"INSERT!B101","v":0},{"$f":"INSERT!C101","v":0},{"$f":"INSERT!D101","v":0},{"$f":"INSERT!E101","v":0},null,null,null,null,null,null,null,null,null,null,null,null,null,null,null,null,0,0,0,0,0,0,0,"",null,null,null,null,0,0,null,null,null,null,0,0]
[2,100,100,{"$f":"INSERT!A102","v":0},{"$f":"INSERT!B102","v":0},{"$f":"INSERT!C102","v":0},{"$f":"INSERT!D102","v":0},{"$f":"INSERT!E102","v":0},null,null,null,null,null,null,null,null,null,null,null,null,null,null,null,null,0,0,0,0,0,0,0,"",null,null,null,null,0,0,null,null,null,null,0,0]
[null,"Total amount of learners on mark sheet",null,null,null,"x","TOTAL",null,{"$f":"SUM(I16:I115)","v":0},{"$f":"SUM(J16:J115)","v":0},{"$f":"SUM(K16:K115)","v":0},0,0,0,0,0,0,0,0,0,0,0,0,0,0,0,0,0,0,0,0,null,{"$f":"SUM(AG16:AG115)","v":0},0,0,0,{"$f":"SUM(AK16:AK115)","v":0},0,0,0,0,0,{"$f":"SUM(AQ16:AQ115)","v":0},0]
[null,null,null,null,null,"x","AVERAGE",null,{"$f":"IFERROR(SUM(I116/$B$120),\"0\")","v":"0"},{"$f":"IFERROR(SUM(J116/$B$120),\"0\")","v":"0"},{"$f":"IFERROR(SUM(K116/$B$120),\"0\")","v":"0"},"0","0","0","0","0","0","0","0","0","0","0","0","0","0","0","0","0","0","0","0",null,{"$f":"IFERROR(SUM(AG116/$B$120),\"0\")","v":"0"},"0","0","0",{"$f":"IFERROR(SUM(AK116/$B$120),\"0\")","v":"0"},"0","0","0","0","0",{"$f":"IFERROR(SUM(AQ116/$B$120),\"0\")","v":"0"},"0"]
[null,null,null,null,null,"x","PERCENTAGE",null,{"$f":"IFERROR(ROUND((SUM(I117/I12)*100),0),\"0\")","v":"0"},{"$f":"IFERROR(ROUND((SUM(J117/J12)*100),0),\"0\")","v":"0"},{"$f":"IFERROR(ROUND((SUM(K117/K12)*100),0),\"0\")","v":"0"},"0","0","0","0","0","0","0","0","0","0","0","0","0","0",0,0,"0",0,"0",0,null,{"$f":"IFERROR(ROUND((SUM(AG117/AG12)*100),0),\"0\")","v":0},0,0,0,{"$f":"IFERROR(ROUND((SUM(AK117/AK12)*100),0),\"0\")","v":0},0,0,0,0,0,{"$f":"IFERROR(ROUND((SUM(AQ117/AQ12)*100),0),\"0\")","v":0},0]
[null,null,null,null,null,"x",0]
[null,{"$f":"INSERT!$E$103","v":0},null,null,null,"x","TOTAL HANDED IN",null,{"$f":"COUNT(I16:I115)","v":0},{"$f":"COUNT(J16:J115)","v":0},{"$f":"COUNT(K16:K115)","v":0},0,0,0,0,0,0,0,0,0,0,0,0,{"$f":"COUNT(X16:X115)","v":0},{"$f":"COUNT(Y16:Y115)","v":100},null,"EXAM LEVELS"]
[null,null,null,null,null,"x",null,null,null,null,null,null,null,null,null,null,null,null,null,null,null,null,null,null,null,null,"LEVEL 1",null,null,null,"LEVEL 2",null,"LEVEL 3",null,"LEVEL 4",null,"LEVEL 5",null,"LEVEL 6",null,"LEVEL 7",null,"TOTAL"]
[null,null,null,null,null,"x",null,null,null,null,null,null,null,null,null,null,null,null,null,null,null,null,null,null,null,null," 0 - 29 ",null,null,null," 30 - 39 ",null," 40 - 49 ",null," 50 - 59 ",null," 60 - 69 ",null," 70 - 79 ",null,"80 - 100",null,"LEARNERS"]
[null,null,null,null,null,"x",null,null,null,null,null,null,null,null,null,null,null,null,null,null,null,null,null,null,null,null,{"$f":"COUNTIF($AF$16:$AF$115,1)","v":0},null,null,null,{"$f":"COUNTIF($AF$16:$AF$115,2)","v":0},null,{"$f":"COUNTIF($AF$16:$AF$115,3)","v":0},null,{"$f":"COUNTIF($AF$16:$AF$115,4)","v":0},null,{"$f":"COUNTIF($AF$16:$AF$115,5)","v":0},null,{"$f":"COUNTIF($AF$16:$AF$115,6)","v":0},null,{"$f":"COUNTIF($AF$16:$AF$115,7)","v":0},null,{"$f":"SUM(AA123:AP123)","v":0}]

{"sheet":"SASAMS TERM1","index":7,"n_rows":113,"n_cols":16,"rows_kept":113,"cut":false,"hidden":false,"merged":[[110,0,112,3],[110,5,112,6],[0,13,2,15],[2,0,2,6],[3,0,3,4],[3,13,5,13],[3,14,5,14],[3,15,5,15],[4,0,4,6],[0,0,0,5],[1,0,1,2],[5,4,5,5]]}
["       Engineering Graphics and Design (Gr 11)\n      Term 1:",null,null,null,null,null,"TASKS",null,null,null,null,"TASK 1","TASK 2"]
["Grade:",null,null,{"$f":"TERM1!$F$6","v":0},null,null,"Activities",{"$f":"TERM1!$I$4","v":"CD1 Mechanical analytical"},{"$f":"TERM1!$AA$4","v":"CD2 1st Mechanical assembly"},{"$f":"TERM1!$AS$4","v":"CD3 2nd Mechanical Assembly"},{"$f":"TERM1!$BK$4","v":"CD4 Isometric drawing"},null,null,"100"]
["Weighting ",null,null,null,null,null,null,25,25,25,25,100,0]
[" Marks: -1 = Absent,  -2 = Not Captured",null,null,null,null,null,"Total Mark",10,10,10,10,40,60,"TOTAL Weighted Mark","Term\n%","Level"]
["SBA Year Mark Weight ",null,null,null,null,null,null,null,null,null,null,9.24,15]
[null,null,null,null,null,null,"Term \n /Date ",null,null,null,null,"Term1","Term1"]
["No",null,"Class","Acc No","Learner",null,"Gender","T1:A1","T1:A2","T1:A3","T1:A4","T1","T2",100,"100"]
[]
[1,1,{"$f":"INSERT!A3","v":0},{"$f":"INSERT!B3","v":0},{"$f":"INSERT!C3","v":0},{"$f":"INSERT!D3","v":0},{"$f":"INSERT!E3","v":0},{"$f":"TERM1!Z16","v":"0"},{"$f":"TERM1!AR16","v":"0"},{"$f":"TERM1!BJ16","v":"0"},{"$f":"TERM1!CB16","v":"0"},{"$f":"SUMIF(H9:K9,\">0\")","v":0},{"$f":"TERM1!CG16","v":0},{"$f":"IF(L9=\"<0\",\"\",SUM(L9/0.4))","v":0},{"$f":"ROUND((N9),0)","v":0},{"$f":"IF(O9>79,\"7\",IF(O9>69,\"6\",IF(O9>59,\"5\",IF(O9>49,\"4\",IF(O9>39,\"3\",IF(O9>29,\"2\",IF(O9>0,\"1\",IF(O9=0,\"\"))))))))","v":""}]
[2,2,{"$f":"INSERT!A4","v":0},{"$f":"INSERT!B4","v":0},{"$f":"INSERT!C4","v":0},{"$f":"INSERT!D4","v":0},{"$f":"INSERT!E4","v":0},{"$f":"TERM1!Z17","v":"0"},{"$f":"TERM1!AR17","v":"0"},{"$f":"TERM1!BJ17","v":"0"},{"$f":"TERM1!CB17","v":"0"},{"$f":"SUMIF(H10:K10,\">0\")","v":0},{"$f":"TERM1!CG17","v":0},{"$f":"IF(L10=\"<0\",\"\",SUM(L10/0.4))","v":0},{"$f":"ROUND((N10),0)","v":0},""]
[3,3,{"$f":"INSERT!A5","v":0},{"$f":"INSERT!B5","v":0},{"$f":"INSERT!C5","v":0},{"$f":"INSERT!D5","v":0},{"$f":"INSERT!E5","v":0},{"$f":"TERM1!Z18","v":"0"},{"$f":"TERM1!AR18","v":"0"},{"$f":"TERM1!BJ18","v":"0"},{"$f":"TERM1!CB18","v":"0"},0,{"$f":"TERM1!CG18","v":0},0,0,""]
[4,4,{"$f":"INSERT!A6","v":0},{"$f":"INSERT!B6","v":0},{"$f":"INSERT!C6","v":0},{"$f":"INSERT!D6","v":0},{"$f":"INSERT!E6","v":0},{"$f":"TERM1!Z19","v":"0"},{"$f":"TERM1!AR19","v":"0"},{"$f":"TERM1!BJ19","v":"0"},{"$f":"TERM1!CB19","v":"0"},0,{"$f":"TERM1!CG19","v":0},0,0,""]
[5,5,{"$f":"INSERT!A7","v":0},{"$f":"INSERT!B7","v":0},{"$f":"INSERT!C7","v":0},{"$f":"INSERT!D7","v":0},{"$f":"INSERT!E7","v":0},{"$f":"TERM1!Z20","v":"0"},{"$f":"TERM1!AR20","v":"0"},{"$f":"TERM1!BJ20","v":"0"},{"$f":"TERM1!CB20","v":"0"},0,{"$f":"TERM1!CG20","v":0},0,0,""]
[6,6,{"$f":"INSERT!A8","v":0},{"$f":"INSERT!B8","v":0},{"$f":"INSERT!C8","v":0},{"$f":"INSERT!D8","v":0},{"$f":"INSERT!E8","v":0},{"$f":"TERM1!Z21","v":"0"},{"$f":"TERM1!AR21","v":"0"},{"$f":"TERM1!BJ21","v":"0"},{"$f":"TERM1!CB21","v":"0"},0,{"$f":"TERM1!CG21","v":0},0,0,""]
[7,7,{"$f":"INSERT!A9","v":0},{"$f":"INSERT!B9","v":0},{"$f":"INSERT!C9","v":0},{"$f":"INSERT!D9","v":0},{"$f":"INSERT!E9","v":0},{"$f":"TERM1!Z22","v":"0"},{"$f":"TERM1!AR22","v":"0"},{"$f":"TERM1!BJ22","v":"0"},{"$f":"TERM1!CB22","v":"0"},0,{"$f":"TERM1!CG22","v":0},0,0,""]
[8,8,{"$f":"INSERT!A10","v":0},{"$f":"INSERT!B10","v":0},{"$f":"INSERT!C10","v":0},{"$f":"INSERT!D10","v":0},{"$f":"INSERT!E10","v":0},{"$f":"TERM1!Z23","v":"0"},{"$f":"TERM1!AR23","v":"0"},{"$f":"TERM1!BJ23","v":"0"},{"$f":"TERM1!CB23","v":"0"},0,{"$f":"TERM1!CG23","v":0},0,0,""]
[9,9,{"$f":"INSERT!A11","v":0},{"$f":"INSERT!B11","v":0},{"$f":"INSERT!C11","v":0},{"$f":"INSERT!D11","v":0},{"$f":"INSERT!E11","v":0},{"$f":"TERM1!Z24","v":"0"},{"$f":"TERM1!AR24","v":"0"},{"$f":"TERM1!BJ24","v":"0"},{"$f":"TERM1!CB24","v":"0"},0,{"$f":"TERM1!CG24","v":0},0,0,""]
[10,10,{"$f":"INSERT!A12","v":0},{"$f":"INSERT!B12","v":0},{"$f":"INSERT!C12","v":0},{"$f":"INSERT!D12","v":0},{"$f":"INSERT!E12","v":0},{"$f":"TERM1!Z25","v":"0"},{"$f":"TERM1!AR25","v":"0"},{"$f":"TERM1!BJ25","v":"0"},{"$f":"TERM1!CB25","v":"0"},0,{"$f":"TERM1!CG25","v":0},0,0,""]
[11,11,{"$f":"INSERT!A13","v":0},{"$f":"INSERT!B13","v":0},{"$f":"INSERT!C13","v":0},{"$f":"INSERT!D13","v":0},{"$f":"INSERT!E13","v":0},{"$f":"TERM1!Z26","v":"0"},{"$f":"TERM1!AR26","v":"0"},{"$f":"TERM1!BJ26","v":"0"},{"$f":"TERM1!CB26","v":"0"},0,{"$f":"TERM1!CG26","v":0},0,0,""]
[12,12,{"$f":"INSERT!A14","v":0},{"$f":"INSERT!B14","v":0},{"$f":"INSERT!C14","v":0},{"$f":"INSERT!D14","v":0},{"$f":"INSERT!E14","v":0},{"$f":"TERM1!Z27","v":"0"},{"$f":"TERM1!AR27","v":"0"},{"$f":"TERM1!BJ27","v":"0"},{"$f":"TERM1!CB27","v":"0"},0,{"$f":"TERM1!CG27","v":0},0,0,""]
[13,13,{"$f":"INSERT!A15","v":0},{"$f":"INSERT!B15","v":0},{"$f":"INSERT!C15","v":0},{"$f":"INSERT!D15","v":0},{"$f":"INSERT!E15","v":0},{"$f":"TERM1!Z28","v":"0"},{"$f":"TERM1!AR28","v":"0"},{"$f":"TERM1!BJ28","v":"0"},{"$f":"TERM1!CB28","v":"0"},0,{"$f":"TERM1!CG28","v":0},0,0,""]
[14,14,{"$f":"INSERT!A16","v":0},{"$f":"INSERT!B16","v":0},{"$f":"INSERT!C16","v":0},{"$f":"INSERT!D16","v":0},{"$f":"INSERT!E16","v":0},{"$f":"TERM1!Z29","v":"0"},{"$f":"TERM1!AR29","v":"0"},{"$f":"TERM1!BJ29","v":"0"},{"$f":"TERM1!CB29","v":"0"},0,{"$f":"TERM1!CG29","v":0},0,0,""]
[15,15,{"$f":"INSERT!A17","v":0},{"$f":"INSERT!B17","v":0},{"$f":"INSERT!C17","v":0},{"$f":"INSERT!D17","v":0},{"$f":"INSERT!E17","v":0},{"$f":"TERM1!Z30","v":"0"},{"$f":"TERM1!AR30","v":"0"},{"$f":"TERM1!BJ30","v":"0"},{"$f":"TERM1!CB30","v":"0"},0,{"$f":"TERM1!CG30","v":0},0,0,""]
[16,16,{"$f":"INSERT!A18","v":0},{"$f":"INSERT!B18","v":0},{"$f":"INSERT!C18","v":0},{"$f":"INSERT!D18","v":0},{"$f":"INSERT!E18","v":0},{"$f":"TERM1!Z31","v":"0"},{"$f":"TERM1!AR31","v":"0"},{"$f":"TERM1!BJ31","v":"0"},{"$f":"TERM1!CB31","v":"0"},0,{"$f":"TERM1!CG31","v":0},0,0,""]
[17,17,{"$f":"INSERT!A19","v":0},{"$f":"INSERT!B19","v":0},{"$f":"INSERT!C19","v":0},{"$f":"INSERT!D19","v":0},{"$f":"INSERT!E19","v":0},{"$f":"TERM1!Z32","v":"0"},{"$f":"TERM1!AR32","v":"0"},{"$f":"TERM1!BJ32","v":"0"},{"$f":"TERM1!CB32","v":"0"},0,{"$f":"TERM1!CG32","v":0},0,0,""]
[18,18,{"$f":"INSERT!A20","v":0},{"$f":"INSERT!B20","v":0},{"$f":"INSERT!C20","v":0},{"$f":"INSERT!D20","v":0},{"$f":"INSERT!E20","v":0},{"$f":"TERM1!Z33","v":"0"},{"$f":"TERM1!AR33","v":"0"},{"$f":"TERM1!BJ33","v":"0"},{"$f":"TERM1!CB33","v":"0"},0,{"$f":"TERM1!CG33","v":0},0,0,""]
[19,19,{"$f":"INSERT!A21","v":0},{"$f":"INSERT!B21","v":0},{"$f":"INSERT!C21","v":0},{"$f":"INSERT!D21","v":0},{"$f":"INSERT!E21","v":0},{"$f":"TERM1!Z34","v":"0"},{"$f":"TERM1!AR34","v":"0"},{"$f":"TERM1!BJ34","v":"0"},{"$f":"TERM1!CB34","v":"0"},0,{"$f":"TERM1!CG34","v":0},0,0,""]
[20,20,{"$f":"INSERT!A22","v":0},{"$f":"INSERT!B22","v":0},{"$f":"INSERT!C22","v":0},{"$f":"INSERT!D22","v":0},{"$f":"INSERT!E22","v":0},{"$f":"TERM1!Z35","v":"0"},{"$f":"TERM1!AR35","v":"0"},{"$f":"TERM1!BJ35","v":"0"},{"$f":"TERM1!CB35","v":"0"},0,{"$f":"TERM1!CG35","v":0},0,0,""]
[21,21,{"$f":"INSERT!A23","v":0},{"$f":"INSERT!B23","v":0},{"$f":"INSERT!C23","v":0},{"$f":"INSERT!D23","v":0},{"$f":"INSERT!E23","v":0},{"$f":"TERM1!Z36","v":"0"},{"$f":"TERM1!AR36","v":"0"},{"$f":"TERM1!BJ36","v":"0"},{"$f":"TERM1!CB36","v":"0"},0,{"$f":"TERM1!CG36","v":0},0,0,""]
[22,22,{"$f":"INSERT!A24","v":0},{"$f":"INSERT!B24","v":0},{"$f":"INSERT!C24","v":0},{"$f":"INSERT!D24","v":0},{"$f":"INSERT!E24","v":0},{"$f":"TERM1!Z37","v":"0"},{"$f":"TERM1!AR37","v":"0"},{"$f":"TERM1!BJ37","v":"0"},{"$f":"TERM1!CB37","v":"0"},0,{"$f":"TERM1!CG37","v":0},0,0,""]
[23,23,{"$f":"INSERT!A25","v":0},{"$f":"INSERT!B25","v":0},{"$f":"INSERT!C25","v":0},{"$f":"INSERT!D25","v":0},{"$f":"INSERT!E25","v":0},{"$f":"TERM1!Z38","v":"0"},{"$f":"TERM1!AR38","v":"0"},{"$f":"TERM1!BJ38","v":"0"},{"$f":"TERM1!CB38","v":"0"},0,{"$f":"TERM1!CG38","v":0},0,0,""]
[24,24,{"$f":"INSERT!A26","v":0},{"$f":"INSERT!B26","v":0},{"$f":"INSERT!C26","v":0},{"$f":"INSERT!D26","v":0},{"$f":"INSERT!E26","v":0},{"$f":"TERM1!Z39","v":"0"},{"$f":"TERM1!AR39","v":"0"},{"$f":"TERM1!BJ39","v":"0"},{"$f":"TERM1!CB39","v":"0"},0,{"$f":"TERM1!CG39","v":0},0,0,""]
[25,25,{"$f":"INSERT!A27","v":0},{"$f":"INSERT!B27","v":0},{"$f":"INSERT!C27","v":0},{"$f":"INSERT!D27","v":0},{"$f":"INSERT!E27","v":0},{"$f":"TERM1!Z40","v":"0"},{"$f":"TERM1!AR40","v":"0"},{"$f":"TERM1!BJ40","v":"0"},{"$f":"TERM1!CB40","v":"0"},0,{"$f":"TERM1!CG40","v":0},0,0,""]
[26,26,{"$f":"INSERT!A28","v":0},{"$f":"INSERT!B28","v":0},{"$f":"INSERT!C28","v":0},{"$f":"INSERT!D28","v":0},{"$f":"INSERT!E28","v":0},{"$f":"TERM1!Z41","v":"0"},{"$f":"TERM1!AR41","v":"0"},{"$f":"TERM1!BJ41","v":"0"},{"$f":"TERM1!CB41","v":"0"},0,{"$f":"TERM1!CG41","v":0},0,0,""]
[27,27,{"$f":"INSERT!A29","v":0},{"$f":"INSERT!B29","v":0},{"$f":"INSERT!C29","v":0},{"$f":"INSERT!D29","v":0},{"$f":"INSERT!E29","v":0},{"$f":"TERM1!Z42","v":"0"},{"$f":"TERM1!AR42","v":"0"},{"$f":"TERM1!BJ42","v":"0"},{"$f":"TERM1!CB42","v":"0"},0,{"$f":"TERM1!CG42","v":0},0,0,""]
[28,28,{"$f":"INSERT!A30","v":0},{"$f":"INSERT!B30","v":0},{"$f":"INSERT!C30","v":0},{"$f":"INSERT!D30","v":0},{"$f":"INSERT!E30","v":0},{"$f":"TERM1!Z43","v":"0"},{"$f":"TERM1!AR43","v":"0"},{"$f":"TERM1!BJ43","v":"0"},{"$f":"TERM1!CB43","v":"0"},0,{"$f":"TERM1!CG43","v":0},0,0,""]
[29,29,{"$f":"INSERT!A31","v":0},{"$f":"INSERT!B31","v":0},{"$f":"INSERT!C31","v":0},{"$f":"INSERT!D31","v":0},{"$f":"INSERT!E31","v":0},{"$f":"TERM1!Z44","v":"0"},{"$f":"TERM1!AR44","v":"0"},{"$f":"TERM1!BJ44","v":"0"},{"$f":"TERM1!CB44","v":"0"},0,{"$f":"TERM1!CG44","v":0},0,0,""]
[30,30,{"$f":"INSERT!A32","v":0},{"$f":"INSERT!B32","v":0},{"$f":"INSERT!C32","v":0},{"$f":"INSERT!D32","v":0},{"$f":"INSERT!E32","v":0},{"$f":"TERM1!Z45","v":"0"},{"$f":"TERM1!AR45","v":"0"},{"$f":"TERM1!BJ45","v":"0"},{"$f":"TERM1!CB45","v":"0"},0,{"$f":"TERM1!CG45","v":0},0,0,""]
[31,31,{"$f":"INSERT!A33","v":0},{"$f":"INSERT!B33","v":0},{"$f":"INSERT!C33","v":0},{"$f":"INSERT!D33","v":0},{"$f":"INSERT!E33","v":0},{"$f":"TERM1!Z46","v":"0"},{"$f":"TERM1!AR46","v":"0"},{"$f":"TERM1!BJ46","v":"0"},{"$f":"TERM1!CB46","v":"0"},0,{"$f":"TERM1!CG46","v":0},0,0,""]
[32,32,{"$f":"INSERT!A34","v":0},{"$f":"INSERT!B34","v":0},{"$f":"INSERT!C34","v":0},{"$f":"INSERT!D34","v":0},{"$f":"INSERT!E34","v":0},{"$f":"TERM1!Z47","v":"0"},{"$f":"TERM1!AR47","v":"0"},{"$f":"TERM1!BJ47","v":"0"},{"$f":"TERM1!CB47","v":"0"},0,{"$f":"TERM1!CG47","v":0},0,0,""]
[33,33,{"$f":"INSERT!A35","v":0},{"$f":"INSERT!B35","v":0},{"$f":"INSERT!C35","v":0},{"$f":"INSERT!D35","v":0},{"$f":"INSERT!E35","v":0},{"$f":"TERM1!Z48","v":"0"},{"$f":"TERM1!AR48","v":"0"},{"$f":"TERM1!BJ48","v":"0"},{"$f":"TERM1!CB48","v":"0"},0,{"$f":"TERM1!CG48","v":0},0,0,{"$f":"IF(O41>79,\"7\",IF(O41>69,\"6\",IF(O41>59,\"5\",IF(O41>49,\"4\",IF(O41>39,\"3\",IF(O41>29,\"2\",IF(O41>0,\"1\",IF(O41=0,\"\"))))))))","v":""}]
[34,34,{"$f":"INSERT!A36","v":0},{"$f":"INSERT!B36","v":0},{"$f":"INSERT!C36","v":0},{"$f":"INSERT!D36","v":0},{"$f":"INSERT!E36","v":0},{"$f":"TERM1!Z49","v":"0"},{"$f":"TERM1!AR49","v":"0"},{"$f":"TERM1!BJ49","v":"0"},{"$f":"TERM1!CB49","v":"0"},0,{"$f":"TERM1!CG49","v":0},0,0,""]
[35,35,{"$f":"INSERT!A37","v":0},{"$f":"INSERT!B37","v":0},{"$f":"INSERT!C37","v":0},{"$f":"INSERT!D37","v":0},{"$f":"INSERT!E37","v":0},{"$f":"TERM1!Z50","v":"0"},{"$f":"TERM1!AR50","v":"0"},{"$f":"TERM1!BJ50","v":"0"},{"$f":"TERM1!CB50","v":"0"},0,{"$f":"TERM1!CG50","v":0},0,0,""]
[36,36,{"$f":"INSERT!A38","v":0},{"$f":"INSERT!B38","v":0},{"$f":"INSERT!C38","v":0},{"$f":"INSERT!D38","v":0},{"$f":"INSERT!E38","v":0},{"$f":"TERM1!Z51","v":"0"},{"$f":"TERM1!AR51","v":"0"},{"$f":"TERM1!BJ51","v":"0"},{"$f":"TERM1!CB51","v":"0"},0,{"$f":"TERM1!CG51","v":0},0,0,""]
[37,37,{"$f":"INSERT!A39","v":0},{"$f":"INSERT!B39","v":0},{"$f":"INSERT!C39","v":0},{"$f":"INSERT!D39","v":0},{"$f":"INSERT!E39","v":0},{"$f":"TERM1!Z52","v":"0"},{"$f":"TERM1!AR52","v":"0"},{"$f":"TERM1!BJ52","v":"0"},{"$f":"TERM1!CB52","v":"0"},0,{"$f":"TERM1!CG52","v":0},0,0,""]
[38,38,{"$f":"INSERT!A40","v":0},{"$f":"INSERT!B40","v":0},{"$f":"INSERT!C40","v":0},{"$f":"INSERT!D40","v":0},{"$f":"INSERT!E40","v":0},{"$f":"TERM1!Z53","v":"0"},{"$f":"TERM1!AR53","v":"0"},{"$f":"TERM1!BJ53","v":"0"},{"$f":"TERM1!CB53","v":"0"},0,{"$f":"TERM1!CG53","v":0},0,0,""]
[39,39,{"$f":"INSERT!A41","v":0},{"$f":"INSERT!B41","v":0},{"$f":"INSERT!C41","v":0},{"$f":"INSERT!D41","v":0},{"$f":"INSERT!E41","v":0},{"$f":"TERM1!Z54","v":"0"},{"$f":"TERM1!AR54","v":"0"},{"$f":"TERM1!BJ54","v":"0"},{"$f":"TERM1!CB54","v":"0"},0,{"$f":"TERM1!CG54","v":0},0,0,""]
[40,40,{"$f":"INSERT!A42","v":0},{"$f":"INSERT!B42","v":0},{"$f":"INSERT!C42","v":0},{"$f":"INSERT!D42","v":0},{"$f":"INSERT!E42","v":0},{"$f":"TERM1!Z55","v":"0"},{"$f":"TERM1!AR55","v":"0"},{"$f":"TERM1!BJ55","v":"0"},{"$f":"TERM1!CB55","v":"0"},0,{"$f":"TERM1!CG55","v":0},0,0,""]
[41,41,{"$f":"INSERT!A43","v":0},{"$f":"INSERT!B43","v":0},{"$f":"INSERT!C43","v":0},{"$f":"INSERT!D43","v":0},{"$f":"INSERT!E43","v":0},{"$f":"TERM1!Z56","v":"0"},{"$f":"TERM1!AR56","v":"0"},{"$f":"TERM1!BJ56","v":"0"},{"$f":"TERM1!CB56","v":"0"},0,{"$f":"TERM1!CG56","v":0},0,0,""]
[42,42,{"$f":"INSERT!A44","v":0},{"$f":"INSERT!B44","v":0},{"$f":"INSERT!C44","v":0},{"$f":"INSERT!D44","v":0},{"$f":"INSERT!E44","v":0},{"$f":"TERM1!Z57","v":"0"},{"$f":"TERM1!AR57","v":"0"},{"$f":"TERM1!BJ57","v":"0"},{"$f":"TERM1!CB57","v":"0"},0,{"$f":"TERM1!CG57","v":0},0,0,""]
[43,43,{"$f":"INSERT!A45","v":0},{"$f":"INSERT!B45","v":0},{"$f":"INSERT!C45","v":0},{"$f":"INSERT!D45","v":0},{"$f":"INSERT!E45","v":0},{"$f":"TERM1!Z58","v":"0"},{"$f":"TERM1!AR58","v":"0"},{"$f":"TERM1!BJ58","v":"0"},{"$f":"TERM1!CB58","v":"0"},0,{"$f":"TERM1!CG58","v":0},0,0,""]
[44,44,{"$f":"INSERT!A46","v":0},{"$f":"INSERT!B46","v":0},{"$f":"INSERT!C46","v":0},{"$f":"INSERT!D46","v":0},{"$f":"INSERT!E46","v":0},{"$f":"TERM1!Z59","v":"0"},{"$f":"TERM1!AR59","v":"0"},{"$f":"TERM1!BJ59","v":"0"},{"$f":"TERM1!CB59","v":"0"},0,{"$f":"TERM1!CG59","v":0},0,0,""]
[45,45,{"$f":"INSERT!A47","v":0},{"$f":"INSERT!B47","v":0},{"$f":"INSERT!C47","v":0},{"$f":"INSERT!D47","v":0},{"$f":"INSERT!E47","v":0},{"$f":"TERM1!Z60","v":"0"},{"$f":"TERM1!AR60","v":"0"},{"$f":"TERM1!BJ60","v":"0"},{"$f":"TERM1!CB60","v":"0"},0,{"$f":"TERM1!CG60","v":0},0,0,""]
[46,46,{"$f":"INSERT!A48","v":0},{"$f":"INSERT!B48","v":0},{"$f":"INSERT!C48","v":0},{"$f":"INSERT!D48","v":0},{"$f":"INSERT!E48","v":0},{"$f":"TERM1!Z61","v":"0"},{"$f":"TERM1!AR61","v":"0"},{"$f":"TERM1!BJ61","v":"0"},{"$f":"TERM1!CB61","v":"0"},0,{"$f":"TERM1!CG61","v":0},0,0,""]
[47,47,{"$f":"INSERT!A49","v":0},{"$f":"INSERT!B49","v":0},{"$f":"INSERT!C49","v":0},{"$f":"INSERT!D49","v":0},{"$f":"INSERT!E49","v":0},{"$f":"TERM1!Z62","v":"0"},{"$f":"TERM1!AR62","v":"0"},{"$f":"TERM1!BJ62","v":"0"},{"$f":"TERM1!CB62","v":"0"},0,{"$f":"TERM1!CG62","v":0},0,0,""]
[48,48,{"$f":"INSERT!A50","v":0},{"$f":"INSERT!B50","v":0},{"$f":"INSERT!C50","v":0},{"$f":"INSERT!D50","v":0},{"$f":"INSERT!E50","v":0},{"$f":"TERM1!Z63","v":"0"},{"$f":"TERM1!AR63","v":"0"},{"$f":"TERM1!BJ63","v":"0"},{"$f":"TERM1!CB63","v":"0"},0,{"$f":"TERM1!CG63","v":0},0,0,""]
[49,49,{"$f":"INSERT!A51","v":0},{"$f":"INSERT!B51","v":0},{"$f":"INSERT!C51","v":0},{"$f":"INSERT!D51","v":0},{"$f":"INSERT!E51","v":0},{"$f":"TERM1!Z64","v":"0"},{"$f":"TERM1!AR64","v":"0"},{"$f":"TERM1!BJ64","v":"0"},{"$f":"TERM1!CB64","v":"0"},0,{"$f":"TERM1!CG64","v":0},0,0,""]
[50,50,{"$f":"INSERT!A52","v":0},{"$f":"INSERT!B52","v":0},{"$f":"INSERT!C52","v":0},{"$f":"INSERT!D52","v":0},{"$f":"INSERT!E52","v":0},{"$f":"TERM1!Z65","v":"0"},{"$f":"TERM1!AR65","v":"0"},{"$f":"TERM1!BJ65","v":"0"},{"$f":"TERM1!CB65","v":"0"},0,{"$f":"TERM1!CG65","v":0},0,0,""]
[51,51,{"$f":"INSERT!A53","v":0},{"$f":"INSERT!B53","v":0},{"$f":"INSERT!C53","v":0},{"$f":"INSERT!D53","v":0},{"$f":"INSERT!E53","v":0},{"$f":"TERM1!Z66","v":"0"},{"$f":"TERM1!AR66","v":"0"},{"$f":"TERM1!BJ66","v":"0"},{"$f":"TERM1!CB66","v":"0"},0,{"$f":"TERM1!CG66","v":0},0,0,""]
[52,52,{"$f":"INSERT!A54","v":0},{"$f":"INSERT!B54","v":0},{"$f":"INSERT!C54","v":0},{"$f":"INSERT!D54","v":0},{"$f":"INSERT!E54","v":0},{"$f":"TERM1!Z67","v":"0"},{"$f":"TERM1!AR67","v":"0"},{"$f":"TERM1!BJ67","v":"0"},{"$f":"TERM1!CB67","v":"0"},0,{"$f":"TERM1!CG67","v":0},0,0,""]
[53,53,{"$f":"INSERT!A55","v":0},{"$f":"INSERT!B55","v":0},{"$f":"INSERT!C55","v":0},{"$f":"INSERT!D55","v":0},{"$f":"INSERT!E55","v":0},{"$f":"TERM1!Z68","v":"0"},{"$f":"TERM1!AR68","v":"0"},{"$f":"TERM1!BJ68","v":"0"},{"$f":"TERM1!CB68","v":"0"},0,{"$f":"TERM1!CG68","v":0},0,0,""]
[54,54,{"$f":"INSERT!A56","v":0},{"$f":"INSERT!B56","v":0},{"$f":"INSERT!C56","v":0},{"$f":"INSERT!D56","v":0},{"$f":"INSERT!E56","v":0},{"$f":"TERM1!Z69","v":"0"},{"$f":"TERM1!AR69","v":"0"},{"$f":"TERM1!BJ69","v":"0"},{"$f":"TERM1!CB69","v":"0"},0,{"$f":"TERM1!CG69","v":0},0,0,""]
[55,55,{"$f":"INSERT!A57","v":0},{"$f":"INSERT!B57","v":0},{"$f":"INSERT!C57","v":0},{"$f":"INSERT!D57","v":0},{"$f":"INSERT!E57","v":0},{"$f":"TERM1!Z70","v":"0"},{"$f":"TERM1!AR70","v":"0"},{"$f":"TERM1!BJ70","v":"0"},{"$f":"TERM1!CB70","v":"0"},0,{"$f":"TERM1!CG70","v":0},0,0,""]
[56,56,{"$f":"INSERT!A58","v":0},{"$f":"INSERT!B58","v":0},{"$f":"INSERT!C58","v":0},{"$f":"INSERT!D58","v":0},{"$f":"INSERT!E58","v":0},{"$f":"TERM1!Z71","v":"0"},{"$f":"TERM1!AR71","v":"0"},{"$f":"TERM1!BJ71","v":"0"},{"$f":"TERM1!CB71","v":"0"},0,{"$f":"TERM1!CG71","v":0},0,0,""]
[57,57,{"$f":"INSERT!A59","v":0},{"$f":"INSERT!B59","v":0},{"$f":"INSERT!C59","v":0},{"$f":"INSERT!D59","v":0},{"$f":"INSERT!E59","v":0},{"$f":"TERM1!Z72","v":"0"},{"$f":"TERM1!AR72","v":"0"},{"$f":"TERM1!BJ72","v":"0"},{"$f":"TERM1!CB72","v":"0"},0,{"$f":"TERM1!CG72","v":0},0,0,""]
[58,58,{"$f":"INSERT!A60","v":0},{"$f":"INSERT!B60","v":0},{"$f":"INSERT!C60","v":0},{"$f":"INSERT!D60","v":0},{"$f":"INSERT!E60","v":0},{"$f":"TERM1!Z73","v":"0"},{"$f":"TERM1!AR73","v":"0"},{"$f":"TERM1!BJ73","v":"0"},{"$f":"TERM1!CB73","v":"0"},0,{"$f":"TERM1!CG73","v":0},0,0,""]
[59,59,{"$f":"INSERT!A61","v":0},{"$f":"INSERT!B61","v":0},{"$f":"INSERT!C61","v":0},{"$f":"INSERT!D61","v":0},{"$f":"INSERT!E61","v":0},{"$f":"TERM1!Z74","v":"0"},{"$f":"TERM1!AR74","v":"0"},{"$f":"TERM1!BJ74","v":"0"},{"$f":"TERM1!CB74","v":"0"},0,{"$f":"TERM1!CG74","v":0},0,0,""]
[60,60,{"$f":"INSERT!A62","v":0},{"$f":"INSERT!B62","v":0},{"$f":"INSERT!C62","v":0},{"$f":"INSERT!D62","v":0},{"$f":"INSERT!E62","v":0},{"$f":"TERM1!Z75","v":"0"},{"$f":"TERM1!AR75","v":"0"},{"$f":"TERM1!BJ75","v":"0"},{"$f":"TERM1!CB75","v":"0"},0,{"$f":"TERM1!CG75","v":0},0,0,""]
[61,61,{"$f":"INSERT!A63","v":0},{"$f":"INSERT!B63","v":0},{"$f":"INSERT!C63","v":0},{"$f":"INSERT!D63","v":0},{"$f":"INSERT!E63","v":0},{"$f":"TERM1!Z76","v":"0"},{"$f":"TERM1!AR76","v":"0"},{"$f":"TERM1!BJ76","v":"0"},{"$f":"TERM1!CB76","v":"0"},0,{"$f":"TERM1!CG76","v":0},0,0,""]
[62,62,{"$f":"INSERT!A64","v":0},{"$f":"INSERT!B64","v":0},{"$f":"INSERT!C64","v":0},{"$f":"INSERT!D64","v":0},{"$f":"INSERT!E64","v":0},{"$f":"TERM1!Z77","v":"0"},{"$f":"TERM1!AR77","v":"0"},{"$f":"TERM1!BJ77","v":"0"},{"$f":"TERM1!CB77","v":"0"},0,{"$f":"TERM1!CG77","v":0},0,0,""]
[63,63,{"$f":"INSERT!A65","v":0},{"$f":"INSERT!B65","v":0},{"$f":"INSERT!C65","v":0},{"$f":"INSERT!D65","v":0},{"$f":"INSERT!E65","v":0},{"$f":"TERM1!Z78","v":"0"},{"$f":"TERM1!AR78","v":"0"},{"$f":"TERM1!BJ78","v":"0"},{"$f":"TERM1!CB78","v":"0"},0,{"$f":"TERM1!CG78","v":0},0,0,""]
[64,64,{"$f":"INSERT!A66","v":0},{"$f":"INSERT!B66","v":0},{"$f":"INSERT!C66","v":0},{"$f":"INSERT!D66","v":0},{"$f":"INSERT!E66","v":0},{"$f":"TERM1!Z79","v":"0"},{"$f":"TERM1!AR79","v":"0"},{"$f":"TERM1!BJ79","v":"0"},{"$f":"TERM1!CB79","v":"0"},0,{"$f":"TERM1!CG79","v":0},0,0,""]
[65,65,{"$f":"INSERT!A67","v":0},{"$f":"INSERT!B67","v":0},{"$f":"INSERT!C67","v":0},{"$f":"INSERT!D67","v":0},{"$f":"INSERT!E67","v":0},{"$f":"TERM1!Z80","v":"0"},{"$f":"TERM1!AR80","v":"0"},{"$f":"TERM1!BJ80","v":"0"},{"$f":"TERM1!CB80","v":"0"},0,{"$f":"TERM1!CG80","v":0},0,0,{"$f":"IF(O73>79,\"7\",IF(O73>69,\"6\",IF(O73>59,\"5\",IF(O73>49,\"4\",IF(O73>39,\"3\",IF(O73>29,\"2\",IF(O73>0,\"1\",IF(O73=0,\"\"))))))))","v":""}]
[66,66,{"$f":"INSERT!A68","v":0},{"$f":"INSERT!B68","v":0},{"$f":"INSERT!C68","v":0},{"$f":"INSERT!D68","v":0},{"$f":"INSERT!E68","v":0},{"$f":"TERM1!Z81","v":"0"},{"$f":"TERM1!AR81","v":"0"},{"$f":"TERM1!BJ81","v":"0"},{"$f":"TERM1!CB81","v":"0"},{"$f":"SUMIF(H74:K74,\">0\")","v":0},{"$f":"TERM1!CG81","v":0},{"$f":"IF(L74=\"<0\",\"\",SUM(L74/0.4))","v":0},{"$f":"ROUND((N74),0)","v":0},""]
[67,67,{"$f":"INSERT!A69","v":0},{"$f":"INSERT!B69","v":0},{"$f":"INSERT!C69","v":0},{"$f":"INSERT!D69","v":0},{"$f":"INSERT!E69","v":0},{"$f":"TERM1!Z82","v":"0"},{"$f":"TERM1!AR82","v":"0"},{"$f":"TERM1!BJ82","v":"0"},{"$f":"TERM1!CB82","v":"0"},0,{"$f":"TERM1!CG82","v":0},0,0,""]
[68,68,{"$f":"INSERT!A70","v":0},{"$f":"INSERT!B70","v":0},{"$f":"INSERT!C70","v":0},{"$f":"INSERT!D70","v":0},{"$f":"INSERT!E70","v":0},{"$f":"TERM1!Z83","v":"0"},{"$f":"TERM1!AR83","v":"0"},{"$f":"TERM1!BJ83","v":"0"},{"$f":"TERM1!CB83","v":"0"},0,{"$f":"TERM1!CG83","v":0},0,0,""]
[69,69,{"$f":"INSERT!A71","v":0},{"$f":"INSERT!B71","v":0},{"$f":"INSERT!C71","v":0},{"$f":"INSERT!D71","v":0},{"$f":"INSERT!E71","v":0},{"$f":"TERM1!Z84","v":"0"},{"$f":"TERM1!AR84","v":"0"},{"$f":"TERM1!BJ84","v":"0"},{"$f":"TERM1!CB84","v":"0"},0,{"$f":"TERM1!CG84","v":0},0,0,""]
[70,70,{"$f":"INSERT!A72","v":0},{"$f":"INSERT!B72","v":0},{"$f":"INSERT!C72","v":0},{"$f":"INSERT!D72","v":0},{"$f":"INSERT!E72","v":0},{"$f":"TERM1!Z85","v":"0"},{"$f":"TERM1!AR85","v":"0"},{"$f":"TERM1!BJ85","v":"0"},{"$f":"TERM1!CB85","v":"0"},0,{"$f":"TERM1!CG85","v":0},0,0,""]
[71,71,{"$f":"INSERT!A73","v":0},{"$f":"INSERT!B73","v":0},{"$f":"INSERT!C73","v":0},{"$f":"INSERT!D73","v":0},{"$f":"INSERT!E73","v":0},{"$f":"TERM1!Z86","v":"0"},{"$f":"TERM1!AR86","v":"0"},{"$f":"TERM1!BJ86","v":"0"},{"$f":"TERM1!CB86","v":"0"},0,{"$f":"TERM1!CG86","v":0},0,0,""]
[72,72,{"$f":"INSERT!A74","v":0},{"$f":"INSERT!B74","v":0},{"$f":"INSERT!C74","v":0},{"$f":"INSERT!D74","v":0},{"$f":"INSERT!E74","v":0},{"$f":"TERM1!Z87","v":"0"},{"$f":"TERM1!AR87","v":"0"},{"$f":"TERM1!BJ87","v":"0"},{"$f":"TERM1!CB87","v":"0"},0,{"$f":"TERM1!CG87","v":0},0,0,""]
[73,73,{"$f":"INSERT!A75","v":0},{"$f":"INSERT!B75","v":0},{"$f":"INSERT!C75","v":0},{"$f":"INSERT!D75","v":0},{"$f":"INSERT!E75","v":0},{"$f":"TERM1!Z88","v":"0"},{"$f":"TERM1!AR88","v":"0"},{"$f":"TERM1!BJ88","v":"0"},{"$f":"TERM1!CB88","v":"0"},0,{"$f":"TERM1!CG88","v":0},0,0,""]
[74,74,{"$f":"INSERT!A76","v":0},{"$f":"INSERT!B76","v":0},{"$f":"INSERT!C76","v":0},{"$f":"INSERT!D76","v":0},{"$f":"INSERT!E76","v":0},{"$f":"TERM1!Z89","v":"0"},{"$f":"TERM1!AR89","v":"0"},{"$f":"TERM1!BJ89","v":"0"},{"$f":"TERM1!CB89","v":"0"},0,{"$f":"TERM1!CG89","v":0},0,0,""]
[75,75,{"$f":"INSERT!A77","v":0},{"$f":"INSERT!B77","v":0},{"$f":"INSERT!C77","v":0},{"$f":"INSERT!D77","v":0},{"$f":"INSERT!E77","v":0},{"$f":"TERM1!Z90","v":"0"},{"$f":"TERM1!AR90","v":"0"},{"$f":"TERM1!BJ90","v":"0"},{"$f":"TERM1!CB90","v":"0"},0,{"$f":"TERM1!CG90","v":0},0,0,""]
[76,76,{"$f":"INSERT!A78","v":0},{"$f":"INSERT!B78","v":0},{"$f":"INSERT!C78","v":0},{"$f":"INSERT!D78","v":0},{"$f":"INSERT!E78","v":0},{"$f":"TERM1!Z91","v":"0"},{"$f":"TERM1!AR91","v":"0"},{"$f":"TERM1!BJ91","v":"0"},{"$f":"TERM1!CB91","v":"0"},0,{"$f":"TERM1!CG91","v":0},0,0,""]
[77,77,{"$f":"INSERT!A79","v":0},{"$f":"INSERT!B79","v":0},{"$f":"INSERT!C79","v":0},{"$f":"INSERT!D79","v":0},{"$f":"INSERT!E79","v":0},{"$f":"TERM1!Z92","v":"0"},{"$f":"TERM1!AR92","v":"0"},{"$f":"TERM1!BJ92","v":"0"},{"$f":"TERM1!CB92","v":"0"},0,{"$f":"TERM1!CG92","v":0},0,0,""]
[78,78,{"$f":"INSERT!A80","v":0},{"$f":"INSERT!B80","v":0},{"$f":"INSERT!C80","v":0},{"$f":"INSERT!D80","v":0},{"$f":"INSERT!E80","v":0},{"$f":"TERM1!Z93","v":"0"},{"$f":"TERM1!AR93","v":"0"},{"$f":"TERM1!BJ93","v":"0"},{"$f":"TERM1!CB93","v":"0"},0,{"$f":"TERM1!CG93","v":0},0,0,""]
[79,79,{"$f":"INSERT!A81","v":0},{"$f":"INSERT!B81","v":0},{"$f":"INSERT!C81","v":0},{"$f":"INSERT!D81","v":0},{"$f":"INSERT!E81","v":0},{"$f":"TERM1!Z94","v":"0"},{"$f":"TERM1!AR94","v":"0"},{"$f":"TERM1!BJ94","v":"0"},{"$f":"TERM1!CB94","v":"0"},0,{"$f":"TERM1!CG94","v":0},0,0,""]
[80,80,{"$f":"INSERT!A82","v":0},{"$f":"INSERT!B82","v":0},{"$f":"INSERT!C82","v":0},{"$f":"INSERT!D82","v":0},{"$f":"INSERT!E82","v":0},{"$f":"TERM1!Z95","v":"0"},{"$f":"TERM1!AR95","v":"0"},{"$f":"TERM1!BJ95","v":"0"},{"$f":"TERM1!CB95","v":"0"},0,{"$f":"TERM1!CG95","v":0},0,0,""]
[81,81,{"$f":"INSERT!A83","v":0},{"$f":"INSERT!B83","v":0},{"$f":"INSERT!C83","v":0},{"$f":"INSERT!D83","v":0},{"$f":"INSERT!E83","v":0},{"$f":"TERM1!Z96","v":"0"},{"$f":"TERM1!AR96","v":"0"},{"$f":"TERM1!BJ96","v":"0"},{"$f":"TERM1!CB96","v":"0"},0,{"$f":"TERM1!CG96","v":0},0,0,""]
[82,82,{"$f":"INSERT!A84","v":0},{"$f":"INSERT!B84","v":0},{"$f":"INSERT!C84","v":0},{"$f":"INSERT!D84","v":0},{"$f":"INSERT!E84","v":0},{"$f":"TERM1!Z97","v":"0"},{"$f":"TERM1!AR97","v":"0"},{"$f":"TERM1!BJ97","v":"0"},{"$f":"TERM1!CB97","v":"0"},0,{"$f":"TERM1!CG97","v":0},0,0,""]
[83,83,{"$f":"INSERT!A85","v":0},{"$f":"INSERT!B85","v":0},{"$f":"INSERT!C85","v":0},{"$f":"INSERT!D85","v":0},{"$f":"INSERT!E85","v":0},{"$f":"TERM1!Z98","v":"0"},{"$f":"TERM1!AR98","v":"0"},{"$f":"TERM1!BJ98","v":"0"},{"$f":"TERM1!CB98","v":"0"},0,{"$f":"TERM1!CG98","v":0},0,0,""]
[84,84,{"$f":"INSERT!A86","v":0},{"$f":"INSERT!B86","v":0},{"$f":"INSERT!C86","v":0},{"$f":"INSERT!D86","v":0},{"$f":"INSERT!E86","v":0},{"$f":"TERM1!Z99","v":"0"},{"$f":"TERM1!AR99","v":"0"},{"$f":"TERM1!BJ99","v":"0"},{"$f":"TERM1!CB99","v":"0"},0,{"$f":"TERM1!CG99","v":0},0,0,""]
[85,85,{"$f":"INSERT!A87","v":0},{"$f":"INSERT!B87","v":0},{"$f":"INSERT!C87","v":0},{"$f":"INSERT!D87","v":0},{"$f":"INSERT!E87","v":0},{"$f":"TERM1!Z100","v":"0"},{"$f":"TERM1!AR100","v":"0"},{"$f":"TERM1!BJ100","v":"0"},{"$f":"TERM1!CB100","v":"0"},0,{"$f":"TERM1!CG100","v":0},0,0,""]
[86,86,{"$f":"INSERT!A88","v":0},{"$f":"INSERT!B88","v":0},{"$f":"INSERT!C88","v":0},{"$f":"INSERT!D88","v":0},{"$f":"INSERT!E88","v":0},{"$f":"TERM1!Z101","v":"0"},{"$f":"TERM1!AR101","v":"0"},{"$f":"TERM1!BJ101","v":"0"},{"$f":"TERM1!CB101","v":"0"},0,{"$f":"TERM1!CG101","v":0},0,0,""]
[87,87,{"$f":"INSERT!A89","v":0},{"$f":"INSERT!B89","v":0},{"$f":"INSERT!C89","v":0},{"$f":"INSERT!D89","v":0},{"$f":"INSERT!E89","v":0},{"$f":"TERM1!Z102","v":"0"},{"$f":"TERM1!AR102","v":"0"},{"$f":"TERM1!BJ102","v":"0"},{"$f":"TERM1!CB102","v":"0"},0,{"$f":"TERM1!CG102","v":0},0,0,""]
[88,88,{"$f":"INSERT!A90","v":0},{"$f":"INSERT!B90","v":0},{"$f":"INSERT!C90","v":0},{"$f":"INSERT!D90","v":0},{"$f":"INSERT!E90","v":0},{"$f":"TERM1!Z103","v":"0"},{"$f":"TERM1!AR103","v":"0"},{"$f":"TERM1!BJ103","v":"0"},{"$f":"TERM1!CB103","v":"0"},0,{"$f":"TERM1!CG103","v":0},0,0,""]
[89,89,{"$f":"INSERT!A91","v":0},{"$f":"INSERT!B91","v":0},{"$f":"INSERT!C91","v":0},{"$f":"INSERT!D91","v":0},{"$f":"INSERT!E91","v":0},{"$f":"TERM1!Z104","v":"0"},{"$f":"TERM1!AR104","v":"0"},{"$f":"TERM1!BJ104","v":"0"},{"$f":"TERM1!CB104","v":"0"},0,{"$f":"TERM1!CG104","v":0},0,0,""]
[90,90,{"$f":"INSERT!A92","v":0},{"$f":"INSERT!B92","v":0},{"$f":"INSERT!C92","v":0},{"$f":"INSERT!D92","v":0},{"$f":"INSERT!E92","v":0},{"$f":"TERM1!Z105","v":"0"},{"$f":"TERM1!AR105","v":"0"},{"$f":"TERM1!BJ105","v":"0"},{"$f":"TERM1!CB105","v":"0"},0,{"$f":"TERM1!CG105","v":0},0,0,""]
[91,91,{"$f":"INSERT!A93","v":0},{"$f":"INSERT!B93","v":0},{"$f":"INSERT!C93","v":0},{"$f":"INSERT!D93","v":0},{"$f":"INSERT!E93","v":0},{"$f":"TERM1!Z106","v":"0"},{"$f":"TERM1!AR106","v":"0"},{"$f":"TERM1!BJ106","v":"0"},{"$f":"TERM1!CB106","v":"0"},0,{"$f":"TERM1!CG106","v":0},0,0,""]
[92,92,{"$f":"INSERT!A94","v":0},{"$f":"INSERT!B94","v":0},{"$f":"INSERT!C94","v":0},{"$f":"INSERT!D94","v":0},{"$f":"INSERT!E94","v":0},{"$f":"TERM1!Z107","v":"0"},{"$f":"TERM1!AR107","v":"0"},{"$f":"TERM1!BJ107","v":"0"},{"$f":"TERM1!CB107","v":"0"},0,{"$f":"TERM1!CG107","v":0},0,0,""]
[93,93,{"$f":"INSERT!A95","v":0},{"$f":"INSERT!B95","v":0},{"$f":"INSERT!C95","v":0},{"$f":"INSERT!D95","v":0},{"$f":"INSERT!E95","v":0},{"$f":"TERM1!Z108","v":"0"},{"$f":"TERM1!AR108","v":"0"},{"$f":"TERM1!BJ108","v":"0"},{"$f":"TERM1!CB108","v":"0"},0,{"$f":"TERM1!CG108","v":0},0,0,""]
[94,94,{"$f":"INSERT!A96","v":0},{"$f":"INSERT!B96","v":0},{"$f":"INSERT!C96","v":0},{"$f":"INSERT!D96","v":0},{"$f":"INSERT!E96","v":0},{"$f":"TERM1!Z109","v":"0"},{"$f":"TERM1!AR109","v":"0"},{"$f":"TERM1!BJ109","v":"0"},{"$f":"TERM1!CB109","v":"0"},0,{"$f":"TERM1!CG109","v":0},0,0,""]
[95,95,{"$f":"INSERT!A97","v":0},{"$f":"INSERT!B97","v":0},{"$f":"INSERT!C97","v":0},{"$f":"INSERT!D97","v":0},{"$f":"INSERT!E97","v":0},{"$f":"TERM1!Z110","v":"0"},{"$f":"TERM1!AR110","v":"0"},{"$f":"TERM1!BJ110","v":"0"},{"$f":"TERM1!CB110","v":"0"},0,{"$f":"TERM1!CG110","v":0},0,0,""]
[96,96,{"$f":"INSERT!A98","v":0},{"$f":"INSERT!B98","v":0},{"$f":"INSERT!C98","v":0},{"$f":"INSERT!D98","v":0},{"$f":"INSERT!E98","v":0},{"$f":"TERM1!Z111","v":"0"},{"$f":"TERM1!AR111","v":"0"},{"$f":"TERM1!BJ111","v":"0"},{"$f":"TERM1!CB111","v":"0"},0,{"$f":"TERM1!CG111","v":0},0,0,""]
[97,97,{"$f":"INSERT!A99","v":0},{"$f":"INSERT!B99","v":0},{"$f":"INSERT!C99","v":0},{"$f":"INSERT!D99","v":0},{"$f":"INSERT!E99","v":0},{"$f":"TERM1!Z112","v":"0"},{"$f":"TERM1!AR112","v":"0"},{"$f":"TERM1!BJ112","v":"0"},{"$f":"TERM1!CB112","v":"0"},0,{"$f":"TERM1!CG112","v":0},0,0,{"$f":"IF(O105>79,\"7\",IF(O105>69,\"6\",IF(O105>59,\"5\",IF(O105>49,\"4\",IF(O105>39,\"3\",IF(O105>29,\"2\",IF(O105>0,\"1\",IF(O105=0,\"\"))))))))","v":""}]
[98,98,{"$f":"INSERT!A100","v":0},{"$f":"INSERT!B100","v":0},{"$f":"INSERT!C100","v":0},{"$f":"INSERT!D100","v":0},{"$f":"INSERT!E100","v":0},{"$f":"TERM1!Z113","v":"0"},{"$f":"TERM1!AR113","v":"0"},{"$f":"TERM1!BJ113","v":"0"},{"$f":"TERM1!CB113","v":"0"},0,{"$f":"TERM1!CG113","v":0},0,0,""]
[99,99,{"$f":"INSERT!A101","v":0},{"$f":"INSERT!B101","v":0},{"$f":"INSERT!C101","v":0},{"$f":"INSERT!D101","v":0},{"$f":"INSERT!E101","v":0},{"$f":"TERM1!Z114","v":"0"},{"$f":"TERM1!AR114","v":"0"},{"$f":"TERM1!BJ114","v":"0"},{"$f":"TERM1!CB114","v":"0"},0,{"$f":"TERM1!CG114","v":0},0,0,""]
[100,100,{"$f":"INSERT!A102","v":0},{"$f":"INSERT!B102","v":0},{"$f":"INSERT!C102","v":0},{"$f":"INSERT!D102","v":0},{"$f":"INSERT!E102","v":0},{"$f":"TERM1!Z115","v":"0"},{"$f":"TERM1!AR115","v":"0"},{"$f":"TERM1!BJ115","v":"0"},{"$f":"TERM1!CB115","v":"0"},0,{"$f":"TERM1!CG115","v":0},0,0,""]
[0,null,0,0,0,0,"Total",{"$f":"SUM(H9:H108)","v":0},0,0,0,0,0,0,{"$f":"SUM(O9:O108)","v":0}]
[0,null,0,0,0,0,"Average%",{"$f":"IFERROR(ROUND((AVERAGEIF(H9:H108,\">0\")/H4*100),1),\"0\")","v":"0"},"0","0","0","0","0",0,{"$f":"IFERROR(ROUND((AVERAGEIF(O9:O108,\">0\")/O7*100),1),\"0\")","v":"0"}]
["Total amount of learners on mark sheet",null,null,null,"X","Term results analysis",null,"LEVEL 1","LEVEL 2","LEVEL 3","LEVEL 4","LEVEL 5",null,"LEVEL 6","LEVEL 7","TOTAL"]
[null,null,null,null,{"$f":"INSERT!$E$103","v":0},null,null," 0 - 29 "," 30 - 39 "," 40 - 49 "," 50 - 59 "," 60 - 69 ",null," 70 - 79 "," 80 - 100 "]
[null,null,null,null,"X",null,null,{"$f":"COUNTIF(P9:P108,1)","v":0},{"$f":"COUNTIF($P$9:$P$108,2)","v":0},{"$f":"COUNTIF($P$9:$P$108,3)","v":0},{"$f":"COUNTIF($P$9:$P$108,4)","v":0},{"$f":"COUNTIF($P$9:$P$108,5)","v":0},null,{"$f":"COUNTIF($P$9:$P$108,6)","v":0},{"$f":"COUNTIF($P$9:$P$108,7)","v":0},{"$f":"SUM(H113:O113)","v":0}]

{"sheet":"SASAMS TERM2","index":8,"n_rows":113,"n_cols":23,"rows_kept":113,"cut":false,"hidden":false,"merged":[[110,0,112,3],[110,5,112,6],[5,4,5,5],[0,20,2,22],[2,0,2,6],[3,0,3,4],[3,20,5,20],[3,21,5,21],[3,22,5,22],[4,0,4,6],[0,0,0,5],[1,0,1,2]]}
[" ",null,null,null,null,null,"TASKS",null,null,null,"TASK 3",null,null,"TASK 4",null,null,null,null,null,"TASK PAT (Phase 1)"]
["Grade:",null,null,{"$f":"TERM1!$F$6","v":0},null,null,"Activities",{"$f":"TERM2!$I$4","v":"CD5 2-point perspective"},{"$f":"TERM2!$AA$4","v":"CD6  Floor Plan & Elevations"},{"$f":"TERM2!$AS$4","v":"CD7  Sectional Elevation"},null,"Paper 1","Paper 2",null,"1. Design brief","2. Research","3.1 Possible solutions","3.2 Possible solutions","4. Selection of final solution",null,"100"]
["Weighting ",null,null,null,null,null,null,33,33,34,40,50,50,60,20,20,20,20,20,0]
[" Marks: -1 = Absent,  -2 = Not Captured",null,null,null,null,null,"Total Mark",10,10,10,30,75,75,{"$f":"SUM(L4:M4)","v":150},10,10,10,10,10,29,"TOTAL Weighted Mark","Term\n%","Level"]
["SBA Year Mark Weight ",null,null,null,null,null,null,null,null,null,9,null,null,60]
[null,null,null,null,null,null,"Term \n /Date ",null,null,null,"Term2",null,null,"Term2",null,null,null,null,null,"Term2"]
["No",null,"Class","Acc No","Learner",null,"Gender","T2:A1","T2:A2","T2:A3","T2","T3:A1","T3:A2","T3","T1:A1","T1:A2","T1:A3","T1:A4","T1:A5","T1",100,100]
[]
[1,1,{"$f":"INSERT!A3","v":0},{"$f":"INSERT!B3","v":0},{"$f":"INSERT!C3","v":0},{"$f":"INSERT!D3","v":0},{"$f":"INSERT!E3","v":0},{"$f":"TERM2!Z16","v":0},{"$f":"TERM2!AR16","v":0},{"$f":"TERM2!BJ16","v":0},{"$f":"ROUND((SUMIF(H9:J9,\">0\")),0)","v":0},{"$f":"TERM2!BK16","v":0},{"$f":"TERM2!BM16","v":0},{"$f":"SUMIF(L9:M9,\">0\")","v":0},{"$f":"'FIN PAT MARK SHEET'!J18","v":0},{"$f":"'FIN PAT MARK SHEET'!K18","v":0},{"$f":"'FIN PAT MARK SHEET'!L18","v":0},{"$f":"'FIN PAT MARK SHEET'!M18","v":0},{"$f":"'FIN PAT MARK SHEET'!N18","v":0},{"$f":"ROUND((SUMIF(O9:S9,\">0\")/1.724137931),0)","v":0},{"$f":"SUM(K9/0.75)+SUM(N9/2.5)","v":0},{"$f":"ROUND(U9,0)","v":0},{"$f":"IF(V9>79,\"7\",IF(V9>69,\"6\",IF(V9>59,\"5\",IF(V9>49,\"4\",IF(V9>39,\"3\",IF(V9>29,\"2\",IF(V9>0,\"1\",IF(V9=0,\"\"))))))))","v":""}]
[2,36,{"$f":"INSERT!A4","v":0},{"$f":"INSERT!B4","v":0},{"$f":"INSERT!C4","v":0},{"$f":"INSERT!D4","v":0},{"$f":"INSERT!E4","v":0},{"$f":"TERM2!Z17","v":0},{"$f":"TERM2!AR17","v":0},{"$f":"TERM2!BJ17","v":0},0,{"$f":"TERM2!BK17","v":0},{"$f":"TERM2!BM17","v":0},{"$f":"SUMIF(L10:M10,\">0\")","v":0},{"$f":"'FIN PAT MARK SHEET'!J19","v":0},{"$f":"'FIN PAT MARK SHEET'!K19","v":0},{"$f":"'FIN PAT MARK SHEET'!L19","v":0},{"$f":"'FIN PAT MARK SHEET'!M19","v":0},{"$f":"'FIN PAT MARK SHEET'!N19","v":0},0,{"$f":"SUM(K10/0.75)+SUM(N10/2.5)","v":0},0,""]
[3,2,{"$f":"INSERT!A5","v":0},{"$f":"INSERT!B5","v":0},{"$f":"INSERT!C5","v":0},{"$f":"INSERT!D5","v":0},{"$f":"INSERT!E5","v":0},{"$f":"TERM2!Z18","v":0},{"$f":"TERM2!AR18","v":0},{"$f":"TERM2!BJ18","v":0},0,{"$f":"TERM2!BK18","v":0},{"$f":"TERM2!BM18","v":0},0,{"$f":"'FIN PAT MARK SHEET'!J20","v":0},{"$f":"'FIN PAT MARK SHEET'!K20","v":0},{"$f":"'FIN PAT MARK SHEET'!L20","v":0},{"$f":"'FIN PAT MARK SHEET'!M20","v":0},{"$f":"'FIN PAT MARK SHEET'!N20","v":0},0,0,0,""]
[4,3,{"$f":"INSERT!A6","v":0},{"$f":"INSERT!B6","v":0},{"$f":"INSERT!C6","v":0},{"$f":"INSERT!D6","v":0},{"$f":"INSERT!E6","v":0},{"$f":"TERM2!Z19","v":0},{"$f":"TERM2!AR19","v":0},{"$f":"TERM2!BJ19","v":0},0,{"$f":"TERM2!BK19","v":0},{"$f":"TERM2!BM19","v":0},0,{"$f":"'FIN PAT MARK SHEET'!J21","v":0},{"$f":"'FIN PAT MARK SHEET'!K21","v":0},{"$f":"'FIN PAT MARK SHEET'!L21","v":0},{"$f":"'FIN PAT MARK SHEET'!M21","v":0},{"$f":"'FIN PAT MARK SHEET'!N21","v":0},0,0,0,""]
[5,4,{"$f":"INSERT!A7","v":0},{"$f":"INSERT!B7","v":0},{"$f":"INSERT!C7","v":0},{"$f":"INSERT!D7","v":0},{"$f":"INSERT!E7","v":0},{"$f":"TERM2!Z20","v":0},{"$f":"TERM2!AR20","v":0},{"$f":"TERM2!BJ20","v":0},0,{"$f":"TERM2!BK20","v":0},{"$f":"TERM2!BM20","v":0},0,{"$f":"'FIN PAT MARK SHEET'!J22","v":0},{"$f":"'FIN PAT MARK SHEET'!K22","v":0},{"$f":"'FIN PAT MARK SHEET'!L22","v":0},{"$f":"'FIN PAT MARK SHEET'!M22","v":0},{"$f":"'FIN PAT MARK SHEET'!N22","v":0},0,0,0,""]
[6,5,{"$f":"INSERT!A8","v":0},{"$f":"INSERT!B8","v":0},{"$f":"INSERT!C8","v":0},{"$f":"INSERT!D8","v":0},{"$f":"INSERT!E8","v":0},{"$f":"TERM2!Z21","v":0},{"$f":"TERM2!AR21","v":0},{"$f":"TERM2!BJ21","v":0},0,{"$f":"TERM2!BK21","v":0},{"$f":"TERM2!BM21","v":0},0,{"$f":"'FIN PAT MARK SHEET'!J23","v":0},{"$f":"'FIN PAT MARK SHEET'!K23","v":0},{"$f":"'FIN PAT MARK SHEET'!L23","v":0},{"$f":"'FIN PAT MARK SHEET'!M23","v":0},{"$f":"'FIN PAT MARK SHEET'!N23","v":0},0,0,0,""]
[7,6,{"$f":"INSERT!A9","v":0},{"$f":"INSERT!B9","v":0},{"$f":"INSERT!C9","v":0},{"$f":"INSERT!D9","v":0},{"$f":"INSERT!E9","v":0},{"$f":"TERM2!Z22","v":0},{"$f":"TERM2!AR22","v":0},{"$f":"TERM2!BJ22","v":0},0,{"$f":"TERM2!BK22","v":0},{"$f":"TERM2!BM22","v":0},0,{"$f":"'FIN PAT MARK SHEET'!J24","v":0},{"$f":"'FIN PAT MARK SHEET'!K24","v":0},{"$f":"'FIN PAT MARK SHEET'!L24","v":0},{"$f":"'FIN PAT MARK SHEET'!M24","v":0},{"$f":"'FIN PAT MARK SHEET'!N24","v":0},0,0,0,""]
[8,7,{"$f":"INSERT!A10","v":0},{"$f":"INSERT!B10","v":0},{"$f":"INSERT!C10","v":0},{"$f":"INSERT!D10","v":0},{"$f":"INSERT!E10","v":0},{"$f":"TERM2!Z23","v":0},{"$f":"TERM2!AR23","v":0},{"$f":"TERM2!BJ23","v":0},0,{"$f":"TERM2!BK23","v":0},{"$f":"TERM2!BM23","v":0},0,{"$f":"'FIN PAT MARK SHEET'!J25","v":0},{"$f":"'FIN PAT MARK SHEET'!K25","v":0},{"$f":"'FIN PAT MARK SHEET'!L25","v":0},{"$f":"'FIN PAT MARK SHEET'!M25","v":0},{"$f":"'FIN PAT MARK SHEET'!N25","v":0},0,0,0,""]
[9,8,{"$f":"INSERT!A11","v":0},{"$f":"INSERT!B11","v":0},{"$f":"INSERT!C11","v":0},{"$f":"INSERT!D11","v":0},{"$f":"INSERT!E11","v":0},{"$f":"TERM2!Z24","v":0},{"$f":"TERM2!AR24","v":0},{"$f":"TERM2!BJ24","v":0},0,{"$f":"TERM2!BK24","v":0},{"$f":"TERM2!BM24","v":0},0,{"$f":"'FIN PAT MARK SHEET'!J26","v":0},{"$f":"'FIN PAT MARK SHEET'!K26","v":0},{"$f":"'FIN PAT MARK SHEET'!L26","v":0},{"$f":"'FIN PAT MARK SHEET'!M26","v":0},{"$f":"'FIN PAT MARK SHEET'!N26","v":0},0,0,0,""]
[10,9,{"$f":"INSERT!A12","v":0},{"$f":"INSERT!B12","v":0},{"$f":"INSERT!C12","v":0},{"$f":"INSERT!D12","v":0},{"$f":"INSERT!E12","v":0},{"$f":"TERM2!Z25","v":0},{"$f":"TERM2!AR25","v":0},{"$f":"TERM2!BJ25","v":0},0,{"$f":"TERM2!BK25","v":0},{"$f":"TERM2!BM25","v":0},0,{"$f":"'FIN PAT MARK SHEET'!J27","v":0},{"$f":"'FIN PAT MARK SHEET'!K27","v":0},{"$f":"'FIN PAT MARK SHEET'!L27","v":0},{"$f":"'FIN PAT MARK SHEET'!M27","v":0},{"$f":"'FIN PAT MARK SHEET'!N27","v":0},0,0,0,""]
[11,11,{"$f":"INSERT!A13","v":0},{"$f":"INSERT!B13","v":0},{"$f":"INSERT!C13","v":0},{"$f":"INSERT!D13","v":0},{"$f":"INSERT!E13","v":0},{"$f":"TERM2!Z26","v":0},{"$f":"TERM2!AR26","v":0},{"$f":"TERM2!BJ26","v":0},0,{"$f":"TERM2!BK26","v":0},{"$f":"TERM2!BM26","v":0},0,{"$f":"'FIN PAT MARK SHEET'!J28","v":0},{"$f":"'FIN PAT MARK SHEET'!K28","v":0},{"$f":"'FIN PAT MARK SHEET'!L28","v":0},{"$f":"'FIN PAT MARK SHEET'!M28","v":0},{"$f":"'FIN PAT MARK SHEET'!N28","v":0},0,0,0,""]
[12,12,{"$f":"INSERT!A14","v":0},{"$f":"INSERT!B14","v":0},{"$f":"INSERT!C14","v":0},{"$f":"INSERT!D14","v":0},{"$f":"INSERT!E14","v":0},{"$f":"TERM2!Z27","v":0},{"$f":"TERM2!AR27","v":0},{"$f":"TERM2!BJ27","v":0},0,{"$f":"TERM2!BK27","v":0},{"$f":"TERM2!BM27","v":0},0,{"$f":"'FIN PAT MARK SHEET'!J29","v":0},{"$f":"'FIN PAT MARK SHEET'!K29","v":0},{"$f":"'FIN PAT MARK SHEET'!L29","v":0},{"$f":"'FIN PAT MARK SHEET'!M29","v":0},{"$f":"'FIN PAT MARK SHEET'!N29","v":0},0,0,0,""]
[13,13,{"$f":"INSERT!A15","v":0},{"$f":"INSERT!B15","v":0},{"$f":"INSERT!C15","v":0},{"$f":"INSERT!D15","v":0},{"$f":"INSERT!E15","v":0},{"$f":"TERM2!Z28","v":0},{"$f":"TERM2!AR28","v":0},{"$f":"TERM2!BJ28","v":0},0,{"$f":"TERM2!BK28","v":0},{"$f":"TERM2!BM28","v":0},0,{"$f":"'FIN PAT MARK SHEET'!J30","v":0},{"$f":"'FIN PAT MARK SHEET'!K30","v":0},{"$f":"'FIN PAT MARK SHEET'!L30","v":0},{"$f":"'FIN PAT MARK SHEET'!M30","v":0},{"$f":"'FIN PAT MARK SHEET'!N30","v":0},0,0,0,""]
[14,14,{"$f":"INSERT!A16","v":0},{"$f":"INSERT!B16","v":0},{"$f":"INSERT!C16","v":0},{"$f":"INSERT!D16","v":0},{"$f":"INSERT!E16","v":0},{"$f":"TERM2!Z29","v":0},{"$f":"TERM2!AR29","v":0},{"$f":"TERM2!BJ29","v":0},0,{"$f":"TERM2!BK29","v":0},{"$f":"TERM2!BM29","v":0},0,{"$f":"'FIN PAT MARK SHEET'!J31","v":0},{"$f":"'FIN PAT MARK SHEET'!K31","v":0},{"$f":"'FIN PAT MARK SHEET'!L31","v":0},{"$f":"'FIN PAT MARK SHEET'!M31","v":0},{"$f":"'FIN PAT MARK SHEET'!N31","v":0},0,0,0,""]
[15,15,{"$f":"INSERT!A17","v":0},{"$f":"INSERT!B17","v":0},{"$f":"INSERT!C17","v":0},{"$f":"INSERT!D17","v":0},{"$f":"INSERT!E17","v":0},{"$f":"TERM2!Z30","v":0},{"$f":"TERM2!AR30","v":0},{"$f":"TERM2!BJ30","v":0},0,{"$f":"TERM2!BK30","v":0},{"$f":"TERM2!BM30","v":0},0,{"$f":"'FIN PAT MARK SHEET'!J32","v":0},{"$f":"'FIN PAT MARK SHEET'!K32","v":0},{"$f":"'FIN PAT MARK SHEET'!L32","v":0},{"$f":"'FIN PAT MARK SHEET'!M32","v":0},{"$f":"'FIN PAT MARK SHEET'!N32","v":0},0,0,0,""]
[16,16,{"$f":"INSERT!A18","v":0},{"$f":"INSERT!B18","v":0},{"$f":"INSERT!C18","v":0},{"$f":"INSERT!D18","v":0},{"$f":"INSERT!E18","v":0},{"$f":"TERM2!Z31","v":0},{"$f":"TERM2!AR31","v":0},{"$f":"TERM2!BJ31","v":0},0,{"$f":"TERM2!BK31","v":0},{"$f":"TERM2!BM31","v":0},0,{"$f":"'FIN PAT MARK SHEET'!J33","v":0},{"$f":"'FIN PAT MARK SHEET'!K33","v":0},{"$f":"'FIN PAT MARK SHEET'!L33","v":0},{"$f":"'FIN PAT MARK SHEET'!M33","v":0},{"$f":"'FIN PAT MARK SHEET'!N33","v":0},0,0,0,""]
[17,17,{"$f":"INSERT!A19","v":0},{"$f":"INSERT!B19","v":0},{"$f":"INSERT!C19","v":0},{"$f":"INSERT!D19","v":0},{"$f":"INSERT!E19","v":0},{"$f":"TERM2!Z32","v":0},{"$f":"TERM2!AR32","v":0},{"$f":"TERM2!BJ32","v":0},0,{"$f":"TERM2!BK32","v":0},{"$f":"TERM2!BM32","v":0},0,{"$f":"'FIN PAT MARK SHEET'!J34","v":0},{"$f":"'FIN PAT MARK SHEET'!K34","v":0},{"$f":"'FIN PAT MARK SHEET'!L34","v":0},{"$f":"'FIN PAT MARK SHEET'!M34","v":0},{"$f":"'FIN PAT MARK SHEET'!N34","v":0},0,0,0,""]
[18,18,{"$f":"INSERT!A20","v":0},{"$f":"INSERT!B20","v":0},{"$f":"INSERT!C20","v":0},{"$f":"INSERT!D20","v":0},{"$f":"INSERT!E20","v":0},{"$f":"TERM2!Z33","v":0},{"$f":"TERM2!AR33","v":0},{"$f":"TERM2!BJ33","v":0},0,{"$f":"TERM2!BK33","v":0},{"$f":"TERM2!BM33","v":0},0,{"$f":"'FIN PAT MARK SHEET'!J35","v":0},{"$f":"'FIN PAT MARK SHEET'!K35","v":0},{"$f":"'FIN PAT MARK SHEET'!L35","v":0},{"$f":"'FIN PAT MARK SHEET'!M35","v":0},{"$f":"'FIN PAT MARK SHEET'!N35","v":0},0,0,0,""]
[19,19,{"$f":"INSERT!A21","v":0},{"$f":"INSERT!B21","v":0},{"$f":"INSERT!C21","v":0},{"$f":"INSERT!D21","v":0},{"$f":"INSERT!E21","v":0},{"$f":"TERM2!Z34","v":0},{"$f":"TERM2!AR34","v":0},{"$f":"TERM2!BJ34","v":0},0,{"$f":"TERM2!BK34","v":0},{"$f":"TERM2!BM34","v":0},0,{"$f":"'FIN PAT MARK SHEET'!J36","v":0},{"$f":"'FIN PAT MARK SHEET'!K36","v":0},{"$f":"'FIN PAT MARK SHEET'!L36","v":0},{"$f":"'FIN PAT MARK SHEET'!M36","v":0},{"$f":"'FIN PAT MARK SHEET'!N36","v":0},0,0,0,""]
[20,20,{"$f":"INSERT!A22","v":0},{"$f":"INSERT!B22","v":0},{"$f":"INSERT!C22","v":0},{"$f":"INSERT!D22","v":0},{"$f":"INSERT!E22","v":0},{"$f":"TERM2!Z35","v":0},{"$f":"TERM2!AR35","v":0},{"$f":"TERM2!BJ35","v":0},0,{"$f":"TERM2!BK35","v":0},{"$f":"TERM2!BM35","v":0},0,{"$f":"'FIN PAT MARK SHEET'!J37","v":0},{"$f":"'FIN PAT MARK SHEET'!K37","v":0},{"$f":"'FIN PAT MARK SHEET'!L37","v":0},{"$f":"'FIN PAT MARK SHEET'!M37","v":0},{"$f":"'FIN PAT MARK SHEET'!N37","v":0},0,0,0,""]
[21,21,{"$f":"INSERT!A23","v":0},{"$f":"INSERT!B23","v":0},{"$f":"INSERT!C23","v":0},{"$f":"INSERT!D23","v":0},{"$f":"INSERT!E23","v":0},{"$f":"TERM2!Z36","v":0},{"$f":"TERM2!AR36","v":0},{"$f":"TERM2!BJ36","v":0},0,{"$f":"TERM2!BK36","v":0},{"$f":"TERM2!BM36","v":0},0,{"$f":"'FIN PAT MARK SHEET'!J38","v":0},{"$f":"'FIN PAT MARK SHEET'!K38","v":0},{"$f":"'FIN PAT MARK SHEET'!L38","v":0},{"$f":"'FIN PAT MARK SHEET'!M38","v":0},{"$f":"'FIN PAT MARK SHEET'!N38","v":0},0,0,0,""]
[22,22,{"$f":"INSERT!A24","v":0},{"$f":"INSERT!B24","v":0},{"$f":"INSERT!C24","v":0},{"$f":"INSERT!D24","v":0},{"$f":"INSERT!E24","v":0},{"$f":"TERM2!Z37","v":0},{"$f":"TERM2!AR37","v":0},{"$f":"TERM2!BJ37","v":0},0,{"$f":"TERM2!BK37","v":0},{"$f":"TERM2!BM37","v":0},0,{"$f":"'FIN PAT MARK SHEET'!J39","v":0},{"$f":"'FIN PAT MARK SHEET'!K39","v":0},{"$f":"'FIN PAT MARK SHEET'!L39","v":0},{"$f":"'FIN PAT MARK SHEET'!M39","v":0},{"$f":"'FIN PAT MARK SHEET'!N39","v":0},0,0,0,""]
[23,23,{"$f":"INSERT!A25","v":0},{"$f":"INSERT!B25","v":0},{"$f":"INSERT!C25","v":0},{"$f":"INSERT!D25","v":0},{"$f":"INSERT!E25","v":0},{"$f":"TERM2!Z38","v":0},{"$f":"TERM2!AR38","v":0},{"$f":"TERM2!BJ38","v":0},0,{"$f":"TERM2!BK38","v":0},{"$f":"TERM2!BM38","v":0},0,{"$f":"'FIN PAT MARK SHEET'!J40","v":0},{"$f":"'FIN PAT MARK SHEET'!K40","v":0},{"$f":"'FIN PAT MARK SHEET'!L40","v":0},{"$f":"'FIN PAT MARK SHEET'!M40","v":0},{"$f":"'FIN PAT MARK SHEET'!N40","v":0},0,0,0,""]
[24,24,{"$f":"INSERT!A26","v":0},{"$f":"INSERT!B26","v":0},{"$f":"INSERT!C26","v":0},{"$f":"INSERT!D26","v":0},{"$f":"INSERT!E26","v":0},{"$f":"TERM2!Z39","v":0},{"$f":"TERM2!AR39","v":0},{"$f":"TERM2!BJ39","v":0},0,{"$f":"TERM2!BK39","v":0},{"$f":"TERM2!BM39","v":0},0,{"$f":"'FIN PAT MARK SHEET'!J41","v":0},{"$f":"'FIN PAT MARK SHEET'!K41","v":0},{"$f":"'FIN PAT MARK SHEET'!L41","v":0},{"$f":"'FIN PAT MARK SHEET'!M41","v":0},{"$f":"'FIN PAT MARK SHEET'!N41","v":0},0,0,0,""]
[25,25,{"$f":"INSERT!A27","v":0},{"$f":"INSERT!B27","v":0},{"$f":"INSERT!C27","v":0},{"$f":"INSERT!D27","v":0},{"$f":"INSERT!E27","v":0},{"$f":"TERM2!Z40","v":0},{"$f":"TERM2!AR40","v":0},{"$f":"TERM2!BJ40","v":0},0,{"$f":"TERM2!BK40","v":0},{"$f":"TERM2!BM40","v":0},0,{"$f":"'FIN PAT MARK SHEET'!J42","v":0},{"$f":"'FIN PAT MARK SHEET'!K42","v":0},{"$f":"'FIN PAT MARK SHEET'!L42","v":0},{"$f":"'FIN PAT MARK SHEET'!M42","v":0},{"$f":"'FIN PAT MARK SHEET'!N42","v":0},0,0,0,""]
[26,26,{"$f":"INSERT!A28","v":0},{"$f":"INSERT!B28","v":0},{"$f":"INSERT!C28","v":0},{"$f":"INSERT!D28","v":0},{"$f":"INSERT!E28","v":0},{"$f":"TERM2!Z41","v":0},{"$f":"TERM2!AR41","v":0},{"$f":"TERM2!BJ41","v":0},0,{"$f":"TERM2!BK41","v":0},{"$f":"TERM2!BM41","v":0},0,{"$f":"'FIN PAT MARK SHEET'!J43","v":0},{"$f":"'FIN PAT MARK SHEET'!K43","v":0},{"$f":"'FIN PAT MARK SHEET'!L43","v":0},{"$f":"'FIN PAT MARK SHEET'!M43","v":0},{"$f":"'FIN PAT MARK SHEET'!N43","v":0},0,0,0,""]
[27,28,{"$f":"INSERT!A29","v":0},{"$f":"INSERT!B29","v":0},{"$f":"INSERT!C29","v":0},{"$f":"INSERT!D29","v":0},{"$f":"INSERT!E29","v":0},{"$f":"TERM2!Z42","v":0},{"$f":"TERM2!AR42","v":0},{"$f":"TERM2!BJ42","v":0},0,{"$f":"TERM2!BK42","v":0},{"$f":"TERM2!BM42","v":0},0,{"$f":"'FIN PAT MARK SHEET'!J44","v":0},{"$f":"'FIN PAT MARK SHEET'!K44","v":0},{"$f":"'FIN PAT MARK SHEET'!L44","v":0},{"$f":"'FIN PAT MARK SHEET'!M44","v":0},{"$f":"'FIN PAT MARK SHEET'!N44","v":0},0,0,0,""]
[28,29,{"$f":"INSERT!A30","v":0},{"$f":"INSERT!B30","v":0},{"$f":"INSERT!C30","v":0},{"$f":"INSERT!D30","v":0},{"$f":"INSERT!E30","v":0},{"$f":"TERM2!Z43","v":0},{"$f":"TERM2!AR43","v":0},{"$f":"TERM2!BJ43","v":0},0,{"$f":"TERM2!BK43","v":0},{"$f":"TERM2!BM43","v":0},0,{"$f":"'FIN PAT MARK SHEET'!J45","v":0},{"$f":"'FIN PAT MARK SHEET'!K45","v":0},{"$f":"'FIN PAT MARK SHEET'!L45","v":0},{"$f":"'FIN PAT MARK SHEET'!M45","v":0},{"$f":"'FIN PAT MARK SHEET'!N45","v":0},0,0,0,""]
[29,30,{"$f":"INSERT!A31","v":0},{"$f":"INSERT!B31","v":0},{"$f":"INSERT!C31","v":0},{"$f":"INSERT!D31","v":0},{"$f":"INSERT!E31","v":0},{"$f":"TERM2!Z44","v":0},{"$f":"TERM2!AR44","v":0},{"$f":"TERM2!BJ44","v":0},0,{"$f":"TERM2!BK44","v":0},{"$f":"TERM2!BM44","v":0},0,{"$f":"'FIN PAT MARK SHEET'!J46","v":0},{"$f":"'FIN PAT MARK SHEET'!K46","v":0},{"$f":"'FIN PAT MARK SHEET'!L46","v":0},{"$f":"'FIN PAT MARK SHEET'!M46","v":0},{"$f":"'FIN PAT MARK SHEET'!N46","v":0},0,0,0,""]
[30,31,{"$f":"INSERT!A32","v":0},{"$f":"INSERT!B32","v":0},{"$f":"INSERT!C32","v":0},{"$f":"INSERT!D32","v":0},{"$f":"INSERT!E32","v":0},{"$f":"TERM2!Z45","v":0},{"$f":"TERM2!AR45","v":0},{"$f":"TERM2!BJ45","v":0},0,{"$f":"TERM2!BK45","v":0},{"$f":"TERM2!BM45","v":0},0,{"$f":"'FIN PAT MARK SHEET'!J47","v":0},{"$f":"'FIN PAT MARK SHEET'!K47","v":0},{"$f":"'FIN PAT MARK SHEET'!L47","v":0},{"$f":"'FIN PAT MARK SHEET'!M47","v":0},{"$f":"'FIN PAT MARK SHEET'!N47","v":0},0,0,0,""]
[31,32,{"$f":"INSERT!A33","v":0},{"$f":"INSERT!B33","v":0},{"$f":"INSERT!C33","v":0},{"$f":"INSERT!D33","v":0},{"$f":"INSERT!E33","v":0},{"$f":"TERM2!Z46","v":0},{"$f":"TERM2!AR46","v":0},{"$f":"TERM2!BJ46","v":0},0,{"$f":"TERM2!BK46","v":0},{"$f":"TERM2!BM46","v":0},0,{"$f":"'FIN PAT MARK SHEET'!J48","v":0},{"$f":"'FIN PAT MARK SHEET'!K48","v":0},{"$f":"'FIN PAT MARK SHEET'!L48","v":0},{"$f":"'FIN PAT MARK SHEET'!M48","v":0},{"$f":"'FIN PAT MARK SHEET'!N48","v":0},0,0,0,""]
[32,33,{"$f":"INSERT!A34","v":0},{"$f":"INSERT!B34","v":0},{"$f":"INSERT!C34","v":0},{"$f":"INSERT!D34","v":0},{"$f":"INSERT!E34","v":0},{"$f":"TERM2!Z47","v":0},{"$f":"TERM2!AR47","v":0},{"$f":"TERM2!BJ47","v":0},0,{"$f":"TERM2!BK47","v":0},{"$f":"TERM2!BM47","v":0},0,{"$f":"'FIN PAT MARK SHEET'!J49","v":0},{"$f":"'FIN PAT MARK SHEET'!K49","v":0},{"$f":"'FIN PAT MARK SHEET'!L49","v":0},{"$f":"'FIN PAT MARK SHEET'!M49","v":0},{"$f":"'FIN PAT MARK SHEET'!N49","v":0},0,0,0,""]
[33,34,{"$f":"INSERT!A35","v":0},{"$f":"INSERT!B35","v":0},{"$f":"INSERT!C35","v":0},{"$f":"INSERT!D35","v":0},{"$f":"INSERT!E35","v":0},{"$f":"TERM2!Z48","v":0},{"$f":"TERM2!AR48","v":0},{"$f":"TERM2!BJ48","v":0},{"$f":"ROUND((SUMIF(H41:J41,\">0\")),0)","v":0},{"$f":"TERM2!BK48","v":0},{"$f":"TERM2!BM48","v":0},0,{"$f":"'FIN PAT MARK SHEET'!J50","v":0},{"$f":"'FIN PAT MARK SHEET'!K50","v":0},{"$f":"'FIN PAT MARK SHEET'!L50","v":0},{"$f":"'FIN PAT MARK SHEET'!M50","v":0},{"$f":"'FIN PAT MARK SHEET'!N50","v":0},{"$f":"ROUND((SUMIF(O41:S41,\">0\")/1.724137931),0)","v":0},0,{"$f":"ROUND(U41,0)","v":0},{"$f":"IF(V41>79,\"7\",IF(V41>69,\"6\",IF(V41>59,\"5\",IF(V41>49,\"4\",IF(V41>39,\"3\",IF(V41>29,\"2\",IF(V41>0,\"1\",IF(V41=0,\"\"))))))))","v":""}]
[34,37,{"$f":"INSERT!A36","v":0},{"$f":"INSERT!B36","v":0},{"$f":"INSERT!C36","v":0},{"$f":"INSERT!D36","v":0},{"$f":"INSERT!E36","v":0},{"$f":"TERM2!Z49","v":0},{"$f":"TERM2!AR49","v":0},{"$f":"TERM2!BJ49","v":0},0,{"$f":"TERM2!BK49","v":0},{"$f":"TERM2!BM49","v":0},0,{"$f":"'FIN PAT MARK SHEET'!J51","v":0},{"$f":"'FIN PAT MARK SHEET'!K51","v":0},{"$f":"'FIN PAT MARK SHEET'!L51","v":0},{"$f":"'FIN PAT MARK SHEET'!M51","v":0},{"$f":"'FIN PAT MARK SHEET'!N51","v":0},0,0,0,""]
[35,35,{"$f":"INSERT!A37","v":0},{"$f":"INSERT!B37","v":0},{"$f":"INSERT!C37","v":0},{"$f":"INSERT!D37","v":0},{"$f":"INSERT!E37","v":0},{"$f":"TERM2!Z50","v":0},{"$f":"TERM2!AR50","v":0},{"$f":"TERM2!BJ50","v":0},0,{"$f":"TERM2!BK50","v":0},{"$f":"TERM2!BM50","v":0},0,{"$f":"'FIN PAT MARK SHEET'!J52","v":0},{"$f":"'FIN PAT MARK SHEET'!K52","v":0},{"$f":"'FIN PAT MARK SHEET'!L52","v":0},{"$f":"'FIN PAT MARK SHEET'!M52","v":0},{"$f":"'FIN PAT MARK SHEET'!N52","v":0},0,0,0,""]
[36,10,{"$f":"INSERT!A38","v":0},{"$f":"INSERT!B38","v":0},{"$f":"INSERT!C38","v":0},{"$f":"INSERT!D38","v":0},{"$f":"INSERT!E38","v":0},{"$f":"TERM2!Z51","v":0},{"$f":"TERM2!AR51","v":0},{"$f":"TERM2!BJ51","v":0},0,{"$f":"TERM2!BK51","v":0},{"$f":"TERM2!BM51","v":0},0,{"$f":"'FIN PAT MARK SHEET'!J53","v":0},{"$f":"'FIN PAT MARK SHEET'!K53","v":0},{"$f":"'FIN PAT MARK SHEET'!L53","v":0},{"$f":"'FIN PAT MARK SHEET'!M53","v":0},{"$f":"'FIN PAT MARK SHEET'!N53","v":0},0,0,0,""]
[37,27,{"$f":"INSERT!A39","v":0},{"$f":"INSERT!B39","v":0},{"$f":"INSERT!C39","v":0},{"$f":"INSERT!D39","v":0},{"$f":"INSERT!E39","v":0},{"$f":"TERM2!Z52","v":0},{"$f":"TERM2!AR52","v":0},{"$f":"TERM2!BJ52","v":0},0,{"$f":"TERM2!BK52","v":0},{"$f":"TERM2!BM52","v":0},0,{"$f":"'FIN PAT MARK SHEET'!J54","v":0},{"$f":"'FIN PAT MARK SHEET'!K54","v":0},{"$f":"'FIN PAT MARK SHEET'!L54","v":0},{"$f":"'FIN PAT MARK SHEET'!M54","v":0},{"$f":"'FIN PAT MARK SHEET'!N54","v":0},0,0,0,""]
[38,38,{"$f":"INSERT!A40","v":0},{"$f":"INSERT!B40","v":0},{"$f":"INSERT!C40","v":0},{"$f":"INSERT!D40","v":0},{"$f":"INSERT!E40","v":0},{"$f":"TERM2!Z53","v":0},{"$f":"TERM2!AR53","v":0},{"$f":"TERM2!BJ53","v":0},0,{"$f":"TERM2!BK53","v":0},{"$f":"TERM2!BM53","v":0},0,{"$f":"'FIN PAT MARK SHEET'!J55","v":0},{"$f":"'FIN PAT MARK SHEET'!K55","v":0},{"$f":"'FIN PAT MARK SHEET'!L55","v":0},{"$f":"'FIN PAT MARK SHEET'!M55","v":0},{"$f":"'FIN PAT MARK SHEET'!N55","v":0},0,0,0,""]
[39,39,{"$f":"INSERT!A41","v":0},{"$f":"INSERT!B41","v":0},{"$f":"INSERT!C41","v":0},{"$f":"INSERT!D41","v":0},{"$f":"INSERT!E41","v":0},{"$f":"TERM2!Z54","v":0},{"$f":"TERM2!AR54","v":0},{"$f":"TERM2!BJ54","v":0},0,{"$f":"TERM2!BK54","v":0},{"$f":"TERM2!BM54","v":0},0,{"$f":"'FIN PAT MARK SHEET'!J56","v":0},{"$f":"'FIN PAT MARK SHEET'!K56","v":0},{"$f":"'FIN PAT MARK SHEET'!L56","v":0},{"$f":"'FIN PAT MARK SHEET'!M56","v":0},{"$f":"'FIN PAT MARK SHEET'!N56","v":0},0,0,0,""]
[40,40,{"$f":"INSERT!A42","v":0},{"$f":"INSERT!B42","v":0},{"$f":"INSERT!C42","v":0},{"$f":"INSERT!D42","v":0},{"$f":"INSERT!E42","v":0},{"$f":"TERM2!Z55","v":0},{"$f":"TERM2!AR55","v":0},{"$f":"TERM2!BJ55","v":0},0,{"$f":"TERM2!BK55","v":0},{"$f":"TERM2!BM55","v":0},0,{"$f":"'FIN PAT MARK SHEET'!J57","v":0},{"$f":"'FIN PAT MARK SHEET'!K57","v":0},{"$f":"'FIN PAT MARK SHEET'!L57","v":0},{"$f":"'FIN PAT MARK SHEET'!M57","v":0},{"$f":"'FIN PAT MARK SHEET'!N57","v":0},0,0,0,""]
[41,41,{"$f":"INSERT!A43","v":0},{"$f":"INSERT!B43","v":0},{"$f":"INSERT!C43","v":0},{"$f":"INSERT!D43","v":0},{"$f":"INSERT!E43","v":0},{"$f":"TERM2!Z56","v":0},{"$f":"TERM2!AR56","v":0},{"$f":"TERM2!BJ56","v":0},0,{"$f":"TERM2!BK56","v":0},{"$f":"TERM2!BM56","v":0},0,{"$f":"'FIN PAT MARK SHEET'!J58","v":0},{"$f":"'FIN PAT MARK SHEET'!K58","v":0},{"$f":"'FIN PAT MARK SHEET'!L58","v":0},{"$f":"'FIN PAT MARK SHEET'!M58","v":0},{"$f":"'FIN PAT MARK SHEET'!N58","v":0},0,0,0,""]
[42,42,{"$f":"INSERT!A44","v":0},{"$f":"INSERT!B44","v":0},{"$f":"INSERT!C44","v":0},{"$f":"INSERT!D44","v":0},{"$f":"INSERT!E44","v":0},{"$f":"TERM2!Z57","v":0},{"$f":"TERM2!AR57","v":0},{"$f":"TERM2!BJ57","v":0},0,{"$f":"TERM2!BK57","v":0},{"$f":"TERM2!BM57","v":0},0,{"$f":"'FIN PAT MARK SHEET'!J59","v":0},{"$f":"'FIN PAT MARK SHEET'!K59","v":0},{"$f":"'FIN PAT MARK SHEET'!L59","v":0},{"$f":"'FIN PAT MARK SHEET'!M59","v":0},{"$f":"'FIN PAT MARK SHEET'!N59","v":0},0,0,0,""]
[43,43,{"$f":"INSERT!A45","v":0},{"$f":"INSERT!B45","v":0},{"$f":"INSERT!C45","v":0},{"$f":"INSERT!D45","v":0},{"$f":"INSERT!E45","v":0},{"$f":"TERM2!Z58","v":0},{"$f":"TERM2!AR58","v":0},{"$f":"TERM2!BJ58","v":0},0,{"$f":"TERM2!BK58","v":0},{"$f":"TERM2!BM58","v":0},0,{"$f":"'FIN PAT MARK SHEET'!J60","v":0},{"$f":"'FIN PAT MARK SHEET'!K60","v":0},{"$f":"'FIN PAT MARK SHEET'!L60","v":0},{"$f":"'FIN PAT MARK SHEET'!M60","v":0},{"$f":"'FIN PAT MARK SHEET'!N60","v":0},0,0,0,""]
[44,44,{"$f":"INSERT!A46","v":0},{"$f":"INSERT!B46","v":0},{"$f":"INSERT!C46","v":0},{"$f":"INSERT!D46","v":0},{"$f":"INSERT!E46","v":0},{"$f":"TERM2!Z59","v":0},{"$f":"TERM2!AR59","v":0},{"$f":"TERM2!BJ59","v":0},0,{"$f":"TERM2!BK59","v":0},{"$f":"TERM2!BM59","v":0},0,{"$f":"'FIN PAT MARK SHEET'!J61","v":0},{"$f":"'FIN PAT MARK SHEET'!K61","v":0},{"$f":"'FIN PAT MARK SHEET'!L61","v":0},{"$f":"'FIN PAT MARK SHEET'!M61","v":0},{"$f":"'FIN PAT MARK SHEET'!N61","v":0},0,0,0,""]
[45,45,{"$f":"INSERT!A47","v":0},{"$f":"INSERT!B47","v":0},{"$f":"INSERT!C47","v":0},{"$f":"INSERT!D47","v":0},{"$f":"INSERT!E47","v":0},{"$f":"TERM2!Z60","v":0},{"$f":"TERM2!AR60","v":0},{"$f":"TERM2!BJ60","v":0},0,{"$f":"TERM2!BK60","v":0},{"$f":"TERM2!BM60","v":0},0,{"$f":"'FIN PAT MARK SHEET'!J62","v":0},{"$f":"'FIN PAT MARK SHEET'!K62","v":0},{"$f":"'FIN PAT MARK SHEET'!L62","v":0},{"$f":"'FIN PAT MARK SHEET'!M62","v":0},{"$f":"'FIN PAT MARK SHEET'!N62","v":0},0,0,0,""]
[46,46,{"$f":"INSERT!A48","v":0},{"$f":"INSERT!B48","v":0},{"$f":"INSERT!C48","v":0},{"$f":"INSERT!D48","v":0},{"$f":"INSERT!E48","v":0},{"$f":"TERM2!Z61","v":0},{"$f":"TERM2!AR61","v":0},{"$f":"TERM2!BJ61","v":0},0,{"$f":"TERM2!BK61","v":0},{"$f":"TERM2!BM61","v":0},0,{"$f":"'FIN PAT MARK SHEET'!J63","v":0},{"$f":"'FIN PAT MARK SHEET'!K63","v":0},{"$f":"'FIN PAT MARK SHEET'!L63","v":0},{"$f":"'FIN PAT MARK SHEET'!M63","v":0},{"$f":"'FIN PAT MARK SHEET'!N63","v":0},0,0,0,""]
[47,47,{"$f":"INSERT!A49","v":0},{"$f":"INSERT!B49","v":0},{"$f":"INSERT!C49","v":0},{"$f":"INSERT!D49","v":0},{"$f":"INSERT!E49","v":0},{"$f":"TERM2!Z62","v":0},{"$f":"TERM2!AR62","v":0},{"$f":"TERM2!BJ62","v":0},0,{"$f":"TERM2!BK62","v":0},{"$f":"TERM2!BM62","v":0},0,{"$f":"'FIN PAT MARK SHEET'!J64","v":0},{"$f":"'FIN PAT MARK SHEET'!K64","v":0},{"$f":"'FIN PAT MARK SHEET'!L64","v":0},{"$f":"'FIN PAT MARK SHEET'!M64","v":0},{"$f":"'FIN PAT MARK SHEET'!N64","v":0},0,0,0,""]
[48,48,{"$f":"INSERT!A50","v":0},{"$f":"INSERT!B50","v":0},{"$f":"INSERT!C50","v":0},{"$f":"INSERT!D50","v":0},{"$f":"INSERT!E50","v":0},{"$f":"TERM2!Z63","v":0},{"$f":"TERM2!AR63","v":0},{"$f":"TERM2!BJ63","v":0},0,{"$f":"TERM2!BK63","v":0},{"$f":"TERM2!BM63","v":0},0,{"$f":"'FIN PAT MARK SHEET'!J65","v":0},{"$f":"'FIN PAT MARK SHEET'!K65","v":0},{"$f":"'FIN PAT MARK SHEET'!L65","v":0},{"$f":"'FIN PAT MARK SHEET'!M65","v":0},{"$f":"'FIN PAT MARK SHEET'!N65","v":0},0,0,0,""]
[49,49,{"$f":"INSERT!A51","v":0},{"$f":"INSERT!B51","v":0},{"$f":"INSERT!C51","v":0},{"$f":"INSERT!D51","v":0},{"$f":"INSERT!E51","v":0},{"$f":"TERM2!Z64","v":0},{"$f":"TERM2!AR64","v":0},{"$f":"TERM2!BJ64","v":0},0,{"$f":"TERM2!BK64","v":0},{"$f":"TERM2!BM64","v":0},0,{"$f":"'FIN PAT MARK SHEET'!J66","v":0},{"$f":"'FIN PAT MARK SHEET'!K66","v":0},{"$f":"'FIN PAT MARK SHEET'!L66","v":0},{"$f":"'FIN PAT MARK SHEET'!M66","v":0},{"$f":"'FIN PAT MARK SHEET'!N66","v":0},0,0,0,""]
[50,50,{"$f":"INSERT!A52","v":0},{"$f":"INSERT!B52","v":0},{"$f":"INSERT!C52","v":0},{"$f":"INSERT!D52","v":0},{"$f":"INSERT!E52","v":0},{"$f":"TERM2!Z65","v":0},{"$f":"TERM2!AR65","v":0},{"$f":"TERM2!BJ65","v":0},0,{"$f":"TERM2!BK65","v":0},{"$f":"TERM2!BM65","v":0},0,{"$f":"'FIN PAT MARK SHEET'!J67","v":0},{"$f":"'FIN PAT MARK SHEET'!K67","v":0},{"$f":"'FIN PAT MARK SHEET'!L67","v":0},{"$f":"'FIN PAT MARK SHEET'!M67","v":0},{"$f":"'FIN PAT MARK SHEET'!N67","v":0},0,0,0,""]
[51,51,{"$f":"INSERT!A53","v":0},{"$f":"INSERT!B53","v":0},{"$f":"INSERT!C53","v":0},{"$f":"INSERT!D53","v":0},{"$f":"INSERT!E53","v":0},{"$f":"TERM2!Z66","v":0},{"$f":"TERM2!AR66","v":0},{"$f":"TERM2!BJ66","v":0},0,{"$f":"TERM2!BK66","v":0},{"$f":"TERM2!BM66","v":0},0,{"$f":"'FIN PAT MARK SHEET'!J68","v":0},{"$f":"'FIN PAT MARK SHEET'!K68","v":0},{"$f":"'FIN PAT MARK SHEET'!L68","v":0},{"$f":"'FIN PAT MARK SHEET'!M68","v":0},{"$f":"'FIN PAT MARK SHEET'!N68","v":0},0,0,0,""]
[52,52,{"$f":"INSERT!A54","v":0},{"$f":"INSERT!B54","v":0},{"$f":"INSERT!C54","v":0},{"$f":"INSERT!D54","v":0},{"$f":"INSERT!E54","v":0},{"$f":"TERM2!Z67","v":0},{"$f":"TERM2!AR67","v":0},{"$f":"TERM2!BJ67","v":0},0,{"$f":"TERM2!BK67","v":0},{"$f":"TERM2!BM67","v":0},0,{"$f":"'FIN PAT MARK SHEET'!J69","v":0},{"$f":"'FIN PAT MARK SHEET'!K69","v":0},{"$f":"'FIN PAT MARK SHEET'!L69","v":0},{"$f":"'FIN PAT MARK SHEET'!M69","v":0},{"$f":"'FIN PAT MARK SHEET'!N69","v":0},0,0,0,""]
[53,53,{"$f":"INSERT!A55","v":0},{"$f":"INSERT!B55","v":0},{"$f":"INSERT!C55","v":0},{"$f":"INSERT!D55","v":0},{"$f":"INSERT!E55","v":0},{"$f":"TERM2!Z68","v":0},{"$f":"TERM2!AR68","v":0},{"$f":"TERM2!BJ68","v":0},0,{"$f":"TERM2!BK68","v":0},{"$f":"TERM2!BM68","v":0},0,{"$f":"'FIN PAT MARK SHEET'!J70","v":0},{"$f":"'FIN PAT MARK SHEET'!K70","v":0},{"$f":"'FIN PAT MARK SHEET'!L70","v":0},{"$f":"'FIN PAT MARK SHEET'!M70","v":0},{"$f":"'FIN PAT MARK SHEET'!N70","v":0},0,0,0,""]
[54,54,{"$f":"INSERT!A56","v":0},{"$f":"INSERT!B56","v":0},{"$f":"INSERT!C56","v":0},{"$f":"INSERT!D56","v":0},{"$f":"INSERT!E56","v":0},{"$f":"TERM2!Z69","v":0},{"$f":"TERM2!AR69","v":0},{"$f":"TERM2!BJ69","v":0},0,{"$f":"TERM2!BK69","v":0},{"$f":"TERM2!BM69","v":0},0,{"$f":"'FIN PAT MARK SHEET'!J71","v":0},{"$f":"'FIN PAT MARK SHEET'!K71","v":0},{"$f":"'FIN PAT MARK SHEET'!L71","v":0},{"$f":"'FIN PAT MARK SHEET'!M71","v":0},{"$f":"'FIN PAT MARK SHEET'!N71","v":0},0,0,0,""]
[55,55,{"$f":"INSERT!A57","v":0},{"$f":"INSERT!B57","v":0},{"$f":"INSERT!C57","v":0},{"$f":"INSERT!D57","v":0},{"$f":"INSERT!E57","v":0},{"$f":"TERM2!Z70","v":0},{"$f":"TERM2!AR70","v":0},{"$f":"TERM2!BJ70","v":0},0,{"$f":"TERM2!BK70","v":0},{"$f":"TERM2!BM70","v":0},0,{"$f":"'FIN PAT MARK SHEET'!J72","v":0},{"$f":"'FIN PAT MARK SHEET'!K72","v":0},{"$f":"'FIN PAT MARK SHEET'!L72","v":0},{"$f":"'FIN PAT MARK SHEET'!M72","v":0},{"$f":"'FIN PAT MARK SHEET'!N72","v":0},0,0,0,""]
[56,56,{"$f":"INSERT!A58","v":0},{"$f":"INSERT!B58","v":0},{"$f":"INSERT!C58","v":0},{"$f":"INSERT!D58","v":0},{"$f":"INSERT!E58","v":0},{"$f":"TERM2!Z71","v":0},{"$f":"TERM2!AR71","v":0},{"$f":"TERM2!BJ71","v":0},0,{"$f":"TERM2!BK71","v":0},{"$f":"TERM2!BM71","v":0},0,{"$f":"'FIN PAT MARK SHEET'!J73","v":0},{"$f":"'FIN PAT MARK SHEET'!K73","v":0},{"$f":"'FIN PAT MARK SHEET'!L73","v":0},{"$f":"'FIN PAT MARK SHEET'!M73","v":0},{"$f":"'FIN PAT MARK SHEET'!N73","v":0},0,0,0,""]
[57,57,{"$f":"INSERT!A59","v":0},{"$f":"INSERT!B59","v":0},{"$f":"INSERT!C59","v":0},{"$f":"INSERT!D59","v":0},{"$f":"INSERT!E59","v":0},{"$f":"TERM2!Z72","v":0},{"$f":"TERM2!AR72","v":0},{"$f":"TERM2!BJ72","v":0},0,{"$f":"TERM2!BK72","v":0},{"$f":"TERM2!BM72","v":0},0,{"$f":"'FIN PAT MARK SHEET'!J74","v":0},{"$f":"'FIN PAT MARK SHEET'!K74","v":0},{"$f":"'FIN PAT MARK SHEET'!L74","v":0},{"$f":"'FIN PAT MARK SHEET'!M74","v":0},{"$f":"'FIN PAT MARK SHEET'!N74","v":0},0,0,0,""]
[58,58,{"$f":"INSERT!A60","v":0},{"$f":"INSERT!B60","v":0},{"$f":"INSERT!C60","v":0},{"$f":"INSERT!D60","v":0},{"$f":"INSERT!E60","v":0},{"$f":"TERM2!Z73","v":0},{"$f":"TERM2!AR73","v":0},{"$f":"TERM2!BJ73","v":0},0,{"$f":"TERM2!BK73","v":0},{"$f":"TERM2!BM73","v":0},0,{"$f":"'FIN PAT MARK SHEET'!J75","v":0},{"$f":"'FIN PAT MARK SHEET'!K75","v":0},{"$f":"'FIN PAT MARK SHEET'!L75","v":0},{"$f":"'FIN PAT MARK SHEET'!M75","v":0},{"$f":"'FIN PAT MARK SHEET'!N75","v":0},0,0,0,""]
[59,59,{"$f":"INSERT!A61","v":0},{"$f":"INSERT!B61","v":0},{"$f":"INSERT!C61","v":0},{"$f":"INSERT!D61","v":0},{"$f":"INSERT!E61","v":0},{"$f":"TERM2!Z74","v":0},{"$f":"TERM2!AR74","v":0},{"$f":"TERM2!BJ74","v":0},0,{"$f":"TERM2!BK74","v":0},{"$f":"TERM2!BM74","v":0},0,{"$f":"'FIN PAT MARK SHEET'!J76","v":0},{"$f":"'FIN PAT MARK SHEET'!K76","v":0},{"$f":"'FIN PAT MARK SHEET'!L76","v":0},{"$f":"'FIN PAT MARK SHEET'!M76","v":0},{"$f":"'FIN PAT MARK SHEET'!N76","v":0},0,0,0,""]
[60,60,{"$f":"INSERT!A62","v":0},{"$f":"INSERT!B62","v":0},{"$f":"INSERT!C62","v":0},{"$f":"INSERT!D62","v":0},{"$f":"INSERT!E62","v":0},{"$f":"TERM2!Z75","v":0},{"$f":"TERM2!AR75","v":0},{"$f":"TERM2!BJ75","v":0},0,{"$f":"TERM2!BK75","v":0},{"$f":"TERM2!BM75","v":0},0,{"$f":"'FIN PAT MARK SHEET'!J77","v":0},{"$f":"'FIN PAT MARK SHEET'!K77","v":0},{"$f":"'FIN PAT MARK SHEET'!L77","v":0},{"$f":"'FIN PAT MARK SHEET'!M77","v":0},{"$f":"'FIN PAT MARK SHEET'!N77","v":0},0,0,0,""]
[61,61,{"$f":"INSERT!A63","v":0},{"$f":"INSERT!B63","v":0},{"$f":"INSERT!C63","v":0},{"$f":"INSERT!D63","v":0},{"$f":"INSERT!E63","v":0},{"$f":"TERM2!Z76","v":0},{"$f":"TERM2!AR76","v":0},{"$f":"TERM2!BJ76","v":0},0,{"$f":"TERM2!BK76","v":0},{"$f":"TERM2!BM76","v":0},0,{"$f":"'FIN PAT MARK SHEET'!J78","v":0},{"$f":"'FIN PAT MARK SHEET'!K78","v":0},{"$f":"'FIN PAT MARK SHEET'!L78","v":0},{"$f":"'FIN PAT MARK SHEET'!M78","v":0},{"$f":"'FIN PAT MARK SHEET'!N78","v":0},0,0,0,""]
[62,62,{"$f":"INSERT!A64","v":0},{"$f":"INSERT!B64","v":0},{"$f":"INSERT!C64","v":0},{"$f":"INSERT!D64","v":0},{"$f":"INSERT!E64","v":0},{"$f":"TERM2!Z77","v":0},{"$f":"TERM2!AR77","v":0},{"$f":"TERM2!BJ77","v":0},0,{"$f":"TERM2!BK77","v":0},{"$f":"TERM2!BM77","v":0},0,{"$f":"'FIN PAT MARK SHEET'!J79","v":0},{"$f":"'FIN PAT MARK SHEET'!K79","v":0},{"$f":"'FIN PAT MARK SHEET'!L79","v":0},{"$f":"'FIN PAT MARK SHEET'!M79","v":0},{"$f":"'FIN PAT MARK SHEET'!N79","v":0},0,0,0,""]
[63,63,{"$f":"INSERT!A65","v":0},{"$f":"INSERT!B65","v":0},{"$f":"INSERT!C65","v":0},{"$f":"INSERT!D65","v":0},{"$f":"INSERT!E65","v":0},{"$f":"TERM2!Z78","v":0},{"$f":"TERM2!AR78","v":0},{"$f":"TERM2!BJ78","v":0},0,{"$f":"TERM2!BK78","v":0},{"$f":"TERM2!BM78","v":0},0,{"$f":"'FIN PAT MARK SHEET'!J80","v":0},{"$f":"'FIN PAT MARK SHEET'!K80","v":0},{"$f":"'FIN PAT MARK SHEET'!L80","v":0},{"$f":"'FIN PAT MARK SHEET'!M80","v":0},{"$f":"'FIN PAT MARK SHEET'!N80","v":0},0,0,0,""]
[64,64,{"$f":"INSERT!A66","v":0},{"$f":"INSERT!B66","v":0},{"$f":"INSERT!C66","v":0},{"$f":"INSERT!D66","v":0},{"$f":"INSERT!E66","v":0},{"$f":"TERM2!Z79","v":0},{"$f":"TERM2!AR79","v":0},{"$f":"TERM2!BJ79","v":0},0,{"$f":"TERM2!BK79","v":0},{"$f":"TERM2!BM79","v":0},0,{"$f":"'FIN PAT MARK SHEET'!J81","v":0},{"$f":"'FIN PAT MARK SHEET'!K81","v":0},{"$f":"'FIN PAT MARK SHEET'!L81","v":0},{"$f":"'FIN PAT MARK SHEET'!M81","v":0},{"$f":"'FIN PAT MARK SHEET'!N81","v":0},0,0,0,""]
[65,65,{"$f":"INSERT!A67","v":0},{"$f":"INSERT!B67","v":0},{"$f":"INSERT!C67","v":0},{"$f":"INSERT!D67","v":0},{"$f":"INSERT!E67","v":0},{"$f":"TERM2!Z80","v":0},{"$f":"TERM2!AR80","v":0},{"$f":"TERM2!BJ80","v":0},{"$f":"ROUND((SUMIF(H73:J73,\">0\")),0)","v":0},{"$f":"TERM2!BK80","v":0},{"$f":"TERM2!BM80","v":0},0,{"$f":"'FIN PAT MARK SHEET'!J82","v":0},{"$f":"'FIN PAT MARK SHEET'!K82","v":0},{"$f":"'FIN PAT MARK SHEET'!L82","v":0},{"$f":"'FIN PAT MARK SHEET'!M82","v":0},{"$f":"'FIN PAT MARK SHEET'!N82","v":0},{"$f":"ROUND((SUMIF(O73:S73,\">0\")/1.724137931),0)","v":0},0,{"$f":"ROUND(U73,0)","v":0},{"$f":"IF(V73>79,\"7\",IF(V73>69,\"6\",IF(V73>59,\"5\",IF(V73>49,\"4\",IF(V73>39,\"3\",IF(V73>29,\"2\",IF(V73>0,\"1\",IF(V73=0,\"\"))))))))","v":""}]
[66,66,{"$f":"INSERT!A68","v":0},{"$f":"INSERT!B68","v":0},{"$f":"INSERT!C68","v":0},{"$f":"INSERT!D68","v":0},{"$f":"INSERT!E68","v":0},{"$f":"TERM2!Z81","v":0},{"$f":"TERM2!AR81","v":0},{"$f":"TERM2!BJ81","v":0},0,{"$f":"TERM2!BK81","v":0},{"$f":"TERM2!BM81","v":0},{"$f":"SUMIF(L74:M74,\">0\")","v":0},{"$f":"'FIN PAT MARK SHEET'!J83","v":0},{"$f":"'FIN PAT MARK SHEET'!K83","v":0},{"$f":"'FIN PAT MARK SHEET'!L83","v":0},{"$f":"'FIN PAT MARK SHEET'!M83","v":0},{"$f":"'FIN PAT MARK SHEET'!N83","v":0},0,{"$f":"SUM(K74/0.75)+SUM(N74/2.5)","v":0},0,""]
[67,67,{"$f":"INSERT!A69","v":0},{"$f":"INSERT!B69","v":0},{"$f":"INSERT!C69","v":0},{"$f":"INSERT!D69","v":0},{"$f":"INSERT!E69","v":0},{"$f":"TERM2!Z82","v":0},{"$f":"TERM2!AR82","v":0},{"$f":"TERM2!BJ82","v":0},0,{"$f":"TERM2!BK82","v":0},{"$f":"TERM2!BM82","v":0},0,{"$f":"'FIN PAT MARK SHEET'!J84","v":0},{"$f":"'FIN PAT MARK SHEET'!K84","v":0},{"$f":"'FIN PAT MARK SHEET'!L84","v":0},{"$f":"'FIN PAT MARK SHEET'!M84","v":0},{"$f":"'FIN PAT MARK SHEET'!N84","v":0},0,0,0,""]
[68,68,{"$f":"INSERT!A70","v":0},{"$f":"INSERT!B70","v":0},{"$f":"INSERT!C70","v":0},{"$f":"INSERT!D70","v":0},{"$f":"INSERT!E70","v":0},{"$f":"TERM2!Z83","v":0},{"$f":"TERM2!AR83","v":0},{"$f":"TERM2!BJ83","v":0},0,{"$f":"TERM2!BK83","v":0},{"$f":"TERM2!BM83","v":0},0,{"$f":"'FIN PAT MARK SHEET'!J85","v":0},{"$f":"'FIN PAT MARK SHEET'!K85","v":0},{"$f":"'FIN PAT MARK SHEET'!L85","v":0},{"$f":"'FIN PAT MARK SHEET'!M85","v":0},{"$f":"'FIN PAT MARK SHEET'!N85","v":0},0,0,0,""]
[69,69,{"$f":"INSERT!A71","v":0},{"$f":"INSERT!B71","v":0},{"$f":"INSERT!C71","v":0},{"$f":"INSERT!D71","v":0},{"$f":"INSERT!E71","v":0},{"$f":"TERM2!Z84","v":0},{"$f":"TERM2!AR84","v":0},{"$f":"TERM2!BJ84","v":0},0,{"$f":"TERM2!BK84","v":0},{"$f":"TERM2!BM84","v":0},0,{"$f":"'FIN PAT MARK SHEET'!J86","v":0},{"$f":"'FIN PAT MARK SHEET'!K86","v":0},{"$f":"'FIN PAT MARK SHEET'!L86","v":0},{"$f":"'FIN PAT MARK SHEET'!M86","v":0},{"$f":"'FIN PAT MARK SHEET'!N86","v":0},0,0,0,""]
[70,70,{"$f":"INSERT!A72","v":0},{"$f":"INSERT!B72","v":0},{"$f":"INSERT!C72","v":0},{"$f":"INSERT!D72","v":0},{"$f":"INSERT!E72","v":0},{"$f":"TERM2!Z85","v":0},{"$f":"TERM2!AR85","v":0},{"$f":"TERM2!BJ85","v":0},0,{"$f":"TERM2!BK85","v":0},{"$f":"TERM2!BM85","v":0},0,{"$f":"'FIN PAT MARK SHEET'!J87","v":0},{"$f":"'FIN PAT MARK SHEET'!K87","v":0},{"$f":"'FIN PAT MARK SHEET'!L87","v":0},{"$f":"'FIN PAT MARK SHEET'!M87","v":0},{"$f":"'FIN PAT MARK SHEET'!N87","v":0},0,0,0,""]
[71,71,{"$f":"INSERT!A73","v":0},{"$f":"INSERT!B73","v":0},{"$f":"INSERT!C73","v":0},{"$f":"INSERT!D73","v":0},{"$f":"INSERT!E73","v":0},{"$f":"TERM2!Z86","v":0},{"$f":"TERM2!AR86","v":0},{"$f":"TERM2!BJ86","v":0},0,{"$f":"TERM2!BK86","v":0},{"$f":"TERM2!BM86","v":0},0,{"$f":"'FIN PAT MARK SHEET'!J88","v":0},{"$f":"'FIN PAT MARK SHEET'!K88","v":0},{"$f":"'FIN PAT MARK SHEET'!L88","v":0},{"$f":"'FIN PAT MARK SHEET'!M88","v":0},{"$f":"'FIN PAT MARK SHEET'!N88","v":0},0,0,0,""]
[72,72,{"$f":"INSERT!A74","v":0},{"$f":"INSERT!B74","v":0},{"$f":"INSERT!C74","v":0},{"$f":"INSERT!D74","v":0},{"$f":"INSERT!E74","v":0},{"$f":"TERM2!Z87","v":0},{"$f":"TERM2!AR87","v":0},{"$f":"TERM2!BJ87","v":0},0,{"$f":"TERM2!BK87","v":0},{"$f":"TERM2!BM87","v":0},0,{"$f":"'FIN PAT MARK SHEET'!J89","v":0},{"$f":"'FIN PAT MARK SHEET'!K89","v":0},{"$f":"'FIN PAT MARK SHEET'!L89","v":0},{"$f":"'FIN PAT MARK SHEET'!M89","v":0},{"$f":"'FIN PAT MARK SHEET'!N89","v":0},0,0,0,""]
[73,73,{"$f":"INSERT!A75","v":0},{"$f":"INSERT!B75","v":0},{"$f":"INSERT!C75","v":0},{"$f":"INSERT!D75","v":0},{"$f":"INSERT!E75","v":0},{"$f":"TERM2!Z88","v":0},{"$f":"TERM2!AR88","v":0},{"$f":"TERM2!BJ88","v":0},0,{"$f":"TERM2!BK88","v":0},{"$f":"TERM2!BM88","v":0},0,{"$f":"'FIN PAT MARK SHEET'!J90","v":0},{"$f":"'FIN PAT MARK SHEET'!K90","v":0},{"$f":"'FIN PAT MARK SHEET'!L90","v":0},{"$f":"'FIN PAT MARK SHEET'!M90","v":0},{"$f":"'FIN PAT MARK SHEET'!N90","v":0},0,0,0,""]
[74,74,{"$f":"INSERT!A76","v":0},{"$f":"INSERT!B76","v":0},{"$f":"INSERT!C76","v":0},{"$f":"INSERT!D76","v":0},{"$f":"INSERT!E76","v":0},{"$f":"TERM2!Z89","v":0},{"$f":"TERM2!AR89","v":0},{"$f":"TERM2!BJ89","v":0},0,{"$f":"TERM2!BK89","v":0},{"$f":"TERM2!BM89","v":0},0,{"$f":"'FIN PAT MARK SHEET'!J91","v":0},{"$f":"'FIN PAT MARK SHEET'!K91","v":0},{"$f":"'FIN PAT MARK SHEET'!L91","v":0},{"$f":"'FIN PAT MARK SHEET'!M91","v":0},{"$f":"'FIN PAT MARK SHEET'!N91","v":0},0,0,0,""]
[75,75,{"$f":"INSERT!A77","v":0},{"$f":"INSERT!B77","v":0},{"$f":"INSERT!C77","v":0},{"$f":"INSERT!D77","v":0},{"$f":"INSERT!E77","v":0},{"$f":"TERM2!Z90","v":0},{"$f":"TERM2!AR90","v":0},{"$f":"TERM2!BJ90","v":0},0,{"$f":"TERM2!BK90","v":0},{"$f":"TERM2!BM90","v":0},0,{"$f":"'FIN PAT MARK SHEET'!J92","v":0},{"$f":"'FIN PAT MARK SHEET'!K92","v":0},{"$f":"'FIN PAT MARK SHEET'!L92","v":0},{"$f":"'FIN PAT MARK SHEET'!M92","v":0},{"$f":"'FIN PAT MARK SHEET'!N92","v":0},0,0,0,""]
[76,76,{"$f":"INSERT!A78","v":0},{"$f":"INSERT!B78","v":0},{"$f":"INSERT!C78","v":0},{"$f":"INSERT!D78","v":0},{"$f":"INSERT!E78","v":0},{"$f":"TERM2!Z91","v":0},{"$f":"TERM2!AR91","v":0},{"$f":"TERM2!BJ91","v":0},0,{"$f":"TERM2!BK91","v":0},{"$f":"TERM2!BM91","v":0},0,{"$f":"'FIN PAT MARK SHEET'!J93","v":0},{"$f":"'FIN PAT MARK SHEET'!K93","v":0},{"$f":"'FIN PAT MARK SHEET'!L93","v":0},{"$f":"'FIN PAT MARK SHEET'!M93","v":0},{"$f":"'FIN PAT MARK SHEET'!N93","v":0},0,0,0,""]
[77,77,{"$f":"INSERT!A79","v":0},{"$f":"INSERT!B79","v":0},{"$f":"INSERT!C79","v":0},{"$f":"INSERT!D79","v":0},{"$f":"INSERT!E79","v":0},{"$f":"TERM2!Z92","v":0},{"$f":"TERM2!AR92","v":0},{"$f":"TERM2!BJ92","v":0},0,{"$f":"TERM2!BK92","v":0},{"$f":"TERM2!BM92","v":0},0,{"$f":"'FIN PAT MARK SHEET'!J94","v":0},{"$f":"'FIN PAT MARK SHEET'!K94","v":0},{"$f":"'FIN PAT MARK SHEET'!L94","v":0},{"$f":"'FIN PAT MARK SHEET'!M94","v":0},{"$f":"'FIN PAT MARK SHEET'!N94","v":0},0,0,0,""]
[78,78,{"$f":"INSERT!A80","v":0},{"$f":"INSERT!B80","v":0},{"$f":"INSERT!C80","v":0},{"$f":"INSERT!D80","v":0},{"$f":"INSERT!E80","v":0},{"$f":"TERM2!Z93","v":0},{"$f":"TERM2!AR93","v":0},{"$f":"TERM2!BJ93","v":0},0,{"$f":"TERM2!BK93","v":0},{"$f":"TERM2!BM93","v":0},0,{"$f":"'FIN PAT MARK SHEET'!J95","v":0},{"$f":"'FIN PAT MARK SHEET'!K95","v":0},{"$f":"'FIN PAT MARK SHEET'!L95","v":0},{"$f":"'FIN PAT MARK SHEET'!M95","v":0},{"$f":"'FIN PAT MARK SHEET'!N95","v":0},0,0,0,""]
[79,79,{"$f":"INSERT!A81","v":0},{"$f":"INSERT!B81","v":0},{"$f":"INSERT!C81","v":0},{"$f":"INSERT!D81","v":0},{"$f":"INSERT!E81","v":0},{"$f":"TERM2!Z94","v":0},{"$f":"TERM2!AR94","v":0},{"$f":"TERM2!BJ94","v":0},0,{"$f":"TERM2!BK94","v":0},{"$f":"TERM2!BM94","v":0},0,{"$f":"'FIN PAT MARK SHEET'!J96","v":0},{"$f":"'FIN PAT MARK SHEET'!K96","v":0},{"$f":"'FIN PAT MARK SHEET'!L96","v":0},{"$f":"'FIN PAT MARK SHEET'!M96","v":0},{"$f":"'FIN PAT MARK SHEET'!N96","v":0},0,0,0,""]
[80,80,{"$f":"INSERT!A82","v":0},{"$f":"INSERT!B82","v":0},{"$f":"INSERT!C82","v":0},{"$f":"INSERT!D82","v":0},{"$f":"INSERT!E82","v":0},{"$f":"TERM2!Z95","v":0},{"$f":"TERM2!AR95","v":0},{"$f":"TERM2!BJ95","v":0},0,{"$f":"TERM2!BK95","v":0},{"$f":"TERM2!BM95","v":0},0,{"$f":"'FIN PAT MARK SHEET'!J97","v":0},{"$f":"'FIN PAT MARK SHEET'!K97","v":0},{"$f":"'FIN PAT MARK SHEET'!L97","v":0},{"$f":"'FIN PAT MARK SHEET'!M97","v":0},{"$f":"'FIN PAT MARK SHEET'!N97","v":0},0,0,0,""]
[81,81,{"$f":"INSERT!A83","v":0},{"$f":"INSERT!B83","v":0},{"$f":"INSERT!C83","v":0},{"$f":"INSERT!D83","v":0},{"$f":"INSERT!E83","v":0},{"$f":"TERM2!Z96","v":0},{"$f":"TERM2!AR96","v":0},{"$f":"TERM2!BJ96","v":0},0,{"$f":"TERM2!BK96","v":0},{"$f":"TERM2!BM96","v":0},0,{"$f":"'FIN PAT MARK SHEET'!J98","v":0},{"$f":"'FIN PAT MARK SHEET'!K98","v":0},{"$f":"'FIN PAT MARK SHEET'!L98","v":0},{"$f":"'FIN PAT MARK SHEET'!M98","v":0},{"$f":"'FIN PAT MARK SHEET'!N98","v":0},0,0,0,""]
[82,82,{"$f":"INSERT!A84","v":0},{"$f":"INSERT!B84","v":0},{"$f":"INSERT!C84","v":0},{"$f":"INSERT!D84","v":0},{"$f":"INSERT!E84","v":0},{"$f":"TERM2!Z97","v":0},{"$f":"TERM2!AR97","v":0},{"$f":"TERM2!BJ97","v":0},0,{"$f":"TERM2!BK97","v":0},{"$f":"TERM2!BM97","v":0},0,{"$f":"'FIN PAT MARK SHEET'!J99","v":0},{"$f":"'FIN PAT MARK SHEET'!K99","v":0},{"$f":"'FIN PAT MARK SHEET'!L99","v":0},{"$f":"'FIN PAT MARK SHEET'!M99","v":0},{"$f":"'FIN PAT MARK SHEET'!N99","v":0},0,0,0,""]
[83,83,{"$f":"INSERT!A85","v":0},{"$f":"INSERT!B85","v":0},{"$f":"INSERT!C85","v":0},{"$f":"INSERT!D85","v":0},{"$f":"INSERT!E85","v":0},{"$f":"TERM2!Z98","v":0},{"$f":"TERM2!AR98","v":0},{"$f":"TERM2!BJ98","v":0},0,{"$f":"TERM2!BK98","v":0},{"$f":"TERM2!BM98","v":0},0,{"$f":"'FIN PAT MARK SHEET'!J100","v":0},{"$f":"'FIN PAT MARK SHEET'!K100","v":0},{"$f":"'FIN PAT MARK SHEET'!L100","v":0},{"$f":"'FIN PAT MARK SHEET'!M100","v":0},{"$f":"'FIN PAT MARK SHEET'!N100","v":0},0,0,0,""]
[84,84,{"$f":"INSERT!A86","v":0},{"$f":"INSERT!B86","v":0},{"$f":"INSERT!C86","v":0},{"$f":"INSERT!D86","v":0},{"$f":"INSERT!E86","v":0},{"$f":"TERM2!Z99","v":0},{"$f":"TERM2!AR99","v":0},{"$f":"TERM2!BJ99","v":0},0,{"$f":"TERM2!BK99","v":0},{"$f":"TERM2!BM99","v":0},0,{"$f":"'FIN PAT MARK SHEET'!J101","v":0},{"$f":"'FIN PAT MARK SHEET'!K101","v":0},{"$f":"'FIN PAT MARK SHEET'!L101","v":0},{"$f":"'FIN PAT MARK SHEET'!M101","v":0},{"$f":"'FIN PAT MARK SHEET'!N101","v":0},0,0,0,""]
[85,85,{"$f":"INSERT!A87","v":0},{"$f":"INSERT!B87","v":0},{"$f":"INSERT!C87","v":0},{"$f":"INSERT!D87","v":0},{"$f":"INSERT!E87","v":0},{"$f":"TERM2!Z100","v":0},{"$f":"TERM2!AR100","v":0},{"$f":"TERM2!BJ100","v":0},0,{"$f":"TERM2!BK100","v":0},{"$f":"TERM2!BM100","v":0},0,{"$f":"'FIN PAT MARK SHEET'!J102","v":0},{"$f":"'FIN PAT MARK SHEET'!K102","v":0},{"$f":"'FIN PAT MARK SHEET'!L102","v":0},{"$f":"'FIN PAT MARK SHEET'!M102","v":0},{"$f":"'FIN PAT MARK SHEET'!N102","v":0},0,0,0,""]
[86,86,{"$f":"INSERT!A88","v":0},{"$f":"INSERT!B88","v":0},{"$f":"INSERT!C88","v":0},{"$f":"INSERT!D88","v":0},{"$f":"INSERT!E88","v":0},{"$f":"TERM2!Z101","v":0},{"$f":"TERM2!AR101","v":0},{"$f":"TERM2!BJ101","v":0},0,{"$f":"TERM2!BK101","v":0},{"$f":"TERM2!BM101","v":0},0,{"$f":"'FIN PAT MARK SHEET'!J103","v":0},{"$f":"'FIN PAT MARK SHEET'!K103","v":0},{"$f":"'FIN PAT MARK SHEET'!L103","v":0},{"$f":"'FIN PAT MARK SHEET'!M103","v":0},{"$f":"'FIN PAT MARK SHEET'!N103","v":0},0,0,0,""]
[87,87,{"$f":"INSERT!A89","v":0},{"$f":"INSERT!B89","v":0},{"$f":"INSERT!C89","v":0},{"$f":"INSERT!D89","v":0},{"$f":"INSERT!E89","v":0},{"$f":"TERM2!Z102","v":0},{"$f":"TERM2!AR102","v":0},{"$f":"TERM2!BJ102","v":0},0,{"$f":"TERM2!BK102","v":0},{"$f":"TERM2!BM102","v":0},0,{"$f":"'FIN PAT MARK SHEET'!J104","v":0},{"$f":"'FIN PAT MARK SHEET'!K104","v":0},{"$f":"'FIN PAT MARK SHEET'!L104","v":0},{"$f":"'FIN PAT MARK SHEET'!M104","v":0},{"$f":"'FIN PAT MARK SHEET'!N104","v":0},0,0,0,""]
[88,88,{"$f":"INSERT!A90","v":0},{"$f":"INSERT!B90","v":0},{"$f":"INSERT!C90","v":0},{"$f":"INSERT!D90","v":0},{"$f":"INSERT!E90","v":0},{"$f":"TERM2!Z103","v":0},{"$f":"TERM2!AR103","v":0},{"$f":"TERM2!BJ103","v":0},0,{"$f":"TERM2!BK103","v":0},{"$f":"TERM2!BM103","v":0},0,{"$f":"'FIN PAT MARK SHEET'!J105","v":0},{"$f":"'FIN PAT MARK SHEET'!K105","v":0},{"$f":"'FIN PAT MARK SHEET'!L105","v":0},{"$f":"'FIN PAT MARK SHEET'!M105","v":0},{"$f":"'FIN PAT MARK SHEET'!N105","v":0},0,0,0,""]
[89,89,{"$f":"INSERT!A91","v":0},{"$f":"INSERT!B91","v":0},{"$f":"INSERT!C91","v":0},{"$f":"INSERT!D91","v":0},{"$f":"INSERT!E91","v":0},{"$f":"TERM2!Z104","v":0},{"$f":"TERM2!AR104","v":0},{"$f":"TERM2!BJ104","v":0},0,{"$f":"TERM2!BK104","v":0},{"$f":"TERM2!BM104","v":0},0,{"$f":"'FIN PAT MARK SHEET'!J106","v":0},{"$f":"'FIN PAT MARK SHEET'!K106","v":0},{"$f":"'FIN PAT MARK SHEET'!L106","v":0},{"$f":"'FIN PAT MARK SHEET'!M106","v":0},{"$f":"'FIN PAT MARK SHEET'!N106","v":0},0,0,0,""]
[90,90,{"$f":"INSERT!A92","v":0},{"$f":"INSERT!B92","v":0},{"$f":"INSERT!C92","v":0},{"$f":"INSERT!D92","v":0},{"$f":"INSERT!E92","v":0},{"$f":"TERM2!Z105","v":0},{"$f":"TERM2!AR105","v":0},{"$f":"TERM2!BJ105","v":0},0,{"$f":"TERM2!BK105","v":0},{"$f":"TERM2!BM105","v":0},0,{"$f":"'FIN PAT MARK SHEET'!J107","v":0},{"$f":"'FIN PAT MARK SHEET'!K107","v":0},{"$f":"'FIN PAT MARK SHEET'!L107","v":0},{"$f":"'FIN PAT MARK SHEET'!M107","v":0},{"$f":"'FIN PAT MARK SHEET'!N107","v":0},0,0,0,""]
[91,91,{"$f":"INSERT!A93","v":0},{"$f":"INSERT!B93","v":0},{"$f":"INSERT!C93","v":0},{"$f":"INSERT!D93","v":0},{"$f":"INSERT!E93","v":0},{"$f":"TERM2!Z106","v":0},{"$f":"TERM2!AR106","v":0},{"$f":"TERM2!BJ106","v":0},0,{"$f":"TERM2!BK106","v":0},{"$f":"TERM2!BM106","v":0},0,{"$f":"'FIN PAT MARK SHEET'!J108","v":0},{"$f":"'FIN PAT MARK SHEET'!K108","v":0},{"$f":"'FIN PAT MARK SHEET'!L108","v":0},{"$f":"'FIN PAT MARK SHEET'!M108","v":0},{"$f":"'FIN PAT MARK SHEET'!N108","v":0},0,0,0,""]
[92,92,{"$f":"INSERT!A94","v":0},{"$f":"INSERT!B94","v":0},{"$f":"INSERT!C94","v":0},{"$f":"INSERT!D94","v":0},{"$f":"INSERT!E94","v":0},{"$f":"TERM2!Z107","v":0},{"$f":"TERM2!AR107","v":0},{"$f":"TERM2!BJ107","v":0},0,{"$f":"TERM2!BK107","v":0},{"$f":"TERM2!BM107","v":0},0,{"$f":"'FIN PAT MARK SHEET'!J109","v":0},{"$f":"'FIN PAT MARK SHEET'!K109","v":0},{"$f":"'FIN PAT MARK SHEET'!L109","v":0},{"$f":"'FIN PAT MARK SHEET'!M109","v":0},{"$f":"'FIN PAT MARK SHEET'!N109","v":0},0,0,0,""]
[93,93,{"$f":"INSERT!A95","v":0},{"$f":"INSERT!B95","v":0},{"$f":"INSERT!C95","v":0},{"$f":"INSERT!D95","v":0},{"$f":"INSERT!E95","v":0},{"$f":"TERM2!Z108","v":0},{"$f":"TERM2!AR108","v":0},{"$f":"TERM2!BJ108","v":0},0,{"$f":"TERM2!BK108","v":0},{"$f":"TERM2!BM108","v":0},0,{"$f":"'FIN PAT MARK SHEET'!J110","v":0},{"$f":"'FIN PAT MARK SHEET'!K110","v":0},{"$f":"'FIN PAT MARK SHEET'!L110","v":0},{"$f":"'FIN PAT MARK SHEET'!M110","v":0},{"$f":"'FIN PAT MARK SHEET'!N110","v":0},0,0,0,""]
[94,94,{"$f":"INSERT!A96","v":0},{"$f":"INSERT!B96","v":0},{"$f":"INSERT!C96","v":0},{"$f":"INSERT!D96","v":0},{"$f":"INSERT!E96","v":0},{"$f":"TERM2!Z109","v":0},{"$f":"TERM2!AR109","v":0},{"$f":"TERM2!BJ109","v":0},0,{"$f":"TERM2!BK109","v":0},{"$f":"TERM2!BM109","v":0},0,{"$f":"'FIN PAT MARK SHEET'!J111","v":0},{"$f":"'FIN PAT MARK SHEET'!K111","v":0},{"$f":"'FIN PAT MARK SHEET'!L111","v":0},{"$f":"'FIN PAT MARK SHEET'!M111","v":0},{"$f":"'FIN PAT MARK SHEET'!N111","v":0},0,0,0,""]
[95,95,{"$f":"INSERT!A97","v":0},{"$f":"INSERT!B97","v":0},{"$f":"INSERT!C97","v":0},{"$f":"INSERT!D97","v":0},{"$f":"INSERT!E97","v":0},{"$f":"TERM2!Z110","v":0},{"$f":"TERM2!AR110","v":0},{"$f":"TERM2!BJ110","v":0},0,{"$f":"TERM2!BK110","v":0},{"$f":"TERM2!BM110","v":0},0,{"$f":"'FIN PAT MARK SHEET'!J112","v":0},{"$f":"'FIN PAT MARK SHEET'!K112","v":0},{"$f":"'FIN PAT MARK SHEET'!L112","v":0},{"$f":"'FIN PAT MARK SHEET'!M112","v":0},{"$f":"'FIN PAT MARK SHEET'!N112","v":0},0,0,0,""]
[96,96,{"$f":"INSERT!A98","v":0},{"$f":"INSERT!B98","v":0},{"$f":"INSERT!C98","v":0},{"$f":"INSERT!D98","v":0},{"$f":"INSERT!E98","v":0},{"$f":"TERM2!Z111","v":0},{"$f":"TERM2!AR111","v":0},{"$f":"TERM2!BJ111","v":0},0,{"$f":"TERM2!BK111","v":0},{"$f":"TERM2!BM111","v":0},0,{"$f":"'FIN PAT MARK SHEET'!J113","v":0},{"$f":"'FIN PAT MARK SHEET'!K113","v":0},{"$f":"'FIN PAT MARK SHEET'!L113","v":0},{"$f":"'FIN PAT MARK SHEET'!M113","v":0},{"$f":"'FIN PAT MARK SHEET'!N113","v":0},0,0,0,""]
[97,97,{"$f":"INSERT!A99","v":0},{"$f":"INSERT!B99","v":0},{"$f":"INSERT!C99","v":0},{"$f":"INSERT!D99","v":0},{"$f":"INSERT!E99","v":0},{"$f":"TERM2!Z112","v":0},{"$f":"TERM2!AR112","v":0},{"$f":"TERM2!BJ112","v":0},{"$f":"ROUND((SUMIF(H105:J105,\">0\")),0)","v":0},{"$f":"TERM2!BK112","v":0},{"$f":"TERM2!BM112","v":0},0,{"$f":"'FIN PAT MARK SHEET'!J114","v":0},{"$f":"'FIN PAT MARK SHEET'!K114","v":0},{"$f":"'FIN PAT MARK SHEET'!L114","v":0},{"$f":"'FIN PAT MARK SHEET'!M114","v":0},{"$f":"'FIN PAT MARK SHEET'!N114","v":0},{"$f":"ROUND((SUMIF(O105:S105,\">0\")/1.724137931),0)","v":0},0,{"$f":"ROUND(U105,0)","v":0},{"$f":"IF(V105>79,\"7\",IF(V105>69,\"6\",IF(V105>59,\"5\",IF(V105>49,\"4\",IF(V105>39,\"3\",IF(V105>29,\"2\",IF(V105>0,\"1\",IF(V105=0,\"\"))))))))","v":""}]
[98,98,{"$f":"INSERT!A100","v":0},{"$f":"INSERT!B100","v":0},{"$f":"INSERT!C100","v":0},{"$f":"INSERT!D100","v":0},{"$f":"INSERT!E100","v":0},{"$f":"TERM2!Z113","v":0},{"$f":"TERM2!AR113","v":0},{"$f":"TERM2!BJ113","v":0},0,{"$f":"TERM2!BK113","v":0},{"$f":"TERM2!BM113","v":0},0,{"$f":"'FIN PAT MARK SHEET'!J115","v":0},{"$f":"'FIN PAT MARK SHEET'!K115","v":0},{"$f":"'FIN PAT MARK SHEET'!L115","v":0},{"$f":"'FIN PAT MARK SHEET'!M115","v":0},{"$f":"'FIN PAT MARK SHEET'!N115","v":0},0,0,0,""]
[99,99,{"$f":"INSERT!A101","v":0},{"$f":"INSERT!B101","v":0},{"$f":"INSERT!C101","v":0},{"$f":"INSERT!D101","v":0},{"$f":"INSERT!E101","v":0},{"$f":"TERM2!Z114","v":0},{"$f":"TERM2!AR114","v":0},{"$f":"TERM2!BJ114","v":0},0,{"$f":"TERM2!BK114","v":0},{"$f":"TERM2!BM114","v":0},0,{"$f":"'FIN PAT MARK SHEET'!J116","v":0},{"$f":"'FIN PAT MARK SHEET'!K116","v":0},{"$f":"'FIN PAT MARK SHEET'!L116","v":0},{"$f":"'FIN PAT MARK SHEET'!M116","v":0},{"$f":"'FIN PAT MARK SHEET'!N116","v":0},0,0,0,""]
[100,100,{"$f":"INSERT!A102","v":0},{"$f":"INSERT!B102","v":0},{"$f":"INSERT!C102","v":0},{"$f":"INSERT!D102","v":0},{"$f":"INSERT!E102","v":0},{"$f":"TERM2!Z115","v":0},{"$f":"TERM2!AR115","v":0},{"$f":"TERM2!BJ115","v":0},0,{"$f":"TERM2!BK115","v":0},{"$f":"TERM2!BM115","v":0},0,{"$f":"'FIN PAT MARK SHEET'!J117","v":0},{"$f":"'FIN PAT MARK SHEET'!K117","v":0},{"$f":"'FIN PAT MARK SHEET'!L117","v":0},{"$f":"'FIN PAT MARK SHEET'!M117","v":0},{"$f":"'FIN PAT MARK SHEET'!N117","v":0},0,0,0,""]
[null,null,"X","X","X","X","Total",{"$f":"SUM(H9:H108)","v":0},{"$f":"SUM(I9:I108)","v":0},0,0,0,0,0,0,0,0,0,0,0,0,0]
[null,null,"X","X","X","X","Average%",{"$f":"IFERROR(ROUND((AVERAGEIF(H9:H108,\">0\")/H4*100),1),\"0\")","v":"0"},{"$f":"IFERROR(ROUND((AVERAGEIF(I9:I108,\">0\")/I4*100),1),\"0\")","v":"0"},"0","0","0","0","0","0","0","0","0","0","0",{"$f":"IFERROR(ROUND((AVERAGEIF(U9:U108,\">0\")/U7*100),1),\"0\")","v":"0"},{"$f":"IFERROR(ROUND((AVERAGEIF(V9:V108,\">0\")/V7*100),1),\"0\")","v":"0"}]
["Total amount of learners on mark sheet",null,null,null,"X","Term results analysis",null,null,null,null,null,null,null,"LEVEL 1","LEVEL 2","LEVEL 3","LEVEL 4","LEVEL 5","LEVEL 6","LEVEL 7"]
[null,null,null,null,{"$f":"INSERT!$E$103","v":0},null,null,null,null,null,null,null,null," 0 - 29 "," 30 - 39 "," 40 - 49 "," 50 - 59 "," 60 - 69 "," 70 - 79 ","80 - 100"]
[null,null,null,null,"X",null,null,null,null,null,null,null,null,{"$f":"COUNTIF(W9:W108,1)","v":0},{"$f":"COUNTIF($W$9:$W$108,2)","v":0},{"$f":"COUNTIF($W$9:$W$108,3)","v":0},{"$f":"COUNTIF($W$9:$W$108,4)","v":0},{"$f":"COUNTIF($W$9:$W$108,5)","v":0},{"$f":"COUNTIF($W$9:$W$108,6)","v":0},{"$f":"COUNTIF($W$9:$W$108,7)","v":0},{"$f":"SUM(N113:T113)","v":0}]

{"sheet":"SASAMS TERM3","index":9,"n_rows":113,"n_cols":23,"rows_kept":113,"cut":false,"hidden":false,"merged":[[0,20,2,22],[2,0,2,6],[3,0,3,4],[3,20,5,20],[3,21,5,21],[3,22,5,22],[4,0,4,6],[0,0,0,5],[1,0,1,2],[109,0,109,6],[110,0,112,3],[110,5,112,6],[108,0,108,6],[5,4,5,5]]}
["       Engineering Graphics and Design (Gr 11)\n      Term 3:",null,null,null,null,null,"TASKS",null,null,null,null,null,"TASK 5","TASK 6",null,null,null,null,null,"TASK PAT (Phase 2)"]
["Grade:",null,null,{"$f":"TERM1!$F$6","v":0},null,null,"Activities",{"$f":"TERM3!$I$4","v":"CD8 1st Solid Geometry\ntwo adjacent Solids sectioned"},{"$f":"TERM3!$AA$4","v":"CD9  2nd Solid Geometry\nSectioned Solid with a hole"},{"$f":"TERM3!$AS$4","v":"CD10 1st Interpenetration & Development\n(Two prisms)"},{"$f":"TERM3!$BK$4","v":"CD11 2nd Interpenetration & Development\n(Including a cylinder(s))"},{"$f":"TERM3!$CC$4","v":"CD12  3rd Mechanical Assembly"},null,null,"Drawing paper layout","Presentation Drawing","Presentation drawing 1","Presentation drawing 2","Presentation Drawing 3D",null,"100"]
["Weighting ",null,null,null,null,null,null,20,20,20,20,20,100,0,20,20,20,20,20,0]
[" Marks: -1 = Absent,  -2 = Not Captured",null,null,null,null,null,"Total Mark",10,10,10,10,10,50,0,10,10,10,10,10,35,"TOTAL Weighted Mark","Term\n%","Level"]
["SBA Year Mark Weight ",null,null,null,null,null,null,null,null,null,null,null,15,15]
[null,null,null,null,null,null,"Term \n /Date ",null,null,null,null,null,"Term3","Term3",null,null,null,null,null,"Term3"]
["No",null,"Class","Acc No","Learner",null,"Gender","T2:A1","T2:A2","T2:A3","T2:A4","T2:A5","T2","T3","T1:A1","T1:A2","T1:A3","T1:A4","T1:A5","T1",100,"100"]
[]
[1,1,{"$f":"INSERT!A3","v":0},{"$f":"INSERT!B3","v":0},{"$f":"INSERT!C3","v":0},{"$f":"INSERT!D3","v":0},{"$f":"INSERT!E3","v":0},{"$f":"TERM3!Z16","v":0},{"$f":"TERM3!AR16","v":0},{"$f":"TERM3!BJ16","v":0},{"$f":"TERM3!CB16","v":0},{"$f":"TERM3!CT16","v":0},{"$f":"SUM(H9:L9)","v":0},{"$f":"TERM3!CY16","v":0},{"$f":"'FIN PAT MARK SHEET'!P18","v":0},{"$f":"'FIN PAT MARK SHEET'!Q18","v":0},{"$f":"'FIN PAT MARK SHEET'!R18","v":0},{"$f":"'FIN PAT MARK SHEET'!S18","v":0},{"$f":"'FIN PAT MARK SHEET'!T18","v":0},{"$f":"SUMIF(O9:S9,\">0\")/1.428571428","v":0},{"$f":"SUM(M9*2)","v":0},{"$f":"SUM(U9,0)","v":0},{"$f":"IF(V9>79,\"7\",IF(V9>69,\"6\",IF(V9>59,\"5\",IF(V9>49,\"4\",IF(V9>39,\"3\",IF(V9>29,\"2\",IF(V9>0,\"1\",IF(V9=0,\"\"))))))))","v":""}]
[2,36,{"$f":"INSERT!A4","v":0},{"$f":"INSERT!B4","v":0},{"$f":"INSERT!C4","v":0},{"$f":"INSERT!D4","v":0},{"$f":"INSERT!E4","v":0},{"$f":"TERM3!Z17","v":0},{"$f":"TERM3!AR17","v":0},{"$f":"TERM3!BJ17","v":0},{"$f":"TERM3!CB17","v":0},{"$f":"TERM3!CT17","v":0},{"$f":"SUM(H10:L10)","v":0},{"$f":"TERM3!CY17","v":0},{"$f":"'FIN PAT MARK SHEET'!P19","v":0},{"$f":"'FIN PAT MARK SHEET'!Q19","v":0},{"$f":"'FIN PAT MARK SHEET'!R19","v":0},{"$f":"'FIN PAT MARK SHEET'!S19","v":0},{"$f":"'FIN PAT MARK SHEET'!T19","v":0},{"$f":"SUMIF(O10:S10,\">0\")/1.428571428","v":0},{"$f":"SUM(M10*2)","v":0},{"$f":"SUM(U10,0)","v":0},""]
[3,2,{"$f":"INSERT!A5","v":0},{"$f":"INSERT!B5","v":0},{"$f":"INSERT!C5","v":0},{"$f":"INSERT!D5","v":0},{"$f":"INSERT!E5","v":0},{"$f":"TERM3!Z18","v":0},{"$f":"TERM3!AR18","v":0},{"$f":"TERM3!BJ18","v":0},{"$f":"TERM3!CB18","v":0},{"$f":"TERM3!CT18","v":0},0,{"$f":"TERM3!CY18","v":0},{"$f":"'FIN PAT MARK SHEET'!P20","v":0},{"$f":"'FIN PAT MARK SHEET'!Q20","v":0},{"$f":"'FIN PAT MARK SHEET'!R20","v":0},{"$f":"'FIN PAT MARK SHEET'!S20","v":0},{"$f":"'FIN PAT MARK SHEET'!T20","v":0},0,0,0,""]
[4,3,{"$f":"INSERT!A6","v":0},{"$f":"INSERT!B6","v":0},{"$f":"INSERT!C6","v":0},{"$f":"INSERT!D6","v":0},{"$f":"INSERT!E6","v":0},{"$f":"TERM3!Z19","v":0},{"$f":"TERM3!AR19","v":0},{"$f":"TERM3!BJ19","v":0},{"$f":"TERM3!CB19","v":0},{"$f":"TERM3!CT19","v":0},0,{"$f":"TERM3!CY19","v":0},{"$f":"'FIN PAT MARK SHEET'!P21","v":0},{"$f":"'FIN PAT MARK SHEET'!Q21","v":0},{"$f":"'FIN PAT MARK SHEET'!R21","v":0},{"$f":"'FIN PAT MARK SHEET'!S21","v":0},{"$f":"'FIN PAT MARK SHEET'!T21","v":0},0,0,0,""]
[5,4,{"$f":"INSERT!A7","v":0},{"$f":"INSERT!B7","v":0},{"$f":"INSERT!C7","v":0},{"$f":"INSERT!D7","v":0},{"$f":"INSERT!E7","v":0},{"$f":"TERM3!Z20","v":0},{"$f":"TERM3!AR20","v":0},{"$f":"TERM3!BJ20","v":0},{"$f":"TERM3!CB20","v":0},{"$f":"TERM3!CT20","v":0},0,{"$f":"TERM3!CY20","v":0},{"$f":"'FIN PAT MARK SHEET'!P22","v":0},{"$f":"'FIN PAT MARK SHEET'!Q22","v":0},{"$f":"'FIN PAT MARK SHEET'!R22","v":0},{"$f":"'FIN PAT MARK SHEET'!S22","v":0},{"$f":"'FIN PAT MARK SHEET'!T22","v":0},0,0,0,""]
[6,5,{"$f":"INSERT!A8","v":0},{"$f":"INSERT!B8","v":0},{"$f":"INSERT!C8","v":0},{"$f":"INSERT!D8","v":0},{"$f":"INSERT!E8","v":0},{"$f":"TERM3!Z21","v":0},{"$f":"TERM3!AR21","v":0},{"$f":"TERM3!BJ21","v":0},{"$f":"TERM3!CB21","v":0},{"$f":"TERM3!CT21","v":0},0,{"$f":"TERM3!CY21","v":0},{"$f":"'FIN PAT MARK SHEET'!P23","v":0},{"$f":"'FIN PAT MARK SHEET'!Q23","v":0},{"$f":"'FIN PAT MARK SHEET'!R23","v":0},{"$f":"'FIN PAT MARK SHEET'!S23","v":0},{"$f":"'FIN PAT MARK SHEET'!T23","v":0},0,0,0,""]
[7,6,{"$f":"INSERT!A9","v":0},{"$f":"INSERT!B9","v":0},{"$f":"INSERT!C9","v":0},{"$f":"INSERT!D9","v":0},{"$f":"INSERT!E9","v":0},{"$f":"TERM3!Z22","v":0},{"$f":"TERM3!AR22","v":0},{"$f":"TERM3!BJ22","v":0},{"$f":"TERM3!CB22","v":0},{"$f":"TERM3!CT22","v":0},0,{"$f":"TERM3!CY22","v":0},{"$f":"'FIN PAT MARK SHEET'!P24","v":0},{"$f":"'FIN PAT MARK SHEET'!Q24","v":0},{"$f":"'FIN PAT MARK SHEET'!R24","v":0},{"$f":"'FIN PAT MARK SHEET'!S24","v":0},{"$f":"'FIN PAT MARK SHEET'!T24","v":0},0,0,0,""]
[8,7,{"$f":"INSERT!A10","v":0},{"$f":"INSERT!B10","v":0},{"$f":"INSERT!C10","v":0},{"$f":"INSERT!D10","v":0},{"$f":"INSERT!E10","v":0},{"$f":"TERM3!Z23","v":0},{"$f":"TERM3!AR23","v":0},{"$f":"TERM3!BJ23","v":0},{"$f":"TERM3!CB23","v":0},{"$f":"TERM3!CT23","v":0},0,{"$f":"TERM3!CY23","v":0},{"$f":"'FIN PAT MARK SHEET'!P25","v":0},{"$f":"'FIN PAT MARK SHEET'!Q25","v":0},{"$f":"'FIN PAT MARK SHEET'!R25","v":0},{"$f":"'FIN PAT MARK SHEET'!S25","v":0},{"$f":"'FIN PAT MARK SHEET'!T25","v":0},0,0,0,""]
[9,8,{"$f":"INSERT!A11","v":0},{"$f":"INSERT!B11","v":0},{"$f":"INSERT!C11","v":0},{"$f":"INSERT!D11","v":0},{"$f":"INSERT!E11","v":0},{"$f":"TERM3!Z24","v":0},{"$f":"TERM3!AR24","v":0},{"$f":"TERM3!BJ24","v":0},{"$f":"TERM3!CB24","v":0},{"$f":"TERM3!CT24","v":0},0,{"$f":"TERM3!CY24","v":0},{"$f":"'FIN PAT MARK SHEET'!P26","v":0},{"$f":"'FIN PAT MARK SHEET'!Q26","v":0},{"$f":"'FIN PAT MARK SHEET'!R26","v":0},{"$f":"'FIN PAT MARK SHEET'!S26","v":0},{"$f":"'FIN PAT MARK SHEET'!T26","v":0},0,0,0,""]
[10,9,{"$f":"INSERT!A12","v":0},{"$f":"INSERT!B12","v":0},{"$f":"INSERT!C12","v":0},{"$f":"INSERT!D12","v":0},{"$f":"INSERT!E12","v":0},{"$f":"TERM3!Z25","v":0},{"$f":"TERM3!AR25","v":0},{"$f":"TERM3!BJ25","v":0},{"$f":"TERM3!CB25","v":0},{"$f":"TERM3!CT25","v":0},0,{"$f":"TERM3!CY25","v":0},{"$f":"'FIN PAT MARK SHEET'!P27","v":0},{"$f":"'FIN PAT MARK SHEET'!Q27","v":0},{"$f":"'FIN PAT MARK SHEET'!R27","v":0},{"$f":"'FIN PAT MARK SHEET'!S27","v":0},{"$f":"'FIN PAT MARK SHEET'!T27","v":0},0,0,0,""]
[11,11,{"$f":"INSERT!A13","v":0},{"$f":"INSERT!B13","v":0},{"$f":"INSERT!C13","v":0},{"$f":"INSERT!D13","v":0},{"$f":"INSERT!E13","v":0},{"$f":"TERM3!Z26","v":0},{"$f":"TERM3!AR26","v":0},{"$f":"TERM3!BJ26","v":0},{"$f":"TERM3!CB26","v":0},{"$f":"TERM3!CT26","v":0},0,{"$f":"TERM3!CY26","v":0},{"$f":"'FIN PAT MARK SHEET'!P28","v":0},{"$f":"'FIN PAT MARK SHEET'!Q28","v":0},{"$f":"'FIN PAT MARK SHEET'!R28","v":0},{"$f":"'FIN PAT MARK SHEET'!S28","v":0},{"$f":"'FIN PAT MARK SHEET'!T28","v":0},0,0,0,""]
[12,12,{"$f":"INSERT!A14","v":0},{"$f":"INSERT!B14","v":0},{"$f":"INSERT!C14","v":0},{"$f":"INSERT!D14","v":0},{"$f":"INSERT!E14","v":0},{"$f":"TERM3!Z27","v":0},{"$f":"TERM3!AR27","v":0},{"$f":"TERM3!BJ27","v":0},{"$f":"TERM3!CB27","v":0},{"$f":"TERM3!CT27","v":0},0,{"$f":"TERM3!CY27","v":0},{"$f":"'FIN PAT MARK SHEET'!P29","v":0},{"$f":"'FIN PAT MARK SHEET'!Q29","v":0},{"$f":"'FIN PAT MARK SHEET'!R29","v":0},{"$f":"'FIN PAT MARK SHEET'!S29","v":0},{"$f":"'FIN PAT MARK SHEET'!T29","v":0},0,0,0,""]
[13,13,{"$f":"INSERT!A15","v":0},{"$f":"INSERT!B15","v":0},{"$f":"INSERT!C15","v":0},{"$f":"INSERT!D15","v":0},{"$f":"INSERT!E15","v":0},{"$f":"TERM3!Z28","v":0},{"$f":"TERM3!AR28","v":0},{"$f":"TERM3!BJ28","v":0},{"$f":"TERM3!CB28","v":0},{"$f":"TERM3!CT28","v":0},0,{"$f":"TERM3!CY28","v":0},{"$f":"'FIN PAT MARK SHEET'!P30","v":0},{"$f":"'FIN PAT MARK SHEET'!Q30","v":0},{"$f":"'FIN PAT MARK SHEET'!R30","v":0},{"$f":"'FIN PAT MARK SHEET'!S30","v":0},{"$f":"'FIN PAT MARK SHEET'!T30","v":0},0,0,0,""]
[14,14,{"$f":"INSERT!A16","v":0},{"$f":"INSERT!B16","v":0},{"$f":"INSERT!C16","v":0},{"$f":"INSERT!D16","v":0},{"$f":"INSERT!E16","v":0},{"$f":"TERM3!Z29","v":0},{"$f":"TERM3!AR29","v":0},{"$f":"TERM3!BJ29","v":0},{"$f":"TERM3!CB29","v":0},{"$f":"TERM3!CT29","v":0},0,{"$f":"TERM3!CY29","v":0},{"$f":"'FIN PAT MARK SHEET'!P31","v":0},{"$f":"'FIN PAT MARK SHEET'!Q31","v":0},{"$f":"'FIN PAT MARK SHEET'!R31","v":0},{"$f":"'FIN PAT MARK SHEET'!S31","v":0},{"$f":"'FIN PAT MARK SHEET'!T31","v":0},0,0,{"$f":"SUM(U22,0)","v":0},{"$f":"IF(V22>79,\"7\",IF(V22>69,\"6\",IF(V22>59,\"5\",IF(V22>49,\"4\",IF(V22>39,\"3\",IF(V22>29,\"2\",IF(V22>0,\"1\",IF(V22=0,\"\"))))))))","v":""}]
[15,15,{"$f":"INSERT!A17","v":0},{"$f":"INSERT!B17","v":0},{"$f":"INSERT!C17","v":0},{"$f":"INSERT!D17","v":0},{"$f":"INSERT!E17","v":0},{"$f":"TERM3!Z30","v":0},{"$f":"TERM3!AR30","v":0},{"$f":"TERM3!BJ30","v":0},{"$f":"TERM3!CB30","v":0},{"$f":"TERM3!CT30","v":0},0,{"$f":"TERM3!CY30","v":0},{"$f":"'FIN PAT MARK SHEET'!P32","v":0},{"$f":"'FIN PAT MARK SHEET'!Q32","v":0},{"$f":"'FIN PAT MARK SHEET'!R32","v":0},{"$f":"'FIN PAT MARK SHEET'!S32","v":0},{"$f":"'FIN PAT MARK SHEET'!T32","v":0},0,0,0,""]
[16,16,{"$f":"INSERT!A18","v":0},{"$f":"INSERT!B18","v":0},{"$f":"INSERT!C18","v":0},{"$f":"INSERT!D18","v":0},{"$f":"INSERT!E18","v":0},{"$f":"TERM3!Z31","v":0},{"$f":"TERM3!AR31","v":0},{"$f":"TERM3!BJ31","v":0},{"$f":"TERM3!CB31","v":0},{"$f":"TERM3!CT31","v":0},0,{"$f":"TERM3!CY31","v":0},{"$f":"'FIN PAT MARK SHEET'!P33","v":0},{"$f":"'FIN PAT MARK SHEET'!Q33","v":0},{"$f":"'FIN PAT MARK SHEET'!R33","v":0},{"$f":"'FIN PAT MARK SHEET'!S33","v":0},{"$f":"'FIN PAT MARK SHEET'!T33","v":0},0,0,0,""]
[17,17,{"$f":"INSERT!A19","v":0},{"$f":"INSERT!B19","v":0},{"$f":"INSERT!C19","v":0},{"$f":"INSERT!D19","v":0},{"$f":"INSERT!E19","v":0},{"$f":"TERM3!Z32","v":0},{"$f":"TERM3!AR32","v":0},{"$f":"TERM3!BJ32","v":0},{"$f":"TERM3!CB32","v":0},{"$f":"TERM3!CT32","v":0},0,{"$f":"TERM3!CY32","v":0},{"$f":"'FIN PAT MARK SHEET'!P34","v":0},{"$f":"'FIN PAT MARK SHEET'!Q34","v":0},{"$f":"'FIN PAT MARK SHEET'!R34","v":0},{"$f":"'FIN PAT MARK SHEET'!S34","v":0},{"$f":"'FIN PAT MARK SHEET'!T34","v":0},0,0,0,""]
[18,18,{"$f":"INSERT!A20","v":0},{"$f":"INSERT!B20","v":0},{"$f":"INSERT!C20","v":0},{"$f":"INSERT!D20","v":0},{"$f":"INSERT!E20","v":0},{"$f":"TERM3!Z33","v":0},{"$f":"TERM3!AR33","v":0},{"$f":"TERM3!BJ33","v":0},{"$f":"TERM3!CB33","v":0},{"$f":"TERM3!CT33","v":0},0,{"$f":"TERM3!CY33","v":0},{"$f":"'FIN PAT MARK SHEET'!P35","v":0},{"$f":"'FIN PAT MARK SHEET'!Q35","v":0},{"$f":"'FIN PAT MARK SHEET'!R35","v":0},{"$f":"'FIN PAT MARK SHEET'!S35","v":0},{"$f":"'FIN PAT MARK SHEET'!T35","v":0},0,0,0,""]
[19,19,{"$f":"INSERT!A21","v":0},{"$f":"INSERT!B21","v":0},{"$f":"INSERT!C21","v":0},{"$f":"INSERT!D21","v":0},{"$f":"INSERT!E21","v":0},{"$f":"TERM3!Z34","v":0},{"$f":"TERM3!AR34","v":0},{"$f":"TERM3!BJ34","v":0},{"$f":"TERM3!CB34","v":0},{"$f":"TERM3!CT34","v":0},0,{"$f":"TERM3!CY34","v":0},{"$f":"'FIN PAT MARK SHEET'!P36","v":0},{"$f":"'FIN PAT MARK SHEET'!Q36","v":0},{"$f":"'FIN PAT MARK SHEET'!R36","v":0},{"$f":"'FIN PAT MARK SHEET'!S36","v":0},{"$f":"'FIN PAT MARK SHEET'!T36","v":0},0,0,0,""]
[20,20,{"$f":"INSERT!A22","v":0},{"$f":"INSERT!B22","v":0},{"$f":"INSERT!C22","v":0},{"$f":"INSERT!D22","v":0},{"$f":"INSERT!E22","v":0},{"$f":"TERM3!Z35","v":0},{"$f":"TERM3!AR35","v":0},{"$f":"TERM3!BJ35","v":0},{"$f":"TERM3!CB35","v":0},{"$f":"TERM3!CT35","v":0},0,{"$f":"TERM3!CY35","v":0},{"$f":"'FIN PAT MARK SHEET'!P37","v":0},{"$f":"'FIN PAT MARK SHEET'!Q37","v":0},{"$f":"'FIN PAT MARK SHEET'!R37","v":0},{"$f":"'FIN PAT MARK SHEET'!S37","v":0},{"$f":"'FIN PAT MARK SHEET'!T37","v":0},0,0,0,""]
[21,21,{"$f":"INSERT!A23","v":0},{"$f":"INSERT!B23","v":0},{"$f":"INSERT!C23","v":0},{"$f":"INSERT!D23","v":0},{"$f":"INSERT!E23","v":0},{"$f":"TERM3!Z36","v":0},{"$f":"TERM3!AR36","v":0},{"$f":"TERM3!BJ36","v":0},{"$f":"TERM3!CB36","v":0},{"$f":"TERM3!CT36","v":0},0,{"$f":"TERM3!CY36","v":0},{"$f":"'FIN PAT MARK SHEET'!P38","v":0},{"$f":"'FIN PAT MARK SHEET'!Q38","v":0},{"$f":"'FIN PAT MARK SHEET'!R38","v":0},{"$f":"'FIN PAT MARK SHEET'!S38","v":0},{"$f":"'FIN PAT MARK SHEET'!T38","v":0},0,0,0,""]
[22,22,{"$f":"INSERT!A24","v":0},{"$f":"INSERT!B24","v":0},{"$f":"INSERT!C24","v":0},{"$f":"INSERT!D24","v":0},{"$f":"INSERT!E24","v":0},{"$f":"TERM3!Z37","v":0},{"$f":"TERM3!AR37","v":0},{"$f":"TERM3!BJ37","v":0},{"$f":"TERM3!CB37","v":0},{"$f":"TERM3!CT37","v":0},0,{"$f":"TERM3!CY37","v":0},{"$f":"'FIN PAT MARK SHEET'!P39","v":0},{"$f":"'FIN PAT MARK SHEET'!Q39","v":0},{"$f":"'FIN PAT MARK SHEET'!R39","v":0},{"$f":"'FIN PAT MARK SHEET'!S39","v":0},{"$f":"'FIN PAT MARK SHEET'!T39","v":0},0,0,0,""]
[23,23,{"$f":"INSERT!A25","v":0},{"$f":"INSERT!B25","v":0},{"$f":"INSERT!C25","v":0},{"$f":"INSERT!D25","v":0},{"$f":"INSERT!E25","v":0},{"$f":"TERM3!Z38","v":0},{"$f":"TERM3!AR38","v":0},{"$f":"TERM3!BJ38","v":0},{"$f":"TERM3!CB38","v":0},{"$f":"TERM3!CT38","v":0},0,{"$f":"TERM3!CY38","v":0},{"$f":"'FIN PAT MARK SHEET'!P40","v":0},{"$f":"'FIN PAT MARK SHEET'!Q40","v":0},{"$f":"'FIN PAT MARK SHEET'!R40","v":0},{"$f":"'FIN PAT MARK SHEET'!S40","v":0},{"$f":"'FIN PAT MARK SHEET'!T40","v":0},0,0,0,""]
[24,24,{"$f":"INSERT!A26","v":0},{"$f":"INSERT!B26","v":0},{"$f":"INSERT!C26","v":0},{"$f":"INSERT!D26","v":0},{"$f":"INSERT!E26","v":0},{"$f":"TERM3!Z39","v":0},{"$f":"TERM3!AR39","v":0},{"$f":"TERM3!BJ39","v":0},{"$f":"TERM3!CB39","v":0},{"$f":"TERM3!CT39","v":0},0,{"$f":"TERM3!CY39","v":0},{"$f":"'FIN PAT MARK SHEET'!P41","v":0},{"$f":"'FIN PAT MARK SHEET'!Q41","v":0},{"$f":"'FIN PAT MARK SHEET'!R41","v":0},{"$f":"'FIN PAT MARK SHEET'!S41","v":0},{"$f":"'FIN PAT MARK SHEET'!T41","v":0},0,0,0,""]
[25,25,{"$f":"INSERT!A27","v":0},{"$f":"INSERT!B27","v":0},{"$f":"INSERT!C27","v":0},{"$f":"INSERT!D27","v":0},{"$f":"INSERT!E27","v":0},{"$f":"TERM3!Z40","v":0},{"$f":"TERM3!AR40","v":0},{"$f":"TERM3!BJ40","v":0},{"$f":"TERM3!CB40","v":0},{"$f":"TERM3!CT40","v":0},0,{"$f":"TERM3!CY40","v":0},{"$f":"'FIN PAT MARK SHEET'!P42","v":0},{"$f":"'FIN PAT MARK SHEET'!Q42","v":0},{"$f":"'FIN PAT MARK SHEET'!R42","v":0},{"$f":"'FIN PAT MARK SHEET'!S42","v":0},{"$f":"'FIN PAT MARK SHEET'!T42","v":0},0,0,0,""]
[26,26,{"$f":"INSERT!A28","v":0},{"$f":"INSERT!B28","v":0},{"$f":"INSERT!C28","v":0},{"$f":"INSERT!D28","v":0},{"$f":"INSERT!E28","v":0},{"$f":"TERM3!Z41","v":0},{"$f":"TERM3!AR41","v":0},{"$f":"TERM3!BJ41","v":0},{"$f":"TERM3!CB41","v":0},{"$f":"TERM3!CT41","v":0},0,{"$f":"TERM3!CY41","v":0},{"$f":"'FIN PAT MARK SHEET'!P43","v":0},{"$f":"'FIN PAT MARK SHEET'!Q43","v":0},{"$f":"'FIN PAT MARK SHEET'!R43","v":0},{"$f":"'FIN PAT MARK SHEET'!S43","v":0},{"$f":"'FIN PAT MARK SHEET'!T43","v":0},0,0,0,""]
[27,28,{"$f":"INSERT!A29","v":0},{"$f":"INSERT!B29","v":0},{"$f":"INSERT!C29","v":0},{"$f":"INSERT!D29","v":0},{"$f":"INSERT!E29","v":0},{"$f":"TERM3!Z42","v":0},{"$f":"TERM3!AR42","v":0},{"$f":"TERM3!BJ42","v":0},{"$f":"TERM3!CB42","v":0},{"$f":"TERM3!CT42","v":0},0,{"$f":"TERM3!CY42","v":0},{"$f":"'FIN PAT MARK SHEET'!P44","v":0},{"$f":"'FIN PAT MARK SHEET'!Q44","v":0},{"$f":"'FIN PAT MARK SHEET'!R44","v":0},{"$f":"'FIN PAT MARK SHEET'!S44","v":0},{"$f":"'FIN PAT MARK SHEET'!T44","v":0},0,0,0,""]
[28,29,{"$f":"INSERT!A30","v":0},{"$f":"INSERT!B30","v":0},{"$f":"INSERT!C30","v":0},{"$f":"INSERT!D30","v":0},{"$f":"INSERT!E30","v":0},{"$f":"TERM3!Z43","v":0},{"$f":"TERM3!AR43","v":0},{"$f":"TERM3!BJ43","v":0},{"$f":"TERM3!CB43","v":0},{"$f":"TERM3!CT43","v":0},0,{"$f":"TERM3!CY43","v":0},{"$f":"'FIN PAT MARK SHEET'!P45","v":0},{"$f":"'FIN PAT MARK SHEET'!Q45","v":0},{"$f":"'FIN PAT MARK SHEET'!R45","v":0},{"$f":"'FIN PAT MARK SHEET'!S45","v":0},{"$f":"'FIN PAT MARK SHEET'!T45","v":0},0,0,0,""]
[29,30,{"$f":"INSERT!A31","v":0},{"$f":"INSERT!B31","v":0},{"$f":"INSERT!C31","v":0},{"$f":"INSERT!D31","v":0},{"$f":"INSERT!E31","v":0},{"$f":"TERM3!Z44","v":0},{"$f":"TERM3!AR44","v":0},{"$f":"TERM3!BJ44","v":0},{"$f":"TERM3!CB44","v":0},{"$f":"TERM3!CT44","v":0},0,{"$f":"TERM3!CY44","v":0},{"$f":"'FIN PAT MARK SHEET'!P46","v":0},{"$f":"'FIN PAT MARK SHEET'!Q46","v":0},{"$f":"'FIN PAT MARK SHEET'!R46","v":0},{"$f":"'FIN PAT MARK SHEET'!S46","v":0},{"$f":"'FIN PAT MARK SHEET'!T46","v":0},0,0,0,""]
[30,31,{"$f":"INSERT!A32","v":0},{"$f":"INSERT!B32","v":0},{"$f":"INSERT!C32","v":0},{"$f":"INSERT!D32","v":0},{"$f":"INSERT!E32","v":0},{"$f":"TERM3!Z45","v":0},{"$f":"TERM3!AR45","v":0},{"$f":"TERM3!BJ45","v":0},{"$f":"TERM3!CB45","v":0},{"$f":"TERM3!CT45","v":0},0,{"$f":"TERM3!CY45","v":0},{"$f":"'FIN PAT MARK SHEET'!P47","v":0},{"$f":"'FIN PAT MARK SHEET'!Q47","v":0},{"$f":"'FIN PAT MARK SHEET'!R47","v":0},{"$f":"'FIN PAT MARK SHEET'!S47","v":0},{"$f":"'FIN PAT MARK SHEET'!T47","v":0},0,0,0,""]
[31,32,{"$f":"INSERT!A33","v":0},{"$f":"INSERT!B33","v":0},{"$f":"INSERT!C33","v":0},{"$f":"INSERT!D33","v":0},{"$f":"INSERT!E33","v":0},{"$f":"TERM3!Z46","v":0},{"$f":"TERM3!AR46","v":0},{"$f":"TERM3!BJ46","v":0},{"$f":"TERM3!CB46","v":0},{"$f":"TERM3!CT46","v":0},0,{"$f":"TERM3!CY46","v":0},{"$f":"'FIN PAT MARK SHEET'!P48","v":0},{"$f":"'FIN PAT MARK SHEET'!Q48","v":0},{"$f":"'FIN PAT MARK SHEET'!R48","v":0},{"$f":"'FIN PAT MARK SHEET'!S48","v":0},{"$f":"'FIN PAT MARK SHEET'!T48","v":0},0,0,0,""]
[32,33,{"$f":"INSERT!A34","v":0},{"$f":"INSERT!B34","v":0},{"$f":"INSERT!C34","v":0},{"$f":"INSERT!D34","v":0},{"$f":"INSERT!E34","v":0},{"$f":"TERM3!Z47","v":0},{"$f":"TERM3!AR47","v":0},{"$f":"TERM3!BJ47","v":0},{"$f":"TERM3!CB47","v":0},{"$f":"TERM3!CT47","v":0},0,{"$f":"TERM3!CY47","v":0},{"$f":"'FIN PAT MARK SHEET'!P49","v":0},{"$f":"'FIN PAT MARK SHEET'!Q49","v":0},{"$f":"'FIN PAT MARK SHEET'!R49","v":0},{"$f":"'FIN PAT MARK SHEET'!S49","v":0},{"$f":"'FIN PAT MARK SHEET'!T49","v":0},0,0,0,""]
[33,34,{"$f":"INSERT!A35","v":0},{"$f":"INSERT!B35","v":0},{"$f":"INSERT!C35","v":0},{"$f":"INSERT!D35","v":0},{"$f":"INSERT!E35","v":0},{"$f":"TERM3!Z48","v":0},{"$f":"TERM3!AR48","v":0},{"$f":"TERM3!BJ48","v":0},{"$f":"TERM3!CB48","v":0},{"$f":"TERM3!CT48","v":0},0,{"$f":"TERM3!CY48","v":0},{"$f":"'FIN PAT MARK SHEET'!P50","v":0},{"$f":"'FIN PAT MARK SHEET'!Q50","v":0},{"$f":"'FIN PAT MARK SHEET'!R50","v":0},{"$f":"'FIN PAT MARK SHEET'!S50","v":0},{"$f":"'FIN PAT MARK SHEET'!T50","v":0},0,0,0,{"$f":"IF(V41>79,\"7\",IF(V41>69,\"6\",IF(V41>59,\"5\",IF(V41>49,\"4\",IF(V41>39,\"3\",IF(V41>29,\"2\",IF(V41>0,\"1\",IF(V41=0,\"\"))))))))","v":""}]
[34,37,{"$f":"INSERT!A36","v":0},{"$f":"INSERT!B36","v":0},{"$f":"INSERT!C36","v":0},{"$f":"INSERT!D36","v":0},{"$f":"INSERT!E36","v":0},{"$f":"TERM3!Z49","v":0},{"$f":"TERM3!AR49","v":0},{"$f":"TERM3!BJ49","v":0},{"$f":"TERM3!CB49","v":0},{"$f":"TERM3!CT49","v":0},0,{"$f":"TERM3!CY49","v":0},{"$f":"'FIN PAT MARK SHEET'!P51","v":0},{"$f":"'FIN PAT MARK SHEET'!Q51","v":0},{"$f":"'FIN PAT MARK SHEET'!R51","v":0},{"$f":"'FIN PAT MARK SHEET'!S51","v":0},{"$f":"'FIN PAT MARK SHEET'!T51","v":0},0,0,0,""]
[35,35,{"$f":"INSERT!A37","v":0},{"$f":"INSERT!B37","v":0},{"$f":"INSERT!C37","v":0},{"$f":"INSERT!D37","v":0},{"$f":"INSERT!E37","v":0},{"$f":"TERM3!Z50","v":0},{"$f":"TERM3!AR50","v":0},{"$f":"TERM3!BJ50","v":0},{"$f":"TERM3!CB50","v":0},{"$f":"TERM3!CT50","v":0},0,{"$f":"TERM3!CY50","v":0},{"$f":"'FIN PAT MARK SHEET'!P52","v":0},{"$f":"'FIN PAT MARK SHEET'!Q52","v":0},{"$f":"'FIN PAT MARK SHEET'!R52","v":0},{"$f":"'FIN PAT MARK SHEET'!S52","v":0},{"$f":"'FIN PAT MARK SHEET'!T52","v":0},0,0,0,""]
[36,10,{"$f":"INSERT!A38","v":0},{"$f":"INSERT!B38","v":0},{"$f":"INSERT!C38","v":0},{"$f":"INSERT!D38","v":0},{"$f":"INSERT!E38","v":0},{"$f":"TERM3!Z51","v":0},{"$f":"TERM3!AR51","v":0},{"$f":"TERM3!BJ51","v":0},{"$f":"TERM3!CB51","v":0},{"$f":"TERM3!CT51","v":0},0,{"$f":"TERM3!CY51","v":0},{"$f":"'FIN PAT MARK SHEET'!P53","v":0},{"$f":"'FIN PAT MARK SHEET'!Q53","v":0},{"$f":"'FIN PAT MARK SHEET'!R53","v":0},{"$f":"'FIN PAT MARK SHEET'!S53","v":0},{"$f":"'FIN PAT MARK SHEET'!T53","v":0},0,0,0,""]
[37,27,{"$f":"INSERT!A39","v":0},{"$f":"INSERT!B39","v":0},{"$f":"INSERT!C39","v":0},{"$f":"INSERT!D39","v":0},{"$f":"INSERT!E39","v":0},{"$f":"TERM3!Z52","v":0},{"$f":"TERM3!AR52","v":0},{"$f":"TERM3!BJ52","v":0},{"$f":"TERM3!CB52","v":0},{"$f":"TERM3!CT52","v":0},0,{"$f":"TERM3!CY52","v":0},{"$f":"'FIN PAT MARK SHEET'!P54","v":0},{"$f":"'FIN PAT MARK SHEET'!Q54","v":0},{"$f":"'FIN PAT MARK SHEET'!R54","v":0},{"$f":"'FIN PAT MARK SHEET'!S54","v":0},{"$f":"'FIN PAT MARK SHEET'!T54","v":0},0,0,0,""]
[38,38,{"$f":"INSERT!A40","v":0},{"$f":"INSERT!B40","v":0},{"$f":"INSERT!C40","v":0},{"$f":"INSERT!D40","v":0},{"$f":"INSERT!E40","v":0},{"$f":"TERM3!Z53","v":0},{"$f":"TERM3!AR53","v":0},{"$f":"TERM3!BJ53","v":0},{"$f":"TERM3!CB53","v":0},{"$f":"TERM3!CT53","v":0},0,{"$f":"TERM3!CY53","v":0},{"$f":"'FIN PAT MARK SHEET'!P55","v":0},{"$f":"'FIN PAT MARK SHEET'!Q55","v":0},{"$f":"'FIN PAT MARK SHEET'!R55","v":0},{"$f":"'FIN PAT MARK SHEET'!S55","v":0},{"$f":"'FIN PAT MARK SHEET'!T55","v":0},0,0,0,""]
[39,39,{"$f":"INSERT!A41","v":0},{"$f":"INSERT!B41","v":0},{"$f":"INSERT!C41","v":0},{"$f":"INSERT!D41","v":0},{"$f":"INSERT!E41","v":0},{"$f":"TERM3!Z54","v":0},{"$f":"TERM3!AR54","v":0},{"$f":"TERM3!BJ54","v":0},{"$f":"TERM3!CB54","v":0},{"$f":"TERM3!CT54","v":0},0,{"$f":"TERM3!CY54","v":0},{"$f":"'FIN PAT MARK SHEET'!P56","v":0},{"$f":"'FIN PAT MARK SHEET'!Q56","v":0},{"$f":"'FIN PAT MARK SHEET'!R56","v":0},{"$f":"'FIN PAT MARK SHEET'!S56","v":0},{"$f":"'FIN PAT MARK SHEET'!T56","v":0},0,0,0,""]
[40,40,{"$f":"INSERT!A42","v":0},{"$f":"INSERT!B42","v":0},{"$f":"INSERT!C42","v":0},{"$f":"INSERT!D42","v":0},{"$f":"INSERT!E42","v":0},{"$f":"TERM3!Z55","v":0},{"$f":"TERM3!AR55","v":0},{"$f":"TERM3!BJ55","v":0},{"$f":"TERM3!CB55","v":0},{"$f":"TERM3!CT55","v":0},0,{"$f":"TERM3!CY55","v":0},{"$f":"'FIN PAT MARK SHEET'!P57","v":0},{"$f":"'FIN PAT MARK SHEET'!Q57","v":0},{"$f":"'FIN PAT MARK SHEET'!R57","v":0},{"$f":"'FIN PAT MARK SHEET'!S57","v":0},{"$f":"'FIN PAT MARK SHEET'!T57","v":0},0,0,0,""]
[41,41,{"$f":"INSERT!A43","v":0},{"$f":"INSERT!B43","v":0},{"$f":"INSERT!C43","v":0},{"$f":"INSERT!D43","v":0},{"$f":"INSERT!E43","v":0},{"$f":"TERM3!Z56","v":0},{"$f":"TERM3!AR56","v":0},{"$f":"TERM3!BJ56","v":0},{"$f":"TERM3!CB56","v":0},{"$f":"TERM3!CT56","v":0},0,{"$f":"TERM3!CY56","v":0},{"$f":"'FIN PAT MARK SHEET'!P58","v":0},{"$f":"'FIN PAT MARK SHEET'!Q58","v":0},{"$f":"'FIN PAT MARK SHEET'!R58","v":0},{"$f":"'FIN PAT MARK SHEET'!S58","v":0},{"$f":"'FIN PAT MARK SHEET'!T58","v":0},0,0,0,""]
[42,42,{"$f":"INSERT!A44","v":0},{"$f":"INSERT!B44","v":0},{"$f":"INSERT!C44","v":0},{"$f":"INSERT!D44","v":0},{"$f":"INSERT!E44","v":0},{"$f":"TERM3!Z57","v":0},{"$f":"TERM3!AR57","v":0},{"$f":"TERM3!BJ57","v":0},{"$f":"TERM3!CB57","v":0},{"$f":"TERM3!CT57","v":0},0,{"$f":"TERM3!CY57","v":0},{"$f":"'FIN PAT MARK SHEET'!P59","v":0},{"$f":"'FIN PAT MARK SHEET'!Q59","v":0},{"$f":"'FIN PAT MARK SHEET'!R59","v":0},{"$f":"'FIN PAT MARK SHEET'!S59","v":0},{"$f":"'FIN PAT MARK SHEET'!T59","v":0},0,0,0,""]
[43,43,{"$f":"INSERT!A45","v":0},{"$f":"INSERT!B45","v":0},{"$f":"INSERT!C45","v":0},{"$f":"INSERT!D45","v":0},{"$f":"INSERT!E45","v":0},{"$f":"TERM3!Z58","v":0},{"$f":"TERM3!AR58","v":0},{"$f":"TERM3!BJ58","v":0},{"$f":"TERM3!CB58","v":0},{"$f":"TERM3!CT58","v":0},0,{"$f":"TERM3!CY58","v":0},{"$f":"'FIN PAT MARK SHEET'!P60","v":0},{"$f":"'FIN PAT MARK SHEET'!Q60","v":0},{"$f":"'FIN PAT MARK SHEET'!R60","v":0},{"$f":"'FIN PAT MARK SHEET'!S60","v":0},{"$f":"'FIN PAT MARK SHEET'!T60","v":0},0,0,0,""]
[44,44,{"$f":"INSERT!A46","v":0},{"$f":"INSERT!B46","v":0},{"$f":"INSERT!C46","v":0},{"$f":"INSERT!D46","v":0},{"$f":"INSERT!E46","v":0},{"$f":"TERM3!Z59","v":0},{"$f":"TERM3!AR59","v":0},{"$f":"TERM3!BJ59","v":0},{"$f":"TERM3!CB59","v":0},{"$f":"TERM3!CT59","v":0},0,{"$f":"TERM3!CY59","v":0},{"$f":"'FIN PAT MARK SHEET'!P61","v":0},{"$f":"'FIN PAT MARK SHEET'!Q61","v":0},{"$f":"'FIN PAT MARK SHEET'!R61","v":0},{"$f":"'FIN PAT MARK SHEET'!S61","v":0},{"$f":"'FIN PAT MARK SHEET'!T61","v":0},0,0,0,""]
[45,45,{"$f":"INSERT!A47","v":0},{"$f":"INSERT!B47","v":0},{"$f":"INSERT!C47","v":0},{"$f":"INSERT!D47","v":0},{"$f":"INSERT!E47","v":0},{"$f":"TERM3!Z60","v":0},{"$f":"TERM3!AR60","v":0},{"$f":"TERM3!BJ60","v":0},{"$f":"TERM3!CB60","v":0},{"$f":"TERM3!CT60","v":0},0,{"$f":"TERM3!CY60","v":0},{"$f":"'FIN PAT MARK SHEET'!P62","v":0},{"$f":"'FIN PAT MARK SHEET'!Q62","v":0},{"$f":"'FIN PAT MARK SHEET'!R62","v":0},{"$f":"'FIN PAT MARK SHEET'!S62","v":0},{"$f":"'FIN PAT MARK SHEET'!T62","v":0},0,0,0,""]
[46,46,{"$f":"INSERT!A48","v":0},{"$f":"INSERT!B48","v":0},{"$f":"INSERT!C48","v":0},{"$f":"INSERT!D48","v":0},{"$f":"INSERT!E48","v":0},{"$f":"TERM3!Z61","v":0},{"$f":"TERM3!AR61","v":0},{"$f":"TERM3!BJ61","v":0},{"$f":"TERM3!CB61","v":0},{"$f":"TERM3!CT61","v":0},0,{"$f":"TERM3!CY61","v":0},{"$f":"'FIN PAT MARK SHEET'!P63","v":0},{"$f":"'FIN PAT MARK SHEET'!Q63","v":0},{"$f":"'FIN PAT MARK SHEET'!R63","v":0},{"$f":"'FIN PAT MARK SHEET'!S63","v":0},{"$f":"'FIN PAT MARK SHEET'!T63","v":0},0,0,0,""]
[47,47,{"$f":"INSERT!A49","v":0},{"$f":"INSERT!B49","v":0},{"$f":"INSERT!C49","v":0},{"$f":"INSERT!D49","v":0},{"$f":"INSERT!E49","v":0},{"$f":"TERM3!Z62","v":0},{"$f":"TERM3!AR62","v":0},{"$f":"TERM3!BJ62","v":0},{"$f":"TERM3!CB62","v":0},{"$f":"TERM3!CT62","v":0},0,{"$f":"TERM3!CY62","v":0},{"$f":"'FIN PAT MARK SHEET'!P64","v":0},{"$f":"'FIN PAT MARK SHEET'!Q64","v":0},{"$f":"'FIN PAT MARK SHEET'!R64","v":0},{"$f":"'FIN PAT MARK SHEET'!S64","v":0},{"$f":"'FIN PAT MARK SHEET'!T64","v":0},0,0,0,""]
[48,48,{"$f":"INSERT!A50","v":0},{"$f":"INSERT!B50","v":0},{"$f":"INSERT!C50","v":0},{"$f":"INSERT!D50","v":0},{"$f":"INSERT!E50","v":0},{"$f":"TERM3!Z63","v":0},{"$f":"TERM3!AR63","v":0},{"$f":"TERM3!BJ63","v":0},{"$f":"TERM3!CB63","v":0},{"$f":"TERM3!CT63","v":0},0,{"$f":"TERM3!CY63","v":0},{"$f":"'FIN PAT MARK SHEET'!P65","v":0},{"$f":"'FIN PAT MARK SHEET'!Q65","v":0},{"$f":"'FIN PAT MARK SHEET'!R65","v":0},{"$f":"'FIN PAT MARK SHEET'!S65","v":0},{"$f":"'FIN PAT MARK SHEET'!T65","v":0},0,0,0,""]
[49,49,{"$f":"INSERT!A51","v":0},{"$f":"INSERT!B51","v":0},{"$f":"INSERT!C51","v":0},{"$f":"INSERT!D51","v":0},{"$f":"INSERT!E51","v":0},{"$f":"TERM3!Z64","v":0},{"$f":"TERM3!AR64","v":0},{"$f":"TERM3!BJ64","v":0},{"$f":"TERM3!CB64","v":0},{"$f":"TERM3!CT64","v":0},0,{"$f":"TERM3!CY64","v":0},{"$f":"'FIN PAT MARK SHEET'!P66","v":0},{"$f":"'FIN PAT MARK SHEET'!Q66","v":0},{"$f":"'FIN PAT MARK SHEET'!R66","v":0},{"$f":"'FIN PAT MARK SHEET'!S66","v":0},{"$f":"'FIN PAT MARK SHEET'!T66","v":0},0,0,0,""]
[50,50,{"$f":"INSERT!A52","v":0},{"$f":"INSERT!B52","v":0},{"$f":"INSERT!C52","v":0},{"$f":"INSERT!D52","v":0},{"$f":"INSERT!E52","v":0},{"$f":"TERM3!Z65","v":0},{"$f":"TERM3!AR65","v":0},{"$f":"TERM3!BJ65","v":0},{"$f":"TERM3!CB65","v":0},{"$f":"TERM3!CT65","v":0},0,{"$f":"TERM3!CY65","v":0},{"$f":"'FIN PAT MARK SHEET'!P67","v":0},{"$f":"'FIN PAT MARK SHEET'!Q67","v":0},{"$f":"'FIN PAT MARK SHEET'!R67","v":0},{"$f":"'FIN PAT MARK SHEET'!S67","v":0},{"$f":"'FIN PAT MARK SHEET'!T67","v":0},0,0,0,""]
[51,51,{"$f":"INSERT!A53","v":0},{"$f":"INSERT!B53","v":0},{"$f":"INSERT!C53","v":0},{"$f":"INSERT!D53","v":0},{"$f":"INSERT!E53","v":0},{"$f":"TERM3!Z66","v":0},{"$f":"TERM3!AR66","v":0},{"$f":"TERM3!BJ66","v":0},{"$f":"TERM3!CB66","v":0},{"$f":"TERM3!CT66","v":0},0,{"$f":"TERM3!CY66","v":0},{"$f":"'FIN PAT MARK SHEET'!P68","v":0},{"$f":"'FIN PAT MARK SHEET'!Q68","v":0},{"$f":"'FIN PAT MARK SHEET'!R68","v":0},{"$f":"'FIN PAT MARK SHEET'!S68","v":0},{"$f":"'FIN PAT MARK SHEET'!T68","v":0},0,0,0,""]
[52,52,{"$f":"INSERT!A54","v":0},{"$f":"INSERT!B54","v":0},{"$f":"INSERT!C54","v":0},{"$f":"INSERT!D54","v":0},{"$f":"INSERT!E54","v":0},{"$f":"TERM3!Z67","v":0},{"$f":"TERM3!AR67","v":0},{"$f":"TERM3!BJ67","v":0},{"$f":"TERM3!CB67","v":0},{"$f":"TERM3!CT67","v":0},0,{"$f":"TERM3!CY67","v":0},{"$f":"'FIN PAT MARK SHEET'!P69","v":0},{"$f":"'FIN PAT MARK SHEET'!Q69","v":0},{"$f":"'FIN PAT MARK SHEET'!R69","v":0},{"$f":"'FIN PAT MARK SHEET'!S69","v":0},{"$f":"'FIN PAT MARK SHEET'!T69","v":0},0,0,0,""]
[53,53,{"$f":"INSERT!A55","v":0},{"$f":"INSERT!B55","v":0},{"$f":"INSERT!C55","v":0},{"$f":"INSERT!D55","v":0},{"$f":"INSERT!E55","v":0},{"$f":"TERM3!Z68","v":0},{"$f":"TERM3!AR68","v":0},{"$f":"TERM3!BJ68","v":0},{"$f":"TERM3!CB68","v":0},{"$f":"TERM3!CT68","v":0},0,{"$f":"TERM3!CY68","v":0},{"$f":"'FIN PAT MARK SHEET'!P70","v":0},{"$f":"'FIN PAT MARK SHEET'!Q70","v":0},{"$f":"'FIN PAT MARK SHEET'!R70","v":0},{"$f":"'FIN PAT MARK SHEET'!S70","v":0},{"$f":"'FIN PAT MARK SHEET'!T70","v":0},0,0,0,""]
[54,54,{"$f":"INSERT!A56","v":0},{"$f":"INSERT!B56","v":0},{"$f":"INSERT!C56","v":0},{"$f":"INSERT!D56","v":0},{"$f":"INSERT!E56","v":0},{"$f":"TERM3!Z69","v":0},{"$f":"TERM3!AR69","v":0},{"$f":"TERM3!BJ69","v":0},{"$f":"TERM3!CB69","v":0},{"$f":"TERM3!CT69","v":0},0,{"$f":"TERM3!CY69","v":0},{"$f":"'FIN PAT MARK SHEET'!P71","v":0},{"$f":"'FIN PAT MARK SHEET'!Q71","v":0},{"$f":"'FIN PAT MARK SHEET'!R71","v":0},{"$f":"'FIN PAT MARK SHEET'!S71","v":0},{"$f":"'FIN PAT MARK SHEET'!T71","v":0},0,0,0,""]
[55,55,{"$f":"INSERT!A57","v":0},{"$f":"INSERT!B57","v":0},{"$f":"INSERT!C57","v":0},{"$f":"INSERT!D57","v":0},{"$f":"INSERT!E57","v":0},{"$f":"TERM3!Z70","v":0},{"$f":"TERM3!AR70","v":0},{"$f":"TERM3!BJ70","v":0},{"$f":"TERM3!CB70","v":0},{"$f":"TERM3!CT70","v":0},0,{"$f":"TERM3!CY70","v":0},{"$f":"'FIN PAT MARK SHEET'!P72","v":0},{"$f":"'FIN PAT MARK SHEET'!Q72","v":0},{"$f":"'FIN PAT MARK SHEET'!R72","v":0},{"$f":"'FIN PAT MARK SHEET'!S72","v":0},{"$f":"'FIN PAT MARK SHEET'!T72","v":0},0,0,0,""]
[56,56,{"$f":"INSERT!A58","v":0},{"$f":"INSERT!B58","v":0},{"$f":"INSERT!C58","v":0},{"$f":"INSERT!D58","v":0},{"$f":"INSERT!E58","v":0},{"$f":"TERM3!Z71","v":0},{"$f":"TERM3!AR71","v":0},{"$f":"TERM3!BJ71","v":0},{"$f":"TERM3!CB71","v":0},{"$f":"TERM3!CT71","v":0},0,{"$f":"TERM3!CY71","v":0},{"$f":"'FIN PAT MARK SHEET'!P73","v":0},{"$f":"'FIN PAT MARK SHEET'!Q73","v":0},{"$f":"'FIN PAT MARK SHEET'!R73","v":0},{"$f":"'FIN PAT MARK SHEET'!S73","v":0},{"$f":"'FIN PAT MARK SHEET'!T73","v":0},0,0,0,""]
[57,57,{"$f":"INSERT!A59","v":0},{"$f":"INSERT!B59","v":0},{"$f":"INSERT!C59","v":0},{"$f":"INSERT!D59","v":0},{"$f":"INSERT!E59","v":0},{"$f":"TERM3!Z72","v":0},{"$f":"TERM3!AR72","v":0},{"$f":"TERM3!BJ72","v":0},{"$f":"TERM3!CB72","v":0},{"$f":"TERM3!CT72","v":0},0,{"$f":"TERM3!CY72","v":0},{"$f":"'FIN PAT MARK SHEET'!P74","v":0},{"$f":"'FIN PAT MARK SHEET'!Q74","v":0},{"$f":"'FIN PAT MARK SHEET'!R74","v":0},{"$f":"'FIN PAT MARK SHEET'!S74","v":0},{"$f":"'FIN PAT MARK SHEET'!T74","v":0},0,0,0,""]
[58,58,{"$f":"INSERT!A60","v":0},{"$f":"INSERT!B60","v":0},{"$f":"INSERT!C60","v":0},{"$f":"INSERT!D60","v":0},{"$f":"INSERT!E60","v":0},{"$f":"TERM3!Z73","v":0},{"$f":"TERM3!AR73","v":0},{"$f":"TERM3!BJ73","v":0},{"$f":"TERM3!CB73","v":0},{"$f":"TERM3!CT73","v":0},0,{"$f":"TERM3!CY73","v":0},{"$f":"'FIN PAT MARK SHEET'!P75","v":0},{"$f":"'FIN PAT MARK SHEET'!Q75","v":0},{"$f":"'FIN PAT MARK SHEET'!R75","v":0},{"$f":"'FIN PAT MARK SHEET'!S75","v":0},{"$f":"'FIN PAT MARK SHEET'!T75","v":0},0,0,0,""]
[59,59,{"$f":"INSERT!A61","v":0},{"$f":"INSERT!B61","v":0},{"$f":"INSERT!C61","v":0},{"$f":"INSERT!D61","v":0},{"$f":"INSERT!E61","v":0},{"$f":"TERM3!Z74","v":0},{"$f":"TERM3!AR74","v":0},{"$f":"TERM3!BJ74","v":0},{"$f":"TERM3!CB74","v":0},{"$f":"TERM3!CT74","v":0},0,{"$f":"TERM3!CY74","v":0},{"$f":"'FIN PAT MARK SHEET'!P76","v":0},{"$f":"'FIN PAT MARK SHEET'!Q76","v":0},{"$f":"'FIN PAT MARK SHEET'!R76","v":0},{"$f":"'FIN PAT MARK SHEET'!S76","v":0},{"$f":"'FIN PAT MARK SHEET'!T76","v":0},0,0,0,""]
[60,60,{"$f":"INSERT!A62","v":0},{"$f":"INSERT!B62","v":0},{"$f":"INSERT!C62","v":0},{"$f":"INSERT!D62","v":0},{"$f":"INSERT!E62","v":0},{"$f":"TERM3!Z75","v":0},{"$f":"TERM3!AR75","v":0},{"$f":"TERM3!BJ75","v":0},{"$f":"TERM3!CB75","v":0},{"$f":"TERM3!CT75","v":0},0,{"$f":"TERM3!CY75","v":0},{"$f":"'FIN PAT MARK SHEET'!P77","v":0},{"$f":"'FIN PAT MARK SHEET'!Q77","v":0},{"$f":"'FIN PAT MARK SHEET'!R77","v":0},{"$f":"'FIN PAT MARK SHEET'!S77","v":0},{"$f":"'FIN PAT MARK SHEET'!T77","v":0},0,0,0,""]
[61,61,{"$f":"INSERT!A63","v":0},{"$f":"INSERT!B63","v":0},{"$f":"INSERT!C63","v":0},{"$f":"INSERT!D63","v":0},{"$f":"INSERT!E63","v":0},{"$f":"TERM3!Z76","v":0},{"$f":"TERM3!AR76","v":0},{"$f":"TERM3!BJ76","v":0},{"$f":"TERM3!CB76","v":0},{"$f":"TERM3!CT76","v":0},0,{"$f":"TERM3!CY76","v":0},{"$f":"'FIN PAT MARK SHEET'!P78","v":0},{"$f":"'FIN PAT MARK SHEET'!Q78","v":0},{"$f":"'FIN PAT MARK SHEET'!R78","v":0},{"$f":"'FIN PAT MARK SHEET'!S78","v":0},{"$f":"'FIN PAT MARK SHEET'!T78","v":0},0,0,0,""]
[62,62,{"$f":"INSERT!A64","v":0},{"$f":"INSERT!B64","v":0},{"$f":"INSERT!C64","v":0},{"$f":"INSERT!D64","v":0},{"$f":"INSERT!E64","v":0},{"$f":"TERM3!Z77","v":0},{"$f":"TERM3!AR77","v":0},{"$f":"TERM3!BJ77","v":0},{"$f":"TERM3!CB77","v":0},{"$f":"TERM3!CT77","v":0},0,{"$f":"TERM3!CY77","v":0},{"$f":"'FIN PAT MARK SHEET'!P79","v":0},{"$f":"'FIN PAT MARK SHEET'!Q79","v":0},{"$f":"'FIN PAT MARK SHEET'!R79","v":0},{"$f":"'FIN PAT MARK SHEET'!S79","v":0},{"$f":"'FIN PAT MARK SHEET'!T79","v":0},0,0,0,""]
[63,63,{"$f":"INSERT!A65","v":0},{"$f":"INSERT!B65","v":0},{"$f":"INSERT!C65","v":0},{"$f":"INSERT!D65","v":0},{"$f":"INSERT!E65","v":0},{"$f":"TERM3!Z78","v":0},{"$f":"TERM3!AR78","v":0},{"$f":"TERM3!BJ78","v":0},{"$f":"TERM3!CB78","v":0},{"$f":"TERM3!CT78","v":0},0,{"$f":"TERM3!CY78","v":0},{"$f":"'FIN PAT MARK SHEET'!P80","v":0},{"$f":"'FIN PAT MARK SHEET'!Q80","v":0},{"$f":"'FIN PAT MARK SHEET'!R80","v":0},{"$f":"'FIN PAT MARK SHEET'!S80","v":0},{"$f":"'FIN PAT MARK SHEET'!T80","v":0},0,0,0,""]
[64,64,{"$f":"INSERT!A66","v":0},{"$f":"INSERT!B66","v":0},{"$f":"INSERT!C66","v":0},{"$f":"INSERT!D66","v":0},{"$f":"INSERT!E66","v":0},{"$f":"TERM3!Z79","v":0},{"$f":"TERM3!AR79","v":0},{"$f":"TERM3!BJ79","v":0},{"$f":"TERM3!CB79","v":0},{"$f":"TERM3!CT79","v":0},0,{"$f":"TERM3!CY79","v":0},{"$f":"'FIN PAT MARK SHEET'!P81","v":0},{"$f":"'FIN PAT MARK SHEET'!Q81","v":0},{"$f":"'FIN PAT MARK SHEET'!R81","v":0},{"$f":"'FIN PAT MARK SHEET'!S81","v":0},{"$f":"'FIN PAT MARK SHEET'!T81","v":0},0,0,0,""]
[65,65,{"$f":"INSERT!A67","v":0},{"$f":"INSERT!B67","v":0},{"$f":"INSERT!C67","v":0},{"$f":"INSERT!D67","v":0},{"$f":"INSERT!E67","v":0},{"$f":"TERM3!Z80","v":0},{"$f":"TERM3!AR80","v":0},{"$f":"TERM3!BJ80","v":0},{"$f":"TERM3!CB80","v":0},{"$f":"TERM3!CT80","v":0},0,{"$f":"TERM3!CY80","v":0},{"$f":"'FIN PAT MARK SHEET'!P82","v":0},{"$f":"'FIN PAT MARK SHEET'!Q82","v":0},{"$f":"'FIN PAT MARK SHEET'!R82","v":0},{"$f":"'FIN PAT MARK SHEET'!S82","v":0},{"$f":"'FIN PAT MARK SHEET'!T82","v":0},0,0,0,{"$f":"IF(V73>79,\"7\",IF(V73>69,\"6\",IF(V73>59,\"5\",IF(V73>49,\"4\",IF(V73>39,\"3\",IF(V73>29,\"2\",IF(V73>0,\"1\",IF(V73=0,\"\"))))))))","v":""}]
[66,66,{"$f":"INSERT!A68","v":0},{"$f":"INSERT!B68","v":0},{"$f":"INSERT!C68","v":0},{"$f":"INSERT!D68","v":0},{"$f":"INSERT!E68","v":0},{"$f":"TERM3!Z81","v":0},{"$f":"TERM3!AR81","v":0},{"$f":"TERM3!BJ81","v":0},{"$f":"TERM3!CB81","v":0},{"$f":"TERM3!CT81","v":0},{"$f":"SUM(H74:L74)","v":0},{"$f":"TERM3!CY81","v":0},{"$f":"'FIN PAT MARK SHEET'!P83","v":0},{"$f":"'FIN PAT MARK SHEET'!Q83","v":0},{"$f":"'FIN PAT MARK SHEET'!R83","v":0},{"$f":"'FIN PAT MARK SHEET'!S83","v":0},{"$f":"'FIN PAT MARK SHEET'!T83","v":0},{"$f":"SUMIF(O74:S74,\">0\")/1.428571428","v":0},{"$f":"SUM(M74*2)","v":0},{"$f":"SUM(U74,0)","v":0},""]
[67,67,{"$f":"INSERT!A69","v":0},{"$f":"INSERT!B69","v":0},{"$f":"INSERT!C69","v":0},{"$f":"INSERT!D69","v":0},{"$f":"INSERT!E69","v":0},{"$f":"TERM3!Z82","v":0},{"$f":"TERM3!AR82","v":0},{"$f":"TERM3!BJ82","v":0},{"$f":"TERM3!CB82","v":0},{"$f":"TERM3!CT82","v":0},0,{"$f":"TERM3!CY82","v":0},{"$f":"'FIN PAT MARK SHEET'!P84","v":0},{"$f":"'FIN PAT MARK SHEET'!Q84","v":0},{"$f":"'FIN PAT MARK SHEET'!R84","v":0},{"$f":"'FIN PAT MARK SHEET'!S84","v":0},{"$f":"'FIN PAT MARK SHEET'!T84","v":0},0,0,0,""]
[68,68,{"$f":"INSERT!A70","v":0},{"$f":"INSERT!B70","v":0},{"$f":"INSERT!C70","v":0},{"$f":"INSERT!D70","v":0},{"$f":"INSERT!E70","v":0},{"$f":"TERM3!Z83","v":0},{"$f":"TERM3!AR83","v":0},{"$f":"TERM3!BJ83","v":0},{"$f":"TERM3!CB83","v":0},{"$f":"TERM3!CT83","v":0},0,{"$f":"TERM3!CY83","v":0},{"$f":"'FIN PAT MARK SHEET'!P85","v":0},{"$f":"'FIN PAT MARK SHEET'!Q85","v":0},{"$f":"'FIN PAT MARK SHEET'!R85","v":0},{"$f":"'FIN PAT MARK SHEET'!S85","v":0},{"$f":"'FIN PAT MARK SHEET'!T85","v":0},0,0,0,""]
[69,69,{"$f":"INSERT!A71","v":0},{"$f":"INSERT!B71","v":0},{"$f":"INSERT!C71","v":0},{"$f":"INSERT!D71","v":0},{"$f":"INSERT!E71","v":0},{"$f":"TERM3!Z84","v":0},{"$f":"TERM3!AR84","v":0},{"$f":"TERM3!BJ84","v":0},{"$f":"TERM3!CB84","v":0},{"$f":"TERM3!CT84","v":0},0,{"$f":"TERM3!CY84","v":0},{"$f":"'FIN PAT MARK SHEET'!P86","v":0},{"$f":"'FIN PAT MARK SHEET'!Q86","v":0},{"$f":"'FIN PAT MARK SHEET'!R86","v":0},{"$f":"'FIN PAT MARK SHEET'!S86","v":0},{"$f":"'FIN PAT MARK SHEET'!T86","v":0},0,0,0,""]
[70,70,{"$f":"INSERT!A72","v":0},{"$f":"INSERT!B72","v":0},{"$f":"INSERT!C72","v":0},{"$f":"INSERT!D72","v":0},{"$f":"INSERT!E72","v":0},{"$f":"TERM3!Z85","v":0},{"$f":"TERM3!AR85","v":0},{"$f":"TERM3!BJ85","v":0},{"$f":"TERM3!CB85","v":0},{"$f":"TERM3!CT85","v":0},0,{"$f":"TERM3!CY85","v":0},{"$f":"'FIN PAT MARK SHEET'!P87","v":0},{"$f":"'FIN PAT MARK SHEET'!Q87","v":0},{"$f":"'FIN PAT MARK SHEET'!R87","v":0},{"$f":"'FIN PAT MARK SHEET'!S87","v":0},{"$f":"'FIN PAT MARK SHEET'!T87","v":0},0,0,0,""]
[71,71,{"$f":"INSERT!A73","v":0},{"$f":"INSERT!B73","v":0},{"$f":"INSERT!C73","v":0},{"$f":"INSERT!D73","v":0},{"$f":"INSERT!E73","v":0},{"$f":"TERM3!Z86","v":0},{"$f":"TERM3!AR86","v":0},{"$f":"TERM3!BJ86","v":0},{"$f":"TERM3!CB86","v":0},{"$f":"TERM3!CT86","v":0},0,{"$f":"TERM3!CY86","v":0},{"$f":"'FIN PAT MARK SHEET'!P88","v":0},{"$f":"'FIN PAT MARK SHEET'!Q88","v":0},{"$f":"'FIN PAT MARK SHEET'!R88","v":0},{"$f":"'FIN PAT MARK SHEET'!S88","v":0},{"$f":"'FIN PAT MARK SHEET'!T88","v":0},0,0,0,""]
[72,72,{"$f":"INSERT!A74","v":0},{"$f":"INSERT!B74","v":0},{"$f":"INSERT!C74","v":0},{"$f":"INSERT!D74","v":0},{"$f":"INSERT!E74","v":0},{"$f":"TERM3!Z87","v":0},{"$f":"TERM3!AR87","v":0},{"$f":"TERM3!BJ87","v":0},{"$f":"TERM3!CB87","v":0},{"$f":"TERM3!CT87","v":0},0,{"$f":"TERM3!CY87","v":0},{"$f":"'FIN PAT MARK SHEET'!P89","v":0},{"$f":"'FIN PAT MARK SHEET'!Q89","v":0},{"$f":"'FIN PAT MARK SHEET'!R89","v":0},{"$f":"'FIN PAT MARK SHEET'!S89","v":0},{"$f":"'FIN PAT MARK SHEET'!T89","v":0},0,0,0,""]
[73,73,{"$f":"INSERT!A75","v":0},{"$f":"INSERT!B75","v":0},{"$f":"INSERT!C75","v":0},{"$f":"INSERT!D75","v":0},{"$f":"INSERT!E75","v":0},{"$f":"TERM3!Z88","v":0},{"$f":"TERM3!AR88","v":0},{"$f":"TERM3!BJ88","v":0},{"$f":"TERM3!CB88","v":0},{"$f":"TERM3!CT88","v":0},0,{"$f":"TERM3!CY88","v":0},{"$f":"'FIN PAT MARK SHEET'!P90","v":0},{"$f":"'FIN PAT MARK SHEET'!Q90","v":0},{"$f":"'FIN PAT MARK SHEET'!R90","v":0},{"$f":"'FIN PAT MARK SHEET'!S90","v":0},{"$f":"'FIN PAT MARK SHEET'!T90","v":0},0,0,0,""]
[74,74,{"$f":"INSERT!A76","v":0},{"$f":"INSERT!B76","v":0},{"$f":"INSERT!C76","v":0},{"$f":"INSERT!D76","v":0},{"$f":"INSERT!E76","v":0},{"$f":"TERM3!Z89","v":0},{"$f":"TERM3!AR89","v":0},{"$f":"TERM3!BJ89","v":0},{"$f":"TERM3!CB89","v":0},{"$f":"TERM3!CT89","v":0},0,{"$f":"TERM3!CY89","v":0},{"$f":"'FIN PAT MARK SHEET'!P91","v":0},{"$f":"'FIN PAT MARK SHEET'!Q91","v":0},{"$f":"'FIN PAT MARK SHEET'!R91","v":0},{"$f":"'FIN PAT MARK SHEET'!S91","v":0},{"$f":"'FIN PAT MARK SHEET'!T91","v":0},0,0,0,""]
[75,75,{"$f":"INSERT!A77","v":0},{"$f":"INSERT!B77","v":0},{"$f":"INSERT!C77","v":0},{"$f":"INSERT!D77","v":0},{"$f":"INSERT!E77","v":0},{"$f":"TERM3!Z90","v":0},{"$f":"TERM3!AR90","v":0},{"$f":"TERM3!BJ90","v":0},{"$f":"TERM3!CB90","v":0},{"$f":"TERM3!CT90","v":0},0,{"$f":"TERM3!CY90","v":0},{"$f":"'FIN PAT MARK SHEET'!P92","v":0},{"$f":"'FIN PAT MARK SHEET'!Q92","v":0},{"$f":"'FIN PAT MARK SHEET'!R92","v":0},{"$f":"'FIN PAT MARK SHEET'!S92","v":0},{"$f":"'FIN PAT MARK SHEET'!T92","v":0},0,0,0,""]
[76,76,{"$f":"INSERT!A78","v":0},{"$f":"INSERT!B78","v":0},{"$f":"INSERT!C78","v":0},{"$f":"INSERT!D78","v":0},{"$f":"INSERT!E78","v":0},{"$f":"TERM3!Z91","v":0},{"$f":"TERM3!AR91","v":0},{"$f":"TERM3!BJ91","v":0},{"$f":"TERM3!CB91","v":0},{"$f":"TERM3!CT91","v":0},0,{"$f":"TERM3!CY91","v":0},{"$f":"'FIN PAT MARK SHEET'!P93","v":0},{"$f":"'FIN PAT MARK SHEET'!Q93","v":0},{"$f":"'FIN PAT MARK SHEET'!R93","v":0},{"$f":"'FIN PAT MARK SHEET'!S93","v":0},{"$f":"'FIN PAT MARK SHEET'!T93","v":0},0,0,0,""]
[77,77,{"$f":"INSERT!A79","v":0},{"$f":"INSERT!B79","v":0},{"$f":"INSERT!C79","v":0},{"$f":"INSERT!D79","v":0},{"$f":"INSERT!E79","v":0},{"$f":"TERM3!Z92","v":0},{"$f":"TERM3!AR92","v":0},{"$f":"TERM3!BJ92","v":0},{"$f":"TERM3!CB92","v":0},{"$f":"TERM3!CT92","v":0},0,{"$f":"TERM3!CY92","v":0},{"$f":"'FIN PAT MARK SHEET'!P94","v":0},{"$f":"'FIN PAT MARK SHEET'!Q94","v":0},{"$f":"'FIN PAT MARK SHEET'!R94","v":0},{"$f":"'FIN PAT MARK SHEET'!S94","v":0},{"$f":"'FIN PAT MARK SHEET'!T94","v":0},0,0,0,""]
[78,78,{"$f":"INSERT!A80","v":0},{"$f":"INSERT!B80","v":0},{"$f":"INSERT!C80","v":0},{"$f":"INSERT!D80","v":0},{"$f":"INSERT!E80","v":0},{"$f":"TERM3!Z93","v":0},{"$f":"TERM3!AR93","v":0},{"$f":"TERM3!BJ93","v":0},{"$f":"TERM3!CB93","v":0},{"$f":"TERM3!CT93","v":0},0,{"$f":"TERM3!CY93","v":0},{"$f":"'FIN PAT MARK SHEET'!P95","v":0},{"$f":"'FIN PAT MARK SHEET'!Q95","v":0},{"$f":"'FIN PAT MARK SHEET'!R95","v":0},{"$f":"'FIN PAT MARK SHEET'!S95","v":0},{"$f":"'FIN PAT MARK SHEET'!T95","v":0},0,0,0,""]
[79,79,{"$f":"INSERT!A81","v":0},{"$f":"INSERT!B81","v":0},{"$f":"INSERT!C81","v":0},{"$f":"INSERT!D81","v":0},{"$f":"INSERT!E81","v":0},{"$f":"TERM3!Z94","v":0},{"$f":"TERM3!AR94","v":0},{"$f":"TERM3!BJ94","v":0},{"$f":"TERM3!CB94","v":0},{"$f":"TERM3!CT94","v":0},0,{"$f":"TERM3!CY94","v":0},{"$f":"'FIN PAT MARK SHEET'!P96","v":0},{"$f":"'FIN PAT MARK SHEET'!Q96","v":0},{"$f":"'FIN PAT MARK SHEET'!R96","v":0},{"$f":"'FIN PAT MARK SHEET'!S96","v":0},{"$f":"'FIN PAT MARK SHEET'!T96","v":0},0,0,0,""]
[80,80,{"$f":"INSERT!A82","v":0},{"$f":"INSERT!B82","v":0},{"$f":"INSERT!C82","v":0},{"$f":"INSERT!D82","v":0},{"$f":"INSERT!E82","v":0},{"$f":"TERM3!Z95","v":0},{"$f":"TERM3!AR95","v":0},{"$f":"TERM3!BJ95","v":0},{"$f":"TERM3!CB95","v":0},{"$f":"TERM3!CT95","v":0},0,{"$f":"TERM3!CY95","v":0},{"$f":"'FIN PAT MARK SHEET'!P97","v":0},{"$f":"'FIN PAT MARK SHEET'!Q97","v":0},{"$f":"'FIN PAT MARK SHEET'!R97","v":0},{"$f":"'FIN PAT MARK SHEET'!S97","v":0},{"$f":"'FIN PAT MARK SHEET'!T97","v":0},0,0,0,""]
[81,81,{"$f":"INSERT!A83","v":0},{"$f":"INSERT!B83","v":0},{"$f":"INSERT!C83","v":0},{"$f":"INSERT!D83","v":0},{"$f":"INSERT!E83","v":0},{"$f":"TERM3!Z96","v":0},{"$f":"TERM3!AR96","v":0},{"$f":"TERM3!BJ96","v":0},{"$f":"TERM3!CB96","v":0},{"$f":"TERM3!CT96","v":0},0,{"$f":"TERM3!CY96","v":0},{"$f":"'FIN PAT MARK SHEET'!P98","v":0},{"$f":"'FIN PAT MARK SHEET'!Q98","v":0},{"$f":"'FIN PAT MARK SHEET'!R98","v":0},{"$f":"'FIN PAT MARK SHEET'!S98","v":0},{"$f":"'FIN PAT MARK SHEET'!T98","v":0},0,0,0,""]
[82,82,{"$f":"INSERT!A84","v":0},{"$f":"INSERT!B84","v":0},{"$f":"INSERT!C84","v":0},{"$f":"INSERT!D84","v":0},{"$f":"INSERT!E84","v":0},{"$f":"TERM3!Z97","v":0},{"$f":"TERM3!AR97","v":0},{"$f":"TERM3!BJ97","v":0},{"$f":"TERM3!CB97","v":0},{"$f":"TERM3!CT97","v":0},0,{"$f":"TERM3!CY97","v":0},{"$f":"'FIN PAT MARK SHEET'!P99","v":0},{"$f":"'FIN PAT MARK SHEET'!Q99","v":0},{"$f":"'FIN PAT MARK SHEET'!R99","v":0},{"$f":"'FIN PAT MARK SHEET'!S99","v":0},{"$f":"'FIN PAT MARK SHEET'!T99","v":0},0,0,0,""]
[83,83,{"$f":"INSERT!A85","v":0},{"$f":"INSERT!B85","v":0},{"$f":"INSERT!C85","v":0},{"$f":"INSERT!D85","v":0},{"$f":"INSERT!E85","v":0},{"$f":"TERM3!Z98","v":0},{"$f":"TERM3!AR98","v":0},{"$f":"TERM3!BJ98","v":0},{"$f":"TERM3!CB98","v":0},{"$f":"TERM3!CT98","v":0},0,{"$f":"TERM3!CY98","v":0},{"$f":"'FIN PAT MARK SHEET'!P100","v":0},{"$f":"'FIN PAT MARK SHEET'!Q100","v":0},{"$f":"'FIN PAT MARK SHEET'!R100","v":0},{"$f":"'FIN PAT MARK SHEET'!S100","v":0},{"$f":"'FIN PAT MARK SHEET'!T100","v":0},0,0,0,""]
[84,84,{"$f":"INSERT!A86","v":0},{"$f":"INSERT!B86","v":0},{"$f":"INSERT!C86","v":0},{"$f":"INSERT!D86","v":0},{"$f":"INSERT!E86","v":0},{"$f":"TERM3!Z99","v":0},{"$f":"TERM3!AR99","v":0},{"$f":"TERM3!BJ99","v":0},{"$f":"TERM3!CB99","v":0},{"$f":"TERM3!CT99","v":0},0,{"$f":"TERM3!CY99","v":0},{"$f":"'FIN PAT MARK SHEET'!P101","v":0},{"$f":"'FIN PAT MARK SHEET'!Q101","v":0},{"$f":"'FIN PAT MARK SHEET'!R101","v":0},{"$f":"'FIN PAT MARK SHEET'!S101","v":0},{"$f":"'FIN PAT MARK SHEET'!T101","v":0},0,0,0,""]
[85,85,{"$f":"INSERT!A87","v":0},{"$f":"INSERT!B87","v":0},{"$f":"INSERT!C87","v":0},{"$f":"INSERT!D87","v":0},{"$f":"INSERT!E87","v":0},{"$f":"TERM3!Z100","v":0},{"$f":"TERM3!AR100","v":0},{"$f":"TERM3!BJ100","v":0},{"$f":"TERM3!CB100","v":0},{"$f":"TERM3!CT100","v":0},0,{"$f":"TERM3!CY100","v":0},{"$f":"'FIN PAT MARK SHEET'!P102","v":0},{"$f":"'FIN PAT MARK SHEET'!Q102","v":0},{"$f":"'FIN PAT MARK SHEET'!R102","v":0},{"$f":"'FIN PAT MARK SHEET'!S102","v":0},{"$f":"'FIN PAT MARK SHEET'!T102","v":0},0,0,0,""]
[86,86,{"$f":"INSERT!A88","v":0},{"$f":"INSERT!B88","v":0},{"$f":"INSERT!C88","v":0},{"$f":"INSERT!D88","v":0},{"$f":"INSERT!E88","v":0},{"$f":"TERM3!Z101","v":0},{"$f":"TERM3!AR101","v":0},{"$f":"TERM3!BJ101","v":0},{"$f":"TERM3!CB101","v":0},{"$f":"TERM3!CT101","v":0},0,{"$f":"TERM3!CY101","v":0},{"$f":"'FIN PAT MARK SHEET'!P103","v":0},{"$f":"'FIN PAT MARK SHEET'!Q103","v":0},{"$f":"'FIN PAT MARK SHEET'!R103","v":0},{"$f":"'FIN PAT MARK SHEET'!S103","v":0},{"$f":"'FIN PAT MARK SHEET'!T103","v":0},0,0,0,""]
[87,87,{"$f":"INSERT!A89","v":0},{"$f":"INSERT!B89","v":0},{"$f":"INSERT!C89","v":0},{"$f":"INSERT!D89","v":0},{"$f":"INSERT!E89","v":0},{"$f":"TERM3!Z102","v":0},{"$f":"TERM3!AR102","v":0},{"$f":"TERM3!BJ102","v":0},{"$f":"TERM3!CB102","v":0},{"$f":"TERM3!CT102","v":0},0,{"$f":"TERM3!CY102","v":0},{"$f":"'FIN PAT MARK SHEET'!P104","v":0},{"$f":"'FIN PAT MARK SHEET'!Q104","v":0},{"$f":"'FIN PAT MARK SHEET'!R104","v":0},{"$f":"'FIN PAT MARK SHEET'!S104","v":0},{"$f":"'FIN PAT MARK SHEET'!T104","v":0},0,0,0,""]
[88,88,{"$f":"INSERT!A90","v":0},{"$f":"INSERT!B90","v":0},{"$f":"INSERT!C90","v":0},{"$f":"INSERT!D90","v":0},{"$f":"INSERT!E90","v":0},{"$f":"TERM3!Z103","v":0},{"$f":"TERM3!AR103","v":0},{"$f":"TERM3!BJ103","v":0},{"$f":"TERM3!CB103","v":0},{"$f":"TERM3!CT103","v":0},0,{"$f":"TERM3!CY103","v":0},{"$f":"'FIN PAT MARK SHEET'!P105","v":0},{"$f":"'FIN PAT MARK SHEET'!Q105","v":0},{"$f":"'FIN PAT MARK SHEET'!R105","v":0},{"$f":"'FIN PAT MARK SHEET'!S105","v":0},{"$f":"'FIN PAT MARK SHEET'!T105","v":0},0,0,0,""]
[89,89,{"$f":"INSERT!A91","v":0},{"$f":"INSERT!B91","v":0},{"$f":"INSERT!C91","v":0},{"$f":"INSERT!D91","v":0},{"$f":"INSERT!E91","v":0},{"$f":"TERM3!Z104","v":0},{"$f":"TERM3!AR104","v":0},{"$f":"TERM3!BJ104","v":0},{"$f":"TERM3!CB104","v":0},{"$f":"TERM3!CT104","v":0},0,{"$f":"TERM3!CY104","v":0},{"$f":"'FIN PAT MARK SHEET'!P106","v":0},{"$f":"'FIN PAT MARK SHEET'!Q106","v":0},{"$f":"'FIN PAT MARK SHEET'!R106","v":0},{"$f":"'FIN PAT MARK SHEET'!S106","v":0},{"$f":"'FIN PAT MARK SHEET'!T106","v":0},0,0,0,""]
[90,90,{"$f":"INSERT!A92","v":0},{"$f":"INSERT!B92","v":0},{"$f":"INSERT!C92","v":0},{"$f":"INSERT!D92","v":0},{"$f":"INSERT!E92","v":0},{"$f":"TERM3!Z105","v":0},{"$f":"TERM3!AR105","v":0},{"$f":"TERM3!BJ105","v":0},{"$f":"TERM3!CB105","v":0},{"$f":"TERM3!CT105","v":0},0,{"$f":"TERM3!CY105","v":0},{"$f":"'FIN PAT MARK SHEET'!P107","v":0},{"$f":"'FIN PAT MARK SHEET'!Q107","v":0},{"$f":"'FIN PAT MARK SHEET'!R107","v":0},{"$f":"'FIN PAT MARK SHEET'!S107","v":0},{"$f":"'FIN PAT MARK SHEET'!T107","v":0},0,0,0,""]
[91,91,{"$f":"INSERT!A93","v":0},{"$f":"INSERT!B93","v":0},{"$f":"INSERT!C93","v":0},{"$f":"INSERT!D93","v":0},{"$f":"INSERT!E93","v":0},{"$f":"TERM3!Z106","v":0},{"$f":"TERM3!AR106","v":0},{"$f":"TERM3!BJ106","v":0},{"$f":"TERM3!CB106","v":0},{"$f":"TERM3!CT106","v":0},0,{"$f":"TERM3!CY106","v":0},{"$f":"'FIN PAT MARK SHEET'!P108","v":0},{"$f":"'FIN PAT MARK SHEET'!Q108","v":0},{"$f":"'FIN PAT MARK SHEET'!R108","v":0},{"$f":"'FIN PAT MARK SHEET'!S108","v":0},{"$f":"'FIN PAT MARK SHEET'!T108","v":0},0,0,0,""]
[92,92,{"$f":"INSERT!A94","v":0},{"$f":"INSERT!B94","v":0},{"$f":"INSERT!C94","v":0},{"$f":"INSERT!D94","v":0},{"$f":"INSERT!E94","v":0},{"$f":"TERM3!Z107","v":0},{"$f":"TERM3!AR107","v":0},{"$f":"TERM3!BJ107","v":0},{"$f":"TERM3!CB107","v":0},{"$f":"TERM3!CT107","v":0},0,{"$f":"TERM3!CY107","v":0},{"$f":"'FIN PAT MARK SHEET'!P109","v":0},{"$f":"'FIN PAT MARK SHEET'!Q109","v":0},{"$f":"'FIN PAT MARK SHEET'!R109","v":0},{"$f":"'FIN PAT MARK SHEET'!S109","v":0},{"$f":"'FIN PAT MARK SHEET'!T109","v":0},0,0,0,""]
[93,93,{"$f":"INSERT!A95","v":0},{"$f":"INSERT!B95","v":0},{"$f":"INSERT!C95","v":0},{"$f":"INSERT!D95","v":0},{"$f":"INSERT!E95","v":0},{"$f":"TERM3!Z108","v":0},{"$f":"TERM3!AR108","v":0},{"$f":"TERM3!BJ108","v":0},{"$f":"TERM3!CB108","v":0},{"$f":"TERM3!CT108","v":0},0,{"$f":"TERM3!CY108","v":0},{"$f":"'FIN PAT MARK SHEET'!P110","v":0},{"$f":"'FIN PAT MARK SHEET'!Q110","v":0},{"$f":"'FIN PAT MARK SHEET'!R110","v":0},{"$f":"'FIN PAT MARK SHEET'!S110","v":0},{"$f":"'FIN PAT MARK SHEET'!T110","v":0},0,0,0,""]
[94,94,{"$f":"INSERT!A96","v":0},{"$f":"INSERT!B96","v":0},{"$f":"INSERT!C96","v":0},{"$f":"INSERT!D96","v":0},{"$f":"INSERT!E96","v":0},{"$f":"TERM3!Z109","v":0},{"$f":"TERM3!AR109","v":0},{"$f":"TERM3!BJ109","v":0},{"$f":"TERM3!CB109","v":0},{"$f":"TERM3!CT109","v":0},0,{"$f":"TERM3!CY109","v":0},{"$f":"'FIN PAT MARK SHEET'!P111","v":0},{"$f":"'FIN PAT MARK SHEET'!Q111","v":0},{"$f":"'FIN PAT MARK SHEET'!R111","v":0},{"$f":"'FIN PAT MARK SHEET'!S111","v":0},{"$f":"'FIN PAT MARK SHEET'!T111","v":0},0,0,0,""]
[95,95,{"$f":"INSERT!A97","v":0},{"$f":"INSERT!B97","v":0},{"$f":"INSERT!C97","v":0},{"$f":"INSERT!D97","v":0},{"$f":"INSERT!E97","v":0},{"$f":"TERM3!Z110","v":0},{"$f":"TERM3!AR110","v":0},{"$f":"TERM3!BJ110","v":0},{"$f":"TERM3!CB110","v":0},{"$f":"TERM3!CT110","v":0},0,{"$f":"TERM3!CY110","v":0},{"$f":"'FIN PAT MARK SHEET'!P112","v":0},{"$f":"'FIN PAT MARK SHEET'!Q112","v":0},{"$f":"'FIN PAT MARK SHEET'!R112","v":0},{"$f":"'FIN PAT MARK SHEET'!S112","v":0},{"$f":"'FIN PAT MARK SHEET'!T112","v":0},0,0,0,""]
[96,96,{"$f":"INSERT!A98","v":0},{"$f":"INSERT!B98","v":0},{"$f":"INSERT!C98","v":0},{"$f":"INSERT!D98","v":0},{"$f":"INSERT!E98","v":0},{"$f":"TERM3!Z111","v":0},{"$f":"TERM3!AR111","v":0},{"$f":"TERM3!BJ111","v":0},{"$f":"TERM3!CB111","v":0},{"$f":"TERM3!CT111","v":0},0,{"$f":"TERM3!CY111","v":0},{"$f":"'FIN PAT MARK SHEET'!P113","v":0},{"$f":"'FIN PAT MARK SHEET'!Q113","v":0},{"$f":"'FIN PAT MARK SHEET'!R113","v":0},{"$f":"'FIN PAT MARK SHEET'!S113","v":0},{"$f":"'FIN PAT MARK SHEET'!T113","v":0},0,0,0,""]
[97,97,{"$f":"INSERT!A99","v":0},{"$f":"INSERT!B99","v":0},{"$f":"INSERT!C99","v":0},{"$f":"INSERT!D99","v":0},{"$f":"INSERT!E99","v":0},{"$f":"TERM3!Z112","v":0},{"$f":"TERM3!AR112","v":0},{"$f":"TERM3!BJ112","v":0},{"$f":"TERM3!CB112","v":0},{"$f":"TERM3!CT112","v":0},0,{"$f":"TERM3!CY112","v":0},{"$f":"'FIN PAT MARK SHEET'!P114","v":0},{"$f":"'FIN PAT MARK SHEET'!Q114","v":0},{"$f":"'FIN PAT MARK SHEET'!R114","v":0},{"$f":"'FIN PAT MARK SHEET'!S114","v":0},{"$f":"'FIN PAT MARK SHEET'!T114","v":0},0,0,0,{"$f":"IF(V105>79,\"7\",IF(V105>69,\"6\",IF(V105>59,\"5\",IF(V105>49,\"4\",IF(V105>39,\"3\",IF(V105>29,\"2\",IF(V105>0,\"1\",IF(V105=0,\"\"))))))))","v":""}]
[98,98,{"$f":"INSERT!A100","v":0},{"$f":"INSERT!B100","v":0},{"$f":"INSERT!C100","v":0},{"$f":"INSERT!D100","v":0},{"$f":"INSERT!E100","v":0},{"$f":"TERM3!Z113","v":0},{"$f":"TERM3!AR113","v":0},{"$f":"TERM3!BJ113","v":0},{"$f":"TERM3!CB113","v":0},{"$f":"TERM3!CT113","v":0},0,{"$f":"TERM3!CY113","v":0},{"$f":"'FIN PAT MARK SHEET'!P115","v":0},{"$f":"'FIN PAT MARK SHEET'!Q115","v":0},{"$f":"'FIN PAT MARK SHEET'!R115","v":0},{"$f":"'FIN PAT MARK SHEET'!S115","v":0},{"$f":"'FIN PAT MARK SHEET'!T115","v":0},0,0,0,""]
[99,99,{"$f":"INSERT!A101","v":0},{"$f":"INSERT!B101","v":0},{"$f":"INSERT!C101","v":0},{"$f":"INSERT!D101","v":0},{"$f":"INSERT!E101","v":0},{"$f":"TERM3!Z114","v":0},{"$f":"TERM3!AR114","v":0},{"$f":"TERM3!BJ114","v":0},{"$f":"TERM3!CB114","v":0},{"$f":"TERM3!CT114","v":0},0,{"$f":"TERM3!CY114","v":0},{"$f":"'FIN PAT MARK SHEET'!P116","v":0},{"$f":"'FIN PAT MARK SHEET'!Q116","v":0},{"$f":"'FIN PAT MARK SHEET'!R116","v":0},{"$f":"'FIN PAT MARK SHEET'!S116","v":0},{"$f":"'FIN PAT MARK SHEET'!T116","v":0},0,0,0,""]
[100,100,{"$f":"INSERT!A102","v":0},{"$f":"INSERT!B102","v":0},{"$f":"INSERT!C102","v":0},{"$f":"INSERT!D102","v":0},{"$f":"INSERT!E102","v":0},{"$f":"TERM3!Z115","v":0},{"$f":"TERM3!AR115","v":0},{"$f":"TERM3!BJ115","v":0},{"$f":"TERM3!CB115","v":0},{"$f":"TERM3!CT115","v":0},0,{"$f":"TERM3!CY115","v":0},{"$f":"'FIN PAT MARK SHEET'!P117","v":0},{"$f":"'FIN PAT MARK SHEET'!Q117","v":0},{"$f":"'FIN PAT MARK SHEET'!R117","v":0},{"$f":"'FIN PAT MARK SHEET'!S117","v":0},{"$f":"'FIN PAT MARK SHEET'!T117","v":0},0,0,0,""]
["Total",null,null,null,null,null,null,{"$f":"SUM(O9:O108)","v":0},0,0,0,0,0,{"$f":"SUM(H9:H108)","v":0},0,0,0,0,0,0,0,{"$f":"SUM(V9:V108)","v":0}]
["Average%",null,null,null,null,null,null,{"$f":"IFERROR(ROUND((AVERAGEIF(O9:O108,\">0\")/O4*100),1),\"0\")","v":"0"},"0","0","0","0","0",{"$f":"IFERROR(ROUND((AVERAGEIF(H9:H108,\">0\")/H4*100),1),\"0\")","v":"0"},"0","0","0","0","0","0",0,{"$f":"IFERROR(ROUND((AVERAGEIF(V9:V108,\">0\")/V7*100),1),\"0\")","v":"0"}]
["Total amount of learners on mark sheet",null,null,null,"X","Term results analysis",null,null,null,null,null,null,null,"LEVEL 1","LEVEL 2","LEVEL 3","LEVEL 4","LEVEL 5","LEVEL 6","LEVEL 7",0]
[null,null,null,null,{"$f":"INSERT!$E$103","v":0},null,null,null,null,null,null,null,null," 0 - 29 "," 30 - 39 "," 40 - 49 "," 50 - 59 "," 60 - 69 "," 70 - 79 ","80 - 100"]
[null,null,null,null,"X",null,null,null,null,null,null,null,null,{"$f":"COUNTIF(W9:W108,1)","v":0},{"$f":"COUNTIF($W$9:$W$108,2)","v":0},{"$f":"COUNTIF($W$9:$W$108,3)","v":0},{"$f":"COUNTIF($W$9:$W$108,4)","v":0},{"$f":"COUNTIF($W$9:$W$108,5)","v":0},{"$f":"COUNTIF($W$9:$W$108,6)","v":0},{"$f":"COUNTIF($W$9:$W$108,7)","v":0},{"$f":"SUM(N113:T113)","v":0}]

{"sheet":"SASAMS TERM4","index":10,"n_rows":120,"n_cols":40,"rows_kept":120,"cut":false,"hidden":false,"merged":[[0,34,2,36],[2,0,2,6],[3,0,3,4],[3,34,6,34],[3,35,6,35],[3,36,6,36],[4,0,4,6],[5,0,5,6],[0,0,0,5],[1,0,1,2],[110,0,110,6],[111,0,113,3],[111,5,113,6],[109,0,109,6],[6,4,6,5]]}
["       Engineering Graphics and Design (Gr 11)\n      Term 4:",null,null,null,null,null,"TASKS",null,"TASK 7",null,null,null,null,"TASK 8",null,null,"TASK 9",null,null,"TASK PAT (Phase 3)",null,null,null,null,null,null,"TASK PAT (Q&M)","1\nCD","2\nCD","3\nJune Exam","4\nCD","5\nNov Exam","SBA Year Mark\n1 - 7"]
["Grade:",null,null,{"$f":"TERM1!$F$6","v":0},null,null,"Activities",{"$f":"TERM4!$I$4","v":"CD13 Loci: Cam"},null,"PAT \n(Phase 1)","PAT \n(Phase 2)","PAT \n(Phase 3)","PAT \n(Q&M)",null,"Paper 1","Paper 2",null,"6. Continuous evaluation","7. Final presentation & bibliografie",null,"Freehand Method","Freehand Quality","Instrument Method","Instrument Quality","CAD Method","CAD Quality",null,null,null,null,null,null,null,null,"50"]
["Weighting ",null,null,null,null,null,null,100,0,29,35,11,25,20,50,50,40,50,50,0,25,25,25,25,0,0,0,null,null,null,null,null,40,40]
[" Marks: -1 = Absent,  -2 = Not Captured",null,null,null,null,null,"Total Mark",10,10,29,35,11,25,100,100,100,200,10,10,11,10,10,10,10,10,10,25,40,30,150,50,10,{"$f":"SUM(AB4:AF4)","v":280},100,"TOTAL Weighted Mark","Term\n%","Level"]
["Include in SBA Year Mark ",null,null,null,null,null,null,null,"Yes",null,null,null,null,null,null,null,null,null,null,null,null,null,null,null,null,null,null,"Yes","Yes","Yes","Yes","Yes","Yes","Yes"]
[{"$f":"HYPERLINK(\"#'\"&\"Index'!A1\",\"Index\")","v":"Index"},null,null,null,null,null,null,null,2.31,null,null,null,null,null,null,null,null,null,null,null,null,null,null,null,null,null,null,13,9,60,15,3]
[null,null,null,null,null,null,"Term \n /Date ",null,"Term4",null,null,null,null,"Term4",null,null,"Term4",null,null,"Term4",null,null,null,null,null,null,"Term4","Term1","Term2","Term2","Term3","Term4","Term4","Term4"]
["No",null,"Class","Acc No","Learner",null,"Gender","T3:A1","T3","T4:A1","T4:A2","T4:A3","T4:A4","T4","T5:A1","T5:A2","T5","T1:A1","T1:A2","T1","T2:A1","T2:A2","T2:A3","T2:A4","T2:A5","T2:A6","T2","SBA 1","SBA 3","SBA 4","SBA 5","SBA 7","SBAYEAR","SBAYEAR",100,"100"]
[]
[1,1,{"$f":"INSERT!A3","v":0},{"$f":"INSERT!B3","v":0},{"$f":"INSERT!C3","v":0},{"$f":"INSERT!D3","v":0},{"$f":"INSERT!E3","v":0},{"$f":"TERM4!Z16","v":0},{"$f":"H10","v":0},{"$f":"'SASAMS TERM2'!T9","v":0},{"$f":"'SASAMS TERM3'!T9","v":0},{"$f":"T10","v":0},{"$f":"AA10","v":0},{"$f":"SUM(J10:M10)","v":0},{"$f":"TERM4!AA16","v":0},{"$f":"TERM4!AC16","v":0},{"$f":"SUM(O10:P10)","v":0},{"$f":"'FIN PAT MARK SHEET'!AD18","v":0},{"$f":"'FIN PAT MARK SHEET'!AE18","v":0},{"$f":"SUMIF(R10:S10,\">0\")/1.818181818","v":0},{"$f":"'FIN PAT MARK SHEET'!V18","v":0},{"$f":"'FIN PAT MARK SHEET'!W18","v":0},{"$f":"'FIN PAT MARK SHEET'!X18","v":0},{"$f":"'FIN PAT MARK SHEET'!Y18","v":0},{"$f":"'FIN PAT MARK SHEET'!Z18","v":0},{"$f":"'FIN PAT MARK SHEET'!AA18","v":0},{"$f":"IF(AN10=4,SUMIF(U10:Z10,\">0\")/1.6,IF(AN10=6,SUMIF(U10:Z10,\">0\")/2.4,SUMIF(U10:Z10,\">0\")))","v":0},{"$f":"'SASAMS TERM1'!L9","v":0},{"$f":"'SASAMS TERM2'!K9","v":0},{"$f":"'SASAMS TERM2'!N9","v":0},{"$f":"'SASAMS TERM3'!M9","v":0},{"$f":"H10","v":0},{"$f":"SUM(AB10:AF10)","v":0},{"$f":"SUM(AB10/3.076923076)+SUM(AC10/3.333333333)+SUM(AD10/2.5)+SUM(AE10/3.333333333)+SUM(AF10/3.333333333)","v":0},{"$f":"SUM(AH10/2.5)+SUM(Q10/5)+SUM(N10/5)","v":0},{"$f":"SUM(AI10,0)","v":0},{"$f":"IF(AI10>79,\"7\",IF(AI10>69,\"6\",IF(AI10>59,\"5\",IF(AI10>49,\"4\",IF(AI10>39,\"3\",IF(AI10>29,\"2\",IF(AI10>0,\"1\",IF(AI10=0,\"\"))))))))","v":""},null,null,{"$f":"COUNTIF(U10:Z10,\">0\")","v":0}]
[2,36,{"$f":"INSERT!A4","v":0},{"$f":"INSERT!B4","v":0},{"$f":"INSERT!C4","v":0},{"$f":"INSERT!D4","v":0},{"$f":"INSERT!E4","v":0},{"$f":"TERM4!Z17","v":0},{"$f":"H11","v":0},{"$f":"'SASAMS TERM2'!T10","v":0},{"$f":"'SASAMS TERM3'!T10","v":0},0,0,{"$f":"SUM(J11:M11)","v":0},{"$f":"TERM4!AA17","v":0},{"$f":"TERM4!AC17","v":0},{"$f":"SUM(O11:P11)","v":0},{"$f":"'FIN PAT MARK SHEET'!AD19","v":0},{"$f":"'FIN PAT MARK SHEET'!AE19","v":0},{"$f":"SUMIF(R11:S11,\">0\")/1.818181818","v":0},{"$f":"'FIN PAT MARK SHEET'!V19","v":0},{"$f":"'FIN PAT MARK SHEET'!W19","v":0},{"$f":"'FIN PAT MARK SHEET'!X19","v":0},{"$f":"'FIN PAT MARK SHEET'!Y19","v":0},{"$f":"'FIN PAT MARK SHEET'!Z19","v":0},{"$f":"'FIN PAT MARK SHEET'!AA19","v":0},0,{"$f":"'SASAMS TERM1'!L10","v":0},{"$f":"'SASAMS TERM2'!K10","v":0},{"$f":"'SASAMS TERM2'!N10","v":0},{"$f":"'SASAMS TERM3'!M10","v":0},0,{"$f":"SUM(AB11:AF11)","v":0},{"$f":"SUM(AB11/3.076923076)+SUM(AC11/3.333333333)+SUM(AD11/2.5)+SUM(AE11/3.333333333)+SUM(AF11/3.333333333)","v":0},{"$f":"SUM(AH11/2.5)+SUM(Q11/5)+SUM(N11/5)","v":0},{"$f":"SUM(AI11,0)","v":0},{"$f":"IF(AJ11>79,\"7\",IF(AJ11>69,\"6\",IF(AJ11>59,\"5\",IF(AJ11>49,\"4\",IF(AJ11>39,\"3\",IF(AJ11>29,\"2\",IF(AJ11>0,\"1\",IF(AJ11=0,\"\"))))))))","v":""},null,null,0]
[3,2,{"$f":"INSERT!A5","v":0},{"$f":"INSERT!B5","v":0},{"$f":"INSERT!C5","v":0},{"$f":"INSERT!D5","v":0},{"$f":"INSERT!E5","v":0},{"$f":"TERM4!Z18","v":0},0,{"$f":"'SASAMS TERM2'!T11","v":0},{"$f":"'SASAMS TERM3'!T11","v":0},0,0,0,{"$f":"TERM4!AA18","v":0},{"$f":"TERM4!AC18","v":0},0,{"$f":"'FIN PAT MARK SHEET'!AD20","v":0},{"$f":"'FIN PAT MARK SHEET'!AE20","v":0},0,{"$f":"'FIN PAT MARK SHEET'!V20","v":0},{"$f":"'FIN PAT MARK SHEET'!W20","v":0},{"$f":"'FIN PAT MARK SHEET'!X20","v":0},{"$f":"'FIN PAT MARK SHEET'!Y20","v":0},{"$f":"'FIN PAT MARK SHEET'!Z20","v":0},{"$f":"'FIN PAT MARK SHEET'!AA20","v":0},0,{"$f":"'SASAMS TERM1'!L11","v":0},{"$f":"'SASAMS TERM2'!K11","v":0},{"$f":"'SASAMS TERM2'!N11","v":0},{"$f":"'SASAMS TERM3'!M11","v":0},0,0,0,0,0,"",null,null,0]
[4,3,{"$f":"INSERT!A6","v":0},{"$f":"INSERT!B6","v":0},{"$f":"INSERT!C6","v":0},{"$f":"INSERT!D6","v":0},{"$f":"INSERT!E6","v":0},{"$f":"TERM4!Z19","v":0},0,{"$f":"'SASAMS TERM2'!T12","v":0},{"$f":"'SASAMS TERM3'!T12","v":0},0,0,0,{"$f":"TERM4!AA19","v":0},{"$f":"TERM4!AC19","v":0},0,{"$f":"'FIN PAT MARK SHEET'!AD21","v":0},{"$f":"'FIN PAT MARK SHEET'!AE21","v":0},0,{"$f":"'FIN PAT MARK SHEET'!V21","v":0},{"$f":"'FIN PAT MARK SHEET'!W21","v":0},{"$f":"'FIN PAT MARK SHEET'!X21","v":0},{"$f":"'FIN PAT MARK SHEET'!Y21","v":0},{"$f":"'FIN PAT MARK SHEET'!Z21","v":0},{"$f":"'FIN PAT MARK SHEET'!AA21","v":0},0,{"$f":"'SASAMS TERM1'!L12","v":0},{"$f":"'SASAMS TERM2'!K12","v":0},{"$f":"'SASAMS TERM2'!N12","v":0},{"$f":"'SASAMS TERM3'!M12","v":0},0,0,0,0,0,"",null,null,0]
[5,4,{"$f":"INSERT!A7","v":0},{"$f":"INSERT!B7","v":0},{"$f":"INSERT!C7","v":0},{"$f":"INSERT!D7","v":0},{"$f":"INSERT!E7","v":0},{"$f":"TERM4!Z20","v":0},0,{"$f":"'SASAMS TERM2'!T13","v":0},{"$f":"'SASAMS TERM3'!T13","v":0},0,0,0,{"$f":"TERM4!AA20","v":0},{"$f":"TERM4!AC20","v":0},0,{"$f":"'FIN PAT MARK SHEET'!AD22","v":0},{"$f":"'FIN PAT MARK SHEET'!AE22","v":0},0,{"$f":"'FIN PAT MARK SHEET'!V22","v":0},{"$f":"'FIN PAT MARK SHEET'!W22","v":0},{"$f":"'FIN PAT MARK SHEET'!X22","v":0},{"$f":"'FIN PAT MARK SHEET'!Y22","v":0},{"$f":"'FIN PAT MARK SHEET'!Z22","v":0},{"$f":"'FIN PAT MARK SHEET'!AA22","v":0},0,{"$f":"'SASAMS TERM1'!L13","v":0},{"$f":"'SASAMS TERM2'!K13","v":0},{"$f":"'SASAMS TERM2'!N13","v":0},{"$f":"'SASAMS TERM3'!M13","v":0},0,0,0,0,0,"",null,null,0]
[6,5,{"$f":"INSERT!A8","v":0},{"$f":"INSERT!B8","v":0},{"$f":"INSERT!C8","v":0},{"$f":"INSERT!D8","v":0},{"$f":"INSERT!E8","v":0},{"$f":"TERM4!Z21","v":0},0,{"$f":"'SASAMS TERM2'!T14","v":0},{"$f":"'SASAMS TERM3'!T14","v":0},0,0,0,{"$f":"TERM4!AA21","v":0},{"$f":"TERM4!AC21","v":0},0,{"$f":"'FIN PAT MARK SHEET'!AD23","v":0},{"$f":"'FIN PAT MARK SHEET'!AE23","v":0},0,{"$f":"'FIN PAT MARK SHEET'!V23","v":0},{"$f":"'FIN PAT MARK SHEET'!W23","v":0},{"$f":"'FIN PAT MARK SHEET'!X23","v":0},{"$f":"'FIN PAT MARK SHEET'!Y23","v":0},{"$f":"'FIN PAT MARK SHEET'!Z23","v":0},{"$f":"'FIN PAT MARK SHEET'!AA23","v":0},0,{"$f":"'SASAMS TERM1'!L14","v":0},{"$f":"'SASAMS TERM2'!K14","v":0},{"$f":"'SASAMS TERM2'!N14","v":0},{"$f":"'SASAMS TERM3'!M14","v":0},0,0,0,0,0,"",null,null,0]
[7,6,{"$f":"INSERT!A9","v":0},{"$f":"INSERT!B9","v":0},{"$f":"INSERT!C9","v":0},{"$f":"INSERT!D9","v":0},{"$f":"INSERT!E9","v":0},{"$f":"TERM4!Z22","v":0},0,{"$f":"'SASAMS TERM2'!T15","v":0},{"$f":"'SASAMS TERM3'!T15","v":0},0,0,0,{"$f":"TERM4!AA22","v":0},{"$f":"TERM4!AC22","v":0},0,{"$f":"'FIN PAT MARK SHEET'!AD24","v":0},{"$f":"'FIN PAT MARK SHEET'!AE24","v":0},0,{"$f":"'FIN PAT MARK SHEET'!V24","v":0},{"$f":"'FIN PAT MARK SHEET'!W24","v":0},{"$f":"'FIN PAT MARK SHEET'!X24","v":0},{"$f":"'FIN PAT MARK SHEET'!Y24","v":0},{"$f":"'FIN PAT MARK SHEET'!Z24","v":0},{"$f":"'FIN PAT MARK SHEET'!AA24","v":0},0,{"$f":"'SASAMS TERM1'!L15","v":0},{"$f":"'SASAMS TERM2'!K15","v":0},{"$f":"'SASAMS TERM2'!N15","v":0},{"$f":"'SASAMS TERM3'!M15","v":0},0,0,0,0,0,"",null,null,0]
[8,7,{"$f":"INSERT!A10","v":0},{"$f":"INSERT!B10","v":0},{"$f":"INSERT!C10","v":0},{"$f":"INSERT!D10","v":0},{"$f":"INSERT!E10","v":0},{"$f":"TERM4!Z23","v":0},0,{"$f":"'SASAMS TERM2'!T16","v":0},{"$f":"'SASAMS TERM3'!T16","v":0},0,0,0,{"$f":"TERM4!AA23","v":0},{"$f":"TERM4!AC23","v":0},0,{"$f":"'FIN PAT MARK SHEET'!AD25","v":0},{"$f":"'FIN PAT MARK SHEET'!AE25","v":0},0,{"$f":"'FIN PAT MARK SHEET'!V25","v":0},{"$f":"'FIN PAT MARK SHEET'!W25","v":0},{"$f":"'FIN PAT MARK SHEET'!X25","v":0},{"$f":"'FIN PAT MARK SHEET'!Y25","v":0},{"$f":"'FIN PAT MARK SHEET'!Z25","v":0},{"$f":"'FIN PAT MARK SHEET'!AA25","v":0},0,{"$f":"'SASAMS TERM1'!L16","v":0},{"$f":"'SASAMS TERM2'!K16","v":0},{"$f":"'SASAMS TERM2'!N16","v":0},{"$f":"'SASAMS TERM3'!M16","v":0},0,0,0,0,0,"",null,null,0]
[9,8,{"$f":"INSERT!A11","v":0},{"$f":"INSERT!B11","v":0},{"$f":"INSERT!C11","v":0},{"$f":"INSERT!D11","v":0},{"$f":"INSERT!E11","v":0},{"$f":"TERM4!Z24","v":0},0,{"$f":"'SASAMS TERM2'!T17","v":0},{"$f":"'SASAMS TERM3'!T17","v":0},0,0,0,{"$f":"TERM4!AA24","v":0},{"$f":"TERM4!AC24","v":0},0,{"$f":"'FIN PAT MARK SHEET'!AD26","v":0},{"$f":"'FIN PAT MARK SHEET'!AE26","v":0},0,{"$f":"'FIN PAT MARK SHEET'!V26","v":0},{"$f":"'FIN PAT MARK SHEET'!W26","v":0},{"$f":"'FIN PAT MARK SHEET'!X26","v":0},{"$f":"'FIN PAT MARK SHEET'!Y26","v":0},{"$f":"'FIN PAT MARK SHEET'!Z26","v":0},{"$f":"'FIN PAT MARK SHEET'!AA26","v":0},0,{"$f":"'SASAMS TERM1'!L17","v":0},{"$f":"'SASAMS TERM2'!K17","v":0},{"$f":"'SASAMS TERM2'!N17","v":0},{"$f":"'SASAMS TERM3'!M17","v":0},0,0,0,0,0,"",null,null,0]
[10,9,{"$f":"INSERT!A12","v":0},{"$f":"INSERT!B12","v":0},{"$f":"INSERT!C12","v":0},{"$f":"INSERT!D12","v":0},{"$f":"INSERT!E12","v":0},{"$f":"TERM4!Z25","v":0},0,{"$f":"'SASAMS TERM2'!T18","v":0},{"$f":"'SASAMS TERM3'!T18","v":0},0,0,0,{"$f":"TERM4!AA25","v":0},{"$f":"TERM4!AC25","v":0},0,{"$f":"'FIN PAT MARK SHEET'!AD27","v":0},{"$f":"'FIN PAT MARK SHEET'!AE27","v":0},0,{"$f":"'FIN PAT MARK SHEET'!V27","v":0},{"$f":"'FIN PAT MARK SHEET'!W27","v":0},{"$f":"'FIN PAT MARK SHEET'!X27","v":0},{"$f":"'FIN PAT MARK SHEET'!Y27","v":0},{"$f":"'FIN PAT MARK SHEET'!Z27","v":0},{"$f":"'FIN PAT MARK SHEET'!AA27","v":0},0,{"$f":"'SASAMS TERM1'!L18","v":0},{"$f":"'SASAMS TERM2'!K18","v":0},{"$f":"'SASAMS TERM2'!N18","v":0},{"$f":"'SASAMS TERM3'!M18","v":0},0,0,0,0,0,"",null,null,0]
[11,11,{"$f":"INSERT!A13","v":0},{"$f":"INSERT!B13","v":0},{"$f":"INSERT!C13","v":0},{"$f":"INSERT!D13","v":0},{"$f":"INSERT!E13","v":0},{"$f":"TERM4!Z26","v":0},0,{"$f":"'SASAMS TERM2'!T19","v":0},{"$f":"'SASAMS TERM3'!T19","v":0},0,0,0,{"$f":"TERM4!AA26","v":0},{"$f":"TERM4!AC26","v":0},0,{"$f":"'FIN PAT MARK SHEET'!AD28","v":0},{"$f":"'FIN PAT MARK SHEET'!AE28","v":0},0,{"$f":"'FIN PAT MARK SHEET'!V28","v":0},{"$f":"'FIN PAT MARK SHEET'!W28","v":0},{"$f":"'FIN PAT MARK SHEET'!X28","v":0},{"$f":"'FIN PAT MARK SHEET'!Y28","v":0},{"$f":"'FIN PAT MARK SHEET'!Z28","v":0},{"$f":"'FIN PAT MARK SHEET'!AA28","v":0},0,{"$f":"'SASAMS TERM1'!L19","v":0},{"$f":"'SASAMS TERM2'!K19","v":0},{"$f":"'SASAMS TERM2'!N19","v":0},{"$f":"'SASAMS TERM3'!M19","v":0},0,0,0,0,0,"",null,null,0]
[12,12,{"$f":"INSERT!A14","v":0},{"$f":"INSERT!B14","v":0},{"$f":"INSERT!C14","v":0},{"$f":"INSERT!D14","v":0},{"$f":"INSERT!E14","v":0},{"$f":"TERM4!Z27","v":0},0,{"$f":"'SASAMS TERM2'!T20","v":0},{"$f":"'SASAMS TERM3'!T20","v":0},0,0,0,{"$f":"TERM4!AA27","v":0},{"$f":"TERM4!AC27","v":0},0,{"$f":"'FIN PAT MARK SHEET'!AD29","v":0},{"$f":"'FIN PAT MARK SHEET'!AE29","v":0},0,{"$f":"'FIN PAT MARK SHEET'!V29","v":0},{"$f":"'FIN PAT MARK SHEET'!W29","v":0},{"$f":"'FIN PAT MARK SHEET'!X29","v":0},{"$f":"'FIN PAT MARK SHEET'!Y29","v":0},{"$f":"'FIN PAT MARK SHEET'!Z29","v":0},{"$f":"'FIN PAT MARK SHEET'!AA29","v":0},0,{"$f":"'SASAMS TERM1'!L20","v":0},{"$f":"'SASAMS TERM2'!K20","v":0},{"$f":"'SASAMS TERM2'!N20","v":0},{"$f":"'SASAMS TERM3'!M20","v":0},0,0,0,0,0,"",null,null,0]
[13,13,{"$f":"INSERT!A15","v":0},{"$f":"INSERT!B15","v":0},{"$f":"INSERT!C15","v":0},{"$f":"INSERT!D15","v":0},{"$f":"INSERT!E15","v":0},{"$f":"TERM4!Z28","v":0},0,{"$f":"'SASAMS TERM2'!T21","v":0},{"$f":"'SASAMS TERM3'!T21","v":0},0,0,0,{"$f":"TERM4!AA28","v":0},{"$f":"TERM4!AC28","v":0},0,{"$f":"'FIN PAT MARK SHEET'!AD30","v":0},{"$f":"'FIN PAT MARK SHEET'!AE30","v":0},0,{"$f":"'FIN PAT MARK SHEET'!V30","v":0},{"$f":"'FIN PAT MARK SHEET'!W30","v":0},{"$f":"'FIN PAT MARK SHEET'!X30","v":0},{"$f":"'FIN PAT MARK SHEET'!Y30","v":0},{"$f":"'FIN PAT MARK SHEET'!Z30","v":0},{"$f":"'FIN PAT MARK SHEET'!AA30","v":0},0,{"$f":"'SASAMS TERM1'!L21","v":0},{"$f":"'SASAMS TERM2'!K21","v":0},{"$f":"'SASAMS TERM2'!N21","v":0},{"$f":"'SASAMS TERM3'!M21","v":0},0,0,0,0,0,"",null,null,0]
[14,14,{"$f":"INSERT!A16","v":0},{"$f":"INSERT!B16","v":0},{"$f":"INSERT!C16","v":0},{"$f":"INSERT!D16","v":0},{"$f":"INSERT!E16","v":0},{"$f":"TERM4!Z29","v":0},0,{"$f":"'SASAMS TERM2'!T22","v":0},{"$f":"'SASAMS TERM3'!T22","v":0},0,0,0,{"$f":"TERM4!AA29","v":0},{"$f":"TERM4!AC29","v":0},0,{"$f":"'FIN PAT MARK SHEET'!AD31","v":0},{"$f":"'FIN PAT MARK SHEET'!AE31","v":0},0,{"$f":"'FIN PAT MARK SHEET'!V31","v":0},{"$f":"'FIN PAT MARK SHEET'!W31","v":0},{"$f":"'FIN PAT MARK SHEET'!X31","v":0},{"$f":"'FIN PAT MARK SHEET'!Y31","v":0},{"$f":"'FIN PAT MARK SHEET'!Z31","v":0},{"$f":"'FIN PAT MARK SHEET'!AA31","v":0},0,{"$f":"'SASAMS TERM1'!L22","v":0},{"$f":"'SASAMS TERM2'!K22","v":0},{"$f":"'SASAMS TERM2'!N22","v":0},{"$f":"'SASAMS TERM3'!M22","v":0},0,0,0,0,0,"",null,null,0]
[15,15,{"$f":"INSERT!A17","v":0},{"$f":"INSERT!B17","v":0},{"$f":"INSERT!C17","v":0},{"$f":"INSERT!D17","v":0},{"$f":"INSERT!E17","v":0},{"$f":"TERM4!Z30","v":0},0,{"$f":"'SASAMS TERM2'!T23","v":0},{"$f":"'SASAMS TERM3'!T23","v":0},0,0,0,{"$f":"TERM4!AA30","v":0},{"$f":"TERM4!AC30","v":0},0,{"$f":"'FIN PAT MARK SHEET'!AD32","v":0},{"$f":"'FIN PAT MARK SHEET'!AE32","v":0},0,{"$f":"'FIN PAT MARK SHEET'!V32","v":0},{"$f":"'FIN PAT MARK SHEET'!W32","v":0},{"$f":"'FIN PAT MARK SHEET'!X32","v":0},{"$f":"'FIN PAT MARK SHEET'!Y32","v":0},{"$f":"'FIN PAT MARK SHEET'!Z32","v":0},{"$f":"'FIN PAT MARK SHEET'!AA32","v":0},0,{"$f":"'SASAMS TERM1'!L23","v":0},{"$f":"'SASAMS TERM2'!K23","v":0},{"$f":"'SASAMS TERM2'!N23","v":0},{"$f":"'SASAMS TERM3'!M23","v":0},0,0,0,0,0,"",null,null,0]
[16,16,{"$f":"INSERT!A18","v":0},{"$f":"INSERT!B18","v":0},{"$f":"INSERT!C18","v":0},{"$f":"INSERT!D18","v":0},{"$f":"INSERT!E18","v":0},{"$f":"TERM4!Z31","v":0},0,{"$f":"'SASAMS TERM2'!T24","v":0},{"$f":"'SASAMS TERM3'!T24","v":0},0,0,0,{"$f":"TERM4!AA31","v":0},{"$f":"TERM4!AC31","v":0},0,{"$f":"'FIN PAT MARK SHEET'!AD33","v":0},{"$f":"'FIN PAT MARK SHEET'!AE33","v":0},0,{"$f":"'FIN PAT MARK SHEET'!V33","v":0},{"$f":"'FIN PAT MARK SHEET'!W33","v":0},{"$f":"'FIN PAT MARK SHEET'!X33","v":0},{"$f":"'FIN PAT MARK SHEET'!Y33","v":0},{"$f":"'FIN PAT MARK SHEET'!Z33","v":0},{"$f":"'FIN PAT MARK SHEET'!AA33","v":0},0,{"$f":"'SASAMS TERM1'!L24","v":0},{"$f":"'SASAMS TERM2'!K24","v":0},{"$f":"'SASAMS TERM2'!N24","v":0},{"$f":"'SASAMS TERM3'!M24","v":0},0,0,0,0,0,"",null,null,0]
[17,17,{"$f":"INSERT!A19","v":0},{"$f":"INSERT!B19","v":0},{"$f":"INSERT!C19","v":0},{"$f":"INSERT!D19","v":0},{"$f":"INSERT!E19","v":0},{"$f":"TERM4!Z32","v":0},0,{"$f":"'SASAMS TERM2'!T25","v":0},{"$f":"'SASAMS TERM3'!T25","v":0},0,0,0,{"$f":"TERM4!AA32","v":0},{"$f":"TERM4!AC32","v":0},0,{"$f":"'FIN PAT MARK SHEET'!AD34","v":0},{"$f":"'FIN PAT MARK SHEET'!AE34","v":0},0,{"$f":"'FIN PAT MARK SHEET'!V34","v":0},{"$f":"'FIN PAT MARK SHEET'!W34","v":0},{"$f":"'FIN PAT MARK SHEET'!X34","v":0},{"$f":"'FIN PAT MARK SHEET'!Y34","v":0},{"$f":"'FIN PAT MARK SHEET'!Z34","v":0},{"$f":"'FIN PAT MARK SHEET'!AA34","v":0},0,{"$f":"'SASAMS TERM1'!L25","v":0},{"$f":"'SASAMS TERM2'!K25","v":0},{"$f":"'SASAMS TERM2'!N25","v":0},{"$f":"'SASAMS TERM3'!M25","v":0},0,0,0,0,0,"",null,null,0]
[18,18,{"$f":"INSERT!A20","v":0},{"$f":"INSERT!B20","v":0},{"$f":"INSERT!C20","v":0},{"$f":"INSERT!D20","v":0},{"$f":"INSERT!E20","v":0},{"$f":"TERM4!Z33","v":0},0,{"$f":"'SASAMS TERM2'!T26","v":0},{"$f":"'SASAMS TERM3'!T26","v":0},0,0,0,{"$f":"TERM4!AA33","v":0},{"$f":"TERM4!AC33","v":0},0,{"$f":"'FIN PAT MARK SHEET'!AD35","v":0},{"$f":"'FIN PAT MARK SHEET'!AE35","v":0},0,{"$f":"'FIN PAT MARK SHEET'!V35","v":0},{"$f":"'FIN PAT MARK SHEET'!W35","v":0},{"$f":"'FIN PAT MARK SHEET'!X35","v":0},{"$f":"'FIN PAT MARK SHEET'!Y35","v":0},{"$f":"'FIN PAT MARK SHEET'!Z35","v":0},{"$f":"'FIN PAT MARK SHEET'!AA35","v":0},0,{"$f":"'SASAMS TERM1'!L26","v":0},{"$f":"'SASAMS TERM2'!K26","v":0},{"$f":"'SASAMS TERM2'!N26","v":0},{"$f":"'SASAMS TERM3'!M26","v":0},0,0,0,0,0,"",null,null,0]
[19,19,{"$f":"INSERT!A21","v":0},{"$f":"INSERT!B21","v":0},{"$f":"INSERT!C21","v":0},{"$f":"INSERT!D21","v":0},{"$f":"INSERT!E21","v":0},{"$f":"TERM4!Z34","v":0},0,{"$f":"'SASAMS TERM2'!T27","v":0},{"$f":"'SASAMS TERM3'!T27","v":0},0,0,0,{"$f":"TERM4!AA34","v":0},{"$f":"TERM4!AC34","v":0},0,{"$f":"'FIN PAT MARK SHEET'!AD36","v":0},{"$f":"'FIN PAT MARK SHEET'!AE36","v":0},0,{"$f":"'FIN PAT MARK SHEET'!V36","v":0},{"$f":"'FIN PAT MARK SHEET'!W36","v":0},{"$f":"'FIN PAT MARK SHEET'!X36","v":0},{"$f":"'FIN PAT MARK SHEET'!Y36","v":0},{"$f":"'FIN PAT MARK SHEET'!Z36","v":0},{"$f":"'FIN PAT MARK SHEET'!AA36","v":0},0,{"$f":"'SASAMS TERM1'!L27","v":0},{"$f":"'SASAMS TERM2'!K27","v":0},{"$f":"'SASAMS TERM2'!N27","v":0},{"$f":"'SASAMS TERM3'!M27","v":0},0,0,0,0,0,"",null,null,0]
[20,20,{"$f":"INSERT!A22","v":0},{"$f":"INSERT!B22","v":0},{"$f":"INSERT!C22","v":0},{"$f":"INSERT!D22","v":0},{"$f":"INSERT!E22","v":0},{"$f":"TERM4!Z35","v":0},0,{"$f":"'SASAMS TERM2'!T28","v":0},{"$f":"'SASAMS TERM3'!T28","v":0},0,0,0,{"$f":"TERM4!AA35","v":0},{"$f":"TERM4!AC35","v":0},0,{"$f":"'FIN PAT MARK SHEET'!AD37","v":0},{"$f":"'FIN PAT MARK SHEET'!AE37","v":0},0,{"$f":"'FIN PAT MARK SHEET'!V37","v":0},{"$f":"'FIN PAT MARK SHEET'!W37","v":0},{"$f":"'FIN PAT MARK SHEET'!X37","v":0},{"$f":"'FIN PAT MARK SHEET'!Y37","v":0},{"$f":"'FIN PAT MARK SHEET'!Z37","v":0},{"$f":"'FIN PAT MARK SHEET'!AA37","v":0},0,{"$f":"'SASAMS TERM1'!L28","v":0},{"$f":"'SASAMS TERM2'!K28","v":0},{"$f":"'SASAMS TERM2'!N28","v":0},{"$f":"'SASAMS TERM3'!M28","v":0},0,0,0,0,0,"",null,null,0]
[21,21,{"$f":"INSERT!A23","v":0},{"$f":"INSERT!B23","v":0},{"$f":"INSERT!C23","v":0},{"$f":"INSERT!D23","v":0},{"$f":"INSERT!E23","v":0},{"$f":"TERM4!Z36","v":0},0,{"$f":"'SASAMS TERM2'!T29","v":0},{"$f":"'SASAMS TERM3'!T29","v":0},0,0,0,{"$f":"TERM4!AA36","v":0},{"$f":"TERM4!AC36","v":0},0,{"$f":"'FIN PAT MARK SHEET'!AD38","v":0},{"$f":"'FIN PAT MARK SHEET'!AE38","v":0},0,{"$f":"'FIN PAT MARK SHEET'!V38","v":0},{"$f":"'FIN PAT MARK SHEET'!W38","v":0},{"$f":"'FIN PAT MARK SHEET'!X38","v":0},{"$f":"'FIN PAT MARK SHEET'!Y38","v":0},{"$f":"'FIN PAT MARK SHEET'!Z38","v":0},{"$f":"'FIN PAT MARK SHEET'!AA38","v":0},0,{"$f":"'SASAMS TERM1'!L29","v":0},{"$f":"'SASAMS TERM2'!K29","v":0},{"$f":"'SASAMS TERM2'!N29","v":0},{"$f":"'SASAMS TERM3'!M29","v":0},0,0,0,0,0,"",null,null,0]
[22,22,{"$f":"INSERT!A24","v":0},{"$f":"INSERT!B24","v":0},{"$f":"INSERT!C24","v":0},{"$f":"INSERT!D24","v":0},{"$f":"INSERT!E24","v":0},{"$f":"TERM4!Z37","v":0},0,{"$f":"'SASAMS TERM2'!T30","v":0},{"$f":"'SASAMS TERM3'!T30","v":0},0,0,0,{"$f":"TERM4!AA37","v":0},{"$f":"TERM4!AC37","v":0},0,{"$f":"'FIN PAT MARK SHEET'!AD39","v":0},{"$f":"'FIN PAT MARK SHEET'!AE39","v":0},0,{"$f":"'FIN PAT MARK SHEET'!V39","v":0},{"$f":"'FIN PAT MARK SHEET'!W39","v":0},{"$f":"'FIN PAT MARK SHEET'!X39","v":0},{"$f":"'FIN PAT MARK SHEET'!Y39","v":0},{"$f":"'FIN PAT MARK SHEET'!Z39","v":0},{"$f":"'FIN PAT MARK SHEET'!AA39","v":0},0,{"$f":"'SASAMS TERM1'!L30","v":0},{"$f":"'SASAMS TERM2'!K30","v":0},{"$f":"'SASAMS TERM2'!N30","v":0},{"$f":"'SASAMS TERM3'!M30","v":0},0,0,0,0,0,"",null,null,0]
[23,23,{"$f":"INSERT!A25","v":0},{"$f":"INSERT!B25","v":0},{"$f":"INSERT!C25","v":0},{"$f":"INSERT!D25","v":0},{"$f":"INSERT!E25","v":0},{"$f":"TERM4!Z38","v":0},0,{"$f":"'SASAMS TERM2'!T31","v":0},{"$f":"'SASAMS TERM3'!T31","v":0},0,0,0,{"$f":"TERM4!AA38","v":0},{"$f":"TERM4!AC38","v":0},0,{"$f":"'FIN PAT MARK SHEET'!AD40","v":0},{"$f":"'FIN PAT MARK SHEET'!AE40","v":0},0,{"$f":"'FIN PAT MARK SHEET'!V40","v":0},{"$f":"'FIN PAT MARK SHEET'!W40","v":0},{"$f":"'FIN PAT MARK SHEET'!X40","v":0},{"$f":"'FIN PAT MARK SHEET'!Y40","v":0},{"$f":"'FIN PAT MARK SHEET'!Z40","v":0},{"$f":"'FIN PAT MARK SHEET'!AA40","v":0},0,{"$f":"'SASAMS TERM1'!L31","v":0},{"$f":"'SASAMS TERM2'!K31","v":0},{"$f":"'SASAMS TERM2'!N31","v":0},{"$f":"'SASAMS TERM3'!M31","v":0},0,0,0,0,0,"",null,null,0]
[24,24,{"$f":"INSERT!A26","v":0},{"$f":"INSERT!B26","v":0},{"$f":"INSERT!C26","v":0},{"$f":"INSERT!D26","v":0},{"$f":"INSERT!E26","v":0},{"$f":"TERM4!Z39","v":0},0,{"$f":"'SASAMS TERM2'!T32","v":0},{"$f":"'SASAMS TERM3'!T32","v":0},0,0,0,{"$f":"TERM4!AA39","v":0},{"$f":"TERM4!AC39","v":0},0,{"$f":"'FIN PAT MARK SHEET'!AD41","v":0},{"$f":"'FIN PAT MARK SHEET'!AE41","v":0},0,{"$f":"'FIN PAT MARK SHEET'!V41","v":0},{"$f":"'FIN PAT MARK SHEET'!W41","v":0},{"$f":"'FIN PAT MARK SHEET'!X41","v":0},{"$f":"'FIN PAT MARK SHEET'!Y41","v":0},{"$f":"'FIN PAT MARK SHEET'!Z41","v":0},{"$f":"'FIN PAT MARK SHEET'!AA41","v":0},0,{"$f":"'SASAMS TERM1'!L32","v":0},{"$f":"'SASAMS TERM2'!K32","v":0},{"$f":"'SASAMS TERM2'!N32","v":0},{"$f":"'SASAMS TERM3'!M32","v":0},0,0,0,0,0,"",null,null,0]
[25,25,{"$f":"INSERT!A27","v":0},{"$f":"INSERT!B27","v":0},{"$f":"INSERT!C27","v":0},{"$f":"INSERT!D27","v":0},{"$f":"INSERT!E27","v":0},{"$f":"TERM4!Z40","v":0},0,{"$f":"'SASAMS TERM2'!T33","v":0},{"$f":"'SASAMS TERM3'!T33","v":0},0,0,0,{"$f":"TERM4!AA40","v":0},{"$f":"TERM4!AC40","v":0},0,{"$f":"'FIN PAT MARK SHEET'!AD42","v":0},{"$f":"'FIN PAT MARK SHEET'!AE42","v":0},0,{"$f":"'FIN PAT MARK SHEET'!V42","v":0},{"$f":"'FIN PAT MARK SHEET'!W42","v":0},{"$f":"'FIN PAT MARK SHEET'!X42","v":0},{"$f":"'FIN PAT MARK SHEET'!Y42","v":0},{"$f":"'FIN PAT MARK SHEET'!Z42","v":0},{"$f":"'FIN PAT MARK SHEET'!AA42","v":0},0,{"$f":"'SASAMS TERM1'!L33","v":0},{"$f":"'SASAMS TERM2'!K33","v":0},{"$f":"'SASAMS TERM2'!N33","v":0},{"$f":"'SASAMS TERM3'!M33","v":0},0,0,0,0,0,"",null,null,0]
[26,26,{"$f":"INSERT!A28","v":0},{"$f":"INSERT!B28","v":0},{"$f":"INSERT!C28","v":0},{"$f":"INSERT!D28","v":0},{"$f":"INSERT!E28","v":0},{"$f":"TERM4!Z41","v":0},0,{"$f":"'SASAMS TERM2'!T34","v":0},{"$f":"'SASAMS TERM3'!T34","v":0},0,0,0,{"$f":"TERM4!AA41","v":0},{"$f":"TERM4!AC41","v":0},0,{"$f":"'FIN PAT MARK SHEET'!AD43","v":0},{"$f":"'FIN PAT MARK SHEET'!AE43","v":0},0,{"$f":"'FIN PAT MARK SHEET'!V43","v":0},{"$f":"'FIN PAT MARK SHEET'!W43","v":0},{"$f":"'FIN PAT MARK SHEET'!X43","v":0},{"$f":"'FIN PAT MARK SHEET'!Y43","v":0},{"$f":"'FIN PAT MARK SHEET'!Z43","v":0},{"$f":"'FIN PAT MARK SHEET'!AA43","v":0},0,{"$f":"'SASAMS TERM1'!L34","v":0},{"$f":"'SASAMS TERM2'!K34","v":0},{"$f":"'SASAMS TERM2'!N34","v":0},{"$f":"'SASAMS TERM3'!M34","v":0},0,0,0,0,0,"",null,null,0]
[27,28,{"$f":"INSERT!A29","v":0},{"$f":"INSERT!B29","v":0},{"$f":"INSERT!C29","v":0},{"$f":"INSERT!D29","v":0},{"$f":"INSERT!E29","v":0},{"$f":"TERM4!Z42","v":0},0,{"$f":"'SASAMS TERM2'!T35","v":0},{"$f":"'SASAMS TERM3'!T35","v":0},0,0,0,{"$f":"TERM4!AA42","v":0},{"$f":"TERM4!AC42","v":0},0,{"$f":"'FIN PAT MARK SHEET'!AD44","v":0},{"$f":"'FIN PAT MARK SHEET'!AE44","v":0},0,{"$f":"'FIN PAT MARK SHEET'!V44","v":0},{"$f":"'FIN PAT MARK SHEET'!W44","v":0},{"$f":"'FIN PAT MARK SHEET'!X44","v":0},{"$f":"'FIN PAT MARK SHEET'!Y44","v":0},{"$f":"'FIN PAT MARK SHEET'!Z44","v":0},{"$f":"'FIN PAT MARK SHEET'!AA44","v":0},0,{"$f":"'SASAMS TERM1'!L35","v":0},{"$f":"'SASAMS TERM2'!K35","v":0},{"$f":"'SASAMS TERM2'!N35","v":0},{"$f":"'SASAMS TERM3'!M35","v":0},0,0,0,0,0,"",null,null,0]
[28,29,{"$f":"INSERT!A30","v":0},{"$f":"INSERT!B30","v":0},{"$f":"INSERT!C30","v":0},{"$f":"INSERT!D30","v":0},{"$f":"INSERT!E30","v":0},{"$f":"TERM4!Z43","v":0},0,{"$f":"'SASAMS TERM2'!T36","v":0},{"$f":"'SASAMS TERM3'!T36","v":0},0,0,0,{"$f":"TERM4!AA43","v":0},{"$f":"TERM4!AC43","v":0},0,{"$f":"'FIN PAT MARK SHEET'!AD45","v":0},{"$f":"'FIN PAT MARK SHEET'!AE45","v":0},0,{"$f":"'FIN PAT MARK SHEET'!V45","v":0},{"$f":"'FIN PAT MARK SHEET'!W45","v":0},{"$f":"'FIN PAT MARK SHEET'!X45","v":0},{"$f":"'FIN PAT MARK SHEET'!Y45","v":0},{"$f":"'FIN PAT MARK SHEET'!Z45","v":0},{"$f":"'FIN PAT MARK SHEET'!AA45","v":0},0,{"$f":"'SASAMS TERM1'!L36","v":0},{"$f":"'SASAMS TERM2'!K36","v":0},{"$f":"'SASAMS TERM2'!N36","v":0},{"$f":"'SASAMS TERM3'!M36","v":0},0,0,0,0,0,"",null,null,0]
[29,30,{"$f":"INSERT!A31","v":0},{"$f":"INSERT!B31","v":0},{"$f":"INSERT!C31","v":0},{"$f":"INSERT!D31","v":0},{"$f":"INSERT!E31","v":0},{"$f":"TERM4!Z44","v":0},0,{"$f":"'SASAMS TERM2'!T37","v":0},{"$f":"'SASAMS TERM3'!T37","v":0},0,0,0,{"$f":"TERM4!AA44","v":0},{"$f":"TERM4!AC44","v":0},0,{"$f":"'FIN PAT MARK SHEET'!AD46","v":0},{"$f":"'FIN PAT MARK SHEET'!AE46","v":0},0,{"$f":"'FIN PAT MARK SHEET'!V46","v":0},{"$f":"'FIN PAT MARK SHEET'!W46","v":0},{"$f":"'FIN PAT MARK SHEET'!X46","v":0},{"$f":"'FIN PAT MARK SHEET'!Y46","v":0},{"$f":"'FIN PAT MARK SHEET'!Z46","v":0},{"$f":"'FIN PAT MARK SHEET'!AA46","v":0},0,{"$f":"'SASAMS TERM1'!L37","v":0},{"$f":"'SASAMS TERM2'!K37","v":0},{"$f":"'SASAMS TERM2'!N37","v":0},{"$f":"'SASAMS TERM3'!M37","v":0},0,0,0,0,0,"",null,null,0]
[30,31,{"$f":"INSERT!A32","v":0},{"$f":"INSERT!B32","v":0},{"$f":"INSERT!C32","v":0},{"$f":"INSERT!D32","v":0},{"$f":"INSERT!E32","v":0},{"$f":"TERM4!Z45","v":0},0,{"$f":"'SASAMS TERM2'!T38","v":0},{"$f":"'SASAMS TERM3'!T38","v":0},0,0,0,{"$f":"TERM4!AA45","v":0},{"$f":"TERM4!AC45","v":0},0,{"$f":"'FIN PAT MARK SHEET'!AD47","v":0},{"$f":"'FIN PAT MARK SHEET'!AE47","v":0},0,{"$f":"'FIN PAT MARK SHEET'!V47","v":0},{"$f":"'FIN PAT MARK SHEET'!W47","v":0},{"$f":"'FIN PAT MARK SHEET'!X47","v":0},{"$f":"'FIN PAT MARK SHEET'!Y47","v":0},{"$f":"'FIN PAT MARK SHEET'!Z47","v":0},{"$f":"'FIN PAT MARK SHEET'!AA47","v":0},0,{"$f":"'SASAMS TERM1'!L38","v":0},{"$f":"'SASAMS TERM2'!K38","v":0},{"$f":"'SASAMS TERM2'!N38","v":0},{"$f":"'SASAMS TERM3'!M38","v":0},0,0,0,0,0,"",null,null,0]
[31,32,{"$f":"INSERT!A33","v":0},{"$f":"INSERT!B33","v":0},{"$f":"INSERT!C33","v":0},{"$f":"INSERT!D33","v":0},{"$f":"INSERT!E33","v":0},{"$f":"TERM4!Z46","v":0},0,{"$f":"'SASAMS TERM2'!T39","v":0},{"$f":"'SASAMS TERM3'!T39","v":0},0,0,0,{"$f":"TERM4!AA46","v":0},{"$f":"TERM4!AC46","v":0},0,{"$f":"'FIN PAT MARK SHEET'!AD48","v":0},{"$f":"'FIN PAT MARK SHEET'!AE48","v":0},0,{"$f":"'FIN PAT MARK SHEET'!V48","v":0},{"$f":"'FIN PAT MARK SHEET'!W48","v":0},{"$f":"'FIN PAT MARK SHEET'!X48","v":0},{"$f":"'FIN PAT MARK SHEET'!Y48","v":0},{"$f":"'FIN PAT MARK SHEET'!Z48","v":0},{"$f":"'FIN PAT MARK SHEET'!AA48","v":0},0,{"$f":"'SASAMS TERM1'!L39","v":0},{"$f":"'SASAMS TERM2'!K39","v":0},{"$f":"'SASAMS TERM2'!N39","v":0},{"$f":"'SASAMS TERM3'!M39","v":0},0,0,0,0,0,"",null,null,0]
[32,33,{"$f":"INSERT!A34","v":0},{"$f":"INSERT!B34","v":0},{"$f":"INSERT!C34","v":0},{"$f":"INSERT!D34","v":0},{"$f":"INSERT!E34","v":0},{"$f":"TERM4!Z47","v":0},0,{"$f":"'SASAMS TERM2'!T40","v":0},{"$f":"'SASAMS TERM3'!T40","v":0},0,0,0,{"$f":"TERM4!AA47","v":0},{"$f":"TERM4!AC47","v":0},0,{"$f":"'FIN PAT MARK SHEET'!AD49","v":0},{"$f":"'FIN PAT MARK SHEET'!AE49","v":0},0,{"$f":"'FIN PAT MARK SHEET'!V49","v":0},{"$f":"'FIN PAT MARK SHEET'!W49","v":0},{"$f":"'FIN PAT MARK SHEET'!X49","v":0},{"$f":"'FIN PAT MARK SHEET'!Y49","v":0},{"$f":"'FIN PAT MARK SHEET'!Z49","v":0},{"$f":"'FIN PAT MARK SHEET'!AA49","v":0},0,{"$f":"'SASAMS TERM1'!L40","v":0},{"$f":"'SASAMS TERM2'!K40","v":0},{"$f":"'SASAMS TERM2'!N40","v":0},{"$f":"'SASAMS TERM3'!M40","v":0},0,0,0,0,0,"",null,null,0]
[33,34,{"$f":"INSERT!A35","v":0},{"$f":"INSERT!B35","v":0},{"$f":"INSERT!C35","v":0},{"$f":"INSERT!D35","v":0},{"$f":"INSERT!E35","v":0},{"$f":"TERM4!Z48","v":0},0,{"$f":"'SASAMS TERM2'!T41","v":0},{"$f":"'SASAMS TERM3'!T41","v":0},{"$f":"T42","v":0},{"$f":"AA42","v":0},0,{"$f":"TERM4!AA48","v":0},{"$f":"TERM4!AC48","v":0},0,{"$f":"'FIN PAT MARK SHEET'!AD50","v":0},{"$f":"'FIN PAT MARK SHEET'!AE50","v":0},0,{"$f":"'FIN PAT MARK SHEET'!V50","v":0},{"$f":"'FIN PAT MARK SHEET'!W50","v":0},{"$f":"'FIN PAT MARK SHEET'!X50","v":0},{"$f":"'FIN PAT MARK SHEET'!Y50","v":0},{"$f":"'FIN PAT MARK SHEET'!Z50","v":0},{"$f":"'FIN PAT MARK SHEET'!AA50","v":0},{"$f":"IF(AN42=4,SUMIF(U42:Z42,\">0\")/1.6,IF(AN42=6,SUMIF(U42:Z42,\">0\")/2.4,SUMIF(U42:Z42,\">0\")))","v":0},{"$f":"'SASAMS TERM1'!L41","v":0},{"$f":"'SASAMS TERM2'!K41","v":0},{"$f":"'SASAMS TERM2'!N41","v":0},{"$f":"'SASAMS TERM3'!M41","v":0},{"$f":"H42","v":0},0,0,0,0,"",null,null,{"$f":"COUNTIF(U42:Z42,\">0\")","v":0}]
[34,37,{"$f":"INSERT!A36","v":0},{"$f":"INSERT!B36","v":0},{"$f":"INSERT!C36","v":0},{"$f":"INSERT!D36","v":0},{"$f":"INSERT!E36","v":0},{"$f":"TERM4!Z49","v":0},0,{"$f":"'SASAMS TERM2'!T42","v":0},{"$f":"'SASAMS TERM3'!T42","v":0},0,0,0,{"$f":"TERM4!AA49","v":0},{"$f":"TERM4!AC49","v":0},0,{"$f":"'FIN PAT MARK SHEET'!AD51","v":0},{"$f":"'FIN PAT MARK SHEET'!AE51","v":0},0,{"$f":"'FIN PAT MARK SHEET'!V51","v":0},{"$f":"'FIN PAT MARK SHEET'!W51","v":0},{"$f":"'FIN PAT MARK SHEET'!X51","v":0},{"$f":"'FIN PAT MARK SHEET'!Y51","v":0},{"$f":"'FIN PAT MARK SHEET'!Z51","v":0},{"$f":"'FIN PAT MARK SHEET'!AA51","v":0},0,{"$f":"'SASAMS TERM1'!L42","v":0},{"$f":"'SASAMS TERM2'!K42","v":0},{"$f":"'SASAMS TERM2'!N42","v":0},{"$f":"'SASAMS TERM3'!M42","v":0},0,0,0,0,0,"",null,null,0]
[35,35,{"$f":"INSERT!A37","v":0},{"$f":"INSERT!B37","v":0},{"$f":"INSERT!C37","v":0},{"$f":"INSERT!D37","v":0},{"$f":"INSERT!E37","v":0},{"$f":"TERM4!Z50","v":0},0,{"$f":"'SASAMS TERM2'!T43","v":0},{"$f":"'SASAMS TERM3'!T43","v":0},0,0,0,{"$f":"TERM4!AA50","v":0},{"$f":"TERM4!AC50","v":0},0,{"$f":"'FIN PAT MARK SHEET'!AD52","v":0},{"$f":"'FIN PAT MARK SHEET'!AE52","v":0},0,{"$f":"'FIN PAT MARK SHEET'!V52","v":0},{"$f":"'FIN PAT MARK SHEET'!W52","v":0},{"$f":"'FIN PAT MARK SHEET'!X52","v":0},{"$f":"'FIN PAT MARK SHEET'!Y52","v":0},{"$f":"'FIN PAT MARK SHEET'!Z52","v":0},{"$f":"'FIN PAT MARK SHEET'!AA52","v":0},0,{"$f":"'SASAMS TERM1'!L43","v":0},{"$f":"'SASAMS TERM2'!K43","v":0},{"$f":"'SASAMS TERM2'!N43","v":0},{"$f":"'SASAMS TERM3'!M43","v":0},0,0,0,0,0,"",null,null,0]
[36,10,{"$f":"INSERT!A38","v":0},{"$f":"INSERT!B38","v":0},{"$f":"INSERT!C38","v":0},{"$f":"INSERT!D38","v":0},{"$f":"INSERT!E38","v":0},{"$f":"TERM4!Z51","v":0},0,{"$f":"'SASAMS TERM2'!T44","v":0},{"$f":"'SASAMS TERM3'!T44","v":0},0,0,0,{"$f":"TERM4!AA51","v":0},{"$f":"TERM4!AC51","v":0},0,{"$f":"'FIN PAT MARK SHEET'!AD53","v":0},{"$f":"'FIN PAT MARK SHEET'!AE53","v":0},0,{"$f":"'FIN PAT MARK SHEET'!V53","v":0},{"$f":"'FIN PAT MARK SHEET'!W53","v":0},{"$f":"'FIN PAT MARK SHEET'!X53","v":0},{"$f":"'FIN PAT MARK SHEET'!Y53","v":0},{"$f":"'FIN PAT MARK SHEET'!Z53","v":0},{"$f":"'FIN PAT MARK SHEET'!AA53","v":0},0,{"$f":"'SASAMS TERM1'!L44","v":0},{"$f":"'SASAMS TERM2'!K44","v":0},{"$f":"'SASAMS TERM2'!N44","v":0},{"$f":"'SASAMS TERM3'!M44","v":0},0,0,0,0,0,"",null,null,0]
[37,27,{"$f":"INSERT!A39","v":0},{"$f":"INSERT!B39","v":0},{"$f":"INSERT!C39","v":0},{"$f":"INSERT!D39","v":0},{"$f":"INSERT!E39","v":0},{"$f":"TERM4!Z52","v":0},0,{"$f":"'SASAMS TERM2'!T45","v":0},{"$f":"'SASAMS TERM3'!T45","v":0},0,0,0,{"$f":"TERM4!AA52","v":0},{"$f":"TERM4!AC52","v":0},0,{"$f":"'FIN PAT MARK SHEET'!AD54","v":0},{"$f":"'FIN PAT MARK SHEET'!AE54","v":0},0,{"$f":"'FIN PAT MARK SHEET'!V54","v":0},{"$f":"'FIN PAT MARK SHEET'!W54","v":0},{"$f":"'FIN PAT MARK SHEET'!X54","v":0},{"$f":"'FIN PAT MARK SHEET'!Y54","v":0},{"$f":"'FIN PAT MARK SHEET'!Z54","v":0},{"$f":"'FIN PAT MARK SHEET'!AA54","v":0},0,{"$f":"'SASAMS TERM1'!L45","v":0},{"$f":"'SASAMS TERM2'!K45","v":0},{"$f":"'SASAMS TERM2'!N45","v":0},{"$f":"'SASAMS TERM3'!M45","v":0},0,0,0,0,0,"",null,null,0]
[38,38,{"$f":"INSERT!A40","v":0},{"$f":"INSERT!B40","v":0},{"$f":"INSERT!C40","v":0},{"$f":"INSERT!D40","v":0},{"$f":"INSERT!E40","v":0},{"$f":"TERM4!Z53","v":0},0,{"$f":"'SASAMS TERM2'!T46","v":0},{"$f":"'SASAMS TERM3'!T46","v":0},0,0,0,{"$f":"TERM4!AA53","v":0},{"$f":"TERM4!AC53","v":0},0,{"$f":"'FIN PAT MARK SHEET'!AD55","v":0},{"$f":"'FIN PAT MARK SHEET'!AE55","v":0},0,{"$f":"'FIN PAT MARK SHEET'!V55","v":0},{"$f":"'FIN PAT MARK SHEET'!W55","v":0},{"$f":"'FIN PAT MARK SHEET'!X55","v":0},{"$f":"'FIN PAT MARK SHEET'!Y55","v":0},{"$f":"'FIN PAT MARK SHEET'!Z55","v":0},{"$f":"'FIN PAT MARK SHEET'!AA55","v":0},0,{"$f":"'SASAMS TERM1'!L46","v":0},{"$f":"'SASAMS TERM2'!K46","v":0},{"$f":"'SASAMS TERM2'!N46","v":0},{"$f":"'SASAMS TERM3'!M46","v":0},0,0,0,0,0,"",null,null,0]
[39,39,{"$f":"INSERT!A41","v":0},{"$f":"INSERT!B41","v":0},{"$f":"INSERT!C41","v":0},{"$f":"INSERT!D41","v":0},{"$f":"INSERT!E41","v":0},{"$f":"TERM4!Z54","v":0},0,{"$f":"'SASAMS TERM2'!T47","v":0},{"$f":"'SASAMS TERM3'!T47","v":0},0,0,0,{"$f":"TERM4!AA54","v":0},{"$f":"TERM4!AC54","v":0},0,{"$f":"'FIN PAT MARK SHEET'!AD56","v":0},{"$f":"'FIN PAT MARK SHEET'!AE56","v":0},0,{"$f":"'FIN PAT MARK SHEET'!V56","v":0},{"$f":"'FIN PAT MARK SHEET'!W56","v":0},{"$f":"'FIN PAT MARK SHEET'!X56","v":0},{"$f":"'FIN PAT MARK SHEET'!Y56","v":0},{"$f":"'FIN PAT MARK SHEET'!Z56","v":0},{"$f":"'FIN PAT MARK SHEET'!AA56","v":0},0,{"$f":"'SASAMS TERM1'!L47","v":0},{"$f":"'SASAMS TERM2'!K47","v":0},{"$f":"'SASAMS TERM2'!N47","v":0},{"$f":"'SASAMS TERM3'!M47","v":0},0,0,0,0,0,"",null,null,0]
[40,40,{"$f":"INSERT!A42","v":0},{"$f":"INSERT!B42","v":0},{"$f":"INSERT!C42","v":0},{"$f":"INSERT!D42","v":0},{"$f":"INSERT!E42","v":0},{"$f":"TERM4!Z55","v":0},0,{"$f":"'SASAMS TERM2'!T48","v":0},{"$f":"'SASAMS TERM3'!T48","v":0},0,0,0,{"$f":"TERM4!AA55","v":0},{"$f":"TERM4!AC55","v":0},0,{"$f":"'FIN PAT MARK SHEET'!AD57","v":0},{"$f":"'FIN PAT MARK SHEET'!AE57","v":0},0,{"$f":"'FIN PAT MARK SHEET'!V57","v":0},{"$f":"'FIN PAT MARK SHEET'!W57","v":0},{"$f":"'FIN PAT MARK SHEET'!X57","v":0},{"$f":"'FIN PAT MARK SHEET'!Y57","v":0},{"$f":"'FIN PAT MARK SHEET'!Z57","v":0},{"$f":"'FIN PAT MARK SHEET'!AA57","v":0},0,{"$f":"'SASAMS TERM1'!L48","v":0},{"$f":"'SASAMS TERM2'!K48","v":0},{"$f":"'SASAMS TERM2'!N48","v":0},{"$f":"'SASAMS TERM3'!M48","v":0},0,0,0,0,0,"",null,null,0]
[41,41,{"$f":"INSERT!A43","v":0},{"$f":"INSERT!B43","v":0},{"$f":"INSERT!C43","v":0},{"$f":"INSERT!D43","v":0},{"$f":"INSERT!E43","v":0},{"$f":"TERM4!Z56","v":0},0,{"$f":"'SASAMS TERM2'!T49","v":0},{"$f":"'SASAMS TERM3'!T49","v":0},0,0,0,{"$f":"TERM4!AA56","v":0},{"$f":"TERM4!AC56","v":0},0,{"$f":"'FIN PAT MARK SHEET'!AD58","v":0},{"$f":"'FIN PAT MARK SHEET'!AE58","v":0},0,{"$f":"'FIN PAT MARK SHEET'!V58","v":0},{"$f":"'FIN PAT MARK SHEET'!W58","v":0},{"$f":"'FIN PAT MARK SHEET'!X58","v":0},{"$f":"'FIN PAT MARK SHEET'!Y58","v":0},{"$f":"'FIN PAT MARK SHEET'!Z58","v":0},{"$f":"'FIN PAT MARK SHEET'!AA58","v":0},0,{"$f":"'SASAMS TERM1'!L49","v":0},{"$f":"'SASAMS TERM2'!K49","v":0},{"$f":"'SASAMS TERM2'!N49","v":0},{"$f":"'SASAMS TERM3'!M49","v":0},0,0,0,0,0,"",null,null,0]
[42,42,{"$f":"INSERT!A44","v":0},{"$f":"INSERT!B44","v":0},{"$f":"INSERT!C44","v":0},{"$f":"INSERT!D44","v":0},{"$f":"INSERT!E44","v":0},{"$f":"TERM4!Z57","v":0},0,{"$f":"'SASAMS TERM2'!T50","v":0},{"$f":"'SASAMS TERM3'!T50","v":0},0,0,0,{"$f":"TERM4!AA57","v":0},{"$f":"TERM4!AC57","v":0},0,{"$f":"'FIN PAT MARK SHEET'!AD59","v":0},{"$f":"'FIN PAT MARK SHEET'!AE59","v":0},0,{"$f":"'FIN PAT MARK SHEET'!V59","v":0},{"$f":"'FIN PAT MARK SHEET'!W59","v":0},{"$f":"'FIN PAT MARK SHEET'!X59","v":0},{"$f":"'FIN PAT MARK SHEET'!Y59","v":0},{"$f":"'FIN PAT MARK SHEET'!Z59","v":0},{"$f":"'FIN PAT MARK SHEET'!AA59","v":0},0,{"$f":"'SASAMS TERM1'!L50","v":0},{"$f":"'SASAMS TERM2'!K50","v":0},{"$f":"'SASAMS TERM2'!N50","v":0},{"$f":"'SASAMS TERM3'!M50","v":0},0,0,0,0,0,"",null,null,0]
[43,43,{"$f":"INSERT!A45","v":0},{"$f":"INSERT!B45","v":0},{"$f":"INSERT!C45","v":0},{"$f":"INSERT!D45","v":0},{"$f":"INSERT!E45","v":0},{"$f":"TERM4!Z58","v":0},0,{"$f":"'SASAMS TERM2'!T51","v":0},{"$f":"'SASAMS TERM3'!T51","v":0},0,0,0,{"$f":"TERM4!AA58","v":0},{"$f":"TERM4!AC58","v":0},0,{"$f":"'FIN PAT MARK SHEET'!AD60","v":0},{"$f":"'FIN PAT MARK SHEET'!AE60","v":0},0,{"$f":"'FIN PAT MARK SHEET'!V60","v":0},{"$f":"'FIN PAT MARK SHEET'!W60","v":0},{"$f":"'FIN PAT MARK SHEET'!X60","v":0},{"$f":"'FIN PAT MARK SHEET'!Y60","v":0},{"$f":"'FIN PAT MARK SHEET'!Z60","v":0},{"$f":"'FIN PAT MARK SHEET'!AA60","v":0},0,{"$f":"'SASAMS TERM1'!L51","v":0},{"$f":"'SASAMS TERM2'!K51","v":0},{"$f":"'SASAMS TERM2'!N51","v":0},{"$f":"'SASAMS TERM3'!M51","v":0},0,0,0,0,0,"",null,null,0]
[44,44,{"$f":"INSERT!A46","v":0},{"$f":"INSERT!B46","v":0},{"$f":"INSERT!C46","v":0},{"$f":"INSERT!D46","v":0},{"$f":"INSERT!E46","v":0},{"$f":"TERM4!Z59","v":0},0,{"$f":"'SASAMS TERM2'!T52","v":0},{"$f":"'SASAMS TERM3'!T52","v":0},0,0,0,{"$f":"TERM4!AA59","v":0},{"$f":"TERM4!AC59","v":0},0,{"$f":"'FIN PAT MARK SHEET'!AD61","v":0},{"$f":"'FIN PAT MARK SHEET'!AE61","v":0},0,{"$f":"'FIN PAT MARK SHEET'!V61","v":0},{"$f":"'FIN PAT MARK SHEET'!W61","v":0},{"$f":"'FIN PAT MARK SHEET'!X61","v":0},{"$f":"'FIN PAT MARK SHEET'!Y61","v":0},{"$f":"'FIN PAT MARK SHEET'!Z61","v":0},{"$f":"'FIN PAT MARK SHEET'!AA61","v":0},0,{"$f":"'SASAMS TERM1'!L52","v":0},{"$f":"'SASAMS TERM2'!K52","v":0},{"$f":"'SASAMS TERM2'!N52","v":0},{"$f":"'SASAMS TERM3'!M52","v":0},0,0,0,0,0,"",null,null,0]
[45,45,{"$f":"INSERT!A47","v":0},{"$f":"INSERT!B47","v":0},{"$f":"INSERT!C47","v":0},{"$f":"INSERT!D47","v":0},{"$f":"INSERT!E47","v":0},{"$f":"TERM4!Z60","v":0},0,{"$f":"'SASAMS TERM2'!T53","v":0},{"$f":"'SASAMS TERM3'!T53","v":0},0,0,0,{"$f":"TERM4!AA60","v":0},{"$f":"TERM4!AC60","v":0},0,{"$f":"'FIN PAT MARK SHEET'!AD62","v":0},{"$f":"'FIN PAT MARK SHEET'!AE62","v":0},0,{"$f":"'FIN PAT MARK SHEET'!V62","v":0},{"$f":"'FIN PAT MARK SHEET'!W62","v":0},{"$f":"'FIN PAT MARK SHEET'!X62","v":0},{"$f":"'FIN PAT MARK SHEET'!Y62","v":0},{"$f":"'FIN PAT MARK SHEET'!Z62","v":0},{"$f":"'FIN PAT MARK SHEET'!AA62","v":0},0,{"$f":"'SASAMS TERM1'!L53","v":0},{"$f":"'SASAMS TERM2'!K53","v":0},{"$f":"'SASAMS TERM2'!N53","v":0},{"$f":"'SASAMS TERM3'!M53","v":0},0,0,0,0,0,"",null,null,0]
[46,46,{"$f":"INSERT!A48","v":0},{"$f":"INSERT!B48","v":0},{"$f":"INSERT!C48","v":0},{"$f":"INSERT!D48","v":0},{"$f":"INSERT!E48","v":0},{"$f":"TERM4!Z61","v":0},0,{"$f":"'SASAMS TERM2'!T54","v":0},{"$f":"'SASAMS TERM3'!T54","v":0},0,0,0,{"$f":"TERM4!AA61","v":0},{"$f":"TERM4!AC61","v":0},0,{"$f":"'FIN PAT MARK SHEET'!AD63","v":0},{"$f":"'FIN PAT MARK SHEET'!AE63","v":0},0,{"$f":"'FIN PAT MARK SHEET'!V63","v":0},{"$f":"'FIN PAT MARK SHEET'!W63","v":0},{"$f":"'FIN PAT MARK SHEET'!X63","v":0},{"$f":"'FIN PAT MARK SHEET'!Y63","v":0},{"$f":"'FIN PAT MARK SHEET'!Z63","v":0},{"$f":"'FIN PAT MARK SHEET'!AA63","v":0},0,{"$f":"'SASAMS TERM1'!L54","v":0},{"$f":"'SASAMS TERM2'!K54","v":0},{"$f":"'SASAMS TERM2'!N54","v":0},{"$f":"'SASAMS TERM3'!M54","v":0},0,0,0,0,0,"",null,null,0]
[47,47,{"$f":"INSERT!A49","v":0},{"$f":"INSERT!B49","v":0},{"$f":"INSERT!C49","v":0},{"$f":"INSERT!D49","v":0},{"$f":"INSERT!E49","v":0},{"$f":"TERM4!Z62","v":0},0,{"$f":"'SASAMS TERM2'!T55","v":0},{"$f":"'SASAMS TERM3'!T55","v":0},0,0,0,{"$f":"TERM4!AA62","v":0},{"$f":"TERM4!AC62","v":0},0,{"$f":"'FIN PAT MARK SHEET'!AD64","v":0},{"$f":"'FIN PAT MARK SHEET'!AE64","v":0},0,{"$f":"'FIN PAT MARK SHEET'!V64","v":0},{"$f":"'FIN PAT MARK SHEET'!W64","v":0},{"$f":"'FIN PAT MARK SHEET'!X64","v":0},{"$f":"'FIN PAT MARK SHEET'!Y64","v":0},{"$f":"'FIN PAT MARK SHEET'!Z64","v":0},{"$f":"'FIN PAT MARK SHEET'!AA64","v":0},0,{"$f":"'SASAMS TERM1'!L55","v":0},{"$f":"'SASAMS TERM2'!K55","v":0},{"$f":"'SASAMS TERM2'!N55","v":0},{"$f":"'SASAMS TERM3'!M55","v":0},0,0,0,0,0,"",null,null,0]
[48,48,{"$f":"INSERT!A50","v":0},{"$f":"INSERT!B50","v":0},{"$f":"INSERT!C50","v":0},{"$f":"INSERT!D50","v":0},{"$f":"INSERT!E50","v":0},{"$f":"TERM4!Z63","v":0},0,{"$f":"'SASAMS TERM2'!T56","v":0},{"$f":"'SASAMS TERM3'!T56","v":0},0,0,0,{"$f":"TERM4!AA63","v":0},{"$f":"TERM4!AC63","v":0},0,{"$f":"'FIN PAT MARK SHEET'!AD65","v":0},{"$f":"'FIN PAT MARK SHEET'!AE65","v":0},0,{"$f":"'FIN PAT MARK SHEET'!V65","v":0},{"$f":"'FIN PAT MARK SHEET'!W65","v":0},{"$f":"'FIN PAT MARK SHEET'!X65","v":0},{"$f":"'FIN PAT MARK SHEET'!Y65","v":0},{"$f":"'FIN PAT MARK SHEET'!Z65","v":0},{"$f":"'FIN PAT MARK SHEET'!AA65","v":0},0,{"$f":"'SASAMS TERM1'!L56","v":0},{"$f":"'SASAMS TERM2'!K56","v":0},{"$f":"'SASAMS TERM2'!N56","v":0},{"$f":"'SASAMS TERM3'!M56","v":0},0,0,0,0,0,"",null,null,0]
[49,49,{"$f":"INSERT!A51","v":0},{"$f":"INSERT!B51","v":0},{"$f":"INSERT!C51","v":0},{"$f":"INSERT!D51","v":0},{"$f":"INSERT!E51","v":0},{"$f":"TERM4!Z64","v":0},0,{"$f":"'SASAMS TERM2'!T57","v":0},{"$f":"'SASAMS TERM3'!T57","v":0},0,0,0,{"$f":"TERM4!AA64","v":0},{"$f":"TERM4!AC64","v":0},0,{"$f":"'FIN PAT MARK SHEET'!AD66","v":0},{"$f":"'FIN PAT MARK SHEET'!AE66","v":0},0,{"$f":"'FIN PAT MARK SHEET'!V66","v":0},{"$f":"'FIN PAT MARK SHEET'!W66","v":0},{"$f":"'FIN PAT MARK SHEET'!X66","v":0},{"$f":"'FIN PAT MARK SHEET'!Y66","v":0},{"$f":"'FIN PAT MARK SHEET'!Z66","v":0},{"$f":"'FIN PAT MARK SHEET'!AA66","v":0},0,{"$f":"'SASAMS TERM1'!L57","v":0},{"$f":"'SASAMS TERM2'!K57","v":0},{"$f":"'SASAMS TERM2'!N57","v":0},{"$f":"'SASAMS TERM3'!M57","v":0},0,0,0,0,0,"",null,null,0]
[50,50,{"$f":"INSERT!A52","v":0},{"$f":"INSERT!B52","v":0},{"$f":"INSERT!C52","v":0},{"$f":"INSERT!D52","v":0},{"$f":"INSERT!E52","v":0},{"$f":"TERM4!Z65","v":0},0,{"$f":"'SASAMS TERM2'!T58","v":0},{"$f":"'SASAMS TERM3'!T58","v":0},0,0,0,{"$f":"TERM4!AA65","v":0},{"$f":"TERM4!AC65","v":0},0,{"$f":"'FIN PAT MARK SHEET'!AD67","v":0},{"$f":"'FIN PAT MARK SHEET'!AE67","v":0},0,{"$f":"'FIN PAT MARK SHEET'!V67","v":0},{"$f":"'FIN PAT MARK SHEET'!W67","v":0},{"$f":"'FIN PAT MARK SHEET'!X67","v":0},{"$f":"'FIN PAT MARK SHEET'!Y67","v":0},{"$f":"'FIN PAT MARK SHEET'!Z67","v":0},{"$f":"'FIN PAT MARK SHEET'!AA67","v":0},0,{"$f":"'SASAMS TERM1'!L58","v":0},{"$f":"'SASAMS TERM2'!K58","v":0},{"$f":"'SASAMS TERM2'!N58","v":0},{"$f":"'SASAMS TERM3'!M58","v":0},0,0,0,0,0,"",null,null,0]
[51,51,{"$f":"INSERT!A53","v":0},{"$f":"INSERT!B53","v":0},{"$f":"INSERT!C53","v":0},{"$f":"INSERT!D53","v":0},{"$f":"INSERT!E53","v":0},{"$f":"TERM4!Z66","v":0},0,{"$f":"'SASAMS TERM2'!T59","v":0},{"$f":"'SASAMS TERM3'!T59","v":0},0,0,0,{"$f":"TERM4!AA66","v":0},{"$f":"TERM4!AC66","v":0},0,{"$f":"'FIN PAT MARK SHEET'!AD68","v":0},{"$f":"'FIN PAT MARK SHEET'!AE68","v":0},0,{"$f":"'FIN PAT MARK SHEET'!V68","v":0},{"$f":"'FIN PAT MARK SHEET'!W68","v":0},{"$f":"'FIN PAT MARK SHEET'!X68","v":0},{"$f":"'FIN PAT MARK SHEET'!Y68","v":0},{"$f":"'FIN PAT MARK SHEET'!Z68","v":0},{"$f":"'FIN PAT MARK SHEET'!AA68","v":0},0,{"$f":"'SASAMS TERM1'!L59","v":0},{"$f":"'SASAMS TERM2'!K59","v":0},{"$f":"'SASAMS TERM2'!N59","v":0},{"$f":"'SASAMS TERM3'!M59","v":0},0,0,0,0,0,"",null,null,0]
[52,52,{"$f":"INSERT!A54","v":0},{"$f":"INSERT!B54","v":0},{"$f":"INSERT!C54","v":0},{"$f":"INSERT!D54","v":0},{"$f":"INSERT!E54","v":0},{"$f":"TERM4!Z67","v":0},0,{"$f":"'SASAMS TERM2'!T60","v":0},{"$f":"'SASAMS TERM3'!T60","v":0},0,0,0,{"$f":"TERM4!AA67","v":0},{"$f":"TERM4!AC67","v":0},0,{"$f":"'FIN PAT MARK SHEET'!AD69","v":0},{"$f":"'FIN PAT MARK SHEET'!AE69","v":0},0,{"$f":"'FIN PAT MARK SHEET'!V69","v":0},{"$f":"'FIN PAT MARK SHEET'!W69","v":0},{"$f":"'FIN PAT MARK SHEET'!X69","v":0},{"$f":"'FIN PAT MARK SHEET'!Y69","v":0},{"$f":"'FIN PAT MARK SHEET'!Z69","v":0},{"$f":"'FIN PAT MARK SHEET'!AA69","v":0},0,{"$f":"'SASAMS TERM1'!L60","v":0},{"$f":"'SASAMS TERM2'!K60","v":0},{"$f":"'SASAMS TERM2'!N60","v":0},{"$f":"'SASAMS TERM3'!M60","v":0},0,0,0,0,0,"",null,null,0]
[53,53,{"$f":"INSERT!A55","v":0},{"$f":"INSERT!B55","v":0},{"$f":"INSERT!C55","v":0},{"$f":"INSERT!D55","v":0},{"$f":"INSERT!E55","v":0},{"$f":"TERM4!Z68","v":0},0,{"$f":"'SASAMS TERM2'!T61","v":0},{"$f":"'SASAMS TERM3'!T61","v":0},0,0,0,{"$f":"TERM4!AA68","v":0},{"$f":"TERM4!AC68","v":0},0,{"$f":"'FIN PAT MARK SHEET'!AD70","v":0},{"$f":"'FIN PAT MARK SHEET'!AE70","v":0},0,{"$f":"'FIN PAT MARK SHEET'!V70","v":0},{"$f":"'FIN PAT MARK SHEET'!W70","v":0},{"$f":"'FIN PAT MARK SHEET'!X70","v":0},{"$f":"'FIN PAT MARK SHEET'!Y70","v":0},{"$f":"'FIN PAT MARK SHEET'!Z70","v":0},{"$f":"'FIN PAT MARK SHEET'!AA70","v":0},0,{"$f":"'SASAMS TERM1'!L61","v":0},{"$f":"'SASAMS TERM2'!K61","v":0},{"$f":"'SASAMS TERM2'!N61","v":0},{"$f":"'SASAMS TERM3'!M61","v":0},0,0,0,0,0,"",null,null,0]
[54,54,{"$f":"INSERT!A56","v":0},{"$f":"INSERT!B56","v":0},{"$f":"INSERT!C56","v":0},{"$f":"INSERT!D56","v":0},{"$f":"INSERT!E56","v":0},{"$f":"TERM4!Z69","v":0},0,{"$f":"'SASAMS TERM2'!T62","v":0},{"$f":"'SASAMS TERM3'!T62","v":0},0,0,0,{"$f":"TERM4!AA69","v":0},{"$f":"TERM4!AC69","v":0},0,{"$f":"'FIN PAT MARK SHEET'!AD71","v":0},{"$f":"'FIN PAT MARK SHEET'!AE71","v":0},0,{"$f":"'FIN PAT MARK SHEET'!V71","v":0},{"$f":"'FIN PAT MARK SHEET'!W71","v":0},{"$f":"'FIN PAT MARK SHEET'!X71","v":0},{"$f":"'FIN PAT MARK SHEET'!Y71","v":0},{"$f":"'FIN PAT MARK SHEET'!Z71","v":0},{"$f":"'FIN PAT MARK SHEET'!AA71","v":0},0,{"$f":"'SASAMS TERM1'!L62","v":0},{"$f":"'SASAMS TERM2'!K62","v":0},{"$f":"'SASAMS TERM2'!N62","v":0},{"$f":"'SASAMS TERM3'!M62","v":0},0,0,0,0,0,"",null,null,0]
[55,55,{"$f":"INSERT!A57","v":0},{"$f":"INSERT!B57","v":0},{"$f":"INSERT!C57","v":0},{"$f":"INSERT!D57","v":0},{"$f":"INSERT!E57","v":0},{"$f":"TERM4!Z70","v":0},0,{"$f":"'SASAMS TERM2'!T63","v":0},{"$f":"'SASAMS TERM3'!T63","v":0},0,0,0,{"$f":"TERM4!AA70","v":0},{"$f":"TERM4!AC70","v":0},0,{"$f":"'FIN PAT MARK SHEET'!AD72","v":0},{"$f":"'FIN PAT MARK SHEET'!AE72","v":0},0,{"$f":"'FIN PAT MARK SHEET'!V72","v":0},{"$f":"'FIN PAT MARK SHEET'!W72","v":0},{"$f":"'FIN PAT MARK SHEET'!X72","v":0},{"$f":"'FIN PAT MARK SHEET'!Y72","v":0},{"$f":"'FIN PAT MARK SHEET'!Z72","v":0},{"$f":"'FIN PAT MARK SHEET'!AA72","v":0},0,{"$f":"'SASAMS TERM1'!L63","v":0},{"$f":"'SASAMS TERM2'!K63","v":0},{"$f":"'SASAMS TERM2'!N63","v":0},{"$f":"'SASAMS TERM3'!M63","v":0},0,0,0,0,0,"",null,null,0]
[56,56,{"$f":"INSERT!A58","v":0},{"$f":"INSERT!B58","v":0},{"$f":"INSERT!C58","v":0},{"$f":"INSERT!D58","v":0},{"$f":"INSERT!E58","v":0},{"$f":"TERM4!Z71","v":0},0,{"$f":"'SASAMS TERM2'!T64","v":0},{"$f":"'SASAMS TERM3'!T64","v":0},0,0,0,{"$f":"TERM4!AA71","v":0},{"$f":"TERM4!AC71","v":0},0,{"$f":"'FIN PAT MARK SHEET'!AD73","v":0},{"$f":"'FIN PAT MARK SHEET'!AE73","v":0},0,{"$f":"'FIN PAT MARK SHEET'!V73","v":0},{"$f":"'FIN PAT MARK SHEET'!W73","v":0},{"$f":"'FIN PAT MARK SHEET'!X73","v":0},{"$f":"'FIN PAT MARK SHEET'!Y73","v":0},{"$f":"'FIN PAT MARK SHEET'!Z73","v":0},{"$f":"'FIN PAT MARK SHEET'!AA73","v":0},0,{"$f":"'SASAMS TERM1'!L64","v":0},{"$f":"'SASAMS TERM2'!K64","v":0},{"$f":"'SASAMS TERM2'!N64","v":0},{"$f":"'SASAMS TERM3'!M64","v":0},0,0,0,0,0,"",null,null,0]
[57,57,{"$f":"INSERT!A59","v":0},{"$f":"INSERT!B59","v":0},{"$f":"INSERT!C59","v":0},{"$f":"INSERT!D59","v":0},{"$f":"INSERT!E59","v":0},{"$f":"TERM4!Z72","v":0},0,{"$f":"'SASAMS TERM2'!T65","v":0},{"$f":"'SASAMS TERM3'!T65","v":0},0,0,0,{"$f":"TERM4!AA72","v":0},{"$f":"TERM4!AC72","v":0},0,{"$f":"'FIN PAT MARK SHEET'!AD74","v":0},{"$f":"'FIN PAT MARK SHEET'!AE74","v":0},0,{"$f":"'FIN PAT MARK SHEET'!V74","v":0},{"$f":"'FIN PAT MARK SHEET'!W74","v":0},{"$f":"'FIN PAT MARK SHEET'!X74","v":0},{"$f":"'FIN PAT MARK SHEET'!Y74","v":0},{"$f":"'FIN PAT MARK SHEET'!Z74","v":0},{"$f":"'FIN PAT MARK SHEET'!AA74","v":0},0,{"$f":"'SASAMS TERM1'!L65","v":0},{"$f":"'SASAMS TERM2'!K65","v":0},{"$f":"'SASAMS TERM2'!N65","v":0},{"$f":"'SASAMS TERM3'!M65","v":0},0,0,0,0,0,"",null,null,0]
[58,58,{"$f":"INSERT!A60","v":0},{"$f":"INSERT!B60","v":0},{"$f":"INSERT!C60","v":0},{"$f":"INSERT!D60","v":0},{"$f":"INSERT!E60","v":0},{"$f":"TERM4!Z73","v":0},0,{"$f":"'SASAMS TERM2'!T66","v":0},{"$f":"'SASAMS TERM3'!T66","v":0},0,0,0,{"$f":"TERM4!AA73","v":0},{"$f":"TERM4!AC73","v":0},0,{"$f":"'FIN PAT MARK SHEET'!AD75","v":0},{"$f":"'FIN PAT MARK SHEET'!AE75","v":0},0,{"$f":"'FIN PAT MARK SHEET'!V75","v":0},{"$f":"'FIN PAT MARK SHEET'!W75","v":0},{"$f":"'FIN PAT MARK SHEET'!X75","v":0},{"$f":"'FIN PAT MARK SHEET'!Y75","v":0},{"$f":"'FIN PAT MARK SHEET'!Z75","v":0},{"$f":"'FIN PAT MARK SHEET'!AA75","v":0},0,{"$f":"'SASAMS TERM1'!L66","v":0},{"$f":"'SASAMS TERM2'!K66","v":0},{"$f":"'SASAMS TERM2'!N66","v":0},{"$f":"'SASAMS TERM3'!M66","v":0},0,0,0,0,0,"",null,null,0]
[59,59,{"$f":"INSERT!A61","v":0},{"$f":"INSERT!B61","v":0},{"$f":"INSERT!C61","v":0},{"$f":"INSERT!D61","v":0},{"$f":"INSERT!E61","v":0},{"$f":"TERM4!Z74","v":0},0,{"$f":"'SASAMS TERM2'!T67","v":0},{"$f":"'SASAMS TERM3'!T67","v":0},0,0,0,{"$f":"TERM4!AA74","v":0},{"$f":"TERM4!AC74","v":0},0,{"$f":"'FIN PAT MARK SHEET'!AD76","v":0},{"$f":"'FIN PAT MARK SHEET'!AE76","v":0},0,{"$f":"'FIN PAT MARK SHEET'!V76","v":0},{"$f":"'FIN PAT MARK SHEET'!W76","v":0},{"$f":"'FIN PAT MARK SHEET'!X76","v":0},{"$f":"'FIN PAT MARK SHEET'!Y76","v":0},{"$f":"'FIN PAT MARK SHEET'!Z76","v":0},{"$f":"'FIN PAT MARK SHEET'!AA76","v":0},0,{"$f":"'SASAMS TERM1'!L67","v":0},{"$f":"'SASAMS TERM2'!K67","v":0},{"$f":"'SASAMS TERM2'!N67","v":0},{"$f":"'SASAMS TERM3'!M67","v":0},0,0,0,0,0,"",null,null,0]
[60,60,{"$f":"INSERT!A62","v":0},{"$f":"INSERT!B62","v":0},{"$f":"INSERT!C62","v":0},{"$f":"INSERT!D62","v":0},{"$f":"INSERT!E62","v":0},{"$f":"TERM4!Z75","v":0},0,{"$f":"'SASAMS TERM2'!T68","v":0},{"$f":"'SASAMS TERM3'!T68","v":0},0,0,0,{"$f":"TERM4!AA75","v":0},{"$f":"TERM4!AC75","v":0},0,{"$f":"'FIN PAT MARK SHEET'!AD77","v":0},{"$f":"'FIN PAT MARK SHEET'!AE77","v":0},0,{"$f":"'FIN PAT MARK SHEET'!V77","v":0},{"$f":"'FIN PAT MARK SHEET'!W77","v":0},{"$f":"'FIN PAT MARK SHEET'!X77","v":0},{"$f":"'FIN PAT MARK SHEET'!Y77","v":0},{"$f":"'FIN PAT MARK SHEET'!Z77","v":0},{"$f":"'FIN PAT MARK SHEET'!AA77","v":0},0,{"$f":"'SASAMS TERM1'!L68","v":0},{"$f":"'SASAMS TERM2'!K68","v":0},{"$f":"'SASAMS TERM2'!N68","v":0},{"$f":"'SASAMS TERM3'!M68","v":0},0,0,0,0,0,"",null,null,0]
[61,61,{"$f":"INSERT!A63","v":0},{"$f":"INSERT!B63","v":0},{"$f":"INSERT!C63","v":0},{"$f":"INSERT!D63","v":0},{"$f":"INSERT!E63","v":0},{"$f":"TERM4!Z76","v":0},0,{"$f":"'SASAMS TERM2'!T69","v":0},{"$f":"'SASAMS TERM3'!T69","v":0},0,0,0,{"$f":"TERM4!AA76","v":0},{"$f":"TERM4!AC76","v":0},0,{"$f":"'FIN PAT MARK SHEET'!AD78","v":0},{"$f":"'FIN PAT MARK SHEET'!AE78","v":0},0,{"$f":"'FIN PAT MARK SHEET'!V78","v":0},{"$f":"'FIN PAT MARK SHEET'!W78","v":0},{"$f":"'FIN PAT MARK SHEET'!X78","v":0},{"$f":"'FIN PAT MARK SHEET'!Y78","v":0},{"$f":"'FIN PAT MARK SHEET'!Z78","v":0},{"$f":"'FIN PAT MARK SHEET'!AA78","v":0},0,{"$f":"'SASAMS TERM1'!L69","v":0},{"$f":"'SASAMS TERM2'!K69","v":0},{"$f":"'SASAMS TERM2'!N69","v":0},{"$f":"'SASAMS TERM3'!M69","v":0},0,0,0,0,0,"",null,null,0]
[62,62,{"$f":"INSERT!A64","v":0},{"$f":"INSERT!B64","v":0},{"$f":"INSERT!C64","v":0},{"$f":"INSERT!D64","v":0},{"$f":"INSERT!E64","v":0},{"$f":"TERM4!Z77","v":0},0,{"$f":"'SASAMS TERM2'!T70","v":0},{"$f":"'SASAMS TERM3'!T70","v":0},0,0,0,{"$f":"TERM4!AA77","v":0},{"$f":"TERM4!AC77","v":0},0,{"$f":"'FIN PAT MARK SHEET'!AD79","v":0},{"$f":"'FIN PAT MARK SHEET'!AE79","v":0},0,{"$f":"'FIN PAT MARK SHEET'!V79","v":0},{"$f":"'FIN PAT MARK SHEET'!W79","v":0},{"$f":"'FIN PAT MARK SHEET'!X79","v":0},{"$f":"'FIN PAT MARK SHEET'!Y79","v":0},{"$f":"'FIN PAT MARK SHEET'!Z79","v":0},{"$f":"'FIN PAT MARK SHEET'!AA79","v":0},0,{"$f":"'SASAMS TERM1'!L70","v":0},{"$f":"'SASAMS TERM2'!K70","v":0},{"$f":"'SASAMS TERM2'!N70","v":0},{"$f":"'SASAMS TERM3'!M70","v":0},0,0,0,0,0,"",null,null,0]
[63,63,{"$f":"INSERT!A65","v":0},{"$f":"INSERT!B65","v":0},{"$f":"INSERT!C65","v":0},{"$f":"INSERT!D65","v":0},{"$f":"INSERT!E65","v":0},{"$f":"TERM4!Z78","v":0},0,{"$f":"'SASAMS TERM2'!T71","v":0},{"$f":"'SASAMS TERM3'!T71","v":0},0,0,0,{"$f":"TERM4!AA78","v":0},{"$f":"TERM4!AC78","v":0},0,{"$f":"'FIN PAT MARK SHEET'!AD80","v":0},{"$f":"'FIN PAT MARK SHEET'!AE80","v":0},0,{"$f":"'FIN PAT MARK SHEET'!V80","v":0},{"$f":"'FIN PAT MARK SHEET'!W80","v":0},{"$f":"'FIN PAT MARK SHEET'!X80","v":0},{"$f":"'FIN PAT MARK SHEET'!Y80","v":0},{"$f":"'FIN PAT MARK SHEET'!Z80","v":0},{"$f":"'FIN PAT MARK SHEET'!AA80","v":0},0,{"$f":"'SASAMS TERM1'!L71","v":0},{"$f":"'SASAMS TERM2'!K71","v":0},{"$f":"'SASAMS TERM2'!N71","v":0},{"$f":"'SASAMS TERM3'!M71","v":0},0,0,0,0,0,"",null,null,0]
[64,64,{"$f":"INSERT!A66","v":0},{"$f":"INSERT!B66","v":0},{"$f":"INSERT!C66","v":0},{"$f":"INSERT!D66","v":0},{"$f":"INSERT!E66","v":0},{"$f":"TERM4!Z79","v":0},0,{"$f":"'SASAMS TERM2'!T72","v":0},{"$f":"'SASAMS TERM3'!T72","v":0},0,0,0,{"$f":"TERM4!AA79","v":0},{"$f":"TERM4!AC79","v":0},0,{"$f":"'FIN PAT MARK SHEET'!AD81","v":0},{"$f":"'FIN PAT MARK SHEET'!AE81","v":0},0,{"$f":"'FIN PAT MARK SHEET'!V81","v":0},{"$f":"'FIN PAT MARK SHEET'!W81","v":0},{"$f":"'FIN PAT MARK SHEET'!X81","v":0},{"$f":"'FIN PAT MARK SHEET'!Y81","v":0},{"$f":"'FIN PAT MARK SHEET'!Z81","v":0},{"$f":"'FIN PAT MARK SHEET'!AA81","v":0},0,{"$f":"'SASAMS TERM1'!L72","v":0},{"$f":"'SASAMS TERM2'!K72","v":0},{"$f":"'SASAMS TERM2'!N72","v":0},{"$f":"'SASAMS TERM3'!M72","v":0},0,0,0,0,0,"",null,null,0]
[65,65,{"$f":"INSERT!A67","v":0},{"$f":"INSERT!B67","v":0},{"$f":"INSERT!C67","v":0},{"$f":"INSERT!D67","v":0},{"$f":"INSERT!E67","v":0},{"$f":"TERM4!Z80","v":0},0,{"$f":"'SASAMS TERM2'!T73","v":0},{"$f":"'SASAMS TERM3'!T73","v":0},{"$f":"T74","v":0},{"$f":"AA74","v":0},0,{"$f":"TERM4!AA80","v":0},{"$f":"TERM4!AC80","v":0},0,{"$f":"'FIN PAT MARK SHEET'!AD82","v":0},{"$f":"'FIN PAT MARK SHEET'!AE82","v":0},0,{"$f":"'FIN PAT MARK SHEET'!V82","v":0},{"$f":"'FIN PAT MARK SHEET'!W82","v":0},{"$f":"'FIN PAT MARK SHEET'!X82","v":0},{"$f":"'FIN PAT MARK SHEET'!Y82","v":0},{"$f":"'FIN PAT MARK SHEET'!Z82","v":0},{"$f":"'FIN PAT MARK SHEET'!AA82","v":0},{"$f":"IF(AN74=4,SUMIF(U74:Z74,\">0\")/1.6,IF(AN74=6,SUMIF(U74:Z74,\">0\")/2.4,SUMIF(U74:Z74,\">0\")))","v":0},{"$f":"'SASAMS TERM1'!L73","v":0},{"$f":"'SASAMS TERM2'!K73","v":0},{"$f":"'SASAMS TERM2'!N73","v":0},{"$f":"'SASAMS TERM3'!M73","v":0},{"$f":"H74","v":0},0,0,0,0,{"$f":"IF(AJ74>79,\"7\",IF(AJ74>69,\"6\",IF(AJ74>59,\"5\",IF(AJ74>49,\"4\",IF(AJ74>39,\"3\",IF(AJ74>29,\"2\",IF(AJ74>0,\"1\",IF(AJ74=0,\"\"))))))))","v":""},null,null,{"$f":"COUNTIF(U74:Z74,\">0\")","v":0}]
[66,66,{"$f":"INSERT!A68","v":0},{"$f":"INSERT!B68","v":0},{"$f":"INSERT!C68","v":0},{"$f":"INSERT!D68","v":0},{"$f":"INSERT!E68","v":0},{"$f":"TERM4!Z81","v":0},{"$f":"H75","v":0},{"$f":"'SASAMS TERM2'!T74","v":0},{"$f":"'SASAMS TERM3'!T74","v":0},0,0,{"$f":"SUM(J75:M75)","v":0},{"$f":"TERM4!AA81","v":0},{"$f":"TERM4!AC81","v":0},{"$f":"SUM(O75:P75)","v":0},{"$f":"'FIN PAT MARK SHEET'!AD83","v":0},{"$f":"'FIN PAT MARK SHEET'!AE83","v":0},{"$f":"SUMIF(R75:S75,\">0\")/1.818181818","v":0},{"$f":"'FIN PAT MARK SHEET'!V83","v":0},{"$f":"'FIN PAT MARK SHEET'!W83","v":0},{"$f":"'FIN PAT MARK SHEET'!X83","v":0},{"$f":"'FIN PAT MARK SHEET'!Y83","v":0},{"$f":"'FIN PAT MARK SHEET'!Z83","v":0},{"$f":"'FIN PAT MARK SHEET'!AA83","v":0},0,{"$f":"'SASAMS TERM1'!L74","v":0},{"$f":"'SASAMS TERM2'!K74","v":0},{"$f":"'SASAMS TERM2'!N74","v":0},{"$f":"'SASAMS TERM3'!M74","v":0},0,{"$f":"SUM(AB75:AF75)","v":0},{"$f":"SUM(AB75/3.076923076)+SUM(AC75/3.333333333)+SUM(AD75/2.5)+SUM(AE75/3.333333333)+SUM(AF75/3.333333333)","v":0},{"$f":"SUM(AH75/2.5)+SUM(Q75/5)+SUM(N75/5)","v":0},{"$f":"SUM(AI75,0)","v":0},"",null,null,0]
[67,67,{"$f":"INSERT!A69","v":0},{"$f":"INSERT!B69","v":0},{"$f":"INSERT!C69","v":0},{"$f":"INSERT!D69","v":0},{"$f":"INSERT!E69","v":0},{"$f":"TERM4!Z82","v":0},0,{"$f":"'SASAMS TERM2'!T75","v":0},{"$f":"'SASAMS TERM3'!T75","v":0},0,0,0,{"$f":"TERM4!AA82","v":0},{"$f":"TERM4!AC82","v":0},0,{"$f":"'FIN PAT MARK SHEET'!AD84","v":0},{"$f":"'FIN PAT MARK SHEET'!AE84","v":0},0,{"$f":"'FIN PAT MARK SHEET'!V84","v":0},{"$f":"'FIN PAT MARK SHEET'!W84","v":0},{"$f":"'FIN PAT MARK SHEET'!X84","v":0},{"$f":"'FIN PAT MARK SHEET'!Y84","v":0},{"$f":"'FIN PAT MARK SHEET'!Z84","v":0},{"$f":"'FIN PAT MARK SHEET'!AA84","v":0},0,{"$f":"'SASAMS TERM1'!L75","v":0},{"$f":"'SASAMS TERM2'!K75","v":0},{"$f":"'SASAMS TERM2'!N75","v":0},{"$f":"'SASAMS TERM3'!M75","v":0},0,0,0,0,0,"",null,null,0]
[68,68,{"$f":"INSERT!A70","v":0},{"$f":"INSERT!B70","v":0},{"$f":"INSERT!C70","v":0},{"$f":"INSERT!D70","v":0},{"$f":"INSERT!E70","v":0},{"$f":"TERM4!Z83","v":0},0,{"$f":"'SASAMS TERM2'!T76","v":0},{"$f":"'SASAMS TERM3'!T76","v":0},0,0,0,{"$f":"TERM4!AA83","v":0},{"$f":"TERM4!AC83","v":0},0,{"$f":"'FIN PAT MARK SHEET'!AD85","v":0},{"$f":"'FIN PAT MARK SHEET'!AE85","v":0},0,{"$f":"'FIN PAT MARK SHEET'!V85","v":0},{"$f":"'FIN PAT MARK SHEET'!W85","v":0},{"$f":"'FIN PAT MARK SHEET'!X85","v":0},{"$f":"'FIN PAT MARK SHEET'!Y85","v":0},{"$f":"'FIN PAT MARK SHEET'!Z85","v":0},{"$f":"'FIN PAT MARK SHEET'!AA85","v":0},0,{"$f":"'SASAMS TERM1'!L76","v":0},{"$f":"'SASAMS TERM2'!K76","v":0},{"$f":"'SASAMS TERM2'!N76","v":0},{"$f":"'SASAMS TERM3'!M76","v":0},0,0,0,0,0,"",null,null,0]
[69,69,{"$f":"INSERT!A71","v":0},{"$f":"INSERT!B71","v":0},{"$f":"INSERT!C71","v":0},{"$f":"INSERT!D71","v":0},{"$f":"INSERT!E71","v":0},{"$f":"TERM4!Z84","v":0},0,{"$f":"'SASAMS TERM2'!T77","v":0},{"$f":"'SASAMS TERM3'!T77","v":0},0,0,0,{"$f":"TERM4!AA84","v":0},{"$f":"TERM4!AC84","v":0},0,{"$f":"'FIN PAT MARK SHEET'!AD86","v":0},{"$f":"'FIN PAT MARK SHEET'!AE86","v":0},0,{"$f":"'FIN PAT MARK SHEET'!V86","v":0},{"$f":"'FIN PAT MARK SHEET'!W86","v":0},{"$f":"'FIN PAT MARK SHEET'!X86","v":0},{"$f":"'FIN PAT MARK SHEET'!Y86","v":0},{"$f":"'FIN PAT MARK SHEET'!Z86","v":0},{"$f":"'FIN PAT MARK SHEET'!AA86","v":0},0,{"$f":"'SASAMS TERM1'!L77","v":0},{"$f":"'SASAMS TERM2'!K77","v":0},{"$f":"'SASAMS TERM2'!N77","v":0},{"$f":"'SASAMS TERM3'!M77","v":0},0,0,0,0,0,"",null,null,0]
[70,70,{"$f":"INSERT!A72","v":0},{"$f":"INSERT!B72","v":0},{"$f":"INSERT!C72","v":0},{"$f":"INSERT!D72","v":0},{"$f":"INSERT!E72","v":0},{"$f":"TERM4!Z85","v":0},0,{"$f":"'SASAMS TERM2'!T78","v":0},{"$f":"'SASAMS TERM3'!T78","v":0},0,0,0,{"$f":"TERM4!AA85","v":0},{"$f":"TERM4!AC85","v":0},0,{"$f":"'FIN PAT MARK SHEET'!AD87","v":0},{"$f":"'FIN PAT MARK SHEET'!AE87","v":0},0,{"$f":"'FIN PAT MARK SHEET'!V87","v":0},{"$f":"'FIN PAT MARK SHEET'!W87","v":0},{"$f":"'FIN PAT MARK SHEET'!X87","v":0},{"$f":"'FIN PAT MARK SHEET'!Y87","v":0},{"$f":"'FIN PAT MARK SHEET'!Z87","v":0},{"$f":"'FIN PAT MARK SHEET'!AA87","v":0},0,{"$f":"'SASAMS TERM1'!L78","v":0},{"$f":"'SASAMS TERM2'!K78","v":0},{"$f":"'SASAMS TERM2'!N78","v":0},{"$f":"'SASAMS TERM3'!M78","v":0},0,0,0,0,0,"",null,null,0]
[71,71,{"$f":"INSERT!A73","v":0},{"$f":"INSERT!B73","v":0},{"$f":"INSERT!C73","v":0},{"$f":"INSERT!D73","v":0},{"$f":"INSERT!E73","v":0},{"$f":"TERM4!Z86","v":0},0,{"$f":"'SASAMS TERM2'!T79","v":0},{"$f":"'SASAMS TERM3'!T79","v":0},0,0,0,{"$f":"TERM4!AA86","v":0},{"$f":"TERM4!AC86","v":0},0,{"$f":"'FIN PAT MARK SHEET'!AD88","v":0},{"$f":"'FIN PAT MARK SHEET'!AE88","v":0},0,{"$f":"'FIN PAT MARK SHEET'!V88","v":0},{"$f":"'FIN PAT MARK SHEET'!W88","v":0},{"$f":"'FIN PAT MARK SHEET'!X88","v":0},{"$f":"'FIN PAT MARK SHEET'!Y88","v":0},{"$f":"'FIN PAT MARK SHEET'!Z88","v":0},{"$f":"'FIN PAT MARK SHEET'!AA88","v":0},0,{"$f":"'SASAMS TERM1'!L79","v":0},{"$f":"'SASAMS TERM2'!K79","v":0},{"$f":"'SASAMS TERM2'!N79","v":0},{"$f":"'SASAMS TERM3'!M79","v":0},0,0,0,0,0,"",null,null,0]
[72,72,{"$f":"INSERT!A74","v":0},{"$f":"INSERT!B74","v":0},{"$f":"INSERT!C74","v":0},{"$f":"INSERT!D74","v":0},{"$f":"INSERT!E74","v":0},{"$f":"TERM4!Z87","v":0},0,{"$f":"'SASAMS TERM2'!T80","v":0},{"$f":"'SASAMS TERM3'!T80","v":0},0,0,0,{"$f":"TERM4!AA87","v":0},{"$f":"TERM4!AC87","v":0},0,{"$f":"'FIN PAT MARK SHEET'!AD89","v":0},{"$f":"'FIN PAT MARK SHEET'!AE89","v":0},0,{"$f":"'FIN PAT MARK SHEET'!V89","v":0},{"$f":"'FIN PAT MARK SHEET'!W89","v":0},{"$f":"'FIN PAT MARK SHEET'!X89","v":0},{"$f":"'FIN PAT MARK SHEET'!Y89","v":0},{"$f":"'FIN PAT MARK SHEET'!Z89","v":0},{"$f":"'FIN PAT MARK SHEET'!AA89","v":0},0,{"$f":"'SASAMS TERM1'!L80","v":0},{"$f":"'SASAMS TERM2'!K80","v":0},{"$f":"'SASAMS TERM2'!N80","v":0},{"$f":"'SASAMS TERM3'!M80","v":0},0,0,0,0,0,"",null,null,0]
[73,73,{"$f":"INSERT!A75","v":0},{"$f":"INSERT!B75","v":0},{"$f":"INSERT!C75","v":0},{"$f":"INSERT!D75","v":0},{"$f":"INSERT!E75","v":0},{"$f":"TERM4!Z88","v":0},0,{"$f":"'SASAMS TERM2'!T81","v":0},{"$f":"'SASAMS TERM3'!T81","v":0},0,0,0,{"$f":"TERM4!AA88","v":0},{"$f":"TERM4!AC88","v":0},0,{"$f":"'FIN PAT MARK SHEET'!AD90","v":0},{"$f":"'FIN PAT MARK SHEET'!AE90","v":0},0,{"$f":"'FIN PAT MARK SHEET'!V90","v":0},{"$f":"'FIN PAT MARK SHEET'!W90","v":0},{"$f":"'FIN PAT MARK SHEET'!X90","v":0},{"$f":"'FIN PAT MARK SHEET'!Y90","v":0},{"$f":"'FIN PAT MARK SHEET'!Z90","v":0},{"$f":"'FIN PAT MARK SHEET'!AA90","v":0},0,{"$f":"'SASAMS TERM1'!L81","v":0},{"$f":"'SASAMS TERM2'!K81","v":0},{"$f":"'SASAMS TERM2'!N81","v":0},{"$f":"'SASAMS TERM3'!M81","v":0},0,0,0,0,0,"",null,null,0]
[74,74,{"$f":"INSERT!A76","v":0},{"$f":"INSERT!B76","v":0},{"$f":"INSERT!C76","v":0},{"$f":"INSERT!D76","v":0},{"$f":"INSERT!E76","v":0},{"$f":"TERM4!Z89","v":0},0,{"$f":"'SASAMS TERM2'!T82","v":0},{"$f":"'SASAMS TERM3'!T82","v":0},0,0,0,{"$f":"TERM4!AA89","v":0},{"$f":"TERM4!AC89","v":0},0,{"$f":"'FIN PAT MARK SHEET'!AD91","v":0},{"$f":"'FIN PAT MARK SHEET'!AE91","v":0},0,{"$f":"'FIN PAT MARK SHEET'!V91","v":0},{"$f":"'FIN PAT MARK SHEET'!W91","v":0},{"$f":"'FIN PAT MARK SHEET'!X91","v":0},{"$f":"'FIN PAT MARK SHEET'!Y91","v":0},{"$f":"'FIN PAT MARK SHEET'!Z91","v":0},{"$f":"'FIN PAT MARK SHEET'!AA91","v":0},0,{"$f":"'SASAMS TERM1'!L82","v":0},{"$f":"'SASAMS TERM2'!K82","v":0},{"$f":"'SASAMS TERM2'!N82","v":0},{"$f":"'SASAMS TERM3'!M82","v":0},0,0,0,0,0,"",null,null,0]
[75,75,{"$f":"INSERT!A77","v":0},{"$f":"INSERT!B77","v":0},{"$f":"INSERT!C77","v":0},{"$f":"INSERT!D77","v":0},{"$f":"INSERT!E77","v":0},{"$f":"TERM4!Z90","v":0},0,{"$f":"'SASAMS TERM2'!T83","v":0},{"$f":"'SASAMS TERM3'!T83","v":0},0,0,0,{"$f":"TERM4!AA90","v":0},{"$f":"TERM4!AC90","v":0},0,{"$f":"'FIN PAT MARK SHEET'!AD92","v":0},{"$f":"'FIN PAT MARK SHEET'!AE92","v":0},0,{"$f":"'FIN PAT MARK SHEET'!V92","v":0},{"$f":"'FIN PAT MARK SHEET'!W92","v":0},{"$f":"'FIN PAT MARK SHEET'!X92","v":0},{"$f":"'FIN PAT MARK SHEET'!Y92","v":0},{"$f":"'FIN PAT MARK SHEET'!Z92","v":0},{"$f":"'FIN PAT MARK SHEET'!AA92","v":0},0,{"$f":"'SASAMS TERM1'!L83","v":0},{"$f":"'SASAMS TERM2'!K83","v":0},{"$f":"'SASAMS TERM2'!N83","v":0},{"$f":"'SASAMS TERM3'!M83","v":0},0,0,0,0,0,"",null,null,0]
[76,76,{"$f":"INSERT!A78","v":0},{"$f":"INSERT!B78","v":0},{"$f":"INSERT!C78","v":0},{"$f":"INSERT!D78","v":0},{"$f":"INSERT!E78","v":0},{"$f":"TERM4!Z91","v":0},0,{"$f":"'SASAMS TERM2'!T84","v":0},{"$f":"'SASAMS TERM3'!T84","v":0},0,0,0,{"$f":"TERM4!AA91","v":0},{"$f":"TERM4!AC91","v":0},0,{"$f":"'FIN PAT MARK SHEET'!AD93","v":0},{"$f":"'FIN PAT MARK SHEET'!AE93","v":0},0,{"$f":"'FIN PAT MARK SHEET'!V93","v":0},{"$f":"'FIN PAT MARK SHEET'!W93","v":0},{"$f":"'FIN PAT MARK SHEET'!X93","v":0},{"$f":"'FIN PAT MARK SHEET'!Y93","v":0},{"$f":"'FIN PAT MARK SHEET'!Z93","v":0},{"$f":"'FIN PAT MARK SHEET'!AA93","v":0},0,{"$f":"'SASAMS TERM1'!L84","v":0},{"$f":"'SASAMS TERM2'!K84","v":0},{"$f":"'SASAMS TERM2'!N84","v":0},{"$f":"'SASAMS TERM3'!M84","v":0},0,0,0,0,0,"",null,null,0]
[77,77,{"$f":"INSERT!A79","v":0},{"$f":"INSERT!B79","v":0},{"$f":"INSERT!C79","v":0},{"$f":"INSERT!D79","v":0},{"$f":"INSERT!E79","v":0},{"$f":"TERM4!Z92","v":0},0,{"$f":"'SASAMS TERM2'!T85","v":0},{"$f":"'SASAMS TERM3'!T85","v":0},0,0,0,{"$f":"TERM4!AA92","v":0},{"$f":"TERM4!AC92","v":0},0,{"$f":"'FIN PAT MARK SHEET'!AD94","v":0},{"$f":"'FIN PAT MARK SHEET'!AE94","v":0},0,{"$f":"'FIN PAT MARK SHEET'!V94","v":0},{"$f":"'FIN PAT MARK SHEET'!W94","v":0},{"$f":"'FIN PAT MARK SHEET'!X94","v":0},{"$f":"'FIN PAT MARK SHEET'!Y94","v":0},{"$f":"'FIN PAT MARK SHEET'!Z94","v":0},{"$f":"'FIN PAT MARK SHEET'!AA94","v":0},0,{"$f":"'SASAMS TERM1'!L85","v":0},{"$f":"'SASAMS TERM2'!K85","v":0},{"$f":"'SASAMS TERM2'!N85","v":0},{"$f":"'SASAMS TERM3'!M85","v":0},0,0,0,0,0,"",null,null,0]
[78,78,{"$f":"INSERT!A80","v":0},{"$f":"INSERT!B80","v":0},{"$f":"INSERT!C80","v":0},{"$f":"INSERT!D80","v":0},{"$f":"INSERT!E80","v":0},{"$f":"TERM4!Z93","v":0},0,{"$f":"'SASAMS TERM2'!T86","v":0},{"$f":"'SASAMS TERM3'!T86","v":0},0,0,0,{"$f":"TERM4!AA93","v":0},{"$f":"TERM4!AC93","v":0},0,{"$f":"'FIN PAT MARK SHEET'!AD95","v":0},{"$f":"'FIN PAT MARK SHEET'!AE95","v":0},0,{"$f":"'FIN PAT MARK SHEET'!V95","v":0},{"$f":"'FIN PAT MARK SHEET'!W95","v":0},{"$f":"'FIN PAT MARK SHEET'!X95","v":0},{"$f":"'FIN PAT MARK SHEET'!Y95","v":0},{"$f":"'FIN PAT MARK SHEET'!Z95","v":0},{"$f":"'FIN PAT MARK SHEET'!AA95","v":0},0,{"$f":"'SASAMS TERM1'!L86","v":0},{"$f":"'SASAMS TERM2'!K86","v":0},{"$f":"'SASAMS TERM2'!N86","v":0},{"$f":"'SASAMS TERM3'!M86","v":0},0,0,0,0,0,"",null,null,0]
[79,79,{"$f":"INSERT!A81","v":0},{"$f":"INSERT!B81","v":0},{"$f":"INSERT!C81","v":0},{"$f":"INSERT!D81","v":0},{"$f":"INSERT!E81","v":0},{"$f":"TERM4!Z94","v":0},0,{"$f":"'SASAMS TERM2'!T87","v":0},{"$f":"'SASAMS TERM3'!T87","v":0},0,0,0,{"$f":"TERM4!AA94","v":0},{"$f":"TERM4!AC94","v":0},0,{"$f":"'FIN PAT MARK SHEET'!AD96","v":0},{"$f":"'FIN PAT MARK SHEET'!AE96","v":0},0,{"$f":"'FIN PAT MARK SHEET'!V96","v":0},{"$f":"'FIN PAT MARK SHEET'!W96","v":0},{"$f":"'FIN PAT MARK SHEET'!X96","v":0},{"$f":"'FIN PAT MARK SHEET'!Y96","v":0},{"$f":"'FIN PAT MARK SHEET'!Z96","v":0},{"$f":"'FIN PAT MARK SHEET'!AA96","v":0},0,{"$f":"'SASAMS TERM1'!L87","v":0},{"$f":"'SASAMS TERM2'!K87","v":0},{"$f":"'SASAMS TERM2'!N87","v":0},{"$f":"'SASAMS TERM3'!M87","v":0},0,0,0,0,0,"",null,null,0]
[80,80,{"$f":"INSERT!A82","v":0},{"$f":"INSERT!B82","v":0},{"$f":"INSERT!C82","v":0},{"$f":"INSERT!D82","v":0},{"$f":"INSERT!E82","v":0},{"$f":"TERM4!Z95","v":0},0,{"$f":"'SASAMS TERM2'!T88","v":0},{"$f":"'SASAMS TERM3'!T88","v":0},0,0,0,{"$f":"TERM4!AA95","v":0},{"$f":"TERM4!AC95","v":0},0,{"$f":"'FIN PAT MARK SHEET'!AD97","v":0},{"$f":"'FIN PAT MARK SHEET'!AE97","v":0},0,{"$f":"'FIN PAT MARK SHEET'!V97","v":0},{"$f":"'FIN PAT MARK SHEET'!W97","v":0},{"$f":"'FIN PAT MARK SHEET'!X97","v":0},{"$f":"'FIN PAT MARK SHEET'!Y97","v":0},{"$f":"'FIN PAT MARK SHEET'!Z97","v":0},{"$f":"'FIN PAT MARK SHEET'!AA97","v":0},0,{"$f":"'SASAMS TERM1'!L88","v":0},{"$f":"'SASAMS TERM2'!K88","v":0},{"$f":"'SASAMS TERM2'!N88","v":0},{"$f":"'SASAMS TERM3'!M88","v":0},0,0,0,0,0,"",null,null,0]
[81,81,{"$f":"INSERT!A83","v":0},{"$f":"INSERT!B83","v":0},{"$f":"INSERT!C83","v":0},{"$f":"INSERT!D83","v":0},{"$f":"INSERT!E83","v":0},{"$f":"TERM4!Z96","v":0},0,{"$f":"'SASAMS TERM2'!T89","v":0},{"$f":"'SASAMS TERM3'!T89","v":0},0,0,0,{"$f":"TERM4!AA96","v":0},{"$f":"TERM4!AC96","v":0},0,{"$f":"'FIN PAT MARK SHEET'!AD98","v":0},{"$f":"'FIN PAT MARK SHEET'!AE98","v":0},0,{"$f":"'FIN PAT MARK SHEET'!V98","v":0},{"$f":"'FIN PAT MARK SHEET'!W98","v":0},{"$f":"'FIN PAT MARK SHEET'!X98","v":0},{"$f":"'FIN PAT MARK SHEET'!Y98","v":0},{"$f":"'FIN PAT MARK SHEET'!Z98","v":0},{"$f":"'FIN PAT MARK SHEET'!AA98","v":0},0,{"$f":"'SASAMS TERM1'!L89","v":0},{"$f":"'SASAMS TERM2'!K89","v":0},{"$f":"'SASAMS TERM2'!N89","v":0},{"$f":"'SASAMS TERM3'!M89","v":0},0,0,0,0,0,"",null,null,0]
[82,82,{"$f":"INSERT!A84","v":0},{"$f":"INSERT!B84","v":0},{"$f":"INSERT!C84","v":0},{"$f":"INSERT!D84","v":0},{"$f":"INSERT!E84","v":0},{"$f":"TERM4!Z97","v":0},0,{"$f":"'SASAMS TERM2'!T90","v":0},{"$f":"'SASAMS TERM3'!T90","v":0},0,0,0,{"$f":"TERM4!AA97","v":0},{"$f":"TERM4!AC97","v":0},0,{"$f":"'FIN PAT MARK SHEET'!AD99","v":0},{"$f":"'FIN PAT MARK SHEET'!AE99","v":0},0,{"$f":"'FIN PAT MARK SHEET'!V99","v":0},{"$f":"'FIN PAT MARK SHEET'!W99","v":0},{"$f":"'FIN PAT MARK SHEET'!X99","v":0},{"$f":"'FIN PAT MARK SHEET'!Y99","v":0},{"$f":"'FIN PAT MARK SHEET'!Z99","v":0},{"$f":"'FIN PAT MARK SHEET'!AA99","v":0},0,{"$f":"'SASAMS TERM1'!L90","v":0},{"$f":"'SASAMS TERM2'!K90","v":0},{"$f":"'SASAMS TERM2'!N90","v":0},{"$f":"'SASAMS TERM3'!M90","v":0},0,0,0,0,0,"",null,null,0]
[83,83,{"$f":"INSERT!A85","v":0},{"$f":"INSERT!B85","v":0},{"$f":"INSERT!C85","v":0},{"$f":"INSERT!D85","v":0},{"$f":"INSERT!E85","v":0},{"$f":"TERM4!Z98","v":0},0,{"$f":"'SASAMS TERM2'!T91","v":0},{"$f":"'SASAMS TERM3'!T91","v":0},0,0,0,{"$f":"TERM4!AA98","v":0},{"$f":"TERM4!AC98","v":0},0,{"$f":"'FIN PAT MARK SHEET'!AD100","v":0},{"$f":"'FIN PAT MARK SHEET'!AE100","v":0},0,{"$f":"'FIN PAT MARK SHEET'!V100","v":0},{"$f":"'FIN PAT MARK SHEET'!W100","v":0},{"$f":"'FIN PAT MARK SHEET'!X100","v":0},{"$f":"'FIN PAT MARK SHEET'!Y100","v":0},{"$f":"'FIN PAT MARK SHEET'!Z100","v":0},{"$f":"'FIN PAT MARK SHEET'!AA100","v":0},0,{"$f":"'SASAMS TERM1'!L91","v":0},{"$f":"'SASAMS TERM2'!K91","v":0},{"$f":"'SASAMS TERM2'!N91","v":0},{"$f":"'SASAMS TERM3'!M91","v":0},0,0,0,0,0,"",null,null,0]
[84,84,{"$f":"INSERT!A86","v":0},{"$f":"INSERT!B86","v":0},{"$f":"INSERT!C86","v":0},{"$f":"INSERT!D86","v":0},{"$f":"INSERT!E86","v":0},{"$f":"TERM4!Z99","v":0},0,{"$f":"'SASAMS TERM2'!T92","v":0},{"$f":"'SASAMS TERM3'!T92","v":0},0,0,0,{"$f":"TERM4!AA99","v":0},{"$f":"TERM4!AC99","v":0},0,{"$f":"'FIN PAT MARK SHEET'!AD101","v":0},{"$f":"'FIN PAT MARK SHEET'!AE101","v":0},0,{"$f":"'FIN PAT MARK SHEET'!V101","v":0},{"$f":"'FIN PAT MARK SHEET'!W101","v":0},{"$f":"'FIN PAT MARK SHEET'!X101","v":0},{"$f":"'FIN PAT MARK SHEET'!Y101","v":0},{"$f":"'FIN PAT MARK SHEET'!Z101","v":0},{"$f":"'FIN PAT MARK SHEET'!AA101","v":0},0,{"$f":"'SASAMS TERM1'!L92","v":0},{"$f":"'SASAMS TERM2'!K92","v":0},{"$f":"'SASAMS TERM2'!N92","v":0},{"$f":"'SASAMS TERM3'!M92","v":0},0,0,0,0,0,"",null,null,0]
[85,85,{"$f":"INSERT!A87","v":0},{"$f":"INSERT!B87","v":0},{"$f":"INSERT!C87","v":0},{"$f":"INSERT!D87","v":0},{"$f":"INSERT!E87","v":0},{"$f":"TERM4!Z100","v":0},0,{"$f":"'SASAMS TERM2'!T93","v":0},{"$f":"'SASAMS TERM3'!T93","v":0},0,0,0,{"$f":"TERM4!AA100","v":0},{"$f":"TERM4!AC100","v":0},0,{"$f":"'FIN PAT MARK SHEET'!AD102","v":0},{"$f":"'FIN PAT MARK SHEET'!AE102","v":0},0,{"$f":"'FIN PAT MARK SHEET'!V102","v":0},{"$f":"'FIN PAT MARK SHEET'!W102","v":0},{"$f":"'FIN PAT MARK SHEET'!X102","v":0},{"$f":"'FIN PAT MARK SHEET'!Y102","v":0},{"$f":"'FIN PAT MARK SHEET'!Z102","v":0},{"$f":"'FIN PAT MARK SHEET'!AA102","v":0},0,{"$f":"'SASAMS TERM1'!L93","v":0},{"$f":"'SASAMS TERM2'!K93","v":0},{"$f":"'SASAMS TERM2'!N93","v":0},{"$f":"'SASAMS TERM3'!M93","v":0},0,0,0,0,0,"",null,null,0]
[86,86,{"$f":"INSERT!A88","v":0},{"$f":"INSERT!B88","v":0},{"$f":"INSERT!C88","v":0},{"$f":"INSERT!D88","v":0},{"$f":"INSERT!E88","v":0},{"$f":"TERM4!Z101","v":0},0,{"$f":"'SASAMS TERM2'!T94","v":0},{"$f":"'SASAMS TERM3'!T94","v":0},0,0,0,{"$f":"TERM4!AA101","v":0},{"$f":"TERM4!AC101","v":0},0,{"$f":"'FIN PAT MARK SHEET'!AD103","v":0},{"$f":"'FIN PAT MARK SHEET'!AE103","v":0},0,{"$f":"'FIN PAT MARK SHEET'!V103","v":0},{"$f":"'FIN PAT MARK SHEET'!W103","v":0},{"$f":"'FIN PAT MARK SHEET'!X103","v":0},{"$f":"'FIN PAT MARK SHEET'!Y103","v":0},{"$f":"'FIN PAT MARK SHEET'!Z103","v":0},{"$f":"'FIN PAT MARK SHEET'!AA103","v":0},0,{"$f":"'SASAMS TERM1'!L94","v":0},{"$f":"'SASAMS TERM2'!K94","v":0},{"$f":"'SASAMS TERM2'!N94","v":0},{"$f":"'SASAMS TERM3'!M94","v":0},0,0,0,0,0,"",null,null,0]
[87,87,{"$f":"INSERT!A89","v":0},{"$f":"INSERT!B89","v":0},{"$f":"INSERT!C89","v":0},{"$f":"INSERT!D89","v":0},{"$f":"INSERT!E89","v":0},{"$f":"TERM4!Z102","v":0},0,{"$f":"'SASAMS TERM2'!T95","v":0},{"$f":"'SASAMS TERM3'!T95","v":0},0,0,0,{"$f":"TERM4!AA102","v":0},{"$f":"TERM4!AC102","v":0},0,{"$f":"'FIN PAT MARK SHEET'!AD104","v":0},{"$f":"'FIN PAT MARK SHEET'!AE104","v":0},0,{"$f":"'FIN PAT MARK SHEET'!V104","v":0},{"$f":"'FIN PAT MARK SHEET'!W104","v":0},{"$f":"'FIN PAT MARK SHEET'!X104","v":0},{"$f":"'FIN PAT MARK SHEET'!Y104","v":0},{"$f":"'FIN PAT MARK SHEET'!Z104","v":0},{"$f":"'FIN PAT MARK SHEET'!AA104","v":0},0,{"$f":"'SASAMS TERM1'!L95","v":0},{"$f":"'SASAMS TERM2'!K95","v":0},{"$f":"'SASAMS TERM2'!N95","v":0},{"$f":"'SASAMS TERM3'!M95","v":0},0,0,0,0,0,"",null,null,0]
[88,88,{"$f":"INSERT!A90","v":0},{"$f":"INSERT!B90","v":0},{"$f":"INSERT!C90","v":0},{"$f":"INSERT!D90","v":0},{"$f":"INSERT!E90","v":0},{"$f":"TERM4!Z103","v":0},0,{"$f":"'SASAMS TERM2'!T96","v":0},{"$f":"'SASAMS TERM3'!T96","v":0},0,0,0,{"$f":"TERM4!AA103","v":0},{"$f":"TERM4!AC103","v":0},0,{"$f":"'FIN PAT MARK SHEET'!AD105","v":0},{"$f":"'FIN PAT MARK SHEET'!AE105","v":0},0,{"$f":"'FIN PAT MARK SHEET'!V105","v":0},{"$f":"'FIN PAT MARK SHEET'!W105","v":0},{"$f":"'FIN PAT MARK SHEET'!X105","v":0},{"$f":"'FIN PAT MARK SHEET'!Y105","v":0},{"$f":"'FIN PAT MARK SHEET'!Z105","v":0},{"$f":"'FIN PAT MARK SHEET'!AA105","v":0},0,{"$f":"'SASAMS TERM1'!L96","v":0},{"$f":"'SASAMS TERM2'!K96","v":0},{"$f":"'SASAMS TERM2'!N96","v":0},{"$f":"'SASAMS TERM3'!M96","v":0},0,0,0,0,0,"",null,null,0]
[89,89,{"$f":"INSERT!A91","v":0},{"$f":"INSERT!B91","v":0},{"$f":"INSERT!C91","v":0},{"$f":"INSERT!D91","v":0},{"$f":"INSERT!E91","v":0},{"$f":"TERM4!Z104","v":0},0,{"$f":"'SASAMS TERM2'!T97","v":0},{"$f":"'SASAMS TERM3'!T97","v":0},0,0,0,{"$f":"TERM4!AA104","v":0},{"$f":"TERM4!AC104","v":0},0,{"$f":"'FIN PAT MARK SHEET'!AD106","v":0},{"$f":"'FIN PAT MARK SHEET'!AE106","v":0},0,{"$f":"'FIN PAT MARK SHEET'!V106","v":0},{"$f":"'FIN PAT MARK SHEET'!W106","v":0},{"$f":"'FIN PAT MARK SHEET'!X106","v":0},{"$f":"'FIN PAT MARK SHEET'!Y106","v":0},{"$f":"'FIN PAT MARK SHEET'!Z106","v":0},{"$f":"'FIN PAT MARK SHEET'!AA106","v":0},0,{"$f":"'SASAMS TERM1'!L97","v":0},{"$f":"'SASAMS TERM2'!K97","v":0},{"$f":"'SASAMS TERM2'!N97","v":0},{"$f":"'SASAMS TERM3'!M97","v":0},0,0,0,0,0,"",null,null,0]
[90,90,{"$f":"INSERT!A92","v":0},{"$f":"INSERT!B92","v":0},{"$f":"INSERT!C92","v":0},{"$f":"INSERT!D92","v":0},{"$f":"INSERT!E92","v":0},{"$f":"TERM4!Z105","v":0},0,{"$f":"'SASAMS TERM2'!T98","v":0},{"$f":"'SASAMS TERM3'!T98","v":0},0,0,0,{"$f":"TERM4!AA105","v":0},{"$f":"TERM4!AC105","v":0},0,{"$f":"'FIN PAT MARK SHEET'!AD107","v":0},{"$f":"'FIN PAT MARK SHEET'!AE107","v":0},0,{"$f":"'FIN PAT MARK SHEET'!V107","v":0},{"$f":"'FIN PAT MARK SHEET'!W107","v":0},{"$f":"'FIN PAT MARK SHEET'!X107","v":0},{"$f":"'FIN PAT MARK SHEET'!Y107","v":0},{"$f":"'FIN PAT MARK SHEET'!Z107","v":0},{"$f":"'FIN PAT MARK SHEET'!AA107","v":0},0,{"$f":"'SASAMS TERM1'!L98","v":0},{"$f":"'SASAMS TERM2'!K98","v":0},{"$f":"'SASAMS TERM2'!N98","v":0},{"$f":"'SASAMS TERM3'!M98","v":0},0,0,0,0,0,"",null,null,0]
[91,91,{"$f":"INSERT!A93","v":0},{"$f":"INSERT!B93","v":0},{"$f":"INSERT!C93","v":0},{"$f":"INSERT!D93","v":0},{"$f":"INSERT!E93","v":0},{"$f":"TERM4!Z106","v":0},0,{"$f":"'SASAMS TERM2'!T99","v":0},{"$f":"'SASAMS TERM3'!T99","v":0},0,0,0,{"$f":"TERM4!AA106","v":0},{"$f":"TERM4!AC106","v":0},0,{"$f":"'FIN PAT MARK SHEET'!AD108","v":0},{"$f":"'FIN PAT MARK SHEET'!AE108","v":0},0,{"$f":"'FIN PAT MARK SHEET'!V108","v":0},{"$f":"'FIN PAT MARK SHEET'!W108","v":0},{"$f":"'FIN PAT MARK SHEET'!X108","v":0},{"$f":"'FIN PAT MARK SHEET'!Y108","v":0},{"$f":"'FIN PAT MARK SHEET'!Z108","v":0},{"$f":"'FIN PAT MARK SHEET'!AA108","v":0},0,{"$f":"'SASAMS TERM1'!L99","v":0},{"$f":"'SASAMS TERM2'!K99","v":0},{"$f":"'SASAMS TERM2'!N99","v":0},{"$f":"'SASAMS TERM3'!M99","v":0},0,0,0,0,0,"",null,null,0]
[92,92,{"$f":"INSERT!A94","v":0},{"$f":"INSERT!B94","v":0},{"$f":"INSERT!C94","v":0},{"$f":"INSERT!D94","v":0},{"$f":"INSERT!E94","v":0},{"$f":"TERM4!Z107","v":0},0,{"$f":"'SASAMS TERM2'!T100","v":0},{"$f":"'SASAMS TERM3'!T100","v":0},0,0,0,{"$f":"TERM4!AA107","v":0},{"$f":"TERM4!AC107","v":0},0,{"$f":"'FIN PAT MARK SHEET'!AD109","v":0},{"$f":"'FIN PAT MARK SHEET'!AE109","v":0},0,{"$f":"'FIN PAT MARK SHEET'!V109","v":0},{"$f":"'FIN PAT MARK SHEET'!W109","v":0},{"$f":"'FIN PAT MARK SHEET'!X109","v":0},{"$f":"'FIN PAT MARK SHEET'!Y109","v":0},{"$f":"'FIN PAT MARK SHEET'!Z109","v":0},{"$f":"'FIN PAT MARK SHEET'!AA109","v":0},0,{"$f":"'SASAMS TERM1'!L100","v":0},{"$f":"'SASAMS TERM2'!K100","v":0},{"$f":"'SASAMS TERM2'!N100","v":0},{"$f":"'SASAMS TERM3'!M100","v":0},0,0,0,0,0,"",null,null,0]
[93,93,{"$f":"INSERT!A95","v":0},{"$f":"INSERT!B95","v":0},{"$f":"INSERT!C95","v":0},{"$f":"INSERT!D95","v":0},{"$f":"INSERT!E95","v":0},{"$f":"TERM4!Z108","v":0},0,{"$f":"'SASAMS TERM2'!T101","v":0},{"$f":"'SASAMS TERM3'!T101","v":0},0,0,0,{"$f":"TERM4!AA108","v":0},{"$f":"TERM4!AC108","v":0},0,{"$f":"'FIN PAT MARK SHEET'!AD110","v":0},{"$f":"'FIN PAT MARK SHEET'!AE110","v":0},0,{"$f":"'FIN PAT MARK SHEET'!V110","v":0},{"$f":"'FIN PAT MARK SHEET'!W110","v":0},{"$f":"'FIN PAT MARK SHEET'!X110","v":0},{"$f":"'FIN PAT MARK SHEET'!Y110","v":0},{"$f":"'FIN PAT MARK SHEET'!Z110","v":0},{"$f":"'FIN PAT MARK SHEET'!AA110","v":0},0,{"$f":"'SASAMS TERM1'!L101","v":0},{"$f":"'SASAMS TERM2'!K101","v":0},{"$f":"'SASAMS TERM2'!N101","v":0},{"$f":"'SASAMS TERM3'!M101","v":0},0,0,0,0,0,"",null,null,0]
[94,94,{"$f":"INSERT!A96","v":0},{"$f":"INSERT!B96","v":0},{"$f":"INSERT!C96","v":0},{"$f":"INSERT!D96","v":0},{"$f":"INSERT!E96","v":0},{"$f":"TERM4!Z109","v":0},0,{"$f":"'SASAMS TERM2'!T102","v":0},{"$f":"'SASAMS TERM3'!T102","v":0},0,0,0,{"$f":"TERM4!AA109","v":0},{"$f":"TERM4!AC109","v":0},0,{"$f":"'FIN PAT MARK SHEET'!AD111","v":0},{"$f":"'FIN PAT MARK SHEET'!AE111","v":0},0,{"$f":"'FIN PAT MARK SHEET'!V111","v":0},{"$f":"'FIN PAT MARK SHEET'!W111","v":0},{"$f":"'FIN PAT MARK SHEET'!X111","v":0},{"$f":"'FIN PAT MARK SHEET'!Y111","v":0},{"$f":"'FIN PAT MARK SHEET'!Z111","v":0},{"$f":"'FIN PAT MARK SHEET'!AA111","v":0},0,{"$f":"'SASAMS TERM1'!L102","v":0},{"$f":"'SASAMS TERM2'!K102","v":0},{"$f":"'SASAMS TERM2'!N102","v":0},{"$f":"'SASAMS TERM3'!M102","v":0},0,0,0,0,0,"",null,null,0]
[95,95,{"$f":"INSERT!A97","v":0},{"$f":"INSERT!B97","v":0},{"$f":"INSERT!C97","v":0},{"$f":"INSERT!D97","v":0},{"$f":"INSERT!E97","v":0},{"$f":"TERM4!Z110","v":0},0,{"$f":"'SASAMS TERM2'!T103","v":0},{"$f":"'SASAMS TERM3'!T103","v":0},0,0,0,{"$f":"TERM4!AA110","v":0},{"$f":"TERM4!AC110","v":0},0,{"$f":"'FIN PAT MARK SHEET'!AD112","v":0},{"$f":"'FIN PAT MARK SHEET'!AE112","v":0},0,{"$f":"'FIN PAT MARK SHEET'!V112","v":0},{"$f":"'FIN PAT MARK SHEET'!W112","v":0},{"$f":"'FIN PAT MARK SHEET'!X112","v":0},{"$f":"'FIN PAT MARK SHEET'!Y112","v":0},{"$f":"'FIN PAT MARK SHEET'!Z112","v":0},{"$f":"'FIN PAT MARK SHEET'!AA112","v":0},0,{"$f":"'SASAMS TERM1'!L103","v":0},{"$f":"'SASAMS TERM2'!K103","v":0},{"$f":"'SASAMS TERM2'!N103","v":0},{"$f":"'SASAMS TERM3'!M103","v":0},0,0,0,0,0,"",null,null,0]
[96,96,{"$f":"INSERT!A98","v":0},{"$f":"INSERT!B98","v":0},{"$f":"INSERT!C98","v":0},{"$f":"INSERT!D98","v":0},{"$f":"INSERT!E98","v":0},{"$f":"TERM4!Z111","v":0},0,{"$f":"'SASAMS TERM2'!T104","v":0},{"$f":"'SASAMS TERM3'!T104","v":0},0,0,0,{"$f":"TERM4!AA111","v":0},{"$f":"TERM4!AC111","v":0},0,{"$f":"'FIN PAT MARK SHEET'!AD113","v":0},{"$f":"'FIN PAT MARK SHEET'!AE113","v":0},0,{"$f":"'FIN PAT MARK SHEET'!V113","v":0},{"$f":"'FIN PAT MARK SHEET'!W113","v":0},{"$f":"'FIN PAT MARK SHEET'!X113","v":0},{"$f":"'FIN PAT MARK SHEET'!Y113","v":0},{"$f":"'FIN PAT MARK SHEET'!Z113","v":0},{"$f":"'FIN PAT MARK SHEET'!AA113","v":0},0,{"$f":"'SASAMS TERM1'!L104","v":0},{"$f":"'SASAMS TERM2'!K104","v":0},{"$f":"'SASAMS TERM2'!N104","v":0},{"$f":"'SASAMS TERM3'!M104","v":0},0,0,0,0,0,"",null,null,0]
[97,97,{"$f":"INSERT!A99","v":0},{"$f":"INSERT!B99","v":0},{"$f":"INSERT!C99","v":0},{"$f":"INSERT!D99","v":0},{"$f":"INSERT!E99","v":0},{"$f":"TERM4!Z112","v":0},0,{"$f":"'SASAMS TERM2'!T105","v":0},{"$f":"'SASAMS TERM3'!T105","v":0},0,0,0,{"$f":"TERM4!AA112","v":0},{"$f":"TERM4!AC112","v":0},0,{"$f":"'FIN PAT MARK SHEET'!AD114","v":0},{"$f":"'FIN PAT MARK SHEET'!AE114","v":0},0,{"$f":"'FIN PAT MARK SHEET'!V114","v":0},{"$f":"'FIN PAT MARK SHEET'!W114","v":0},{"$f":"'FIN PAT MARK SHEET'!X114","v":0},{"$f":"'FIN PAT MARK SHEET'!Y114","v":0},{"$f":"'FIN PAT MARK SHEET'!Z114","v":0},{"$f":"'FIN PAT MARK SHEET'!AA114","v":0},{"$f":"IF(AN106=4,SUMIF(U106:Z106,\">0\")/1.6,IF(AN106=6,SUMIF(U106:Z106,\">0\")/2.4,SUMIF(U106:Z106,\">0\")))","v":0},{"$f":"'SASAMS TERM1'!L105","v":0},{"$f":"'SASAMS TERM2'!K105","v":0},{"$f":"'SASAMS TERM2'!N105","v":0},{"$f":"'SASAMS TERM3'!M105","v":0},0,0,0,0,0,"",null,null,0]
[98,98,{"$f":"INSERT!A100","v":0},{"$f":"INSERT!B100","v":0},{"$f":"INSERT!C100","v":0},{"$f":"INSERT!D100","v":0},{"$f":"INSERT!E100","v":0},{"$f":"TERM4!Z113","v":0},0,{"$f":"'SASAMS TERM2'!T106","v":0},{"$f":"'SASAMS TERM3'!T106","v":0},0,0,0,{"$f":"TERM4!AA113","v":0},{"$f":"TERM4!AC113","v":0},0,{"$f":"'FIN PAT MARK SHEET'!AD115","v":0},{"$f":"'FIN PAT MARK SHEET'!AE115","v":0},0,{"$f":"'FIN PAT MARK SHEET'!V115","v":0},{"$f":"'FIN PAT MARK SHEET'!W115","v":0},{"$f":"'FIN PAT MARK SHEET'!X115","v":0},{"$f":"'FIN PAT MARK SHEET'!Y115","v":0},{"$f":"'FIN PAT MARK SHEET'!Z115","v":0},{"$f":"'FIN PAT MARK SHEET'!AA115","v":0},0,{"$f":"'SASAMS TERM1'!L106","v":0},{"$f":"'SASAMS TERM2'!K106","v":0},{"$f":"'SASAMS TERM2'!N106","v":0},{"$f":"'SASAMS TERM3'!M106","v":0},0,0,0,0,0,"",null,null,0]
[99,99,{"$f":"INSERT!A101","v":0},{"$f":"INSERT!B101","v":0},{"$f":"INSERT!C101","v":0},{"$f":"INSERT!D101","v":0},{"$f":"INSERT!E101","v":0},{"$f":"TERM4!Z114","v":0},0,{"$f":"'SASAMS TERM2'!T107","v":0},{"$f":"'SASAMS TERM3'!T107","v":0},0,0,0,{"$f":"TERM4!AA114","v":0},{"$f":"TERM4!AC114","v":0},0,{"$f":"'FIN PAT MARK SHEET'!AD116","v":0},{"$f":"'FIN PAT MARK SHEET'!AE116","v":0},0,{"$f":"'FIN PAT MARK SHEET'!V116","v":0},{"$f":"'FIN PAT MARK SHEET'!W116","v":0},{"$f":"'FIN PAT MARK SHEET'!X116","v":0},{"$f":"'FIN PAT MARK SHEET'!Y116","v":0},{"$f":"'FIN PAT MARK SHEET'!Z116","v":0},{"$f":"'FIN PAT MARK SHEET'!AA116","v":0},0,{"$f":"'SASAMS TERM1'!L107","v":0},{"$f":"'SASAMS TERM2'!K107","v":0},{"$f":"'SASAMS TERM2'!N107","v":0},{"$f":"'SASAMS TERM3'!M107","v":0},0,0,0,0,0,"",null,null,0]
[100,100,{"$f":"INSERT!A102","v":0},{"$f":"INSERT!B102","v":0},{"$f":"INSERT!C102","v":0},{"$f":"INSERT!D102","v":0},{"$f":"INSERT!E102","v":0},{"$f":"TERM4!Z115","v":0},0,{"$f":"'SASAMS TERM2'!T108","v":0},{"$f":"'SASAMS TERM3'!T108","v":0},0,0,0,{"$f":"TERM4!AA115","v":0},{"$f":"TERM4!AC115","v":0},0,{"$f":"'FIN PAT MARK SHEET'!AD117","v":0},{"$f":"'FIN PAT MARK SHEET'!AE117","v":0},0,{"$f":"'FIN PAT MARK SHEET'!V117","v":0},{"$f":"'FIN PAT MARK SHEET'!W117","v":0},{"$f":"'FIN PAT MARK SHEET'!X117","v":0},{"$f":"'FIN PAT MARK SHEET'!Y117","v":0},{"$f":"'FIN PAT MARK SHEET'!Z117","v":0},{"$f":"'FIN PAT MARK SHEET'!AA117","v":0},0,{"$f":"'SASAMS TERM1'!L108","v":0},{"$f":"'SASAMS TERM2'!K108","v":0},{"$f":"'SASAMS TERM2'!N108","v":0},{"$f":"'SASAMS TERM3'!M108","v":0},0,0,0,0,0,"",null,null,0]
["Total",null,null,null,null,null,null,{"$f":"SUM(AR10:AR109)","v":0},0,0,0,0,0,0,{"$f":"SUMIF(AY10:AY109,\">0\")","v":0},{"$f":"SUMIF(AZ10:AZ109,\">0\")","v":0},{"$f":"SUM(BA10:BA109)","v":0},{"$f":"SUM(H10:H109)","v":0},0,0,0,0,0,0,0,0,0,{"$f":"SUM(AB10:AB109)","v":0},0,0,0,0,null,0,{"$f":"SUM(AI10:AI109)","v":0},0]
["Average%",null,null,null,null,null,null,{"$f":"IFERROR(ROUND((AVERAGEIF(AR10:AR109,\">0\")/R4*100),1),\"0\")","v":"0"},"0","0","0","0","0","0","0","0","0",{"$f":"IFERROR(ROUND((AVERAGEIF(H10:H109,\">0\")/H4*100),1),\"0\")","v":"0"},"0","0","0","0","0","0","0","0","0",{"$f":"IFERROR(ROUND((AVERAGEIF(AB10:AB109,\">0\")/AB4*100),1),\"0\")","v":"0"},{"$f":"IFERROR(ROUND((AVERAGEIF(AC10:AC109,\">0\")/AC4*100),1),\"0\")","v":"0"},{"$f":"IFERROR(ROUND((AVERAGEIF(AD10:AD109,\">0\")/AD4*100),1),\"0\")","v":"0"},{"$f":"IFERROR(ROUND((AVERAGEIF(AE10:AE109,\">0\")/AE4*100),1),\"0\")","v":"0"},{"$f":"IFERROR(ROUND((AVERAGEIF(AF10:AF109,\">0\")/AF4*100),1),\"0\")","v":"0"},null,{"$f":"IFERROR(ROUND((AVERAGEIF(AH10:AH109,\">0\")/AG4*100),1),\"0\")","v":"0"},{"$f":"IFERROR(ROUND((AVERAGEIF(AI10:AI109,\">0\")/AI8*100),1),\"0\")","v":"0"},{"$f":"IFERROR(ROUND((AVERAGEIF(AJ10:AJ109,\">0\")/AJ8*100),1),\"0\")","v":"0"}]
["Total amount of learners on mark sheet",null,null,null,"X","Term results analysis"]
[null,null,null,null,{"$f":"INSERT!$E$103","v":0}]
[null,null,null,null,"X"]
[]
[]
[]
[null,null,null,null,null,null,null,"LEVEL 1","LEVEL 2","LEVEL 3","LEVEL 4","LEVEL 5","LEVEL 6","LEVEL 7","TOTAL"]
[null,null,null,null,null,null,null," 0 - 29 "," 30 - 39 "," 40 - 49 "," 50 - 59 "," 60 - 69 "," 70 - 79 ","80 - 100"]
[null,null,null,null,null,null,null,{"$f":"COUNTIF($AK$10:$AK$109,1)","v":0},{"$f":"COUNTIF($AK$10:$AK$109,2)","v":0},{"$f":"COUNTIF($AK$10:$AK$109,3)","v":0},{"$f":"COUNTIF($AK$10:$AK$109,4)","v":0},{"$f":"COUNTIF($AK$10:$AK$109,5)","v":0},{"$f":"COUNTIF($AK$10:$AK$109,6)","v":0},{"$f":"COUNTIF($AK$10:$AK$109,7)","v":0},{"$f":"SUM(H120:N120)","v":0}]

{"sheet":"PAT Civil Detailed","index":11,"n_rows":117,"n_cols":112,"rows_kept":117,"cut":false,"hidden":false,"merged":[[113,98,115,98],[4,48,9,48],[2,96,9,96],[2,97,9,97],[2,98,9,98],[4,63,9,63],[2,76,2,79],[3,76,3,79],[2,80,2,82],[3,80,3,82],[2,83,2,89],[3,83,3,89],[2,90,2,91],[3,94,3,95],[2,94,2,95],[4,92,9,92],[4,93,9,93],[3,67,3,75],[3,90,3,91],[2,92,2,93],[4,83,9,83],[4,68,9,68],[3,92,3,93],[4,91,9,91],[116,1,116,4],[9,5,9,6],[11,1,11,6],[113,1,115,4],[4,75,9,75],[4,76,9,76],[4,55,9,55],[4,57,9,57],[4,58,9,58],[4,59,9,59],[4,60,9,60],[4,49,9,49],[4,50,9,50],[4,51,9,51],[4,52,9,52],[4,53,9,53],[4,54,9,54],[4,43,9,43],[4,44,9,44],[4,67,9,67],[4,5,4,6],[4,8,9,8],[4,20,9,20],[4,21,9,21],[2,1,2,4],[2,5,2,6],[2,20,2,37],[2,44,2,47],[4,28,9,28],[4,29,9,29],[4,30,9,30],[6,5,6,6],[3,1,3,4],[3,5,3,6],[4,14,9,14],[4,15,9,15],[4,16,9,16],[4,18,9,18],[5,1,5,4],[5,5,5,6],[7,5,7,6],[8,1,8,4],[8,5,8,6],[9,1,9,4],[4,1,4,4],[4,11,9,11],[4,22,9,22],[4,23,9,23],[2,99,9,99],[2,100,9,100],[4,84,9,84],[4,85,9,85],[4,86,9,86],[4,31,9,31],[4,32,9,32],[4,33,9,33],[4,87,9,87],[4,77,9,77],[4,69,9,69],[4,70,9,70],[4,71,9,71],[4,78,9,78],[4,35,9,35],[4,88,9,88],[4,56,9,56],[4,62,9,62],[4,45,9,45],[4,47,9,47],[4,94,9,94],[4,95,9,95],[4,90,9,90],[2,58,2,66],[4,89,9,89],[4,37,9,37],[4,38,9,38],[4,39,9,39],[4,40,9,40],[4,41,9,41],[4,42,9,42],[4,81,9,81],[4,80,9,80],[4,82,9,82],[4,79,9,79],[4,72,9,72],[4,73,9,73],[4,74,9,74],[2,67,2,75],[3,29,3,37],[3,44,3,47],[3,48,3,57],[2,48,2,57],[3,58,3,66],[4,19,9,19],[4,24,9,24],[4,61,9,61],[4,64,9,64],[4,66,9,66],[4,46,9,46],[4,65,9,65],[4,34,9,34],[2,8,2,13],[3,8,3,13],[2,14,2,19],[3,14,3,19],[2,38,2,43],[3,20,3,28],[4,36,9,36],[4,13,9,13],[4,17,9,17],[4,27,9,27],[4,25,9,25],[4,26,9,26],[4,12,9,12],[4,9,9,9],[4,10,9,10],[3,38,3,43]]}
[null,null,null,null,null,null,null,null,null,null,null,null,null,null,null,null,null,null,null,null,null,null,null,null,null,null,null,null,null,null,null,null,null,null,null,null,null,null,null,null,null,null,null,null,"ENGINEERING GRAPHICS AND DESIGN"]
[]
[null,"School:",null,null,null,{"$f":"INSERT!J3","v":0},null,null,1,null,null,null,null,null,2,null,null,null,null,null,{"$f":"'Civil Assessment'!$B$25","v":"Freehand drawings of TWO possible design solutions"},null,null,null,null,null,null,null,null,null,null,null,null,null,null,null,null,null,4,null,null,null,null,null,5.0999999999999996,null,null,null,5.2,null,null,null,null,null,null,null,null,null,5.3,null,null,null,null,null,null,null,null,5.4,null,null,null,null,null,null,null,null,5.5,null,null,null,6,null,null,7,null,null,null,null,null,null,8,null,9,null,10,null,"TOTAL for Design Process","TOTAL for Working Drawing","4 = NO CAD / 6 = CAD","TOTAL: DRAWING METHODS","TOTAL"]
[null,"Grade:",null,null,null,{"$f":"INSERT!J4","v":0},null,null,{"$f":"'Civil Assessment'!$B$11","v":"Design Brief"},null,null,null,null,null,{"$f":"'Civil Assessment'!$B$18","v":" Research (This should be restricted to a maximum of FOUR A4 or TWO A3 pages per topic.)"},null,null,null,null,null,"Solution 1",null,null,null,null,null,null,null,null,"Solution 2",null,null,null,null,null,null,null,null,{"$f":"'Civil Assessment'!$B$36","v":"Selecting the best freehand solution (This must be a separate presentation)"},null,null,null,null,null,{"$f":"'Civil Assessment'!$B$44","v":"Drawing sheet preparation"},null,null,null,{"$f":"'Civil Assessment'!$B$50","v":"Floor plan showing: "},null,null,null,null,null,null,null,null,null,{"$f":"'Civil Assessment'!$B$61","v":"NORTH ELEVATION or SOUTH ELEVATION and EAST ELECATION or WEST ELEVATION"},null,null,null,null,null,null,null,null,{"$f":"'Civil Assessment'!$B$72","v":"SECTIONAL ELEVATION showing:"},null,null,null,null,null,null,null,null,{"$f":"'Civil Assessment'!$B$82","v":"Detailed perspective drawing showing the front of the new building"},null,null,null,{"$f":"'Civil Assessment'!$B$87","v":"Continuous self-evaluation and the meeting of deadlines"},null,null,{"$f":"'Civil Assessment'!$B$91","v":"Presentation of the complete PAT file/portfolio"},null,null,null,null,null,null,{"$f":"'Civil Assessment'!$B$100","v":"Freehand drawings"},null,{"$f":"'Civil Assessment'!$B$104","v":"Instrument drawings"},null,{"$f":"'Civil Assessment'!$B$108","v":"CAD drawings"}]
[null,"Teacher:",null,null,null,{"$f":"INSERT!J5","v":0},null,null,{"$f":"'Civil Assessment'!$C$12","v":"1st paragraph: background and comprehensive description of what to design "},{"$f":"'Civil Assessment'!$C$13","v":"2nd paragraph: your role and the design process that you are going to follow"},{"$f":"'Civil Assessment'!$C$14","v":"A list ALL the given specifications from the scenario"},{"$f":"'Civil Assessment'!$C$15","v":"A list of FIVE possible constraints (content unknown to your field of EGD gr 11 content knowledge)"},{"$f":"'Civil Assessment'!$C$16","v":"A management plan with target dates for ALL the presentation requirements"},"TOTAL",{"$f":"'Civil Assessment'!$E$19","v":"The correct SANS 10143 bathroom features"},{"$f":"'Civil Assessment'!$E$20","v":"The correct SANS 10143 symbol for electrical features for civil drawings"},{"$f":"'Civil Assessment'!$E$21","v":"The correct calculations on floor areas and scales of drawings"},{"$f":"'Civil Assessment'!$B$22","v":"Clear evidence that the research has been used in your proposed design solutions"},{"$f":"'Civil Assessment'!$B$23","v":"A list of ALL references (Bibliography) "},"TOTAL",{"$f":"'Civil Assessment'!$D$26","v":"ALL the building features."},{"$f":"'Civil Assessment'!$D$27","v":"Correct presentation of all building features (Load & Non loadbearing walls)"},{"$f":"'Civil Assessment'!$D$28","v":"ALL fixtures included (doors windows bathroom fixtures)"},{"$f":"'Civil Assessment'!$D$29","v":"Correct presentation of all fixtures according to SANS 10143"},{"$f":"'Civil Assessment'!$D$30","v":"Relative size/proportion of features to each other"},{"$f":"'Civil Assessment'!$D$31","v":"Primary labels(1) + primary dimensions(2) (1 + 2 = 3)"},{"$f":"'Civil Assessment'!$D$32","v":"Area calculation clearly shown & within constraints"},{"$f":"'Civil Assessment'!$D$33","v":"Design: Functionality and effective utilisation of space"},"TOTAL",{"$f":"U5","v":"ALL the building features."},"Correct presentation of all building features (Load & Non loadbearing walls)","ALL fixtures included (doors windows bathroom fixtures)","Correct presentation of all fixtures according to SANS 10143","Relative size/proportion of features to each other","Primary labels(1) + primary dimensions(2) (1 + 2 = 3)","Area calculation clearly shown & within constraints","Design: Functionality and effective utilisation of space","TOTAL",{"$f":"'Civil Assessment'!$C$37","v":"Table created for an easily understandable presentation of the selection process"},{"$f":"'Civil Assessment'!$C$38","v":"Minimum of FIVE descriptive criteria to evaluate and compare"},{"$f":"'Civil Assessment'!$C$39","v":"Simple rating scale created and used to score each solution against each criterion"},{"$f":"'Civil Assessment'!$C$40","v":"Each score justified by describing the positive or negative aspects of each criterion"},{"$f":"'Civil Assessment'!$C$41","v":"Comprehensive summary giving reasons for the selected freehand solution"},"TOTAL",{"$f":"'Civil Assessment'!$B$45","v":"Appropriately sized drawing sheets"},{"$f":"'Civil Assessment'!$B$46","v":"Correct borders on all the drawing sheets of all the working drawings "},{"$f":"'Civil Assessment'!$B$47","v":"Complete SANS 10143 civil title panel on first working drawing’s drawing sheet "},"TOTAL",{"$f":"'Civil Assessment'!$B$51","v":"Correlation with selected freehand solution and the selection process summary"},{"$f":"'Civil Assessment'!$B$52","v":"ALL internal and external walls, incl. ALL hatching detail"},{"$f":"'Civil Assessment'!$B$53","v":"ALL doors and windows"},{"$f":"'Civil Assessment'!$B$54","v":"ALL permanent fixtures"},{"$f":"'Civil Assessment'!$B$55","v":"Detailed layout of the required facility inside the existing structure"},{"$f":"'Civil Assessment'!$B$56","v":"ALL electrical fittings and the wiring detail "},{"$f":"'Civil Assessment'!$B$57","v":"Waste-water disposal systems (sewerage)"},{"$f":"'Civil Assessment'!$B$58","v":"Title, labels and notes (2) + detailed dimensioning (2) (2 + 2 = 4)"},{"$f":"'Civil Assessment'!$B$59","v":"Suitable scale selected & correctly indicated (1) + cutting plane (1) + north point (1)"},"TOTAL",{"$f":"'Civil Assessment'!$B$62","v":"Appropriate views selected "},{"$f":"'Civil Assessment'!$B$63","v":"External walls and ALL other external features"},{"$f":"'Civil Assessment'!$B$64","v":"Door and window detail"},{"$f":"'Civil Assessment'!$B$65","v":"Waste-water disposal system (sewerage)"},{"$f":"'Civil Assessment'!$B$66","v":"Elevation drawn to same scale as the floor plan and scale indicated"},{"$f":"'Civil Assessment'!$B$67","v":0},{"$f":"'Civil Assessment'!$B$68","v":0},{"$f":"'Civil Assessment'!$B$69","v":0},"TOTAL",{"$f":"'Civil Assessment'!$B$73","v":"Section correct according to the indicated cutting plane(s)"},{"$f":"'Civil Assessment'!$B$74","v":"Foundation, slab and wall detail"},{"$f":"'Civil Assessment'!$B$75","v":"Door(s) and window(s) detail"},{"$f":"'Civil Assessment'!$B$76","v":"Dimensions at FFL, lintels and roof level indicated correct"},{"$f":"'Civil Assessment'!$B$77","v":"Labels and notes"},{"$f":"'Civil Assessment'!$B$78","v":"Enlarged scale selected and indicated correctly"},{"$f":"'Civil Assessment'!$B$79","v":"Detailed dimensioning"},{"$f":"'Civil Assessment'!$B$80","v":"ALL hatching detail"},"TOTAL",{"$f":"'Civil Assessment'!$B$83","v":"Evidence of views/drawings and construction/method used for the drawing"},{"$f":"'Civil Assessment'!$B$84","v":"Correct orientation showing the front (1) and the correct HL high for a human eye view (1)"},{"$f":"'Civil Assessment'!$B$85","v":"Perspective drawing/answer (Use the 7-point-rubrickk on p. 45 of the EGD CAPS document)"},"TOTAL",{"$f":"'Civil Assessment'!$B$88","v":"Checklist completed as evidence of continuous self-evaluation (mark out of 10 ÷ 2)"},{"$f":"'Civil Assessment'!$B$89","v":"The meeting of ALL the deadlines during the development (mark out of 10 ÷ 2)"},"TOTAL",{"$f":"'Civil Assessment'!$B$92","v":"Complete cover page"},{"$f":"'Civil Assessment'!$B$93","v":"Index with page references per topic(s) on each page"},{"$f":"'Civil Assessment'!$B$94","v":"Summative assessment sheet and declaration"},{"$f":"'Civil Assessment'!$B$95","v":"Correct sequencing of ALL presentation requirements"},{"$f":"'Civil Assessment'!$B$96","v":"Name and numbering on ALL the presentation requirements"},{"$f":"'Civil Assessment'!$B$97","v":"General impression of file/portfolio. (mark out of 10 ÷ 2)"},"TOTAL","Freehand drawings METHODS (grid paper) & skills (see rubric grd 12 PAT – p 24)","CONSISTENCY of line quality (see rubric grd 12 PAT – p 24).","Drawing method & skills. Use of drawing instruments (see rubric grd 12 PAT – p 24).","Consistency of, line quality and printing (see rubric grd 12 PAT – p 24).","Competence displayed in using a CAD program (see rubric grd 12 PAT – p 24).","Layout and correctness of the drawings presentation (see rubric grd 12 PAT – p 24)."]
[null,"HOD:",null,null,null,{"$f":"INSERT!J6","v":0}]
[null,null,null,null,"EGD SES:",{"$f":"INSERT!J7","v":0}]
[]
[]
[]
[null,null,null,"Class","Admission","SURNAME","NAME","GENDER",{"$f":"'Civil Assessment'!$M$12","v":2},{"$f":"'Civil Assessment'!$M$13","v":2},{"$f":"'Civil Assessment'!$M$14","v":2},{"$f":"'Civil Assessment'!$M$15","v":2},{"$f":"'Civil Assessment'!$M$16","v":2},{"$f":"SUM(I11:M11)","v":10},{"$f":"'Civil Assessment'!$M$19","v":2},{"$f":"'Civil Assessment'!$M$20","v":2},{"$f":"'Civil Assessment'!$M$21","v":2},{"$f":"'Civil Assessment'!$M$22","v":2},{"$f":"'Civil Assessment'!$M$23","v":2},{"$f":"SUM(O11:S11)","v":10},{"$f":"'Civil Assessment'!$M$26","v":2},{"$f":"'Civil Assessment'!$M$27","v":2},{"$f":"'Civil Assessment'!$M$28","v":2},{"$f":"'Civil Assessment'!$M$29","v":2},{"$f":"'Civil Assessment'!$M$30","v":1},{"$f":"'Civil Assessment'!$M$31","v":2},{"$f":"'Civil Assessment'!$M$32","v":2},{"$f":"'Civil Assessment'!$M$33","v":2},{"$f":"ROUND((SUM(U11:AB11)/1.5),0)","v":10},{"$f":"U11","v":2},2,2,2,1,2,2,2,{"$f":"ROUND((SUM(AD11:AK11)/1.5),0)","v":10},{"$f":"'Civil Assessment'!$M$37","v":2},{"$f":"'Civil Assessment'!$M$38","v":2},{"$f":"'Civil Assessment'!$M$39","v":2},{"$f":"'Civil Assessment'!$M$40","v":2},{"$f":"'Civil Assessment'!$M$41","v":2},{"$f":"SUM(AM11:AQ11)","v":10},{"$f":"'Civil Assessment'!$M$45","v":1},{"$f":"'Civil Assessment'!$M$46","v":2},{"$f":"'Civil Assessment'!$M$47","v":7},{"$f":"SUM(AS11:AU11)","v":10},{"$f":"'Civil Assessment'!$M$51","v":1},{"$f":"'Civil Assessment'!$M$52","v":2},{"$f":"'Civil Assessment'!$M$53","v":2},{"$f":"'Civil Assessment'!$M$54","v":2},{"$f":"'Civil Assessment'!$M$55","v":2},{"$f":"'Civil Assessment'!$M$56","v":2},{"$f":"'Civil Assessment'!$M$57","v":2},{"$f":"'Civil Assessment'!$M$58","v":4},{"$f":"'Civil Assessment'!$M$59","v":3},{"$f":"ROUND((SUM(AW11:BE11)/2),0)","v":10},{"$f":"'Civil Assessment'!$M$62","v":2},{"$f":"'Civil Assessment'!$M$63","v":2},{"$f":"'Civil Assessment'!$M$64","v":2},{"$f":"'Civil Assessment'!$M$65","v":2},{"$f":"'Civil Assessment'!$M$66","v":2},{"$f":"'Civil Assessment'!$M$67","v":0},{"$f":"'Civil Assessment'!$M$68","v":0},{"$f":"'Civil Assessment'!$M$69","v":0},{"$f":"ROUND((SUM(BG11:BN11)),0)","v":10},{"$f":"'Civil Assessment'!$M$73","v":2},{"$f":"'Civil Assessment'!$M$74","v":2},{"$f":"'Civil Assessment'!$M$75","v":2},{"$f":"'Civil Assessment'!$M$76","v":2},{"$f":"'Civil Assessment'!$M$77","v":2},{"$f":"'Civil Assessment'!$M$78","v":1},{"$f":"'Civil Assessment'!$M$79","v":2},{"$f":"'Civil Assessment'!$M$80","v":2},{"$f":"ROUND((SUM(BP11:BW11)/1.5),0)","v":10},{"$f":"'Civil Assessment'!$M$83","v":1},{"$f":"'Civil Assessment'!$M$84","v":2},{"$f":"'Civil Assessment'!$M$85","v":7},{"$f":"SUM(BY11:CA11)","v":10},5,5,{"$f":"SUM(CC11:CD11)","v":10},{"$f":"'Civil Assessment'!$M$92","v":1},{"$f":"'Civil Assessment'!$M$93","v":1},{"$f":"'Civil Assessment'!$M$94","v":1},{"$f":"'Civil Assessment'!$M$95","v":1},{"$f":"'Civil Assessment'!$M$96","v":1},{"$f":"'Civil Assessment'!$M$97","v":5},{"$f":"SUM(CF11:CK11)","v":10},10,10,10,10,10,10,{"$f":"ROUND((SUM(N11+T11+AC11+AL11+AR11+CE11+CL11)/2.82),0)","v":25},{"$f":"ROUND((SUM(AV11+BF11+BO11+BX11+CB11)),0)","v":50},null,25,{"$f":"SUM(CS11+CT11+CV11)","v":100}]
[null,"DATE:"]
[]
[{"$f":"SUM(COUNTA(F14)+COUNT(B14))","v":2},1,1,{"$f":"INSERT!A3","v":0},{"$f":"INSERT!B3","v":0},{"$f":"INSERT!C3","v":0},{"$f":"INSERT!D3","v":0},{"$f":"INSERT!E3","v":0},null,null,null,null,null,{"$f":"SUM(I14:M14)","v":0},null,null,null,null,null,{"$f":"SUM(O14:S14)","v":0},null,null,null,null,null,null,null,null,{"$f":"ROUND((SUM(U14:AB14)/1.5),0)","v":0},null,null,null,null,null,null,null,null,{"$f":"ROUND((SUM(AD14:AK14)/1.5),0)","v":0},null,null,null,null,null,{"$f":"SUM(AM14:AQ14)","v":0},null,null,null,{"$f":"SUM(AS14:AU14)","v":0},null,null,null,null,null,null,null,null,null,{"$f":"ROUND((SUM(AW14:BE14)/2),0)","v":0},null,null,null,null,null,null,null,null,{"$f":"ROUND((SUM(BG14:BN14)),0)","v":0},null,null,null,null,null,null,null,null,{"$f":"ROUND((SUM(BP14:BW14)/1.5),0)","v":0},null,null,null,{"$f":"SUM(BY14:CA14)","v":0},null,null,{"$f":"SUM(CC14:CD14)","v":0},null,null,null,null,null,null,{"$f":"SUM(CF14:CK14)","v":0},null,null,null,null,null,null,{"$f":"ROUND((SUM(N14+T14+AC14+AL14+AR14+CE14+CL14)/2.82),0)","v":0},{"$f":"ROUND((SUM(AV14+BF14+BO14+BX14+CB14)),0)","v":0},{"$f":"COUNTIF(CM14:CN14,\">0\")+COUNTIF(CO14:CP14,\">0\")+COUNTIF(CQ14:CR14,\">0\")","v":0},{"$f":"ROUND(IF(CU14=4,SUMIF(CM14:CR14,\">0\")/1.6,IF(CU14=6,SUMIF(CM14:CR14,\">0\")/2.4,SUMIF(CM14:CR14,\">0\"))),0)","v":0},{"$f":"SUM(CS14+CT14+CV14)","v":0},null,null,null,null,null,-2,-2,-2,-2,-2,-2]
[{"$f":"SUM(COUNTA(F15)+COUNT(B15))","v":2},{"$f":"B14+1","v":2},2,{"$f":"INSERT!A4","v":0},{"$f":"INSERT!B4","v":0},{"$f":"INSERT!C4","v":0},{"$f":"INSERT!D4","v":0},{"$f":"INSERT!E4","v":0},null,null,null,null,null,0,null,null,null,null,null,0,null,null,null,null,null,null,null,null,0,null,null,null,null,null,null,null,null,0,null,null,null,null,null,0,null,null,null,0,null,null,null,null,null,null,null,null,null,0,null,null,null,null,null,null,null,null,0,null,null,null,null,null,null,null,null,0,null,null,null,0,null,null,0,null,null,null,null,null,null,0,null,null,null,null,null,null,0,0,0,0,0,null,null,null,null,null,-1,-1,-1,-1,-1,-1]
[2,{"$f":"B15+1","v":3},3,{"$f":"INSERT!A5","v":0},{"$f":"INSERT!B5","v":0},{"$f":"INSERT!C5","v":0},{"$f":"INSERT!D5","v":0},{"$f":"INSERT!E5","v":0},null,null,null,null,null,0,null,null,null,null,null,0,null,null,null,null,null,null,null,null,0,null,null,null,null,null,null,null,null,0,null,null,null,null,null,0,null,null,null,0,null,null,null,null,null,null,null,null,null,0,null,null,null,null,null,null,null,null,0,null,null,null,null,null,null,null,null,0,null,null,null,0,null,null,0,null,null,null,null,null,null,0,null,null,null,null,null,null,0,0,0,0,0,null,null,null,null,null,0,0,0,0,0,0]
[2,4,4,{"$f":"INSERT!A6","v":0},{"$f":"INSERT!B6","v":0},{"$f":"INSERT!C6","v":0},{"$f":"INSERT!D6","v":0},{"$f":"INSERT!E6","v":0},null,null,null,null,null,0,null,null,null,null,null,0,null,null,null,null,null,null,null,null,0,null,null,null,null,null,null,null,null,0,null,null,null,null,null,0,null,null,null,0,null,null,null,null,null,null,null,null,null,0,null,null,null,null,null,null,null,null,0,null,null,null,null,null,null,null,null,0,null,null,null,0,null,null,0,null,null,null,null,null,null,0,null,null,null,null,null,null,0,0,0,0,0,null,null,null,null,null,1,1,1,1,1,1]
[2,5,5,{"$f":"INSERT!A7","v":0},{"$f":"INSERT!B7","v":0},{"$f":"INSERT!C7","v":0},{"$f":"INSERT!D7","v":0},{"$f":"INSERT!E7","v":0},null,null,null,null,null,0,null,null,null,null,null,0,null,null,null,null,null,null,null,null,0,null,null,null,null,null,null,null,null,0,null,null,null,null,null,0,null,null,null,0,null,null,null,null,null,null,null,null,null,0,null,null,null,null,null,null,null,null,0,null,null,null,null,null,null,null,null,0,null,null,null,0,null,null,0,null,null,null,null,null,null,0,null,null,null,null,null,null,0,0,0,0,0,null,null,null,null,null,null,2,2,2,2,2]
[2,6,6,{"$f":"INSERT!A8","v":0},{"$f":"INSERT!B8","v":0},{"$f":"INSERT!C8","v":0},{"$f":"INSERT!D8","v":0},{"$f":"INSERT!E8","v":0},null,null,null,null,null,0,null,null,null,null,null,0,null,null,null,null,null,null,null,null,0,null,null,null,null,null,null,null,null,0,null,null,null,null,null,0,null,null,null,0,null,null,null,null,null,null,null,null,null,0,null,null,null,null,null,null,null,null,0,null,null,null,null,null,null,null,null,0,null,null,null,0,null,null,0,null,null,null,null,null,null,0,null,null,null,null,null,null,0,0,0,0,0,null,null,null,null,null,null,null,3,3,3,3]
[2,7,7,{"$f":"INSERT!A9","v":0},{"$f":"INSERT!B9","v":0},{"$f":"INSERT!C9","v":0},{"$f":"INSERT!D9","v":0},{"$f":"INSERT!E9","v":0},null,null,null,null,null,0,null,null,null,null,null,0,null,null,null,null,null,null,null,null,0,null,null,null,null,null,null,null,null,0,null,null,null,null,null,0,null,null,null,0,null,null,null,null,null,null,null,null,null,0,null,null,null,null,null,null,null,null,0,null,null,null,null,null,null,null,null,0,null,null,null,0,null,null,0,null,null,null,null,null,null,0,null,null,null,null,null,null,0,0,0,0,0,null,null,null,null,null,null,null,4,4,4,4]
[2,8,8,{"$f":"INSERT!A10","v":0},{"$f":"INSERT!B10","v":0},{"$f":"INSERT!C10","v":0},{"$f":"INSERT!D10","v":0},{"$f":"INSERT!E10","v":0},null,null,null,null,null,0,null,null,null,null,null,0,null,null,null,null,null,null,null,null,0,null,null,null,null,null,null,null,null,0,null,null,null,null,null,0,null,null,null,0,null,null,null,null,null,null,null,null,null,0,null,null,null,null,null,null,null,null,0,null,null,null,null,null,null,null,null,0,null,null,null,0,null,null,0,null,null,null,null,null,null,0,null,null,null,null,null,null,0,0,0,0,0,null,null,null,null,null,null,null,null,5,5,5]
[2,{"$f":"B21+1","v":9},9,{"$f":"INSERT!A11","v":0},{"$f":"INSERT!B11","v":0},{"$f":"INSERT!C11","v":0},{"$f":"INSERT!D11","v":0},{"$f":"INSERT!E11","v":0},null,null,null,null,null,0,null,null,null,null,null,0,null,null,null,null,null,null,null,null,0,null,null,null,null,null,null,null,null,0,null,null,null,null,null,0,null,null,null,0,null,null,null,null,null,null,null,null,null,0,null,null,null,null,null,null,null,null,0,null,null,null,null,null,null,null,null,0,null,null,null,0,null,null,0,null,null,null,null,null,null,0,null,null,null,null,null,null,0,0,0,0,0,null,null,null,null,null,null,null,null,null,6,6]
[2,10,10,{"$f":"INSERT!A12","v":0},{"$f":"INSERT!B12","v":0},{"$f":"INSERT!C12","v":0},{"$f":"INSERT!D12","v":0},{"$f":"INSERT!E12","v":0},null,null,null,null,null,0,null,null,null,null,null,0,null,null,null,null,null,null,null,null,0,null,null,null,null,null,null,null,null,0,null,null,null,null,null,0,null,null,null,0,null,null,null,null,null,null,null,null,null,0,null,null,null,null,null,null,null,null,0,null,null,null,null,null,null,null,null,0,null,null,null,0,null,null,0,null,null,null,null,null,null,0,null,null,null,null,null,null,0,0,0,0,0,null,null,null,null,null,null,null,null,null,7,7]
[2,11,11,{"$f":"INSERT!A13","v":0},{"$f":"INSERT!B13","v":0},{"$f":"INSERT!C13","v":0},{"$f":"INSERT!D13","v":0},{"$f":"INSERT!E13","v":0},null,null,null,null,null,0,null,null,null,null,null,0,null,null,null,null,null,null,null,null,0,null,null,null,null,null,null,null,null,0,null,null,null,null,null,0,null,null,null,0,null,null,null,null,null,null,null,null,null,0,null,null,null,null,null,null,null,null,0,null,null,null,null,null,null,null,null,0,null,null,null,0,null,null,0,null,null,null,null,null,null,0,null,null,null,null,null,null,0,0,0,0,0,null,null,null,null,null,null,null,null,null,null,8]
[2,12,12,{"$f":"INSERT!A14","v":0},{"$f":"INSERT!B14","v":0},{"$f":"INSERT!C14","v":0},{"$f":"INSERT!D14","v":0},{"$f":"INSERT!E14","v":0},null,null,null,null,null,0,null,null,null,null,null,0,null,null,null,null,null,null,null,null,0,null,null,null,null,null,null,null,null,0,null,null,null,null,null,0,null,null,null,0,null,null,null,null,null,null,null,null,null,0,null,null,null,null,null,null,null,null,0,null,null,null,null,null,null,null,null,0,null,null,null,0,null,null,0,null,null,null,null,null,null,0,null,null,null,null,null,null,0,0,0,0,0,null,null,null,null,null,null,null,null,null,null,9]
[2,13,13,{"$f":"INSERT!A15","v":0},{"$f":"INSERT!B15","v":0},{"$f":"INSERT!C15","v":0},{"$f":"INSERT!D15","v":0},{"$f":"INSERT!E15","v":0},null,null,null,null,null,0,null,null,null,null,null,0,null,null,null,null,null,null,null,null,0,null,null,null,null,null,null,null,null,0,null,null,null,null,null,0,null,null,null,0,null,null,null,null,null,null,null,null,null,0,null,null,null,null,null,null,null,null,0,null,null,null,null,null,null,null,null,0,null,null,null,0,null,null,0,null,null,null,null,null,null,0,null,null,null,null,null,null,0,0,0,0,0,null,null,null,null,null,null,null,null,null,null,10]
[2,14,14,{"$f":"INSERT!A16","v":0},{"$f":"INSERT!B16","v":0},{"$f":"INSERT!C16","v":0},{"$f":"INSERT!D16","v":0},{"$f":"INSERT!E16","v":0},null,null,null,null,null,0,null,null,null,null,null,0,null,null,null,null,null,null,null,null,0,null,null,null,null,null,null,null,null,0,null,null,null,null,null,0,null,null,null,0,null,null,null,null,null,null,null,null,null,0,null,null,null,null,null,null,null,null,0,null,null,null,null,null,null,null,null,0,null,null,null,0,null,null,0,null,null,null,null,null,null,0,null,null,null,null,null,null,0,0,0,0,0]
[2,15,15,{"$f":"INSERT!A17","v":0},{"$f":"INSERT!B17","v":0},{"$f":"INSERT!C17","v":0},{"$f":"INSERT!D17","v":0},{"$f":"INSERT!E17","v":0},null,null,null,null,null,0,null,null,null,null,null,0,null,null,null,null,null,null,null,null,0,null,null,null,null,null,null,null,null,0,null,null,null,null,null,0,null,null,null,0,null,null,null,null,null,null,null,null,null,0,null,null,null,null,null,null,null,null,0,null,null,null,null,null,null,null,null,0,null,null,null,0,null,null,0,null,null,null,null,null,null,0,null,null,null,null,null,null,0,0,0,0,0]
[2,16,16,{"$f":"INSERT!A18","v":0},{"$f":"INSERT!B18","v":0},{"$f":"INSERT!C18","v":0},{"$f":"INSERT!D18","v":0},{"$f":"INSERT!E18","v":0},null,null,null,null,null,0,null,null,null,null,null,0,null,null,null,null,null,null,null,null,0,null,null,null,null,null,null,null,null,0,null,null,null,null,null,0,null,null,null,{"$f":"SUM(AS29:AU29)","v":0},null,null,null,null,null,null,null,null,null,0,null,null,null,null,null,null,null,null,0,null,null,null,null,null,null,null,null,0,null,null,null,0,null,null,0,null,null,null,null,null,null,0,null,null,null,null,null,null,0,0,0,0,0]
[2,17,17,{"$f":"INSERT!A19","v":0},{"$f":"INSERT!B19","v":0},{"$f":"INSERT!C19","v":0},{"$f":"INSERT!D19","v":0},{"$f":"INSERT!E19","v":0},null,null,null,null,null,0,null,null,null,null,null,0,null,null,null,null,null,null,null,null,0,null,null,null,null,null,null,null,null,0,null,null,null,null,null,0,null,null,null,{"$f":"SUM(AS30:AU30)","v":0},null,null,null,null,null,null,null,null,null,0,null,null,null,null,null,null,null,null,0,null,null,null,null,null,null,null,null,0,null,null,null,0,null,null,0,null,null,null,null,null,null,0,null,null,null,null,null,null,0,0,0,0,0]
[2,18,18,{"$f":"INSERT!A20","v":0},{"$f":"INSERT!B20","v":0},{"$f":"INSERT!C20","v":0},{"$f":"INSERT!D20","v":0},{"$f":"INSERT!E20","v":0},null,null,null,null,null,0,null,null,null,null,null,0,null,null,null,null,null,null,null,null,0,null,null,null,null,null,null,null,null,0,null,null,null,null,null,0,null,null,null,{"$f":"SUM(AS31:AU31)","v":0},null,null,null,null,null,null,null,null,null,0,null,null,null,null,null,null,null,null,0,null,null,null,null,null,null,null,null,0,null,null,null,0,null,null,0,null,null,null,null,null,null,0,null,null,null,null,null,null,0,0,0,0,0]
[2,19,19,{"$f":"INSERT!A21","v":0},{"$f":"INSERT!B21","v":0},{"$f":"INSERT!C21","v":0},{"$f":"INSERT!D21","v":0},{"$f":"INSERT!E21","v":0},null,null,null,null,null,0,null,null,null,null,null,0,null,null,null,null,null,null,null,null,0,null,null,null,null,null,null,null,null,0,null,null,null,null,null,0,null,null,null,{"$f":"SUM(AS32:AU32)","v":0},null,null,null,null,null,null,null,null,null,0,null,null,null,null,null,null,null,null,0,null,null,null,null,null,null,null,null,0,null,null,null,0,null,null,0,null,null,null,null,null,null,0,null,null,null,null,null,null,0,0,0,0,0]
[2,20,20,{"$f":"INSERT!A22","v":0},{"$f":"INSERT!B22","v":0},{"$f":"INSERT!C22","v":0},{"$f":"INSERT!D22","v":0},{"$f":"INSERT!E22","v":0},null,null,null,null,null,0,null,null,null,null,null,0,null,null,null,null,null,null,null,null,0,null,null,null,null,null,null,null,null,0,null,null,null,null,null,0,null,null,null,{"$f":"SUM(AS33:AU33)","v":0},null,null,null,null,null,null,null,null,null,0,null,null,null,null,null,null,null,null,0,null,null,null,null,null,null,null,null,0,null,null,null,0,null,null,0,null,null,null,null,null,null,0,null,null,null,null,null,null,0,0,0,0,0]
[2,21,21,{"$f":"INSERT!A23","v":0},{"$f":"INSERT!B23","v":0},{"$f":"INSERT!C23","v":0},{"$f":"INSERT!D23","v":0},{"$f":"INSERT!E23","v":0},null,null,null,null,null,0,null,null,null,null,null,0,null,null,null,null,null,null,null,null,0,null,null,null,null,null,null,null,null,0,null,null,null,null,null,0,null,null,null,0,null,null,null,null,null,null,null,null,null,0,null,null,null,null,null,null,null,null,0,null,null,null,null,null,null,null,null,0,null,null,null,0,null,null,0,null,null,null,null,null,null,0,null,null,null,null,null,null,0,0,0,0,0]
[2,22,22,{"$f":"INSERT!A24","v":0},{"$f":"INSERT!B24","v":0},{"$f":"INSERT!C24","v":0},{"$f":"INSERT!D24","v":0},{"$f":"INSERT!E24","v":0},null,null,null,null,null,0,null,null,null,null,null,0,null,null,null,null,null,null,null,null,0,null,null,null,null,null,null,null,null,0,null,null,null,null,null,0,null,null,null,0,null,null,null,null,null,null,null,null,null,0,null,null,null,null,null,null,null,null,0,null,null,null,null,null,null,null,null,0,null,null,null,0,null,null,0,null,null,null,null,null,null,0,null,null,null,null,null,null,0,0,0,0,0]
[2,23,23,{"$f":"INSERT!A25","v":0},{"$f":"INSERT!B25","v":0},{"$f":"INSERT!C25","v":0},{"$f":"INSERT!D25","v":0},{"$f":"INSERT!E25","v":0},null,null,null,null,null,0,null,null,null,null,null,0,null,null,null,null,null,null,null,null,0,null,null,null,null,null,null,null,null,0,null,null,null,null,null,0,null,null,null,0,null,null,null,null,null,null,null,null,null,0,null,null,null,null,null,null,null,null,0,null,null,null,null,null,null,null,null,0,null,null,null,0,null,null,0,null,null,null,null,null,null,0,null,null,null,null,null,null,0,0,0,0,0]
[2,24,24,{"$f":"INSERT!A26","v":0},{"$f":"INSERT!B26","v":0},{"$f":"INSERT!C26","v":0},{"$f":"INSERT!D26","v":0},{"$f":"INSERT!E26","v":0},null,null,null,null,null,0,null,null,null,null,null,0,null,null,null,null,null,null,null,null,0,null,null,null,null,null,null,null,null,0,null,null,null,null,null,0,null,null,null,{"$f":"SUM(AS37:AU37)","v":0},null,null,null,null,null,null,null,null,null,0,null,null,null,null,null,null,null,null,0,null,null,null,null,null,null,null,null,0,null,null,null,0,null,null,0,null,null,null,null,null,null,0,null,null,null,null,null,null,0,0,0,0,0]
[2,25,25,{"$f":"INSERT!A27","v":0},{"$f":"INSERT!B27","v":0},{"$f":"INSERT!C27","v":0},{"$f":"INSERT!D27","v":0},{"$f":"INSERT!E27","v":0},null,null,null,null,null,0,null,null,null,null,null,0,null,null,null,null,null,null,null,null,0,null,null,null,null,null,null,null,null,0,null,null,null,null,null,0,null,null,null,{"$f":"SUM(AS38:AU38)","v":0},null,null,null,null,null,null,null,null,null,0,null,null,null,null,null,null,null,null,0,null,null,null,null,null,null,null,null,0,null,null,null,0,null,null,0,null,null,null,null,null,null,0,null,null,null,null,null,null,0,0,0,0,0]
[2,26,26,{"$f":"INSERT!A28","v":0},{"$f":"INSERT!B28","v":0},{"$f":"INSERT!C28","v":0},{"$f":"INSERT!D28","v":0},{"$f":"INSERT!E28","v":0},null,null,null,null,null,0,null,null,null,null,null,0,null,null,null,null,null,null,null,null,0,null,null,null,null,null,null,null,null,0,null,null,null,null,null,0,null,null,null,{"$f":"SUM(AS39:AU39)","v":0},null,null,null,null,null,null,null,null,null,0,null,null,null,null,null,null,null,null,0,null,null,null,null,null,null,null,null,0,null,null,null,0,null,null,0,null,null,null,null,null,null,0,null,null,null,null,null,null,0,0,0,0,0]
[2,27,27,{"$f":"INSERT!A29","v":0},{"$f":"INSERT!B29","v":0},{"$f":"INSERT!C29","v":0},{"$f":"INSERT!D29","v":0},{"$f":"INSERT!E29","v":0},null,null,null,null,null,0,null,null,null,null,null,0,null,null,null,null,null,null,null,null,0,null,null,null,null,null,null,null,null,0,null,null,null,null,null,0,null,null,null,{"$f":"SUM(AS40:AU40)","v":0},null,null,null,null,null,null,null,null,null,0,null,null,null,null,null,null,null,null,0,null,null,null,null,null,null,null,null,0,null,null,null,0,null,null,0,null,null,null,null,null,null,0,null,null,null,null,null,null,0,0,0,0,0]
[2,28,28,{"$f":"INSERT!A30","v":0},{"$f":"INSERT!B30","v":0},{"$f":"INSERT!C30","v":0},{"$f":"INSERT!D30","v":0},{"$f":"INSERT!E30","v":0},null,null,null,null,null,0,null,null,null,null,null,0,null,null,null,null,null,null,null,null,0,null,null,null,null,null,null,null,null,0,null,null,null,null,null,0,null,null,null,{"$f":"SUM(AS41:AU41)","v":0},null,null,null,null,null,null,null,null,null,0,null,null,null,null,null,null,null,null,0,null,null,null,null,null,null,null,null,0,null,null,null,0,null,null,0,null,null,null,null,null,null,0,null,null,null,null,null,null,0,0,0,0,0]
[2,29,29,{"$f":"INSERT!A31","v":0},{"$f":"INSERT!B31","v":0},{"$f":"INSERT!C31","v":0},{"$f":"INSERT!D31","v":0},{"$f":"INSERT!E31","v":0},null,null,null,null,null,0,null,null,null,null,null,0,null,null,null,null,null,null,null,null,0,null,null,null,null,null,null,null,null,0,null,null,null,null,null,0,null,null,null,0,null,null,null,null,null,null,null,null,null,0,null,null,null,null,null,null,null,null,0,null,null,null,null,null,null,null,null,0,null,null,null,0,null,null,0,null,null,null,null,null,null,0,null,null,null,null,null,null,0,0,0,0,0]
[2,30,30,{"$f":"INSERT!A32","v":0},{"$f":"INSERT!B32","v":0},{"$f":"INSERT!C32","v":0},{"$f":"INSERT!D32","v":0},{"$f":"INSERT!E32","v":0},null,null,null,null,null,0,null,null,null,null,null,0,null,null,null,null,null,null,null,null,0,null,null,null,null,null,null,null,null,0,null,null,null,null,null,0,null,null,null,0,null,null,null,null,null,null,null,null,null,0,null,null,null,null,null,null,null,null,0,null,null,null,null,null,null,null,null,0,null,null,null,0,null,null,0,null,null,null,null,null,null,0,null,null,null,null,null,null,0,0,0,0,0]
[2,31,31,{"$f":"INSERT!A33","v":0},{"$f":"INSERT!B33","v":0},{"$f":"INSERT!C33","v":0},{"$f":"INSERT!D33","v":0},{"$f":"INSERT!E33","v":0},null,null,null,null,null,0,null,null,null,null,null,0,null,null,null,null,null,null,null,null,0,null,null,null,null,null,null,null,null,0,null,null,null,null,null,0,null,null,null,0,null,null,null,null,null,null,null,null,null,0,null,null,null,null,null,null,null,null,0,null,null,null,null,null,null,null,null,0,null,null,null,0,null,null,0,null,null,null,null,null,null,0,null,null,null,null,null,null,0,0,0,0,0]
[2,{"$f":"B44+1","v":32},32,{"$f":"INSERT!A34","v":0},{"$f":"INSERT!B34","v":0},{"$f":"INSERT!C34","v":0},{"$f":"INSERT!D34","v":0},{"$f":"INSERT!E34","v":0},null,null,null,null,null,0,null,null,null,null,null,0,null,null,null,null,null,null,null,null,0,null,null,null,null,null,null,null,null,0,null,null,null,null,null,0,null,null,null,0,null,null,null,null,null,null,null,null,null,0,null,null,null,null,null,null,null,null,0,null,null,null,null,null,null,null,null,0,null,null,null,0,null,null,0,null,null,null,null,null,null,0,null,null,null,null,null,null,0,0,0,0,0]
[2,33,33,{"$f":"INSERT!A35","v":0},{"$f":"INSERT!B35","v":0},{"$f":"INSERT!C35","v":0},{"$f":"INSERT!D35","v":0},{"$f":"INSERT!E35","v":0},null,null,null,null,null,{"$f":"SUM(I46:M46)","v":0},null,null,null,null,null,{"$f":"SUM(O46:S46)","v":0},null,null,null,null,null,null,null,null,{"$f":"ROUND((SUM(U46:AB46)/1.5),0)","v":0},null,null,null,null,null,null,null,null,{"$f":"ROUND((SUM(AD46:AK46)/1.5),0)","v":0},null,null,null,null,null,{"$f":"SUM(AM46:AQ46)","v":0},null,null,null,{"$f":"SUM(AS46:AU46)","v":0},null,null,null,null,null,null,null,null,null,{"$f":"ROUND((SUM(AW46:BE46)/2),0)","v":0},null,null,null,null,null,null,null,null,0,null,null,null,null,null,null,null,null,0,null,null,null,{"$f":"SUM(BY46:CA46)","v":0},null,null,{"$f":"SUM(CC46:CD46)","v":0},null,null,null,null,null,null,{"$f":"SUM(CF46:CK46)","v":0},null,null,null,null,null,null,{"$f":"ROUND((SUM(N46+T46+AC46+AL46+AR46+CE46+CL46)/2.82),0)","v":0},{"$f":"ROUND((SUM(AV46+BF46+BO46+BX46+CB46)),0)","v":0},{"$f":"COUNTIF(CM46:CN46,\">0\")+COUNTIF(CO46:CP46,\">0\")+COUNTIF(CQ46:CR46,\">0\")","v":0},{"$f":"ROUND(IF(CU46=4,SUMIF(CM46:CR46,\">0\")/1.6,IF(CU46=6,SUMIF(CM46:CR46,\">0\")/2.4,SUMIF(CM46:CR46,\">0\"))),0)","v":0},{"$f":"SUM(CS46+CT46+CV46)","v":0}]
[2,34,34,{"$f":"INSERT!A36","v":0},{"$f":"INSERT!B36","v":0},{"$f":"INSERT!C36","v":0},{"$f":"INSERT!D36","v":0},{"$f":"INSERT!E36","v":0},null,null,null,null,null,0,null,null,null,null,null,0,null,null,null,null,null,null,null,null,0,null,null,null,null,null,null,null,null,0,null,null,null,null,null,0,null,null,null,0,null,null,null,null,null,null,null,null,null,0,null,null,null,null,null,null,null,null,0,null,null,null,null,null,null,null,null,0,null,null,null,0,null,null,0,null,null,null,null,null,null,0,null,null,null,null,null,null,0,0,0,0,0]
[2,35,35,{"$f":"INSERT!A37","v":0},{"$f":"INSERT!B37","v":0},{"$f":"INSERT!C37","v":0},{"$f":"INSERT!D37","v":0},{"$f":"INSERT!E37","v":0},null,null,null,null,null,0,null,null,null,null,null,0,null,null,null,null,null,null,null,null,0,null,null,null,null,null,null,null,null,0,null,null,null,null,null,0,null,null,null,0,null,null,null,null,null,null,null,null,null,0,null,null,null,null,null,null,null,null,0,null,null,null,null,null,null,null,null,0,null,null,null,0,null,null,0,null,null,null,null,null,null,0,null,null,null,null,null,null,0,0,0,0,0]
[2,36,36,{"$f":"INSERT!A38","v":0},{"$f":"INSERT!B38","v":0},{"$f":"INSERT!C38","v":0},{"$f":"INSERT!D38","v":0},{"$f":"INSERT!E38","v":0},null,null,null,null,null,0,null,null,null,null,null,0,null,null,null,null,null,null,null,null,0,null,null,null,null,null,null,null,null,0,null,null,null,null,null,0,null,null,null,0,null,null,null,null,null,null,null,null,null,0,null,null,null,null,null,null,null,null,0,null,null,null,null,null,null,null,null,0,null,null,null,0,null,null,0,null,null,null,null,null,null,0,null,null,null,null,null,null,0,0,0,0,0]
[2,37,37,{"$f":"INSERT!A39","v":0},{"$f":"INSERT!B39","v":0},{"$f":"INSERT!C39","v":0},{"$f":"INSERT!D39","v":0},{"$f":"INSERT!E39","v":0},null,null,null,null,null,0,null,null,null,null,null,0,null,null,null,null,null,null,null,null,0,null,null,null,null,null,null,null,null,0,null,null,null,null,null,0,null,null,null,0,null,null,null,null,null,null,null,null,null,0,null,null,null,null,null,null,null,null,0,null,null,null,null,null,null,null,null,0,null,null,null,0,null,null,0,null,null,null,null,null,null,0,null,null,null,null,null,null,0,0,0,0,0]
[2,38,38,{"$f":"INSERT!A40","v":0},{"$f":"INSERT!B40","v":0},{"$f":"INSERT!C40","v":0},{"$f":"INSERT!D40","v":0},{"$f":"INSERT!E40","v":0},null,null,null,null,null,0,null,null,null,null,null,0,null,null,null,null,null,null,null,null,0,null,null,null,null,null,null,null,null,0,null,null,null,null,null,0,null,null,null,0,null,null,null,null,null,null,null,null,null,0,null,null,null,null,null,null,null,null,0,null,null,null,null,null,null,null,null,0,null,null,null,0,null,null,0,null,null,null,null,null,null,0,null,null,null,null,null,null,0,0,0,0,0]
[2,39,39,{"$f":"INSERT!A41","v":0},{"$f":"INSERT!B41","v":0},{"$f":"INSERT!C41","v":0},{"$f":"INSERT!D41","v":0},{"$f":"INSERT!E41","v":0},null,null,null,null,null,0,null,null,null,null,null,0,null,null,null,null,null,null,null,null,0,null,null,null,null,null,null,null,null,0,null,null,null,null,null,0,null,null,null,0,null,null,null,null,null,null,null,null,null,0,null,null,null,null,null,null,null,null,0,null,null,null,null,null,null,null,null,0,null,null,null,0,null,null,0,null,null,null,null,null,null,0,null,null,null,null,null,null,0,0,0,0,0]
[2,40,40,{"$f":"INSERT!A42","v":0},{"$f":"INSERT!B42","v":0},{"$f":"INSERT!C42","v":0},{"$f":"INSERT!D42","v":0},{"$f":"INSERT!E42","v":0},null,null,null,null,null,0,null,null,null,null,null,0,null,null,null,null,null,null,null,null,0,null,null,null,null,null,null,null,null,0,null,null,null,null,null,0,null,null,null,0,null,null,null,null,null,null,null,null,null,0,null,null,null,null,null,null,null,null,0,null,null,null,null,null,null,null,null,0,null,null,null,0,null,null,0,null,null,null,null,null,null,0,null,null,null,null,null,null,0,0,0,0,0]
[2,41,41,{"$f":"INSERT!A43","v":0},{"$f":"INSERT!B43","v":0},{"$f":"INSERT!C43","v":0},{"$f":"INSERT!D43","v":0},{"$f":"INSERT!E43","v":0},null,null,null,null,null,0,null,null,null,null,null,0,null,null,null,null,null,null,null,null,0,null,null,null,null,null,null,null,null,0,null,null,null,null,null,0,null,null,null,0,null,null,null,null,null,null,null,null,null,0,null,null,null,null,null,null,null,null,0,null,null,null,null,null,null,null,null,0,null,null,null,0,null,null,0,null,null,null,null,null,null,0,null,null,null,null,null,null,0,0,0,0,0]
[2,42,42,{"$f":"INSERT!A44","v":0},{"$f":"INSERT!B44","v":0},{"$f":"INSERT!C44","v":0},{"$f":"INSERT!D44","v":0},{"$f":"INSERT!E44","v":0},null,null,null,null,null,0,null,null,null,null,null,0,null,null,null,null,null,null,null,null,0,null,null,null,null,null,null,null,null,0,null,null,null,null,null,0,null,null,null,0,null,null,null,null,null,null,null,null,null,0,null,null,null,null,null,null,null,null,0,null,null,null,null,null,null,null,null,0,null,null,null,0,null,null,0,null,null,null,null,null,null,0,null,null,null,null,null,null,0,0,0,0,0]
[2,43,43,{"$f":"INSERT!A45","v":0},{"$f":"INSERT!B45","v":0},{"$f":"INSERT!C45","v":0},{"$f":"INSERT!D45","v":0},{"$f":"INSERT!E45","v":0},null,null,null,null,null,0,null,null,null,null,null,0,null,null,null,null,null,null,null,null,0,null,null,null,null,null,null,null,null,0,null,null,null,null,null,0,null,null,null,0,null,null,null,null,null,null,null,null,null,0,null,null,null,null,null,null,null,null,0,null,null,null,null,null,null,null,null,0,null,null,null,0,null,null,0,null,null,null,null,null,null,0,null,null,null,null,null,null,0,0,0,0,0]
[2,44,44,{"$f":"INSERT!A46","v":0},{"$f":"INSERT!B46","v":0},{"$f":"INSERT!C46","v":0},{"$f":"INSERT!D46","v":0},{"$f":"INSERT!E46","v":0},null,null,null,null,null,0,null,null,null,null,null,0,null,null,null,null,null,null,null,null,0,null,null,null,null,null,null,null,null,0,null,null,null,null,null,0,null,null,null,0,null,null,null,null,null,null,null,null,null,0,null,null,null,null,null,null,null,null,0,null,null,null,null,null,null,null,null,0,null,null,null,0,null,null,0,null,null,null,null,null,null,0,null,null,null,null,null,null,0,0,0,0,0]
[2,45,45,{"$f":"INSERT!A47","v":0},{"$f":"INSERT!B47","v":0},{"$f":"INSERT!C47","v":0},{"$f":"INSERT!D47","v":0},{"$f":"INSERT!E47","v":0},null,null,null,null,null,0,null,null,null,null,null,0,null,null,null,null,null,null,null,null,0,null,null,null,null,null,null,null,null,0,null,null,null,null,null,0,null,null,null,0,null,null,null,null,null,null,null,null,null,0,null,null,null,null,null,null,null,null,0,null,null,null,null,null,null,null,null,0,null,null,null,0,null,null,0,null,null,null,null,null,null,0,null,null,null,null,null,null,0,0,0,0,0]
[2,46,46,{"$f":"INSERT!A48","v":0},{"$f":"INSERT!B48","v":0},{"$f":"INSERT!C48","v":0},{"$f":"INSERT!D48","v":0},{"$f":"INSERT!E48","v":0},null,null,null,null,null,0,null,null,null,null,null,0,null,null,null,null,null,null,null,null,0,null,null,null,null,null,null,null,null,0,null,null,null,null,null,0,null,null,null,0,null,null,null,null,null,null,null,null,null,0,null,null,null,null,null,null,null,null,0,null,null,null,null,null,null,null,null,0,null,null,null,0,null,null,0,null,null,null,null,null,null,0,null,null,null,null,null,null,0,0,0,0,0]
[2,47,47,{"$f":"INSERT!A49","v":0},{"$f":"INSERT!B49","v":0},{"$f":"INSERT!C49","v":0},{"$f":"INSERT!D49","v":0},{"$f":"INSERT!E49","v":0},null,null,null,null,null,0,null,null,null,null,null,0,null,null,null,null,null,null,null,null,0,null,null,null,null,null,null,null,null,0,null,null,null,null,null,0,null,null,null,0,null,null,null,null,null,null,null,null,null,0,null,null,null,null,null,null,null,null,0,null,null,null,null,null,null,null,null,0,null,null,null,0,null,null,0,null,null,null,null,null,null,0,null,null,null,null,null,null,0,0,0,0,0]
[2,48,48,{"$f":"INSERT!A50","v":0},{"$f":"INSERT!B50","v":0},{"$f":"INSERT!C50","v":0},{"$f":"INSERT!D50","v":0},{"$f":"INSERT!E50","v":0},null,null,null,null,null,0,null,null,null,null,null,0,null,null,null,null,null,null,null,null,0,null,null,null,null,null,null,null,null,0,null,null,null,null,null,0,null,null,null,0,null,null,null,null,null,null,null,null,null,0,null,null,null,null,null,null,null,null,0,null,null,null,null,null,null,null,null,0,null,null,null,0,null,null,0,null,null,null,null,null,null,0,null,null,null,null,null,null,0,0,0,0,0]
[2,49,49,{"$f":"INSERT!A51","v":0},{"$f":"INSERT!B51","v":0},{"$f":"INSERT!C51","v":0},{"$f":"INSERT!D51","v":0},{"$f":"INSERT!E51","v":0},null,null,null,null,null,0,null,null,null,null,null,0,null,null,null,null,null,null,null,null,0,null,null,null,null,null,null,null,null,0,null,null,null,null,null,0,null,null,null,0,null,null,null,null,null,null,null,null,null,0,null,null,null,null,null,null,null,null,0,null,null,null,null,null,null,null,null,0,null,null,null,0,null,null,0,null,null,null,null,null,null,0,null,null,null,null,null,null,0,0,0,0,0]
[2,50,50,{"$f":"INSERT!A52","v":0},{"$f":"INSERT!B52","v":0},{"$f":"INSERT!C52","v":0},{"$f":"INSERT!D52","v":0},{"$f":"INSERT!E52","v":0},null,null,null,null,null,0,null,null,null,null,null,0,null,null,null,null,null,null,null,null,0,null,null,null,null,null,null,null,null,0,null,null,null,null,null,0,null,null,null,0,null,null,null,null,null,null,null,null,null,0,null,null,null,null,null,null,null,null,0,null,null,null,null,null,null,null,null,0,null,null,null,0,null,null,0,null,null,null,null,null,null,0,null,null,null,null,null,null,0,0,0,0,0]
[2,51,51,{"$f":"INSERT!A53","v":0},{"$f":"INSERT!B53","v":0},{"$f":"INSERT!C53","v":0},{"$f":"INSERT!D53","v":0},{"$f":"INSERT!E53","v":0},null,null,null,null,null,0,null,null,null,null,null,0,null,null,null,null,null,null,null,null,0,null,null,null,null,null,null,null,null,0,null,null,null,null,null,0,null,null,null,0,null,null,null,null,null,null,null,null,null,0,null,null,null,null,null,null,null,null,0,null,null,null,null,null,null,null,null,0,null,null,null,0,null,null,0,null,null,null,null,null,null,0,null,null,null,null,null,null,0,0,0,0,0]
[2,52,52,{"$f":"INSERT!A54","v":0},{"$f":"INSERT!B54","v":0},{"$f":"INSERT!C54","v":0},{"$f":"INSERT!D54","v":0},{"$f":"INSERT!E54","v":0},null,null,null,null,null,0,null,null,null,null,null,0,null,null,null,null,null,null,null,null,0,null,null,null,null,null,null,null,null,0,null,null,null,null,null,0,null,null,null,0,null,null,null,null,null,null,null,null,null,0,null,null,null,null,null,null,null,null,0,null,null,null,null,null,null,null,null,0,null,null,null,0,null,null,0,null,null,null,null,null,null,0,null,null,null,null,null,null,0,0,0,0,0]
[2,53,53,{"$f":"INSERT!A55","v":0},{"$f":"INSERT!B55","v":0},{"$f":"INSERT!C55","v":0},{"$f":"INSERT!D55","v":0},{"$f":"INSERT!E55","v":0},null,null,null,null,null,0,null,null,null,null,null,0,null,null,null,null,null,null,null,null,0,null,null,null,null,null,null,null,null,0,null,null,null,null,null,0,null,null,null,0,null,null,null,null,null,null,null,null,null,0,null,null,null,null,null,null,null,null,0,null,null,null,null,null,null,null,null,0,null,null,null,0,null,null,0,null,null,null,null,null,null,0,null,null,null,null,null,null,0,0,0,0,0]
[2,54,54,{"$f":"INSERT!A56","v":0},{"$f":"INSERT!B56","v":0},{"$f":"INSERT!C56","v":0},{"$f":"INSERT!D56","v":0},{"$f":"INSERT!E56","v":0},null,null,null,null,null,0,null,null,null,null,null,0,null,null,null,null,null,null,null,null,0,null,null,null,null,null,null,null,null,0,null,null,null,null,null,0,null,null,null,0,null,null,null,null,null,null,null,null,null,0,null,null,null,null,null,null,null,null,0,null,null,null,null,null,null,null,null,0,null,null,null,0,null,null,0,null,null,null,null,null,null,0,null,null,null,null,null,null,0,0,0,0,0]
[2,55,55,{"$f":"INSERT!A57","v":0},{"$f":"INSERT!B57","v":0},{"$f":"INSERT!C57","v":0},{"$f":"INSERT!D57","v":0},{"$f":"INSERT!E57","v":0},null,null,null,null,null,0,null,null,null,null,null,0,null,null,null,null,null,null,null,null,0,null,null,null,null,null,null,null,null,0,null,null,null,null,null,0,null,null,null,0,null,null,null,null,null,null,null,null,null,0,null,null,null,null,null,null,null,null,0,null,null,null,null,null,null,null,null,0,null,null,null,0,null,null,0,null,null,null,null,null,null,0,null,null,null,null,null,null,0,0,0,0,0]
[2,56,56,{"$f":"INSERT!A58","v":0},{"$f":"INSERT!B58","v":0},{"$f":"INSERT!C58","v":0},{"$f":"INSERT!D58","v":0},{"$f":"INSERT!E58","v":0},null,null,null,null,null,0,null,null,null,null,null,0,null,null,null,null,null,null,null,null,0,null,null,null,null,null,null,null,null,0,null,null,null,null,null,0,null,null,null,0,null,null,null,null,null,null,null,null,null,0,null,null,null,null,null,null,null,null,0,null,null,null,null,null,null,null,null,0,null,null,null,0,null,null,0,null,null,null,null,null,null,0,null,null,null,null,null,null,0,0,0,0,0]
[2,57,57,{"$f":"INSERT!A59","v":0},{"$f":"INSERT!B59","v":0},{"$f":"INSERT!C59","v":0},{"$f":"INSERT!D59","v":0},{"$f":"INSERT!E59","v":0},null,null,null,null,null,0,null,null,null,null,null,0,null,null,null,null,null,null,null,null,0,null,null,null,null,null,null,null,null,0,null,null,null,null,null,0,null,null,null,0,null,null,null,null,null,null,null,null,null,0,null,null,null,null,null,null,null,null,0,null,null,null,null,null,null,null,null,0,null,null,null,0,null,null,0,null,null,null,null,null,null,0,null,null,null,null,null,null,0,0,0,0,0]
[2,58,58,{"$f":"INSERT!A60","v":0},{"$f":"INSERT!B60","v":0},{"$f":"INSERT!C60","v":0},{"$f":"INSERT!D60","v":0},{"$f":"INSERT!E60","v":0},null,null,null,null,null,0,null,null,null,null,null,0,null,null,null,null,null,null,null,null,0,null,null,null,null,null,null,null,null,0,null,null,null,null,null,0,null,null,null,0,null,null,null,null,null,null,null,null,null,0,null,null,null,null,null,null,null,null,0,null,null,null,null,null,null,null,null,0,null,null,null,0,null,null,0,null,null,null,null,null,null,0,null,null,null,null,null,null,0,0,0,0,0]
[2,59,59,{"$f":"INSERT!A61","v":0},{"$f":"INSERT!B61","v":0},{"$f":"INSERT!C61","v":0},{"$f":"INSERT!D61","v":0},{"$f":"INSERT!E61","v":0},null,null,null,null,null,0,null,null,null,null,null,0,null,null,null,null,null,null,null,null,0,null,null,null,null,null,null,null,null,0,null,null,null,null,null,0,null,null,null,0,null,null,null,null,null,null,null,null,null,0,null,null,null,null,null,null,null,null,0,null,null,null,null,null,null,null,null,0,null,null,null,0,null,null,0,null,null,null,null,null,null,0,null,null,null,null,null,null,0,0,0,0,0]
[2,60,60,{"$f":"INSERT!A62","v":0},{"$f":"INSERT!B62","v":0},{"$f":"INSERT!C62","v":0},{"$f":"INSERT!D62","v":0},{"$f":"INSERT!E62","v":0},null,null,null,null,null,0,null,null,null,null,null,0,null,null,null,null,null,null,null,null,0,null,null,null,null,null,null,null,null,0,null,null,null,null,null,0,null,null,null,0,null,null,null,null,null,null,null,null,null,0,null,null,null,null,null,null,null,null,0,null,null,null,null,null,null,null,null,0,null,null,null,0,null,null,0,null,null,null,null,null,null,0,null,null,null,null,null,null,0,0,0,0,0]
[2,61,61,{"$f":"INSERT!A63","v":0},{"$f":"INSERT!B63","v":0},{"$f":"INSERT!C63","v":0},{"$f":"INSERT!D63","v":0},{"$f":"INSERT!E63","v":0},null,null,null,null,null,0,null,null,null,null,null,0,null,null,null,null,null,null,null,null,0,null,null,null,null,null,null,null,null,0,null,null,null,null,null,0,null,null,null,0,null,null,null,null,null,null,null,null,null,0,null,null,null,null,null,null,null,null,0,null,null,null,null,null,null,null,null,0,null,null,null,0,null,null,0,null,null,null,null,null,null,0,null,null,null,null,null,null,0,0,0,0,0]
[2,62,62,{"$f":"INSERT!A64","v":0},{"$f":"INSERT!B64","v":0},{"$f":"INSERT!C64","v":0},{"$f":"INSERT!D64","v":0},{"$f":"INSERT!E64","v":0},null,null,null,null,null,0,null,null,null,null,null,0,null,null,null,null,null,null,null,null,0,null,null,null,null,null,null,null,null,0,null,null,null,null,null,0,null,null,null,0,null,null,null,null,null,null,null,null,null,0,null,null,null,null,null,null,null,null,0,null,null,null,null,null,null,null,null,0,null,null,null,0,null,null,0,null,null,null,null,null,null,0,null,null,null,null,null,null,0,0,0,0,0]
[2,63,63,{"$f":"INSERT!A65","v":0},{"$f":"INSERT!B65","v":0},{"$f":"INSERT!C65","v":0},{"$f":"INSERT!D65","v":0},{"$f":"INSERT!E65","v":0},null,null,null,null,null,0,null,null,null,null,null,0,null,null,null,null,null,null,null,null,0,null,null,null,null,null,null,null,null,0,null,null,null,null,null,0,null,null,null,0,null,null,null,null,null,null,null,null,null,0,null,null,null,null,null,null,null,null,0,null,null,null,null,null,null,null,null,0,null,null,null,0,null,null,0,null,null,null,null,null,null,0,null,null,null,null,null,null,0,0,0,0,0]
[2,64,64,{"$f":"INSERT!A66","v":0},{"$f":"INSERT!B66","v":0},{"$f":"INSERT!C66","v":0},{"$f":"INSERT!D66","v":0},{"$f":"INSERT!E66","v":0},null,null,null,null,null,0,null,null,null,null,null,0,null,null,null,null,null,null,null,null,0,null,null,null,null,null,null,null,null,0,null,null,null,null,null,0,null,null,null,0,null,null,null,null,null,null,null,null,null,0,null,null,null,null,null,null,null,null,0,null,null,null,null,null,null,null,null,0,null,null,null,0,null,null,0,null,null,null,null,null,null,0,null,null,null,null,null,null,0,0,0,0,0]
[2,65,65,{"$f":"INSERT!A67","v":0},{"$f":"INSERT!B67","v":0},{"$f":"INSERT!C67","v":0},{"$f":"INSERT!D67","v":0},{"$f":"INSERT!E67","v":0},null,null,null,null,null,{"$f":"SUM(I78:M78)","v":0},null,null,null,null,null,{"$f":"SUM(O78:S78)","v":0},null,null,null,null,null,null,null,null,{"$f":"ROUND((SUM(U78:AB78)/1.5),0)","v":0},null,null,null,null,null,null,null,null,{"$f":"ROUND((SUM(AD78:AK78)/1.5),0)","v":0},null,null,null,null,null,{"$f":"SUM(AM78:AQ78)","v":0},null,null,null,{"$f":"SUM(AS78:AU78)","v":0},null,null,null,null,null,null,null,null,null,{"$f":"ROUND((SUM(AW78:BE78)/2),0)","v":0},null,null,null,null,null,null,null,null,{"$f":"ROUND((SUM(BG78:BN78)),0)","v":0},null,null,null,null,null,null,null,null,{"$f":"ROUND((SUM(BP78:BW78)/1.5),0)","v":0},null,null,null,{"$f":"SUM(BY78:CA78)","v":0},null,null,{"$f":"SUM(CC78:CD78)","v":0},null,null,null,null,null,null,{"$f":"SUM(CF78:CK78)","v":0},null,null,null,null,null,null,{"$f":"ROUND((SUM(N78+T78+AC78+AL78+AR78+CE78+CL78)/2.82),0)","v":0},{"$f":"ROUND((SUM(AV78+BF78+BO78+BX78+CB78)),0)","v":0},{"$f":"COUNTIF(CM78:CN78,\">0\")+COUNTIF(CO78:CP78,\">0\")+COUNTIF(CQ78:CR78,\">0\")","v":0},{"$f":"ROUND(IF(CU78=4,SUMIF(CM78:CR78,\">0\")/1.6,IF(CU78=6,SUMIF(CM78:CR78,\">0\")/2.4,SUMIF(CM78:CR78,\">0\"))),0)","v":0},{"$f":"SUM(CS78+CT78+CV78)","v":0}]
[{"$f":"SUM(COUNTA(F79)+COUNT(B79))","v":2},66,66,{"$f":"INSERT!A68","v":0},{"$f":"INSERT!B68","v":0},{"$f":"INSERT!C68","v":0},{"$f":"INSERT!D68","v":0},{"$f":"INSERT!E68","v":0},null,null,null,null,null,0,null,null,null,null,null,0,null,null,null,null,null,null,null,null,0,null,null,null,null,null,null,null,null,0,null,null,null,null,null,0,null,null,null,0,null,null,null,null,null,null,null,null,null,0,null,null,null,null,null,null,null,null,0,null,null,null,null,null,null,null,null,0,null,null,null,0,null,null,0,null,null,null,null,null,null,0,null,null,null,null,null,null,0,0,0,0,0]
[2,{"$f":"B79+1","v":67},67,{"$f":"INSERT!A69","v":0},{"$f":"INSERT!B69","v":0},{"$f":"INSERT!C69","v":0},{"$f":"INSERT!D69","v":0},{"$f":"INSERT!E69","v":0},null,null,null,null,null,0,null,null,null,null,null,0,null,null,null,null,null,null,null,null,0,null,null,null,null,null,null,null,null,0,null,null,null,null,null,0,null,null,null,0,null,null,null,null,null,null,null,null,null,0,null,null,null,null,null,null,null,null,0,null,null,null,null,null,null,null,null,0,null,null,null,0,null,null,0,null,null,null,null,null,null,0,null,null,null,null,null,null,0,0,0,0,0]
[2,68,68,{"$f":"INSERT!A70","v":0},{"$f":"INSERT!B70","v":0},{"$f":"INSERT!C70","v":0},{"$f":"INSERT!D70","v":0},{"$f":"INSERT!E70","v":0},null,null,null,null,null,0,null,null,null,null,null,0,null,null,null,null,null,null,null,null,0,null,null,null,null,null,null,null,null,0,null,null,null,null,null,0,null,null,null,0,null,null,null,null,null,null,null,null,null,0,null,null,null,null,null,null,null,null,0,null,null,null,null,null,null,null,null,0,null,null,null,0,null,null,0,null,null,null,null,null,null,0,null,null,null,null,null,null,0,0,0,0,0]
[2,69,69,{"$f":"INSERT!A71","v":0},{"$f":"INSERT!B71","v":0},{"$f":"INSERT!C71","v":0},{"$f":"INSERT!D71","v":0},{"$f":"INSERT!E71","v":0},null,null,null,null,null,0,null,null,null,null,null,0,null,null,null,null,null,null,null,null,0,null,null,null,null,null,null,null,null,0,null,null,null,null,null,0,null,null,null,0,null,null,null,null,null,null,null,null,null,0,null,null,null,null,null,null,null,null,0,null,null,null,null,null,null,null,null,0,null,null,null,0,null,null,0,null,null,null,null,null,null,0,null,null,null,null,null,null,0,0,0,0,0]
[2,70,70,{"$f":"INSERT!A72","v":0},{"$f":"INSERT!B72","v":0},{"$f":"INSERT!C72","v":0},{"$f":"INSERT!D72","v":0},{"$f":"INSERT!E72","v":0},null,null,null,null,null,0,null,null,null,null,null,0,null,null,null,null,null,null,null,null,0,null,null,null,null,null,null,null,null,0,null,null,null,null,null,0,null,null,null,0,null,null,null,null,null,null,null,null,null,0,null,null,null,null,null,null,null,null,0,null,null,null,null,null,null,null,null,0,null,null,null,0,null,null,0,null,null,null,null,null,null,0,null,null,null,null,null,null,0,0,0,0,0]
[2,71,71,{"$f":"INSERT!A73","v":0},{"$f":"INSERT!B73","v":0},{"$f":"INSERT!C73","v":0},{"$f":"INSERT!D73","v":0},{"$f":"INSERT!E73","v":0},null,null,null,null,null,0,null,null,null,null,null,0,null,null,null,null,null,null,null,null,0,null,null,null,null,null,null,null,null,0,null,null,null,null,null,0,null,null,null,0,null,null,null,null,null,null,null,null,null,0,null,null,null,null,null,null,null,null,0,null,null,null,null,null,null,null,null,0,null,null,null,0,null,null,0,null,null,null,null,null,null,0,null,null,null,null,null,null,0,0,0,0,0]
[2,72,72,{"$f":"INSERT!A74","v":0},{"$f":"INSERT!B74","v":0},{"$f":"INSERT!C74","v":0},{"$f":"INSERT!D74","v":0},{"$f":"INSERT!E74","v":0},null,null,null,null,null,0,null,null,null,null,null,0,null,null,null,null,null,null,null,null,0,null,null,null,null,null,null,null,null,0,null,null,null,null,null,0,null,null,null,0,null,null,null,null,null,null,null,null,null,0,null,null,null,null,null,null,null,null,0,null,null,null,null,null,null,null,null,0,null,null,null,0,null,null,0,null,null,null,null,null,null,0,null,null,null,null,null,null,0,0,0,0,0]
[2,73,73,{"$f":"INSERT!A75","v":0},{"$f":"INSERT!B75","v":0},{"$f":"INSERT!C75","v":0},{"$f":"INSERT!D75","v":0},{"$f":"INSERT!E75","v":0},null,null,null,null,null,0,null,null,null,null,null,0,null,null,null,null,null,null,null,null,0,null,null,null,null,null,null,null,null,0,null,null,null,null,null,0,null,null,null,0,null,null,null,null,null,null,null,null,null,0,null,null,null,null,null,null,null,null,0,null,null,null,null,null,null,null,null,0,null,null,null,0,null,null,0,null,null,null,null,null,null,0,null,null,null,null,null,null,0,0,0,0,0]
[2,74,74,{"$f":"INSERT!A76","v":0},{"$f":"INSERT!B76","v":0},{"$f":"INSERT!C76","v":0},{"$f":"INSERT!D76","v":0},{"$f":"INSERT!E76","v":0},null,null,null,null,null,0,null,null,null,null,null,0,null,null,null,null,null,null,null,null,0,null,null,null,null,null,null,null,null,0,null,null,null,null,null,0,null,null,null,0,null,null,null,null,null,null,null,null,null,0,null,null,null,null,null,null,null,null,0,null,null,null,null,null,null,null,null,0,null,null,null,0,null,null,0,null,null,null,null,null,null,0,null,null,null,null,null,null,0,0,0,0,0]
[2,75,75,{"$f":"INSERT!A77","v":0},{"$f":"INSERT!B77","v":0},{"$f":"INSERT!C77","v":0},{"$f":"INSERT!D77","v":0},{"$f":"INSERT!E77","v":0},null,null,null,null,null,0,null,null,null,null,null,0,null,null,null,null,null,null,null,null,0,null,null,null,null,null,null,null,null,0,null,null,null,null,null,0,null,null,null,0,null,null,null,null,null,null,null,null,null,0,null,null,null,null,null,null,null,null,0,null,null,null,null,null,null,null,null,0,null,null,null,0,null,null,0,null,null,null,null,null,null,0,null,null,null,null,null,null,0,0,0,0,0]
[2,76,76,{"$f":"INSERT!A78","v":0},{"$f":"INSERT!B78","v":0},{"$f":"INSERT!C78","v":0},{"$f":"INSERT!D78","v":0},{"$f":"INSERT!E78","v":0},null,null,null,null,null,0,null,null,null,null,null,0,null,null,null,null,null,null,null,null,0,null,null,null,null,null,null,null,null,0,null,null,null,null,null,0,null,null,null,0,null,null,null,null,null,null,null,null,null,0,null,null,null,null,null,null,null,null,0,null,null,null,null,null,null,null,null,0,null,null,null,0,null,null,0,null,null,null,null,null,null,0,null,null,null,null,null,null,0,0,0,0,0]
[2,77,77,{"$f":"INSERT!A79","v":0},{"$f":"INSERT!B79","v":0},{"$f":"INSERT!C79","v":0},{"$f":"INSERT!D79","v":0},{"$f":"INSERT!E79","v":0},null,null,null,null,null,0,null,null,null,null,null,0,null,null,null,null,null,null,null,null,0,null,null,null,null,null,null,null,null,0,null,null,null,null,null,0,null,null,null,0,null,null,null,null,null,null,null,null,null,0,null,null,null,null,null,null,null,null,0,null,null,null,null,null,null,null,null,0,null,null,null,0,null,null,0,null,null,null,null,null,null,0,null,null,null,null,null,null,0,0,0,0,0]
[2,78,78,{"$f":"INSERT!A80","v":0},{"$f":"INSERT!B80","v":0},{"$f":"INSERT!C80","v":0},{"$f":"INSERT!D80","v":0},{"$f":"INSERT!E80","v":0},null,null,null,null,null,0,null,null,null,null,null,0,null,null,null,null,null,null,null,null,0,null,null,null,null,null,null,null,null,0,null,null,null,null,null,0,null,null,null,0,null,null,null,null,null,null,null,null,null,0,null,null,null,null,null,null,null,null,0,null,null,null,null,null,null,null,null,0,null,null,null,0,null,null,0,null,null,null,null,null,null,0,null,null,null,null,null,null,0,0,0,0,0]
[2,79,79,{"$f":"INSERT!A81","v":0},{"$f":"INSERT!B81","v":0},{"$f":"INSERT!C81","v":0},{"$f":"INSERT!D81","v":0},{"$f":"INSERT!E81","v":0},null,null,null,null,null,0,null,null,null,null,null,0,null,null,null,null,null,null,null,null,0,null,null,null,null,null,null,null,null,0,null,null,null,null,null,0,null,null,null,0,null,null,null,null,null,null,null,null,null,0,null,null,null,null,null,null,null,null,0,null,null,null,null,null,null,null,null,0,null,null,null,0,null,null,0,null,null,null,null,null,null,0,null,null,null,null,null,null,0,0,0,0,0]
[2,80,80,{"$f":"INSERT!A82","v":0},{"$f":"INSERT!B82","v":0},{"$f":"INSERT!C82","v":0},{"$f":"INSERT!D82","v":0},{"$f":"INSERT!E82","v":0},null,null,null,null,null,0,null,null,null,null,null,0,null,null,null,null,null,null,null,null,0,null,null,null,null,null,null,null,null,0,null,null,null,null,null,0,null,null,null,0,null,null,null,null,null,null,null,null,null,0,null,null,null,null,null,null,null,null,0,null,null,null,null,null,null,null,null,0,null,null,null,0,null,null,0,null,null,null,null,null,null,0,null,null,null,null,null,null,0,0,0,0,0]
[2,81,81,{"$f":"INSERT!A83","v":0},{"$f":"INSERT!B83","v":0},{"$f":"INSERT!C83","v":0},{"$f":"INSERT!D83","v":0},{"$f":"INSERT!E83","v":0},null,null,null,null,null,0,null,null,null,null,null,0,null,null,null,null,null,null,null,null,0,null,null,null,null,null,null,null,null,0,null,null,null,null,null,0,null,null,null,0,null,null,null,null,null,null,null,null,null,0,null,null,null,null,null,null,null,null,0,null,null,null,null,null,null,null,null,0,null,null,null,0,null,null,0,null,null,null,null,null,null,0,null,null,null,null,null,null,0,0,0,0,0]
[2,82,82,{"$f":"INSERT!A84","v":0},{"$f":"INSERT!B84","v":0},{"$f":"INSERT!C84","v":0},{"$f":"INSERT!D84","v":0},{"$f":"INSERT!E84","v":0},null,null,null,null,null,0,null,null,null,null,null,0,null,null,null,null,null,null,null,null,0,null,null,null,null,null,null,null,null,0,null,null,null,null,null,0,null,null,null,0,null,null,null,null,null,null,null,null,null,0,null,null,null,null,null,null,null,null,0,null,null,null,null,null,null,null,null,0,null,null,null,0,null,null,0,null,null,null,null,null,null,0,null,null,null,null,null,null,0,0,0,0,0]
[2,83,83,{"$f":"INSERT!A85","v":0},{"$f":"INSERT!B85","v":0},{"$f":"INSERT!C85","v":0},{"$f":"INSERT!D85","v":0},{"$f":"INSERT!E85","v":0},null,null,null,null,null,0,null,null,null,null,null,0,null,null,null,null,null,null,null,null,0,null,null,null,null,null,null,null,null,0,null,null,null,null,null,0,null,null,null,0,null,null,null,null,null,null,null,null,null,0,null,null,null,null,null,null,null,null,0,null,null,null,null,null,null,null,null,0,null,null,null,0,null,null,0,null,null,null,null,null,null,0,null,null,null,null,null,null,0,0,0,0,0]
[2,84,84,{"$f":"INSERT!A86","v":0},{"$f":"INSERT!B86","v":0},{"$f":"INSERT!C86","v":0},{"$f":"INSERT!D86","v":0},{"$f":"INSERT!E86","v":0},null,null,null,null,null,0,null,null,null,null,null,0,null,null,null,null,null,null,null,null,0,null,null,null,null,null,null,null,null,0,null,null,null,null,null,0,null,null,null,0,null,null,null,null,null,null,null,null,null,0,null,null,null,null,null,null,null,null,0,null,null,null,null,null,null,null,null,0,null,null,null,0,null,null,0,null,null,null,null,null,null,0,null,null,null,null,null,null,0,0,0,0,0]
[2,85,85,{"$f":"INSERT!A87","v":0},{"$f":"INSERT!B87","v":0},{"$f":"INSERT!C87","v":0},{"$f":"INSERT!D87","v":0},{"$f":"INSERT!E87","v":0},null,null,null,null,null,0,null,null,null,null,null,0,null,null,null,null,null,null,null,null,0,null,null,null,null,null,null,null,null,0,null,null,null,null,null,0,null,null,null,0,null,null,null,null,null,null,null,null,null,0,null,null,null,null,null,null,null,null,0,null,null,null,null,null,null,null,null,0,null,null,null,0,null,null,0,null,null,null,null,null,null,0,null,null,null,null,null,null,0,0,0,0,0]
[2,86,86,{"$f":"INSERT!A88","v":0},{"$f":"INSERT!B88","v":0},{"$f":"INSERT!C88","v":0},{"$f":"INSERT!D88","v":0},{"$f":"INSERT!E88","v":0},null,null,null,null,null,0,null,null,null,null,null,0,null,null,null,null,null,null,null,null,0,null,null,null,null,null,null,null,null,0,null,null,null,null,null,0,null,null,null,0,null,null,null,null,null,null,null,null,null,0,null,null,null,null,null,null,null,null,0,null,null,null,null,null,null,null,null,0,null,null,null,0,null,null,0,null,null,null,null,null,null,0,null,null,null,null,null,null,0,0,0,0,0]
[2,87,87,{"$f":"INSERT!A89","v":0},{"$f":"INSERT!B89","v":0},{"$f":"INSERT!C89","v":0},{"$f":"INSERT!D89","v":0},{"$f":"INSERT!E89","v":0},null,null,null,null,null,0,null,null,null,null,null,0,null,null,null,null,null,null,null,null,0,null,null,null,null,null,null,null,null,0,null,null,null,null,null,0,null,null,null,0,null,null,null,null,null,null,null,null,null,0,null,null,null,null,null,null,null,null,0,null,null,null,null,null,null,null,null,0,null,null,null,0,null,null,0,null,null,null,null,null,null,0,null,null,null,null,null,null,0,0,0,0,0]
[2,88,88,{"$f":"INSERT!A90","v":0},{"$f":"INSERT!B90","v":0},{"$f":"INSERT!C90","v":0},{"$f":"INSERT!D90","v":0},{"$f":"INSERT!E90","v":0},null,null,null,null,null,0,null,null,null,null,null,0,null,null,null,null,null,null,null,null,0,null,null,null,null,null,null,null,null,0,null,null,null,null,null,0,null,null,null,0,null,null,null,null,null,null,null,null,null,0,null,null,null,null,null,null,null,null,0,null,null,null,null,null,null,null,null,0,null,null,null,0,null,null,0,null,null,null,null,null,null,0,null,null,null,null,null,null,0,0,0,0,0]
[2,89,89,{"$f":"INSERT!A91","v":0},{"$f":"INSERT!B91","v":0},{"$f":"INSERT!C91","v":0},{"$f":"INSERT!D91","v":0},{"$f":"INSERT!E91","v":0},null,null,null,null,null,0,null,null,null,null,null,0,null,null,null,null,null,null,null,null,0,null,null,null,null,null,null,null,null,0,null,null,null,null,null,0,null,null,null,0,null,null,null,null,null,null,null,null,null,0,null,null,null,null,null,null,null,null,0,null,null,null,null,null,null,null,null,0,null,null,null,0,null,null,0,null,null,null,null,null,null,0,null,null,null,null,null,null,0,0,0,0,0]
[2,90,90,{"$f":"INSERT!A92","v":0},{"$f":"INSERT!B92","v":0},{"$f":"INSERT!C92","v":0},{"$f":"INSERT!D92","v":0},{"$f":"INSERT!E92","v":0},null,null,null,null,null,0,null,null,null,null,null,0,null,null,null,null,null,null,null,null,0,null,null,null,null,null,null,null,null,0,null,null,null,null,null,0,null,null,null,0,null,null,null,null,null,null,null,null,null,0,null,null,null,null,null,null,null,null,0,null,null,null,null,null,null,null,null,0,null,null,null,0,null,null,0,null,null,null,null,null,null,0,null,null,null,null,null,null,0,0,0,0,0]
[2,91,91,{"$f":"INSERT!A93","v":0},{"$f":"INSERT!B93","v":0},{"$f":"INSERT!C93","v":0},{"$f":"INSERT!D93","v":0},{"$f":"INSERT!E93","v":0},null,null,null,null,null,0,null,null,null,null,null,0,null,null,null,null,null,null,null,null,0,null,null,null,null,null,null,null,null,0,null,null,null,null,null,0,null,null,null,0,null,null,null,null,null,null,null,null,null,0,null,null,null,null,null,null,null,null,0,null,null,null,null,null,null,null,null,0,null,null,null,0,null,null,0,null,null,null,null,null,null,0,null,null,null,null,null,null,0,0,0,0,0]
[2,92,92,{"$f":"INSERT!A94","v":0},{"$f":"INSERT!B94","v":0},{"$f":"INSERT!C94","v":0},{"$f":"INSERT!D94","v":0},{"$f":"INSERT!E94","v":0},null,null,null,null,null,0,null,null,null,null,null,0,null,null,null,null,null,null,null,null,0,null,null,null,null,null,null,null,null,0,null,null,null,null,null,0,null,null,null,0,null,null,null,null,null,null,null,null,null,0,null,null,null,null,null,null,null,null,0,null,null,null,null,null,null,null,null,0,null,null,null,0,null,null,0,null,null,null,null,null,null,0,null,null,null,null,null,null,0,0,0,0,0]
[2,93,93,{"$f":"INSERT!A95","v":0},{"$f":"INSERT!B95","v":0},{"$f":"INSERT!C95","v":0},{"$f":"INSERT!D95","v":0},{"$f":"INSERT!E95","v":0},null,null,null,null,null,0,null,null,null,null,null,0,null,null,null,null,null,null,null,null,0,null,null,null,null,null,null,null,null,0,null,null,null,null,null,0,null,null,null,0,null,null,null,null,null,null,null,null,null,0,null,null,null,null,null,null,null,null,0,null,null,null,null,null,null,null,null,0,null,null,null,0,null,null,0,null,null,null,null,null,null,0,null,null,null,null,null,null,0,0,0,0,0]
[2,94,94,{"$f":"INSERT!A96","v":0},{"$f":"INSERT!B96","v":0},{"$f":"INSERT!C96","v":0},{"$f":"INSERT!D96","v":0},{"$f":"INSERT!E96","v":0},null,null,null,null,null,0,null,null,null,null,null,0,null,null,null,null,null,null,null,null,0,null,null,null,null,null,null,null,null,0,null,null,null,null,null,0,null,null,null,0,null,null,null,null,null,null,null,null,null,0,null,null,null,null,null,null,null,null,0,null,null,null,null,null,null,null,null,0,null,null,null,0,null,null,0,null,null,null,null,null,null,0,null,null,null,null,null,null,0,0,0,0,0]
[2,95,95,{"$f":"INSERT!A97","v":0},{"$f":"INSERT!B97","v":0},{"$f":"INSERT!C97","v":0},{"$f":"INSERT!D97","v":0},{"$f":"INSERT!E97","v":0},null,null,null,null,null,0,null,null,null,null,null,0,null,null,null,null,null,null,null,null,0,null,null,null,null,null,null,null,null,0,null,null,null,null,null,0,null,null,null,0,null,null,null,null,null,null,null,null,null,0,null,null,null,null,null,null,null,null,0,null,null,null,null,null,null,null,null,0,null,null,null,0,null,null,0,null,null,null,null,null,null,0,null,null,null,null,null,null,0,0,0,0,0]
[2,96,96,{"$f":"INSERT!A98","v":0},{"$f":"INSERT!B98","v":0},{"$f":"INSERT!C98","v":0},{"$f":"INSERT!D98","v":0},{"$f":"INSERT!E98","v":0},null,null,null,null,null,0,null,null,null,null,null,0,null,null,null,null,null,null,null,null,0,null,null,null,null,null,null,null,null,0,null,null,null,null,null,0,null,null,null,0,null,null,null,null,null,null,null,null,null,0,null,null,null,null,null,null,null,null,0,null,null,null,null,null,null,null,null,0,null,null,null,0,null,null,0,null,null,null,null,null,null,0,null,null,null,null,null,null,0,0,0,0,0]
[2,97,97,{"$f":"INSERT!A99","v":0},{"$f":"INSERT!B99","v":0},{"$f":"INSERT!C99","v":0},{"$f":"INSERT!D99","v":0},{"$f":"INSERT!E99","v":0},null,null,null,null,null,{"$f":"SUM(I110:M110)","v":0},null,null,null,null,null,{"$f":"SUM(O110:S110)","v":0},null,null,null,null,null,null,null,null,{"$f":"ROUND((SUM(U110:AB110)/1.5),0)","v":0},null,null,null,null,null,null,null,null,{"$f":"ROUND((SUM(AD110:AK110)/1.5),0)","v":0},null,null,null,null,null,{"$f":"SUM(AM110:AQ110)","v":0},null,null,null,{"$f":"SUM(AS110:AU110)","v":0},null,null,null,null,null,null,null,null,null,{"$f":"ROUND((SUM(AW110:BE110)/2),0)","v":0},null,null,null,null,null,null,null,null,0,null,null,null,null,null,null,null,null,0,null,null,null,{"$f":"SUM(BY110:CA110)","v":0},null,null,{"$f":"SUM(CC110:CD110)","v":0},null,null,null,null,null,null,{"$f":"SUM(CF110:CK110)","v":0},null,null,null,null,null,null,0,0,0,{"$f":"ROUND(IF(CU110=4,SUMIF(CM110:CR110,\">0\")/1.6,IF(CU110=6,SUMIF(CM110:CR110,\">0\")/2.4,SUMIF(CM110:CR110,\">0\"))),0)","v":0},{"$f":"SUM(CS110+CT110+CV110)","v":0}]
[2,98,98,{"$f":"INSERT!A100","v":0},{"$f":"INSERT!B100","v":0},{"$f":"INSERT!C100","v":0},{"$f":"INSERT!D100","v":0},{"$f":"INSERT!E100","v":0},null,null,null,null,null,0,null,null,null,null,null,0,null,null,null,null,null,null,null,null,0,null,null,null,null,null,null,null,null,0,null,null,null,null,null,0,null,null,null,0,null,null,null,null,null,null,null,null,null,0,null,null,null,null,null,null,null,null,0,null,null,null,null,null,null,null,null,0,null,null,null,0,null,null,0,null,null,null,null,null,null,0,null,null,null,null,null,null,0,0,0,0,0]
[2,99,99,{"$f":"INSERT!A101","v":0},{"$f":"INSERT!B101","v":0},{"$f":"INSERT!C101","v":0},{"$f":"INSERT!D101","v":0},{"$f":"INSERT!E101","v":0},null,null,null,null,null,0,null,null,null,null,null,0,null,null,null,null,null,null,null,null,0,null,null,null,null,null,null,null,null,0,null,null,null,null,null,0,null,null,null,0,null,null,null,null,null,null,null,null,null,0,null,null,null,null,null,null,null,null,0,null,null,null,null,null,null,null,null,0,null,null,null,0,null,null,0,null,null,null,null,null,null,0,null,null,null,null,null,null,0,0,0,0,0]
[2,100,100,{"$f":"INSERT!A102","v":0},{"$f":"INSERT!B102","v":0},{"$f":"INSERT!C102","v":0},{"$f":"INSERT!D102","v":0},{"$f":"INSERT!E102","v":0},null,null,null,null,null,0,null,null,null,null,null,0,null,null,null,null,null,null,null,null,0,null,null,null,null,null,null,null,null,0,null,null,null,null,null,0,null,null,null,0,null,null,null,null,null,null,null,null,null,0,null,null,null,null,null,null,null,null,0,null,null,null,null,null,null,null,null,0,null,null,null,0,null,null,0,null,null,null,null,null,null,0,null,null,null,null,null,null,0,0,0,0,0]
[null,"Total amount of learners on mark sheet",null,null,null,"x",null,"TOTAL:",{"$f":"SUM(I14:I113)","v":0},{"$f":"SUM(J14:J113)","v":0},{"$f":"SUM(K14:K113)","v":0},{"$f":"SUM(L14:L113)","v":0},0,{"$f":"SUM(N14:N113)","v":0},0,0,0,{"$f":"SUM(R14:R113)","v":0},0,0,{"$f":"SUM(U14:U113)","v":0},0,0,{"$f":"SUM(X14:X113)","v":0},0,0,0,0,0,0,0,0,0,0,0,0,0,0,0,0,0,0,0,0,0,0,{"$f":"SUM(AU14:AU113)","v":0},0,0,0,0,0,0,0,0,0,{"$f":"SUM(BE14:BE113)","v":0},0,0,0,0,0,{"$f":"SUM(BK14:BK113)","v":0},0,0,{"$f":"SUM(BN14:BN113)","v":0},0,0,0,0,0,0,{"$f":"SUM(BU14:BU113)","v":0},0,0,{"$f":"SUM(BX14:BX113)","v":0},0,0,0,0,{"$f":"SUM(CC14:CC113)","v":0},{"$f":"SUM(CD14:CD113)","v":0},{"$f":"SUM(CE14:CE113)","v":0},{"$f":"SUM(CF14:CF113)","v":0},{"$f":"SUM(CG14:CG113)","v":0},0,0,0,0,{"$f":"SUM(CL14:CL113)","v":0},0,0,0,0,0,0,0,0,null,{"$f":"SUM(CV14:CV113)","v":0},0]
[null,null,null,null,null,"x",null,"AVERAGE:",{"$f":"IFERROR(ROUND(SUM(I114/$B$117),2),\"0\")","v":"0"},{"$f":"IFERROR(ROUND(SUM(J114/$B$117),2),\"0\")","v":"0"},{"$f":"IFERROR(ROUND(SUM(K114/$B$117),2),\"0\")","v":"0"},{"$f":"IFERROR(ROUND(SUM(L114/$B$117),2),\"0\")","v":"0"},{"$f":"IFERROR(ROUND(SUM(M114/$B$117),2),\"0\")","v":"0"},{"$f":"IFERROR(ROUND(SUM(N114/$B$117),2),\"0\")","v":"0"},{"$f":"IFERROR(ROUND(SUM(O114/$B$117),2),\"0\")","v":"0"},{"$f":"IFERROR(ROUND(SUM(P114/$B$117),2),\"0\")","v":"0"},"0","0","0","0",{"$f":"IFERROR(ROUND(SUM(U114/$B$117),2),\"0\")","v":"0"},{"$f":"IFERROR(ROUND(SUM(V114/$B$117),2),\"0\")","v":"0"},"0",{"$f":"IFERROR(ROUND(SUM(X114/$B$117),2),\"0\")","v":"0"},"0","0","0","0","0","0","0","0","0","0","0","0","0","0","0","0","0","0","0","0","0","0",{"$f":"IFERROR(ROUND(SUM(AU114/$B$117),2),\"0\")","v":"0"},"0","0","0","0","0","0","0","0","0","0","0","0","0","0","0","0","0","0",{"$f":"IFERROR(ROUND(SUM(BN114/$B$117),2),\"0\")","v":"0"},"0","0","0","0","0","0",{"$f":"IFERROR(ROUND(SUM(BU114/$B$117),2),\"0\")","v":"0"},"0","0",{"$f":"IFERROR(ROUND(SUM(BX114/$B$117),2),\"0\")","v":"0"},"0","0","0","0","0","0","0","0","0","0","0","0","0","0","0","0","0","0","0","0","0","0",null,{"$f":"IFERROR(ROUND(SUM(CV114/$B$117),2),\"0\")","v":"0"},"0"]
[null,null,null,null,null,"x",null,"PERCENTAGE:",{"$f":"IFERROR(ROUND((SUM(I115/I11)*100),0),\"0\")","v":0},0,0,0,0,0,0,0,0,0,0,0,{"$f":"IFERROR(ROUND((SUM(U115/U11)*100),0),\"0\")","v":0},0,0,{"$f":"IFERROR(ROUND((SUM(X115/X11)*100),0),\"0\")","v":0},0,0,0,0,0,0,0,0,0,0,0,0,0,0,0,{"$f":"IFERROR(ROUND((SUM(AN115/AN11)*100),0),\"0\")","v":0},0,0,0,0,0,0,{"$f":"IFERROR(ROUND((SUM(AU115/AU11)*100),0),\"0\")","v":0},0,0,0,0,0,0,0,0,0,{"$f":"IFERROR(ROUND((SUM(BE115/BE11)*100),0),\"0\")","v":0},0,0,0,0,0,{"$f":"IFERROR(ROUND((SUM(BK115/BK11)*100),0),\"0\")","v":0},"0","0",{"$f":"IFERROR(ROUND((SUM(BN115/BN11)*100),0),\"0\")","v":"0"},0,0,0,0,0,0,{"$f":"IFERROR(ROUND((SUM(BU115/BU11)*100),0),\"0\")","v":0},0,0,{"$f":"IFERROR(ROUND((SUM(BX115/BX11)*100),0),\"0\")","v":0},0,0,0,0,{"$f":"IFERROR(ROUND((SUM(CC115/CC11)*100),0),\"0\")","v":0},{"$f":"IFERROR(ROUND((SUM(CD115/CD11)*100),0),\"0\")","v":0},{"$f":"IFERROR(ROUND((SUM(CE115/CE11)*100),0),\"0\")","v":0},{"$f":"IFERROR(ROUND((SUM(CF115/CF11)*100),0),\"0\")","v":0},{"$f":"IFERROR(ROUND((SUM(CG115/CG11)*100),0),\"0\")","v":0},0,0,0,0,{"$f":"IFERROR(ROUND((SUM(CL115/CL11)*100),0),\"0\")","v":0},0,0,0,0,0,0,{"$f":"IFERROR(ROUND((SUM(CS115/CS11)*100),0),\"0\")","v":0},{"$f":"IFERROR(ROUND((SUM(CT115/CT11)*100),0),\"0\")","v":0},null,{"$f":"IFERROR(ROUND((SUM(CV115/CV11)*100),0),\"0\")","v":0},{"$f":"IFERROR(ROUND((SUM(CW115/CW11)*100),0),\"0\")","v":0}]
[null,{"$f":"INSERT!$E$103","v":0},null,null,null,"x",null,"TOTAL HANDED IN:",{"$f":"COUNT(I14:I113)","v":0},{"$f":"COUNT(J14:J113)","v":0},0,0,0,null,0,0,0,{"$f":"COUNT(R14:R113)","v":0},0,null,{"$f":"COUNT(U14:U113)","v":0},0,0,0,0,0,0,{"$f":"COUNT(AB14:AB113)","v":0},null,0,0,0,0,0,0,{"$f":"COUNT(AJ14:AJ113)","v":0},0,null,0,0,0,0,0,null,0,0,{"$f":"COUNT(AU14:AU113)","v":0},null,0,0,0,0,0,0,0,0,{"$f":"COUNT(BE14:BE113)","v":0},null,0,0,0,0,{"$f":"COUNT(BK14:BK113)","v":0},0,0,null,null,0,0,0,0,0,{"$f":"COUNT(BU14:BU113)","v":0},0,0,null,{"$f":"COUNT(BY14:BY113)","v":0},0,0,null,{"$f":"COUNT(CC14:CC113)","v":0},{"$f":"COUNT(CD14:CD113)","v":0},null,{"$f":"COUNT(CF14:CF113)","v":0},{"$f":"COUNT(CG14:CG113)","v":0},0,0,0,0,null,0,0,0,0,0,0]

{"sheet":"Civil Assessment","index":12,"n_rows":174,"n_cols":22,"rows_kept":174,"cut":false,"hidden":false,"merged":[[66,13,66,14],[67,13,67,14],[51,1,51,8],[52,1,52,8],[53,1,53,8],[54,1,54,8],[55,1,55,8],[56,1,56,8],[57,1,57,8],[58,1,58,8],[65,13,65,14],[61,13,61,14],[62,13,62,14],[60,1,60,14],[72,13,72,14],[81,1,81,14],[80,1,80,9],[80,13,80,14],[74,13,74,14],[75,13,75,14],[77,1,77,8],[78,1,78,8],[79,1,79,8],[77,13,77,14],[78,13,78,14],[79,13,79,14],[68,1,68,8],[70,0,70,14],[68,13,68,14],[65,1,65,8],[66,1,66,8],[75,1,75,8],[76,1,76,8],[73,1,73,8],[74,1,74,8],[71,1,71,14],[73,13,73,14],[72,0,76,0],[67,1,67,8],[72,1,72,8],[61,0,69,0],[76,13,76,14],[63,13,63,14],[64,13,64,14],[61,1,61,8],[62,1,62,8],[63,1,63,8],[64,1,64,8],[69,1,69,9],[69,13,69,14],[169,3,170,3],[169,4,171,7],[169,8,170,8],[169,9,171,10],[169,11,169,12],[166,0,167,2],[166,3,167,6],[166,7,166,8],[166,9,167,11],[166,12,166,14],[167,7,167,8],[167,12,167,14],[168,0,168,3],[168,4,168,8],[168,9,168,14],[163,0,165,2],[172,0,173,2],[172,3,173,6],[172,7,172,8],[172,9,173,11],[172,12,172,14],[163,13,163,14],[164,11,164,12],[164,13,164,14],[165,11,165,12],[165,13,165,14],[163,3,164,3],[163,4,165,7],[163,8,164,8],[163,9,165,10],[163,11,163,12],[173,7,173,8],[173,12,173,14],[169,13,169,14],[170,11,170,12],[170,13,170,14],[171,11,171,12],[171,13,171,14],[169,0,171,2],[160,0,160,2],[160,4,160,7],[160,9,160,12],[160,13,160,14],[161,0,161,2],[161,4,161,7],[161,9,161,12],[161,13,161,14],[162,0,162,3],[162,4,162,8],[162,9,162,14],[156,0,159,0],[156,1,159,2],[156,3,158,3],[156,4,159,8],[156,9,157,12],[156,13,156,14],[157,13,157,14],[158,9,159,12],[158,13,158,14],[159,13,159,14],[148,11,151,12],[148,13,150,14],[149,6,151,7],[151,13,151,14],[152,0,155,0],[152,1,155,2],[152,3,154,3],[152,6,155,7],[152,10,155,12],[152,13,154,14],[145,0,151,0],[145,1,151,2],[145,3,150,3],[147,13,147,14],[148,4,155,4],[148,5,155,5],[148,6,148,7],[148,8,154,8],[148,9,155,9],[148,10,151,10],[155,13,155,14],[123,10,129,10],[123,11,129,12],[123,13,128,14],[126,4,147,4],[126,5,147,5],[126,6,132,6],[126,8,131,8],[127,7,132,7],[129,13,129,14],[130,10,135,12],[130,13,135,14],[133,6,140,6],[133,8,139,8],[134,7,140,7],[136,9,147,9],[136,10,141,10],[136,11,141,12],[136,13,140,14],[141,6,147,6],[141,8,146,8],[141,13,141,14],[142,7,147,7],[142,10,147,12],[142,13,146,14],[123,0,129,0],[123,1,129,2],[123,3,128,3],[123,4,125,7],[123,8,124,8],[123,9,135,9],[130,0,133,0],[130,1,133,2],[130,3,132,3],[134,0,144,0],[134,1,144,1],[134,2,138,2],[134,3,137,3],[139,2,144,2],[139,3,143,3],[120,0,120,3],[120,4,120,14],[121,0,121,3],[121,4,121,8],[121,9,121,14],[122,0,122,2],[122,4,122,7],[122,9,122,12],[122,13,122,14],[116,0,116,14],[117,0,117,3],[117,4,117,14],[118,0,118,3],[118,4,118,14],[119,0,119,3],[119,4,119,14],[111,0,112,12],[111,13,111,14],[112,13,112,14],[113,0,114,12],[113,13,113,14],[114,13,114,14],[107,1,107,14],[108,0,110,0],[108,13,108,14],[109,13,109,14],[110,1,110,9],[110,13,110,14],[87,1,87,8],[88,1,88,8],[100,1,100,8],[101,1,101,8],[104,1,104,8],[105,1,105,8],[108,1,108,8],[109,1,109,8],[103,1,103,14],[104,0,106,0],[104,13,104,14],[105,13,105,14],[95,13,95,14],[96,13,96,14],[97,1,97,9],[97,13,97,14],[90,1,90,14],[91,0,97,0],[98,0,98,14],[99,1,99,14],[82,0,85,0],[82,13,82,14],[83,13,83,14],[84,13,84,14],[86,1,86,14],[87,0,89,0],[87,13,87,14],[88,13,88,14],[89,1,89,8],[89,13,89,14],[91,13,91,14],[92,13,92,14],[93,13,93,14],[94,13,94,14],[91,1,91,8],[47,13,47,14],[44,1,44,8],[45,1,45,8],[47,1,47,8],[46,1,46,8],[48,0,48,14],[46,13,46,14],[106,1,106,9],[106,13,106,14],[92,1,92,8],[93,1,93,8],[94,1,94,8],[95,1,95,8],[96,1,96,8],[82,1,82,8],[83,1,83,8],[84,1,84,8],[100,0,102,0],[100,13,100,14],[101,13,101,14],[102,1,102,9],[102,13,102,14],[85,1,85,9],[85,13,85,14],[49,1,49,14],[50,0,59,0],[50,13,50,14],[51,13,51,14],[52,13,52,14],[57,13,57,14],[59,1,59,9],[59,13,59,14],[53,13,53,14],[54,13,54,14],[55,13,55,14],[58,13,58,14],[56,13,56,14],[50,1,50,8],[41,1,41,9],[41,13,41,14],[42,1,42,14],[36,0,41,0],[36,13,36,14],[37,13,37,14],[38,13,38,14],[39,13,39,14],[40,13,40,14],[40,2,40,8],[36,2,36,8],[37,2,37,8],[38,2,38,8],[39,2,39,8],[43,1,43,14],[44,13,44,14],[45,13,45,14],[18,1,20,2],[25,3,25,8],[25,1,32,2],[22,13,22,14],[22,1,22,8],[31,3,31,8],[32,3,32,8],[33,1,33,9],[23,1,23,9],[23,13,23,14],[24,1,24,8],[24,9,24,12],[26,3,26,8],[18,4,18,8],[19,4,19,8],[20,4,20,8],[27,3,27,8],[28,3,28,8],[29,3,29,8],[30,3,30,8],[34,0,34,14],[3,17,7,18],[13,13,13,14],[14,13,14,14],[15,13,15,14],[7,0,9,0],[7,2,7,8],[8,2,8,8],[9,2,9,8],[10,1,10,14],[11,0,16,0],[11,13,11,14],[12,13,12,14],[16,1,16,9],[16,13,16,14],[11,2,11,8],[12,2,12,8],[13,2,13,8],[14,2,14,8],[15,2,15,8],[3,6,3,8],[4,6,4,8],[35,1,35,14],[0,0,0,14],[1,0,4,0],[5,0,6,0],[5,2,5,8],[5,9,9,9],[5,10,9,10],[5,11,9,11],[5,12,9,12],[5,13,9,14],[6,2,6,8],[17,1,17,14],[18,0,23,0],[18,13,18,14],[19,13,19,14],[25,0,33,0],[20,13,20,14],[21,1,21,8],[21,13,21,14],[1,6,1,8],[2,6,2,8]]}
["ASSESSMENT CRITERIA AND CHECKLIST FOR THE 2021 EGD GRADE 11 CIVIL PAT",null,null,null,null,null,null,null,null,null,null,null,null,null,null,null,null,"Surname:",null,null,"Rec",30]
[null,null,null,null,null,"NAME OF SCHOOL:",{"$f":"INSERT!$J$3","v":0},null,null,null,null,null,null,null,null,null,null,"Name:",{"$f":"VLOOKUP($S$1,'PAT Civil Detailed'!$F$14:$CW$113,2,FALSE)","v":0},null,null,{"$f":"OFFSET(INSERT!$C$2,$V$1,0)","v":0}]
[null,null,null,null,null,"NAME AND SURNAME OF LEARNER:",{"$f":"IF(S1=\"\",\"\",S2&\" \"&S1)","v":""}]
[null,null,null,null,null,"NAME AND SURNAME OF TEACHER:",{"$f":"INSERT!$J$5","v":0},null,null,null,null,null,null,null,null,null,null,"Choose a leaerner's surename by clicking in the block right of \"Surname\"\nOn the right of the block is a dropdown menu. Click on the triangle and select a learners surname. "]
[null,null,null,null,null,"NAME AND SURNAME OF MODERATOR:",{"$f":"INSERT!$J$7","v":0}]
["1 mark level descriptive",0,"Requirement not met or presented incorrectly",null,null,null,null,null,null,"Due date for completion","Date Completed","Own Marks/ Notes/ Comments","Suggested mark Allocation","Moderated mark"]
[null,1,"Requirement has been met and/or presented correctly "]
["2 mark level descriptive",0,"Requirement not met, or less than 30% evidence of knowledge shown (poor) "]
[null,1,"Requirement included and at least 30%+ evidence of knowledge shown (avg.)"]
[null,2," Presentation shows at least 80% or more evidence of knowledge (very good)"]
[1,"Design Brief"]
[null,1.1000000000000001,"1st paragraph: background and comprehensive description of what to design ",null,null,null,null,null,null,null,null,null,2,{"$f":"VLOOKUP($S$1,'PAT Civil Detailed'!$F$14:$CW$113,4,FALSE)","v":0},{"$f":"VLOOKUP($S$1,'PAT Civil Detailed'!$F$14:$CW$113,2,FALSE)","v":0}]
[null,1.2,"2nd paragraph: your role and the design process that you are going to follow",null,null,null,null,null,null,null,null,null,2,{"$f":"VLOOKUP($S$1,'PAT Civil Detailed'!$F$14:$CW$113,5,FALSE)","v":0},{"$f":"VLOOKUP($S$1,'PAT Civil Detailed'!$F$14:$CW$113,2,FALSE)","v":0}]
[null,1.3,"A list ALL the given specifications from the scenario",null,null,null,null,null,null,null,null,null,2,{"$f":"VLOOKUP($S$1,'PAT Civil Detailed'!$F$14:$CW$113,6,FALSE)","v":0},{"$f":"VLOOKUP($S$1,'PAT Civil Detailed'!$F$14:$CW$113,2,FALSE)","v":0}]
[null,1.4,"A list of FIVE possible constraints (content unknown to your field of EGD gr 11 content knowledge)",null,null,null,null,null,null,null,null,null,2,{"$f":"VLOOKUP($S$1,'PAT Civil Detailed'!$F$14:$CW$113,7,FALSE)","v":0},{"$f":"VLOOKUP($S$1,'PAT Civil Detailed'!$F$14:$CW$113,2,FALSE)","v":0}]
[null,1.5,"A management plan with target dates for ALL the presentation requirements",null,null,null,null,null,null,null,null,null,2,{"$f":"VLOOKUP($S$1,'PAT Civil Detailed'!$F$14:$CW$113,8,FALSE)","v":0},{"$f":"VLOOKUP($S$1,'PAT Civil Detailed'!$F$14:$CW$113,2,FALSE)","v":0}]
[null,"TOTAL",null,null,null,null,null,null,null,null,null,null,{"$f":"SUM(M12:M16)","v":10},{"$f":"SUM(N12:N16)","v":0}]
[2," Research (This should be restricted to a maximum of FOUR A4 or TWO A3 pages per topic.)"]
[null,"Relevant and usable research on:",null,2.1,"The correct SANS 10143 bathroom features",null,null,null,null,null,null,null,2,{"$f":"VLOOKUP($S$1,'PAT Civil Detailed'!$F$14:$CW$113,10,FALSE)","v":0},{"$f":"VLOOKUP($S$1,'PAT Civil Detailed'!$F$14:$CW$113,2,FALSE)","v":0}]
[null,null,null,2.2000000000000002,"The correct SANS 10143 symbol for electrical features for civil drawings",null,null,null,null,null,null,null,2,{"$f":"VLOOKUP($S$1,'PAT Civil Detailed'!$F$14:$CW$113,11,FALSE)","v":0},{"$f":"VLOOKUP($S$1,'PAT Civil Detailed'!$F$14:$CW$113,2,FALSE)","v":0}]
[null,null,null,2.2999999999999998,"The correct calculations on floor areas and scales of drawings",null,null,null,null,null,null,null,2,{"$f":"VLOOKUP($S$1,'PAT Civil Detailed'!$F$14:$CW$113,12,FALSE)","v":0},{"$f":"VLOOKUP($S$1,'PAT Civil Detailed'!$F$14:$CW$113,2,FALSE)","v":0}]
[null,"Clear evidence that the research has been used in your proposed design solutions",null,null,null,null,null,null,null,null,null,null,2,{"$f":"VLOOKUP($S$1,'PAT Civil Detailed'!$F$14:$CW$113,13,FALSE)","v":0},{"$f":"VLOOKUP($S$1,'PAT Civil Detailed'!$F$14:$CW$113,2,FALSE)","v":0}]
[null,"A list of ALL references (Bibliography) ",null,null,null,null,null,null,null,null,null,null,2,{"$f":"VLOOKUP($S$1,'PAT Civil Detailed'!$F$14:$CW$113,14,FALSE)","v":0},{"$f":"VLOOKUP($S$1,'PAT Civil Detailed'!$F$14:$CW$113,2,FALSE)","v":0}]
[null,"TOTAL",null,null,null,null,null,null,null,null,null,null,{"$f":"SUM(M19:M23)","v":10},{"$f":"SUM(N19:N23)","v":0}]
[3,"Freehand drawings of TWO possible design solutions",null,null,null,null,null,null,null,"SOLUTION",null,null,null,"No:1","No:2"]
[null,"Assess each freehand solution as follows:",null,"ALL the building features.",null,null,null,null,null,null,null,null,2,{"$f":"VLOOKUP($S$1,'PAT Civil Detailed'!$F$14:$CW$113,16,FALSE)","v":0},{"$f":"VLOOKUP($S$1,'PAT Civil Detailed'!$F$14:$CW$113,25,FALSE)","v":0}]
[null,null,null,"Correct presentation of all building features (Load & Non loadbearing walls)",null,null,null,null,null,null,null,null,2,{"$f":"VLOOKUP($S$1,'PAT Civil Detailed'!$F$14:$CW$113,17,FALSE)","v":0},{"$f":"VLOOKUP($S$1,'PAT Civil Detailed'!$F$14:$CW$113,26,FALSE)","v":0}]
[null,null,null,"ALL fixtures included (doors windows bathroom fixtures)",null,null,null,null,null,null,null,null,2,{"$f":"VLOOKUP($S$1,'PAT Civil Detailed'!$F$14:$CW$113,18,FALSE)","v":0},{"$f":"VLOOKUP($S$1,'PAT Civil Detailed'!$F$14:$CW$113,27,FALSE)","v":0}]
[null,null,null,"Correct presentation of all fixtures according to SANS 10143",null,null,null,null,null,null,null,null,2,{"$f":"VLOOKUP($S$1,'PAT Civil Detailed'!$F$14:$CW$113,19,FALSE)","v":0},{"$f":"VLOOKUP($S$1,'PAT Civil Detailed'!$F$14:$CW$113,28,FALSE)","v":0}]
[null,null,null,"Relative size/proportion of features to each other",null,null,null,null,null,null,null,null,1,{"$f":"VLOOKUP($S$1,'PAT Civil Detailed'!$F$14:$CW$113,20,FALSE)","v":0},{"$f":"VLOOKUP($S$1,'PAT Civil Detailed'!$F$14:$CW$113,29,FALSE)","v":0}]
[null,null,null,"Primary labels(1) + primary dimensions(2) (1 + 2 = 3)",null,null,null,null,null,null,null,null,2,{"$f":"VLOOKUP($S$1,'PAT Civil Detailed'!$F$14:$CW$113,21,FALSE)","v":0},{"$f":"VLOOKUP($S$1,'PAT Civil Detailed'!$F$14:$CW$113,30,FALSE)","v":0}]
[null,null,null,"Area calculation clearly shown & within constraints",null,null,null,null,null,null,null,null,2,{"$f":"VLOOKUP($S$1,'PAT Civil Detailed'!$F$14:$CW$113,22,FALSE)","v":0},{"$f":"VLOOKUP($S$1,'PAT Civil Detailed'!$F$14:$CW$113,31,FALSE)","v":0}]
[null,null,null,"Design: Functionality and effective utilisation of space",null,null,null,null,null,null,null,null,2,{"$f":"VLOOKUP($S$1,'PAT Civil Detailed'!$F$14:$CW$113,23,FALSE)","v":0},{"$f":"VLOOKUP($S$1,'PAT Civil Detailed'!$F$14:$CW$113,32,FALSE)","v":0}]
[null,"Subtotal = 15 ÷ 1,5 = TOTAL",null,null,null,null,null,null,null,null,null,null,{"$f":"ROUND((SUM(M26:M33))/1.5,0)","v":10},{"$f":"ROUND((SUM(N26:N33))/1.5,0)","v":0},{"$f":"ROUND((SUM(O26:O33))/1.5,0)","v":0}]
["(1 = 1 ; 2 = 1 ; 3 = 2 ; 4 = 3 ; 5 = 3 ; 6 = 4 ; 7 = 5 ; 8 = 5 ; 9 = 6 ; 10 = 7 ; 11 = 7 ; 12 = 8 ; 13 = 9 ; 14 = 9 ; 15 = 10)"]
[4,"Selecting the best freehand solution (This must be a separate presentation)"]
[null,4.0999999999999996,"Table created for an easily understandable presentation of the selection process",null,null,null,null,null,null,null,null,null,2,{"$f":"VLOOKUP($S$1,'PAT Civil Detailed'!$F$14:$CW$113,34,FALSE)","v":0},{"$f":"VLOOKUP($S$1,'PAT Civil Detailed'!$F$14:$CW$113,32,FALSE)","v":0}]
[null,4.2,"Minimum of FIVE descriptive criteria to evaluate and compare",null,null,null,null,null,null,null,null,null,2,{"$f":"VLOOKUP($S$1,'PAT Civil Detailed'!$F$14:$CW$113,35,FALSE)","v":0},{"$f":"VLOOKUP($S$1,'PAT Civil Detailed'!$F$14:$CW$113,32,FALSE)","v":0}]
[null,4.3,"Simple rating scale created and used to score each solution against each criterion",null,null,null,null,null,null,null,null,null,2,{"$f":"VLOOKUP($S$1,'PAT Civil Detailed'!$F$14:$CW$113,36,FALSE)","v":0},{"$f":"VLOOKUP($S$1,'PAT Civil Detailed'!$F$14:$CW$113,32,FALSE)","v":0}]
[null,4.4000000000000004,"Each score justified by describing the positive or negative aspects of each criterion",null,null,null,null,null,null,null,null,null,2,{"$f":"VLOOKUP($S$1,'PAT Civil Detailed'!$F$14:$CW$113,37,FALSE)","v":0},{"$f":"VLOOKUP($S$1,'PAT Civil Detailed'!$F$14:$CW$113,32,FALSE)","v":0}]
[null,4.5,"Comprehensive summary giving reasons for the selected freehand solution",null,null,null,null,null,null,null,null,null,2,{"$f":"VLOOKUP($S$1,'PAT Civil Detailed'!$F$14:$CW$113,38,FALSE)","v":0},{"$f":"VLOOKUP($S$1,'PAT Civil Detailed'!$F$14:$CW$113,32,FALSE)","v":0}]
[null,"TOTAL",null,null,null,null,null,null,null,null,null,null,{"$f":"SUM(M37:M41)","v":10},{"$f":"SUM(N37:N41)","v":0}]
[5,"Layout drawings and a pictorial drawing of selected solution"]
["5.1","Drawing sheet preparation"]
[null,"Appropriately sized drawing sheets",null,null,null,null,null,null,null,null,null,null,1,{"$f":"VLOOKUP($S$1,'PAT Civil Detailed'!$F$14:$CW$113,40,FALSE)","v":0},{"$f":"VLOOKUP($S$1,'PAT Civil Detailed'!$F$14:$CW$113,32,FALSE)","v":0}]
[null,"Correct borders on all the drawing sheets of all the working drawings ",null,null,null,null,null,null,null,null,null,null,2,{"$f":"VLOOKUP($S$1,'PAT Civil Detailed'!$F$14:$CW$113,41,FALSE)","v":0},{"$f":"VLOOKUP($S$1,'PAT Civil Detailed'!$F$14:$CW$113,32,FALSE)","v":0}]
[null,"Complete SANS 10143 civil title panel on first working drawing’s drawing sheet ",null,null,null,null,null,null,null,null,null,null,7,{"$f":"VLOOKUP($S$1,'PAT Civil Detailed'!$F$14:$CW$113,42,FALSE)","v":0},{"$f":"VLOOKUP($S$1,'PAT Civil Detailed'!$F$14:$CW$113,32,FALSE)","v":0}]
[null,"NOTE: Use the 7 mark simplified rubric on page 45 of the EGD CAPS",null,null,null,null,null,null,null,"TOTAL",null,null,{"$f":"SUM(M45:M47)","v":10},{"$f":"SUM(N45:N47)","v":0}]
["Detailed layout drawings of the selected proposed solutions"]
["5.2","Floor plan showing: "]
[null,"Correlation with selected freehand solution and the selection process summary",null,null,null,null,null,null,null,null,null,null,1,{"$f":"VLOOKUP($S$1,'PAT Civil Detailed'!$F$14:$CW$113,44,FALSE)","v":0},{"$f":"VLOOKUP($S$1,'PAT Civil Detailed'!$F$14:$CW$113,32,FALSE)","v":0}]
[null,"ALL internal and external walls, incl. ALL hatching detail",null,null,null,null,null,null,null,null,null,null,2,{"$f":"VLOOKUP($S$1,'PAT Civil Detailed'!$F$14:$CW$113,45,FALSE)","v":0},{"$f":"VLOOKUP($S$1,'PAT Civil Detailed'!$F$14:$CW$113,32,FALSE)","v":0}]
[null,"ALL doors and windows",null,null,null,null,null,null,null,null,null,null,2,{"$f":"VLOOKUP($S$1,'PAT Civil Detailed'!$F$14:$CW$113,46,FALSE)","v":0},{"$f":"VLOOKUP($S$1,'PAT Civil Detailed'!$F$14:$CW$113,32,FALSE)","v":0}]
[null,"ALL permanent fixtures",null,null,null,null,null,null,null,null,null,null,2,{"$f":"VLOOKUP($S$1,'PAT Civil Detailed'!$F$14:$CW$113,47,FALSE)","v":0},{"$f":"VLOOKUP($S$1,'PAT Civil Detailed'!$F$14:$CW$113,32,FALSE)","v":0}]
[null,"Detailed layout of the required facility inside the existing structure",null,null,null,null,null,null,null,null,null,null,2,{"$f":"VLOOKUP($S$1,'PAT Civil Detailed'!$F$14:$CW$113,48,FALSE)","v":0},{"$f":"VLOOKUP($S$1,'PAT Civil Detailed'!$F$14:$CW$113,32,FALSE)","v":0}]
[null,"ALL electrical fittings and the wiring detail ",null,null,null,null,null,null,null,null,null,null,2,{"$f":"VLOOKUP($S$1,'PAT Civil Detailed'!$F$14:$CW$113,49,FALSE)","v":0},{"$f":"VLOOKUP($S$1,'PAT Civil Detailed'!$F$14:$CW$113,32,FALSE)","v":0}]
[null,"Waste-water disposal systems (sewerage)",null,null,null,null,null,null,null,null,null,null,2,{"$f":"VLOOKUP($S$1,'PAT Civil Detailed'!$F$14:$CW$113,50,FALSE)","v":0},{"$f":"VLOOKUP($S$1,'PAT Civil Detailed'!$F$14:$CW$113,32,FALSE)","v":0}]
[null,"Title, labels and notes (2) + detailed dimensioning (2) (2 + 2 = 4)",null,null,null,null,null,null,null,null,null,null,4,{"$f":"VLOOKUP($S$1,'PAT Civil Detailed'!$F$14:$CW$113,51,FALSE)","v":0},{"$f":"VLOOKUP($S$1,'PAT Civil Detailed'!$F$14:$CW$113,32,FALSE)","v":0}]
[null,"Suitable scale selected & correctly indicated (1) + cutting plane (1) + north point (1)",null,null,null,null,null,null,null,null,null,null,3,{"$f":"VLOOKUP($S$1,'PAT Civil Detailed'!$F$14:$CW$113,52,FALSE)","v":0},{"$f":"VLOOKUP($S$1,'PAT Civil Detailed'!$F$14:$CW$113,32,FALSE)","v":0}]
[null,"Subtotal = 20 ÷ 2 = TOTAL",null,null,null,null,null,null,null,null,null,null,{"$f":"ROUND((SUM(M51:M59))*0.5,0)","v":10},{"$f":"ROUND((SUM(N51:N59))*0.5,0)","v":0}]
["5.3","NORTH ELEVATION or SOUTH ELEVATION and EAST ELECATION or WEST ELEVATION"]
[null,"Appropriate views selected ",null,null,null,null,null,null,null,null,null,null,2,{"$f":"VLOOKUP($S$1,'PAT Civil Detailed'!$F$14:$CW$113,54,FALSE)","v":0},{"$f":"VLOOKUP($S$1,'PAT Civil Detailed'!$F$14:$CW$113,32,FALSE)","v":0}]
[null,"External walls and ALL other external features",null,null,null,null,null,null,null,null,null,null,2,{"$f":"VLOOKUP($S$1,'PAT Civil Detailed'!$F$14:$CW$113,55,FALSE)","v":0},{"$f":"VLOOKUP($S$1,'PAT Civil Detailed'!$F$14:$CW$113,32,FALSE)","v":0}]
[null,"Door and window detail",null,null,null,null,null,null,null,null,null,null,2,{"$f":"VLOOKUP($S$1,'PAT Civil Detailed'!$F$14:$CW$113,56,FALSE)","v":0},{"$f":"VLOOKUP($S$1,'PAT Civil Detailed'!$F$14:$CW$113,32,FALSE)","v":0}]
[null,"Waste-water disposal system (sewerage)",null,null,null,null,null,null,null,null,null,null,2,{"$f":"VLOOKUP($S$1,'PAT Civil Detailed'!$F$14:$CW$113,57,FALSE)","v":0},{"$f":"VLOOKUP($S$1,'PAT Civil Detailed'!$F$14:$CW$113,32,FALSE)","v":0}]
[null,"Elevation drawn to same scale as the floor plan and scale indicated",null,null,null,null,null,null,null,null,null,null,2,{"$f":"VLOOKUP($S$1,'PAT Civil Detailed'!$F$14:$CW$113,58,FALSE)","v":0},{"$f":"VLOOKUP($S$1,'PAT Civil Detailed'!$F$14:$CW$113,32,FALSE)","v":0}]
[null,null,null,null,null,null,null,null,null,null,null,null,null,{"$f":"VLOOKUP($S$1,'PAT Civil Detailed'!$F$14:$CW$113,59,FALSE)","v":0},{"$f":"VLOOKUP($S$1,'PAT Civil Detailed'!$F$14:$CW$113,32,FALSE)","v":0}]
[null,null,null,null,null,null,null,null,null,null,null,null,null,{"$f":"VLOOKUP($S$1,'PAT Civil Detailed'!$F$14:$CW$113,60,FALSE)","v":0},{"$f":"VLOOKUP($S$1,'PAT Civil Detailed'!$F$14:$CW$113,32,FALSE)","v":0}]
[null,null,null,null,null,null,null,null,null,null,null,null,null,{"$f":"VLOOKUP($S$1,'PAT Civil Detailed'!$F$14:$CW$113,61,FALSE)","v":0},{"$f":"VLOOKUP($S$1,'PAT Civil Detailed'!$F$14:$CW$113,32,FALSE)","v":0}]
[null," TOTAL",null,null,null,null,null,null,null,null,null,null,{"$f":"ROUND(SUM(M62:M69),0)","v":10},{"$f":"ROUND((SUM(N62:N69)/1.5),0)","v":0}]
["(1 = 1 ; 2 = 1 ; 3 = 2 ; 4 = 3 ; 5 = 3 ; 6 = 4 ; 7 = 5 ; 8 = 5 ; 9 = 6 ; 10 = 7 ; 11 = 7 ; 12 = 8 ; 13 = 9 ; 14 = 9 ; 15 = 10)"]
["5.4","SECTIONAL ELEVATION showing:"]
[null,"Section correct according to the indicated cutting plane(s)",null,null,null,null,null,null,null,null,null,null,2,{"$f":"VLOOKUP($S$1,'PAT Civil Detailed'!$F$14:$CW$113,63,FALSE)","v":0},{"$f":"VLOOKUP($S$1,'PAT Civil Detailed'!$F$14:$CW$113,32,FALSE)","v":0}]
[null,"Foundation, slab and wall detail",null,null,null,null,null,null,null,null,null,null,2,{"$f":"VLOOKUP($S$1,'PAT Civil Detailed'!$F$14:$CW$113,64,FALSE)","v":0},{"$f":"VLOOKUP($S$1,'PAT Civil Detailed'!$F$14:$CW$113,32,FALSE)","v":0}]
[null,"Door(s) and window(s) detail",null,null,null,null,null,null,null,null,null,null,2,{"$f":"VLOOKUP($S$1,'PAT Civil Detailed'!$F$14:$CW$113,65,FALSE)","v":0},{"$f":"VLOOKUP($S$1,'PAT Civil Detailed'!$F$14:$CW$113,32,FALSE)","v":0}]
[null,"Dimensions at FFL, lintels and roof level indicated correct",null,null,null,null,null,null,null,null,null,null,2,{"$f":"VLOOKUP($S$1,'PAT Civil Detailed'!$F$14:$CW$113,66,FALSE)","v":0},{"$f":"VLOOKUP($S$1,'PAT Civil Detailed'!$F$14:$CW$113,32,FALSE)","v":0}]
[null,"Labels and notes",null,null,null,null,null,null,null,null,null,null,2,{"$f":"VLOOKUP($S$1,'PAT Civil Detailed'!$F$14:$CW$113,67,FALSE)","v":0},{"$f":"VLOOKUP($S$1,'PAT Civil Detailed'!$F$14:$CW$113,32,FALSE)","v":0}]
[null,"Enlarged scale selected and indicated correctly",null,null,null,null,null,null,null,null,null,null,1,{"$f":"VLOOKUP($S$1,'PAT Civil Detailed'!$F$14:$CW$113,68,FALSE)","v":0},{"$f":"VLOOKUP($S$1,'PAT Civil Detailed'!$F$14:$CW$113,32,FALSE)","v":0}]
[null,"Detailed dimensioning",null,null,null,null,null,null,null,null,null,null,2,{"$f":"VLOOKUP($S$1,'PAT Civil Detailed'!$F$14:$CW$113,69,FALSE)","v":0},{"$f":"VLOOKUP($S$1,'PAT Civil Detailed'!$F$14:$CW$113,32,FALSE)","v":0}]
[null,"ALL hatching detail",null,null,null,null,null,null,null,null,null,null,2,{"$f":"VLOOKUP($S$1,'PAT Civil Detailed'!$F$14:$CW$113,70,FALSE)","v":0},{"$f":"VLOOKUP($S$1,'PAT Civil Detailed'!$F$14:$CW$113,32,FALSE)","v":0}]
[null,"Subtotal = 15 ÷ 1,5 = TOTAL",null,null,null,null,null,null,null,null,null,null,{"$f":"ROUND((SUM(M73:M80)/1.5),0)","v":10},{"$f":"SUM(N73:N80)","v":0}]
["5.5","Detailed perspective drawing showing the front of the new building"]
[null,"Evidence of views/drawings and construction/method used for the drawing",null,null,null,null,null,null,null,null,null,null,1,{"$f":"VLOOKUP($S$1,'PAT Civil Detailed'!$F$14:$CW$113,72,FALSE)","v":0},{"$f":"VLOOKUP($S$1,'PAT Civil Detailed'!$F$14:$CW$113,32,FALSE)","v":0}]
[null,"Correct orientation showing the front (1) and the correct HL high for a human eye view (1)",null,null,null,null,null,null,null,null,null,null,2,{"$f":"VLOOKUP($S$1,'PAT Civil Detailed'!$F$14:$CW$113,73,FALSE)","v":0},{"$f":"VLOOKUP($S$1,'PAT Civil Detailed'!$F$14:$CW$113,32,FALSE)","v":0}]
[null,"Perspective drawing/answer (Use the 7-point-rubrickk on p. 45 of the EGD CAPS document)",null,null,null,null,null,null,null,null,null,null,7,{"$f":"VLOOKUP($S$1,'PAT Civil Detailed'!$F$14:$CW$113,74,FALSE)","v":0},{"$f":"VLOOKUP($S$1,'PAT Civil Detailed'!$F$14:$CW$113,32,FALSE)","v":0}]
[null,"TOTAL",null,null,null,null,null,null,null,null,null,null,{"$f":"SUM(M83:M85)","v":10},{"$f":"SUM(N83:N85)","v":0}]
[6,"Continuous self-evaluation and the meeting of deadlines"]
[null,"Checklist completed as evidence of continuous self-evaluation (mark out of 10 ÷ 2)",null,null,null,null,null,null,null,null,null,null,5,{"$f":"VLOOKUP($S$1,'PAT Civil Detailed'!$F$14:$CW$113,76,FALSE)","v":0},{"$f":"VLOOKUP($S$1,'PAT Civil Detailed'!$F$14:$CW$113,32,FALSE)","v":0}]
[null,"The meeting of ALL the deadlines during the development (mark out of 10 ÷ 2)",null,null,null,null,null,null,null,null,null,null,5,{"$f":"VLOOKUP($S$1,'PAT Civil Detailed'!$F$14:$CW$113,77,FALSE)","v":0},{"$f":"VLOOKUP($S$1,'PAT Civil Detailed'!$F$14:$CW$113,32,FALSE)","v":0}]
[null,null,null,null,null,null,null,null,null,"TOTAL",null,null,10,{"$f":"SUM(N88:N89)","v":0}]
[7,"Presentation of the complete PAT file/portfolio"]
[null,"Complete cover page",null,null,null,null,null,null,null,null,null,null,1,{"$f":"VLOOKUP($S$1,'PAT Civil Detailed'!$F$14:$CW$113,79,FALSE)","v":0},{"$f":"VLOOKUP($S$1,'PAT Civil Detailed'!$F$14:$CW$113,32,FALSE)","v":0}]
[null,"Index with page references per topic(s) on each page",null,null,null,null,null,null,null,null,null,null,1,{"$f":"VLOOKUP($S$1,'PAT Civil Detailed'!$F$14:$CW$113,80,FALSE)","v":0},{"$f":"VLOOKUP($S$1,'PAT Civil Detailed'!$F$14:$CW$113,32,FALSE)","v":0}]
[null,"Summative assessment sheet and declaration",null,null,null,null,null,null,null,null,null,null,1,{"$f":"VLOOKUP($S$1,'PAT Civil Detailed'!$F$14:$CW$113,81,FALSE)","v":0},{"$f":"VLOOKUP($S$1,'PAT Civil Detailed'!$F$14:$CW$113,32,FALSE)","v":0}]
[null,"Correct sequencing of ALL presentation requirements",null,null,null,null,null,null,null,null,null,null,1,{"$f":"VLOOKUP($S$1,'PAT Civil Detailed'!$F$14:$CW$113,82,FALSE)","v":0},{"$f":"VLOOKUP($S$1,'PAT Civil Detailed'!$F$14:$CW$113,32,FALSE)","v":0}]
[null,"Name and numbering on ALL the presentation requirements",null,null,null,null,null,null,null,null,null,null,1,{"$f":"VLOOKUP($S$1,'PAT Civil Detailed'!$F$14:$CW$113,83,FALSE)","v":0},{"$f":"VLOOKUP($S$1,'PAT Civil Detailed'!$F$14:$CW$113,32,FALSE)","v":0}]
[null,"General impression of file/portfolio. (mark out of 10 ÷ 2)",null,null,null,null,null,null,null,null,null,null,5,{"$f":"VLOOKUP($S$1,'PAT Civil Detailed'!$F$14:$CW$113,84,FALSE)","v":0},{"$f":"VLOOKUP($S$1,'PAT Civil Detailed'!$F$14:$CW$113,32,FALSE)","v":0}]
[null,"TOTAL",null,null,null,null,null,null,null,null,null,null,{"$f":"SUM(M92:M97)","v":10},{"$f":"SUM(N92:N97)","v":0}]
["Assessment of drawing methods, drawing skills and presentation"]
[8,"Freehand drawings"]
[null,"Freehand drawing methods and skills (See ANNEXURE A on page 24)",null,null,null,null,null,null,null,null,null,null,10,{"$f":"VLOOKUP($S$1,'PAT Civil Detailed'!$F$14:$CW$113,86,FALSE)","v":0},{"$f":"VLOOKUP($S$1,'PAT Civil Detailed'!$F$14:$CW$113,32,FALSE)","v":0}]
[null,"Neatness, line quality and printing (See ANNEXURE A on page 24)",null,null,null,null,null,null,null,null,null,null,10,{"$f":"VLOOKUP($S$1,'PAT Civil Detailed'!$F$14:$CW$113,87,FALSE)","v":0},{"$f":"VLOOKUP($S$1,'PAT Civil Detailed'!$F$14:$CW$113,32,FALSE)","v":0}]
[null,"TOTAL",null,null,null,null,null,null,null,null,null,null,{"$f":"SUM(M101:M102)","v":20},{"$f":"SUM(N101:N102)","v":0}]
[9,"Instrument drawings"]
[null,"Use of drawing instruments, drawing methods and skills (See ANNEXURE A on page 24)",null,null,null,null,null,null,null,null,null,null,10,{"$f":"VLOOKUP($S$1,'PAT Civil Detailed'!$F$14:$CW$113,88,FALSE)","v":0},{"$f":"VLOOKUP($S$1,'PAT Civil Detailed'!$F$14:$CW$113,32,FALSE)","v":0}]
[null,"Neatness, line work/line quality and printing (See ANNEXURE A on page 24)",null,null,null,null,null,null,null,null,null,null,10,{"$f":"VLOOKUP($S$1,'PAT Civil Detailed'!$F$14:$CW$113,89,FALSE)","v":0},{"$f":"VLOOKUP($S$1,'PAT Civil Detailed'!$F$14:$CW$113,32,FALSE)","v":0}]
[null,"TOTAL",null,null,null,null,null,null,null,null,null,null,{"$f":"SUM(M105:M106)","v":20},{"$f":"SUM(N105:N106)","v":0}]
[10,"CAD drawings"]
[null,"Competence displayed in using a CAD program (see rubric grade 12 PAT – page 24).",null,null,null,null,null,null,null,null,null,null,10,{"$f":"VLOOKUP($S$1,'PAT Civil Detailed'!$F$14:$CW$113,90,FALSE)","v":0},{"$f":"VLOOKUP($S$1,'PAT Civil Detailed'!$F$14:$CW$113,32,FALSE)","v":0}]
[null,"Layout and correctness of the drawings presentation (see rubric grade 12 PAT – page 24).",null,null,null,null,null,null,null,null,null,null,10,{"$f":"VLOOKUP($S$1,'PAT Civil Detailed'!$F$14:$CW$113,91,FALSE)","v":0},{"$f":"VLOOKUP($S$1,'PAT Civil Detailed'!$F$14:$CW$113,32,FALSE)","v":0}]
[null,"TOTAL",null,null,null,null,null,null,null,null,null,null,{"$f":"SUM(M109:M110)","v":20},{"$f":"SUMIF(N109:N110,\">0\")","v":0}]
["Learner total without CAD",null,null,null,null,null,null,null,null,null,null,null,null,{"$f":"H167","v":0}]
[null,null,null,null,null,null,null,null,null,null,null,null,null,"/100"]
["Learner total with CAD",null,null,null,null,null,null,null,null,null,null,null,null,{"$f":"M167","v":0}]
[null,null,null,null,null,null,null,null,null,null,null,null,null,"/100"]
[]
["PRACTICAL ASSESSMENT TASK 2019                                                                                                                                                                                             SUMMATIVE ASSESSMENT SHEET"]
["NAME OF SCHOOL",null,null,null,{"$f":"G2","v":0}]
["NAME & SURNAME OF LEARNER:",null,null,null,{"$f":"G3","v":""}]
["NAME & SURNAME OF TEACHER",null,null,null,{"$f":"G4","v":0}]
["NAME & SURNAME OF MODERATOR",null,null,null,{"$f":"G5","v":0}]
["PART A: Design process",null,null,null,"PART B: Working and pictorial drawings",null,null,null,null,"Drawing competency and skill"]
["CRITERIA",null,null,"MARK","CRITERIA",null,null,null,"MARK","CRITERIA",null,null,null,"MARK"]
[1,"A design brief demonstrating a clear understanding of the scenario and the specifications, constraints and a management plan",null,{"$f":"N17","v":0},"All drawing sheets are appropriately set up with a border and an appropriate title block/panel.",null,null,null,{"$f":"N48","v":0},"Freehand drawings                                                                                         ANNEXURE A","METHOD","The drawing display correct freehand drawing method and skills and the method used to ensure proportion and size",null,{"$f":"N101","v":0}]
[]
[null,null,null,null,null,null,null,null,"/10"]
[null,null,null,null,"Orthographic drawings","Assess each view`s accuracy and correctness according to the selected solution, the stipulated requirements and EGD drawing principles","5.1.1","View 1",{"$f":"N60","v":0}]
[null,null,null,null,null,null,null,"Floor Plan"]
[]
[null,null,null,"/10",null,null,null,null,null,null,null,null,null,"/10"]
[2,"Evidence of relevant and usable research with the inclusion of a bibliography",null,{"$f":"N24","v":0},null,null,null,null,null,null,"The final drawing presentation is neat and there is consistency of line work/line quality, printing and dimensioning",null,null,{"$f":"N102","v":0}]
[]
[null,null,null,null,null,null,null,null,"/10"]
[null,null,null,"/10",null,null,"5.1.2","View 2",{"$f":"N70","v":0}]
[3,"TWO detailed freehand drawings of possible solutions","1st Solution",{"$f":"N34","v":0},null,null,null,"Two elevations"]
[]
[null,null,null,null,null,null,null,null,null,"Instrument drawings:                              ANNEXURE A","METHOD","The drawings display the correct use of drawing instruments, drawing methods and skills",null,{"$f":"N105","v":0}]
[]
[null,null,null,"/10"]
[null,null,"2nd Solution",{"$f":"O34","v":0}]
[null,null,null,null,null,null,null,null,"/10"]
[null,null,null,null,null,null,"5.1.3","View 3",{"$f":"N81","v":0},null,null,null,null,"/10"]
[null,null,null,null,null,null,null,"Section view",null,null,"The final drawing presentation is neat and there is consistency of line work line quality, printing and dimensioning",null,null,{"$f":"N106","v":0}]
[]
[null,null,null,"/10"]
[4,"Selecting the best solution which demonstrates a clear understanding of the design brief",null,{"$f":"N42","v":0}]
[]
[null,null,null,null,null,null,null,null,"/10",null,null,null,null,"/10"]
[null,null,null,null,"Pictorial drawing",5.2,"View 4",null,{"$f":"N86","v":0},"CAD drawings                 ANNEXURE A","METHOD","The level of competence displayed in using a CAD system",null,{"$f":"N109","v":0}]
[null,null,null,null,null,null,"The correct drawing method and the presentation of the drawing"]
[]
[null,null,null,"/10",null,null,null,null,null,null,null,null,null,"/10"]
[13,"Clear evidence of evaluation and meeting the of all the requirements",null,{"$f":"N90","v":0},null,null,"PAT 1: 2-point perspective",null,null,null,"The layout of the final drawing is correct and the line work, printing and dimensioning is compliant and consistent",null,null,{"$f":"N110","v":0}]
[]
[]
[null,null,null,"/10",null,null,null,null,"/10",null,null,null,null,"/10"]
[14,"The presentation of the complete PAT file/portfolio",null,{"$f":"N98","v":0},null,null,null,null,null,"NO CAD drawings",null,null,null,{"$f":"SUM((N124)+(N131)+(N137)+(N143))","v":0}]
[null,null,null,null,null,null,null,null,null,null,null,null,null,"/40"]
[null,null,null,null,null,null,null,null,null,"WITH CAD drawings",null,null,null,{"$f":"SUM((N124)+(N131)+(N137)+(N143)+(N149)+(N153))","v":0}]
[null,null,null,"/10",null,null,null,null,null,null,null,null,null,"/60"]
["SUB TOTAL",null,null,{"$f":"SUM((D124)+(D131)+(D135)+(D140)+(D146)+(D153)+(D157))","v":0},"SUB TOTAL",null,null,null,{"$f":"SUM((I124)+(I127)+(I142)+(I134)+(I149))","v":0},"CALCULATIOIN without CAD",null,null,null,{"$f":"ROUND(((N157)*0.625)*1,0)","v":0}]
["CALCULATION",null,null,"/70","CALCULATION",null,null,null,"/50","CALCULATION with CAD",null,null,null,{"$f":"ROUND(((N159)*0.416666666)*1,0)","v":0}]
["Teacher`s TOTAL",null,null,null,"Teacher`s TOTAL",null,null,null,null,"Teacher`s TOTAL"]
["TOTAL: A",null,null,{"$f":"ROUND(((D161)*0.36)*1,0)","v":0},"TOTAL: B",null,null,null,{"$f":"I161","v":0},"TOTAL: C",null,"Without CAD",null,{"$f":"ROUND(((N157)*0.625)*1,0)","v":0}]
[null,null,null,null,null,null,null,null,null,null,null,"With CAD",null,{"$f":"ROUND(((N159)*0.416666666)*1,0)","v":0}]
[null,null,null,"/25",null,null,null,null,"/50",null,null,null,null,"/25"]
["TEACHER`S TOTAL:",null,null,"A+B+C WITHOUT CAD =  ",null,null,null,{"$f":"SUM((D164)+(I164)+(N164))","v":0},null,"A+B+C WITH CAD",null,null,{"$f":"SUM((D164)+(I164)+(N165))","v":0}]
[null,null,null,null,null,null,null,"/100",null,null,null,null,"/100"]
["Moderated TOTAL",null,null,null,"Moderated TOTAL",null,null,null,null,"Moderated TOTAL"]
["TOTAL: A",null,null,null,"TOTAL: B",null,null,null,null,"TOTAL: C",null,"Without CAD"]
[null,null,null,null,null,null,null,null,null,null,null,"With CAD"]
[null,null,null,"/25",null,null,null,null,"/50",null,null,null,null,"/25"]
["MODERATED TOTAL:",null,null,"A+B+C WITHOUT CAD =  ",null,null,null,null,null,"A+B+C WITH CAD"]
[null,null,null,null,null,null,null,"/100",null,null,null,null,"/100"]

{"sheet":"FIN PAT MARK SHEET","index":13,"n_rows":123,"n_cols":38,"rows_kept":123,"cut":false,"hidden":false,"merged":[[4,9,4,14],[5,18,14,18],[5,19,14,19],[4,15,4,20],[5,12,14,12],[5,13,14,13],[5,14,14,14],[5,15,14,15],[5,20,14,20],[6,36,10,39],[4,29,4,32],[4,33,4,34],[5,33,14,33],[5,34,14,34],[5,32,14,32],[5,30,14,30],[5,31,14,31],[5,2,5,5],[5,6,5,7],[5,9,14,9],[5,10,14,10],[5,11,14,11],[121,2,121,5],[121,9,121,10],[121,11,121,12],[117,2,120,5],[117,6,117,7],[118,6,118,7],[119,9,119,24],[120,21,120,22],[121,21,121,22],[120,19,120,20],[121,19,121,20],[120,17,120,18],[121,17,121,18],[119,6,121,7],[122,19,122,20],[4,6,4,7],[1,2,1,34],[2,9,3,34],[4,2,4,5],[5,28,14,28],[5,29,14,29],[6,2,6,5],[6,6,6,7],[7,2,7,5],[7,6,7,7],[12,6,12,7],[5,16,14,16],[5,17,14,17],[121,15,121,16],[122,15,122,16],[122,17,122,18],[120,9,120,10],[122,9,122,10],[120,11,120,12],[122,11,122,12],[120,13,120,14],[121,13,121,14],[122,13,122,14],[120,15,120,16],[122,21,122,22],[120,23,120,24],[121,23,121,24],[122,23,122,24],[4,21,4,28],[5,23,14,23],[5,24,14,24],[5,25,14,25],[5,26,14,26],[5,27,14,27],[5,21,14,21],[5,22,14,22]]}
[]
[null,null,"ENGINEERING GRAPHICS AND DESIGN"]
[null,null,null,null,null,null,null,null,null,"PROGRAM OF ASSESSMENT  :  PAT"]
[]
[null,null,{"$f":"TERM1!E5","v":"School:"},null,null,null,{"$f":"INSERT!J3","v":0},null,null,"Task PAT Phase 1 (term 1)",null,null,null,null,null,"Task PAT Phase 2 (Term 2)",null,null,null,null,null,"Task PAT (Q&M)",null,null,null,null,null,null,null,"Phase 3 (Term 3)",null,null,null,"Marks"]
[null,null,{"$f":"TERM1!E6","v":"Grade:"},null,null,null,{"$f":"INSERT!J4","v":0},null,null,"1. Design Brief","2. Research","3.1 Possible solutions","3.2 Possible solutions","4. Selection of Final Solution","Total: 29","Paper preperation","Presentation Drawing","Presentation drawing 1","Presentation drawing 2","Presentation Drawing 3D","Total: 35","Freehan Method","Consistancy: Linework","Instrument Method","Consistancy: Linework","CAD Competency","Layout and correctness","Total: NO CAD 40 / CAD 60","Total: 25","6. Continuous evaluation ","7. Final Presentation & Biblio.","Total  / 20","Total: 11","FINAL PAT Mark / 100","PAT Mark / 7"]
[null,null,{"$f":"TERM1!E7","v":"Teacher:"},null,null,null,{"$f":"INSERT!J5","v":0},null,null,null,null,null,null,null,null,null,null,null,null,null,null,null,null,null,null,null,null,null,null,null,null,null,null,null,null,null,"If you don't do the CAD Component\n put a -1 in to the 2 blocks at \nthe PAT Civil Detailed Tab"]
[null,null,{"$f":"TERM1!E8","v":"HOD:"},null,null,null,{"$f":"INSERT!J6","v":0}]
[null,null,null,null,null,"EGD SES:",{"$f":"INSERT!J7","v":0},{"$f":"INSERT!K7","v":0}]
[]
[null,null,null,null,null,{"$f":"HYPERLINK(\"#'\"&\"Index'!A1\",\"Index\")","v":"Index"}]
[]
[]
[]
[]
[null,null,"Nr.",null,"Class","Admission","Surname","Name","GENDER",10,10,10,10,10,{"$f":"SUM(J16:N16)/1.724137931","v":29.000000000579998},10,10,10,10,10,35,10,10,10,10,10,10,null,25,10,10,20,11,100," / 7"]
[]
[null,{"$f":"SUM(COUNTA(G18)+COUNT(C18))","v":2},1,1,{"$f":"INSERT!A3","v":0},{"$f":"INSERT!B3","v":0},{"$f":"INSERT!C3","v":0},{"$f":"INSERT!D3","v":0},{"$f":"INSERT!E3","v":0},{"$f":"'PAT Civil Detailed'!N14","v":0},{"$f":"'PAT Civil Detailed'!T14","v":0},{"$f":"'PAT Civil Detailed'!AC14","v":0},{"$f":"'PAT Civil Detailed'!AL14","v":0},{"$f":"'PAT Civil Detailed'!AR14","v":0},{"$f":"SUM(J18:N18)/1.724137931","v":0},{"$f":"'PAT Civil Detailed'!AV14","v":0},{"$f":"'PAT Civil Detailed'!BF14","v":0},{"$f":"'PAT Civil Detailed'!BO14","v":0},{"$f":"'PAT Civil Detailed'!BX14","v":0},{"$f":"'PAT Civil Detailed'!CB14","v":0},{"$f":"ROUND((SUM(P18:T18)/1.428571428),1)","v":0},{"$f":"'PAT Civil Detailed'!CM14","v":0},{"$f":"'PAT Civil Detailed'!CN14","v":0},{"$f":"'PAT Civil Detailed'!CO14","v":0},{"$f":"'PAT Civil Detailed'!CP14","v":0},{"$f":"'PAT Civil Detailed'!CQ14","v":0},{"$f":"'PAT Civil Detailed'!CR14","v":0},{"$f":"SUMIF(V18:AA18,\">0\")","v":0},{"$f":"IF(AL18=4,SUMIF(V18:AA18,\">0\")/1.6,IF(AL18=6,SUMIF(V18:AA18,\">0\")/2.4,SUMIF(V18:AA18,\">0\")))","v":0},{"$f":"'PAT Civil Detailed'!CE14","v":0},{"$f":"'PAT Civil Detailed'!CL14","v":0},{"$f":"SUM(AD18:AE18)","v":0},{"$f":"SUM(AD18:AE18)/1.818181818","v":0},{"$f":"SUM(O18+U18+AC18+AG18)","v":0},{"$f":"IF(AH18>79,\"7\",IF(AH18>69,\"6\",IF(AH18>59,\"5\",IF(AH18>49,\"4\",IF(AH18>39,\"3\",IF(AH18>29,\"2\",IF(AH18>0,\"1\",IF(AH18=0,\"\"))))))))","v":""},null,null,{"$f":"COUNTIF(V18:AA18,\">-1\")","v":6}]
[null,{"$f":"SUM(COUNTA(G19)+COUNT(C19))","v":2},{"$f":"C18+1","v":2},2,{"$f":"INSERT!A4","v":0},{"$f":"INSERT!B4","v":0},{"$f":"INSERT!C4","v":0},{"$f":"INSERT!D4","v":0},{"$f":"INSERT!E4","v":0},{"$f":"'PAT Civil Detailed'!N15","v":0},{"$f":"'PAT Civil Detailed'!T15","v":0},{"$f":"'PAT Civil Detailed'!AC15","v":0},{"$f":"'PAT Civil Detailed'!AL15","v":0},{"$f":"'PAT Civil Detailed'!AR15","v":0},{"$f":"SUM(J19:N19)/1.724137931","v":0},{"$f":"'PAT Civil Detailed'!AV15","v":0},{"$f":"'PAT Civil Detailed'!BF15","v":0},{"$f":"'PAT Civil Detailed'!BO15","v":0},{"$f":"'PAT Civil Detailed'!BX15","v":0},{"$f":"'PAT Civil Detailed'!CB15","v":0},{"$f":"ROUND((SUM(P19:T19)/1.428571428),1)","v":0},{"$f":"'PAT Civil Detailed'!CM15","v":0},{"$f":"'PAT Civil Detailed'!CN15","v":0},{"$f":"'PAT Civil Detailed'!CO15","v":0},{"$f":"'PAT Civil Detailed'!CP15","v":0},{"$f":"'PAT Civil Detailed'!CQ15","v":0},{"$f":"'PAT Civil Detailed'!CR15","v":0},{"$f":"SUMIF(V19:AA19,\">0\")","v":0},{"$f":"IF(AL19=4,SUMIF(V19:AA19,\">0\")/1.6,IF(AL19=6,SUMIF(V19:AA19,\">0\")/2.4,SUMIF(V19:AA19,\">0\")))","v":0},{"$f":"'PAT Civil Detailed'!CE15","v":0},{"$f":"'PAT Civil Detailed'!CL15","v":0},{"$f":"SUM(AD19:AE19)","v":0},{"$f":"SUM(AD19:AE19)/1.818181818","v":0},{"$f":"SUM(O19+U19+AC19+AG19)","v":0},{"$f":"IF(AH19>79,\"7\",IF(AH19>69,\"6\",IF(AH19>59,\"5\",IF(AH19>49,\"4\",IF(AH19>39,\"3\",IF(AH19>29,\"2\",IF(AH19>0,\"1\",IF(AH19=0,\"\"))))))))","v":""},null,null,{"$f":"COUNTIF(V19:AA19,\">-1\")","v":6}]
[null,2,{"$f":"C19+1","v":3},3,{"$f":"INSERT!A5","v":0},{"$f":"INSERT!B5","v":0},{"$f":"INSERT!C5","v":0},{"$f":"INSERT!D5","v":0},{"$f":"INSERT!E5","v":0},{"$f":"'PAT Civil Detailed'!N16","v":0},{"$f":"'PAT Civil Detailed'!T16","v":0},{"$f":"'PAT Civil Detailed'!AC16","v":0},{"$f":"'PAT Civil Detailed'!AL16","v":0},{"$f":"'PAT Civil Detailed'!AR16","v":0},0,{"$f":"'PAT Civil Detailed'!AV16","v":0},{"$f":"'PAT Civil Detailed'!BF16","v":0},{"$f":"'PAT Civil Detailed'!BO16","v":0},{"$f":"'PAT Civil Detailed'!BX16","v":0},{"$f":"'PAT Civil Detailed'!CB16","v":0},0,{"$f":"'PAT Civil Detailed'!CM16","v":0},{"$f":"'PAT Civil Detailed'!CN16","v":0},{"$f":"'PAT Civil Detailed'!CO16","v":0},{"$f":"'PAT Civil Detailed'!CP16","v":0},{"$f":"'PAT Civil Detailed'!CQ16","v":0},{"$f":"'PAT Civil Detailed'!CR16","v":0},0,0,{"$f":"'PAT Civil Detailed'!CE16","v":0},{"$f":"'PAT Civil Detailed'!CL16","v":0},0,0,0,"",null,null,6]
[null,2,4,4,{"$f":"INSERT!A6","v":0},{"$f":"INSERT!B6","v":0},{"$f":"INSERT!C6","v":0},{"$f":"INSERT!D6","v":0},{"$f":"INSERT!E6","v":0},{"$f":"'PAT Civil Detailed'!N17","v":0},{"$f":"'PAT Civil Detailed'!T17","v":0},{"$f":"'PAT Civil Detailed'!AC17","v":0},{"$f":"'PAT Civil Detailed'!AL17","v":0},{"$f":"'PAT Civil Detailed'!AR17","v":0},0,{"$f":"'PAT Civil Detailed'!AV17","v":0},{"$f":"'PAT Civil Detailed'!BF17","v":0},{"$f":"'PAT Civil Detailed'!BO17","v":0},{"$f":"'PAT Civil Detailed'!BX17","v":0},{"$f":"'PAT Civil Detailed'!CB17","v":0},0,{"$f":"'PAT Civil Detailed'!CM17","v":0},{"$f":"'PAT Civil Detailed'!CN17","v":0},{"$f":"'PAT Civil Detailed'!CO17","v":0},{"$f":"'PAT Civil Detailed'!CP17","v":0},{"$f":"'PAT Civil Detailed'!CQ17","v":0},{"$f":"'PAT Civil Detailed'!CR17","v":0},0,0,{"$f":"'PAT Civil Detailed'!CE17","v":0},{"$f":"'PAT Civil Detailed'!CL17","v":0},0,0,0,"",null,null,6]
[null,2,5,5,{"$f":"INSERT!A7","v":0},{"$f":"INSERT!B7","v":0},{"$f":"INSERT!C7","v":0},{"$f":"INSERT!D7","v":0},{"$f":"INSERT!E7","v":0},{"$f":"'PAT Civil Detailed'!N18","v":0},{"$f":"'PAT Civil Detailed'!T18","v":0},{"$f":"'PAT Civil Detailed'!AC18","v":0},{"$f":"'PAT Civil Detailed'!AL18","v":0},{"$f":"'PAT Civil Detailed'!AR18","v":0},0,{"$f":"'PAT Civil Detailed'!AV18","v":0},{"$f":"'PAT Civil Detailed'!BF18","v":0},{"$f":"'PAT Civil Detailed'!BO18","v":0},{"$f":"'PAT Civil Detailed'!BX18","v":0},{"$f":"'PAT Civil Detailed'!CB18","v":0},0,{"$f":"'PAT Civil Detailed'!CM18","v":0},{"$f":"'PAT Civil Detailed'!CN18","v":0},{"$f":"'PAT Civil Detailed'!CO18","v":0},{"$f":"'PAT Civil Detailed'!CP18","v":0},{"$f":"'PAT Civil Detailed'!CQ18","v":0},{"$f":"'PAT Civil Detailed'!CR18","v":0},0,0,{"$f":"'PAT Civil Detailed'!CE18","v":0},{"$f":"'PAT Civil Detailed'!CL18","v":0},0,0,0,"",null,null,6]
[null,2,6,6,{"$f":"INSERT!A8","v":0},{"$f":"INSERT!B8","v":0},{"$f":"INSERT!C8","v":0},{"$f":"INSERT!D8","v":0},{"$f":"INSERT!E8","v":0},{"$f":"'PAT Civil Detailed'!N19","v":0},{"$f":"'PAT Civil Detailed'!T19","v":0},{"$f":"'PAT Civil Detailed'!AC19","v":0},{"$f":"'PAT Civil Detailed'!AL19","v":0},{"$f":"'PAT Civil Detailed'!AR19","v":0},0,{"$f":"'PAT Civil Detailed'!AV19","v":0},{"$f":"'PAT Civil Detailed'!BF19","v":0},{"$f":"'PAT Civil Detailed'!BO19","v":0},{"$f":"'PAT Civil Detailed'!BX19","v":0},{"$f":"'PAT Civil Detailed'!CB19","v":0},0,{"$f":"'PAT Civil Detailed'!CM19","v":0},{"$f":"'PAT Civil Detailed'!CN19","v":0},{"$f":"'PAT Civil Detailed'!CO19","v":0},{"$f":"'PAT Civil Detailed'!CP19","v":0},{"$f":"'PAT Civil Detailed'!CQ19","v":0},{"$f":"'PAT Civil Detailed'!CR19","v":0},0,0,{"$f":"'PAT Civil Detailed'!CE19","v":0},{"$f":"'PAT Civil Detailed'!CL19","v":0},0,0,0,"",null,null,6]
[null,2,7,7,{"$f":"INSERT!A9","v":0},{"$f":"INSERT!B9","v":0},{"$f":"INSERT!C9","v":0},{"$f":"INSERT!D9","v":0},{"$f":"INSERT!E9","v":0},{"$f":"'PAT Civil Detailed'!N20","v":0},{"$f":"'PAT Civil Detailed'!T20","v":0},{"$f":"'PAT Civil Detailed'!AC20","v":0},{"$f":"'PAT Civil Detailed'!AL20","v":0},{"$f":"'PAT Civil Detailed'!AR20","v":0},0,{"$f":"'PAT Civil Detailed'!AV20","v":0},{"$f":"'PAT Civil Detailed'!BF20","v":0},{"$f":"'PAT Civil Detailed'!BO20","v":0},{"$f":"'PAT Civil Detailed'!BX20","v":0},{"$f":"'PAT Civil Detailed'!CB20","v":0},0,{"$f":"'PAT Civil Detailed'!CM20","v":0},{"$f":"'PAT Civil Detailed'!CN20","v":0},{"$f":"'PAT Civil Detailed'!CO20","v":0},{"$f":"'PAT Civil Detailed'!CP20","v":0},{"$f":"'PAT Civil Detailed'!CQ20","v":0},{"$f":"'PAT Civil Detailed'!CR20","v":0},0,0,{"$f":"'PAT Civil Detailed'!CE20","v":0},{"$f":"'PAT Civil Detailed'!CL20","v":0},0,0,0,"",null,null,6]
[null,2,8,8,{"$f":"INSERT!A10","v":0},{"$f":"INSERT!B10","v":0},{"$f":"INSERT!C10","v":0},{"$f":"INSERT!D10","v":0},{"$f":"INSERT!E10","v":0},{"$f":"'PAT Civil Detailed'!N21","v":0},{"$f":"'PAT Civil Detailed'!T21","v":0},{"$f":"'PAT Civil Detailed'!AC21","v":0},{"$f":"'PAT Civil Detailed'!AL21","v":0},{"$f":"'PAT Civil Detailed'!AR21","v":0},0,{"$f":"'PAT Civil Detailed'!AV21","v":0},{"$f":"'PAT Civil Detailed'!BF21","v":0},{"$f":"'PAT Civil Detailed'!BO21","v":0},{"$f":"'PAT Civil Detailed'!BX21","v":0},{"$f":"'PAT Civil Detailed'!CB21","v":0},0,{"$f":"'PAT Civil Detailed'!CM21","v":0},{"$f":"'PAT Civil Detailed'!CN21","v":0},{"$f":"'PAT Civil Detailed'!CO21","v":0},{"$f":"'PAT Civil Detailed'!CP21","v":0},{"$f":"'PAT Civil Detailed'!CQ21","v":0},{"$f":"'PAT Civil Detailed'!CR21","v":0},0,0,{"$f":"'PAT Civil Detailed'!CE21","v":0},{"$f":"'PAT Civil Detailed'!CL21","v":0},0,0,0,"",null,null,6]
[null,2,9,9,{"$f":"INSERT!A11","v":0},{"$f":"INSERT!B11","v":0},{"$f":"INSERT!C11","v":0},{"$f":"INSERT!D11","v":0},{"$f":"INSERT!E11","v":0},{"$f":"'PAT Civil Detailed'!N22","v":0},{"$f":"'PAT Civil Detailed'!T22","v":0},{"$f":"'PAT Civil Detailed'!AC22","v":0},{"$f":"'PAT Civil Detailed'!AL22","v":0},{"$f":"'PAT Civil Detailed'!AR22","v":0},0,{"$f":"'PAT Civil Detailed'!AV22","v":0},{"$f":"'PAT Civil Detailed'!BF22","v":0},{"$f":"'PAT Civil Detailed'!BO22","v":0},{"$f":"'PAT Civil Detailed'!BX22","v":0},{"$f":"'PAT Civil Detailed'!CB22","v":0},0,{"$f":"'PAT Civil Detailed'!CM22","v":0},{"$f":"'PAT Civil Detailed'!CN22","v":0},{"$f":"'PAT Civil Detailed'!CO22","v":0},{"$f":"'PAT Civil Detailed'!CP22","v":0},{"$f":"'PAT Civil Detailed'!CQ22","v":0},{"$f":"'PAT Civil Detailed'!CR22","v":0},0,0,{"$f":"'PAT Civil Detailed'!CE22","v":0},{"$f":"'PAT Civil Detailed'!CL22","v":0},0,0,0,"",null,null,6]
[null,2,10,10,{"$f":"INSERT!A12","v":0},{"$f":"INSERT!B12","v":0},{"$f":"INSERT!C12","v":0},{"$f":"INSERT!D12","v":0},{"$f":"INSERT!E12","v":0},{"$f":"'PAT Civil Detailed'!N23","v":0},{"$f":"'PAT Civil Detailed'!T23","v":0},{"$f":"'PAT Civil Detailed'!AC23","v":0},{"$f":"'PAT Civil Detailed'!AL23","v":0},{"$f":"'PAT Civil Detailed'!AR23","v":0},0,{"$f":"'PAT Civil Detailed'!AV23","v":0},{"$f":"'PAT Civil Detailed'!BF23","v":0},{"$f":"'PAT Civil Detailed'!BO23","v":0},{"$f":"'PAT Civil Detailed'!BX23","v":0},{"$f":"'PAT Civil Detailed'!CB23","v":0},0,{"$f":"'PAT Civil Detailed'!CM23","v":0},{"$f":"'PAT Civil Detailed'!CN23","v":0},{"$f":"'PAT Civil Detailed'!CO23","v":0},{"$f":"'PAT Civil Detailed'!CP23","v":0},{"$f":"'PAT Civil Detailed'!CQ23","v":0},{"$f":"'PAT Civil Detailed'!CR23","v":0},0,0,{"$f":"'PAT Civil Detailed'!CE23","v":0},{"$f":"'PAT Civil Detailed'!CL23","v":0},0,0,0,"",null,null,6]
[null,2,11,11,{"$f":"INSERT!A13","v":0},{"$f":"INSERT!B13","v":0},{"$f":"INSERT!C13","v":0},{"$f":"INSERT!D13","v":0},{"$f":"INSERT!E13","v":0},{"$f":"'PAT Civil Detailed'!N24","v":0},{"$f":"'PAT Civil Detailed'!T24","v":0},{"$f":"'PAT Civil Detailed'!AC24","v":0},{"$f":"'PAT Civil Detailed'!AL24","v":0},{"$f":"'PAT Civil Detailed'!AR24","v":0},0,{"$f":"'PAT Civil Detailed'!AV24","v":0},{"$f":"'PAT Civil Detailed'!BF24","v":0},{"$f":"'PAT Civil Detailed'!BO24","v":0},{"$f":"'PAT Civil Detailed'!BX24","v":0},{"$f":"'PAT Civil Detailed'!CB24","v":0},0,{"$f":"'PAT Civil Detailed'!CM24","v":0},{"$f":"'PAT Civil Detailed'!CN24","v":0},{"$f":"'PAT Civil Detailed'!CO24","v":0},{"$f":"'PAT Civil Detailed'!CP24","v":0},{"$f":"'PAT Civil Detailed'!CQ24","v":0},{"$f":"'PAT Civil Detailed'!CR24","v":0},0,0,{"$f":"'PAT Civil Detailed'!CE24","v":0},{"$f":"'PAT Civil Detailed'!CL24","v":0},0,0,0,"",null,null,6]
[null,null,12,12,{"$f":"INSERT!A14","v":0},{"$f":"INSERT!B14","v":0},{"$f":"INSERT!C14","v":0},{"$f":"INSERT!D14","v":0},{"$f":"INSERT!E14","v":0},{"$f":"'PAT Civil Detailed'!N25","v":0},{"$f":"'PAT Civil Detailed'!T25","v":0},{"$f":"'PAT Civil Detailed'!AC25","v":0},{"$f":"'PAT Civil Detailed'!AL25","v":0},{"$f":"'PAT Civil Detailed'!AR25","v":0},0,{"$f":"'PAT Civil Detailed'!AV25","v":0},{"$f":"'PAT Civil Detailed'!BF25","v":0},{"$f":"'PAT Civil Detailed'!BO25","v":0},{"$f":"'PAT Civil Detailed'!BX25","v":0},{"$f":"'PAT Civil Detailed'!CB25","v":0},0,{"$f":"'PAT Civil Detailed'!CM25","v":0},{"$f":"'PAT Civil Detailed'!CN25","v":0},{"$f":"'PAT Civil Detailed'!CO25","v":0},{"$f":"'PAT Civil Detailed'!CP25","v":0},{"$f":"'PAT Civil Detailed'!CQ25","v":0},{"$f":"'PAT Civil Detailed'!CR25","v":0},0,0,{"$f":"'PAT Civil Detailed'!CE25","v":0},{"$f":"'PAT Civil Detailed'!CL25","v":0},0,0,0,"",null,null,6]
[null,null,13,13,{"$f":"INSERT!A15","v":0},{"$f":"INSERT!B15","v":0},{"$f":"INSERT!C15","v":0},{"$f":"INSERT!D15","v":0},{"$f":"INSERT!E15","v":0},{"$f":"'PAT Civil Detailed'!N26","v":0},{"$f":"'PAT Civil Detailed'!T26","v":0},{"$f":"'PAT Civil Detailed'!AC26","v":0},{"$f":"'PAT Civil Detailed'!AL26","v":0},{"$f":"'PAT Civil Detailed'!AR26","v":0},0,{"$f":"'PAT Civil Detailed'!AV26","v":0},{"$f":"'PAT Civil Detailed'!BF26","v":0},{"$f":"'PAT Civil Detailed'!BO26","v":0},{"$f":"'PAT Civil Detailed'!BX26","v":0},{"$f":"'PAT Civil Detailed'!CB26","v":0},0,{"$f":"'PAT Civil Detailed'!CM26","v":0},{"$f":"'PAT Civil Detailed'!CN26","v":0},{"$f":"'PAT Civil Detailed'!CO26","v":0},{"$f":"'PAT Civil Detailed'!CP26","v":0},{"$f":"'PAT Civil Detailed'!CQ26","v":0},{"$f":"'PAT Civil Detailed'!CR26","v":0},0,0,{"$f":"'PAT Civil Detailed'!CE26","v":0},{"$f":"'PAT Civil Detailed'!CL26","v":0},0,0,0,"",null,null,6]
[null,null,14,14,{"$f":"INSERT!A16","v":0},{"$f":"INSERT!B16","v":0},{"$f":"INSERT!C16","v":0},{"$f":"INSERT!D16","v":0},{"$f":"INSERT!E16","v":0},{"$f":"'PAT Civil Detailed'!N27","v":0},{"$f":"'PAT Civil Detailed'!T27","v":0},{"$f":"'PAT Civil Detailed'!AC27","v":0},{"$f":"'PAT Civil Detailed'!AL27","v":0},{"$f":"'PAT Civil Detailed'!AR27","v":0},0,{"$f":"'PAT Civil Detailed'!AV27","v":0},{"$f":"'PAT Civil Detailed'!BF27","v":0},{"$f":"'PAT Civil Detailed'!BO27","v":0},{"$f":"'PAT Civil Detailed'!BX27","v":0},{"$f":"'PAT Civil Detailed'!CB27","v":0},0,{"$f":"'PAT Civil Detailed'!CM27","v":0},{"$f":"'PAT Civil Detailed'!CN27","v":0},{"$f":"'PAT Civil Detailed'!CO27","v":0},{"$f":"'PAT Civil Detailed'!CP27","v":0},{"$f":"'PAT Civil Detailed'!CQ27","v":0},{"$f":"'PAT Civil Detailed'!CR27","v":0},0,0,{"$f":"'PAT Civil Detailed'!CE27","v":0},{"$f":"'PAT Civil Detailed'!CL27","v":0},0,0,0,"",null,null,6]
[null,null,15,15,{"$f":"INSERT!A17","v":0},{"$f":"INSERT!B17","v":0},{"$f":"INSERT!C17","v":0},{"$f":"INSERT!D17","v":0},{"$f":"INSERT!E17","v":0},{"$f":"'PAT Civil Detailed'!N28","v":0},{"$f":"'PAT Civil Detailed'!T28","v":0},{"$f":"'PAT Civil Detailed'!AC28","v":0},{"$f":"'PAT Civil Detailed'!AL28","v":0},{"$f":"'PAT Civil Detailed'!AR28","v":0},0,{"$f":"'PAT Civil Detailed'!AV28","v":0},{"$f":"'PAT Civil Detailed'!BF28","v":0},{"$f":"'PAT Civil Detailed'!BO28","v":0},{"$f":"'PAT Civil Detailed'!BX28","v":0},{"$f":"'PAT Civil Detailed'!CB28","v":0},0,{"$f":"'PAT Civil Detailed'!CM28","v":0},{"$f":"'PAT Civil Detailed'!CN28","v":0},{"$f":"'PAT Civil Detailed'!CO28","v":0},{"$f":"'PAT Civil Detailed'!CP28","v":0},{"$f":"'PAT Civil Detailed'!CQ28","v":0},{"$f":"'PAT Civil Detailed'!CR28","v":0},0,0,{"$f":"'PAT Civil Detailed'!CE28","v":0},{"$f":"'PAT Civil Detailed'!CL28","v":0},0,0,0,"",null,null,6]
[null,null,16,16,{"$f":"INSERT!A18","v":0},{"$f":"INSERT!B18","v":0},{"$f":"INSERT!C18","v":0},{"$f":"INSERT!D18","v":0},{"$f":"INSERT!E18","v":0},{"$f":"'PAT Civil Detailed'!N29","v":0},{"$f":"'PAT Civil Detailed'!T29","v":0},{"$f":"'PAT Civil Detailed'!AC29","v":0},{"$f":"'PAT Civil Detailed'!AL29","v":0},{"$f":"'PAT Civil Detailed'!AR29","v":0},0,{"$f":"'PAT Civil Detailed'!AV29","v":0},{"$f":"'PAT Civil Detailed'!BF29","v":0},{"$f":"'PAT Civil Detailed'!BO29","v":0},{"$f":"'PAT Civil Detailed'!BX29","v":0},{"$f":"'PAT Civil Detailed'!CB29","v":0},0,{"$f":"'PAT Civil Detailed'!CM29","v":0},{"$f":"'PAT Civil Detailed'!CN29","v":0},{"$f":"'PAT Civil Detailed'!CO29","v":0},{"$f":"'PAT Civil Detailed'!CP29","v":0},{"$f":"'PAT Civil Detailed'!CQ29","v":0},{"$f":"'PAT Civil Detailed'!CR29","v":0},0,0,{"$f":"'PAT Civil Detailed'!CE29","v":0},{"$f":"'PAT Civil Detailed'!CL29","v":0},0,0,0,"",null,null,6]
[null,null,17,17,{"$f":"INSERT!A19","v":0},{"$f":"INSERT!B19","v":0},{"$f":"INSERT!C19","v":0},{"$f":"INSERT!D19","v":0},{"$f":"INSERT!E19","v":0},{"$f":"'PAT Civil Detailed'!N30","v":0},{"$f":"'PAT Civil Detailed'!T30","v":0},{"$f":"'PAT Civil Detailed'!AC30","v":0},{"$f":"'PAT Civil Detailed'!AL30","v":0},{"$f":"'PAT Civil Detailed'!AR30","v":0},0,{"$f":"'PAT Civil Detailed'!AV30","v":0},{"$f":"'PAT Civil Detailed'!BF30","v":0},{"$f":"'PAT Civil Detailed'!BO30","v":0},{"$f":"'PAT Civil Detailed'!BX30","v":0},{"$f":"'PAT Civil Detailed'!CB30","v":0},0,{"$f":"'PAT Civil Detailed'!CM30","v":0},{"$f":"'PAT Civil Detailed'!CN30","v":0},{"$f":"'PAT Civil Detailed'!CO30","v":0},{"$f":"'PAT Civil Detailed'!CP30","v":0},{"$f":"'PAT Civil Detailed'!CQ30","v":0},{"$f":"'PAT Civil Detailed'!CR30","v":0},0,0,{"$f":"'PAT Civil Detailed'!CE30","v":0},{"$f":"'PAT Civil Detailed'!CL30","v":0},0,0,0,"",null,null,6]
[null,null,{"$f":"C34+1","v":18},18,{"$f":"INSERT!A20","v":0},{"$f":"INSERT!B20","v":0},{"$f":"INSERT!C20","v":0},{"$f":"INSERT!D20","v":0},{"$f":"INSERT!E20","v":0},{"$f":"'PAT Civil Detailed'!N31","v":0},{"$f":"'PAT Civil Detailed'!T31","v":0},{"$f":"'PAT Civil Detailed'!AC31","v":0},{"$f":"'PAT Civil Detailed'!AL31","v":0},{"$f":"'PAT Civil Detailed'!AR31","v":0},0,{"$f":"'PAT Civil Detailed'!AV31","v":0},{"$f":"'PAT Civil Detailed'!BF31","v":0},{"$f":"'PAT Civil Detailed'!BO31","v":0},{"$f":"'PAT Civil Detailed'!BX31","v":0},{"$f":"'PAT Civil Detailed'!CB31","v":0},0,{"$f":"'PAT Civil Detailed'!CM31","v":0},{"$f":"'PAT Civil Detailed'!CN31","v":0},{"$f":"'PAT Civil Detailed'!CO31","v":0},{"$f":"'PAT Civil Detailed'!CP31","v":0},{"$f":"'PAT Civil Detailed'!CQ31","v":0},{"$f":"'PAT Civil Detailed'!CR31","v":0},0,0,{"$f":"'PAT Civil Detailed'!CE31","v":0},{"$f":"'PAT Civil Detailed'!CL31","v":0},0,0,0,"",null,null,6]
[null,null,19,19,{"$f":"INSERT!A21","v":0},{"$f":"INSERT!B21","v":0},{"$f":"INSERT!C21","v":0},{"$f":"INSERT!D21","v":0},{"$f":"INSERT!E21","v":0},{"$f":"'PAT Civil Detailed'!N32","v":0},{"$f":"'PAT Civil Detailed'!T32","v":0},{"$f":"'PAT Civil Detailed'!AC32","v":0},{"$f":"'PAT Civil Detailed'!AL32","v":0},{"$f":"'PAT Civil Detailed'!AR32","v":0},{"$f":"SUM(J36:N36)/1.724137931","v":0},{"$f":"'PAT Civil Detailed'!AV32","v":0},{"$f":"'PAT Civil Detailed'!BF32","v":0},{"$f":"'PAT Civil Detailed'!BO32","v":0},{"$f":"'PAT Civil Detailed'!BX32","v":0},{"$f":"'PAT Civil Detailed'!CB32","v":0},0,{"$f":"'PAT Civil Detailed'!CM32","v":0},{"$f":"'PAT Civil Detailed'!CN32","v":0},{"$f":"'PAT Civil Detailed'!CO32","v":0},{"$f":"'PAT Civil Detailed'!CP32","v":0},{"$f":"'PAT Civil Detailed'!CQ32","v":0},{"$f":"'PAT Civil Detailed'!CR32","v":0},0,0,{"$f":"'PAT Civil Detailed'!CE32","v":0},{"$f":"'PAT Civil Detailed'!CL32","v":0},0,0,0,"",null,null,6]
[null,null,20,20,{"$f":"INSERT!A22","v":0},{"$f":"INSERT!B22","v":0},{"$f":"INSERT!C22","v":0},{"$f":"INSERT!D22","v":0},{"$f":"INSERT!E22","v":0},{"$f":"'PAT Civil Detailed'!N33","v":0},{"$f":"'PAT Civil Detailed'!T33","v":0},{"$f":"'PAT Civil Detailed'!AC33","v":0},{"$f":"'PAT Civil Detailed'!AL33","v":0},{"$f":"'PAT Civil Detailed'!AR33","v":0},0,{"$f":"'PAT Civil Detailed'!AV33","v":0},{"$f":"'PAT Civil Detailed'!BF33","v":0},{"$f":"'PAT Civil Detailed'!BO33","v":0},{"$f":"'PAT Civil Detailed'!BX33","v":0},{"$f":"'PAT Civil Detailed'!CB33","v":0},0,{"$f":"'PAT Civil Detailed'!CM33","v":0},{"$f":"'PAT Civil Detailed'!CN33","v":0},{"$f":"'PAT Civil Detailed'!CO33","v":0},{"$f":"'PAT Civil Detailed'!CP33","v":0},{"$f":"'PAT Civil Detailed'!CQ33","v":0},{"$f":"'PAT Civil Detailed'!CR33","v":0},0,0,{"$f":"'PAT Civil Detailed'!CE33","v":0},{"$f":"'PAT Civil Detailed'!CL33","v":0},0,0,0,"",null,null,6]
[null,null,21,21,{"$f":"INSERT!A23","v":0},{"$f":"INSERT!B23","v":0},{"$f":"INSERT!C23","v":0},{"$f":"INSERT!D23","v":0},{"$f":"INSERT!E23","v":0},{"$f":"'PAT Civil Detailed'!N34","v":0},{"$f":"'PAT Civil Detailed'!T34","v":0},{"$f":"'PAT Civil Detailed'!AC34","v":0},{"$f":"'PAT Civil Detailed'!AL34","v":0},{"$f":"'PAT Civil Detailed'!AR34","v":0},0,{"$f":"'PAT Civil Detailed'!AV34","v":0},{"$f":"'PAT Civil Detailed'!BF34","v":0},{"$f":"'PAT Civil Detailed'!BO34","v":0},{"$f":"'PAT Civil Detailed'!BX34","v":0},{"$f":"'PAT Civil Detailed'!CB34","v":0},0,{"$f":"'PAT Civil Detailed'!CM34","v":0},{"$f":"'PAT Civil Detailed'!CN34","v":0},{"$f":"'PAT Civil Detailed'!CO34","v":0},{"$f":"'PAT Civil Detailed'!CP34","v":0},{"$f":"'PAT Civil Detailed'!CQ34","v":0},{"$f":"'PAT Civil Detailed'!CR34","v":0},0,0,{"$f":"'PAT Civil Detailed'!CE34","v":0},{"$f":"'PAT Civil Detailed'!CL34","v":0},0,0,0,"",null,null,6]
[null,null,22,22,{"$f":"INSERT!A24","v":0},{"$f":"INSERT!B24","v":0},{"$f":"INSERT!C24","v":0},{"$f":"INSERT!D24","v":0},{"$f":"INSERT!E24","v":0},{"$f":"'PAT Civil Detailed'!N35","v":0},{"$f":"'PAT Civil Detailed'!T35","v":0},{"$f":"'PAT Civil Detailed'!AC35","v":0},{"$f":"'PAT Civil Detailed'!AL35","v":0},{"$f":"'PAT Civil Detailed'!AR35","v":0},0,{"$f":"'PAT Civil Detailed'!AV35","v":0},{"$f":"'PAT Civil Detailed'!BF35","v":0},{"$f":"'PAT Civil Detailed'!BO35","v":0},{"$f":"'PAT Civil Detailed'!BX35","v":0},{"$f":"'PAT Civil Detailed'!CB35","v":0},0,{"$f":"'PAT Civil Detailed'!CM35","v":0},{"$f":"'PAT Civil Detailed'!CN35","v":0},{"$f":"'PAT Civil Detailed'!CO35","v":0},{"$f":"'PAT Civil Detailed'!CP35","v":0},{"$f":"'PAT Civil Detailed'!CQ35","v":0},{"$f":"'PAT Civil Detailed'!CR35","v":0},0,0,{"$f":"'PAT Civil Detailed'!CE35","v":0},{"$f":"'PAT Civil Detailed'!CL35","v":0},0,0,0,"",null,null,6]
[null,null,23,23,{"$f":"INSERT!A25","v":0},{"$f":"INSERT!B25","v":0},{"$f":"INSERT!C25","v":0},{"$f":"INSERT!D25","v":0},{"$f":"INSERT!E25","v":0},{"$f":"'PAT Civil Detailed'!N36","v":0},{"$f":"'PAT Civil Detailed'!T36","v":0},{"$f":"'PAT Civil Detailed'!AC36","v":0},{"$f":"'PAT Civil Detailed'!AL36","v":0},{"$f":"'PAT Civil Detailed'!AR36","v":0},0,{"$f":"'PAT Civil Detailed'!AV36","v":0},{"$f":"'PAT Civil Detailed'!BF36","v":0},{"$f":"'PAT Civil Detailed'!BO36","v":0},{"$f":"'PAT Civil Detailed'!BX36","v":0},{"$f":"'PAT Civil Detailed'!CB36","v":0},0,{"$f":"'PAT Civil Detailed'!CM36","v":0},{"$f":"'PAT Civil Detailed'!CN36","v":0},{"$f":"'PAT Civil Detailed'!CO36","v":0},{"$f":"'PAT Civil Detailed'!CP36","v":0},{"$f":"'PAT Civil Detailed'!CQ36","v":0},{"$f":"'PAT Civil Detailed'!CR36","v":0},0,0,{"$f":"'PAT Civil Detailed'!CE36","v":0},{"$f":"'PAT Civil Detailed'!CL36","v":0},0,0,0,"",null,null,6]
[null,null,24,24,{"$f":"INSERT!A26","v":0},{"$f":"INSERT!B26","v":0},{"$f":"INSERT!C26","v":0},{"$f":"INSERT!D26","v":0},{"$f":"INSERT!E26","v":0},{"$f":"'PAT Civil Detailed'!N37","v":0},{"$f":"'PAT Civil Detailed'!T37","v":0},{"$f":"'PAT Civil Detailed'!AC37","v":0},{"$f":"'PAT Civil Detailed'!AL37","v":0},{"$f":"'PAT Civil Detailed'!AR37","v":0},0,{"$f":"'PAT Civil Detailed'!AV37","v":0},{"$f":"'PAT Civil Detailed'!BF37","v":0},{"$f":"'PAT Civil Detailed'!BO37","v":0},{"$f":"'PAT Civil Detailed'!BX37","v":0},{"$f":"'PAT Civil Detailed'!CB37","v":0},0,{"$f":"'PAT Civil Detailed'!CM37","v":0},{"$f":"'PAT Civil Detailed'!CN37","v":0},{"$f":"'PAT Civil Detailed'!CO37","v":0},{"$f":"'PAT Civil Detailed'!CP37","v":0},{"$f":"'PAT Civil Detailed'!CQ37","v":0},{"$f":"'PAT Civil Detailed'!CR37","v":0},0,0,{"$f":"'PAT Civil Detailed'!CE37","v":0},{"$f":"'PAT Civil Detailed'!CL37","v":0},0,0,0,"",null,null,6]
[null,null,25,25,{"$f":"INSERT!A27","v":0},{"$f":"INSERT!B27","v":0},{"$f":"INSERT!C27","v":0},{"$f":"INSERT!D27","v":0},{"$f":"INSERT!E27","v":0},{"$f":"'PAT Civil Detailed'!N38","v":0},{"$f":"'PAT Civil Detailed'!T38","v":0},{"$f":"'PAT Civil Detailed'!AC38","v":0},{"$f":"'PAT Civil Detailed'!AL38","v":0},{"$f":"'PAT Civil Detailed'!AR38","v":0},0,{"$f":"'PAT Civil Detailed'!AV38","v":0},{"$f":"'PAT Civil Detailed'!BF38","v":0},{"$f":"'PAT Civil Detailed'!BO38","v":0},{"$f":"'PAT Civil Detailed'!BX38","v":0},{"$f":"'PAT Civil Detailed'!CB38","v":0},0,{"$f":"'PAT Civil Detailed'!CM38","v":0},{"$f":"'PAT Civil Detailed'!CN38","v":0},{"$f":"'PAT Civil Detailed'!CO38","v":0},{"$f":"'PAT Civil Detailed'!CP38","v":0},{"$f":"'PAT Civil Detailed'!CQ38","v":0},{"$f":"'PAT Civil Detailed'!CR38","v":0},0,0,{"$f":"'PAT Civil Detailed'!CE38","v":0},{"$f":"'PAT Civil Detailed'!CL38","v":0},0,0,0,"",null,null,6]
[null,null,26,26,{"$f":"INSERT!A28","v":0},{"$f":"INSERT!B28","v":0},{"$f":"INSERT!C28","v":0},{"$f":"INSERT!D28","v":0},{"$f":"INSERT!E28","v":0},{"$f":"'PAT Civil Detailed'!N39","v":0},{"$f":"'PAT Civil Detailed'!T39","v":0},{"$f":"'PAT Civil Detailed'!AC39","v":0},{"$f":"'PAT Civil Detailed'!AL39","v":0},{"$f":"'PAT Civil Detailed'!AR39","v":0},0,{"$f":"'PAT Civil Detailed'!AV39","v":0},{"$f":"'PAT Civil Detailed'!BF39","v":0},{"$f":"'PAT Civil Detailed'!BO39","v":0},{"$f":"'PAT Civil Detailed'!BX39","v":0},{"$f":"'PAT Civil Detailed'!CB39","v":0},0,{"$f":"'PAT Civil Detailed'!CM39","v":0},{"$f":"'PAT Civil Detailed'!CN39","v":0},{"$f":"'PAT Civil Detailed'!CO39","v":0},{"$f":"'PAT Civil Detailed'!CP39","v":0},{"$f":"'PAT Civil Detailed'!CQ39","v":0},{"$f":"'PAT Civil Detailed'!CR39","v":0},0,0,{"$f":"'PAT Civil Detailed'!CE39","v":0},{"$f":"'PAT Civil Detailed'!CL39","v":0},0,0,0,"",null,null,6]
[null,null,27,27,{"$f":"INSERT!A29","v":0},{"$f":"INSERT!B29","v":0},{"$f":"INSERT!C29","v":0},{"$f":"INSERT!D29","v":0},{"$f":"INSERT!E29","v":0},{"$f":"'PAT Civil Detailed'!N40","v":0},{"$f":"'PAT Civil Detailed'!T40","v":0},{"$f":"'PAT Civil Detailed'!AC40","v":0},{"$f":"'PAT Civil Detailed'!AL40","v":0},{"$f":"'PAT Civil Detailed'!AR40","v":0},0,{"$f":"'PAT Civil Detailed'!AV40","v":0},{"$f":"'PAT Civil Detailed'!BF40","v":0},{"$f":"'PAT Civil Detailed'!BO40","v":0},{"$f":"'PAT Civil Detailed'!BX40","v":0},{"$f":"'PAT Civil Detailed'!CB40","v":0},0,{"$f":"'PAT Civil Detailed'!CM40","v":0},{"$f":"'PAT Civil Detailed'!CN40","v":0},{"$f":"'PAT Civil Detailed'!CO40","v":0},{"$f":"'PAT Civil Detailed'!CP40","v":0},{"$f":"'PAT Civil Detailed'!CQ40","v":0},{"$f":"'PAT Civil Detailed'!CR40","v":0},0,0,{"$f":"'PAT Civil Detailed'!CE40","v":0},{"$f":"'PAT Civil Detailed'!CL40","v":0},0,0,0,"",null,null,6]
[null,null,28,28,{"$f":"INSERT!A30","v":0},{"$f":"INSERT!B30","v":0},{"$f":"INSERT!C30","v":0},{"$f":"INSERT!D30","v":0},{"$f":"INSERT!E30","v":0},{"$f":"'PAT Civil Detailed'!N41","v":0},{"$f":"'PAT Civil Detailed'!T41","v":0},{"$f":"'PAT Civil Detailed'!AC41","v":0},{"$f":"'PAT Civil Detailed'!AL41","v":0},{"$f":"'PAT Civil Detailed'!AR41","v":0},0,{"$f":"'PAT Civil Detailed'!AV41","v":0},{"$f":"'PAT Civil Detailed'!BF41","v":0},{"$f":"'PAT Civil Detailed'!BO41","v":0},{"$f":"'PAT Civil Detailed'!BX41","v":0},{"$f":"'PAT Civil Detailed'!CB41","v":0},0,{"$f":"'PAT Civil Detailed'!CM41","v":0},{"$f":"'PAT Civil Detailed'!CN41","v":0},{"$f":"'PAT Civil Detailed'!CO41","v":0},{"$f":"'PAT Civil Detailed'!CP41","v":0},{"$f":"'PAT Civil Detailed'!CQ41","v":0},{"$f":"'PAT Civil Detailed'!CR41","v":0},0,0,{"$f":"'PAT Civil Detailed'!CE41","v":0},{"$f":"'PAT Civil Detailed'!CL41","v":0},0,0,0,"",null,null,6]
[null,null,29,29,{"$f":"INSERT!A31","v":0},{"$f":"INSERT!B31","v":0},{"$f":"INSERT!C31","v":0},{"$f":"INSERT!D31","v":0},{"$f":"INSERT!E31","v":0},{"$f":"'PAT Civil Detailed'!N42","v":0},{"$f":"'PAT Civil Detailed'!T42","v":0},{"$f":"'PAT Civil Detailed'!AC42","v":0},{"$f":"'PAT Civil Detailed'!AL42","v":0},{"$f":"'PAT Civil Detailed'!AR42","v":0},0,{"$f":"'PAT Civil Detailed'!AV42","v":0},{"$f":"'PAT Civil Detailed'!BF42","v":0},{"$f":"'PAT Civil Detailed'!BO42","v":0},{"$f":"'PAT Civil Detailed'!BX42","v":0},{"$f":"'PAT Civil Detailed'!CB42","v":0},0,{"$f":"'PAT Civil Detailed'!CM42","v":0},{"$f":"'PAT Civil Detailed'!CN42","v":0},{"$f":"'PAT Civil Detailed'!CO42","v":0},{"$f":"'PAT Civil Detailed'!CP42","v":0},{"$f":"'PAT Civil Detailed'!CQ42","v":0},{"$f":"'PAT Civil Detailed'!CR42","v":0},0,0,{"$f":"'PAT Civil Detailed'!CE42","v":0},{"$f":"'PAT Civil Detailed'!CL42","v":0},0,0,0,"",null,null,6]
[null,null,30,30,{"$f":"INSERT!A32","v":0},{"$f":"INSERT!B32","v":0},{"$f":"INSERT!C32","v":0},{"$f":"INSERT!D32","v":0},{"$f":"INSERT!E32","v":0},{"$f":"'PAT Civil Detailed'!N43","v":0},{"$f":"'PAT Civil Detailed'!T43","v":0},{"$f":"'PAT Civil Detailed'!AC43","v":0},{"$f":"'PAT Civil Detailed'!AL43","v":0},{"$f":"'PAT Civil Detailed'!AR43","v":0},0,{"$f":"'PAT Civil Detailed'!AV43","v":0},{"$f":"'PAT Civil Detailed'!BF43","v":0},{"$f":"'PAT Civil Detailed'!BO43","v":0},{"$f":"'PAT Civil Detailed'!BX43","v":0},{"$f":"'PAT Civil Detailed'!CB43","v":0},0,{"$f":"'PAT Civil Detailed'!CM43","v":0},{"$f":"'PAT Civil Detailed'!CN43","v":0},{"$f":"'PAT Civil Detailed'!CO43","v":0},{"$f":"'PAT Civil Detailed'!CP43","v":0},{"$f":"'PAT Civil Detailed'!CQ43","v":0},{"$f":"'PAT Civil Detailed'!CR43","v":0},0,0,{"$f":"'PAT Civil Detailed'!CE43","v":0},{"$f":"'PAT Civil Detailed'!CL43","v":0},0,0,0,"",null,null,6]
[null,null,31,31,{"$f":"INSERT!A33","v":0},{"$f":"INSERT!B33","v":0},{"$f":"INSERT!C33","v":0},{"$f":"INSERT!D33","v":0},{"$f":"INSERT!E33","v":0},{"$f":"'PAT Civil Detailed'!N44","v":0},{"$f":"'PAT Civil Detailed'!T44","v":0},{"$f":"'PAT Civil Detailed'!AC44","v":0},{"$f":"'PAT Civil Detailed'!AL44","v":0},{"$f":"'PAT Civil Detailed'!AR44","v":0},0,{"$f":"'PAT Civil Detailed'!AV44","v":0},{"$f":"'PAT Civil Detailed'!BF44","v":0},{"$f":"'PAT Civil Detailed'!BO44","v":0},{"$f":"'PAT Civil Detailed'!BX44","v":0},{"$f":"'PAT Civil Detailed'!CB44","v":0},0,{"$f":"'PAT Civil Detailed'!CM44","v":0},{"$f":"'PAT Civil Detailed'!CN44","v":0},{"$f":"'PAT Civil Detailed'!CO44","v":0},{"$f":"'PAT Civil Detailed'!CP44","v":0},{"$f":"'PAT Civil Detailed'!CQ44","v":0},{"$f":"'PAT Civil Detailed'!CR44","v":0},0,0,{"$f":"'PAT Civil Detailed'!CE44","v":0},{"$f":"'PAT Civil Detailed'!CL44","v":0},0,0,0,"",null,null,6]
[null,null,32,32,{"$f":"INSERT!A34","v":0},{"$f":"INSERT!B34","v":0},{"$f":"INSERT!C34","v":0},{"$f":"INSERT!D34","v":0},{"$f":"INSERT!E34","v":0},{"$f":"'PAT Civil Detailed'!N45","v":0},{"$f":"'PAT Civil Detailed'!T45","v":0},{"$f":"'PAT Civil Detailed'!AC45","v":0},{"$f":"'PAT Civil Detailed'!AL45","v":0},{"$f":"'PAT Civil Detailed'!AR45","v":0},0,{"$f":"'PAT Civil Detailed'!AV45","v":0},{"$f":"'PAT Civil Detailed'!BF45","v":0},{"$f":"'PAT Civil Detailed'!BO45","v":0},{"$f":"'PAT Civil Detailed'!BX45","v":0},{"$f":"'PAT Civil Detailed'!CB45","v":0},0,{"$f":"'PAT Civil Detailed'!CM45","v":0},{"$f":"'PAT Civil Detailed'!CN45","v":0},{"$f":"'PAT Civil Detailed'!CO45","v":0},{"$f":"'PAT Civil Detailed'!CP45","v":0},{"$f":"'PAT Civil Detailed'!CQ45","v":0},{"$f":"'PAT Civil Detailed'!CR45","v":0},0,0,{"$f":"'PAT Civil Detailed'!CE45","v":0},{"$f":"'PAT Civil Detailed'!CL45","v":0},0,0,0,"",null,null,6]
[null,null,33,33,{"$f":"INSERT!A35","v":0},{"$f":"INSERT!B35","v":0},{"$f":"INSERT!C35","v":0},{"$f":"INSERT!D35","v":0},{"$f":"INSERT!E35","v":0},{"$f":"'PAT Civil Detailed'!N46","v":0},{"$f":"'PAT Civil Detailed'!T46","v":0},{"$f":"'PAT Civil Detailed'!AC46","v":0},{"$f":"'PAT Civil Detailed'!AL46","v":0},{"$f":"'PAT Civil Detailed'!AR46","v":0},0,{"$f":"'PAT Civil Detailed'!AV46","v":0},{"$f":"'PAT Civil Detailed'!BF46","v":0},{"$f":"'PAT Civil Detailed'!BO46","v":0},{"$f":"'PAT Civil Detailed'!BX46","v":0},{"$f":"'PAT Civil Detailed'!CB46","v":0},0,{"$f":"'PAT Civil Detailed'!CM46","v":0},{"$f":"'PAT Civil Detailed'!CN46","v":0},{"$f":"'PAT Civil Detailed'!CO46","v":0},{"$f":"'PAT Civil Detailed'!CP46","v":0},{"$f":"'PAT Civil Detailed'!CQ46","v":0},{"$f":"'PAT Civil Detailed'!CR46","v":0},0,0,{"$f":"'PAT Civil Detailed'!CE46","v":0},{"$f":"'PAT Civil Detailed'!CL46","v":0},0,0,0,"",null,null,6]
[null,null,34,34,{"$f":"INSERT!A36","v":0},{"$f":"INSERT!B36","v":0},{"$f":"INSERT!C36","v":0},{"$f":"INSERT!D36","v":0},{"$f":"INSERT!E36","v":0},{"$f":"'PAT Civil Detailed'!N47","v":0},{"$f":"'PAT Civil Detailed'!T47","v":0},{"$f":"'PAT Civil Detailed'!AC47","v":0},{"$f":"'PAT Civil Detailed'!AL47","v":0},{"$f":"'PAT Civil Detailed'!AR47","v":0},0,{"$f":"'PAT Civil Detailed'!AV47","v":0},{"$f":"'PAT Civil Detailed'!BF47","v":0},{"$f":"'PAT Civil Detailed'!BO47","v":0},{"$f":"'PAT Civil Detailed'!BX47","v":0},{"$f":"'PAT Civil Detailed'!CB47","v":0},0,{"$f":"'PAT Civil Detailed'!CM47","v":0},{"$f":"'PAT Civil Detailed'!CN47","v":0},{"$f":"'PAT Civil Detailed'!CO47","v":0},{"$f":"'PAT Civil Detailed'!CP47","v":0},{"$f":"'PAT Civil Detailed'!CQ47","v":0},{"$f":"'PAT Civil Detailed'!CR47","v":0},0,0,{"$f":"'PAT Civil Detailed'!CE47","v":0},{"$f":"'PAT Civil Detailed'!CL47","v":0},0,0,0,"",null,null,6]
[null,null,35,35,{"$f":"INSERT!A37","v":0},{"$f":"INSERT!B37","v":0},{"$f":"INSERT!C37","v":0},{"$f":"INSERT!D37","v":0},{"$f":"INSERT!E37","v":0},{"$f":"'PAT Civil Detailed'!N48","v":0},{"$f":"'PAT Civil Detailed'!T48","v":0},{"$f":"'PAT Civil Detailed'!AC48","v":0},{"$f":"'PAT Civil Detailed'!AL48","v":0},{"$f":"'PAT Civil Detailed'!AR48","v":0},0,{"$f":"'PAT Civil Detailed'!AV48","v":0},{"$f":"'PAT Civil Detailed'!BF48","v":0},{"$f":"'PAT Civil Detailed'!BO48","v":0},{"$f":"'PAT Civil Detailed'!BX48","v":0},{"$f":"'PAT Civil Detailed'!CB48","v":0},0,{"$f":"'PAT Civil Detailed'!CM48","v":0},{"$f":"'PAT Civil Detailed'!CN48","v":0},{"$f":"'PAT Civil Detailed'!CO48","v":0},{"$f":"'PAT Civil Detailed'!CP48","v":0},{"$f":"'PAT Civil Detailed'!CQ48","v":0},{"$f":"'PAT Civil Detailed'!CR48","v":0},0,0,{"$f":"'PAT Civil Detailed'!CE48","v":0},{"$f":"'PAT Civil Detailed'!CL48","v":0},0,0,0,"",null,null,6]
[null,null,36,36,{"$f":"INSERT!A38","v":0},{"$f":"INSERT!B38","v":0},{"$f":"INSERT!C38","v":0},{"$f":"INSERT!D38","v":0},{"$f":"INSERT!E38","v":0},{"$f":"'PAT Civil Detailed'!N49","v":0},{"$f":"'PAT Civil Detailed'!T49","v":0},{"$f":"'PAT Civil Detailed'!AC49","v":0},{"$f":"'PAT Civil Detailed'!AL49","v":0},{"$f":"'PAT Civil Detailed'!AR49","v":0},0,{"$f":"'PAT Civil Detailed'!AV49","v":0},{"$f":"'PAT Civil Detailed'!BF49","v":0},{"$f":"'PAT Civil Detailed'!BO49","v":0},{"$f":"'PAT Civil Detailed'!BX49","v":0},{"$f":"'PAT Civil Detailed'!CB49","v":0},0,{"$f":"'PAT Civil Detailed'!CM49","v":0},{"$f":"'PAT Civil Detailed'!CN49","v":0},{"$f":"'PAT Civil Detailed'!CO49","v":0},{"$f":"'PAT Civil Detailed'!CP49","v":0},{"$f":"'PAT Civil Detailed'!CQ49","v":0},{"$f":"'PAT Civil Detailed'!CR49","v":0},0,0,{"$f":"'PAT Civil Detailed'!CE49","v":0},{"$f":"'PAT Civil Detailed'!CL49","v":0},0,0,0,"",null,null,6]
[null,null,37,37,{"$f":"INSERT!A39","v":0},{"$f":"INSERT!B39","v":0},{"$f":"INSERT!C39","v":0},{"$f":"INSERT!D39","v":0},{"$f":"INSERT!E39","v":0},{"$f":"'PAT Civil Detailed'!N50","v":0},{"$f":"'PAT Civil Detailed'!T50","v":0},{"$f":"'PAT Civil Detailed'!AC50","v":0},{"$f":"'PAT Civil Detailed'!AL50","v":0},{"$f":"'PAT Civil Detailed'!AR50","v":0},0,{"$f":"'PAT Civil Detailed'!AV50","v":0},{"$f":"'PAT Civil Detailed'!BF50","v":0},{"$f":"'PAT Civil Detailed'!BO50","v":0},{"$f":"'PAT Civil Detailed'!BX50","v":0},{"$f":"'PAT Civil Detailed'!CB50","v":0},0,{"$f":"'PAT Civil Detailed'!CM50","v":0},{"$f":"'PAT Civil Detailed'!CN50","v":0},{"$f":"'PAT Civil Detailed'!CO50","v":0},{"$f":"'PAT Civil Detailed'!CP50","v":0},{"$f":"'PAT Civil Detailed'!CQ50","v":0},{"$f":"'PAT Civil Detailed'!CR50","v":0},0,0,{"$f":"'PAT Civil Detailed'!CE50","v":0},{"$f":"'PAT Civil Detailed'!CL50","v":0},0,0,0,"",null,null,6]
[null,null,38,38,{"$f":"INSERT!A40","v":0},{"$f":"INSERT!B40","v":0},{"$f":"INSERT!C40","v":0},{"$f":"INSERT!D40","v":0},{"$f":"INSERT!E40","v":0},{"$f":"'PAT Civil Detailed'!N51","v":0},{"$f":"'PAT Civil Detailed'!T51","v":0},{"$f":"'PAT Civil Detailed'!AC51","v":0},{"$f":"'PAT Civil Detailed'!AL51","v":0},{"$f":"'PAT Civil Detailed'!AR51","v":0},0,{"$f":"'PAT Civil Detailed'!AV51","v":0},{"$f":"'PAT Civil Detailed'!BF51","v":0},{"$f":"'PAT Civil Detailed'!BO51","v":0},{"$f":"'PAT Civil Detailed'!BX51","v":0},{"$f":"'PAT Civil Detailed'!CB51","v":0},0,{"$f":"'PAT Civil Detailed'!CM51","v":0},{"$f":"'PAT Civil Detailed'!CN51","v":0},{"$f":"'PAT Civil Detailed'!CO51","v":0},{"$f":"'PAT Civil Detailed'!CP51","v":0},{"$f":"'PAT Civil Detailed'!CQ51","v":0},{"$f":"'PAT Civil Detailed'!CR51","v":0},0,0,{"$f":"'PAT Civil Detailed'!CE51","v":0},{"$f":"'PAT Civil Detailed'!CL51","v":0},0,0,0,"",null,null,6]
[null,null,39,39,{"$f":"INSERT!A41","v":0},{"$f":"INSERT!B41","v":0},{"$f":"INSERT!C41","v":0},{"$f":"INSERT!D41","v":0},{"$f":"INSERT!E41","v":0},{"$f":"'PAT Civil Detailed'!N52","v":0},{"$f":"'PAT Civil Detailed'!T52","v":0},{"$f":"'PAT Civil Detailed'!AC52","v":0},{"$f":"'PAT Civil Detailed'!AL52","v":0},{"$f":"'PAT Civil Detailed'!AR52","v":0},0,{"$f":"'PAT Civil Detailed'!AV52","v":0},{"$f":"'PAT Civil Detailed'!BF52","v":0},{"$f":"'PAT Civil Detailed'!BO52","v":0},{"$f":"'PAT Civil Detailed'!BX52","v":0},{"$f":"'PAT Civil Detailed'!CB52","v":0},0,{"$f":"'PAT Civil Detailed'!CM52","v":0},{"$f":"'PAT Civil Detailed'!CN52","v":0},{"$f":"'PAT Civil Detailed'!CO52","v":0},{"$f":"'PAT Civil Detailed'!CP52","v":0},{"$f":"'PAT Civil Detailed'!CQ52","v":0},{"$f":"'PAT Civil Detailed'!CR52","v":0},0,0,{"$f":"'PAT Civil Detailed'!CE52","v":0},{"$f":"'PAT Civil Detailed'!CL52","v":0},0,0,0,"",null,null,6]
[null,null,40,40,{"$f":"INSERT!A42","v":0},{"$f":"INSERT!B42","v":0},{"$f":"INSERT!C42","v":0},{"$f":"INSERT!D42","v":0},{"$f":"INSERT!E42","v":0},{"$f":"'PAT Civil Detailed'!N53","v":0},{"$f":"'PAT Civil Detailed'!T53","v":0},{"$f":"'PAT Civil Detailed'!AC53","v":0},{"$f":"'PAT Civil Detailed'!AL53","v":0},{"$f":"'PAT Civil Detailed'!AR53","v":0},0,{"$f":"'PAT Civil Detailed'!AV53","v":0},{"$f":"'PAT Civil Detailed'!BF53","v":0},{"$f":"'PAT Civil Detailed'!BO53","v":0},{"$f":"'PAT Civil Detailed'!BX53","v":0},{"$f":"'PAT Civil Detailed'!CB53","v":0},0,{"$f":"'PAT Civil Detailed'!CM53","v":0},{"$f":"'PAT Civil Detailed'!CN53","v":0},{"$f":"'PAT Civil Detailed'!CO53","v":0},{"$f":"'PAT Civil Detailed'!CP53","v":0},{"$f":"'PAT Civil Detailed'!CQ53","v":0},{"$f":"'PAT Civil Detailed'!CR53","v":0},0,0,{"$f":"'PAT Civil Detailed'!CE53","v":0},{"$f":"'PAT Civil Detailed'!CL53","v":0},0,0,0,"",null,null,6]
[null,null,41,41,{"$f":"INSERT!A43","v":0},{"$f":"INSERT!B43","v":0},{"$f":"INSERT!C43","v":0},{"$f":"INSERT!D43","v":0},{"$f":"INSERT!E43","v":0},{"$f":"'PAT Civil Detailed'!N54","v":0},{"$f":"'PAT Civil Detailed'!T54","v":0},{"$f":"'PAT Civil Detailed'!AC54","v":0},{"$f":"'PAT Civil Detailed'!AL54","v":0},{"$f":"'PAT Civil Detailed'!AR54","v":0},0,{"$f":"'PAT Civil Detailed'!AV54","v":0},{"$f":"'PAT Civil Detailed'!BF54","v":0},{"$f":"'PAT Civil Detailed'!BO54","v":0},{"$f":"'PAT Civil Detailed'!BX54","v":0},{"$f":"'PAT Civil Detailed'!CB54","v":0},0,{"$f":"'PAT Civil Detailed'!CM54","v":0},{"$f":"'PAT Civil Detailed'!CN54","v":0},{"$f":"'PAT Civil Detailed'!CO54","v":0},{"$f":"'PAT Civil Detailed'!CP54","v":0},{"$f":"'PAT Civil Detailed'!CQ54","v":0},{"$f":"'PAT Civil Detailed'!CR54","v":0},0,0,{"$f":"'PAT Civil Detailed'!CE54","v":0},{"$f":"'PAT Civil Detailed'!CL54","v":0},0,0,0,"",null,null,6]
[null,null,42,42,{"$f":"INSERT!A44","v":0},{"$f":"INSERT!B44","v":0},{"$f":"INSERT!C44","v":0},{"$f":"INSERT!D44","v":0},{"$f":"INSERT!E44","v":0},{"$f":"'PAT Civil Detailed'!N55","v":0},{"$f":"'PAT Civil Detailed'!T55","v":0},{"$f":"'PAT Civil Detailed'!AC55","v":0},{"$f":"'PAT Civil Detailed'!AL55","v":0},{"$f":"'PAT Civil Detailed'!AR55","v":0},0,{"$f":"'PAT Civil Detailed'!AV55","v":0},{"$f":"'PAT Civil Detailed'!BF55","v":0},{"$f":"'PAT Civil Detailed'!BO55","v":0},{"$f":"'PAT Civil Detailed'!BX55","v":0},{"$f":"'PAT Civil Detailed'!CB55","v":0},0,{"$f":"'PAT Civil Detailed'!CM55","v":0},{"$f":"'PAT Civil Detailed'!CN55","v":0},{"$f":"'PAT Civil Detailed'!CO55","v":0},{"$f":"'PAT Civil Detailed'!CP55","v":0},{"$f":"'PAT Civil Detailed'!CQ55","v":0},{"$f":"'PAT Civil Detailed'!CR55","v":0},0,0,{"$f":"'PAT Civil Detailed'!CE55","v":0},{"$f":"'PAT Civil Detailed'!CL55","v":0},0,0,0,"",null,null,6]
[null,null,43,43,{"$f":"INSERT!A45","v":0},{"$f":"INSERT!B45","v":0},{"$f":"INSERT!C45","v":0},{"$f":"INSERT!D45","v":0},{"$f":"INSERT!E45","v":0},{"$f":"'PAT Civil Detailed'!N56","v":0},{"$f":"'PAT Civil Detailed'!T56","v":0},{"$f":"'PAT Civil Detailed'!AC56","v":0},{"$f":"'PAT Civil Detailed'!AL56","v":0},{"$f":"'PAT Civil Detailed'!AR56","v":0},0,{"$f":"'PAT Civil Detailed'!AV56","v":0},{"$f":"'PAT Civil Detailed'!BF56","v":0},{"$f":"'PAT Civil Detailed'!BO56","v":0},{"$f":"'PAT Civil Detailed'!BX56","v":0},{"$f":"'PAT Civil Detailed'!CB56","v":0},0,{"$f":"'PAT Civil Detailed'!CM56","v":0},{"$f":"'PAT Civil Detailed'!CN56","v":0},{"$f":"'PAT Civil Detailed'!CO56","v":0},{"$f":"'PAT Civil Detailed'!CP56","v":0},{"$f":"'PAT Civil Detailed'!CQ56","v":0},{"$f":"'PAT Civil Detailed'!CR56","v":0},0,0,{"$f":"'PAT Civil Detailed'!CE56","v":0},{"$f":"'PAT Civil Detailed'!CL56","v":0},0,0,0,"",null,null,6]
[null,null,44,44,{"$f":"INSERT!A46","v":0},{"$f":"INSERT!B46","v":0},{"$f":"INSERT!C46","v":0},{"$f":"INSERT!D46","v":0},{"$f":"INSERT!E46","v":0},{"$f":"'PAT Civil Detailed'!N57","v":0},{"$f":"'PAT Civil Detailed'!T57","v":0},{"$f":"'PAT Civil Detailed'!AC57","v":0},{"$f":"'PAT Civil Detailed'!AL57","v":0},{"$f":"'PAT Civil Detailed'!AR57","v":0},0,{"$f":"'PAT Civil Detailed'!AV57","v":0},{"$f":"'PAT Civil Detailed'!BF57","v":0},{"$f":"'PAT Civil Detailed'!BO57","v":0},{"$f":"'PAT Civil Detailed'!BX57","v":0},{"$f":"'PAT Civil Detailed'!CB57","v":0},0,{"$f":"'PAT Civil Detailed'!CM57","v":0},{"$f":"'PAT Civil Detailed'!CN57","v":0},{"$f":"'PAT Civil Detailed'!CO57","v":0},{"$f":"'PAT Civil Detailed'!CP57","v":0},{"$f":"'PAT Civil Detailed'!CQ57","v":0},{"$f":"'PAT Civil Detailed'!CR57","v":0},0,0,{"$f":"'PAT Civil Detailed'!CE57","v":0},{"$f":"'PAT Civil Detailed'!CL57","v":0},0,0,0,"",null,null,6]
[null,null,45,45,{"$f":"INSERT!A47","v":0},{"$f":"INSERT!B47","v":0},{"$f":"INSERT!C47","v":0},{"$f":"INSERT!D47","v":0},{"$f":"INSERT!E47","v":0},{"$f":"'PAT Civil Detailed'!N58","v":0},{"$f":"'PAT Civil Detailed'!T58","v":0},{"$f":"'PAT Civil Detailed'!AC58","v":0},{"$f":"'PAT Civil Detailed'!AL58","v":0},{"$f":"'PAT Civil Detailed'!AR58","v":0},0,{"$f":"'PAT Civil Detailed'!AV58","v":0},{"$f":"'PAT Civil Detailed'!BF58","v":0},{"$f":"'PAT Civil Detailed'!BO58","v":0},{"$f":"'PAT Civil Detailed'!BX58","v":0},{"$f":"'PAT Civil Detailed'!CB58","v":0},0,{"$f":"'PAT Civil Detailed'!CM58","v":0},{"$f":"'PAT Civil Detailed'!CN58","v":0},{"$f":"'PAT Civil Detailed'!CO58","v":0},{"$f":"'PAT Civil Detailed'!CP58","v":0},{"$f":"'PAT Civil Detailed'!CQ58","v":0},{"$f":"'PAT Civil Detailed'!CR58","v":0},0,0,{"$f":"'PAT Civil Detailed'!CE58","v":0},{"$f":"'PAT Civil Detailed'!CL58","v":0},0,0,0,"",null,null,6]
[null,null,46,46,{"$f":"INSERT!A48","v":0},{"$f":"INSERT!B48","v":0},{"$f":"INSERT!C48","v":0},{"$f":"INSERT!D48","v":0},{"$f":"INSERT!E48","v":0},{"$f":"'PAT Civil Detailed'!N59","v":0},{"$f":"'PAT Civil Detailed'!T59","v":0},{"$f":"'PAT Civil Detailed'!AC59","v":0},{"$f":"'PAT Civil Detailed'!AL59","v":0},{"$f":"'PAT Civil Detailed'!AR59","v":0},0,{"$f":"'PAT Civil Detailed'!AV59","v":0},{"$f":"'PAT Civil Detailed'!BF59","v":0},{"$f":"'PAT Civil Detailed'!BO59","v":0},{"$f":"'PAT Civil Detailed'!BX59","v":0},{"$f":"'PAT Civil Detailed'!CB59","v":0},0,{"$f":"'PAT Civil Detailed'!CM59","v":0},{"$f":"'PAT Civil Detailed'!CN59","v":0},{"$f":"'PAT Civil Detailed'!CO59","v":0},{"$f":"'PAT Civil Detailed'!CP59","v":0},{"$f":"'PAT Civil Detailed'!CQ59","v":0},{"$f":"'PAT Civil Detailed'!CR59","v":0},0,0,{"$f":"'PAT Civil Detailed'!CE59","v":0},{"$f":"'PAT Civil Detailed'!CL59","v":0},0,0,0,"",null,null,6]
[null,null,47,47,{"$f":"INSERT!A49","v":0},{"$f":"INSERT!B49","v":0},{"$f":"INSERT!C49","v":0},{"$f":"INSERT!D49","v":0},{"$f":"INSERT!E49","v":0},{"$f":"'PAT Civil Detailed'!N60","v":0},{"$f":"'PAT Civil Detailed'!T60","v":0},{"$f":"'PAT Civil Detailed'!AC60","v":0},{"$f":"'PAT Civil Detailed'!AL60","v":0},{"$f":"'PAT Civil Detailed'!AR60","v":0},0,{"$f":"'PAT Civil Detailed'!AV60","v":0},{"$f":"'PAT Civil Detailed'!BF60","v":0},{"$f":"'PAT Civil Detailed'!BO60","v":0},{"$f":"'PAT Civil Detailed'!BX60","v":0},{"$f":"'PAT Civil Detailed'!CB60","v":0},0,{"$f":"'PAT Civil Detailed'!CM60","v":0},{"$f":"'PAT Civil Detailed'!CN60","v":0},{"$f":"'PAT Civil Detailed'!CO60","v":0},{"$f":"'PAT Civil Detailed'!CP60","v":0},{"$f":"'PAT Civil Detailed'!CQ60","v":0},{"$f":"'PAT Civil Detailed'!CR60","v":0},0,0,{"$f":"'PAT Civil Detailed'!CE60","v":0},{"$f":"'PAT Civil Detailed'!CL60","v":0},0,0,0,"",null,null,6]
[null,null,48,48,{"$f":"INSERT!A50","v":0},{"$f":"INSERT!B50","v":0},{"$f":"INSERT!C50","v":0},{"$f":"INSERT!D50","v":0},{"$f":"INSERT!E50","v":0},{"$f":"'PAT Civil Detailed'!N61","v":0},{"$f":"'PAT Civil Detailed'!T61","v":0},{"$f":"'PAT Civil Detailed'!AC61","v":0},{"$f":"'PAT Civil Detailed'!AL61","v":0},{"$f":"'PAT Civil Detailed'!AR61","v":0},0,{"$f":"'PAT Civil Detailed'!AV61","v":0},{"$f":"'PAT Civil Detailed'!BF61","v":0},{"$f":"'PAT Civil Detailed'!BO61","v":0},{"$f":"'PAT Civil Detailed'!BX61","v":0},{"$f":"'PAT Civil Detailed'!CB61","v":0},0,{"$f":"'PAT Civil Detailed'!CM61","v":0},{"$f":"'PAT Civil Detailed'!CN61","v":0},{"$f":"'PAT Civil Detailed'!CO61","v":0},{"$f":"'PAT Civil Detailed'!CP61","v":0},{"$f":"'PAT Civil Detailed'!CQ61","v":0},{"$f":"'PAT Civil Detailed'!CR61","v":0},0,0,{"$f":"'PAT Civil Detailed'!CE61","v":0},{"$f":"'PAT Civil Detailed'!CL61","v":0},0,0,0,"",null,null,6]
[null,null,49,49,{"$f":"INSERT!A51","v":0},{"$f":"INSERT!B51","v":0},{"$f":"INSERT!C51","v":0},{"$f":"INSERT!D51","v":0},{"$f":"INSERT!E51","v":0},{"$f":"'PAT Civil Detailed'!N62","v":0},{"$f":"'PAT Civil Detailed'!T62","v":0},{"$f":"'PAT Civil Detailed'!AC62","v":0},{"$f":"'PAT Civil Detailed'!AL62","v":0},{"$f":"'PAT Civil Detailed'!AR62","v":0},0,{"$f":"'PAT Civil Detailed'!AV62","v":0},{"$f":"'PAT Civil Detailed'!BF62","v":0},{"$f":"'PAT Civil Detailed'!BO62","v":0},{"$f":"'PAT Civil Detailed'!BX62","v":0},{"$f":"'PAT Civil Detailed'!CB62","v":0},0,{"$f":"'PAT Civil Detailed'!CM62","v":0},{"$f":"'PAT Civil Detailed'!CN62","v":0},{"$f":"'PAT Civil Detailed'!CO62","v":0},{"$f":"'PAT Civil Detailed'!CP62","v":0},{"$f":"'PAT Civil Detailed'!CQ62","v":0},{"$f":"'PAT Civil Detailed'!CR62","v":0},0,0,{"$f":"'PAT Civil Detailed'!CE62","v":0},{"$f":"'PAT Civil Detailed'!CL62","v":0},0,0,0,"",null,null,6]
[null,null,50,50,{"$f":"INSERT!A52","v":0},{"$f":"INSERT!B52","v":0},{"$f":"INSERT!C52","v":0},{"$f":"INSERT!D52","v":0},{"$f":"INSERT!E52","v":0},{"$f":"'PAT Civil Detailed'!N63","v":0},{"$f":"'PAT Civil Detailed'!T63","v":0},{"$f":"'PAT Civil Detailed'!AC63","v":0},{"$f":"'PAT Civil Detailed'!AL63","v":0},{"$f":"'PAT Civil Detailed'!AR63","v":0},0,{"$f":"'PAT Civil Detailed'!AV63","v":0},{"$f":"'PAT Civil Detailed'!BF63","v":0},{"$f":"'PAT Civil Detailed'!BO63","v":0},{"$f":"'PAT Civil Detailed'!BX63","v":0},{"$f":"'PAT Civil Detailed'!CB63","v":0},0,{"$f":"'PAT Civil Detailed'!CM63","v":0},{"$f":"'PAT Civil Detailed'!CN63","v":0},{"$f":"'PAT Civil Detailed'!CO63","v":0},{"$f":"'PAT Civil Detailed'!CP63","v":0},{"$f":"'PAT Civil Detailed'!CQ63","v":0},{"$f":"'PAT Civil Detailed'!CR63","v":0},0,0,{"$f":"'PAT Civil Detailed'!CE63","v":0},{"$f":"'PAT Civil Detailed'!CL63","v":0},0,0,0,"",null,null,6]
[null,null,51,51,{"$f":"INSERT!A53","v":0},{"$f":"INSERT!B53","v":0},{"$f":"INSERT!C53","v":0},{"$f":"INSERT!D53","v":0},{"$f":"INSERT!E53","v":0},{"$f":"'PAT Civil Detailed'!N64","v":0},{"$f":"'PAT Civil Detailed'!T64","v":0},{"$f":"'PAT Civil Detailed'!AC64","v":0},{"$f":"'PAT Civil Detailed'!AL64","v":0},{"$f":"'PAT Civil Detailed'!AR64","v":0},0,{"$f":"'PAT Civil Detailed'!AV64","v":0},{"$f":"'PAT Civil Detailed'!BF64","v":0},{"$f":"'PAT Civil Detailed'!BO64","v":0},{"$f":"'PAT Civil Detailed'!BX64","v":0},{"$f":"'PAT Civil Detailed'!CB64","v":0},0,{"$f":"'PAT Civil Detailed'!CM64","v":0},{"$f":"'PAT Civil Detailed'!CN64","v":0},{"$f":"'PAT Civil Detailed'!CO64","v":0},{"$f":"'PAT Civil Detailed'!CP64","v":0},{"$f":"'PAT Civil Detailed'!CQ64","v":0},{"$f":"'PAT Civil Detailed'!CR64","v":0},0,0,{"$f":"'PAT Civil Detailed'!CE64","v":0},{"$f":"'PAT Civil Detailed'!CL64","v":0},0,0,0,"",null,null,6]
[null,null,52,52,{"$f":"INSERT!A54","v":0},{"$f":"INSERT!B54","v":0},{"$f":"INSERT!C54","v":0},{"$f":"INSERT!D54","v":0},{"$f":"INSERT!E54","v":0},{"$f":"'PAT Civil Detailed'!N65","v":0},{"$f":"'PAT Civil Detailed'!T65","v":0},{"$f":"'PAT Civil Detailed'!AC65","v":0},{"$f":"'PAT Civil Detailed'!AL65","v":0},{"$f":"'PAT Civil Detailed'!AR65","v":0},0,{"$f":"'PAT Civil Detailed'!AV65","v":0},{"$f":"'PAT Civil Detailed'!BF65","v":0},{"$f":"'PAT Civil Detailed'!BO65","v":0},{"$f":"'PAT Civil Detailed'!BX65","v":0},{"$f":"'PAT Civil Detailed'!CB65","v":0},0,{"$f":"'PAT Civil Detailed'!CM65","v":0},{"$f":"'PAT Civil Detailed'!CN65","v":0},{"$f":"'PAT Civil Detailed'!CO65","v":0},{"$f":"'PAT Civil Detailed'!CP65","v":0},{"$f":"'PAT Civil Detailed'!CQ65","v":0},{"$f":"'PAT Civil Detailed'!CR65","v":0},0,0,{"$f":"'PAT Civil Detailed'!CE65","v":0},{"$f":"'PAT Civil Detailed'!CL65","v":0},0,0,0,"",null,null,6]
[null,null,53,53,{"$f":"INSERT!A55","v":0},{"$f":"INSERT!B55","v":0},{"$f":"INSERT!C55","v":0},{"$f":"INSERT!D55","v":0},{"$f":"INSERT!E55","v":0},{"$f":"'PAT Civil Detailed'!N66","v":0},{"$f":"'PAT Civil Detailed'!T66","v":0},{"$f":"'PAT Civil Detailed'!AC66","v":0},{"$f":"'PAT Civil Detailed'!AL66","v":0},{"$f":"'PAT Civil Detailed'!AR66","v":0},0,{"$f":"'PAT Civil Detailed'!AV66","v":0},{"$f":"'PAT Civil Detailed'!BF66","v":0},{"$f":"'PAT Civil Detailed'!BO66","v":0},{"$f":"'PAT Civil Detailed'!BX66","v":0},{"$f":"'PAT Civil Detailed'!CB66","v":0},0,{"$f":"'PAT Civil Detailed'!CM66","v":0},{"$f":"'PAT Civil Detailed'!CN66","v":0},{"$f":"'PAT Civil Detailed'!CO66","v":0},{"$f":"'PAT Civil Detailed'!CP66","v":0},{"$f":"'PAT Civil Detailed'!CQ66","v":0},{"$f":"'PAT Civil Detailed'!CR66","v":0},0,0,{"$f":"'PAT Civil Detailed'!CE66","v":0},{"$f":"'PAT Civil Detailed'!CL66","v":0},0,0,0,"",null,null,6]
[null,null,54,54,{"$f":"INSERT!A56","v":0},{"$f":"INSERT!B56","v":0},{"$f":"INSERT!C56","v":0},{"$f":"INSERT!D56","v":0},{"$f":"INSERT!E56","v":0},{"$f":"'PAT Civil Detailed'!N67","v":0},{"$f":"'PAT Civil Detailed'!T67","v":0},{"$f":"'PAT Civil Detailed'!AC67","v":0},{"$f":"'PAT Civil Detailed'!AL67","v":0},{"$f":"'PAT Civil Detailed'!AR67","v":0},0,{"$f":"'PAT Civil Detailed'!AV67","v":0},{"$f":"'PAT Civil Detailed'!BF67","v":0},{"$f":"'PAT Civil Detailed'!BO67","v":0},{"$f":"'PAT Civil Detailed'!BX67","v":0},{"$f":"'PAT Civil Detailed'!CB67","v":0},0,{"$f":"'PAT Civil Detailed'!CM67","v":0},{"$f":"'PAT Civil Detailed'!CN67","v":0},{"$f":"'PAT Civil Detailed'!CO67","v":0},{"$f":"'PAT Civil Detailed'!CP67","v":0},{"$f":"'PAT Civil Detailed'!CQ67","v":0},{"$f":"'PAT Civil Detailed'!CR67","v":0},0,0,{"$f":"'PAT Civil Detailed'!CE67","v":0},{"$f":"'PAT Civil Detailed'!CL67","v":0},0,0,0,"",null,null,6]
[null,null,55,55,{"$f":"INSERT!A57","v":0},{"$f":"INSERT!B57","v":0},{"$f":"INSERT!C57","v":0},{"$f":"INSERT!D57","v":0},{"$f":"INSERT!E57","v":0},{"$f":"'PAT Civil Detailed'!N68","v":0},{"$f":"'PAT Civil Detailed'!T68","v":0},{"$f":"'PAT Civil Detailed'!AC68","v":0},{"$f":"'PAT Civil Detailed'!AL68","v":0},{"$f":"'PAT Civil Detailed'!AR68","v":0},0,{"$f":"'PAT Civil Detailed'!AV68","v":0},{"$f":"'PAT Civil Detailed'!BF68","v":0},{"$f":"'PAT Civil Detailed'!BO68","v":0},{"$f":"'PAT Civil Detailed'!BX68","v":0},{"$f":"'PAT Civil Detailed'!CB68","v":0},0,{"$f":"'PAT Civil Detailed'!CM68","v":0},{"$f":"'PAT Civil Detailed'!CN68","v":0},{"$f":"'PAT Civil Detailed'!CO68","v":0},{"$f":"'PAT Civil Detailed'!CP68","v":0},{"$f":"'PAT Civil Detailed'!CQ68","v":0},{"$f":"'PAT Civil Detailed'!CR68","v":0},0,0,{"$f":"'PAT Civil Detailed'!CE68","v":0},{"$f":"'PAT Civil Detailed'!CL68","v":0},0,0,0,"",null,null,6]
[null,null,56,56,{"$f":"INSERT!A58","v":0},{"$f":"INSERT!B58","v":0},{"$f":"INSERT!C58","v":0},{"$f":"INSERT!D58","v":0},{"$f":"INSERT!E58","v":0},{"$f":"'PAT Civil Detailed'!N69","v":0},{"$f":"'PAT Civil Detailed'!T69","v":0},{"$f":"'PAT Civil Detailed'!AC69","v":0},{"$f":"'PAT Civil Detailed'!AL69","v":0},{"$f":"'PAT Civil Detailed'!AR69","v":0},0,{"$f":"'PAT Civil Detailed'!AV69","v":0},{"$f":"'PAT Civil Detailed'!BF69","v":0},{"$f":"'PAT Civil Detailed'!BO69","v":0},{"$f":"'PAT Civil Detailed'!BX69","v":0},{"$f":"'PAT Civil Detailed'!CB69","v":0},0,{"$f":"'PAT Civil Detailed'!CM69","v":0},{"$f":"'PAT Civil Detailed'!CN69","v":0},{"$f":"'PAT Civil Detailed'!CO69","v":0},{"$f":"'PAT Civil Detailed'!CP69","v":0},{"$f":"'PAT Civil Detailed'!CQ69","v":0},{"$f":"'PAT Civil Detailed'!CR69","v":0},0,0,{"$f":"'PAT Civil Detailed'!CE69","v":0},{"$f":"'PAT Civil Detailed'!CL69","v":0},0,0,0,"",null,null,6]
[null,null,57,57,{"$f":"INSERT!A59","v":0},{"$f":"INSERT!B59","v":0},{"$f":"INSERT!C59","v":0},{"$f":"INSERT!D59","v":0},{"$f":"INSERT!E59","v":0},{"$f":"'PAT Civil Detailed'!N70","v":0},{"$f":"'PAT Civil Detailed'!T70","v":0},{"$f":"'PAT Civil Detailed'!AC70","v":0},{"$f":"'PAT Civil Detailed'!AL70","v":0},{"$f":"'PAT Civil Detailed'!AR70","v":0},0,{"$f":"'PAT Civil Detailed'!AV70","v":0},{"$f":"'PAT Civil Detailed'!BF70","v":0},{"$f":"'PAT Civil Detailed'!BO70","v":0},{"$f":"'PAT Civil Detailed'!BX70","v":0},{"$f":"'PAT Civil Detailed'!CB70","v":0},0,{"$f":"'PAT Civil Detailed'!CM70","v":0},{"$f":"'PAT Civil Detailed'!CN70","v":0},{"$f":"'PAT Civil Detailed'!CO70","v":0},{"$f":"'PAT Civil Detailed'!CP70","v":0},{"$f":"'PAT Civil Detailed'!CQ70","v":0},{"$f":"'PAT Civil Detailed'!CR70","v":0},0,0,{"$f":"'PAT Civil Detailed'!CE70","v":0},{"$f":"'PAT Civil Detailed'!CL70","v":0},0,0,0,"",null,null,6]
[null,null,58,58,{"$f":"INSERT!A60","v":0},{"$f":"INSERT!B60","v":0},{"$f":"INSERT!C60","v":0},{"$f":"INSERT!D60","v":0},{"$f":"INSERT!E60","v":0},{"$f":"'PAT Civil Detailed'!N71","v":0},{"$f":"'PAT Civil Detailed'!T71","v":0},{"$f":"'PAT Civil Detailed'!AC71","v":0},{"$f":"'PAT Civil Detailed'!AL71","v":0},{"$f":"'PAT Civil Detailed'!AR71","v":0},0,{"$f":"'PAT Civil Detailed'!AV71","v":0},{"$f":"'PAT Civil Detailed'!BF71","v":0},{"$f":"'PAT Civil Detailed'!BO71","v":0},{"$f":"'PAT Civil Detailed'!BX71","v":0},{"$f":"'PAT Civil Detailed'!CB71","v":0},0,{"$f":"'PAT Civil Detailed'!CM71","v":0},{"$f":"'PAT Civil Detailed'!CN71","v":0},{"$f":"'PAT Civil Detailed'!CO71","v":0},{"$f":"'PAT Civil Detailed'!CP71","v":0},{"$f":"'PAT Civil Detailed'!CQ71","v":0},{"$f":"'PAT Civil Detailed'!CR71","v":0},0,0,{"$f":"'PAT Civil Detailed'!CE71","v":0},{"$f":"'PAT Civil Detailed'!CL71","v":0},0,0,0,"",null,null,6]
[null,null,59,59,{"$f":"INSERT!A61","v":0},{"$f":"INSERT!B61","v":0},{"$f":"INSERT!C61","v":0},{"$f":"INSERT!D61","v":0},{"$f":"INSERT!E61","v":0},{"$f":"'PAT Civil Detailed'!N72","v":0},{"$f":"'PAT Civil Detailed'!T72","v":0},{"$f":"'PAT Civil Detailed'!AC72","v":0},{"$f":"'PAT Civil Detailed'!AL72","v":0},{"$f":"'PAT Civil Detailed'!AR72","v":0},0,{"$f":"'PAT Civil Detailed'!AV72","v":0},{"$f":"'PAT Civil Detailed'!BF72","v":0},{"$f":"'PAT Civil Detailed'!BO72","v":0},{"$f":"'PAT Civil Detailed'!BX72","v":0},{"$f":"'PAT Civil Detailed'!CB72","v":0},0,{"$f":"'PAT Civil Detailed'!CM72","v":0},{"$f":"'PAT Civil Detailed'!CN72","v":0},{"$f":"'PAT Civil Detailed'!CO72","v":0},{"$f":"'PAT Civil Detailed'!CP72","v":0},{"$f":"'PAT Civil Detailed'!CQ72","v":0},{"$f":"'PAT Civil Detailed'!CR72","v":0},0,0,{"$f":"'PAT Civil Detailed'!CE72","v":0},{"$f":"'PAT Civil Detailed'!CL72","v":0},0,0,0,"",null,null,6]
[null,null,60,60,{"$f":"INSERT!A62","v":0},{"$f":"INSERT!B62","v":0},{"$f":"INSERT!C62","v":0},{"$f":"INSERT!D62","v":0},{"$f":"INSERT!E62","v":0},{"$f":"'PAT Civil Detailed'!N73","v":0},{"$f":"'PAT Civil Detailed'!T73","v":0},{"$f":"'PAT Civil Detailed'!AC73","v":0},{"$f":"'PAT Civil Detailed'!AL73","v":0},{"$f":"'PAT Civil Detailed'!AR73","v":0},0,{"$f":"'PAT Civil Detailed'!AV73","v":0},{"$f":"'PAT Civil Detailed'!BF73","v":0},{"$f":"'PAT Civil Detailed'!BO73","v":0},{"$f":"'PAT Civil Detailed'!BX73","v":0},{"$f":"'PAT Civil Detailed'!CB73","v":0},0,{"$f":"'PAT Civil Detailed'!CM73","v":0},{"$f":"'PAT Civil Detailed'!CN73","v":0},{"$f":"'PAT Civil Detailed'!CO73","v":0},{"$f":"'PAT Civil Detailed'!CP73","v":0},{"$f":"'PAT Civil Detailed'!CQ73","v":0},{"$f":"'PAT Civil Detailed'!CR73","v":0},0,0,{"$f":"'PAT Civil Detailed'!CE73","v":0},{"$f":"'PAT Civil Detailed'!CL73","v":0},0,0,0,"",null,null,6]
[null,null,61,61,{"$f":"INSERT!A63","v":0},{"$f":"INSERT!B63","v":0},{"$f":"INSERT!C63","v":0},{"$f":"INSERT!D63","v":0},{"$f":"INSERT!E63","v":0},{"$f":"'PAT Civil Detailed'!N74","v":0},{"$f":"'PAT Civil Detailed'!T74","v":0},{"$f":"'PAT Civil Detailed'!AC74","v":0},{"$f":"'PAT Civil Detailed'!AL74","v":0},{"$f":"'PAT Civil Detailed'!AR74","v":0},0,{"$f":"'PAT Civil Detailed'!AV74","v":0},{"$f":"'PAT Civil Detailed'!BF74","v":0},{"$f":"'PAT Civil Detailed'!BO74","v":0},{"$f":"'PAT Civil Detailed'!BX74","v":0},{"$f":"'PAT Civil Detailed'!CB74","v":0},0,{"$f":"'PAT Civil Detailed'!CM74","v":0},{"$f":"'PAT Civil Detailed'!CN74","v":0},{"$f":"'PAT Civil Detailed'!CO74","v":0},{"$f":"'PAT Civil Detailed'!CP74","v":0},{"$f":"'PAT Civil Detailed'!CQ74","v":0},{"$f":"'PAT Civil Detailed'!CR74","v":0},0,0,{"$f":"'PAT Civil Detailed'!CE74","v":0},{"$f":"'PAT Civil Detailed'!CL74","v":0},0,0,0,"",null,null,6]
[null,2,62,62,{"$f":"INSERT!A64","v":0},{"$f":"INSERT!B64","v":0},{"$f":"INSERT!C64","v":0},{"$f":"INSERT!D64","v":0},{"$f":"INSERT!E64","v":0},{"$f":"'PAT Civil Detailed'!N75","v":0},{"$f":"'PAT Civil Detailed'!T75","v":0},{"$f":"'PAT Civil Detailed'!AC75","v":0},{"$f":"'PAT Civil Detailed'!AL75","v":0},{"$f":"'PAT Civil Detailed'!AR75","v":0},0,{"$f":"'PAT Civil Detailed'!AV75","v":0},{"$f":"'PAT Civil Detailed'!BF75","v":0},{"$f":"'PAT Civil Detailed'!BO75","v":0},{"$f":"'PAT Civil Detailed'!BX75","v":0},{"$f":"'PAT Civil Detailed'!CB75","v":0},0,{"$f":"'PAT Civil Detailed'!CM75","v":0},{"$f":"'PAT Civil Detailed'!CN75","v":0},{"$f":"'PAT Civil Detailed'!CO75","v":0},{"$f":"'PAT Civil Detailed'!CP75","v":0},{"$f":"'PAT Civil Detailed'!CQ75","v":0},{"$f":"'PAT Civil Detailed'!CR75","v":0},0,0,{"$f":"'PAT Civil Detailed'!CE75","v":0},{"$f":"'PAT Civil Detailed'!CL75","v":0},0,0,0,"",null,null,6]
[null,2,63,63,{"$f":"INSERT!A65","v":0},{"$f":"INSERT!B65","v":0},{"$f":"INSERT!C65","v":0},{"$f":"INSERT!D65","v":0},{"$f":"INSERT!E65","v":0},{"$f":"'PAT Civil Detailed'!N76","v":0},{"$f":"'PAT Civil Detailed'!T76","v":0},{"$f":"'PAT Civil Detailed'!AC76","v":0},{"$f":"'PAT Civil Detailed'!AL76","v":0},{"$f":"'PAT Civil Detailed'!AR76","v":0},0,{"$f":"'PAT Civil Detailed'!AV76","v":0},{"$f":"'PAT Civil Detailed'!BF76","v":0},{"$f":"'PAT Civil Detailed'!BO76","v":0},{"$f":"'PAT Civil Detailed'!BX76","v":0},{"$f":"'PAT Civil Detailed'!CB76","v":0},0,{"$f":"'PAT Civil Detailed'!CM76","v":0},{"$f":"'PAT Civil Detailed'!CN76","v":0},{"$f":"'PAT Civil Detailed'!CO76","v":0},{"$f":"'PAT Civil Detailed'!CP76","v":0},{"$f":"'PAT Civil Detailed'!CQ76","v":0},{"$f":"'PAT Civil Detailed'!CR76","v":0},0,0,{"$f":"'PAT Civil Detailed'!CE76","v":0},{"$f":"'PAT Civil Detailed'!CL76","v":0},0,0,0,"",null,null,6]
[null,2,64,64,{"$f":"INSERT!A66","v":0},{"$f":"INSERT!B66","v":0},{"$f":"INSERT!C66","v":0},{"$f":"INSERT!D66","v":0},{"$f":"INSERT!E66","v":0},{"$f":"'PAT Civil Detailed'!N77","v":0},{"$f":"'PAT Civil Detailed'!T77","v":0},{"$f":"'PAT Civil Detailed'!AC77","v":0},{"$f":"'PAT Civil Detailed'!AL77","v":0},{"$f":"'PAT Civil Detailed'!AR77","v":0},0,{"$f":"'PAT Civil Detailed'!AV77","v":0},{"$f":"'PAT Civil Detailed'!BF77","v":0},{"$f":"'PAT Civil Detailed'!BO77","v":0},{"$f":"'PAT Civil Detailed'!BX77","v":0},{"$f":"'PAT Civil Detailed'!CB77","v":0},0,{"$f":"'PAT Civil Detailed'!CM77","v":0},{"$f":"'PAT Civil Detailed'!CN77","v":0},{"$f":"'PAT Civil Detailed'!CO77","v":0},{"$f":"'PAT Civil Detailed'!CP77","v":0},{"$f":"'PAT Civil Detailed'!CQ77","v":0},{"$f":"'PAT Civil Detailed'!CR77","v":0},0,0,{"$f":"'PAT Civil Detailed'!CE77","v":0},{"$f":"'PAT Civil Detailed'!CL77","v":0},0,0,0,"",null,null,6]
[null,2,65,65,{"$f":"INSERT!A67","v":0},{"$f":"INSERT!B67","v":0},{"$f":"INSERT!C67","v":0},{"$f":"INSERT!D67","v":0},{"$f":"INSERT!E67","v":0},{"$f":"'PAT Civil Detailed'!N78","v":0},{"$f":"'PAT Civil Detailed'!T78","v":0},{"$f":"'PAT Civil Detailed'!AC78","v":0},{"$f":"'PAT Civil Detailed'!AL78","v":0},{"$f":"'PAT Civil Detailed'!AR78","v":0},0,{"$f":"'PAT Civil Detailed'!AV78","v":0},{"$f":"'PAT Civil Detailed'!BF78","v":0},{"$f":"'PAT Civil Detailed'!BO78","v":0},{"$f":"'PAT Civil Detailed'!BX78","v":0},{"$f":"'PAT Civil Detailed'!CB78","v":0},0,{"$f":"'PAT Civil Detailed'!CM78","v":0},{"$f":"'PAT Civil Detailed'!CN78","v":0},{"$f":"'PAT Civil Detailed'!CO78","v":0},{"$f":"'PAT Civil Detailed'!CP78","v":0},{"$f":"'PAT Civil Detailed'!CQ78","v":0},{"$f":"'PAT Civil Detailed'!CR78","v":0},0,0,{"$f":"'PAT Civil Detailed'!CE78","v":0},{"$f":"'PAT Civil Detailed'!CL78","v":0},0,0,0,"",null,null,6]
[null,2,66,66,{"$f":"INSERT!A68","v":0},{"$f":"INSERT!B68","v":0},{"$f":"INSERT!C68","v":0},{"$f":"INSERT!D68","v":0},{"$f":"INSERT!E68","v":0},{"$f":"'PAT Civil Detailed'!N79","v":0},{"$f":"'PAT Civil Detailed'!T79","v":0},{"$f":"'PAT Civil Detailed'!AC79","v":0},{"$f":"'PAT Civil Detailed'!AL79","v":0},{"$f":"'PAT Civil Detailed'!AR79","v":0},{"$f":"SUM(J83:N83)/1.724137931","v":0},{"$f":"'PAT Civil Detailed'!AV79","v":0},{"$f":"'PAT Civil Detailed'!BF79","v":0},{"$f":"'PAT Civil Detailed'!BO79","v":0},{"$f":"'PAT Civil Detailed'!BX79","v":0},{"$f":"'PAT Civil Detailed'!CB79","v":0},{"$f":"ROUND((SUM(P83:T83)/1.428571428),1)","v":0},{"$f":"'PAT Civil Detailed'!CM79","v":0},{"$f":"'PAT Civil Detailed'!CN79","v":0},{"$f":"'PAT Civil Detailed'!CO79","v":0},{"$f":"'PAT Civil Detailed'!CP79","v":0},{"$f":"'PAT Civil Detailed'!CQ79","v":0},{"$f":"'PAT Civil Detailed'!CR79","v":0},{"$f":"SUMIF(V83:AA83,\">0\")","v":0},{"$f":"IF(AL83=4,SUMIF(V83:AA83,\">0\")/1.6,IF(AL83=6,SUMIF(V83:AA83,\">0\")/2.4,SUMIF(V83:AA83,\">0\")))","v":0},{"$f":"'PAT Civil Detailed'!CE79","v":0},{"$f":"'PAT Civil Detailed'!CL79","v":0},{"$f":"SUM(AD83:AE83)","v":0},{"$f":"SUM(AD83:AE83)/1.818181818","v":0},{"$f":"SUM(O83+U83+AC83+AG83)","v":0},{"$f":"IF(AH83>79,\"7\",IF(AH83>69,\"6\",IF(AH83>59,\"5\",IF(AH83>49,\"4\",IF(AH83>39,\"3\",IF(AH83>29,\"2\",IF(AH83>0,\"1\",IF(AH83=0,\"\"))))))))","v":""},null,null,{"$f":"COUNTIF(V83:AA83,\">-1\")","v":6}]
[null,2,{"$f":"C83+1","v":67},67,{"$f":"INSERT!A69","v":0},{"$f":"INSERT!B69","v":0},{"$f":"INSERT!C69","v":0},{"$f":"INSERT!D69","v":0},{"$f":"INSERT!E69","v":0},{"$f":"'PAT Civil Detailed'!N80","v":0},{"$f":"'PAT Civil Detailed'!T80","v":0},{"$f":"'PAT Civil Detailed'!AC80","v":0},{"$f":"'PAT Civil Detailed'!AL80","v":0},{"$f":"'PAT Civil Detailed'!AR80","v":0},0,{"$f":"'PAT Civil Detailed'!AV80","v":0},{"$f":"'PAT Civil Detailed'!BF80","v":0},{"$f":"'PAT Civil Detailed'!BO80","v":0},{"$f":"'PAT Civil Detailed'!BX80","v":0},{"$f":"'PAT Civil Detailed'!CB80","v":0},0,{"$f":"'PAT Civil Detailed'!CM80","v":0},{"$f":"'PAT Civil Detailed'!CN80","v":0},{"$f":"'PAT Civil Detailed'!CO80","v":0},{"$f":"'PAT Civil Detailed'!CP80","v":0},{"$f":"'PAT Civil Detailed'!CQ80","v":0},{"$f":"'PAT Civil Detailed'!CR80","v":0},0,0,{"$f":"'PAT Civil Detailed'!CE80","v":0},{"$f":"'PAT Civil Detailed'!CL80","v":0},0,0,0,"",null,null,6]
[null,2,68,68,{"$f":"INSERT!A70","v":0},{"$f":"INSERT!B70","v":0},{"$f":"INSERT!C70","v":0},{"$f":"INSERT!D70","v":0},{"$f":"INSERT!E70","v":0},{"$f":"'PAT Civil Detailed'!N81","v":0},{"$f":"'PAT Civil Detailed'!T81","v":0},{"$f":"'PAT Civil Detailed'!AC81","v":0},{"$f":"'PAT Civil Detailed'!AL81","v":0},{"$f":"'PAT Civil Detailed'!AR81","v":0},0,{"$f":"'PAT Civil Detailed'!AV81","v":0},{"$f":"'PAT Civil Detailed'!BF81","v":0},{"$f":"'PAT Civil Detailed'!BO81","v":0},{"$f":"'PAT Civil Detailed'!BX81","v":0},{"$f":"'PAT Civil Detailed'!CB81","v":0},0,{"$f":"'PAT Civil Detailed'!CM81","v":0},{"$f":"'PAT Civil Detailed'!CN81","v":0},{"$f":"'PAT Civil Detailed'!CO81","v":0},{"$f":"'PAT Civil Detailed'!CP81","v":0},{"$f":"'PAT Civil Detailed'!CQ81","v":0},{"$f":"'PAT Civil Detailed'!CR81","v":0},0,0,{"$f":"'PAT Civil Detailed'!CE81","v":0},{"$f":"'PAT Civil Detailed'!CL81","v":0},0,0,0,"",null,null,6]
[null,2,69,69,{"$f":"INSERT!A71","v":0},{"$f":"INSERT!B71","v":0},{"$f":"INSERT!C71","v":0},{"$f":"INSERT!D71","v":0},{"$f":"INSERT!E71","v":0},{"$f":"'PAT Civil Detailed'!N82","v":0},{"$f":"'PAT Civil Detailed'!T82","v":0},{"$f":"'PAT Civil Detailed'!AC82","v":0},{"$f":"'PAT Civil Detailed'!AL82","v":0},{"$f":"'PAT Civil Detailed'!AR82","v":0},0,{"$f":"'PAT Civil Detailed'!AV82","v":0},{"$f":"'PAT Civil Detailed'!BF82","v":0},{"$f":"'PAT Civil Detailed'!BO82","v":0},{"$f":"'PAT Civil Detailed'!BX82","v":0},{"$f":"'PAT Civil Detailed'!CB82","v":0},0,{"$f":"'PAT Civil Detailed'!CM82","v":0},{"$f":"'PAT Civil Detailed'!CN82","v":0},{"$f":"'PAT Civil Detailed'!CO82","v":0},{"$f":"'PAT Civil Detailed'!CP82","v":0},{"$f":"'PAT Civil Detailed'!CQ82","v":0},{"$f":"'PAT Civil Detailed'!CR82","v":0},0,0,{"$f":"'PAT Civil Detailed'!CE82","v":0},{"$f":"'PAT Civil Detailed'!CL82","v":0},0,0,0,"",null,null,6]
[null,2,70,70,{"$f":"INSERT!A72","v":0},{"$f":"INSERT!B72","v":0},{"$f":"INSERT!C72","v":0},{"$f":"INSERT!D72","v":0},{"$f":"INSERT!E72","v":0},{"$f":"'PAT Civil Detailed'!N83","v":0},{"$f":"'PAT Civil Detailed'!T83","v":0},{"$f":"'PAT Civil Detailed'!AC83","v":0},{"$f":"'PAT Civil Detailed'!AL83","v":0},{"$f":"'PAT Civil Detailed'!AR83","v":0},0,{"$f":"'PAT Civil Detailed'!AV83","v":0},{"$f":"'PAT Civil Detailed'!BF83","v":0},{"$f":"'PAT Civil Detailed'!BO83","v":0},{"$f":"'PAT Civil Detailed'!BX83","v":0},{"$f":"'PAT Civil Detailed'!CB83","v":0},0,{"$f":"'PAT Civil Detailed'!CM83","v":0},{"$f":"'PAT Civil Detailed'!CN83","v":0},{"$f":"'PAT Civil Detailed'!CO83","v":0},{"$f":"'PAT Civil Detailed'!CP83","v":0},{"$f":"'PAT Civil Detailed'!CQ83","v":0},{"$f":"'PAT Civil Detailed'!CR83","v":0},0,0,{"$f":"'PAT Civil Detailed'!CE83","v":0},{"$f":"'PAT Civil Detailed'!CL83","v":0},0,0,0,"",null,null,6]
[null,2,71,71,{"$f":"INSERT!A73","v":0},{"$f":"INSERT!B73","v":0},{"$f":"INSERT!C73","v":0},{"$f":"INSERT!D73","v":0},{"$f":"INSERT!E73","v":0},{"$f":"'PAT Civil Detailed'!N84","v":0},{"$f":"'PAT Civil Detailed'!T84","v":0},{"$f":"'PAT Civil Detailed'!AC84","v":0},{"$f":"'PAT Civil Detailed'!AL84","v":0},{"$f":"'PAT Civil Detailed'!AR84","v":0},0,{"$f":"'PAT Civil Detailed'!AV84","v":0},{"$f":"'PAT Civil Detailed'!BF84","v":0},{"$f":"'PAT Civil Detailed'!BO84","v":0},{"$f":"'PAT Civil Detailed'!BX84","v":0},{"$f":"'PAT Civil Detailed'!CB84","v":0},0,{"$f":"'PAT Civil Detailed'!CM84","v":0},{"$f":"'PAT Civil Detailed'!CN84","v":0},{"$f":"'PAT Civil Detailed'!CO84","v":0},{"$f":"'PAT Civil Detailed'!CP84","v":0},{"$f":"'PAT Civil Detailed'!CQ84","v":0},{"$f":"'PAT Civil Detailed'!CR84","v":0},0,0,{"$f":"'PAT Civil Detailed'!CE84","v":0},{"$f":"'PAT Civil Detailed'!CL84","v":0},0,0,0,"",null,null,6]
[null,2,72,72,{"$f":"INSERT!A74","v":0},{"$f":"INSERT!B74","v":0},{"$f":"INSERT!C74","v":0},{"$f":"INSERT!D74","v":0},{"$f":"INSERT!E74","v":0},{"$f":"'PAT Civil Detailed'!N85","v":0},{"$f":"'PAT Civil Detailed'!T85","v":0},{"$f":"'PAT Civil Detailed'!AC85","v":0},{"$f":"'PAT Civil Detailed'!AL85","v":0},{"$f":"'PAT Civil Detailed'!AR85","v":0},0,{"$f":"'PAT Civil Detailed'!AV85","v":0},{"$f":"'PAT Civil Detailed'!BF85","v":0},{"$f":"'PAT Civil Detailed'!BO85","v":0},{"$f":"'PAT Civil Detailed'!BX85","v":0},{"$f":"'PAT Civil Detailed'!CB85","v":0},0,{"$f":"'PAT Civil Detailed'!CM85","v":0},{"$f":"'PAT Civil Detailed'!CN85","v":0},{"$f":"'PAT Civil Detailed'!CO85","v":0},{"$f":"'PAT Civil Detailed'!CP85","v":0},{"$f":"'PAT Civil Detailed'!CQ85","v":0},{"$f":"'PAT Civil Detailed'!CR85","v":0},0,0,{"$f":"'PAT Civil Detailed'!CE85","v":0},{"$f":"'PAT Civil Detailed'!CL85","v":0},0,0,0,"",null,null,6]
[null,2,73,73,{"$f":"INSERT!A75","v":0},{"$f":"INSERT!B75","v":0},{"$f":"INSERT!C75","v":0},{"$f":"INSERT!D75","v":0},{"$f":"INSERT!E75","v":0},{"$f":"'PAT Civil Detailed'!N86","v":0},{"$f":"'PAT Civil Detailed'!T86","v":0},{"$f":"'PAT Civil Detailed'!AC86","v":0},{"$f":"'PAT Civil Detailed'!AL86","v":0},{"$f":"'PAT Civil Detailed'!AR86","v":0},0,{"$f":"'PAT Civil Detailed'!AV86","v":0},{"$f":"'PAT Civil Detailed'!BF86","v":0},{"$f":"'PAT Civil Detailed'!BO86","v":0},{"$f":"'PAT Civil Detailed'!BX86","v":0},{"$f":"'PAT Civil Detailed'!CB86","v":0},0,{"$f":"'PAT Civil Detailed'!CM86","v":0},{"$f":"'PAT Civil Detailed'!CN86","v":0},{"$f":"'PAT Civil Detailed'!CO86","v":0},{"$f":"'PAT Civil Detailed'!CP86","v":0},{"$f":"'PAT Civil Detailed'!CQ86","v":0},{"$f":"'PAT Civil Detailed'!CR86","v":0},0,0,{"$f":"'PAT Civil Detailed'!CE86","v":0},{"$f":"'PAT Civil Detailed'!CL86","v":0},0,0,0,"",null,null,6]
[null,2,{"$f":"C90+1","v":74},74,{"$f":"INSERT!A76","v":0},{"$f":"INSERT!B76","v":0},{"$f":"INSERT!C76","v":0},{"$f":"INSERT!D76","v":0},{"$f":"INSERT!E76","v":0},{"$f":"'PAT Civil Detailed'!N87","v":0},{"$f":"'PAT Civil Detailed'!T87","v":0},{"$f":"'PAT Civil Detailed'!AC87","v":0},{"$f":"'PAT Civil Detailed'!AL87","v":0},{"$f":"'PAT Civil Detailed'!AR87","v":0},0,{"$f":"'PAT Civil Detailed'!AV87","v":0},{"$f":"'PAT Civil Detailed'!BF87","v":0},{"$f":"'PAT Civil Detailed'!BO87","v":0},{"$f":"'PAT Civil Detailed'!BX87","v":0},{"$f":"'PAT Civil Detailed'!CB87","v":0},0,{"$f":"'PAT Civil Detailed'!CM87","v":0},{"$f":"'PAT Civil Detailed'!CN87","v":0},{"$f":"'PAT Civil Detailed'!CO87","v":0},{"$f":"'PAT Civil Detailed'!CP87","v":0},{"$f":"'PAT Civil Detailed'!CQ87","v":0},{"$f":"'PAT Civil Detailed'!CR87","v":0},0,0,{"$f":"'PAT Civil Detailed'!CE87","v":0},{"$f":"'PAT Civil Detailed'!CL87","v":0},0,0,0,"",null,null,6]
[null,2,75,75,{"$f":"INSERT!A77","v":0},{"$f":"INSERT!B77","v":0},{"$f":"INSERT!C77","v":0},{"$f":"INSERT!D77","v":0},{"$f":"INSERT!E77","v":0},{"$f":"'PAT Civil Detailed'!N88","v":0},{"$f":"'PAT Civil Detailed'!T88","v":0},{"$f":"'PAT Civil Detailed'!AC88","v":0},{"$f":"'PAT Civil Detailed'!AL88","v":0},{"$f":"'PAT Civil Detailed'!AR88","v":0},0,{"$f":"'PAT Civil Detailed'!AV88","v":0},{"$f":"'PAT Civil Detailed'!BF88","v":0},{"$f":"'PAT Civil Detailed'!BO88","v":0},{"$f":"'PAT Civil Detailed'!BX88","v":0},{"$f":"'PAT Civil Detailed'!CB88","v":0},0,{"$f":"'PAT Civil Detailed'!CM88","v":0},{"$f":"'PAT Civil Detailed'!CN88","v":0},{"$f":"'PAT Civil Detailed'!CO88","v":0},{"$f":"'PAT Civil Detailed'!CP88","v":0},{"$f":"'PAT Civil Detailed'!CQ88","v":0},{"$f":"'PAT Civil Detailed'!CR88","v":0},0,0,{"$f":"'PAT Civil Detailed'!CE88","v":0},{"$f":"'PAT Civil Detailed'!CL88","v":0},0,0,0,"",null,null,6]
[null,2,76,76,{"$f":"INSERT!A78","v":0},{"$f":"INSERT!B78","v":0},{"$f":"INSERT!C78","v":0},{"$f":"INSERT!D78","v":0},{"$f":"INSERT!E78","v":0},{"$f":"'PAT Civil Detailed'!N89","v":0},{"$f":"'PAT Civil Detailed'!T89","v":0},{"$f":"'PAT Civil Detailed'!AC89","v":0},{"$f":"'PAT Civil Detailed'!AL89","v":0},{"$f":"'PAT Civil Detailed'!AR89","v":0},0,{"$f":"'PAT Civil Detailed'!AV89","v":0},{"$f":"'PAT Civil Detailed'!BF89","v":0},{"$f":"'PAT Civil Detailed'!BO89","v":0},{"$f":"'PAT Civil Detailed'!BX89","v":0},{"$f":"'PAT Civil Detailed'!CB89","v":0},0,{"$f":"'PAT Civil Detailed'!CM89","v":0},{"$f":"'PAT Civil Detailed'!CN89","v":0},{"$f":"'PAT Civil Detailed'!CO89","v":0},{"$f":"'PAT Civil Detailed'!CP89","v":0},{"$f":"'PAT Civil Detailed'!CQ89","v":0},{"$f":"'PAT Civil Detailed'!CR89","v":0},0,0,{"$f":"'PAT Civil Detailed'!CE89","v":0},{"$f":"'PAT Civil Detailed'!CL89","v":0},0,0,0,"",null,null,6]
[null,2,77,77,{"$f":"INSERT!A79","v":0},{"$f":"INSERT!B79","v":0},{"$f":"INSERT!C79","v":0},{"$f":"INSERT!D79","v":0},{"$f":"INSERT!E79","v":0},{"$f":"'PAT Civil Detailed'!N90","v":0},{"$f":"'PAT Civil Detailed'!T90","v":0},{"$f":"'PAT Civil Detailed'!AC90","v":0},{"$f":"'PAT Civil Detailed'!AL90","v":0},{"$f":"'PAT Civil Detailed'!AR90","v":0},0,{"$f":"'PAT Civil Detailed'!AV90","v":0},{"$f":"'PAT Civil Detailed'!BF90","v":0},{"$f":"'PAT Civil Detailed'!BO90","v":0},{"$f":"'PAT Civil Detailed'!BX90","v":0},{"$f":"'PAT Civil Detailed'!CB90","v":0},0,{"$f":"'PAT Civil Detailed'!CM90","v":0},{"$f":"'PAT Civil Detailed'!CN90","v":0},{"$f":"'PAT Civil Detailed'!CO90","v":0},{"$f":"'PAT Civil Detailed'!CP90","v":0},{"$f":"'PAT Civil Detailed'!CQ90","v":0},{"$f":"'PAT Civil Detailed'!CR90","v":0},0,0,{"$f":"'PAT Civil Detailed'!CE90","v":0},{"$f":"'PAT Civil Detailed'!CL90","v":0},0,0,0,"",null,null,6]
[null,2,78,78,{"$f":"INSERT!A80","v":0},{"$f":"INSERT!B80","v":0},{"$f":"INSERT!C80","v":0},{"$f":"INSERT!D80","v":0},{"$f":"INSERT!E80","v":0},{"$f":"'PAT Civil Detailed'!N91","v":0},{"$f":"'PAT Civil Detailed'!T91","v":0},{"$f":"'PAT Civil Detailed'!AC91","v":0},{"$f":"'PAT Civil Detailed'!AL91","v":0},{"$f":"'PAT Civil Detailed'!AR91","v":0},0,{"$f":"'PAT Civil Detailed'!AV91","v":0},{"$f":"'PAT Civil Detailed'!BF91","v":0},{"$f":"'PAT Civil Detailed'!BO91","v":0},{"$f":"'PAT Civil Detailed'!BX91","v":0},{"$f":"'PAT Civil Detailed'!CB91","v":0},0,{"$f":"'PAT Civil Detailed'!CM91","v":0},{"$f":"'PAT Civil Detailed'!CN91","v":0},{"$f":"'PAT Civil Detailed'!CO91","v":0},{"$f":"'PAT Civil Detailed'!CP91","v":0},{"$f":"'PAT Civil Detailed'!CQ91","v":0},{"$f":"'PAT Civil Detailed'!CR91","v":0},0,0,{"$f":"'PAT Civil Detailed'!CE91","v":0},{"$f":"'PAT Civil Detailed'!CL91","v":0},0,0,0,"",null,null,6]
[null,2,79,79,{"$f":"INSERT!A81","v":0},{"$f":"INSERT!B81","v":0},{"$f":"INSERT!C81","v":0},{"$f":"INSERT!D81","v":0},{"$f":"INSERT!E81","v":0},{"$f":"'PAT Civil Detailed'!N92","v":0},{"$f":"'PAT Civil Detailed'!T92","v":0},{"$f":"'PAT Civil Detailed'!AC92","v":0},{"$f":"'PAT Civil Detailed'!AL92","v":0},{"$f":"'PAT Civil Detailed'!AR92","v":0},0,{"$f":"'PAT Civil Detailed'!AV92","v":0},{"$f":"'PAT Civil Detailed'!BF92","v":0},{"$f":"'PAT Civil Detailed'!BO92","v":0},{"$f":"'PAT Civil Detailed'!BX92","v":0},{"$f":"'PAT Civil Detailed'!CB92","v":0},0,{"$f":"'PAT Civil Detailed'!CM92","v":0},{"$f":"'PAT Civil Detailed'!CN92","v":0},{"$f":"'PAT Civil Detailed'!CO92","v":0},{"$f":"'PAT Civil Detailed'!CP92","v":0},{"$f":"'PAT Civil Detailed'!CQ92","v":0},{"$f":"'PAT Civil Detailed'!CR92","v":0},0,0,{"$f":"'PAT Civil Detailed'!CE92","v":0},{"$f":"'PAT Civil Detailed'!CL92","v":0},0,0,0,"",null,null,6]
[null,2,80,80,{"$f":"INSERT!A82","v":0},{"$f":"INSERT!B82","v":0},{"$f":"INSERT!C82","v":0},{"$f":"INSERT!D82","v":0},{"$f":"INSERT!E82","v":0},{"$f":"'PAT Civil Detailed'!N93","v":0},{"$f":"'PAT Civil Detailed'!T93","v":0},{"$f":"'PAT Civil Detailed'!AC93","v":0},{"$f":"'PAT Civil Detailed'!AL93","v":0},{"$f":"'PAT Civil Detailed'!AR93","v":0},0,{"$f":"'PAT Civil Detailed'!AV93","v":0},{"$f":"'PAT Civil Detailed'!BF93","v":0},{"$f":"'PAT Civil Detailed'!BO93","v":0},{"$f":"'PAT Civil Detailed'!BX93","v":0},{"$f":"'PAT Civil Detailed'!CB93","v":0},0,{"$f":"'PAT Civil Detailed'!CM93","v":0},{"$f":"'PAT Civil Detailed'!CN93","v":0},{"$f":"'PAT Civil Detailed'!CO93","v":0},{"$f":"'PAT Civil Detailed'!CP93","v":0},{"$f":"'PAT Civil Detailed'!CQ93","v":0},{"$f":"'PAT Civil Detailed'!CR93","v":0},0,0,{"$f":"'PAT Civil Detailed'!CE93","v":0},{"$f":"'PAT Civil Detailed'!CL93","v":0},0,0,0,"",null,null,6]
[null,2,81,81,{"$f":"INSERT!A83","v":0},{"$f":"INSERT!B83","v":0},{"$f":"INSERT!C83","v":0},{"$f":"INSERT!D83","v":0},{"$f":"INSERT!E83","v":0},{"$f":"'PAT Civil Detailed'!N94","v":0},{"$f":"'PAT Civil Detailed'!T94","v":0},{"$f":"'PAT Civil Detailed'!AC94","v":0},{"$f":"'PAT Civil Detailed'!AL94","v":0},{"$f":"'PAT Civil Detailed'!AR94","v":0},0,{"$f":"'PAT Civil Detailed'!AV94","v":0},{"$f":"'PAT Civil Detailed'!BF94","v":0},{"$f":"'PAT Civil Detailed'!BO94","v":0},{"$f":"'PAT Civil Detailed'!BX94","v":0},{"$f":"'PAT Civil Detailed'!CB94","v":0},0,{"$f":"'PAT Civil Detailed'!CM94","v":0},{"$f":"'PAT Civil Detailed'!CN94","v":0},{"$f":"'PAT Civil Detailed'!CO94","v":0},{"$f":"'PAT Civil Detailed'!CP94","v":0},{"$f":"'PAT Civil Detailed'!CQ94","v":0},{"$f":"'PAT Civil Detailed'!CR94","v":0},0,0,{"$f":"'PAT Civil Detailed'!CE94","v":0},{"$f":"'PAT Civil Detailed'!CL94","v":0},0,0,0,"",null,null,6]
[null,2,82,82,{"$f":"INSERT!A84","v":0},{"$f":"INSERT!B84","v":0},{"$f":"INSERT!C84","v":0},{"$f":"INSERT!D84","v":0},{"$f":"INSERT!E84","v":0},{"$f":"'PAT Civil Detailed'!N95","v":0},{"$f":"'PAT Civil Detailed'!T95","v":0},{"$f":"'PAT Civil Detailed'!AC95","v":0},{"$f":"'PAT Civil Detailed'!AL95","v":0},{"$f":"'PAT Civil Detailed'!AR95","v":0},0,{"$f":"'PAT Civil Detailed'!AV95","v":0},{"$f":"'PAT Civil Detailed'!BF95","v":0},{"$f":"'PAT Civil Detailed'!BO95","v":0},{"$f":"'PAT Civil Detailed'!BX95","v":0},{"$f":"'PAT Civil Detailed'!CB95","v":0},0,{"$f":"'PAT Civil Detailed'!CM95","v":0},{"$f":"'PAT Civil Detailed'!CN95","v":0},{"$f":"'PAT Civil Detailed'!CO95","v":0},{"$f":"'PAT Civil Detailed'!CP95","v":0},{"$f":"'PAT Civil Detailed'!CQ95","v":0},{"$f":"'PAT Civil Detailed'!CR95","v":0},0,0,{"$f":"'PAT Civil Detailed'!CE95","v":0},{"$f":"'PAT Civil Detailed'!CL95","v":0},0,0,0,"",null,null,6]
[null,2,83,83,{"$f":"INSERT!A85","v":0},{"$f":"INSERT!B85","v":0},{"$f":"INSERT!C85","v":0},{"$f":"INSERT!D85","v":0},{"$f":"INSERT!E85","v":0},{"$f":"'PAT Civil Detailed'!N96","v":0},{"$f":"'PAT Civil Detailed'!T96","v":0},{"$f":"'PAT Civil Detailed'!AC96","v":0},{"$f":"'PAT Civil Detailed'!AL96","v":0},{"$f":"'PAT Civil Detailed'!AR96","v":0},0,{"$f":"'PAT Civil Detailed'!AV96","v":0},{"$f":"'PAT Civil Detailed'!BF96","v":0},{"$f":"'PAT Civil Detailed'!BO96","v":0},{"$f":"'PAT Civil Detailed'!BX96","v":0},{"$f":"'PAT Civil Detailed'!CB96","v":0},0,{"$f":"'PAT Civil Detailed'!CM96","v":0},{"$f":"'PAT Civil Detailed'!CN96","v":0},{"$f":"'PAT Civil Detailed'!CO96","v":0},{"$f":"'PAT Civil Detailed'!CP96","v":0},{"$f":"'PAT Civil Detailed'!CQ96","v":0},{"$f":"'PAT Civil Detailed'!CR96","v":0},0,0,{"$f":"'PAT Civil Detailed'!CE96","v":0},{"$f":"'PAT Civil Detailed'!CL96","v":0},0,0,0,"",null,null,6]
[null,2,84,84,{"$f":"INSERT!A86","v":0},{"$f":"INSERT!B86","v":0},{"$f":"INSERT!C86","v":0},{"$f":"INSERT!D86","v":0},{"$f":"INSERT!E86","v":0},{"$f":"'PAT Civil Detailed'!N97","v":0},{"$f":"'PAT Civil Detailed'!T97","v":0},{"$f":"'PAT Civil Detailed'!AC97","v":0},{"$f":"'PAT Civil Detailed'!AL97","v":0},{"$f":"'PAT Civil Detailed'!AR97","v":0},0,{"$f":"'PAT Civil Detailed'!AV97","v":0},{"$f":"'PAT Civil Detailed'!BF97","v":0},{"$f":"'PAT Civil Detailed'!BO97","v":0},{"$f":"'PAT Civil Detailed'!BX97","v":0},{"$f":"'PAT Civil Detailed'!CB97","v":0},0,{"$f":"'PAT Civil Detailed'!CM97","v":0},{"$f":"'PAT Civil Detailed'!CN97","v":0},{"$f":"'PAT Civil Detailed'!CO97","v":0},{"$f":"'PAT Civil Detailed'!CP97","v":0},{"$f":"'PAT Civil Detailed'!CQ97","v":0},{"$f":"'PAT Civil Detailed'!CR97","v":0},0,0,{"$f":"'PAT Civil Detailed'!CE97","v":0},{"$f":"'PAT Civil Detailed'!CL97","v":0},0,0,0,"",null,null,6]
[null,2,85,85,{"$f":"INSERT!A87","v":0},{"$f":"INSERT!B87","v":0},{"$f":"INSERT!C87","v":0},{"$f":"INSERT!D87","v":0},{"$f":"INSERT!E87","v":0},{"$f":"'PAT Civil Detailed'!N98","v":0},{"$f":"'PAT Civil Detailed'!T98","v":0},{"$f":"'PAT Civil Detailed'!AC98","v":0},{"$f":"'PAT Civil Detailed'!AL98","v":0},{"$f":"'PAT Civil Detailed'!AR98","v":0},0,{"$f":"'PAT Civil Detailed'!AV98","v":0},{"$f":"'PAT Civil Detailed'!BF98","v":0},{"$f":"'PAT Civil Detailed'!BO98","v":0},{"$f":"'PAT Civil Detailed'!BX98","v":0},{"$f":"'PAT Civil Detailed'!CB98","v":0},0,{"$f":"'PAT Civil Detailed'!CM98","v":0},{"$f":"'PAT Civil Detailed'!CN98","v":0},{"$f":"'PAT Civil Detailed'!CO98","v":0},{"$f":"'PAT Civil Detailed'!CP98","v":0},{"$f":"'PAT Civil Detailed'!CQ98","v":0},{"$f":"'PAT Civil Detailed'!CR98","v":0},0,0,{"$f":"'PAT Civil Detailed'!CE98","v":0},{"$f":"'PAT Civil Detailed'!CL98","v":0},0,0,0,"",null,null,6]
[null,2,86,86,{"$f":"INSERT!A88","v":0},{"$f":"INSERT!B88","v":0},{"$f":"INSERT!C88","v":0},{"$f":"INSERT!D88","v":0},{"$f":"INSERT!E88","v":0},{"$f":"'PAT Civil Detailed'!N99","v":0},{"$f":"'PAT Civil Detailed'!T99","v":0},{"$f":"'PAT Civil Detailed'!AC99","v":0},{"$f":"'PAT Civil Detailed'!AL99","v":0},{"$f":"'PAT Civil Detailed'!AR99","v":0},0,{"$f":"'PAT Civil Detailed'!AV99","v":0},{"$f":"'PAT Civil Detailed'!BF99","v":0},{"$f":"'PAT Civil Detailed'!BO99","v":0},{"$f":"'PAT Civil Detailed'!BX99","v":0},{"$f":"'PAT Civil Detailed'!CB99","v":0},0,{"$f":"'PAT Civil Detailed'!CM99","v":0},{"$f":"'PAT Civil Detailed'!CN99","v":0},{"$f":"'PAT Civil Detailed'!CO99","v":0},{"$f":"'PAT Civil Detailed'!CP99","v":0},{"$f":"'PAT Civil Detailed'!CQ99","v":0},{"$f":"'PAT Civil Detailed'!CR99","v":0},0,0,{"$f":"'PAT Civil Detailed'!CE99","v":0},{"$f":"'PAT Civil Detailed'!CL99","v":0},0,0,0,"",null,null,6]
[null,2,87,87,{"$f":"INSERT!A89","v":0},{"$f":"INSERT!B89","v":0},{"$f":"INSERT!C89","v":0},{"$f":"INSERT!D89","v":0},{"$f":"INSERT!E89","v":0},{"$f":"'PAT Civil Detailed'!N100","v":0},{"$f":"'PAT Civil Detailed'!T100","v":0},{"$f":"'PAT Civil Detailed'!AC100","v":0},{"$f":"'PAT Civil Detailed'!AL100","v":0},{"$f":"'PAT Civil Detailed'!AR100","v":0},0,{"$f":"'PAT Civil Detailed'!AV100","v":0},{"$f":"'PAT Civil Detailed'!BF100","v":0},{"$f":"'PAT Civil Detailed'!BO100","v":0},{"$f":"'PAT Civil Detailed'!BX100","v":0},{"$f":"'PAT Civil Detailed'!CB100","v":0},0,{"$f":"'PAT Civil Detailed'!CM100","v":0},{"$f":"'PAT Civil Detailed'!CN100","v":0},{"$f":"'PAT Civil Detailed'!CO100","v":0},{"$f":"'PAT Civil Detailed'!CP100","v":0},{"$f":"'PAT Civil Detailed'!CQ100","v":0},{"$f":"'PAT Civil Detailed'!CR100","v":0},0,0,{"$f":"'PAT Civil Detailed'!CE100","v":0},{"$f":"'PAT Civil Detailed'!CL100","v":0},0,0,0,"",null,null,6]
[null,2,88,88,{"$f":"INSERT!A90","v":0},{"$f":"INSERT!B90","v":0},{"$f":"INSERT!C90","v":0},{"$f":"INSERT!D90","v":0},{"$f":"INSERT!E90","v":0},{"$f":"'PAT Civil Detailed'!N101","v":0},{"$f":"'PAT Civil Detailed'!T101","v":0},{"$f":"'PAT Civil Detailed'!AC101","v":0},{"$f":"'PAT Civil Detailed'!AL101","v":0},{"$f":"'PAT Civil Detailed'!AR101","v":0},0,{"$f":"'PAT Civil Detailed'!AV101","v":0},{"$f":"'PAT Civil Detailed'!BF101","v":0},{"$f":"'PAT Civil Detailed'!BO101","v":0},{"$f":"'PAT Civil Detailed'!BX101","v":0},{"$f":"'PAT Civil Detailed'!CB101","v":0},0,{"$f":"'PAT Civil Detailed'!CM101","v":0},{"$f":"'PAT Civil Detailed'!CN101","v":0},{"$f":"'PAT Civil Detailed'!CO101","v":0},{"$f":"'PAT Civil Detailed'!CP101","v":0},{"$f":"'PAT Civil Detailed'!CQ101","v":0},{"$f":"'PAT Civil Detailed'!CR101","v":0},0,0,{"$f":"'PAT Civil Detailed'!CE101","v":0},{"$f":"'PAT Civil Detailed'!CL101","v":0},0,0,0,"",null,null,6]
[null,2,89,89,{"$f":"INSERT!A91","v":0},{"$f":"INSERT!B91","v":0},{"$f":"INSERT!C91","v":0},{"$f":"INSERT!D91","v":0},{"$f":"INSERT!E91","v":0},{"$f":"'PAT Civil Detailed'!N102","v":0},{"$f":"'PAT Civil Detailed'!T102","v":0},{"$f":"'PAT Civil Detailed'!AC102","v":0},{"$f":"'PAT Civil Detailed'!AL102","v":0},{"$f":"'PAT Civil Detailed'!AR102","v":0},0,{"$f":"'PAT Civil Detailed'!AV102","v":0},{"$f":"'PAT Civil Detailed'!BF102","v":0},{"$f":"'PAT Civil Detailed'!BO102","v":0},{"$f":"'PAT Civil Detailed'!BX102","v":0},{"$f":"'PAT Civil Detailed'!CB102","v":0},0,{"$f":"'PAT Civil Detailed'!CM102","v":0},{"$f":"'PAT Civil Detailed'!CN102","v":0},{"$f":"'PAT Civil Detailed'!CO102","v":0},{"$f":"'PAT Civil Detailed'!CP102","v":0},{"$f":"'PAT Civil Detailed'!CQ102","v":0},{"$f":"'PAT Civil Detailed'!CR102","v":0},0,0,{"$f":"'PAT Civil Detailed'!CE102","v":0},{"$f":"'PAT Civil Detailed'!CL102","v":0},0,0,0,"",null,null,6]
[null,2,90,90,{"$f":"INSERT!A92","v":0},{"$f":"INSERT!B92","v":0},{"$f":"INSERT!C92","v":0},{"$f":"INSERT!D92","v":0},{"$f":"INSERT!E92","v":0},{"$f":"'PAT Civil Detailed'!N103","v":0},{"$f":"'PAT Civil Detailed'!T103","v":0},{"$f":"'PAT Civil Detailed'!AC103","v":0},{"$f":"'PAT Civil Detailed'!AL103","v":0},{"$f":"'PAT Civil Detailed'!AR103","v":0},0,{"$f":"'PAT Civil Detailed'!AV103","v":0},{"$f":"'PAT Civil Detailed'!BF103","v":0},{"$f":"'PAT Civil Detailed'!BO103","v":0},{"$f":"'PAT Civil Detailed'!BX103","v":0},{"$f":"'PAT Civil Detailed'!CB103","v":0},0,{"$f":"'PAT Civil Detailed'!CM103","v":0},{"$f":"'PAT Civil Detailed'!CN103","v":0},{"$f":"'PAT Civil Detailed'!CO103","v":0},{"$f":"'PAT Civil Detailed'!CP103","v":0},{"$f":"'PAT Civil Detailed'!CQ103","v":0},{"$f":"'PAT Civil Detailed'!CR103","v":0},0,0,{"$f":"'PAT Civil Detailed'!CE103","v":0},{"$f":"'PAT Civil Detailed'!CL103","v":0},0,0,0,"",null,null,6]
[null,2,91,91,{"$f":"INSERT!A93","v":0},{"$f":"INSERT!B93","v":0},{"$f":"INSERT!C93","v":0},{"$f":"INSERT!D93","v":0},{"$f":"INSERT!E93","v":0},{"$f":"'PAT Civil Detailed'!N104","v":0},{"$f":"'PAT Civil Detailed'!T104","v":0},{"$f":"'PAT Civil Detailed'!AC104","v":0},{"$f":"'PAT Civil Detailed'!AL104","v":0},{"$f":"'PAT Civil Detailed'!AR104","v":0},0,{"$f":"'PAT Civil Detailed'!AV104","v":0},{"$f":"'PAT Civil Detailed'!BF104","v":0},{"$f":"'PAT Civil Detailed'!BO104","v":0},{"$f":"'PAT Civil Detailed'!BX104","v":0},{"$f":"'PAT Civil Detailed'!CB104","v":0},0,{"$f":"'PAT Civil Detailed'!CM104","v":0},{"$f":"'PAT Civil Detailed'!CN104","v":0},{"$f":"'PAT Civil Detailed'!CO104","v":0},{"$f":"'PAT Civil Detailed'!CP104","v":0},{"$f":"'PAT Civil Detailed'!CQ104","v":0},{"$f":"'PAT Civil Detailed'!CR104","v":0},0,0,{"$f":"'PAT Civil Detailed'!CE104","v":0},{"$f":"'PAT Civil Detailed'!CL104","v":0},0,0,0,"",null,null,6]
[null,2,92,92,{"$f":"INSERT!A94","v":0},{"$f":"INSERT!B94","v":0},{"$f":"INSERT!C94","v":0},{"$f":"INSERT!D94","v":0},{"$f":"INSERT!E94","v":0},{"$f":"'PAT Civil Detailed'!N105","v":0},{"$f":"'PAT Civil Detailed'!T105","v":0},{"$f":"'PAT Civil Detailed'!AC105","v":0},{"$f":"'PAT Civil Detailed'!AL105","v":0},{"$f":"'PAT Civil Detailed'!AR105","v":0},0,{"$f":"'PAT Civil Detailed'!AV105","v":0},{"$f":"'PAT Civil Detailed'!BF105","v":0},{"$f":"'PAT Civil Detailed'!BO105","v":0},{"$f":"'PAT Civil Detailed'!BX105","v":0},{"$f":"'PAT Civil Detailed'!CB105","v":0},0,{"$f":"'PAT Civil Detailed'!CM105","v":0},{"$f":"'PAT Civil Detailed'!CN105","v":0},{"$f":"'PAT Civil Detailed'!CO105","v":0},{"$f":"'PAT Civil Detailed'!CP105","v":0},{"$f":"'PAT Civil Detailed'!CQ105","v":0},{"$f":"'PAT Civil Detailed'!CR105","v":0},0,0,{"$f":"'PAT Civil Detailed'!CE105","v":0},{"$f":"'PAT Civil Detailed'!CL105","v":0},0,0,0,"",null,null,6]
[null,2,93,93,{"$f":"INSERT!A95","v":0},{"$f":"INSERT!B95","v":0},{"$f":"INSERT!C95","v":0},{"$f":"INSERT!D95","v":0},{"$f":"INSERT!E95","v":0},{"$f":"'PAT Civil Detailed'!N106","v":0},{"$f":"'PAT Civil Detailed'!T106","v":0},{"$f":"'PAT Civil Detailed'!AC106","v":0},{"$f":"'PAT Civil Detailed'!AL106","v":0},{"$f":"'PAT Civil Detailed'!AR106","v":0},0,{"$f":"'PAT Civil Detailed'!AV106","v":0},{"$f":"'PAT Civil Detailed'!BF106","v":0},{"$f":"'PAT Civil Detailed'!BO106","v":0},{"$f":"'PAT Civil Detailed'!BX106","v":0},{"$f":"'PAT Civil Detailed'!CB106","v":0},0,{"$f":"'PAT Civil Detailed'!CM106","v":0},{"$f":"'PAT Civil Detailed'!CN106","v":0},{"$f":"'PAT Civil Detailed'!CO106","v":0},{"$f":"'PAT Civil Detailed'!CP106","v":0},{"$f":"'PAT Civil Detailed'!CQ106","v":0},{"$f":"'PAT Civil Detailed'!CR106","v":0},0,0,{"$f":"'PAT Civil Detailed'!CE106","v":0},{"$f":"'PAT Civil Detailed'!CL106","v":0},0,0,0,"",null,null,6]
[null,2,94,94,{"$f":"INSERT!A96","v":0},{"$f":"INSERT!B96","v":0},{"$f":"INSERT!C96","v":0},{"$f":"INSERT!D96","v":0},{"$f":"INSERT!E96","v":0},{"$f":"'PAT Civil Detailed'!N107","v":0},{"$f":"'PAT Civil Detailed'!T107","v":0},{"$f":"'PAT Civil Detailed'!AC107","v":0},{"$f":"'PAT Civil Detailed'!AL107","v":0},{"$f":"'PAT Civil Detailed'!AR107","v":0},0,{"$f":"'PAT Civil Detailed'!AV107","v":0},{"$f":"'PAT Civil Detailed'!BF107","v":0},{"$f":"'PAT Civil Detailed'!BO107","v":0},{"$f":"'PAT Civil Detailed'!BX107","v":0},{"$f":"'PAT Civil Detailed'!CB107","v":0},0,{"$f":"'PAT Civil Detailed'!CM107","v":0},{"$f":"'PAT Civil Detailed'!CN107","v":0},{"$f":"'PAT Civil Detailed'!CO107","v":0},{"$f":"'PAT Civil Detailed'!CP107","v":0},{"$f":"'PAT Civil Detailed'!CQ107","v":0},{"$f":"'PAT Civil Detailed'!CR107","v":0},0,0,{"$f":"'PAT Civil Detailed'!CE107","v":0},{"$f":"'PAT Civil Detailed'!CL107","v":0},0,0,0,"",null,null,6]
[null,2,95,95,{"$f":"INSERT!A97","v":0},{"$f":"INSERT!B97","v":0},{"$f":"INSERT!C97","v":0},{"$f":"INSERT!D97","v":0},{"$f":"INSERT!E97","v":0},{"$f":"'PAT Civil Detailed'!N108","v":0},{"$f":"'PAT Civil Detailed'!T108","v":0},{"$f":"'PAT Civil Detailed'!AC108","v":0},{"$f":"'PAT Civil Detailed'!AL108","v":0},{"$f":"'PAT Civil Detailed'!AR108","v":0},0,{"$f":"'PAT Civil Detailed'!AV108","v":0},{"$f":"'PAT Civil Detailed'!BF108","v":0},{"$f":"'PAT Civil Detailed'!BO108","v":0},{"$f":"'PAT Civil Detailed'!BX108","v":0},{"$f":"'PAT Civil Detailed'!CB108","v":0},0,{"$f":"'PAT Civil Detailed'!CM108","v":0},{"$f":"'PAT Civil Detailed'!CN108","v":0},{"$f":"'PAT Civil Detailed'!CO108","v":0},{"$f":"'PAT Civil Detailed'!CP108","v":0},{"$f":"'PAT Civil Detailed'!CQ108","v":0},{"$f":"'PAT Civil Detailed'!CR108","v":0},0,0,{"$f":"'PAT Civil Detailed'!CE108","v":0},{"$f":"'PAT Civil Detailed'!CL108","v":0},0,0,0,"",null,null,6]
[null,2,96,96,{"$f":"INSERT!A98","v":0},{"$f":"INSERT!B98","v":0},{"$f":"INSERT!C98","v":0},{"$f":"INSERT!D98","v":0},{"$f":"INSERT!E98","v":0},{"$f":"'PAT Civil Detailed'!N109","v":0},{"$f":"'PAT Civil Detailed'!T109","v":0},{"$f":"'PAT Civil Detailed'!AC109","v":0},{"$f":"'PAT Civil Detailed'!AL109","v":0},{"$f":"'PAT Civil Detailed'!AR109","v":0},0,{"$f":"'PAT Civil Detailed'!AV109","v":0},{"$f":"'PAT Civil Detailed'!BF109","v":0},{"$f":"'PAT Civil Detailed'!BO109","v":0},{"$f":"'PAT Civil Detailed'!BX109","v":0},{"$f":"'PAT Civil Detailed'!CB109","v":0},0,{"$f":"'PAT Civil Detailed'!CM109","v":0},{"$f":"'PAT Civil Detailed'!CN109","v":0},{"$f":"'PAT Civil Detailed'!CO109","v":0},{"$f":"'PAT Civil Detailed'!CP109","v":0},{"$f":"'PAT Civil Detailed'!CQ109","v":0},{"$f":"'PAT Civil Detailed'!CR109","v":0},0,0,{"$f":"'PAT Civil Detailed'!CE109","v":0},{"$f":"'PAT Civil Detailed'!CL109","v":0},0,0,0,"",null,null,6]
[null,2,97,97,{"$f":"INSERT!A99","v":0},{"$f":"INSERT!B99","v":0},{"$f":"INSERT!C99","v":0},{"$f":"INSERT!D99","v":0},{"$f":"INSERT!E99","v":0},{"$f":"'PAT Civil Detailed'!N110","v":0},{"$f":"'PAT Civil Detailed'!T110","v":0},{"$f":"'PAT Civil Detailed'!AC110","v":0},{"$f":"'PAT Civil Detailed'!AL110","v":0},{"$f":"'PAT Civil Detailed'!AR110","v":0},0,{"$f":"'PAT Civil Detailed'!AV110","v":0},{"$f":"'PAT Civil Detailed'!BF110","v":0},{"$f":"'PAT Civil Detailed'!BO110","v":0},{"$f":"'PAT Civil Detailed'!BX110","v":0},{"$f":"'PAT Civil Detailed'!CB110","v":0},0,{"$f":"'PAT Civil Detailed'!CM110","v":0},{"$f":"'PAT Civil Detailed'!CN110","v":0},{"$f":"'PAT Civil Detailed'!CO110","v":0},{"$f":"'PAT Civil Detailed'!CP110","v":0},{"$f":"'PAT Civil Detailed'!CQ110","v":0},{"$f":"'PAT Civil Detailed'!CR110","v":0},0,0,{"$f":"'PAT Civil Detailed'!CE110","v":0},{"$f":"'PAT Civil Detailed'!CL110","v":0},0,0,0,"",null,null,6]
[null,2,98,98,{"$f":"INSERT!A100","v":0},{"$f":"INSERT!B100","v":0},{"$f":"INSERT!C100","v":0},{"$f":"INSERT!D100","v":0},{"$f":"INSERT!E100","v":0},{"$f":"'PAT Civil Detailed'!N111","v":0},{"$f":"'PAT Civil Detailed'!T111","v":0},{"$f":"'PAT Civil Detailed'!AC111","v":0},{"$f":"'PAT Civil Detailed'!AL111","v":0},{"$f":"'PAT Civil Detailed'!AR111","v":0},0,{"$f":"'PAT Civil Detailed'!AV111","v":0},{"$f":"'PAT Civil Detailed'!BF111","v":0},{"$f":"'PAT Civil Detailed'!BO111","v":0},{"$f":"'PAT Civil Detailed'!BX111","v":0},{"$f":"'PAT Civil Detailed'!CB111","v":0},0,{"$f":"'PAT Civil Detailed'!CM111","v":0},{"$f":"'PAT Civil Detailed'!CN111","v":0},{"$f":"'PAT Civil Detailed'!CO111","v":0},{"$f":"'PAT Civil Detailed'!CP111","v":0},{"$f":"'PAT Civil Detailed'!CQ111","v":0},{"$f":"'PAT Civil Detailed'!CR111","v":0},0,0,{"$f":"'PAT Civil Detailed'!CE111","v":0},{"$f":"'PAT Civil Detailed'!CL111","v":0},0,0,0,"",null,null,6]
[null,2,99,99,{"$f":"INSERT!A101","v":0},{"$f":"INSERT!B101","v":0},{"$f":"INSERT!C101","v":0},{"$f":"INSERT!D101","v":0},{"$f":"INSERT!E101","v":0},{"$f":"'PAT Civil Detailed'!N112","v":0},{"$f":"'PAT Civil Detailed'!T112","v":0},{"$f":"'PAT Civil Detailed'!AC112","v":0},{"$f":"'PAT Civil Detailed'!AL112","v":0},{"$f":"'PAT Civil Detailed'!AR112","v":0},0,{"$f":"'PAT Civil Detailed'!AV112","v":0},{"$f":"'PAT Civil Detailed'!BF112","v":0},{"$f":"'PAT Civil Detailed'!BO112","v":0},{"$f":"'PAT Civil Detailed'!BX112","v":0},{"$f":"'PAT Civil Detailed'!CB112","v":0},0,{"$f":"'PAT Civil Detailed'!CM112","v":0},{"$f":"'PAT Civil Detailed'!CN112","v":0},{"$f":"'PAT Civil Detailed'!CO112","v":0},{"$f":"'PAT Civil Detailed'!CP112","v":0},{"$f":"'PAT Civil Detailed'!CQ112","v":0},{"$f":"'PAT Civil Detailed'!CR112","v":0},0,0,{"$f":"'PAT Civil Detailed'!CE112","v":0},{"$f":"'PAT Civil Detailed'!CL112","v":0},0,0,0,"",null,null,6]
[null,2,100,100,{"$f":"INSERT!A102","v":0},{"$f":"INSERT!B102","v":0},{"$f":"INSERT!C102","v":0},{"$f":"INSERT!D102","v":0},{"$f":"INSERT!E102","v":0},{"$f":"'PAT Civil Detailed'!N113","v":0},{"$f":"'PAT Civil Detailed'!T113","v":0},{"$f":"'PAT Civil Detailed'!AC113","v":0},{"$f":"'PAT Civil Detailed'!AL113","v":0},{"$f":"'PAT Civil Detailed'!AR113","v":0},0,{"$f":"'PAT Civil Detailed'!AV113","v":0},{"$f":"'PAT Civil Detailed'!BF113","v":0},{"$f":"'PAT Civil Detailed'!BO113","v":0},{"$f":"'PAT Civil Detailed'!BX113","v":0},{"$f":"'PAT Civil Detailed'!CB113","v":0},0,{"$f":"'PAT Civil Detailed'!CM113","v":0},{"$f":"'PAT Civil Detailed'!CN113","v":0},{"$f":"'PAT Civil Detailed'!CO113","v":0},{"$f":"'PAT Civil Detailed'!CP113","v":0},{"$f":"'PAT Civil Detailed'!CQ113","v":0},{"$f":"'PAT Civil Detailed'!CR113","v":0},0,0,{"$f":"'PAT Civil Detailed'!CE113","v":0},{"$f":"'PAT Civil Detailed'!CL113","v":0},0,0,0,"",null,null,6]
[null,null,"Total amount of learners on mark sheet",null,null,null,"Total",null,null,{"$f":"SUM(J18:J117)","v":0},0,0,0,0,0,0,0,0,0,0,0,0,0,0,0,0,0,0,0,0,0,0,0,0,0]
[null,null,null,null,null,null,"Average",null,null,{"$f":"IFERROR(ROUND(SUM(J118/$C$122),1),\"0\")","v":"0"},{"$f":"IFERROR(ROUND(SUM(K118/$C$122),1),\"0\")","v":"0"},"0","0","0",0,"0","0","0","0","0",0,"0","0","0","0","0","0",0,"0","0","0","0","0","0","0"]
[null,null,null,null,null,null,"Term results analysis",null,null,"PAT LEVELS"]
[null,null,null,null,null,null,null,null,null,"LEVEL 1",null,"LEVEL 2",null,"LEVEL 3",null,"LEVEL 4",null,"LEVEL 5",null,"LEVEL 6",null,"LEVEL 7",null,"TOTAL"]
[null,null,{"$f":"INSERT!$E$103","v":0},null,null,null,null,null,null," 0 - 29 ",null," 30 - 39 ",null," 40 - 49 ",null," 50 - 59 ",null," 60 - 69 ",null," 70 - 79 ",null,"80 - 100"]
[null,null,null,null,null,null,"x","x",null,{"$f":"COUNTIF($AI$18:$AI$117,1)","v":0},null,{"$f":"COUNTIF($AI$18:$AI$117,2)","v":0},null,{"$f":"COUNTIF($AI$18:$AI$117,3)","v":0},null,{"$f":"COUNTIF($AI$18:$AI$117,4)","v":0},null,{"$f":"COUNTIF($AI$18:$AI$117,5)","v":0},null,{"$f":"COUNTIF($AI$18:$AI$117,6)","v":0},null,{"$f":"COUNTIF($AI$18:$AI$117,7)","v":0},null,{"$f":"SUM(J123:W123)","v":0}]

{"sheet":"FIN SBA MARK SHEET","index":14,"n_rows":134,"n_cols":39,"rows_kept":134,"cut":false,"hidden":false,"merged":[[6,6,6,7],[7,2,7,5],[7,6,7,7],[12,6,12,7],[5,2,5,5],[5,13,15,13],[5,17,15,17],[5,23,15,23],[122,2,122,5],[118,2,121,5],[118,6,118,7],[119,6,119,7],[2,8,15,8],[5,9,15,9],[6,2,6,5],[5,34,15,34],[5,35,15,35],[5,36,15,36],[4,30,4,31],[5,18,15,18],[5,19,15,19],[5,20,15,20],[4,26,15,26],[4,34,4,36],[5,21,15,21],[5,22,15,22],[5,31,15,31],[5,32,15,32],[5,33,15,33],[4,32,4,33],[5,30,15,30],[5,25,15,25],[2,38,15,38],[118,32,118,33],[118,37,118,38],[1,2,1,38],[2,37,15,37],[4,27,4,28],[5,27,15,27],[118,30,118,31],[5,28,15,28],[5,24,15,24],[2,9,3,36],[5,16,15,16],[4,9,4,12],[4,14,4,16],[5,15,15,15],[5,14,15,14],[5,12,15,12],[5,11,15,11],[5,10,15,10],[5,6,5,7],[4,24,4,25],[4,2,4,5],[4,6,4,7],[4,18,4,23],[132,9,132,10],[132,11,132,12],[133,9,133,10],[133,11,133,12],[128,9,128,10],[128,11,128,12],[130,9,130,22],[132,13,132,14],[133,13,133,14],[132,15,132,16],[133,15,133,16],[132,17,132,18],[133,17,133,18],[131,21,131,22],[132,21,132,22],[133,21,133,22],[131,19,131,20],[132,19,132,20],[133,19,133,20],[128,21,128,22],[128,19,128,20],[131,13,131,14],[131,15,131,16],[131,17,131,18],[126,11,126,12],[126,19,126,20],[120,9,120,22],[121,13,121,14],[122,13,122,14],[123,13,123,14],[121,15,121,16],[122,15,122,16],[123,15,123,16],[121,17,121,18],[122,17,122,18],[123,17,123,18],[121,21,121,22],[122,21,122,22],[123,21,123,22],[121,11,121,12],[122,11,122,12],[123,11,123,12],[131,9,131,10],[131,11,131,12],[125,9,125,22],[126,13,126,14],[121,9,121,10],[122,9,122,10],[123,9,123,10],[121,19,121,20],[122,19,122,20],[123,19,123,20],[127,13,127,14],[128,13,128,14],[126,15,126,16],[127,15,127,16],[128,15,128,16],[126,17,126,18],[127,17,127,18],[128,17,128,18],[126,21,126,22],[127,9,127,10],[127,11,127,12],[127,19,127,20],[127,21,127,22],[126,9,126,10]]}
[]
[null,null,"ENGINEERING GRAPHICS AND DESIGN"]
[null,null,null,null,null,null,null,null,null,"PROGRAM OF ASSESSMENT  :  FINAL MARK SHEET",null,null,null,null,null,null,null,null,null,null,null,null,null,null,null,null,null,null,null,null,null,null,null,null,null,null,null,"FINAL PROMOTION MARK","FINAL PROMOTION LEVELS"]
[]
[null,null,{"$f":"TERM1!E5","v":"School:"},null,null,null,{"$f":"INSERT!J3","v":0},null,null,"TERM 1",null,null,null,null,"TERM 2",null,null,null,"TERM 3",null,null,null,null,null,"TERM 4",null,"CD Term Weighting","Term Exam",null,null,"SBA",null,"PAT",null,"NOV EXAM"]
[null,null,{"$f":"TERM1!E6","v":"Grade:"},null,null,null,{"$f":"INSERT!J4","v":0},null,null,{"$f":"'SASAMS TERM1'!H2","v":"CD1 Mechanical analytical"},{"$f":"'SASAMS TERM1'!I2","v":"CD2 1st Mechanical assembly"},{"$f":"'SASAMS TERM1'!J2","v":"CD3 2nd Mechanical Assembly"},{"$f":"'SASAMS TERM1'!K2","v":"CD4 Isometric drawing"},"CD Term 1 Weighting",{"$f":"'SASAMS TERM2'!H2","v":"CD5 2-point perspective"},{"$f":"'SASAMS TERM2'!I2","v":"CD6  Floor Plan & Elevations"},{"$f":"'SASAMS TERM2'!J2","v":"CD7  Sectional Elevation"},"CD Term 2 Weighting",{"$f":"'SASAMS TERM3'!H2","v":"CD8 1st Solid Geometry\ntwo adjacent Solids sectioned"},{"$f":"'SASAMS TERM3'!I2","v":"CD9  2nd Solid Geometry\nSectioned Solid with a hole"},{"$f":"'SASAMS TERM3'!J2","v":"CD10 1st Interpenetration & Development\n(Two prisms)"},{"$f":"'SASAMS TERM3'!K2","v":"CD11 2nd Interpenetration & Development\n(Including a cylinder(s))"},{"$f":"'SASAMS TERM3'!L2","v":"CD12  3rd Mechanical Assembly"},"CD Term 3 Weighting",{"$f":"'SASAMS TERM4'!$H$2","v":"CD13 Loci: Cam"},"CD Term 4 Weighting",null,"June Exam","Term Exam Weighting",null,"SBA Final Mark","SBA Levels","PAT Final Mark","PAT Levels","Nov Exam Paper 1","Nov Exam Paper 2","Nov Exam Total"]
[null,null,{"$f":"TERM1!E7","v":"Teacher:"},null,null,null,{"$f":"INSERT!J5","v":0}]
[null,null,{"$f":"TERM1!E8","v":"HOD:"},null,null,null,{"$f":"INSERT!J6","v":0}]
[null,null,null,null,null,"EGD SES:",{"$f":"INSERT!J7","v":0},{"$f":"INSERT!K7","v":0}]
[]
[]
[]
[]
[]
[]
[]
[null,null,"Nr.",null,"Class","Admission","Surname","Name","GENDER",10,10,10,10,13,10,10,10,9,10,10,10,10,10,15,10,3,{"$f":"SUM(N17+R17+X17+Z17)","v":40},150,{"$f":"SUM(AB17/2.5)","v":60},null," / 100"," / 7",100," / 7",100,100,200,100," / 7"]
[]
[null,{"$f":"SUM(COUNTA(G19)+COUNT(C19))","v":2},1,1,{"$f":"INSERT!A3","v":0},{"$f":"INSERT!B3","v":0},{"$f":"INSERT!C3","v":0},{"$f":"INSERT!D3","v":0},{"$f":"INSERT!E3","v":0},{"$f":"TERM1!Z16","v":"0"},{"$f":"TERM1!AR16","v":"0"},{"$f":"TERM1!BJ16","v":"0"},{"$f":"TERM1!CB16","v":"0"},{"$f":"ROUND((SUM(J19:M19)/3.076923076),0)","v":0},{"$f":"TERM2!Z16","v":0},{"$f":"TERM2!AR16","v":0},{"$f":"TERM2!BJ16","v":0},{"$f":"ROUND((SUM(O19:Q19)/3.333333333),0)","v":0},{"$f":"TERM3!Z16","v":0},{"$f":"TERM3!AR16","v":0},{"$f":"TERM3!BJ16","v":0},{"$f":"TERM3!CB16","v":0},{"$f":"TERM3!CT16","v":0},{"$f":"ROUND((SUM(S19:W19)/3.3333333333),0)","v":0},{"$f":"TERM4!Z16","v":0},{"$f":"ROUND(SUM(Y19/3.3333333333),0)","v":0},{"$f":"SUM(N19+R19+X19+Z19)","v":0},{"$f":"TERM2!BO16","v":0},{"$f":"SUM(AB19/2.5)","v":0},null,{"$f":"SUM(AA19+AC19)","v":0},{"$f":"IF(AE19>79,\"7\",IF(AE19>69,\"6\",IF(AE19>59,\"5\",IF(AE19>49,\"4\",IF(AE19>39,\"3\",IF(AE19>29,\"2\",IF(AE19>0,\"1\",IF(AE19=0,\"\"))))))))","v":""},{"$f":"'FIN PAT MARK SHEET'!AH18","v":0},{"$f":"IF(AG19>79,\"7\",IF(AG19>69,\"6\",IF(AG19>59,\"5\",IF(AG19>49,\"4\",IF(AG19>39,\"3\",IF(AG19>29,\"2\",IF(AG19>0,\"1\",IF(AG19=0,\"\"))))))))","v":""},{"$f":"TERM4!AA16","v":0},{"$f":"TERM4!AC16","v":0},{"$f":"SUM(AI19:AJ19)","v":0},{"$f":"SUM(AE19/2.5)+SUM(AG19/5)+SUM(AK19/5)","v":0},{"$f":"IF(AL19>79,\"7\",IF(AL19>69,\"6\",IF(AL19>59,\"5\",IF(AL19>49,\"4\",IF(AL19>39,\"3\",IF(AL19>29,\"2\",IF(AL19>0,\"1\",IF(AL19=0,\"\"))))))))","v":""}]
[null,{"$f":"SUM(COUNTA(G20)+COUNT(C20))","v":2},{"$f":"C19+1","v":2},2,{"$f":"INSERT!A4","v":0},{"$f":"INSERT!B4","v":0},{"$f":"INSERT!C4","v":0},{"$f":"INSERT!D4","v":0},{"$f":"INSERT!E4","v":0},{"$f":"TERM1!Z17","v":"0"},{"$f":"TERM1!AR17","v":"0"},{"$f":"TERM1!BJ17","v":"0"},{"$f":"TERM1!CB17","v":"0"},{"$f":"ROUND((SUM(J20:M20)/3.076923076),0)","v":0},{"$f":"TERM2!Z17","v":0},{"$f":"TERM2!AR17","v":0},{"$f":"TERM2!BJ17","v":0},{"$f":"ROUND((SUM(O20:Q20)/3.333333333),0)","v":0},{"$f":"TERM3!Z17","v":0},{"$f":"TERM3!AR17","v":0},{"$f":"TERM3!BJ17","v":0},{"$f":"TERM3!CB17","v":0},{"$f":"TERM3!CT17","v":0},{"$f":"ROUND((SUM(S20:W20)/3.3333333333),0)","v":0},{"$f":"TERM4!Z17","v":0},{"$f":"ROUND(SUM(Y20/3.3333333333),0)","v":0},0,{"$f":"TERM2!BO17","v":0},{"$f":"SUM(AB20/2.5)","v":0},null,{"$f":"SUM(AA20+AC20)","v":0},{"$f":"IF(AE20>79,\"7\",IF(AE20>69,\"6\",IF(AE20>59,\"5\",IF(AE20>49,\"4\",IF(AE20>39,\"3\",IF(AE20>29,\"2\",IF(AE20>0,\"1\",IF(AE20=0,\"\"))))))))","v":""},{"$f":"'FIN PAT MARK SHEET'!AH19","v":0},"",{"$f":"TERM4!AA17","v":0},{"$f":"TERM4!AC17","v":0},{"$f":"SUM(AI20:AJ20)","v":0},{"$f":"SUM(AE20/2.5)+SUM(AG20/5)+SUM(AK20/5)","v":0},""]
[null,2,{"$f":"C20+1","v":3},3,{"$f":"INSERT!A5","v":0},{"$f":"INSERT!B5","v":0},{"$f":"INSERT!C5","v":0},{"$f":"INSERT!D5","v":0},{"$f":"INSERT!E5","v":0},{"$f":"TERM1!Z18","v":"0"},{"$f":"TERM1!AR18","v":"0"},{"$f":"TERM1!BJ18","v":"0"},{"$f":"TERM1!CB18","v":"0"},0,{"$f":"TERM2!Z18","v":0},{"$f":"TERM2!AR18","v":0},{"$f":"TERM2!BJ18","v":0},0,{"$f":"TERM3!Z18","v":0},{"$f":"TERM3!AR18","v":0},{"$f":"TERM3!BJ18","v":0},{"$f":"TERM3!CB18","v":0},{"$f":"TERM3!CT18","v":0},0,{"$f":"TERM4!Z18","v":0},0,0,{"$f":"TERM2!BO18","v":0},0,null,0,{"$f":"IF(AE21>79,\"7\",IF(AE21>69,\"6\",IF(AE21>59,\"5\",IF(AE21>49,\"4\",IF(AE21>39,\"3\",IF(AE21>29,\"2\",IF(AE21>0,\"1\",IF(AE21=0,\"\"))))))))","v":""},{"$f":"'FIN PAT MARK SHEET'!AH20","v":0},"",{"$f":"TERM4!AA18","v":0},{"$f":"TERM4!AC18","v":0},0,0,""]
[null,2,4,4,{"$f":"INSERT!A6","v":0},{"$f":"INSERT!B6","v":0},{"$f":"INSERT!C6","v":0},{"$f":"INSERT!D6","v":0},{"$f":"INSERT!E6","v":0},{"$f":"TERM1!Z19","v":"0"},{"$f":"TERM1!AR19","v":"0"},{"$f":"TERM1!BJ19","v":"0"},{"$f":"TERM1!CB19","v":"0"},0,{"$f":"TERM2!Z19","v":0},{"$f":"TERM2!AR19","v":0},{"$f":"TERM2!BJ19","v":0},0,{"$f":"TERM3!Z19","v":0},{"$f":"TERM3!AR19","v":0},{"$f":"TERM3!BJ19","v":0},{"$f":"TERM3!CB19","v":0},{"$f":"TERM3!CT19","v":0},0,{"$f":"TERM4!Z19","v":0},0,0,{"$f":"TERM2!BO19","v":0},0,null,0,"",{"$f":"'FIN PAT MARK SHEET'!AH21","v":0},"",{"$f":"TERM4!AA19","v":0},{"$f":"TERM4!AC19","v":0},0,0,""]
[null,2,5,5,{"$f":"INSERT!A7","v":0},{"$f":"INSERT!B7","v":0},{"$f":"INSERT!C7","v":0},{"$f":"INSERT!D7","v":0},{"$f":"INSERT!E7","v":0},{"$f":"TERM1!Z20","v":"0"},{"$f":"TERM1!AR20","v":"0"},{"$f":"TERM1!BJ20","v":"0"},{"$f":"TERM1!CB20","v":"0"},0,{"$f":"TERM2!Z20","v":0},{"$f":"TERM2!AR20","v":0},{"$f":"TERM2!BJ20","v":0},0,{"$f":"TERM3!Z20","v":0},{"$f":"TERM3!AR20","v":0},{"$f":"TERM3!BJ20","v":0},{"$f":"TERM3!CB20","v":0},{"$f":"TERM3!CT20","v":0},0,{"$f":"TERM4!Z20","v":0},0,0,{"$f":"TERM2!BO20","v":0},0,null,0,"",{"$f":"'FIN PAT MARK SHEET'!AH22","v":0},"",{"$f":"TERM4!AA20","v":0},{"$f":"TERM4!AC20","v":0},0,0,""]
[null,2,6,6,{"$f":"INSERT!A8","v":0},{"$f":"INSERT!B8","v":0},{"$f":"INSERT!C8","v":0},{"$f":"INSERT!D8","v":0},{"$f":"INSERT!E8","v":0},{"$f":"TERM1!Z21","v":"0"},{"$f":"TERM1!AR21","v":"0"},{"$f":"TERM1!BJ21","v":"0"},{"$f":"TERM1!CB21","v":"0"},0,{"$f":"TERM2!Z21","v":0},{"$f":"TERM2!AR21","v":0},{"$f":"TERM2!BJ21","v":0},0,{"$f":"TERM3!Z21","v":0},{"$f":"TERM3!AR21","v":0},{"$f":"TERM3!BJ21","v":0},{"$f":"TERM3!CB21","v":0},{"$f":"TERM3!CT21","v":0},0,{"$f":"TERM4!Z21","v":0},0,0,{"$f":"TERM2!BO21","v":0},0,null,0,"",{"$f":"'FIN PAT MARK SHEET'!AH23","v":0},"",{"$f":"TERM4!AA21","v":0},{"$f":"TERM4!AC21","v":0},0,0,""]
[null,2,7,7,{"$f":"INSERT!A9","v":0},{"$f":"INSERT!B9","v":0},{"$f":"INSERT!C9","v":0},{"$f":"INSERT!D9","v":0},{"$f":"INSERT!E9","v":0},{"$f":"TERM1!Z22","v":"0"},{"$f":"TERM1!AR22","v":"0"},{"$f":"TERM1!BJ22","v":"0"},{"$f":"TERM1!CB22","v":"0"},0,{"$f":"TERM2!Z22","v":0},{"$f":"TERM2!AR22","v":0},{"$f":"TERM2!BJ22","v":0},0,{"$f":"TERM3!Z22","v":0},{"$f":"TERM3!AR22","v":0},{"$f":"TERM3!BJ22","v":0},{"$f":"TERM3!CB22","v":0},{"$f":"TERM3!CT22","v":0},0,{"$f":"TERM4!Z22","v":0},0,0,{"$f":"TERM2!BO22","v":0},0,null,0,"",{"$f":"'FIN PAT MARK SHEET'!AH24","v":0},"",{"$f":"TERM4!AA22","v":0},{"$f":"TERM4!AC22","v":0},0,0,""]
[null,2,8,8,{"$f":"INSERT!A10","v":0},{"$f":"INSERT!B10","v":0},{"$f":"INSERT!C10","v":0},{"$f":"INSERT!D10","v":0},{"$f":"INSERT!E10","v":0},{"$f":"TERM1!Z23","v":"0"},{"$f":"TERM1!AR23","v":"0"},{"$f":"TERM1!BJ23","v":"0"},{"$f":"TERM1!CB23","v":"0"},0,{"$f":"TERM2!Z23","v":0},{"$f":"TERM2!AR23","v":0},{"$f":"TERM2!BJ23","v":0},0,{"$f":"TERM3!Z23","v":0},{"$f":"TERM3!AR23","v":0},{"$f":"TERM3!BJ23","v":0},{"$f":"TERM3!CB23","v":0},{"$f":"TERM3!CT23","v":0},0,{"$f":"TERM4!Z23","v":0},0,0,{"$f":"TERM2!BO23","v":0},0,null,0,"",{"$f":"'FIN PAT MARK SHEET'!AH25","v":0},"",{"$f":"TERM4!AA23","v":0},{"$f":"TERM4!AC23","v":0},0,0,""]
[null,2,9,9,{"$f":"INSERT!A11","v":0},{"$f":"INSERT!B11","v":0},{"$f":"INSERT!C11","v":0},{"$f":"INSERT!D11","v":0},{"$f":"INSERT!E11","v":0},{"$f":"TERM1!Z24","v":"0"},{"$f":"TERM1!AR24","v":"0"},{"$f":"TERM1!BJ24","v":"0"},{"$f":"TERM1!CB24","v":"0"},0,{"$f":"TERM2!Z24","v":0},{"$f":"TERM2!AR24","v":0},{"$f":"TERM2!BJ24","v":0},0,{"$f":"TERM3!Z24","v":0},{"$f":"TERM3!AR24","v":0},{"$f":"TERM3!BJ24","v":0},{"$f":"TERM3!CB24","v":0},{"$f":"TERM3!CT24","v":0},0,{"$f":"TERM4!Z24","v":0},0,0,{"$f":"TERM2!BO24","v":0},0,null,0,"",{"$f":"'FIN PAT MARK SHEET'!AH26","v":0},"",{"$f":"TERM4!AA24","v":0},{"$f":"TERM4!AC24","v":0},0,0,""]
[null,2,10,10,{"$f":"INSERT!A12","v":0},{"$f":"INSERT!B12","v":0},{"$f":"INSERT!C12","v":0},{"$f":"INSERT!D12","v":0},{"$f":"INSERT!E12","v":0},{"$f":"TERM1!Z25","v":"0"},{"$f":"TERM1!AR25","v":"0"},{"$f":"TERM1!BJ25","v":"0"},{"$f":"TERM1!CB25","v":"0"},0,{"$f":"TERM2!Z25","v":0},{"$f":"TERM2!AR25","v":0},{"$f":"TERM2!BJ25","v":0},0,{"$f":"TERM3!Z25","v":0},{"$f":"TERM3!AR25","v":0},{"$f":"TERM3!BJ25","v":0},{"$f":"TERM3!CB25","v":0},{"$f":"TERM3!CT25","v":0},0,{"$f":"TERM4!Z25","v":0},0,0,{"$f":"TERM2!BO25","v":0},0,null,0,"",{"$f":"'FIN PAT MARK SHEET'!AH27","v":0},"",{"$f":"TERM4!AA25","v":0},{"$f":"TERM4!AC25","v":0},0,0,""]
[null,2,11,11,{"$f":"INSERT!A13","v":0},{"$f":"INSERT!B13","v":0},{"$f":"INSERT!C13","v":0},{"$f":"INSERT!D13","v":0},{"$f":"INSERT!E13","v":0},{"$f":"TERM1!Z26","v":"0"},{"$f":"TERM1!AR26","v":"0"},{"$f":"TERM1!BJ26","v":"0"},{"$f":"TERM1!CB26","v":"0"},0,{"$f":"TERM2!Z26","v":0},{"$f":"TERM2!AR26","v":0},{"$f":"TERM2!BJ26","v":0},0,{"$f":"TERM3!Z26","v":0},{"$f":"TERM3!AR26","v":0},{"$f":"TERM3!BJ26","v":0},{"$f":"TERM3!CB26","v":0},{"$f":"TERM3!CT26","v":0},0,{"$f":"TERM4!Z26","v":0},0,0,{"$f":"TERM2!BO26","v":0},0,null,0,"",{"$f":"'FIN PAT MARK SHEET'!AH28","v":0},"",{"$f":"TERM4!AA26","v":0},{"$f":"TERM4!AC26","v":0},0,0,""]
[null,null,12,12,{"$f":"INSERT!A14","v":0},{"$f":"INSERT!B14","v":0},{"$f":"INSERT!C14","v":0},{"$f":"INSERT!D14","v":0},{"$f":"INSERT!E14","v":0},{"$f":"TERM1!Z27","v":"0"},{"$f":"TERM1!AR27","v":"0"},{"$f":"TERM1!BJ27","v":"0"},{"$f":"TERM1!CB27","v":"0"},0,{"$f":"TERM2!Z27","v":0},{"$f":"TERM2!AR27","v":0},{"$f":"TERM2!BJ27","v":0},0,{"$f":"TERM3!Z27","v":0},{"$f":"TERM3!AR27","v":0},{"$f":"TERM3!BJ27","v":0},{"$f":"TERM3!CB27","v":0},{"$f":"TERM3!CT27","v":0},0,{"$f":"TERM4!Z27","v":0},0,0,{"$f":"TERM2!BO27","v":0},0,null,0,"",{"$f":"'FIN PAT MARK SHEET'!AH29","v":0},"",{"$f":"TERM4!AA27","v":0},{"$f":"TERM4!AC27","v":0},0,0,""]
[null,null,13,13,{"$f":"INSERT!A15","v":0},{"$f":"INSERT!B15","v":0},{"$f":"INSERT!C15","v":0},{"$f":"INSERT!D15","v":0},{"$f":"INSERT!E15","v":0},{"$f":"TERM1!Z28","v":"0"},{"$f":"TERM1!AR28","v":"0"},{"$f":"TERM1!BJ28","v":"0"},{"$f":"TERM1!CB28","v":"0"},0,{"$f":"TERM2!Z28","v":0},{"$f":"TERM2!AR28","v":0},{"$f":"TERM2!BJ28","v":0},0,{"$f":"TERM3!Z28","v":0},{"$f":"TERM3!AR28","v":0},{"$f":"TERM3!BJ28","v":0},{"$f":"TERM3!CB28","v":0},{"$f":"TERM3!CT28","v":0},0,{"$f":"TERM4!Z28","v":0},0,0,{"$f":"TERM2!BO28","v":0},0,null,0,"",{"$f":"'FIN PAT MARK SHEET'!AH30","v":0},"",{"$f":"TERM4!AA28","v":0},{"$f":"TERM4!AC28","v":0},0,0,""]
[null,null,14,14,{"$f":"INSERT!A16","v":0},{"$f":"INSERT!B16","v":0},{"$f":"INSERT!C16","v":0},{"$f":"INSERT!D16","v":0},{"$f":"INSERT!E16","v":0},{"$f":"TERM1!Z29","v":"0"},{"$f":"TERM1!AR29","v":"0"},{"$f":"TERM1!BJ29","v":"0"},{"$f":"TERM1!CB29","v":"0"},0,{"$f":"TERM2!Z29","v":0},{"$f":"TERM2!AR29","v":0},{"$f":"TERM2!BJ29","v":0},0,{"$f":"TERM3!Z29","v":0},{"$f":"TERM3!AR29","v":0},{"$f":"TERM3!BJ29","v":0},{"$f":"TERM3!CB29","v":0},{"$f":"TERM3!CT29","v":0},0,{"$f":"TERM4!Z29","v":0},0,0,{"$f":"TERM2!BO29","v":0},0,null,0,"",{"$f":"'FIN PAT MARK SHEET'!AH31","v":0},"",{"$f":"TERM4!AA29","v":0},{"$f":"TERM4!AC29","v":0},0,0,""]
[null,null,15,15,{"$f":"INSERT!A17","v":0},{"$f":"INSERT!B17","v":0},{"$f":"INSERT!C17","v":0},{"$f":"INSERT!D17","v":0},{"$f":"INSERT!E17","v":0},{"$f":"TERM1!Z30","v":"0"},{"$f":"TERM1!AR30","v":"0"},{"$f":"TERM1!BJ30","v":"0"},{"$f":"TERM1!CB30","v":"0"},0,{"$f":"TERM2!Z30","v":0},{"$f":"TERM2!AR30","v":0},{"$f":"TERM2!BJ30","v":0},0,{"$f":"TERM3!Z30","v":0},{"$f":"TERM3!AR30","v":0},{"$f":"TERM3!BJ30","v":0},{"$f":"TERM3!CB30","v":0},{"$f":"TERM3!CT30","v":0},0,{"$f":"TERM4!Z30","v":0},0,0,{"$f":"TERM2!BO30","v":0},0,null,0,"",{"$f":"'FIN PAT MARK SHEET'!AH32","v":0},"",{"$f":"TERM4!AA30","v":0},{"$f":"TERM4!AC30","v":0},0,0,""]
[null,null,16,16,{"$f":"INSERT!A18","v":0},{"$f":"INSERT!B18","v":0},{"$f":"INSERT!C18","v":0},{"$f":"INSERT!D18","v":0},{"$f":"INSERT!E18","v":0},{"$f":"TERM1!Z31","v":"0"},{"$f":"TERM1!AR31","v":"0"},{"$f":"TERM1!BJ31","v":"0"},{"$f":"TERM1!CB31","v":"0"},0,{"$f":"TERM2!Z31","v":0},{"$f":"TERM2!AR31","v":0},{"$f":"TERM2!BJ31","v":0},0,{"$f":"TERM3!Z31","v":0},{"$f":"TERM3!AR31","v":0},{"$f":"TERM3!BJ31","v":0},{"$f":"TERM3!CB31","v":0},{"$f":"TERM3!CT31","v":0},0,{"$f":"TERM4!Z31","v":0},0,0,{"$f":"TERM2!BO31","v":0},0,null,0,"",{"$f":"'FIN PAT MARK SHEET'!AH33","v":0},"",{"$f":"TERM4!AA31","v":0},{"$f":"TERM4!AC31","v":0},0,0,""]
[null,null,17,17,{"$f":"INSERT!A19","v":0},{"$f":"INSERT!B19","v":0},{"$f":"INSERT!C19","v":0},{"$f":"INSERT!D19","v":0},{"$f":"INSERT!E19","v":0},{"$f":"TERM1!Z32","v":"0"},{"$f":"TERM1!AR32","v":"0"},{"$f":"TERM1!BJ32","v":"0"},{"$f":"TERM1!CB32","v":"0"},0,{"$f":"TERM2!Z32","v":0},{"$f":"TERM2!AR32","v":0},{"$f":"TERM2!BJ32","v":0},0,{"$f":"TERM3!Z32","v":0},{"$f":"TERM3!AR32","v":0},{"$f":"TERM3!BJ32","v":0},{"$f":"TERM3!CB32","v":0},{"$f":"TERM3!CT32","v":0},0,{"$f":"TERM4!Z32","v":0},0,0,{"$f":"TERM2!BO32","v":0},0,null,0,"",{"$f":"'FIN PAT MARK SHEET'!AH34","v":0},"",{"$f":"TERM4!AA32","v":0},{"$f":"TERM4!AC32","v":0},0,0,""]
[null,null,{"$f":"C35+1","v":18},18,{"$f":"INSERT!A20","v":0},{"$f":"INSERT!B20","v":0},{"$f":"INSERT!C20","v":0},{"$f":"INSERT!D20","v":0},{"$f":"INSERT!E20","v":0},{"$f":"TERM1!Z33","v":"0"},{"$f":"TERM1!AR33","v":"0"},{"$f":"TERM1!BJ33","v":"0"},{"$f":"TERM1!CB33","v":"0"},0,{"$f":"TERM2!Z33","v":0},{"$f":"TERM2!AR33","v":0},{"$f":"TERM2!BJ33","v":0},0,{"$f":"TERM3!Z33","v":0},{"$f":"TERM3!AR33","v":0},{"$f":"TERM3!BJ33","v":0},{"$f":"TERM3!CB33","v":0},{"$f":"TERM3!CT33","v":0},0,{"$f":"TERM4!Z33","v":0},0,0,{"$f":"TERM2!BO33","v":0},0,null,0,"",{"$f":"'FIN PAT MARK SHEET'!AH35","v":0},"",{"$f":"TERM4!AA33","v":0},{"$f":"TERM4!AC33","v":0},0,0,""]
[null,null,19,19,{"$f":"INSERT!A21","v":0},{"$f":"INSERT!B21","v":0},{"$f":"INSERT!C21","v":0},{"$f":"INSERT!D21","v":0},{"$f":"INSERT!E21","v":0},{"$f":"TERM1!Z34","v":"0"},{"$f":"TERM1!AR34","v":"0"},{"$f":"TERM1!BJ34","v":"0"},{"$f":"TERM1!CB34","v":"0"},0,{"$f":"TERM2!Z34","v":0},{"$f":"TERM2!AR34","v":0},{"$f":"TERM2!BJ34","v":0},0,{"$f":"TERM3!Z34","v":0},{"$f":"TERM3!AR34","v":0},{"$f":"TERM3!BJ34","v":0},{"$f":"TERM3!CB34","v":0},{"$f":"TERM3!CT34","v":0},0,{"$f":"TERM4!Z34","v":0},0,0,{"$f":"TERM2!BO34","v":0},0,null,0,"",{"$f":"'FIN PAT MARK SHEET'!AH36","v":0},"",{"$f":"TERM4!AA34","v":0},{"$f":"TERM4!AC34","v":0},0,0,""]
[null,null,20,20,{"$f":"INSERT!A22","v":0},{"$f":"INSERT!B22","v":0},{"$f":"INSERT!C22","v":0},{"$f":"INSERT!D22","v":0},{"$f":"INSERT!E22","v":0},{"$f":"TERM1!Z35","v":"0"},{"$f":"TERM1!AR35","v":"0"},{"$f":"TERM1!BJ35","v":"0"},{"$f":"TERM1!CB35","v":"0"},0,{"$f":"TERM2!Z35","v":0},{"$f":"TERM2!AR35","v":0},{"$f":"TERM2!BJ35","v":0},0,{"$f":"TERM3!Z35","v":0},{"$f":"TERM3!AR35","v":0},{"$f":"TERM3!BJ35","v":0},{"$f":"TERM3!CB35","v":0},{"$f":"TERM3!CT35","v":0},0,{"$f":"TERM4!Z35","v":0},0,0,{"$f":"TERM2!BO35","v":0},0,null,0,"",{"$f":"'FIN PAT MARK SHEET'!AH37","v":0},"",{"$f":"TERM4!AA35","v":0},{"$f":"TERM4!AC35","v":0},0,0,""]
[null,null,21,21,{"$f":"INSERT!A23","v":0},{"$f":"INSERT!B23","v":0},{"$f":"INSERT!C23","v":0},{"$f":"INSERT!D23","v":0},{"$f":"INSERT!E23","v":0},{"$f":"TERM1!Z36","v":"0"},{"$f":"TERM1!AR36","v":"0"},{"$f":"TERM1!BJ36","v":"0"},{"$f":"TERM1!CB36","v":"0"},0,{"$f":"TERM2!Z36","v":0},{"$f":"TERM2!AR36","v":0},{"$f":"TERM2!BJ36","v":0},0,{"$f":"TERM3!Z36","v":0},{"$f":"TERM3!AR36","v":0},{"$f":"TERM3!BJ36","v":0},{"$f":"TERM3!CB36","v":0},{"$f":"TERM3!CT36","v":0},0,{"$f":"TERM4!Z36","v":0},0,0,{"$f":"TERM2!BO36","v":0},0,null,0,"",{"$f":"'FIN PAT MARK SHEET'!AH38","v":0},"",{"$f":"TERM4!AA36","v":0},{"$f":"TERM4!AC36","v":0},0,0,""]
[null,null,22,22,{"$f":"INSERT!A24","v":0},{"$f":"INSERT!B24","v":0},{"$f":"INSERT!C24","v":0},{"$f":"INSERT!D24","v":0},{"$f":"INSERT!E24","v":0},{"$f":"TERM1!Z37","v":"0"},{"$f":"TERM1!AR37","v":"0"},{"$f":"TERM1!BJ37","v":"0"},{"$f":"TERM1!CB37","v":"0"},0,{"$f":"TERM2!Z37","v":0},{"$f":"TERM2!AR37","v":0},{"$f":"TERM2!BJ37","v":0},0,{"$f":"TERM3!Z37","v":0},{"$f":"TERM3!AR37","v":0},{"$f":"TERM3!BJ37","v":0},{"$f":"TERM3!CB37","v":0},{"$f":"TERM3!CT37","v":0},0,{"$f":"TERM4!Z37","v":0},0,0,{"$f":"TERM2!BO37","v":0},0,null,0,"",{"$f":"'FIN PAT MARK SHEET'!AH39","v":0},"",{"$f":"TERM4!AA37","v":0},{"$f":"TERM4!AC37","v":0},0,0,""]
[null,null,23,23,{"$f":"INSERT!A25","v":0},{"$f":"INSERT!B25","v":0},{"$f":"INSERT!C25","v":0},{"$f":"INSERT!D25","v":0},{"$f":"INSERT!E25","v":0},{"$f":"TERM1!Z38","v":"0"},{"$f":"TERM1!AR38","v":"0"},{"$f":"TERM1!BJ38","v":"0"},{"$f":"TERM1!CB38","v":"0"},0,{"$f":"TERM2!Z38","v":0},{"$f":"TERM2!AR38","v":0},{"$f":"TERM2!BJ38","v":0},0,{"$f":"TERM3!Z38","v":0},{"$f":"TERM3!AR38","v":0},{"$f":"TERM3!BJ38","v":0},{"$f":"TERM3!CB38","v":0},{"$f":"TERM3!CT38","v":0},0,{"$f":"TERM4!Z38","v":0},0,0,{"$f":"TERM2!BO38","v":0},0,null,0,"",{"$f":"'FIN PAT MARK SHEET'!AH40","v":0},"",{"$f":"TERM4!AA38","v":0},{"$f":"TERM4!AC38","v":0},0,0,""]
[null,null,24,24,{"$f":"INSERT!A26","v":0},{"$f":"INSERT!B26","v":0},{"$f":"INSERT!C26","v":0},{"$f":"INSERT!D26","v":0},{"$f":"INSERT!E26","v":0},{"$f":"TERM1!Z39","v":"0"},{"$f":"TERM1!AR39","v":"0"},{"$f":"TERM1!BJ39","v":"0"},{"$f":"TERM1!CB39","v":"0"},0,{"$f":"TERM2!Z39","v":0},{"$f":"TERM2!AR39","v":0},{"$f":"TERM2!BJ39","v":0},0,{"$f":"TERM3!Z39","v":0},{"$f":"TERM3!AR39","v":0},{"$f":"TERM3!BJ39","v":0},{"$f":"TERM3!CB39","v":0},{"$f":"TERM3!CT39","v":0},0,{"$f":"TERM4!Z39","v":0},0,0,{"$f":"TERM2!BO39","v":0},0,null,0,"",{"$f":"'FIN PAT MARK SHEET'!AH41","v":0},"",{"$f":"TERM4!AA39","v":0},{"$f":"TERM4!AC39","v":0},0,0,""]
[null,null,25,25,{"$f":"INSERT!A27","v":0},{"$f":"INSERT!B27","v":0},{"$f":"INSERT!C27","v":0},{"$f":"INSERT!D27","v":0},{"$f":"INSERT!E27","v":0},{"$f":"TERM1!Z40","v":"0"},{"$f":"TERM1!AR40","v":"0"},{"$f":"TERM1!BJ40","v":"0"},{"$f":"TERM1!CB40","v":"0"},0,{"$f":"TERM2!Z40","v":0},{"$f":"TERM2!AR40","v":0},{"$f":"TERM2!BJ40","v":0},0,{"$f":"TERM3!Z40","v":0},{"$f":"TERM3!AR40","v":0},{"$f":"TERM3!BJ40","v":0},{"$f":"TERM3!CB40","v":0},{"$f":"TERM3!CT40","v":0},0,{"$f":"TERM4!Z40","v":0},0,0,{"$f":"TERM2!BO40","v":0},0,null,0,"",{"$f":"'FIN PAT MARK SHEET'!AH42","v":0},"",{"$f":"TERM4!AA40","v":0},{"$f":"TERM4!AC40","v":0},0,0,""]
[null,null,26,26,{"$f":"INSERT!A28","v":0},{"$f":"INSERT!B28","v":0},{"$f":"INSERT!C28","v":0},{"$f":"INSERT!D28","v":0},{"$f":"INSERT!E28","v":0},{"$f":"TERM1!Z41","v":"0"},{"$f":"TERM1!AR41","v":"0"},{"$f":"TERM1!BJ41","v":"0"},{"$f":"TERM1!CB41","v":"0"},0,{"$f":"TERM2!Z41","v":0},{"$f":"TERM2!AR41","v":0},{"$f":"TERM2!BJ41","v":0},0,{"$f":"TERM3!Z41","v":0},{"$f":"TERM3!AR41","v":0},{"$f":"TERM3!BJ41","v":0},{"$f":"TERM3!CB41","v":0},{"$f":"TERM3!CT41","v":0},0,{"$f":"TERM4!Z41","v":0},0,0,{"$f":"TERM2!BO41","v":0},0,null,0,"",{"$f":"'FIN PAT MARK SHEET'!AH43","v":0},"",{"$f":"TERM4!AA41","v":0},{"$f":"TERM4!AC41","v":0},0,0,""]
[null,null,27,27,{"$f":"INSERT!A29","v":0},{"$f":"INSERT!B29","v":0},{"$f":"INSERT!C29","v":0},{"$f":"INSERT!D29","v":0},{"$f":"INSERT!E29","v":0},{"$f":"TERM1!Z42","v":"0"},{"$f":"TERM1!AR42","v":"0"},{"$f":"TERM1!BJ42","v":"0"},{"$f":"TERM1!CB42","v":"0"},0,{"$f":"TERM2!Z42","v":0},{"$f":"TERM2!AR42","v":0},{"$f":"TERM2!BJ42","v":0},0,{"$f":"TERM3!Z42","v":0},{"$f":"TERM3!AR42","v":0},{"$f":"TERM3!BJ42","v":0},{"$f":"TERM3!CB42","v":0},{"$f":"TERM3!CT42","v":0},0,{"$f":"TERM4!Z42","v":0},0,0,{"$f":"TERM2!BO42","v":0},0,null,0,"",{"$f":"'FIN PAT MARK SHEET'!AH44","v":0},"",{"$f":"TERM4!AA42","v":0},{"$f":"TERM4!AC42","v":0},0,0,""]
[null,null,28,28,{"$f":"INSERT!A30","v":0},{"$f":"INSERT!B30","v":0},{"$f":"INSERT!C30","v":0},{"$f":"INSERT!D30","v":0},{"$f":"INSERT!E30","v":0},{"$f":"TERM1!Z43","v":"0"},{"$f":"TERM1!AR43","v":"0"},{"$f":"TERM1!BJ43","v":"0"},{"$f":"TERM1!CB43","v":"0"},0,{"$f":"TERM2!Z43","v":0},{"$f":"TERM2!AR43","v":0},{"$f":"TERM2!BJ43","v":0},0,{"$f":"TERM3!Z43","v":0},{"$f":"TERM3!AR43","v":0},{"$f":"TERM3!BJ43","v":0},{"$f":"TERM3!CB43","v":0},{"$f":"TERM3!CT43","v":0},0,{"$f":"TERM4!Z43","v":0},0,0,{"$f":"TERM2!BO43","v":0},0,null,0,"",{"$f":"'FIN PAT MARK SHEET'!AH45","v":0},"",{"$f":"TERM4!AA43","v":0},{"$f":"TERM4!AC43","v":0},0,0,""]
[null,null,29,29,{"$f":"INSERT!A31","v":0},{"$f":"INSERT!B31","v":0},{"$f":"INSERT!C31","v":0},{"$f":"INSERT!D31","v":0},{"$f":"INSERT!E31","v":0},{"$f":"TERM1!Z44","v":"0"},{"$f":"TERM1!AR44","v":"0"},{"$f":"TERM1!BJ44","v":"0"},{"$f":"TERM1!CB44","v":"0"},0,{"$f":"TERM2!Z44","v":0},{"$f":"TERM2!AR44","v":0},{"$f":"TERM2!BJ44","v":0},0,{"$f":"TERM3!Z44","v":0},{"$f":"TERM3!AR44","v":0},{"$f":"TERM3!BJ44","v":0},{"$f":"TERM3!CB44","v":0},{"$f":"TERM3!CT44","v":0},0,{"$f":"TERM4!Z44","v":0},0,0,{"$f":"TERM2!BO44","v":0},0,null,0,"",{"$f":"'FIN PAT MARK SHEET'!AH46","v":0},"",{"$f":"TERM4!AA44","v":0},{"$f":"TERM4!AC44","v":0},0,0,""]
[null,null,30,30,{"$f":"INSERT!A32","v":0},{"$f":"INSERT!B32","v":0},{"$f":"INSERT!C32","v":0},{"$f":"INSERT!D32","v":0},{"$f":"INSERT!E32","v":0},{"$f":"TERM1!Z45","v":"0"},{"$f":"TERM1!AR45","v":"0"},{"$f":"TERM1!BJ45","v":"0"},{"$f":"TERM1!CB45","v":"0"},0,{"$f":"TERM2!Z45","v":0},{"$f":"TERM2!AR45","v":0},{"$f":"TERM2!BJ45","v":0},0,{"$f":"TERM3!Z45","v":0},{"$f":"TERM3!AR45","v":0},{"$f":"TERM3!BJ45","v":0},{"$f":"TERM3!CB45","v":0},{"$f":"TERM3!CT45","v":0},0,{"$f":"TERM4!Z45","v":0},0,0,{"$f":"TERM2!BO45","v":0},0,null,0,"",{"$f":"'FIN PAT MARK SHEET'!AH47","v":0},"",{"$f":"TERM4!AA45","v":0},{"$f":"TERM4!AC45","v":0},0,0,""]
[null,null,31,31,{"$f":"INSERT!A33","v":0},{"$f":"INSERT!B33","v":0},{"$f":"INSERT!C33","v":0},{"$f":"INSERT!D33","v":0},{"$f":"INSERT!E33","v":0},{"$f":"TERM1!Z46","v":"0"},{"$f":"TERM1!AR46","v":"0"},{"$f":"TERM1!BJ46","v":"0"},{"$f":"TERM1!CB46","v":"0"},0,{"$f":"TERM2!Z46","v":0},{"$f":"TERM2!AR46","v":0},{"$f":"TERM2!BJ46","v":0},0,{"$f":"TERM3!Z46","v":0},{"$f":"TERM3!AR46","v":0},{"$f":"TERM3!BJ46","v":0},{"$f":"TERM3!CB46","v":0},{"$f":"TERM3!CT46","v":0},0,{"$f":"TERM4!Z46","v":0},0,0,{"$f":"TERM2!BO46","v":0},0,null,0,"",{"$f":"'FIN PAT MARK SHEET'!AH48","v":0},"",{"$f":"TERM4!AA46","v":0},{"$f":"TERM4!AC46","v":0},0,0,""]
[null,null,32,32,{"$f":"INSERT!A34","v":0},{"$f":"INSERT!B34","v":0},{"$f":"INSERT!C34","v":0},{"$f":"INSERT!D34","v":0},{"$f":"INSERT!E34","v":0},{"$f":"TERM1!Z47","v":"0"},{"$f":"TERM1!AR47","v":"0"},{"$f":"TERM1!BJ47","v":"0"},{"$f":"TERM1!CB47","v":"0"},0,{"$f":"TERM2!Z47","v":0},{"$f":"TERM2!AR47","v":0},{"$f":"TERM2!BJ47","v":0},0,{"$f":"TERM3!Z47","v":0},{"$f":"TERM3!AR47","v":0},{"$f":"TERM3!BJ47","v":0},{"$f":"TERM3!CB47","v":0},{"$f":"TERM3!CT47","v":0},0,{"$f":"TERM4!Z47","v":0},0,0,{"$f":"TERM2!BO47","v":0},0,null,0,"",{"$f":"'FIN PAT MARK SHEET'!AH49","v":0},"",{"$f":"TERM4!AA47","v":0},{"$f":"TERM4!AC47","v":0},0,0,""]
[null,null,33,33,{"$f":"INSERT!A35","v":0},{"$f":"INSERT!B35","v":0},{"$f":"INSERT!C35","v":0},{"$f":"INSERT!D35","v":0},{"$f":"INSERT!E35","v":0},{"$f":"TERM1!Z48","v":"0"},{"$f":"TERM1!AR48","v":"0"},{"$f":"TERM1!BJ48","v":"0"},{"$f":"TERM1!CB48","v":"0"},0,{"$f":"TERM2!Z48","v":0},{"$f":"TERM2!AR48","v":0},{"$f":"TERM2!BJ48","v":0},0,{"$f":"TERM3!Z48","v":0},{"$f":"TERM3!AR48","v":0},{"$f":"TERM3!BJ48","v":0},{"$f":"TERM3!CB48","v":0},{"$f":"TERM3!CT48","v":0},0,{"$f":"TERM4!Z48","v":0},0,0,{"$f":"TERM2!BO48","v":0},0,null,0,"",{"$f":"'FIN PAT MARK SHEET'!AH50","v":0},"",{"$f":"TERM4!AA48","v":0},{"$f":"TERM4!AC48","v":0},0,0,""]
[null,null,34,34,{"$f":"INSERT!A36","v":0},{"$f":"INSERT!B36","v":0},{"$f":"INSERT!C36","v":0},{"$f":"INSERT!D36","v":0},{"$f":"INSERT!E36","v":0},{"$f":"TERM1!Z49","v":"0"},{"$f":"TERM1!AR49","v":"0"},{"$f":"TERM1!BJ49","v":"0"},{"$f":"TERM1!CB49","v":"0"},0,{"$f":"TERM2!Z49","v":0},{"$f":"TERM2!AR49","v":0},{"$f":"TERM2!BJ49","v":0},0,{"$f":"TERM3!Z49","v":0},{"$f":"TERM3!AR49","v":0},{"$f":"TERM3!BJ49","v":0},{"$f":"TERM3!CB49","v":0},{"$f":"TERM3!CT49","v":0},0,{"$f":"TERM4!Z49","v":0},0,0,{"$f":"TERM2!BO49","v":0},0,null,0,"",{"$f":"'FIN PAT MARK SHEET'!AH51","v":0},"",{"$f":"TERM4!AA49","v":0},{"$f":"TERM4!AC49","v":0},0,0,""]
[null,null,35,35,{"$f":"INSERT!A37","v":0},{"$f":"INSERT!B37","v":0},{"$f":"INSERT!C37","v":0},{"$f":"INSERT!D37","v":0},{"$f":"INSERT!E37","v":0},{"$f":"TERM1!Z50","v":"0"},{"$f":"TERM1!AR50","v":"0"},{"$f":"TERM1!BJ50","v":"0"},{"$f":"TERM1!CB50","v":"0"},0,{"$f":"TERM2!Z50","v":0},{"$f":"TERM2!AR50","v":0},{"$f":"TERM2!BJ50","v":0},0,{"$f":"TERM3!Z50","v":0},{"$f":"TERM3!AR50","v":0},{"$f":"TERM3!BJ50","v":0},{"$f":"TERM3!CB50","v":0},{"$f":"TERM3!CT50","v":0},0,{"$f":"TERM4!Z50","v":0},0,0,{"$f":"TERM2!BO50","v":0},0,null,0,"",{"$f":"'FIN PAT MARK SHEET'!AH52","v":0},"",{"$f":"TERM4!AA50","v":0},{"$f":"TERM4!AC50","v":0},0,0,""]
[null,null,36,36,{"$f":"INSERT!A38","v":0},{"$f":"INSERT!B38","v":0},{"$f":"INSERT!C38","v":0},{"$f":"INSERT!D38","v":0},{"$f":"INSERT!E38","v":0},{"$f":"TERM1!Z51","v":"0"},{"$f":"TERM1!AR51","v":"0"},{"$f":"TERM1!BJ51","v":"0"},{"$f":"TERM1!CB51","v":"0"},0,{"$f":"TERM2!Z51","v":0},{"$f":"TERM2!AR51","v":0},{"$f":"TERM2!BJ51","v":0},0,{"$f":"TERM3!Z51","v":0},{"$f":"TERM3!AR51","v":0},{"$f":"TERM3!BJ51","v":0},{"$f":"TERM3!CB51","v":0},{"$f":"TERM3!CT51","v":0},0,{"$f":"TERM4!Z51","v":0},0,0,{"$f":"TERM2!BO51","v":0},0,null,0,"",{"$f":"'FIN PAT MARK SHEET'!AH53","v":0},"",{"$f":"TERM4!AA51","v":0},{"$f":"TERM4!AC51","v":0},0,0,""]
[null,null,37,37,{"$f":"INSERT!A39","v":0},{"$f":"INSERT!B39","v":0},{"$f":"INSERT!C39","v":0},{"$f":"INSERT!D39","v":0},{"$f":"INSERT!E39","v":0},{"$f":"TERM1!Z52","v":"0"},{"$f":"TERM1!AR52","v":"0"},{"$f":"TERM1!BJ52","v":"0"},{"$f":"TERM1!CB52","v":"0"},0,{"$f":"TERM2!Z52","v":0},{"$f":"TERM2!AR52","v":0},{"$f":"TERM2!BJ52","v":0},0,{"$f":"TERM3!Z52","v":0},{"$f":"TERM3!AR52","v":0},{"$f":"TERM3!BJ52","v":0},{"$f":"TERM3!CB52","v":0},{"$f":"TERM3!CT52","v":0},0,{"$f":"TERM4!Z52","v":0},0,0,{"$f":"TERM2!BO52","v":0},0,null,0,"",{"$f":"'FIN PAT MARK SHEET'!AH54","v":0},"",{"$f":"TERM4!AA52","v":0},{"$f":"TERM4!AC52","v":0},0,0,""]
[null,null,38,38,{"$f":"INSERT!A40","v":0},{"$f":"INSERT!B40","v":0},{"$f":"INSERT!C40","v":0},{"$f":"INSERT!D40","v":0},{"$f":"INSERT!E40","v":0},{"$f":"TERM1!Z53","v":"0"},{"$f":"TERM1!AR53","v":"0"},{"$f":"TERM1!BJ53","v":"0"},{"$f":"TERM1!CB53","v":"0"},0,{"$f":"TERM2!Z53","v":0},{"$f":"TERM2!AR53","v":0},{"$f":"TERM2!BJ53","v":0},0,{"$f":"TERM3!Z53","v":0},{"$f":"TERM3!AR53","v":0},{"$f":"TERM3!BJ53","v":0},{"$f":"TERM3!CB53","v":0},{"$f":"TERM3!CT53","v":0},0,{"$f":"TERM4!Z53","v":0},0,0,{"$f":"TERM2!BO53","v":0},0,null,0,"",{"$f":"'FIN PAT MARK SHEET'!AH55","v":0},"",{"$f":"TERM4!AA53","v":0},{"$f":"TERM4!AC53","v":0},0,0,""]
[null,null,39,39,{"$f":"INSERT!A41","v":0},{"$f":"INSERT!B41","v":0},{"$f":"INSERT!C41","v":0},{"$f":"INSERT!D41","v":0},{"$f":"INSERT!E41","v":0},{"$f":"TERM1!Z54","v":"0"},{"$f":"TERM1!AR54","v":"0"},{"$f":"TERM1!BJ54","v":"0"},{"$f":"TERM1!CB54","v":"0"},0,{"$f":"TERM2!Z54","v":0},{"$f":"TERM2!AR54","v":0},{"$f":"TERM2!BJ54","v":0},0,{"$f":"TERM3!Z54","v":0},{"$f":"TERM3!AR54","v":0},{"$f":"TERM3!BJ54","v":0},{"$f":"TERM3!CB54","v":0},{"$f":"TERM3!CT54","v":0},0,{"$f":"TERM4!Z54","v":0},0,0,{"$f":"TERM2!BO54","v":0},0,null,0,"",{"$f":"'FIN PAT MARK SHEET'!AH56","v":0},"",{"$f":"TERM4!AA54","v":0},{"$f":"TERM4!AC54","v":0},0,0,""]
[null,null,40,40,{"$f":"INSERT!A42","v":0},{"$f":"INSERT!B42","v":0},{"$f":"INSERT!C42","v":0},{"$f":"INSERT!D42","v":0},{"$f":"INSERT!E42","v":0},{"$f":"TERM1!Z55","v":"0"},{"$f":"TERM1!AR55","v":"0"},{"$f":"TERM1!BJ55","v":"0"},{"$f":"TERM1!CB55","v":"0"},0,{"$f":"TERM2!Z55","v":0},{"$f":"TERM2!AR55","v":0},{"$f":"TERM2!BJ55","v":0},0,{"$f":"TERM3!Z55","v":0},{"$f":"TERM3!AR55","v":0},{"$f":"TERM3!BJ55","v":0},{"$f":"TERM3!CB55","v":0},{"$f":"TERM3!CT55","v":0},0,{"$f":"TERM4!Z55","v":0},0,0,{"$f":"TERM2!BO55","v":0},0,null,0,"",{"$f":"'FIN PAT MARK SHEET'!AH57","v":0},"",{"$f":"TERM4!AA55","v":0},{"$f":"TERM4!AC55","v":0},0,0,""]
[null,null,41,41,{"$f":"INSERT!A43","v":0},{"$f":"INSERT!B43","v":0},{"$f":"INSERT!C43","v":0},{"$f":"INSERT!D43","v":0},{"$f":"INSERT!E43","v":0},{"$f":"TERM1!Z56","v":"0"},{"$f":"TERM1!AR56","v":"0"},{"$f":"TERM1!BJ56","v":"0"},{"$f":"TERM1!CB56","v":"0"},0,{"$f":"TERM2!Z56","v":0},{"$f":"TERM2!AR56","v":0},{"$f":"TERM2!BJ56","v":0},0,{"$f":"TERM3!Z56","v":0},{"$f":"TERM3!AR56","v":0},{"$f":"TERM3!BJ56","v":0},{"$f":"TERM3!CB56","v":0},{"$f":"TERM3!CT56","v":0},0,{"$f":"TERM4!Z56","v":0},0,0,{"$f":"TERM2!BO56","v":0},0,null,0,"",{"$f":"'FIN PAT MARK SHEET'!AH58","v":0},"",{"$f":"TERM4!AA56","v":0},{"$f":"TERM4!AC56","v":0},0,0,""]
[null,null,42,42,{"$f":"INSERT!A44","v":0},{"$f":"INSERT!B44","v":0},{"$f":"INSERT!C44","v":0},{"$f":"INSERT!D44","v":0},{"$f":"INSERT!E44","v":0},{"$f":"TERM1!Z57","v":"0"},{"$f":"TERM1!AR57","v":"0"},{"$f":"TERM1!BJ57","v":"0"},{"$f":"TERM1!CB57","v":"0"},0,{"$f":"TERM2!Z57","v":0},{"$f":"TERM2!AR57","v":0},{"$f":"TERM2!BJ57","v":0},0,{"$f":"TERM3!Z57","v":0},{"$f":"TERM3!AR57","v":0},{"$f":"TERM3!BJ57","v":0},{"$f":"TERM3!CB57","v":0},{"$f":"TERM3!CT57","v":0},0,{"$f":"TERM4!Z57","v":0},0,0,{"$f":"TERM2!BO57","v":0},0,null,0,"",{"$f":"'FIN PAT MARK SHEET'!AH59","v":0},"",{"$f":"TERM4!AA57","v":0},{"$f":"TERM4!AC57","v":0},0,0,""]
[null,null,43,43,{"$f":"INSERT!A45","v":0},{"$f":"INSERT!B45","v":0},{"$f":"INSERT!C45","v":0},{"$f":"INSERT!D45","v":0},{"$f":"INSERT!E45","v":0},{"$f":"TERM1!Z58","v":"0"},{"$f":"TERM1!AR58","v":"0"},{"$f":"TERM1!BJ58","v":"0"},{"$f":"TERM1!CB58","v":"0"},0,{"$f":"TERM2!Z58","v":0},{"$f":"TERM2!AR58","v":0},{"$f":"TERM2!BJ58","v":0},0,{"$f":"TERM3!Z58","v":0},{"$f":"TERM3!AR58","v":0},{"$f":"TERM3!BJ58","v":0},{"$f":"TERM3!CB58","v":0},{"$f":"TERM3!CT58","v":0},0,{"$f":"TERM4!Z58","v":0},0,0,{"$f":"TERM2!BO58","v":0},0,null,0,"",{"$f":"'FIN PAT MARK SHEET'!AH60","v":0},"",{"$f":"TERM4!AA58","v":0},{"$f":"TERM4!AC58","v":0},0,0,""]
[null,null,44,44,{"$f":"INSERT!A46","v":0},{"$f":"INSERT!B46","v":0},{"$f":"INSERT!C46","v":0},{"$f":"INSERT!D46","v":0},{"$f":"INSERT!E46","v":0},{"$f":"TERM1!Z59","v":"0"},{"$f":"TERM1!AR59","v":"0"},{"$f":"TERM1!BJ59","v":"0"},{"$f":"TERM1!CB59","v":"0"},0,{"$f":"TERM2!Z59","v":0},{"$f":"TERM2!AR59","v":0},{"$f":"TERM2!BJ59","v":0},0,{"$f":"TERM3!Z59","v":0},{"$f":"TERM3!AR59","v":0},{"$f":"TERM3!BJ59","v":0},{"$f":"TERM3!CB59","v":0},{"$f":"TERM3!CT59","v":0},0,{"$f":"TERM4!Z59","v":0},0,0,{"$f":"TERM2!BO59","v":0},0,null,0,"",{"$f":"'FIN PAT MARK SHEET'!AH61","v":0},"",{"$f":"TERM4!AA59","v":0},{"$f":"TERM4!AC59","v":0},0,0,""]
[null,null,45,45,{"$f":"INSERT!A47","v":0},{"$f":"INSERT!B47","v":0},{"$f":"INSERT!C47","v":0},{"$f":"INSERT!D47","v":0},{"$f":"INSERT!E47","v":0},{"$f":"TERM1!Z60","v":"0"},{"$f":"TERM1!AR60","v":"0"},{"$f":"TERM1!BJ60","v":"0"},{"$f":"TERM1!CB60","v":"0"},0,{"$f":"TERM2!Z60","v":0},{"$f":"TERM2!AR60","v":0},{"$f":"TERM2!BJ60","v":0},0,{"$f":"TERM3!Z60","v":0},{"$f":"TERM3!AR60","v":0},{"$f":"TERM3!BJ60","v":0},{"$f":"TERM3!CB60","v":0},{"$f":"TERM3!CT60","v":0},0,{"$f":"TERM4!Z60","v":0},0,0,{"$f":"TERM2!BO60","v":0},0,null,0,"",{"$f":"'FIN PAT MARK SHEET'!AH62","v":0},"",{"$f":"TERM4!AA60","v":0},{"$f":"TERM4!AC60","v":0},0,0,""]
[null,null,46,46,{"$f":"INSERT!A48","v":0},{"$f":"INSERT!B48","v":0},{"$f":"INSERT!C48","v":0},{"$f":"INSERT!D48","v":0},{"$f":"INSERT!E48","v":0},{"$f":"TERM1!Z61","v":"0"},{"$f":"TERM1!AR61","v":"0"},{"$f":"TERM1!BJ61","v":"0"},{"$f":"TERM1!CB61","v":"0"},0,{"$f":"TERM2!Z61","v":0},{"$f":"TERM2!AR61","v":0},{"$f":"TERM2!BJ61","v":0},0,{"$f":"TERM3!Z61","v":0},{"$f":"TERM3!AR61","v":0},{"$f":"TERM3!BJ61","v":0},{"$f":"TERM3!CB61","v":0},{"$f":"TERM3!CT61","v":0},0,{"$f":"TERM4!Z61","v":0},0,0,{"$f":"TERM2!BO61","v":0},0,null,0,"",{"$f":"'FIN PAT MARK SHEET'!AH63","v":0},"",{"$f":"TERM4!AA61","v":0},{"$f":"TERM4!AC61","v":0},0,0,""]
[null,null,47,47,{"$f":"INSERT!A49","v":0},{"$f":"INSERT!B49","v":0},{"$f":"INSERT!C49","v":0},{"$f":"INSERT!D49","v":0},{"$f":"INSERT!E49","v":0},{"$f":"TERM1!Z62","v":"0"},{"$f":"TERM1!AR62","v":"0"},{"$f":"TERM1!BJ62","v":"0"},{"$f":"TERM1!CB62","v":"0"},0,{"$f":"TERM2!Z62","v":0},{"$f":"TERM2!AR62","v":0},{"$f":"TERM2!BJ62","v":0},0,{"$f":"TERM3!Z62","v":0},{"$f":"TERM3!AR62","v":0},{"$f":"TERM3!BJ62","v":0},{"$f":"TERM3!CB62","v":0},{"$f":"TERM3!CT62","v":0},0,{"$f":"TERM4!Z62","v":0},0,0,{"$f":"TERM2!BO62","v":0},0,null,0,"",{"$f":"'FIN PAT MARK SHEET'!AH64","v":0},"",{"$f":"TERM4!AA62","v":0},{"$f":"TERM4!AC62","v":0},0,0,""]
[null,null,48,48,{"$f":"INSERT!A50","v":0},{"$f":"INSERT!B50","v":0},{"$f":"INSERT!C50","v":0},{"$f":"INSERT!D50","v":0},{"$f":"INSERT!E50","v":0},{"$f":"TERM1!Z63","v":"0"},{"$f":"TERM1!AR63","v":"0"},{"$f":"TERM1!BJ63","v":"0"},{"$f":"TERM1!CB63","v":"0"},0,{"$f":"TERM2!Z63","v":0},{"$f":"TERM2!AR63","v":0},{"$f":"TERM2!BJ63","v":0},0,{"$f":"TERM3!Z63","v":0},{"$f":"TERM3!AR63","v":0},{"$f":"TERM3!BJ63","v":0},{"$f":"TERM3!CB63","v":0},{"$f":"TERM3!CT63","v":0},0,{"$f":"TERM4!Z63","v":0},0,0,{"$f":"TERM2!BO63","v":0},0,null,0,"",{"$f":"'FIN PAT MARK SHEET'!AH65","v":0},"",{"$f":"TERM4!AA63","v":0},{"$f":"TERM4!AC63","v":0},0,0,""]
[null,null,49,49,{"$f":"INSERT!A51","v":0},{"$f":"INSERT!B51","v":0},{"$f":"INSERT!C51","v":0},{"$f":"INSERT!D51","v":0},{"$f":"INSERT!E51","v":0},{"$f":"TERM1!Z64","v":"0"},{"$f":"TERM1!AR64","v":"0"},{"$f":"TERM1!BJ64","v":"0"},{"$f":"TERM1!CB64","v":"0"},0,{"$f":"TERM2!Z64","v":0},{"$f":"TERM2!AR64","v":0},{"$f":"TERM2!BJ64","v":0},0,{"$f":"TERM3!Z64","v":0},{"$f":"TERM3!AR64","v":0},{"$f":"TERM3!BJ64","v":0},{"$f":"TERM3!CB64","v":0},{"$f":"TERM3!CT64","v":0},0,{"$f":"TERM4!Z64","v":0},0,0,{"$f":"TERM2!BO64","v":0},0,null,0,"",{"$f":"'FIN PAT MARK SHEET'!AH66","v":0},"",{"$f":"TERM4!AA64","v":0},{"$f":"TERM4!AC64","v":0},0,0,""]
[null,null,50,50,{"$f":"INSERT!A52","v":0},{"$f":"INSERT!B52","v":0},{"$f":"INSERT!C52","v":0},{"$f":"INSERT!D52","v":0},{"$f":"INSERT!E52","v":0},{"$f":"TERM1!Z65","v":"0"},{"$f":"TERM1!AR65","v":"0"},{"$f":"TERM1!BJ65","v":"0"},{"$f":"TERM1!CB65","v":"0"},0,{"$f":"TERM2!Z65","v":0},{"$f":"TERM2!AR65","v":0},{"$f":"TERM2!BJ65","v":0},0,{"$f":"TERM3!Z65","v":0},{"$f":"TERM3!AR65","v":0},{"$f":"TERM3!BJ65","v":0},{"$f":"TERM3!CB65","v":0},{"$f":"TERM3!CT65","v":0},0,{"$f":"TERM4!Z65","v":0},0,0,{"$f":"TERM2!BO65","v":0},0,null,0,"",{"$f":"'FIN PAT MARK SHEET'!AH67","v":0},"",{"$f":"TERM4!AA65","v":0},{"$f":"TERM4!AC65","v":0},0,0,""]
[null,null,51,51,{"$f":"INSERT!A53","v":0},{"$f":"INSERT!B53","v":0},{"$f":"INSERT!C53","v":0},{"$f":"INSERT!D53","v":0},{"$f":"INSERT!E53","v":0},{"$f":"TERM1!Z66","v":"0"},{"$f":"TERM1!AR66","v":"0"},{"$f":"TERM1!BJ66","v":"0"},{"$f":"TERM1!CB66","v":"0"},0,{"$f":"TERM2!Z66","v":0},{"$f":"TERM2!AR66","v":0},{"$f":"TERM2!BJ66","v":0},0,{"$f":"TERM3!Z66","v":0},{"$f":"TERM3!AR66","v":0},{"$f":"TERM3!BJ66","v":0},{"$f":"TERM3!CB66","v":0},{"$f":"TERM3!CT66","v":0},0,{"$f":"TERM4!Z66","v":0},0,0,{"$f":"TERM2!BO66","v":0},0,null,0,"",{"$f":"'FIN PAT MARK SHEET'!AH68","v":0},"",{"$f":"TERM4!AA66","v":0},{"$f":"TERM4!AC66","v":0},0,0,""]
[null,null,52,52,{"$f":"INSERT!A54","v":0},{"$f":"INSERT!B54","v":0},{"$f":"INSERT!C54","v":0},{"$f":"INSERT!D54","v":0},{"$f":"INSERT!E54","v":0},{"$f":"TERM1!Z67","v":"0"},{"$f":"TERM1!AR67","v":"0"},{"$f":"TERM1!BJ67","v":"0"},{"$f":"TERM1!CB67","v":"0"},0,{"$f":"TERM2!Z67","v":0},{"$f":"TERM2!AR67","v":0},{"$f":"TERM2!BJ67","v":0},0,{"$f":"TERM3!Z67","v":0},{"$f":"TERM3!AR67","v":0},{"$f":"TERM3!BJ67","v":0},{"$f":"TERM3!CB67","v":0},{"$f":"TERM3!CT67","v":0},0,{"$f":"TERM4!Z67","v":0},0,0,{"$f":"TERM2!BO67","v":0},0,null,0,"",{"$f":"'FIN PAT MARK SHEET'!AH69","v":0},"",{"$f":"TERM4!AA67","v":0},{"$f":"TERM4!AC67","v":0},0,0,""]
[null,null,53,53,{"$f":"INSERT!A55","v":0},{"$f":"INSERT!B55","v":0},{"$f":"INSERT!C55","v":0},{"$f":"INSERT!D55","v":0},{"$f":"INSERT!E55","v":0},{"$f":"TERM1!Z68","v":"0"},{"$f":"TERM1!AR68","v":"0"},{"$f":"TERM1!BJ68","v":"0"},{"$f":"TERM1!CB68","v":"0"},0,{"$f":"TERM2!Z68","v":0},{"$f":"TERM2!AR68","v":0},{"$f":"TERM2!BJ68","v":0},0,{"$f":"TERM3!Z68","v":0},{"$f":"TERM3!AR68","v":0},{"$f":"TERM3!BJ68","v":0},{"$f":"TERM3!CB68","v":0},{"$f":"TERM3!CT68","v":0},0,{"$f":"TERM4!Z68","v":0},0,0,{"$f":"TERM2!BO68","v":0},0,null,0,"",{"$f":"'FIN PAT MARK SHEET'!AH70","v":0},"",{"$f":"TERM4!AA68","v":0},{"$f":"TERM4!AC68","v":0},0,0,""]
[null,null,54,54,{"$f":"INSERT!A56","v":0},{"$f":"INSERT!B56","v":0},{"$f":"INSERT!C56","v":0},{"$f":"INSERT!D56","v":0},{"$f":"INSERT!E56","v":0},{"$f":"TERM1!Z69","v":"0"},{"$f":"TERM1!AR69","v":"0"},{"$f":"TERM1!BJ69","v":"0"},{"$f":"TERM1!CB69","v":"0"},0,{"$f":"TERM2!Z69","v":0},{"$f":"TERM2!AR69","v":0},{"$f":"TERM2!BJ69","v":0},0,{"$f":"TERM3!Z69","v":0},{"$f":"TERM3!AR69","v":0},{"$f":"TERM3!BJ69","v":0},{"$f":"TERM3!CB69","v":0},{"$f":"TERM3!CT69","v":0},0,{"$f":"TERM4!Z69","v":0},0,0,{"$f":"TERM2!BO69","v":0},0,null,0,"",{"$f":"'FIN PAT MARK SHEET'!AH71","v":0},"",{"$f":"TERM4!AA69","v":0},{"$f":"TERM4!AC69","v":0},0,0,""]
[null,null,55,55,{"$f":"INSERT!A57","v":0},{"$f":"INSERT!B57","v":0},{"$f":"INSERT!C57","v":0},{"$f":"INSERT!D57","v":0},{"$f":"INSERT!E57","v":0},{"$f":"TERM1!Z70","v":"0"},{"$f":"TERM1!AR70","v":"0"},{"$f":"TERM1!BJ70","v":"0"},{"$f":"TERM1!CB70","v":"0"},0,{"$f":"TERM2!Z70","v":0},{"$f":"TERM2!AR70","v":0},{"$f":"TERM2!BJ70","v":0},0,{"$f":"TERM3!Z70","v":0},{"$f":"TERM3!AR70","v":0},{"$f":"TERM3!BJ70","v":0},{"$f":"TERM3!CB70","v":0},{"$f":"TERM3!CT70","v":0},0,{"$f":"TERM4!Z70","v":0},0,0,{"$f":"TERM2!BO70","v":0},0,null,0,"",{"$f":"'FIN PAT MARK SHEET'!AH72","v":0},"",{"$f":"TERM4!AA70","v":0},{"$f":"TERM4!AC70","v":0},0,0,""]
[null,null,56,56,{"$f":"INSERT!A58","v":0},{"$f":"INSERT!B58","v":0},{"$f":"INSERT!C58","v":0},{"$f":"INSERT!D58","v":0},{"$f":"INSERT!E58","v":0},{"$f":"TERM1!Z71","v":"0"},{"$f":"TERM1!AR71","v":"0"},{"$f":"TERM1!BJ71","v":"0"},{"$f":"TERM1!CB71","v":"0"},0,{"$f":"TERM2!Z71","v":0},{"$f":"TERM2!AR71","v":0},{"$f":"TERM2!BJ71","v":0},0,{"$f":"TERM3!Z71","v":0},{"$f":"TERM3!AR71","v":0},{"$f":"TERM3!BJ71","v":0},{"$f":"TERM3!CB71","v":0},{"$f":"TERM3!CT71","v":0},0,{"$f":"TERM4!Z71","v":0},0,0,{"$f":"TERM2!BO71","v":0},0,null,0,"",{"$f":"'FIN PAT MARK SHEET'!AH73","v":0},"",{"$f":"TERM4!AA71","v":0},{"$f":"TERM4!AC71","v":0},0,0,""]
[null,null,57,57,{"$f":"INSERT!A59","v":0},{"$f":"INSERT!B59","v":0},{"$f":"INSERT!C59","v":0},{"$f":"INSERT!D59","v":0},{"$f":"INSERT!E59","v":0},{"$f":"TERM1!Z72","v":"0"},{"$f":"TERM1!AR72","v":"0"},{"$f":"TERM1!BJ72","v":"0"},{"$f":"TERM1!CB72","v":"0"},0,{"$f":"TERM2!Z72","v":0},{"$f":"TERM2!AR72","v":0},{"$f":"TERM2!BJ72","v":0},0,{"$f":"TERM3!Z72","v":0},{"$f":"TERM3!AR72","v":0},{"$f":"TERM3!BJ72","v":0},{"$f":"TERM3!CB72","v":0},{"$f":"TERM3!CT72","v":0},0,{"$f":"TERM4!Z72","v":0},0,0,{"$f":"TERM2!BO72","v":0},0,null,0,"",{"$f":"'FIN PAT MARK SHEET'!AH74","v":0},"",{"$f":"TERM4!AA72","v":0},{"$f":"TERM4!AC72","v":0},0,0,""]
[null,null,58,58,{"$f":"INSERT!A60","v":0},{"$f":"INSERT!B60","v":0},{"$f":"INSERT!C60","v":0},{"$f":"INSERT!D60","v":0},{"$f":"INSERT!E60","v":0},{"$f":"TERM1!Z73","v":"0"},{"$f":"TERM1!AR73","v":"0"},{"$f":"TERM1!BJ73","v":"0"},{"$f":"TERM1!CB73","v":"0"},0,{"$f":"TERM2!Z73","v":0},{"$f":"TERM2!AR73","v":0},{"$f":"TERM2!BJ73","v":0},0,{"$f":"TERM3!Z73","v":0},{"$f":"TERM3!AR73","v":0},{"$f":"TERM3!BJ73","v":0},{"$f":"TERM3!CB73","v":0},{"$f":"TERM3!CT73","v":0},0,{"$f":"TERM4!Z73","v":0},0,0,{"$f":"TERM2!BO73","v":0},0,null,0,"",{"$f":"'FIN PAT MARK SHEET'!AH75","v":0},"",{"$f":"TERM4!AA73","v":0},{"$f":"TERM4!AC73","v":0},0,0,""]
[null,null,59,59,{"$f":"INSERT!A61","v":0},{"$f":"INSERT!B61","v":0},{"$f":"INSERT!C61","v":0},{"$f":"INSERT!D61","v":0},{"$f":"INSERT!E61","v":0},{"$f":"TERM1!Z74","v":"0"},{"$f":"TERM1!AR74","v":"0"},{"$f":"TERM1!BJ74","v":"0"},{"$f":"TERM1!CB74","v":"0"},0,{"$f":"TERM2!Z74","v":0},{"$f":"TERM2!AR74","v":0},{"$f":"TERM2!BJ74","v":0},0,{"$f":"TERM3!Z74","v":0},{"$f":"TERM3!AR74","v":0},{"$f":"TERM3!BJ74","v":0},{"$f":"TERM3!CB74","v":0},{"$f":"TERM3!CT74","v":0},0,{"$f":"TERM4!Z74","v":0},0,0,{"$f":"TERM2!BO74","v":0},0,null,0,"",{"$f":"'FIN PAT MARK SHEET'!AH76","v":0},"",{"$f":"TERM4!AA74","v":0},{"$f":"TERM4!AC74","v":0},0,0,""]
[null,null,60,60,{"$f":"INSERT!A62","v":0},{"$f":"INSERT!B62","v":0},{"$f":"INSERT!C62","v":0},{"$f":"INSERT!D62","v":0},{"$f":"INSERT!E62","v":0},{"$f":"TERM1!Z75","v":"0"},{"$f":"TERM1!AR75","v":"0"},{"$f":"TERM1!BJ75","v":"0"},{"$f":"TERM1!CB75","v":"0"},0,{"$f":"TERM2!Z75","v":0},{"$f":"TERM2!AR75","v":0},{"$f":"TERM2!BJ75","v":0},0,{"$f":"TERM3!Z75","v":0},{"$f":"TERM3!AR75","v":0},{"$f":"TERM3!BJ75","v":0},{"$f":"TERM3!CB75","v":0},{"$f":"TERM3!CT75","v":0},0,{"$f":"TERM4!Z75","v":0},0,0,{"$f":"TERM2!BO75","v":0},0,null,0,"",{"$f":"'FIN PAT MARK SHEET'!AH77","v":0},"",{"$f":"TERM4!AA75","v":0},{"$f":"TERM4!AC75","v":0},0,0,""]
[null,null,61,61,{"$f":"INSERT!A63","v":0},{"$f":"INSERT!B63","v":0},{"$f":"INSERT!C63","v":0},{"$f":"INSERT!D63","v":0},{"$f":"INSERT!E63","v":0},{"$f":"TERM1!Z76","v":"0"},{"$f":"TERM1!AR76","v":"0"},{"$f":"TERM1!BJ76","v":"0"},{"$f":"TERM1!CB76","v":"0"},0,{"$f":"TERM2!Z76","v":0},{"$f":"TERM2!AR76","v":0},{"$f":"TERM2!BJ76","v":0},0,{"$f":"TERM3!Z76","v":0},{"$f":"TERM3!AR76","v":0},{"$f":"TERM3!BJ76","v":0},{"$f":"TERM3!CB76","v":0},{"$f":"TERM3!CT76","v":0},0,{"$f":"TERM4!Z76","v":0},0,0,{"$f":"TERM2!BO76","v":0},0,null,0,"",{"$f":"'FIN PAT MARK SHEET'!AH78","v":0},"",{"$f":"TERM4!AA76","v":0},{"$f":"TERM4!AC76","v":0},0,0,""]
[null,2,62,62,{"$f":"INSERT!A64","v":0},{"$f":"INSERT!B64","v":0},{"$f":"INSERT!C64","v":0},{"$f":"INSERT!D64","v":0},{"$f":"INSERT!E64","v":0},{"$f":"TERM1!Z77","v":"0"},{"$f":"TERM1!AR77","v":"0"},{"$f":"TERM1!BJ77","v":"0"},{"$f":"TERM1!CB77","v":"0"},0,{"$f":"TERM2!Z77","v":0},{"$f":"TERM2!AR77","v":0},{"$f":"TERM2!BJ77","v":0},0,{"$f":"TERM3!Z77","v":0},{"$f":"TERM3!AR77","v":0},{"$f":"TERM3!BJ77","v":0},{"$f":"TERM3!CB77","v":0},{"$f":"TERM3!CT77","v":0},0,{"$f":"TERM4!Z77","v":0},0,0,{"$f":"TERM2!BO77","v":0},0,null,0,"",{"$f":"'FIN PAT MARK SHEET'!AH79","v":0},"",{"$f":"TERM4!AA77","v":0},{"$f":"TERM4!AC77","v":0},0,0,""]
[null,2,63,63,{"$f":"INSERT!A65","v":0},{"$f":"INSERT!B65","v":0},{"$f":"INSERT!C65","v":0},{"$f":"INSERT!D65","v":0},{"$f":"INSERT!E65","v":0},{"$f":"TERM1!Z78","v":"0"},{"$f":"TERM1!AR78","v":"0"},{"$f":"TERM1!BJ78","v":"0"},{"$f":"TERM1!CB78","v":"0"},0,{"$f":"TERM2!Z78","v":0},{"$f":"TERM2!AR78","v":0},{"$f":"TERM2!BJ78","v":0},0,{"$f":"TERM3!Z78","v":0},{"$f":"TERM3!AR78","v":0},{"$f":"TERM3!BJ78","v":0},{"$f":"TERM3!CB78","v":0},{"$f":"TERM3!CT78","v":0},0,{"$f":"TERM4!Z78","v":0},0,0,{"$f":"TERM2!BO78","v":0},0,null,0,"",{"$f":"'FIN PAT MARK SHEET'!AH80","v":0},"",{"$f":"TERM4!AA78","v":0},{"$f":"TERM4!AC78","v":0},0,0,""]
[null,2,64,64,{"$f":"INSERT!A66","v":0},{"$f":"INSERT!B66","v":0},{"$f":"INSERT!C66","v":0},{"$f":"INSERT!D66","v":0},{"$f":"INSERT!E66","v":0},{"$f":"TERM1!Z79","v":"0"},{"$f":"TERM1!AR79","v":"0"},{"$f":"TERM1!BJ79","v":"0"},{"$f":"TERM1!CB79","v":"0"},0,{"$f":"TERM2!Z79","v":0},{"$f":"TERM2!AR79","v":0},{"$f":"TERM2!BJ79","v":0},0,{"$f":"TERM3!Z79","v":0},{"$f":"TERM3!AR79","v":0},{"$f":"TERM3!BJ79","v":0},{"$f":"TERM3!CB79","v":0},{"$f":"TERM3!CT79","v":0},0,{"$f":"TERM4!Z79","v":0},0,0,{"$f":"TERM2!BO79","v":0},0,null,0,"",{"$f":"'FIN PAT MARK SHEET'!AH81","v":0},"",{"$f":"TERM4!AA79","v":0},{"$f":"TERM4!AC79","v":0},0,0,""]
[null,2,65,65,{"$f":"INSERT!A67","v":0},{"$f":"INSERT!B67","v":0},{"$f":"INSERT!C67","v":0},{"$f":"INSERT!D67","v":0},{"$f":"INSERT!E67","v":0},{"$f":"TERM1!Z80","v":"0"},{"$f":"TERM1!AR80","v":"0"},{"$f":"TERM1!BJ80","v":"0"},{"$f":"TERM1!CB80","v":"0"},0,{"$f":"TERM2!Z80","v":0},{"$f":"TERM2!AR80","v":0},{"$f":"TERM2!BJ80","v":0},0,{"$f":"TERM3!Z80","v":0},{"$f":"TERM3!AR80","v":0},{"$f":"TERM3!BJ80","v":0},{"$f":"TERM3!CB80","v":0},{"$f":"TERM3!CT80","v":0},0,{"$f":"TERM4!Z80","v":0},0,{"$f":"SUM(N83+R83+X83+Z83)","v":0},{"$f":"TERM2!BO80","v":0},0,null,0,"",{"$f":"'FIN PAT MARK SHEET'!AH82","v":0},{"$f":"IF(AG83>79,\"7\",IF(AG83>69,\"6\",IF(AG83>59,\"5\",IF(AG83>49,\"4\",IF(AG83>39,\"3\",IF(AG83>29,\"2\",IF(AG83>0,\"1\",IF(AG83=0,\"\"))))))))","v":""},{"$f":"TERM4!AA80","v":0},{"$f":"TERM4!AC80","v":0},0,0,{"$f":"IF(AL83>79,\"7\",IF(AL83>69,\"6\",IF(AL83>59,\"5\",IF(AL83>49,\"4\",IF(AL83>39,\"3\",IF(AL83>29,\"2\",IF(AL83>0,\"1\",IF(AL83=0,\"\"))))))))","v":""}]
[null,2,66,66,{"$f":"INSERT!A68","v":0},{"$f":"INSERT!B68","v":0},{"$f":"INSERT!C68","v":0},{"$f":"INSERT!D68","v":0},{"$f":"INSERT!E68","v":0},{"$f":"TERM1!Z81","v":"0"},{"$f":"TERM1!AR81","v":"0"},{"$f":"TERM1!BJ81","v":"0"},{"$f":"TERM1!CB81","v":"0"},{"$f":"ROUND((SUM(J84:M84)/3.076923076),0)","v":0},{"$f":"TERM2!Z81","v":0},{"$f":"TERM2!AR81","v":0},{"$f":"TERM2!BJ81","v":0},{"$f":"ROUND((SUM(O84:Q84)/3.333333333),0)","v":0},{"$f":"TERM3!Z81","v":0},{"$f":"TERM3!AR81","v":0},{"$f":"TERM3!BJ81","v":0},{"$f":"TERM3!CB81","v":0},{"$f":"TERM3!CT81","v":0},{"$f":"ROUND((SUM(S84:W84)/3.3333333333),0)","v":0},{"$f":"TERM4!Z81","v":0},{"$f":"ROUND(SUM(Y84/3.3333333333),0)","v":0},0,{"$f":"TERM2!BO81","v":0},{"$f":"SUM(AB84/2.5)","v":0},null,{"$f":"SUM(AA84+AC84)","v":0},"",{"$f":"'FIN PAT MARK SHEET'!AH83","v":0},"",{"$f":"TERM4!AA81","v":0},{"$f":"TERM4!AC81","v":0},{"$f":"SUM(AI84:AJ84)","v":0},{"$f":"SUM(AE84/2.5)+SUM(AG84/5)+SUM(AK84/5)","v":0},""]
[null,2,{"$f":"C84+1","v":67},67,{"$f":"INSERT!A69","v":0},{"$f":"INSERT!B69","v":0},{"$f":"INSERT!C69","v":0},{"$f":"INSERT!D69","v":0},{"$f":"INSERT!E69","v":0},{"$f":"TERM1!Z82","v":"0"},{"$f":"TERM1!AR82","v":"0"},{"$f":"TERM1!BJ82","v":"0"},{"$f":"TERM1!CB82","v":"0"},0,{"$f":"TERM2!Z82","v":0},{"$f":"TERM2!AR82","v":0},{"$f":"TERM2!BJ82","v":0},0,{"$f":"TERM3!Z82","v":0},{"$f":"TERM3!AR82","v":0},{"$f":"TERM3!BJ82","v":0},{"$f":"TERM3!CB82","v":0},{"$f":"TERM3!CT82","v":0},0,{"$f":"TERM4!Z82","v":0},0,0,{"$f":"TERM2!BO82","v":0},0,null,0,"",{"$f":"'FIN PAT MARK SHEET'!AH84","v":0},"",{"$f":"TERM4!AA82","v":0},{"$f":"TERM4!AC82","v":0},0,0,""]
[null,2,68,68,{"$f":"INSERT!A70","v":0},{"$f":"INSERT!B70","v":0},{"$f":"INSERT!C70","v":0},{"$f":"INSERT!D70","v":0},{"$f":"INSERT!E70","v":0},{"$f":"TERM1!Z83","v":"0"},{"$f":"TERM1!AR83","v":"0"},{"$f":"TERM1!BJ83","v":"0"},{"$f":"TERM1!CB83","v":"0"},0,{"$f":"TERM2!Z83","v":0},{"$f":"TERM2!AR83","v":0},{"$f":"TERM2!BJ83","v":0},0,{"$f":"TERM3!Z83","v":0},{"$f":"TERM3!AR83","v":0},{"$f":"TERM3!BJ83","v":0},{"$f":"TERM3!CB83","v":0},{"$f":"TERM3!CT83","v":0},0,{"$f":"TERM4!Z83","v":0},0,0,{"$f":"TERM2!BO83","v":0},0,null,0,"",{"$f":"'FIN PAT MARK SHEET'!AH85","v":0},"",{"$f":"TERM4!AA83","v":0},{"$f":"TERM4!AC83","v":0},0,0,""]
[null,2,69,69,{"$f":"INSERT!A71","v":0},{"$f":"INSERT!B71","v":0},{"$f":"INSERT!C71","v":0},{"$f":"INSERT!D71","v":0},{"$f":"INSERT!E71","v":0},{"$f":"TERM1!Z84","v":"0"},{"$f":"TERM1!AR84","v":"0"},{"$f":"TERM1!BJ84","v":"0"},{"$f":"TERM1!CB84","v":"0"},0,{"$f":"TERM2!Z84","v":0},{"$f":"TERM2!AR84","v":0},{"$f":"TERM2!BJ84","v":0},0,{"$f":"TERM3!Z84","v":0},{"$f":"TERM3!AR84","v":0},{"$f":"TERM3!BJ84","v":0},{"$f":"TERM3!CB84","v":0},{"$f":"TERM3!CT84","v":0},0,{"$f":"TERM4!Z84","v":0},0,0,{"$f":"TERM2!BO84","v":0},0,null,0,"",{"$f":"'FIN PAT MARK SHEET'!AH86","v":0},"",{"$f":"TERM4!AA84","v":0},{"$f":"TERM4!AC84","v":0},0,0,""]
[null,2,70,70,{"$f":"INSERT!A72","v":0},{"$f":"INSERT!B72","v":0},{"$f":"INSERT!C72","v":0},{"$f":"INSERT!D72","v":0},{"$f":"INSERT!E72","v":0},{"$f":"TERM1!Z85","v":"0"},{"$f":"TERM1!AR85","v":"0"},{"$f":"TERM1!BJ85","v":"0"},{"$f":"TERM1!CB85","v":"0"},0,{"$f":"TERM2!Z85","v":0},{"$f":"TERM2!AR85","v":0},{"$f":"TERM2!BJ85","v":0},0,{"$f":"TERM3!Z85","v":0},{"$f":"TERM3!AR85","v":0},{"$f":"TERM3!BJ85","v":0},{"$f":"TERM3!CB85","v":0},{"$f":"TERM3!CT85","v":0},0,{"$f":"TERM4!Z85","v":0},0,0,{"$f":"TERM2!BO85","v":0},0,null,0,"",{"$f":"'FIN PAT MARK SHEET'!AH87","v":0},"",{"$f":"TERM4!AA85","v":0},{"$f":"TERM4!AC85","v":0},0,0,""]
[null,2,71,71,{"$f":"INSERT!A73","v":0},{"$f":"INSERT!B73","v":0},{"$f":"INSERT!C73","v":0},{"$f":"INSERT!D73","v":0},{"$f":"INSERT!E73","v":0},{"$f":"TERM1!Z86","v":"0"},{"$f":"TERM1!AR86","v":"0"},{"$f":"TERM1!BJ86","v":"0"},{"$f":"TERM1!CB86","v":"0"},0,{"$f":"TERM2!Z86","v":0},{"$f":"TERM2!AR86","v":0},{"$f":"TERM2!BJ86","v":0},0,{"$f":"TERM3!Z86","v":0},{"$f":"TERM3!AR86","v":0},{"$f":"TERM3!BJ86","v":0},{"$f":"TERM3!CB86","v":0},{"$f":"TERM3!CT86","v":0},0,{"$f":"TERM4!Z86","v":0},0,0,{"$f":"TERM2!BO86","v":0},0,null,0,"",{"$f":"'FIN PAT MARK SHEET'!AH88","v":0},"",{"$f":"TERM4!AA86","v":0},{"$f":"TERM4!AC86","v":0},0,0,""]
[null,2,72,72,{"$f":"INSERT!A74","v":0},{"$f":"INSERT!B74","v":0},{"$f":"INSERT!C74","v":0},{"$f":"INSERT!D74","v":0},{"$f":"INSERT!E74","v":0},{"$f":"TERM1!Z87","v":"0"},{"$f":"TERM1!AR87","v":"0"},{"$f":"TERM1!BJ87","v":"0"},{"$f":"TERM1!CB87","v":"0"},0,{"$f":"TERM2!Z87","v":0},{"$f":"TERM2!AR87","v":0},{"$f":"TERM2!BJ87","v":0},0,{"$f":"TERM3!Z87","v":0},{"$f":"TERM3!AR87","v":0},{"$f":"TERM3!BJ87","v":0},{"$f":"TERM3!CB87","v":0},{"$f":"TERM3!CT87","v":0},0,{"$f":"TERM4!Z87","v":0},0,0,{"$f":"TERM2!BO87","v":0},0,null,0,"",{"$f":"'FIN PAT MARK SHEET'!AH89","v":0},"",{"$f":"TERM4!AA87","v":0},{"$f":"TERM4!AC87","v":0},0,0,""]
[null,2,73,73,{"$f":"INSERT!A75","v":0},{"$f":"INSERT!B75","v":0},{"$f":"INSERT!C75","v":0},{"$f":"INSERT!D75","v":0},{"$f":"INSERT!E75","v":0},{"$f":"TERM1!Z88","v":"0"},{"$f":"TERM1!AR88","v":"0"},{"$f":"TERM1!BJ88","v":"0"},{"$f":"TERM1!CB88","v":"0"},0,{"$f":"TERM2!Z88","v":0},{"$f":"TERM2!AR88","v":0},{"$f":"TERM2!BJ88","v":0},0,{"$f":"TERM3!Z88","v":0},{"$f":"TERM3!AR88","v":0},{"$f":"TERM3!BJ88","v":0},{"$f":"TERM3!CB88","v":0},{"$f":"TERM3!CT88","v":0},0,{"$f":"TERM4!Z88","v":0},0,0,{"$f":"TERM2!BO88","v":0},0,null,0,"",{"$f":"'FIN PAT MARK SHEET'!AH90","v":0},"",{"$f":"TERM4!AA88","v":0},{"$f":"TERM4!AC88","v":0},0,0,""]
[null,2,{"$f":"C91+1","v":74},74,{"$f":"INSERT!A76","v":0},{"$f":"INSERT!B76","v":0},{"$f":"INSERT!C76","v":0},{"$f":"INSERT!D76","v":0},{"$f":"INSERT!E76","v":0},{"$f":"TERM1!Z89","v":"0"},{"$f":"TERM1!AR89","v":"0"},{"$f":"TERM1!BJ89","v":"0"},{"$f":"TERM1!CB89","v":"0"},0,{"$f":"TERM2!Z89","v":0},{"$f":"TERM2!AR89","v":0},{"$f":"TERM2!BJ89","v":0},0,{"$f":"TERM3!Z89","v":0},{"$f":"TERM3!AR89","v":0},{"$f":"TERM3!BJ89","v":0},{"$f":"TERM3!CB89","v":0},{"$f":"TERM3!CT89","v":0},0,{"$f":"TERM4!Z89","v":0},0,0,{"$f":"TERM2!BO89","v":0},0,null,0,"",{"$f":"'FIN PAT MARK SHEET'!AH91","v":0},"",{"$f":"TERM4!AA89","v":0},{"$f":"TERM4!AC89","v":0},0,0,""]
[null,2,75,75,{"$f":"INSERT!A77","v":0},{"$f":"INSERT!B77","v":0},{"$f":"INSERT!C77","v":0},{"$f":"INSERT!D77","v":0},{"$f":"INSERT!E77","v":0},{"$f":"TERM1!Z90","v":"0"},{"$f":"TERM1!AR90","v":"0"},{"$f":"TERM1!BJ90","v":"0"},{"$f":"TERM1!CB90","v":"0"},0,{"$f":"TERM2!Z90","v":0},{"$f":"TERM2!AR90","v":0},{"$f":"TERM2!BJ90","v":0},0,{"$f":"TERM3!Z90","v":0},{"$f":"TERM3!AR90","v":0},{"$f":"TERM3!BJ90","v":0},{"$f":"TERM3!CB90","v":0},{"$f":"TERM3!CT90","v":0},0,{"$f":"TERM4!Z90","v":0},0,0,{"$f":"TERM2!BO90","v":0},0,null,0,"",{"$f":"'FIN PAT MARK SHEET'!AH92","v":0},"",{"$f":"TERM4!AA90","v":0},{"$f":"TERM4!AC90","v":0},0,0,""]
[null,2,76,76,{"$f":"INSERT!A78","v":0},{"$f":"INSERT!B78","v":0},{"$f":"INSERT!C78","v":0},{"$f":"INSERT!D78","v":0},{"$f":"INSERT!E78","v":0},{"$f":"TERM1!Z91","v":"0"},{"$f":"TERM1!AR91","v":"0"},{"$f":"TERM1!BJ91","v":"0"},{"$f":"TERM1!CB91","v":"0"},0,{"$f":"TERM2!Z91","v":0},{"$f":"TERM2!AR91","v":0},{"$f":"TERM2!BJ91","v":0},0,{"$f":"TERM3!Z91","v":0},{"$f":"TERM3!AR91","v":0},{"$f":"TERM3!BJ91","v":0},{"$f":"TERM3!CB91","v":0},{"$f":"TERM3!CT91","v":0},0,{"$f":"TERM4!Z91","v":0},0,0,{"$f":"TERM2!BO91","v":0},0,null,0,"",{"$f":"'FIN PAT MARK SHEET'!AH93","v":0},"",{"$f":"TERM4!AA91","v":0},{"$f":"TERM4!AC91","v":0},0,0,""]
[null,2,77,77,{"$f":"INSERT!A79","v":0},{"$f":"INSERT!B79","v":0},{"$f":"INSERT!C79","v":0},{"$f":"INSERT!D79","v":0},{"$f":"INSERT!E79","v":0},{"$f":"TERM1!Z92","v":"0"},{"$f":"TERM1!AR92","v":"0"},{"$f":"TERM1!BJ92","v":"0"},{"$f":"TERM1!CB92","v":"0"},0,{"$f":"TERM2!Z92","v":0},{"$f":"TERM2!AR92","v":0},{"$f":"TERM2!BJ92","v":0},0,{"$f":"TERM3!Z92","v":0},{"$f":"TERM3!AR92","v":0},{"$f":"TERM3!BJ92","v":0},{"$f":"TERM3!CB92","v":0},{"$f":"TERM3!CT92","v":0},0,{"$f":"TERM4!Z92","v":0},0,0,{"$f":"TERM2!BO92","v":0},0,null,0,"",{"$f":"'FIN PAT MARK SHEET'!AH94","v":0},"",{"$f":"TERM4!AA92","v":0},{"$f":"TERM4!AC92","v":0},0,0,""]
[null,2,78,78,{"$f":"INSERT!A80","v":0},{"$f":"INSERT!B80","v":0},{"$f":"INSERT!C80","v":0},{"$f":"INSERT!D80","v":0},{"$f":"INSERT!E80","v":0},{"$f":"TERM1!Z93","v":"0"},{"$f":"TERM1!AR93","v":"0"},{"$f":"TERM1!BJ93","v":"0"},{"$f":"TERM1!CB93","v":"0"},0,{"$f":"TERM2!Z93","v":0},{"$f":"TERM2!AR93","v":0},{"$f":"TERM2!BJ93","v":0},0,{"$f":"TERM3!Z93","v":0},{"$f":"TERM3!AR93","v":0},{"$f":"TERM3!BJ93","v":0},{"$f":"TERM3!CB93","v":0},{"$f":"TERM3!CT93","v":0},0,{"$f":"TERM4!Z93","v":0},0,0,{"$f":"TERM2!BO93","v":0},0,null,0,"",{"$f":"'FIN PAT MARK SHEET'!AH95","v":0},"",{"$f":"TERM4!AA93","v":0},{"$f":"TERM4!AC93","v":0},0,0,""]
[null,2,79,79,{"$f":"INSERT!A81","v":0},{"$f":"INSERT!B81","v":0},{"$f":"INSERT!C81","v":0},{"$f":"INSERT!D81","v":0},{"$f":"INSERT!E81","v":0},{"$f":"TERM1!Z94","v":"0"},{"$f":"TERM1!AR94","v":"0"},{"$f":"TERM1!BJ94","v":"0"},{"$f":"TERM1!CB94","v":"0"},0,{"$f":"TERM2!Z94","v":0},{"$f":"TERM2!AR94","v":0},{"$f":"TERM2!BJ94","v":0},0,{"$f":"TERM3!Z94","v":0},{"$f":"TERM3!AR94","v":0},{"$f":"TERM3!BJ94","v":0},{"$f":"TERM3!CB94","v":0},{"$f":"TERM3!CT94","v":0},0,{"$f":"TERM4!Z94","v":0},0,0,{"$f":"TERM2!BO94","v":0},0,null,0,"",{"$f":"'FIN PAT MARK SHEET'!AH96","v":0},"",{"$f":"TERM4!AA94","v":0},{"$f":"TERM4!AC94","v":0},0,0,""]
[null,2,80,80,{"$f":"INSERT!A82","v":0},{"$f":"INSERT!B82","v":0},{"$f":"INSERT!C82","v":0},{"$f":"INSERT!D82","v":0},{"$f":"INSERT!E82","v":0},{"$f":"TERM1!Z95","v":"0"},{"$f":"TERM1!AR95","v":"0"},{"$f":"TERM1!BJ95","v":"0"},{"$f":"TERM1!CB95","v":"0"},0,{"$f":"TERM2!Z95","v":0},{"$f":"TERM2!AR95","v":0},{"$f":"TERM2!BJ95","v":0},0,{"$f":"TERM3!Z95","v":0},{"$f":"TERM3!AR95","v":0},{"$f":"TERM3!BJ95","v":0},{"$f":"TERM3!CB95","v":0},{"$f":"TERM3!CT95","v":0},0,{"$f":"TERM4!Z95","v":0},0,0,{"$f":"TERM2!BO95","v":0},0,null,0,"",{"$f":"'FIN PAT MARK SHEET'!AH97","v":0},"",{"$f":"TERM4!AA95","v":0},{"$f":"TERM4!AC95","v":0},0,0,""]
[null,2,81,81,{"$f":"INSERT!A83","v":0},{"$f":"INSERT!B83","v":0},{"$f":"INSERT!C83","v":0},{"$f":"INSERT!D83","v":0},{"$f":"INSERT!E83","v":0},{"$f":"TERM1!Z96","v":"0"},{"$f":"TERM1!AR96","v":"0"},{"$f":"TERM1!BJ96","v":"0"},{"$f":"TERM1!CB96","v":"0"},0,{"$f":"TERM2!Z96","v":0},{"$f":"TERM2!AR96","v":0},{"$f":"TERM2!BJ96","v":0},0,{"$f":"TERM3!Z96","v":0},{"$f":"TERM3!AR96","v":0},{"$f":"TERM3!BJ96","v":0},{"$f":"TERM3!CB96","v":0},{"$f":"TERM3!CT96","v":0},0,{"$f":"TERM4!Z96","v":0},0,0,{"$f":"TERM2!BO96","v":0},0,null,0,"",{"$f":"'FIN PAT MARK SHEET'!AH98","v":0},"",{"$f":"TERM4!AA96","v":0},{"$f":"TERM4!AC96","v":0},0,0,""]
[null,2,82,82,{"$f":"INSERT!A84","v":0},{"$f":"INSERT!B84","v":0},{"$f":"INSERT!C84","v":0},{"$f":"INSERT!D84","v":0},{"$f":"INSERT!E84","v":0},{"$f":"TERM1!Z97","v":"0"},{"$f":"TERM1!AR97","v":"0"},{"$f":"TERM1!BJ97","v":"0"},{"$f":"TERM1!CB97","v":"0"},0,{"$f":"TERM2!Z97","v":0},{"$f":"TERM2!AR97","v":0},{"$f":"TERM2!BJ97","v":0},0,{"$f":"TERM3!Z97","v":0},{"$f":"TERM3!AR97","v":0},{"$f":"TERM3!BJ97","v":0},{"$f":"TERM3!CB97","v":0},{"$f":"TERM3!CT97","v":0},0,{"$f":"TERM4!Z97","v":0},0,0,{"$f":"TERM2!BO97","v":0},0,null,0,"",{"$f":"'FIN PAT MARK SHEET'!AH99","v":0},"",{"$f":"TERM4!AA97","v":0},{"$f":"TERM4!AC97","v":0},0,0,""]
[null,2,83,83,{"$f":"INSERT!A85","v":0},{"$f":"INSERT!B85","v":0},{"$f":"INSERT!C85","v":0},{"$f":"INSERT!D85","v":0},{"$f":"INSERT!E85","v":0},{"$f":"TERM1!Z98","v":"0"},{"$f":"TERM1!AR98","v":"0"},{"$f":"TERM1!BJ98","v":"0"},{"$f":"TERM1!CB98","v":"0"},0,{"$f":"TERM2!Z98","v":0},{"$f":"TERM2!AR98","v":0},{"$f":"TERM2!BJ98","v":0},0,{"$f":"TERM3!Z98","v":0},{"$f":"TERM3!AR98","v":0},{"$f":"TERM3!BJ98","v":0},{"$f":"TERM3!CB98","v":0},{"$f":"TERM3!CT98","v":0},0,{"$f":"TERM4!Z98","v":0},0,0,{"$f":"TERM2!BO98","v":0},0,null,0,"",{"$f":"'FIN PAT MARK SHEET'!AH100","v":0},"",{"$f":"TERM4!AA98","v":0},{"$f":"TERM4!AC98","v":0},0,0,""]
[null,2,84,84,{"$f":"INSERT!A86","v":0},{"$f":"INSERT!B86","v":0},{"$f":"INSERT!C86","v":0},{"$f":"INSERT!D86","v":0},{"$f":"INSERT!E86","v":0},{"$f":"TERM1!Z99","v":"0"},{"$f":"TERM1!AR99","v":"0"},{"$f":"TERM1!BJ99","v":"0"},{"$f":"TERM1!CB99","v":"0"},0,{"$f":"TERM2!Z99","v":0},{"$f":"TERM2!AR99","v":0},{"$f":"TERM2!BJ99","v":0},0,{"$f":"TERM3!Z99","v":0},{"$f":"TERM3!AR99","v":0},{"$f":"TERM3!BJ99","v":0},{"$f":"TERM3!CB99","v":0},{"$f":"TERM3!CT99","v":0},0,{"$f":"TERM4!Z99","v":0},0,0,{"$f":"TERM2!BO99","v":0},0,null,0,"",{"$f":"'FIN PAT MARK SHEET'!AH101","v":0},"",{"$f":"TERM4!AA99","v":0},{"$f":"TERM4!AC99","v":0},0,0,""]
[null,2,85,85,{"$f":"INSERT!A87","v":0},{"$f":"INSERT!B87","v":0},{"$f":"INSERT!C87","v":0},{"$f":"INSERT!D87","v":0},{"$f":"INSERT!E87","v":0},{"$f":"TERM1!Z100","v":"0"},{"$f":"TERM1!AR100","v":"0"},{"$f":"TERM1!BJ100","v":"0"},{"$f":"TERM1!CB100","v":"0"},0,{"$f":"TERM2!Z100","v":0},{"$f":"TERM2!AR100","v":0},{"$f":"TERM2!BJ100","v":0},0,{"$f":"TERM3!Z100","v":0},{"$f":"TERM3!AR100","v":0},{"$f":"TERM3!BJ100","v":0},{"$f":"TERM3!CB100","v":0},{"$f":"TERM3!CT100","v":0},0,{"$f":"TERM4!Z100","v":0},0,0,{"$f":"TERM2!BO100","v":0},0,null,0,"",{"$f":"'FIN PAT MARK SHEET'!AH102","v":0},"",{"$f":"TERM4!AA100","v":0},{"$f":"TERM4!AC100","v":0},0,0,""]
[null,2,86,86,{"$f":"INSERT!A88","v":0},{"$f":"INSERT!B88","v":0},{"$f":"INSERT!C88","v":0},{"$f":"INSERT!D88","v":0},{"$f":"INSERT!E88","v":0},{"$f":"TERM1!Z101","v":"0"},{"$f":"TERM1!AR101","v":"0"},{"$f":"TERM1!BJ101","v":"0"},{"$f":"TERM1!CB101","v":"0"},0,{"$f":"TERM2!Z101","v":0},{"$f":"TERM2!AR101","v":0},{"$f":"TERM2!BJ101","v":0},0,{"$f":"TERM3!Z101","v":0},{"$f":"TERM3!AR101","v":0},{"$f":"TERM3!BJ101","v":0},{"$f":"TERM3!CB101","v":0},{"$f":"TERM3!CT101","v":0},0,{"$f":"TERM4!Z101","v":0},0,0,{"$f":"TERM2!BO101","v":0},0,null,0,"",{"$f":"'FIN PAT MARK SHEET'!AH103","v":0},"",{"$f":"TERM4!AA101","v":0},{"$f":"TERM4!AC101","v":0},0,0,""]
[null,2,87,87,{"$f":"INSERT!A89","v":0},{"$f":"INSERT!B89","v":0},{"$f":"INSERT!C89","v":0},{"$f":"INSERT!D89","v":0},{"$f":"INSERT!E89","v":0},{"$f":"TERM1!Z102","v":"0"},{"$f":"TERM1!AR102","v":"0"},{"$f":"TERM1!BJ102","v":"0"},{"$f":"TERM1!CB102","v":"0"},0,{"$f":"TERM2!Z102","v":0},{"$f":"TERM2!AR102","v":0},{"$f":"TERM2!BJ102","v":0},0,{"$f":"TERM3!Z102","v":0},{"$f":"TERM3!AR102","v":0},{"$f":"TERM3!BJ102","v":0},{"$f":"TERM3!CB102","v":0},{"$f":"TERM3!CT102","v":0},0,{"$f":"TERM4!Z102","v":0},0,0,{"$f":"TERM2!BO102","v":0},0,null,0,"",{"$f":"'FIN PAT MARK SHEET'!AH104","v":0},"",{"$f":"TERM4!AA102","v":0},{"$f":"TERM4!AC102","v":0},0,0,""]
[null,2,88,88,{"$f":"INSERT!A90","v":0},{"$f":"INSERT!B90","v":0},{"$f":"INSERT!C90","v":0},{"$f":"INSERT!D90","v":0},{"$f":"INSERT!E90","v":0},{"$f":"TERM1!Z103","v":"0"},{"$f":"TERM1!AR103","v":"0"},{"$f":"TERM1!BJ103","v":"0"},{"$f":"TERM1!CB103","v":"0"},0,{"$f":"TERM2!Z103","v":0},{"$f":"TERM2!AR103","v":0},{"$f":"TERM2!BJ103","v":0},0,{"$f":"TERM3!Z103","v":0},{"$f":"TERM3!AR103","v":0},{"$f":"TERM3!BJ103","v":0},{"$f":"TERM3!CB103","v":0},{"$f":"TERM3!CT103","v":0},0,{"$f":"TERM4!Z103","v":0},0,0,{"$f":"TERM2!BO103","v":0},0,null,0,"",{"$f":"'FIN PAT MARK SHEET'!AH105","v":0},"",{"$f":"TERM4!AA103","v":0},{"$f":"TERM4!AC103","v":0},0,0,""]
[null,2,89,89,{"$f":"INSERT!A91","v":0},{"$f":"INSERT!B91","v":0},{"$f":"INSERT!C91","v":0},{"$f":"INSERT!D91","v":0},{"$f":"INSERT!E91","v":0},{"$f":"TERM1!Z104","v":"0"},{"$f":"TERM1!AR104","v":"0"},{"$f":"TERM1!BJ104","v":"0"},{"$f":"TERM1!CB104","v":"0"},0,{"$f":"TERM2!Z104","v":0},{"$f":"TERM2!AR104","v":0},{"$f":"TERM2!BJ104","v":0},0,{"$f":"TERM3!Z104","v":0},{"$f":"TERM3!AR104","v":0},{"$f":"TERM3!BJ104","v":0},{"$f":"TERM3!CB104","v":0},{"$f":"TERM3!CT104","v":0},0,{"$f":"TERM4!Z104","v":0},0,0,{"$f":"TERM2!BO104","v":0},0,null,0,"",{"$f":"'FIN PAT MARK SHEET'!AH106","v":0},"",{"$f":"TERM4!AA104","v":0},{"$f":"TERM4!AC104","v":0},0,0,""]
[null,2,90,90,{"$f":"INSERT!A92","v":0},{"$f":"INSERT!B92","v":0},{"$f":"INSERT!C92","v":0},{"$f":"INSERT!D92","v":0},{"$f":"INSERT!E92","v":0},{"$f":"TERM1!Z105","v":"0"},{"$f":"TERM1!AR105","v":"0"},{"$f":"TERM1!BJ105","v":"0"},{"$f":"TERM1!CB105","v":"0"},0,{"$f":"TERM2!Z105","v":0},{"$f":"TERM2!AR105","v":0},{"$f":"TERM2!BJ105","v":0},0,{"$f":"TERM3!Z105","v":0},{"$f":"TERM3!AR105","v":0},{"$f":"TERM3!BJ105","v":0},{"$f":"TERM3!CB105","v":0},{"$f":"TERM3!CT105","v":0},0,{"$f":"TERM4!Z105","v":0},0,0,{"$f":"TERM2!BO105","v":0},0,null,0,"",{"$f":"'FIN PAT MARK SHEET'!AH107","v":0},"",{"$f":"TERM4!AA105","v":0},{"$f":"TERM4!AC105","v":0},0,0,""]
[null,2,91,91,{"$f":"INSERT!A93","v":0},{"$f":"INSERT!B93","v":0},{"$f":"INSERT!C93","v":0},{"$f":"INSERT!D93","v":0},{"$f":"INSERT!E93","v":0},{"$f":"TERM1!Z106","v":"0"},{"$f":"TERM1!AR106","v":"0"},{"$f":"TERM1!BJ106","v":"0"},{"$f":"TERM1!CB106","v":"0"},0,{"$f":"TERM2!Z106","v":0},{"$f":"TERM2!AR106","v":0},{"$f":"TERM2!BJ106","v":0},0,{"$f":"TERM3!Z106","v":0},{"$f":"TERM3!AR106","v":0},{"$f":"TERM3!BJ106","v":0},{"$f":"TERM3!CB106","v":0},{"$f":"TERM3!CT106","v":0},0,{"$f":"TERM4!Z106","v":0},0,0,{"$f":"TERM2!BO106","v":0},0,null,0,"",{"$f":"'FIN PAT MARK SHEET'!AH108","v":0},"",{"$f":"TERM4!AA106","v":0},{"$f":"TERM4!AC106","v":0},0,0,""]
[null,2,92,92,{"$f":"INSERT!A94","v":0},{"$f":"INSERT!B94","v":0},{"$f":"INSERT!C94","v":0},{"$f":"INSERT!D94","v":0},{"$f":"INSERT!E94","v":0},{"$f":"TERM1!Z107","v":"0"},{"$f":"TERM1!AR107","v":"0"},{"$f":"TERM1!BJ107","v":"0"},{"$f":"TERM1!CB107","v":"0"},0,{"$f":"TERM2!Z107","v":0},{"$f":"TERM2!AR107","v":0},{"$f":"TERM2!BJ107","v":0},0,{"$f":"TERM3!Z107","v":0},{"$f":"TERM3!AR107","v":0},{"$f":"TERM3!BJ107","v":0},{"$f":"TERM3!CB107","v":0},{"$f":"TERM3!CT107","v":0},0,{"$f":"TERM4!Z107","v":0},0,0,{"$f":"TERM2!BO107","v":0},0,null,0,"",{"$f":"'FIN PAT MARK SHEET'!AH109","v":0},"",{"$f":"TERM4!AA107","v":0},{"$f":"TERM4!AC107","v":0},0,0,""]
[null,2,93,93,{"$f":"INSERT!A95","v":0},{"$f":"INSERT!B95","v":0},{"$f":"INSERT!C95","v":0},{"$f":"INSERT!D95","v":0},{"$f":"INSERT!E95","v":0},{"$f":"TERM1!Z108","v":"0"},{"$f":"TERM1!AR108","v":"0"},{"$f":"TERM1!BJ108","v":"0"},{"$f":"TERM1!CB108","v":"0"},0,{"$f":"TERM2!Z108","v":0},{"$f":"TERM2!AR108","v":0},{"$f":"TERM2!BJ108","v":0},0,{"$f":"TERM3!Z108","v":0},{"$f":"TERM3!AR108","v":0},{"$f":"TERM3!BJ108","v":0},{"$f":"TERM3!CB108","v":0},{"$f":"TERM3!CT108","v":0},0,{"$f":"TERM4!Z108","v":0},0,0,{"$f":"TERM2!BO108","v":0},0,null,0,"",{"$f":"'FIN PAT MARK SHEET'!AH110","v":0},"",{"$f":"TERM4!AA108","v":0},{"$f":"TERM4!AC108","v":0},0,0,""]
[null,2,94,94,{"$f":"INSERT!A96","v":0},{"$f":"INSERT!B96","v":0},{"$f":"INSERT!C96","v":0},{"$f":"INSERT!D96","v":0},{"$f":"INSERT!E96","v":0},{"$f":"TERM1!Z109","v":"0"},{"$f":"TERM1!AR109","v":"0"},{"$f":"TERM1!BJ109","v":"0"},{"$f":"TERM1!CB109","v":"0"},0,{"$f":"TERM2!Z109","v":0},{"$f":"TERM2!AR109","v":0},{"$f":"TERM2!BJ109","v":0},0,{"$f":"TERM3!Z109","v":0},{"$f":"TERM3!AR109","v":0},{"$f":"TERM3!BJ109","v":0},{"$f":"TERM3!CB109","v":0},{"$f":"TERM3!CT109","v":0},0,{"$f":"TERM4!Z109","v":0},0,0,{"$f":"TERM2!BO109","v":0},0,null,0,"",{"$f":"'FIN PAT MARK SHEET'!AH111","v":0},"",{"$f":"TERM4!AA109","v":0},{"$f":"TERM4!AC109","v":0},0,0,""]
[null,2,95,95,{"$f":"INSERT!A97","v":0},{"$f":"INSERT!B97","v":0},{"$f":"INSERT!C97","v":0},{"$f":"INSERT!D97","v":0},{"$f":"INSERT!E97","v":0},{"$f":"TERM1!Z110","v":"0"},{"$f":"TERM1!AR110","v":"0"},{"$f":"TERM1!BJ110","v":"0"},{"$f":"TERM1!CB110","v":"0"},0,{"$f":"TERM2!Z110","v":0},{"$f":"TERM2!AR110","v":0},{"$f":"TERM2!BJ110","v":0},0,{"$f":"TERM3!Z110","v":0},{"$f":"TERM3!AR110","v":0},{"$f":"TERM3!BJ110","v":0},{"$f":"TERM3!CB110","v":0},{"$f":"TERM3!CT110","v":0},0,{"$f":"TERM4!Z110","v":0},0,0,{"$f":"TERM2!BO110","v":0},0,null,0,"",{"$f":"'FIN PAT MARK SHEET'!AH112","v":0},"",{"$f":"TERM4!AA110","v":0},{"$f":"TERM4!AC110","v":0},0,0,""]
[null,2,96,96,{"$f":"INSERT!A98","v":0},{"$f":"INSERT!B98","v":0},{"$f":"INSERT!C98","v":0},{"$f":"INSERT!D98","v":0},{"$f":"INSERT!E98","v":0},{"$f":"TERM1!Z111","v":"0"},{"$f":"TERM1!AR111","v":"0"},{"$f":"TERM1!BJ111","v":"0"},{"$f":"TERM1!CB111","v":"0"},0,{"$f":"TERM2!Z111","v":0},{"$f":"TERM2!AR111","v":0},{"$f":"TERM2!BJ111","v":0},0,{"$f":"TERM3!Z111","v":0},{"$f":"TERM3!AR111","v":0},{"$f":"TERM3!BJ111","v":0},{"$f":"TERM3!CB111","v":0},{"$f":"TERM3!CT111","v":0},0,{"$f":"TERM4!Z111","v":0},0,0,{"$f":"TERM2!BO111","v":0},0,null,0,"",{"$f":"'FIN PAT MARK SHEET'!AH113","v":0},"",{"$f":"TERM4!AA111","v":0},{"$f":"TERM4!AC111","v":0},0,0,""]
[null,2,97,97,{"$f":"INSERT!A99","v":0},{"$f":"INSERT!B99","v":0},{"$f":"INSERT!C99","v":0},{"$f":"INSERT!D99","v":0},{"$f":"INSERT!E99","v":0},{"$f":"TERM1!Z112","v":"0"},{"$f":"TERM1!AR112","v":"0"},{"$f":"TERM1!BJ112","v":"0"},{"$f":"TERM1!CB112","v":"0"},0,{"$f":"TERM2!Z112","v":0},{"$f":"TERM2!AR112","v":0},{"$f":"TERM2!BJ112","v":0},0,{"$f":"TERM3!Z112","v":0},{"$f":"TERM3!AR112","v":0},{"$f":"TERM3!BJ112","v":0},{"$f":"TERM3!CB112","v":0},{"$f":"TERM3!CT112","v":0},0,{"$f":"TERM4!Z112","v":0},0,0,{"$f":"TERM2!BO112","v":0},0,null,0,"",{"$f":"'FIN PAT MARK SHEET'!AH114","v":0},"",{"$f":"TERM4!AA112","v":0},{"$f":"TERM4!AC112","v":0},0,0,""]
[null,2,98,98,{"$f":"INSERT!A100","v":0},{"$f":"INSERT!B100","v":0},{"$f":"INSERT!C100","v":0},{"$f":"INSERT!D100","v":0},{"$f":"INSERT!E100","v":0},{"$f":"TERM1!Z113","v":"0"},{"$f":"TERM1!AR113","v":"0"},{"$f":"TERM1!BJ113","v":"0"},{"$f":"TERM1!CB113","v":"0"},0,{"$f":"TERM2!Z113","v":0},{"$f":"TERM2!AR113","v":0},{"$f":"TERM2!BJ113","v":0},0,{"$f":"TERM3!Z113","v":0},{"$f":"TERM3!AR113","v":0},{"$f":"TERM3!BJ113","v":0},{"$f":"TERM3!CB113","v":0},{"$f":"TERM3!CT113","v":0},0,{"$f":"TERM4!Z113","v":0},0,0,{"$f":"TERM2!BO113","v":0},0,null,0,"",{"$f":"'FIN PAT MARK SHEET'!AH115","v":0},"",{"$f":"TERM4!AA113","v":0},{"$f":"TERM4!AC113","v":0},0,0,""]
[null,2,99,99,{"$f":"INSERT!A101","v":0},{"$f":"INSERT!B101","v":0},{"$f":"INSERT!C101","v":0},{"$f":"INSERT!D101","v":0},{"$f":"INSERT!E101","v":0},{"$f":"TERM1!Z114","v":"0"},{"$f":"TERM1!AR114","v":"0"},{"$f":"TERM1!BJ114","v":"0"},{"$f":"TERM1!CB114","v":"0"},0,{"$f":"TERM2!Z114","v":0},{"$f":"TERM2!AR114","v":0},{"$f":"TERM2!BJ114","v":0},0,{"$f":"TERM3!Z114","v":0},{"$f":"TERM3!AR114","v":0},{"$f":"TERM3!BJ114","v":0},{"$f":"TERM3!CB114","v":0},{"$f":"TERM3!CT114","v":0},0,{"$f":"TERM4!Z114","v":0},0,0,{"$f":"TERM2!BO114","v":0},0,null,0,"",{"$f":"'FIN PAT MARK SHEET'!AH116","v":0},"",{"$f":"TERM4!AA114","v":0},{"$f":"TERM4!AC114","v":0},0,0,""]
[null,2,100,100,{"$f":"INSERT!A102","v":0},{"$f":"INSERT!B102","v":0},{"$f":"INSERT!C102","v":0},{"$f":"INSERT!D102","v":0},{"$f":"INSERT!E102","v":0},{"$f":"TERM1!Z115","v":"0"},{"$f":"TERM1!AR115","v":"0"},{"$f":"TERM1!BJ115","v":"0"},{"$f":"TERM1!CB115","v":"0"},0,{"$f":"TERM2!Z115","v":0},{"$f":"TERM2!AR115","v":0},{"$f":"TERM2!BJ115","v":0},0,{"$f":"TERM3!Z115","v":0},{"$f":"TERM3!AR115","v":0},{"$f":"TERM3!BJ115","v":0},{"$f":"TERM3!CB115","v":0},{"$f":"TERM3!CT115","v":0},0,{"$f":"TERM4!Z115","v":0},0,0,{"$f":"TERM2!BO115","v":0},0,null,0,"",{"$f":"'FIN PAT MARK SHEET'!AH117","v":0},"",{"$f":"TERM4!AA115","v":0},{"$f":"TERM4!AC115","v":0},0,0,""]
[null,null,"Total amount of learners on mark sheet",null,null,null,"Total",null,null,{"$f":"SUM(J19:J118)","v":0},0,0,0,{"$f":"SUM(N19:N118)","v":0},0,0,0,0,0,0,0,0,0,0,0,0,{"$f":"SUM(AA19:AA118)","v":0},{"$f":"SUM(AB19:AB118)","v":0},{"$f":"SUM(AC19:AC118)","v":0},null,{"$f":"SUM(AE19:AE118)","v":0},null,{"$f":"SUM(AG19:AG118)","v":0},null,{"$f":"SUM(AI19:AI118)","v":0},0,0,{"$f":"SUM(AL19:AL118)","v":0}]
[null,null,null,null,null,null,"Average",null,null,{"$f":"IFERROR(ROUND(SUM(J119/$C$123),1),\"0\")","v":"0"},{"$f":"IFERROR(ROUND(SUM(K119/$C$123),1),\"0\")","v":"0"},"0","0",{"$f":"IFERROR(ROUND(SUM(N119/$C$123),1),\"0\")","v":"0"},"0","0","0","0","0","0","0","0","0","0","0","0",{"$f":"IFERROR(ROUND(SUM(AA119/$C$123),1),\"0\")","v":"0"},{"$f":"IFERROR(ROUND(SUM(AB119/$C$123),1),\"0\")","v":"0"},"0",null,{"$f":"IFERROR(ROUND(SUM(AE119/$C$123),1),\"0\")","v":"0"},"0","0","0","0","0","0","0","0"]
[null,null,null,null,null,null,"x","x",null,"SBA LEVELS"]
[null,null,null,null,null,null,"Term results analysis","x",null,"LEVEL 1",null,"LEVEL 2",null,"LEVEL 3",null,"LEVEL 4",null,"LEVEL 5",null,"LEVEL 6",null,"LEVEL 7"]
[null,null,{"$f":"INSERT!$E$103","v":0},null,null,null,null,null,null," 0 - 29 ",null," 1 - 29 ",null," 30 - 39 ",null," 50 - 59 ",null," 60 - 69 ",null," 70 - 79 ",null,"80 - 100"]
[null,null,null,null,null,null,"x","x",null,{"$f":"COUNTIF(AF19:AF118,1)","v":0},null,{"$f":"COUNTIF(AF19:AF118,1)","v":0},null,{"$f":"COUNTIF($AF$19:$AF$118,2)","v":0},null,{"$f":"COUNTIF($AF$19:$AF$118,4)","v":0},null,{"$f":"COUNTIF($AF$19:$AF$118,5)","v":0},null,{"$f":"COUNTIF($AF$19:$AF$118,6)","v":0},null,{"$f":"COUNTIF($AF$19:$AF$118,7)","v":0}]
[null,null,null,null,null,null,null,null,null,null,null,null,null,null,null,null,null,null,null,null,null,null,null,null,null,null,null,null,null,null,"2013M"]
[null,null,null,null,null,null,null,null,null,"PROMOTION LEVELS"]
[null,null,null,null,null,null,null,null,null,"LEVEL 1",null,"LEVEL 2",null,"LEVEL 3",null,"LEVEL 4",null,"LEVEL 5",null,"LEVEL 6",null,"LEVEL 7"]
[null,null,null,null,null,null,null,null,null," 0 - 29 ",null," 1 - 29 ",null," 30 - 39 ",null," 50 - 59 ",null," 60 - 69 ",null," 70 - 79 ",null,"80 - 100"]
[null,null,null,null,null,null,null,null,null,{"$f":"COUNTIF(AM19:AM118,1)","v":0},null,{"$f":"COUNTIF(AM19:AM118,1)","v":0},null,{"$f":"COUNTIF($AM$19:$AM$118,2)","v":0},null,{"$f":"COUNTIF($AM$19:$AM$118,4)","v":0},null,{"$f":"COUNTIF($AM$19:$AM$118,5)","v":0},null,{"$f":"COUNTIF($AM$19:$AM$118,6)","v":0},null,{"$f":"COUNTIF($AF$19:$AF$118,7)","v":0}]
[]
[null,null,null,null,null,null,null,null,null,"PAT LEVELS"]
[null,null,null,null,null,null,null,null,null,"LEVEL 1",null,"LEVEL 2",null,"LEVEL 3",null,"LEVEL 4",null,"LEVEL 5",null,"LEVEL 6",null,"LEVEL 7"]
[null,null,null,null,null,null,null,null,null," 0 - 29 ",null," 1 - 29 ",null," 30 - 39 ",null," 50 - 59 ",null," 60 - 69 ",null," 70 - 79 ",null,"80 - 100"]
[null,null,null,null,null,null,null,null,null,{"$f":"COUNTIF(AH19:AH118,1)","v":0},null,{"$f":"COUNTIF(AH19:AH118,1)","v":0},null,{"$f":"COUNTIF($AH$19:$AH$118,2)","v":0},null,{"$f":"COUNTIF($AH$19:$AH$118,4)","v":0},null,{"$f":"COUNTIF($AH$19:$AH$118,5)","v":0},null,{"$f":"COUNTIF($AH$19:$AH$118,6)","v":0},null,{"$f":"COUNTIF($AH$19:$AH$118,7)","v":0}]

{"sheet":"Term1 Sign","index":15,"n_rows":105,"n_cols":14,"rows_kept":105,"cut":false,"hidden":false,"merged":[[1,6,1,7],[1,8,1,9],[1,10,1,11],[1,12,1,13]]}
[null,null,null,null,null,"GRADE :",{"$f":"TERM1!$F$6","v":0},"EGD"]
[null,null,null,null,null,null,"CD1 - Mechanical analytical",null,"CD2 - 1st Mechanical assembly",null,"CD3 - Isometric",null,"CD4 - 2 Point Perspective"]
[null,null,null,null,null,null,"DUE DATE: ",null,"DUE DATE: ",null,"DUE DATE: ",null,"DUE DATE: "]
[null,"Class","Admission","SURNAME","NAME","Gender","Out","Back","Out","Back","Out","Back","Out","Back"]
[]
[1,{"$f":"INSERT!A3","v":0},{"$f":"INSERT!B3","v":0},{"$f":"INSERT!C3","v":0},{"$f":"INSERT!D3","v":0},{"$f":"INSERT!E3","v":0}]
[2,{"$f":"INSERT!A4","v":0},{"$f":"INSERT!B4","v":0},{"$f":"INSERT!C4","v":0},{"$f":"INSERT!D4","v":0},{"$f":"INSERT!E4","v":0}]
[3,{"$f":"INSERT!A5","v":0},{"$f":"INSERT!B5","v":0},{"$f":"INSERT!C5","v":0},{"$f":"INSERT!D5","v":0},{"$f":"INSERT!E5","v":0}]
[4,{"$f":"INSERT!A6","v":0},{"$f":"INSERT!B6","v":0},{"$f":"INSERT!C6","v":0},{"$f":"INSERT!D6","v":0},{"$f":"INSERT!E6","v":0}]
[5,{"$f":"INSERT!A7","v":0},{"$f":"INSERT!B7","v":0},{"$f":"INSERT!C7","v":0},{"$f":"INSERT!D7","v":0},{"$f":"INSERT!E7","v":0}]
[6,{"$f":"INSERT!A8","v":0},{"$f":"INSERT!B8","v":0},{"$f":"INSERT!C8","v":0},{"$f":"INSERT!D8","v":0},{"$f":"INSERT!E8","v":0}]
[7,{"$f":"INSERT!A9","v":0},{"$f":"INSERT!B9","v":0},{"$f":"INSERT!C9","v":0},{"$f":"INSERT!D9","v":0},{"$f":"INSERT!E9","v":0}]
[8,{"$f":"INSERT!A10","v":0},{"$f":"INSERT!B10","v":0},{"$f":"INSERT!C10","v":0},{"$f":"INSERT!D10","v":0},{"$f":"INSERT!E10","v":0}]
[9,{"$f":"INSERT!A11","v":0},{"$f":"INSERT!B11","v":0},{"$f":"INSERT!C11","v":0},{"$f":"INSERT!D11","v":0},{"$f":"INSERT!E11","v":0}]
[10,{"$f":"INSERT!A12","v":0},{"$f":"INSERT!B12","v":0},{"$f":"INSERT!C12","v":0},{"$f":"INSERT!D12","v":0},{"$f":"INSERT!E12","v":0}]
[11,{"$f":"INSERT!A13","v":0},{"$f":"INSERT!B13","v":0},{"$f":"INSERT!C13","v":0},{"$f":"INSERT!D13","v":0},{"$f":"INSERT!E13","v":0}]
[12,{"$f":"INSERT!A14","v":0},{"$f":"INSERT!B14","v":0},{"$f":"INSERT!C14","v":0},{"$f":"INSERT!D14","v":0},{"$f":"INSERT!E14","v":0}]
[13,{"$f":"INSERT!A15","v":0},{"$f":"INSERT!B15","v":0},{"$f":"INSERT!C15","v":0},{"$f":"INSERT!D15","v":0},{"$f":"INSERT!E15","v":0}]
[14,{"$f":"INSERT!A16","v":0},{"$f":"INSERT!B16","v":0},{"$f":"INSERT!C16","v":0},{"$f":"INSERT!D16","v":0},{"$f":"INSERT!E16","v":0}]
[15,{"$f":"INSERT!A17","v":0},{"$f":"INSERT!B17","v":0},{"$f":"INSERT!C17","v":0},{"$f":"INSERT!D17","v":0},{"$f":"INSERT!E17","v":0}]
[16,{"$f":"INSERT!A18","v":0},{"$f":"INSERT!B18","v":0},{"$f":"INSERT!C18","v":0},{"$f":"INSERT!D18","v":0},{"$f":"INSERT!E18","v":0}]
[17,{"$f":"INSERT!A19","v":0},{"$f":"INSERT!B19","v":0},{"$f":"INSERT!C19","v":0},{"$f":"INSERT!D19","v":0},{"$f":"INSERT!E19","v":0}]
[18,{"$f":"INSERT!A20","v":0},{"$f":"INSERT!B20","v":0},{"$f":"INSERT!C20","v":0},{"$f":"INSERT!D20","v":0},{"$f":"INSERT!E20","v":0}]
[19,{"$f":"INSERT!A21","v":0},{"$f":"INSERT!B21","v":0},{"$f":"INSERT!C21","v":0},{"$f":"INSERT!D21","v":0},{"$f":"INSERT!E21","v":0}]
[20,{"$f":"INSERT!A22","v":0},{"$f":"INSERT!B22","v":0},{"$f":"INSERT!C22","v":0},{"$f":"INSERT!D22","v":0},{"$f":"INSERT!E22","v":0}]
[21,{"$f":"INSERT!A23","v":0},{"$f":"INSERT!B23","v":0},{"$f":"INSERT!C23","v":0},{"$f":"INSERT!D23","v":0},{"$f":"INSERT!E23","v":0}]
[22,{"$f":"INSERT!A24","v":0},{"$f":"INSERT!B24","v":0},{"$f":"INSERT!C24","v":0},{"$f":"INSERT!D24","v":0},{"$f":"INSERT!E24","v":0}]
[23,{"$f":"INSERT!A25","v":0},{"$f":"INSERT!B25","v":0},{"$f":"INSERT!C25","v":0},{"$f":"INSERT!D25","v":0},{"$f":"INSERT!E25","v":0}]
[24,{"$f":"INSERT!A26","v":0},{"$f":"INSERT!B26","v":0},{"$f":"INSERT!C26","v":0},{"$f":"INSERT!D26","v":0},{"$f":"INSERT!E26","v":0}]
[25,{"$f":"INSERT!A27","v":0},{"$f":"INSERT!B27","v":0},{"$f":"INSERT!C27","v":0},{"$f":"INSERT!D27","v":0},{"$f":"INSERT!E27","v":0}]
[26,{"$f":"INSERT!A28","v":0},{"$f":"INSERT!B28","v":0},{"$f":"INSERT!C28","v":0},{"$f":"INSERT!D28","v":0},{"$f":"INSERT!E28","v":0}]
[27,{"$f":"INSERT!A29","v":0},{"$f":"INSERT!B29","v":0},{"$f":"INSERT!C29","v":0},{"$f":"INSERT!D29","v":0},{"$f":"INSERT!E29","v":0}]
[28,{"$f":"INSERT!A30","v":0},{"$f":"INSERT!B30","v":0},{"$f":"INSERT!C30","v":0},{"$f":"INSERT!D30","v":0},{"$f":"INSERT!E30","v":0}]
[29,{"$f":"INSERT!A31","v":0},{"$f":"INSERT!B31","v":0},{"$f":"INSERT!C31","v":0},{"$f":"INSERT!D31","v":0},{"$f":"INSERT!E31","v":0}]
[30,{"$f":"INSERT!A32","v":0},{"$f":"INSERT!B32","v":0},{"$f":"INSERT!C32","v":0},{"$f":"INSERT!D32","v":0},{"$f":"INSERT!E32","v":0}]
[31,{"$f":"INSERT!A33","v":0},{"$f":"INSERT!B33","v":0},{"$f":"INSERT!C33","v":0},{"$f":"INSERT!D33","v":0},{"$f":"INSERT!E33","v":0}]
[32,{"$f":"INSERT!A34","v":0},{"$f":"INSERT!B34","v":0},{"$f":"INSERT!C34","v":0},{"$f":"INSERT!D34","v":0},{"$f":"INSERT!E34","v":0}]
[33,{"$f":"INSERT!A35","v":0},{"$f":"INSERT!B35","v":0},{"$f":"INSERT!C35","v":0},{"$f":"INSERT!D35","v":0},{"$f":"INSERT!E35","v":0}]
[34,{"$f":"INSERT!A36","v":0},{"$f":"INSERT!B36","v":0},{"$f":"INSERT!C36","v":0},{"$f":"INSERT!D36","v":0},{"$f":"INSERT!E36","v":0}]
[35,{"$f":"INSERT!A37","v":0},{"$f":"INSERT!B37","v":0},{"$f":"INSERT!C37","v":0},{"$f":"INSERT!D37","v":0},{"$f":"INSERT!E37","v":0}]
[36,{"$f":"INSERT!A38","v":0},{"$f":"INSERT!B38","v":0},{"$f":"INSERT!C38","v":0},{"$f":"INSERT!D38","v":0},{"$f":"INSERT!E38","v":0}]
[37,{"$f":"INSERT!A39","v":0},{"$f":"INSERT!B39","v":0},{"$f":"INSERT!C39","v":0},{"$f":"INSERT!D39","v":0},{"$f":"INSERT!E39","v":0}]
[38,{"$f":"INSERT!A40","v":0},{"$f":"INSERT!B40","v":0},{"$f":"INSERT!C40","v":0},{"$f":"INSERT!D40","v":0},{"$f":"INSERT!E40","v":0}]
[39,{"$f":"INSERT!A41","v":0},{"$f":"INSERT!B41","v":0},{"$f":"INSERT!C41","v":0},{"$f":"INSERT!D41","v":0},{"$f":"INSERT!E41","v":0}]
[40,{"$f":"INSERT!A42","v":0},{"$f":"INSERT!B42","v":0},{"$f":"INSERT!C42","v":0},{"$f":"INSERT!D42","v":0},{"$f":"INSERT!E42","v":0}]
[41,{"$f":"INSERT!A43","v":0},{"$f":"INSERT!B43","v":0},{"$f":"INSERT!C43","v":0},{"$f":"INSERT!D43","v":0},{"$f":"INSERT!E43","v":0}]
[42,{"$f":"INSERT!A44","v":0},{"$f":"INSERT!B44","v":0},{"$f":"INSERT!C44","v":0},{"$f":"INSERT!D44","v":0},{"$f":"INSERT!E44","v":0}]
[43,{"$f":"INSERT!A45","v":0},{"$f":"INSERT!B45","v":0},{"$f":"INSERT!C45","v":0},{"$f":"INSERT!D45","v":0},{"$f":"INSERT!E45","v":0}]
[44,{"$f":"INSERT!A46","v":0},{"$f":"INSERT!B46","v":0},{"$f":"INSERT!C46","v":0},{"$f":"INSERT!D46","v":0},{"$f":"INSERT!E46","v":0}]
[45,{"$f":"INSERT!A47","v":0},{"$f":"INSERT!B47","v":0},{"$f":"INSERT!C47","v":0},{"$f":"INSERT!D47","v":0},{"$f":"INSERT!E47","v":0}]
[46,{"$f":"INSERT!A48","v":0},{"$f":"INSERT!B48","v":0},{"$f":"INSERT!C48","v":0},{"$f":"INSERT!D48","v":0},{"$f":"INSERT!E48","v":0}]
[47,{"$f":"INSERT!A49","v":0},{"$f":"INSERT!B49","v":0},{"$f":"INSERT!C49","v":0},{"$f":"INSERT!D49","v":0},{"$f":"INSERT!E49","v":0}]
[48,{"$f":"INSERT!A50","v":0},{"$f":"INSERT!B50","v":0},{"$f":"INSERT!C50","v":0},{"$f":"INSERT!D50","v":0},{"$f":"INSERT!E50","v":0}]
[49,{"$f":"INSERT!A51","v":0},{"$f":"INSERT!B51","v":0},{"$f":"INSERT!C51","v":0},{"$f":"INSERT!D51","v":0},{"$f":"INSERT!E51","v":0}]
[50,{"$f":"INSERT!A52","v":0},{"$f":"INSERT!B52","v":0},{"$f":"INSERT!C52","v":0},{"$f":"INSERT!D52","v":0},{"$f":"INSERT!E52","v":0}]
[51,{"$f":"INSERT!A53","v":0},{"$f":"INSERT!B53","v":0},{"$f":"INSERT!C53","v":0},{"$f":"INSERT!D53","v":0},{"$f":"INSERT!E53","v":0}]
[52,{"$f":"INSERT!A54","v":0},{"$f":"INSERT!B54","v":0},{"$f":"INSERT!C54","v":0},{"$f":"INSERT!D54","v":0},{"$f":"INSERT!E54","v":0}]
[53,{"$f":"INSERT!A55","v":0},{"$f":"INSERT!B55","v":0},{"$f":"INSERT!C55","v":0},{"$f":"INSERT!D55","v":0},{"$f":"INSERT!E55","v":0}]
[54,{"$f":"INSERT!A56","v":0},{"$f":"INSERT!B56","v":0},{"$f":"INSERT!C56","v":0},{"$f":"INSERT!D56","v":0},{"$f":"INSERT!E56","v":0}]
[55,{"$f":"INSERT!A57","v":0},{"$f":"INSERT!B57","v":0},{"$f":"INSERT!C57","v":0},{"$f":"INSERT!D57","v":0},{"$f":"INSERT!E57","v":0}]
[56,{"$f":"INSERT!A58","v":0},{"$f":"INSERT!B58","v":0},{"$f":"INSERT!C58","v":0},{"$f":"INSERT!D58","v":0},{"$f":"INSERT!E58","v":0}]
[57,{"$f":"INSERT!A59","v":0},{"$f":"INSERT!B59","v":0},{"$f":"INSERT!C59","v":0},{"$f":"INSERT!D59","v":0},{"$f":"INSERT!E59","v":0}]
[58,{"$f":"INSERT!A60","v":0},{"$f":"INSERT!B60","v":0},{"$f":"INSERT!C60","v":0},{"$f":"INSERT!D60","v":0},{"$f":"INSERT!E60","v":0}]
[59,{"$f":"INSERT!A61","v":0},{"$f":"INSERT!B61","v":0},{"$f":"INSERT!C61","v":0},{"$f":"INSERT!D61","v":0},{"$f":"INSERT!E61","v":0}]
[60,{"$f":"INSERT!A62","v":0},{"$f":"INSERT!B62","v":0},{"$f":"INSERT!C62","v":0},{"$f":"INSERT!D62","v":0},{"$f":"INSERT!E62","v":0}]
[61,{"$f":"INSERT!A63","v":0},{"$f":"INSERT!B63","v":0},{"$f":"INSERT!C63","v":0},{"$f":"INSERT!D63","v":0},{"$f":"INSERT!E63","v":0}]
[62,{"$f":"INSERT!A64","v":0},{"$f":"INSERT!B64","v":0},{"$f":"INSERT!C64","v":0},{"$f":"INSERT!D64","v":0},{"$f":"INSERT!E64","v":0}]
[63,{"$f":"INSERT!A65","v":0},{"$f":"INSERT!B65","v":0},{"$f":"INSERT!C65","v":0},{"$f":"INSERT!D65","v":0},{"$f":"INSERT!E65","v":0}]
[64,{"$f":"INSERT!A66","v":0},{"$f":"INSERT!B66","v":0},{"$f":"INSERT!C66","v":0},{"$f":"INSERT!D66","v":0},{"$f":"INSERT!E66","v":0}]
[65,{"$f":"INSERT!A67","v":0},{"$f":"INSERT!B67","v":0},{"$f":"INSERT!C67","v":0},{"$f":"INSERT!D67","v":0},{"$f":"INSERT!E67","v":0}]
[66,{"$f":"INSERT!A68","v":0},{"$f":"INSERT!B68","v":0},{"$f":"INSERT!C68","v":0},{"$f":"INSERT!D68","v":0},{"$f":"INSERT!E68","v":0}]
[67,{"$f":"INSERT!A69","v":0},{"$f":"INSERT!B69","v":0},{"$f":"INSERT!C69","v":0},{"$f":"INSERT!D69","v":0},{"$f":"INSERT!E69","v":0}]
[68,{"$f":"INSERT!A70","v":0},{"$f":"INSERT!B70","v":0},{"$f":"INSERT!C70","v":0},{"$f":"INSERT!D70","v":0},{"$f":"INSERT!E70","v":0}]
[69,{"$f":"INSERT!A71","v":0},{"$f":"INSERT!B71","v":0},{"$f":"INSERT!C71","v":0},{"$f":"INSERT!D71","v":0},{"$f":"INSERT!E71","v":0}]
[70,{"$f":"INSERT!A72","v":0},{"$f":"INSERT!B72","v":0},{"$f":"INSERT!C72","v":0},{"$f":"INSERT!D72","v":0},{"$f":"INSERT!E72","v":0}]
[71,{"$f":"INSERT!A73","v":0},{"$f":"INSERT!B73","v":0},{"$f":"INSERT!C73","v":0},{"$f":"INSERT!D73","v":0},{"$f":"INSERT!E73","v":0}]
[72,{"$f":"INSERT!A74","v":0},{"$f":"INSERT!B74","v":0},{"$f":"INSERT!C74","v":0},{"$f":"INSERT!D74","v":0},{"$f":"INSERT!E74","v":0}]
[73,{"$f":"INSERT!A75","v":0},{"$f":"INSERT!B75","v":0},{"$f":"INSERT!C75","v":0},{"$f":"INSERT!D75","v":0},{"$f":"INSERT!E75","v":0}]
[74,{"$f":"INSERT!A76","v":0},{"$f":"INSERT!B76","v":0},{"$f":"INSERT!C76","v":0},{"$f":"INSERT!D76","v":0},{"$f":"INSERT!E76","v":0}]
[75,{"$f":"INSERT!A77","v":0},{"$f":"INSERT!B77","v":0},{"$f":"INSERT!C77","v":0},{"$f":"INSERT!D77","v":0},{"$f":"INSERT!E77","v":0}]
[76,{"$f":"INSERT!A78","v":0},{"$f":"INSERT!B78","v":0},{"$f":"INSERT!C78","v":0},{"$f":"INSERT!D78","v":0},{"$f":"INSERT!E78","v":0}]
[77,{"$f":"INSERT!A79","v":0},{"$f":"INSERT!B79","v":0},{"$f":"INSERT!C79","v":0},{"$f":"INSERT!D79","v":0},{"$f":"INSERT!E79","v":0}]
[78,{"$f":"INSERT!A80","v":0},{"$f":"INSERT!B80","v":0},{"$f":"INSERT!C80","v":0},{"$f":"INSERT!D80","v":0},{"$f":"INSERT!E80","v":0}]
[79,{"$f":"INSERT!A81","v":0},{"$f":"INSERT!B81","v":0},{"$f":"INSERT!C81","v":0},{"$f":"INSERT!D81","v":0},{"$f":"INSERT!E81","v":0}]
[80,{"$f":"INSERT!A82","v":0},{"$f":"INSERT!B82","v":0},{"$f":"INSERT!C82","v":0},{"$f":"INSERT!D82","v":0},{"$f":"INSERT!E82","v":0}]
[81,{"$f":"INSERT!A83","v":0},{"$f":"INSERT!B83","v":0},{"$f":"INSERT!C83","v":0},{"$f":"INSERT!D83","v":0},{"$f":"INSERT!E83","v":0}]
[82,{"$f":"INSERT!A84","v":0},{"$f":"INSERT!B84","v":0},{"$f":"INSERT!C84","v":0},{"$f":"INSERT!D84","v":0},{"$f":"INSERT!E84","v":0}]
[83,{"$f":"INSERT!A85","v":0},{"$f":"INSERT!B85","v":0},{"$f":"INSERT!C85","v":0},{"$f":"INSERT!D85","v":0},{"$f":"INSERT!E85","v":0}]
[84,{"$f":"INSERT!A86","v":0},{"$f":"INSERT!B86","v":0},{"$f":"INSERT!C86","v":0},{"$f":"INSERT!D86","v":0},{"$f":"INSERT!E86","v":0}]
[85,{"$f":"INSERT!A87","v":0},{"$f":"INSERT!B87","v":0},{"$f":"INSERT!C87","v":0},{"$f":"INSERT!D87","v":0},{"$f":"INSERT!E87","v":0}]
[86,{"$f":"INSERT!A88","v":0},{"$f":"INSERT!B88","v":0},{"$f":"INSERT!C88","v":0},{"$f":"INSERT!D88","v":0},{"$f":"INSERT!E88","v":0}]
[87,{"$f":"INSERT!A89","v":0},{"$f":"INSERT!B89","v":0},{"$f":"INSERT!C89","v":0},{"$f":"INSERT!D89","v":0},{"$f":"INSERT!E89","v":0}]
[88,{"$f":"INSERT!A90","v":0},{"$f":"INSERT!B90","v":0},{"$f":"INSERT!C90","v":0},{"$f":"INSERT!D90","v":0},{"$f":"INSERT!E90","v":0}]
[89,{"$f":"INSERT!A91","v":0},{"$f":"INSERT!B91","v":0},{"$f":"INSERT!C91","v":0},{"$f":"INSERT!D91","v":0},{"$f":"INSERT!E91","v":0}]
[90,{"$f":"INSERT!A92","v":0},{"$f":"INSERT!B92","v":0},{"$f":"INSERT!C92","v":0},{"$f":"INSERT!D92","v":0},{"$f":"INSERT!E92","v":0}]
[91,{"$f":"INSERT!A93","v":0},{"$f":"INSERT!B93","v":0},{"$f":"INSERT!C93","v":0},{"$f":"INSERT!D93","v":0},{"$f":"INSERT!E93","v":0}]
[92,{"$f":"INSERT!A94","v":0},{"$f":"INSERT!B94","v":0},{"$f":"INSERT!C94","v":0},{"$f":"INSERT!D94","v":0},{"$f":"INSERT!E94","v":0}]
[93,{"$f":"INSERT!A95","v":0},{"$f":"INSERT!B95","v":0},{"$f":"INSERT!C95","v":0},{"$f":"INSERT!D95","v":0},{"$f":"INSERT!E95","v":0}]
[94,{"$f":"INSERT!A96","v":0},{"$f":"INSERT!B96","v":0},{"$f":"INSERT!C96","v":0},{"$f":"INSERT!D96","v":0},{"$f":"INSERT!E96","v":0}]
[95,{"$f":"INSERT!A97","v":0},{"$f":"INSERT!B97","v":0},{"$f":"INSERT!C97","v":0},{"$f":"INSERT!D97","v":0},{"$f":"INSERT!E97","v":0}]
[96,{"$f":"INSERT!A98","v":0},{"$f":"INSERT!B98","v":0},{"$f":"INSERT!C98","v":0},{"$f":"INSERT!D98","v":0},{"$f":"INSERT!E98","v":0}]
[97,{"$f":"INSERT!A99","v":0},{"$f":"INSERT!B99","v":0},{"$f":"INSERT!C99","v":0},{"$f":"INSERT!D99","v":0},{"$f":"INSERT!E99","v":0}]
[98,{"$f":"INSERT!A100","v":0},{"$f":"INSERT!B100","v":0},{"$f":"INSERT!C100","v":0},{"$f":"INSERT!D100","v":0},{"$f":"INSERT!E100","v":0}]
[99,{"$f":"INSERT!A101","v":0},{"$f":"INSERT!B101","v":0},{"$f":"INSERT!C101","v":0},{"$f":"INSERT!D101","v":0},{"$f":"INSERT!E101","v":0}]
[100,{"$f":"INSERT!A102","v":0},{"$f":"INSERT!B102","v":0},{"$f":"INSERT!C102","v":0},{"$f":"INSERT!D102","v":0},{"$f":"INSERT!E102","v":0}]

{"sheet":"Term2 Sign","index":16,"n_rows":105,"n_cols":12,"rows_kept":105,"cut":false,"hidden":false,"merged":[[1,6,1,7],[1,8,1,9],[1,10,1,11],[1,12,1,13]]}
[null,null,null,null,null,"GRADE :",{"$f":"TERM1!$F$6","v":0},"EGD"]
[null,null,null,null,null,null,"CD5 - 2 POINT PERSPECTIVE",null,"CD6 - Civil Floor plan",null,"CD7 - Civil Section"]
[null,null,null,null,null,"DUE DATE: "]
[null,"Class","Admission","SURNAME","NAME","Gender","5.1","5.2","6.1","6.2","7.1","7.2"]
[null,null,null,null,null,null,null,null,"`"]
[1,{"$f":"INSERT!A3","v":0},{"$f":"INSERT!B3","v":0},{"$f":"INSERT!C3","v":0},{"$f":"INSERT!D3","v":0},{"$f":"INSERT!E3","v":0}]
[2,{"$f":"INSERT!A4","v":0},{"$f":"INSERT!B4","v":0},{"$f":"INSERT!C4","v":0},{"$f":"INSERT!D4","v":0},{"$f":"INSERT!E4","v":0}]
[3,{"$f":"INSERT!A5","v":0},{"$f":"INSERT!B5","v":0},{"$f":"INSERT!C5","v":0},{"$f":"INSERT!D5","v":0},{"$f":"INSERT!E5","v":0}]
[4,{"$f":"INSERT!A6","v":0},{"$f":"INSERT!B6","v":0},{"$f":"INSERT!C6","v":0},{"$f":"INSERT!D6","v":0},{"$f":"INSERT!E6","v":0}]
[5,{"$f":"INSERT!A7","v":0},{"$f":"INSERT!B7","v":0},{"$f":"INSERT!C7","v":0},{"$f":"INSERT!D7","v":0},{"$f":"INSERT!E7","v":0}]
[6,{"$f":"INSERT!A8","v":0},{"$f":"INSERT!B8","v":0},{"$f":"INSERT!C8","v":0},{"$f":"INSERT!D8","v":0},{"$f":"INSERT!E8","v":0}]
[7,{"$f":"INSERT!A9","v":0},{"$f":"INSERT!B9","v":0},{"$f":"INSERT!C9","v":0},{"$f":"INSERT!D9","v":0},{"$f":"INSERT!E9","v":0}]
[8,{"$f":"INSERT!A10","v":0},{"$f":"INSERT!B10","v":0},{"$f":"INSERT!C10","v":0},{"$f":"INSERT!D10","v":0},{"$f":"INSERT!E10","v":0}]
[9,{"$f":"INSERT!A11","v":0},{"$f":"INSERT!B11","v":0},{"$f":"INSERT!C11","v":0},{"$f":"INSERT!D11","v":0},{"$f":"INSERT!E11","v":0}]
[10,{"$f":"INSERT!A12","v":0},{"$f":"INSERT!B12","v":0},{"$f":"INSERT!C12","v":0},{"$f":"INSERT!D12","v":0},{"$f":"INSERT!E12","v":0}]
[11,{"$f":"INSERT!A13","v":0},{"$f":"INSERT!B13","v":0},{"$f":"INSERT!C13","v":0},{"$f":"INSERT!D13","v":0},{"$f":"INSERT!E13","v":0}]
[12,{"$f":"INSERT!A14","v":0},{"$f":"INSERT!B14","v":0},{"$f":"INSERT!C14","v":0},{"$f":"INSERT!D14","v":0},{"$f":"INSERT!E14","v":0}]
[13,{"$f":"INSERT!A15","v":0},{"$f":"INSERT!B15","v":0},{"$f":"INSERT!C15","v":0},{"$f":"INSERT!D15","v":0},{"$f":"INSERT!E15","v":0}]
[14,{"$f":"INSERT!A16","v":0},{"$f":"INSERT!B16","v":0},{"$f":"INSERT!C16","v":0},{"$f":"INSERT!D16","v":0},{"$f":"INSERT!E16","v":0}]
[15,{"$f":"INSERT!A17","v":0},{"$f":"INSERT!B17","v":0},{"$f":"INSERT!C17","v":0},{"$f":"INSERT!D17","v":0},{"$f":"INSERT!E17","v":0}]
[16,{"$f":"INSERT!A18","v":0},{"$f":"INSERT!B18","v":0},{"$f":"INSERT!C18","v":0},{"$f":"INSERT!D18","v":0},{"$f":"INSERT!E18","v":0}]
[17,{"$f":"INSERT!A19","v":0},{"$f":"INSERT!B19","v":0},{"$f":"INSERT!C19","v":0},{"$f":"INSERT!D19","v":0},{"$f":"INSERT!E19","v":0}]
[18,{"$f":"INSERT!A20","v":0},{"$f":"INSERT!B20","v":0},{"$f":"INSERT!C20","v":0},{"$f":"INSERT!D20","v":0},{"$f":"INSERT!E20","v":0}]
[19,{"$f":"INSERT!A21","v":0},{"$f":"INSERT!B21","v":0},{"$f":"INSERT!C21","v":0},{"$f":"INSERT!D21","v":0},{"$f":"INSERT!E21","v":0}]
[20,{"$f":"INSERT!A22","v":0},{"$f":"INSERT!B22","v":0},{"$f":"INSERT!C22","v":0},{"$f":"INSERT!D22","v":0},{"$f":"INSERT!E22","v":0}]
[21,{"$f":"INSERT!A23","v":0},{"$f":"INSERT!B23","v":0},{"$f":"INSERT!C23","v":0},{"$f":"INSERT!D23","v":0},{"$f":"INSERT!E23","v":0}]
[22,{"$f":"INSERT!A24","v":0},{"$f":"INSERT!B24","v":0},{"$f":"INSERT!C24","v":0},{"$f":"INSERT!D24","v":0},{"$f":"INSERT!E24","v":0}]
[23,{"$f":"INSERT!A25","v":0},{"$f":"INSERT!B25","v":0},{"$f":"INSERT!C25","v":0},{"$f":"INSERT!D25","v":0},{"$f":"INSERT!E25","v":0}]
[24,{"$f":"INSERT!A26","v":0},{"$f":"INSERT!B26","v":0},{"$f":"INSERT!C26","v":0},{"$f":"INSERT!D26","v":0},{"$f":"INSERT!E26","v":0}]
[25,{"$f":"INSERT!A27","v":0},{"$f":"INSERT!B27","v":0},{"$f":"INSERT!C27","v":0},{"$f":"INSERT!D27","v":0},{"$f":"INSERT!E27","v":0}]
[26,{"$f":"INSERT!A28","v":0},{"$f":"INSERT!B28","v":0},{"$f":"INSERT!C28","v":0},{"$f":"INSERT!D28","v":0},{"$f":"INSERT!E28","v":0}]
[27,{"$f":"INSERT!A29","v":0},{"$f":"INSERT!B29","v":0},{"$f":"INSERT!C29","v":0},{"$f":"INSERT!D29","v":0},{"$f":"INSERT!E29","v":0}]
[28,{"$f":"INSERT!A30","v":0},{"$f":"INSERT!B30","v":0},{"$f":"INSERT!C30","v":0},{"$f":"INSERT!D30","v":0},{"$f":"INSERT!E30","v":0}]
[29,{"$f":"INSERT!A31","v":0},{"$f":"INSERT!B31","v":0},{"$f":"INSERT!C31","v":0},{"$f":"INSERT!D31","v":0},{"$f":"INSERT!E31","v":0}]
[30,{"$f":"INSERT!A32","v":0},{"$f":"INSERT!B32","v":0},{"$f":"INSERT!C32","v":0},{"$f":"INSERT!D32","v":0},{"$f":"INSERT!E32","v":0}]
[31,{"$f":"INSERT!A33","v":0},{"$f":"INSERT!B33","v":0},{"$f":"INSERT!C33","v":0},{"$f":"INSERT!D33","v":0},{"$f":"INSERT!E33","v":0}]
[32,{"$f":"INSERT!A34","v":0},{"$f":"INSERT!B34","v":0},{"$f":"INSERT!C34","v":0},{"$f":"INSERT!D34","v":0},{"$f":"INSERT!E34","v":0}]
[33,{"$f":"INSERT!A35","v":0},{"$f":"INSERT!B35","v":0},{"$f":"INSERT!C35","v":0},{"$f":"INSERT!D35","v":0},{"$f":"INSERT!E35","v":0}]
[34,{"$f":"INSERT!A36","v":0},{"$f":"INSERT!B36","v":0},{"$f":"INSERT!C36","v":0},{"$f":"INSERT!D36","v":0},{"$f":"INSERT!E36","v":0}]
[35,{"$f":"INSERT!A37","v":0},{"$f":"INSERT!B37","v":0},{"$f":"INSERT!C37","v":0},{"$f":"INSERT!D37","v":0},{"$f":"INSERT!E37","v":0}]
[36,{"$f":"INSERT!A38","v":0},{"$f":"INSERT!B38","v":0},{"$f":"INSERT!C38","v":0},{"$f":"INSERT!D38","v":0},{"$f":"INSERT!E38","v":0}]
[37,{"$f":"INSERT!A39","v":0},{"$f":"INSERT!B39","v":0},{"$f":"INSERT!C39","v":0},{"$f":"INSERT!D39","v":0},{"$f":"INSERT!E39","v":0}]
[38,{"$f":"INSERT!A40","v":0},{"$f":"INSERT!B40","v":0},{"$f":"INSERT!C40","v":0},{"$f":"INSERT!D40","v":0},{"$f":"INSERT!E40","v":0}]
[39,{"$f":"INSERT!A41","v":0},{"$f":"INSERT!B41","v":0},{"$f":"INSERT!C41","v":0},{"$f":"INSERT!D41","v":0},{"$f":"INSERT!E41","v":0}]
[40,{"$f":"INSERT!A42","v":0},{"$f":"INSERT!B42","v":0},{"$f":"INSERT!C42","v":0},{"$f":"INSERT!D42","v":0},{"$f":"INSERT!E42","v":0}]
[41,{"$f":"INSERT!A43","v":0},{"$f":"INSERT!B43","v":0},{"$f":"INSERT!C43","v":0},{"$f":"INSERT!D43","v":0},{"$f":"INSERT!E43","v":0}]
[42,{"$f":"INSERT!A44","v":0},{"$f":"INSERT!B44","v":0},{"$f":"INSERT!C44","v":0},{"$f":"INSERT!D44","v":0},{"$f":"INSERT!E44","v":0}]
[43,{"$f":"INSERT!A45","v":0},{"$f":"INSERT!B45","v":0},{"$f":"INSERT!C45","v":0},{"$f":"INSERT!D45","v":0},{"$f":"INSERT!E45","v":0}]
[44,{"$f":"INSERT!A46","v":0},{"$f":"INSERT!B46","v":0},{"$f":"INSERT!C46","v":0},{"$f":"INSERT!D46","v":0},{"$f":"INSERT!E46","v":0}]
[45,{"$f":"INSERT!A47","v":0},{"$f":"INSERT!B47","v":0},{"$f":"INSERT!C47","v":0},{"$f":"INSERT!D47","v":0},{"$f":"INSERT!E47","v":0}]
[46,{"$f":"INSERT!A48","v":0},{"$f":"INSERT!B48","v":0},{"$f":"INSERT!C48","v":0},{"$f":"INSERT!D48","v":0},{"$f":"INSERT!E48","v":0}]
[47,{"$f":"INSERT!A49","v":0},{"$f":"INSERT!B49","v":0},{"$f":"INSERT!C49","v":0},{"$f":"INSERT!D49","v":0},{"$f":"INSERT!E49","v":0}]
[48,{"$f":"INSERT!A50","v":0},{"$f":"INSERT!B50","v":0},{"$f":"INSERT!C50","v":0},{"$f":"INSERT!D50","v":0},{"$f":"INSERT!E50","v":0}]
[49,{"$f":"INSERT!A51","v":0},{"$f":"INSERT!B51","v":0},{"$f":"INSERT!C51","v":0},{"$f":"INSERT!D51","v":0},{"$f":"INSERT!E51","v":0}]
[50,{"$f":"INSERT!A52","v":0},{"$f":"INSERT!B52","v":0},{"$f":"INSERT!C52","v":0},{"$f":"INSERT!D52","v":0},{"$f":"INSERT!E52","v":0}]
[51,{"$f":"INSERT!A53","v":0},{"$f":"INSERT!B53","v":0},{"$f":"INSERT!C53","v":0},{"$f":"INSERT!D53","v":0},{"$f":"INSERT!E53","v":0}]
[52,{"$f":"INSERT!A54","v":0},{"$f":"INSERT!B54","v":0},{"$f":"INSERT!C54","v":0},{"$f":"INSERT!D54","v":0},{"$f":"INSERT!E54","v":0}]
[53,{"$f":"INSERT!A55","v":0},{"$f":"INSERT!B55","v":0},{"$f":"INSERT!C55","v":0},{"$f":"INSERT!D55","v":0},{"$f":"INSERT!E55","v":0}]
[54,{"$f":"INSERT!A56","v":0},{"$f":"INSERT!B56","v":0},{"$f":"INSERT!C56","v":0},{"$f":"INSERT!D56","v":0},{"$f":"INSERT!E56","v":0}]
[55,{"$f":"INSERT!A57","v":0},{"$f":"INSERT!B57","v":0},{"$f":"INSERT!C57","v":0},{"$f":"INSERT!D57","v":0},{"$f":"INSERT!E57","v":0}]
[56,{"$f":"INSERT!A58","v":0},{"$f":"INSERT!B58","v":0},{"$f":"INSERT!C58","v":0},{"$f":"INSERT!D58","v":0},{"$f":"INSERT!E58","v":0}]
[57,{"$f":"INSERT!A59","v":0},{"$f":"INSERT!B59","v":0},{"$f":"INSERT!C59","v":0},{"$f":"INSERT!D59","v":0},{"$f":"INSERT!E59","v":0}]
[58,{"$f":"INSERT!A60","v":0},{"$f":"INSERT!B60","v":0},{"$f":"INSERT!C60","v":0},{"$f":"INSERT!D60","v":0},{"$f":"INSERT!E60","v":0}]
[59,{"$f":"INSERT!A61","v":0},{"$f":"INSERT!B61","v":0},{"$f":"INSERT!C61","v":0},{"$f":"INSERT!D61","v":0},{"$f":"INSERT!E61","v":0}]
[60,{"$f":"INSERT!A62","v":0},{"$f":"INSERT!B62","v":0},{"$f":"INSERT!C62","v":0},{"$f":"INSERT!D62","v":0},{"$f":"INSERT!E62","v":0}]
[61,{"$f":"INSERT!A63","v":0},{"$f":"INSERT!B63","v":0},{"$f":"INSERT!C63","v":0},{"$f":"INSERT!D63","v":0},{"$f":"INSERT!E63","v":0}]
[62,{"$f":"INSERT!A64","v":0},{"$f":"INSERT!B64","v":0},{"$f":"INSERT!C64","v":0},{"$f":"INSERT!D64","v":0},{"$f":"INSERT!E64","v":0}]
[63,{"$f":"INSERT!A65","v":0},{"$f":"INSERT!B65","v":0},{"$f":"INSERT!C65","v":0},{"$f":"INSERT!D65","v":0},{"$f":"INSERT!E65","v":0}]
[64,{"$f":"INSERT!A66","v":0},{"$f":"INSERT!B66","v":0},{"$f":"INSERT!C66","v":0},{"$f":"INSERT!D66","v":0},{"$f":"INSERT!E66","v":0}]
[65,{"$f":"INSERT!A67","v":0},{"$f":"INSERT!B67","v":0},{"$f":"INSERT!C67","v":0},{"$f":"INSERT!D67","v":0},{"$f":"INSERT!E67","v":0}]
[66,{"$f":"INSERT!A68","v":0},{"$f":"INSERT!B68","v":0},{"$f":"INSERT!C68","v":0},{"$f":"INSERT!D68","v":0},{"$f":"INSERT!E68","v":0}]
[67,{"$f":"INSERT!A69","v":0},{"$f":"INSERT!B69","v":0},{"$f":"INSERT!C69","v":0},{"$f":"INSERT!D69","v":0},{"$f":"INSERT!E69","v":0}]
[68,{"$f":"INSERT!A70","v":0},{"$f":"INSERT!B70","v":0},{"$f":"INSERT!C70","v":0},{"$f":"INSERT!D70","v":0},{"$f":"INSERT!E70","v":0}]
[69,{"$f":"INSERT!A71","v":0},{"$f":"INSERT!B71","v":0},{"$f":"INSERT!C71","v":0},{"$f":"INSERT!D71","v":0},{"$f":"INSERT!E71","v":0}]
[70,{"$f":"INSERT!A72","v":0},{"$f":"INSERT!B72","v":0},{"$f":"INSERT!C72","v":0},{"$f":"INSERT!D72","v":0},{"$f":"INSERT!E72","v":0}]
[71,{"$f":"INSERT!A73","v":0},{"$f":"INSERT!B73","v":0},{"$f":"INSERT!C73","v":0},{"$f":"INSERT!D73","v":0},{"$f":"INSERT!E73","v":0}]
[72,{"$f":"INSERT!A74","v":0},{"$f":"INSERT!B74","v":0},{"$f":"INSERT!C74","v":0},{"$f":"INSERT!D74","v":0},{"$f":"INSERT!E74","v":0}]
[73,{"$f":"INSERT!A75","v":0},{"$f":"INSERT!B75","v":0},{"$f":"INSERT!C75","v":0},{"$f":"INSERT!D75","v":0},{"$f":"INSERT!E75","v":0}]
[74,{"$f":"INSERT!A76","v":0},{"$f":"INSERT!B76","v":0},{"$f":"INSERT!C76","v":0},{"$f":"INSERT!D76","v":0},{"$f":"INSERT!E76","v":0}]
[75,{"$f":"INSERT!A77","v":0},{"$f":"INSERT!B77","v":0},{"$f":"INSERT!C77","v":0},{"$f":"INSERT!D77","v":0},{"$f":"INSERT!E77","v":0}]
[76,{"$f":"INSERT!A78","v":0},{"$f":"INSERT!B78","v":0},{"$f":"INSERT!C78","v":0},{"$f":"INSERT!D78","v":0},{"$f":"INSERT!E78","v":0}]
[77,{"$f":"INSERT!A79","v":0},{"$f":"INSERT!B79","v":0},{"$f":"INSERT!C79","v":0},{"$f":"INSERT!D79","v":0},{"$f":"INSERT!E79","v":0}]
[78,{"$f":"INSERT!A80","v":0},{"$f":"INSERT!B80","v":0},{"$f":"INSERT!C80","v":0},{"$f":"INSERT!D80","v":0},{"$f":"INSERT!E80","v":0}]
[79,{"$f":"INSERT!A81","v":0},{"$f":"INSERT!B81","v":0},{"$f":"INSERT!C81","v":0},{"$f":"INSERT!D81","v":0},{"$f":"INSERT!E81","v":0}]
[80,{"$f":"INSERT!A82","v":0},{"$f":"INSERT!B82","v":0},{"$f":"INSERT!C82","v":0},{"$f":"INSERT!D82","v":0},{"$f":"INSERT!E82","v":0}]
[81,{"$f":"INSERT!A83","v":0},{"$f":"INSERT!B83","v":0},{"$f":"INSERT!C83","v":0},{"$f":"INSERT!D83","v":0},{"$f":"INSERT!E83","v":0}]
[82,{"$f":"INSERT!A84","v":0},{"$f":"INSERT!B84","v":0},{"$f":"INSERT!C84","v":0},{"$f":"INSERT!D84","v":0},{"$f":"INSERT!E84","v":0}]
[83,{"$f":"INSERT!A85","v":0},{"$f":"INSERT!B85","v":0},{"$f":"INSERT!C85","v":0},{"$f":"INSERT!D85","v":0},{"$f":"INSERT!E85","v":0}]
[84,{"$f":"INSERT!A86","v":0},{"$f":"INSERT!B86","v":0},{"$f":"INSERT!C86","v":0},{"$f":"INSERT!D86","v":0},{"$f":"INSERT!E86","v":0}]
[85,{"$f":"INSERT!A87","v":0},{"$f":"INSERT!B87","v":0},{"$f":"INSERT!C87","v":0},{"$f":"INSERT!D87","v":0},{"$f":"INSERT!E87","v":0}]
[86,{"$f":"INSERT!A88","v":0},{"$f":"INSERT!B88","v":0},{"$f":"INSERT!C88","v":0},{"$f":"INSERT!D88","v":0},{"$f":"INSERT!E88","v":0}]
[87,{"$f":"INSERT!A89","v":0},{"$f":"INSERT!B89","v":0},{"$f":"INSERT!C89","v":0},{"$f":"INSERT!D89","v":0},{"$f":"INSERT!E89","v":0}]
[88,{"$f":"INSERT!A90","v":0},{"$f":"INSERT!B90","v":0},{"$f":"INSERT!C90","v":0},{"$f":"INSERT!D90","v":0},{"$f":"INSERT!E90","v":0}]
[89,{"$f":"INSERT!A91","v":0},{"$f":"INSERT!B91","v":0},{"$f":"INSERT!C91","v":0},{"$f":"INSERT!D91","v":0},{"$f":"INSERT!E91","v":0}]
[90,{"$f":"INSERT!A92","v":0},{"$f":"INSERT!B92","v":0},{"$f":"INSERT!C92","v":0},{"$f":"INSERT!D92","v":0},{"$f":"INSERT!E92","v":0}]
[91,{"$f":"INSERT!A93","v":0},{"$f":"INSERT!B93","v":0},{"$f":"INSERT!C93","v":0},{"$f":"INSERT!D93","v":0},{"$f":"INSERT!E93","v":0}]
[92,{"$f":"INSERT!A94","v":0},{"$f":"INSERT!B94","v":0},{"$f":"INSERT!C94","v":0},{"$f":"INSERT!D94","v":0},{"$f":"INSERT!E94","v":0}]
[93,{"$f":"INSERT!A95","v":0},{"$f":"INSERT!B95","v":0},{"$f":"INSERT!C95","v":0},{"$f":"INSERT!D95","v":0},{"$f":"INSERT!E95","v":0}]
[94,{"$f":"INSERT!A96","v":0},{"$f":"INSERT!B96","v":0},{"$f":"INSERT!C96","v":0},{"$f":"INSERT!D96","v":0},{"$f":"INSERT!E96","v":0}]
[95,{"$f":"INSERT!A97","v":0},{"$f":"INSERT!B97","v":0},{"$f":"INSERT!C97","v":0},{"$f":"INSERT!D97","v":0},{"$f":"INSERT!E97","v":0}]
[96,{"$f":"INSERT!A98","v":0},{"$f":"INSERT!B98","v":0},{"$f":"INSERT!C98","v":0},{"$f":"INSERT!D98","v":0},{"$f":"INSERT!E98","v":0}]
[97,{"$f":"INSERT!A99","v":0},{"$f":"INSERT!B99","v":0},{"$f":"INSERT!C99","v":0},{"$f":"INSERT!D99","v":0},{"$f":"INSERT!E99","v":0}]
[98,{"$f":"INSERT!A100","v":0},{"$f":"INSERT!B100","v":0},{"$f":"INSERT!C100","v":0},{"$f":"INSERT!D100","v":0},{"$f":"INSERT!E100","v":0}]
[99,{"$f":"INSERT!A101","v":0},{"$f":"INSERT!B101","v":0},{"$f":"INSERT!C101","v":0},{"$f":"INSERT!D101","v":0},{"$f":"INSERT!E101","v":0}]
[100,{"$f":"INSERT!A102","v":0},{"$f":"INSERT!B102","v":0},{"$f":"INSERT!C102","v":0},{"$f":"INSERT!D102","v":0},{"$f":"INSERT!E102","v":0}]

{"sheet":"Term3 Sign","index":17,"n_rows":105,"n_cols":15,"rows_kept":105,"cut":false,"hidden":false,"merged":[[1,6,1,7],[1,8,1,9],[1,10,1,11],[1,12,1,13],[1,14,1,15]]}
[null,null,null,null,null,"GRADE :",{"$f":"TERM1!$F$6","v":0},"EGD"]
[null,null,null,null,null,null,"CD8 1st Solid Geometry",null,"CD9  2nd Solid Geometry",null,"CD10 1st Interpenetration & Development",null,"CD11 2nd Interpenetration & Development",null,"CD11 2nd Interpenetration & Development"]
[null,null,null,null,null,null,"DUE DATE: ",null,"DUE DATE: ",null,"DUE DATE: ",null,"DUE DATE: ",null,"DUE DATE: "]
[null,"Class","Admission","SURNAME","NAME","Gender","CD 8",null,"CD 9",null,"CD 10",null,"CD 11",null,"CD 12"]
[]
[1,{"$f":"INSERT!A3","v":0},{"$f":"INSERT!B3","v":0},{"$f":"INSERT!C3","v":0},{"$f":"INSERT!D3","v":0},{"$f":"INSERT!E3","v":0}]
[2,{"$f":"INSERT!A4","v":0},{"$f":"INSERT!B4","v":0},{"$f":"INSERT!C4","v":0},{"$f":"INSERT!D4","v":0},{"$f":"INSERT!E4","v":0}]
[3,{"$f":"INSERT!A5","v":0},{"$f":"INSERT!B5","v":0},{"$f":"INSERT!C5","v":0},{"$f":"INSERT!D5","v":0},{"$f":"INSERT!E5","v":0}]
[4,{"$f":"INSERT!A6","v":0},{"$f":"INSERT!B6","v":0},{"$f":"INSERT!C6","v":0},{"$f":"INSERT!D6","v":0},{"$f":"INSERT!E6","v":0}]
[5,{"$f":"INSERT!A7","v":0},{"$f":"INSERT!B7","v":0},{"$f":"INSERT!C7","v":0},{"$f":"INSERT!D7","v":0},{"$f":"INSERT!E7","v":0}]
[6,{"$f":"INSERT!A8","v":0},{"$f":"INSERT!B8","v":0},{"$f":"INSERT!C8","v":0},{"$f":"INSERT!D8","v":0},{"$f":"INSERT!E8","v":0}]
[7,{"$f":"INSERT!A9","v":0},{"$f":"INSERT!B9","v":0},{"$f":"INSERT!C9","v":0},{"$f":"INSERT!D9","v":0},{"$f":"INSERT!E9","v":0}]
[8,{"$f":"INSERT!A10","v":0},{"$f":"INSERT!B10","v":0},{"$f":"INSERT!C10","v":0},{"$f":"INSERT!D10","v":0},{"$f":"INSERT!E10","v":0}]
[9,{"$f":"INSERT!A11","v":0},{"$f":"INSERT!B11","v":0},{"$f":"INSERT!C11","v":0},{"$f":"INSERT!D11","v":0},{"$f":"INSERT!E11","v":0}]
[10,{"$f":"INSERT!A12","v":0},{"$f":"INSERT!B12","v":0},{"$f":"INSERT!C12","v":0},{"$f":"INSERT!D12","v":0},{"$f":"INSERT!E12","v":0}]
[11,{"$f":"INSERT!A13","v":0},{"$f":"INSERT!B13","v":0},{"$f":"INSERT!C13","v":0},{"$f":"INSERT!D13","v":0},{"$f":"INSERT!E13","v":0}]
[12,{"$f":"INSERT!A14","v":0},{"$f":"INSERT!B14","v":0},{"$f":"INSERT!C14","v":0},{"$f":"INSERT!D14","v":0},{"$f":"INSERT!E14","v":0}]
[13,{"$f":"INSERT!A15","v":0},{"$f":"INSERT!B15","v":0},{"$f":"INSERT!C15","v":0},{"$f":"INSERT!D15","v":0},{"$f":"INSERT!E15","v":0}]
[14,{"$f":"INSERT!A16","v":0},{"$f":"INSERT!B16","v":0},{"$f":"INSERT!C16","v":0},{"$f":"INSERT!D16","v":0},{"$f":"INSERT!E16","v":0}]
[15,{"$f":"INSERT!A17","v":0},{"$f":"INSERT!B17","v":0},{"$f":"INSERT!C17","v":0},{"$f":"INSERT!D17","v":0},{"$f":"INSERT!E17","v":0}]
[16,{"$f":"INSERT!A18","v":0},{"$f":"INSERT!B18","v":0},{"$f":"INSERT!C18","v":0},{"$f":"INSERT!D18","v":0},{"$f":"INSERT!E18","v":0}]
[17,{"$f":"INSERT!A19","v":0},{"$f":"INSERT!B19","v":0},{"$f":"INSERT!C19","v":0},{"$f":"INSERT!D19","v":0},{"$f":"INSERT!E19","v":0}]
[18,{"$f":"INSERT!A20","v":0},{"$f":"INSERT!B20","v":0},{"$f":"INSERT!C20","v":0},{"$f":"INSERT!D20","v":0},{"$f":"INSERT!E20","v":0}]
[19,{"$f":"INSERT!A21","v":0},{"$f":"INSERT!B21","v":0},{"$f":"INSERT!C21","v":0},{"$f":"INSERT!D21","v":0},{"$f":"INSERT!E21","v":0}]
[20,{"$f":"INSERT!A22","v":0},{"$f":"INSERT!B22","v":0},{"$f":"INSERT!C22","v":0},{"$f":"INSERT!D22","v":0},{"$f":"INSERT!E22","v":0}]
[21,{"$f":"INSERT!A23","v":0},{"$f":"INSERT!B23","v":0},{"$f":"INSERT!C23","v":0},{"$f":"INSERT!D23","v":0},{"$f":"INSERT!E23","v":0}]
[22,{"$f":"INSERT!A24","v":0},{"$f":"INSERT!B24","v":0},{"$f":"INSERT!C24","v":0},{"$f":"INSERT!D24","v":0},{"$f":"INSERT!E24","v":0}]
[23,{"$f":"INSERT!A25","v":0},{"$f":"INSERT!B25","v":0},{"$f":"INSERT!C25","v":0},{"$f":"INSERT!D25","v":0},{"$f":"INSERT!E25","v":0}]
[24,{"$f":"INSERT!A26","v":0},{"$f":"INSERT!B26","v":0},{"$f":"INSERT!C26","v":0},{"$f":"INSERT!D26","v":0},{"$f":"INSERT!E26","v":0}]
[25,{"$f":"INSERT!A27","v":0},{"$f":"INSERT!B27","v":0},{"$f":"INSERT!C27","v":0},{"$f":"INSERT!D27","v":0},{"$f":"INSERT!E27","v":0}]
[26,{"$f":"INSERT!A28","v":0},{"$f":"INSERT!B28","v":0},{"$f":"INSERT!C28","v":0},{"$f":"INSERT!D28","v":0},{"$f":"INSERT!E28","v":0}]
[27,{"$f":"INSERT!A29","v":0},{"$f":"INSERT!B29","v":0},{"$f":"INSERT!C29","v":0},{"$f":"INSERT!D29","v":0},{"$f":"INSERT!E29","v":0}]
[28,{"$f":"INSERT!A30","v":0},{"$f":"INSERT!B30","v":0},{"$f":"INSERT!C30","v":0},{"$f":"INSERT!D30","v":0},{"$f":"INSERT!E30","v":0}]
[29,{"$f":"INSERT!A31","v":0},{"$f":"INSERT!B31","v":0},{"$f":"INSERT!C31","v":0},{"$f":"INSERT!D31","v":0},{"$f":"INSERT!E31","v":0}]
[30,{"$f":"INSERT!A32","v":0},{"$f":"INSERT!B32","v":0},{"$f":"INSERT!C32","v":0},{"$f":"INSERT!D32","v":0},{"$f":"INSERT!E32","v":0}]
[31,{"$f":"INSERT!A33","v":0},{"$f":"INSERT!B33","v":0},{"$f":"INSERT!C33","v":0},{"$f":"INSERT!D33","v":0},{"$f":"INSERT!E33","v":0}]
[32,{"$f":"INSERT!A34","v":0},{"$f":"INSERT!B34","v":0},{"$f":"INSERT!C34","v":0},{"$f":"INSERT!D34","v":0},{"$f":"INSERT!E34","v":0}]
[33,{"$f":"INSERT!A35","v":0},{"$f":"INSERT!B35","v":0},{"$f":"INSERT!C35","v":0},{"$f":"INSERT!D35","v":0},{"$f":"INSERT!E35","v":0}]
[34,{"$f":"INSERT!A36","v":0},{"$f":"INSERT!B36","v":0},{"$f":"INSERT!C36","v":0},{"$f":"INSERT!D36","v":0},{"$f":"INSERT!E36","v":0}]
[35,{"$f":"INSERT!A37","v":0},{"$f":"INSERT!B37","v":0},{"$f":"INSERT!C37","v":0},{"$f":"INSERT!D37","v":0},{"$f":"INSERT!E37","v":0}]
[36,{"$f":"INSERT!A38","v":0},{"$f":"INSERT!B38","v":0},{"$f":"INSERT!C38","v":0},{"$f":"INSERT!D38","v":0},{"$f":"INSERT!E38","v":0}]
[37,{"$f":"INSERT!A39","v":0},{"$f":"INSERT!B39","v":0},{"$f":"INSERT!C39","v":0},{"$f":"INSERT!D39","v":0},{"$f":"INSERT!E39","v":0}]
[38,{"$f":"INSERT!A40","v":0},{"$f":"INSERT!B40","v":0},{"$f":"INSERT!C40","v":0},{"$f":"INSERT!D40","v":0},{"$f":"INSERT!E40","v":0}]
[39,{"$f":"INSERT!A41","v":0},{"$f":"INSERT!B41","v":0},{"$f":"INSERT!C41","v":0},{"$f":"INSERT!D41","v":0},{"$f":"INSERT!E41","v":0}]
[40,{"$f":"INSERT!A42","v":0},{"$f":"INSERT!B42","v":0},{"$f":"INSERT!C42","v":0},{"$f":"INSERT!D42","v":0},{"$f":"INSERT!E42","v":0}]
[41,{"$f":"INSERT!A43","v":0},{"$f":"INSERT!B43","v":0},{"$f":"INSERT!C43","v":0},{"$f":"INSERT!D43","v":0},{"$f":"INSERT!E43","v":0}]
[42,{"$f":"INSERT!A44","v":0},{"$f":"INSERT!B44","v":0},{"$f":"INSERT!C44","v":0},{"$f":"INSERT!D44","v":0},{"$f":"INSERT!E44","v":0}]
[43,{"$f":"INSERT!A45","v":0},{"$f":"INSERT!B45","v":0},{"$f":"INSERT!C45","v":0},{"$f":"INSERT!D45","v":0},{"$f":"INSERT!E45","v":0}]
[44,{"$f":"INSERT!A46","v":0},{"$f":"INSERT!B46","v":0},{"$f":"INSERT!C46","v":0},{"$f":"INSERT!D46","v":0},{"$f":"INSERT!E46","v":0}]
[45,{"$f":"INSERT!A47","v":0},{"$f":"INSERT!B47","v":0},{"$f":"INSERT!C47","v":0},{"$f":"INSERT!D47","v":0},{"$f":"INSERT!E47","v":0}]
[46,{"$f":"INSERT!A48","v":0},{"$f":"INSERT!B48","v":0},{"$f":"INSERT!C48","v":0},{"$f":"INSERT!D48","v":0},{"$f":"INSERT!E48","v":0}]
[47,{"$f":"INSERT!A49","v":0},{"$f":"INSERT!B49","v":0},{"$f":"INSERT!C49","v":0},{"$f":"INSERT!D49","v":0},{"$f":"INSERT!E49","v":0}]
[48,{"$f":"INSERT!A50","v":0},{"$f":"INSERT!B50","v":0},{"$f":"INSERT!C50","v":0},{"$f":"INSERT!D50","v":0},{"$f":"INSERT!E50","v":0}]
[49,{"$f":"INSERT!A51","v":0},{"$f":"INSERT!B51","v":0},{"$f":"INSERT!C51","v":0},{"$f":"INSERT!D51","v":0},{"$f":"INSERT!E51","v":0}]
[50,{"$f":"INSERT!A52","v":0},{"$f":"INSERT!B52","v":0},{"$f":"INSERT!C52","v":0},{"$f":"INSERT!D52","v":0},{"$f":"INSERT!E52","v":0}]
[51,{"$f":"INSERT!A53","v":0},{"$f":"INSERT!B53","v":0},{"$f":"INSERT!C53","v":0},{"$f":"INSERT!D53","v":0},{"$f":"INSERT!E53","v":0}]
[52,{"$f":"INSERT!A54","v":0},{"$f":"INSERT!B54","v":0},{"$f":"INSERT!C54","v":0},{"$f":"INSERT!D54","v":0},{"$f":"INSERT!E54","v":0}]
[53,{"$f":"INSERT!A55","v":0},{"$f":"INSERT!B55","v":0},{"$f":"INSERT!C55","v":0},{"$f":"INSERT!D55","v":0},{"$f":"INSERT!E55","v":0}]
[54,{"$f":"INSERT!A56","v":0},{"$f":"INSERT!B56","v":0},{"$f":"INSERT!C56","v":0},{"$f":"INSERT!D56","v":0},{"$f":"INSERT!E56","v":0}]
[55,{"$f":"INSERT!A57","v":0},{"$f":"INSERT!B57","v":0},{"$f":"INSERT!C57","v":0},{"$f":"INSERT!D57","v":0},{"$f":"INSERT!E57","v":0}]
[56,{"$f":"INSERT!A58","v":0},{"$f":"INSERT!B58","v":0},{"$f":"INSERT!C58","v":0},{"$f":"INSERT!D58","v":0},{"$f":"INSERT!E58","v":0}]
[57,{"$f":"INSERT!A59","v":0},{"$f":"INSERT!B59","v":0},{"$f":"INSERT!C59","v":0},{"$f":"INSERT!D59","v":0},{"$f":"INSERT!E59","v":0}]
[58,{"$f":"INSERT!A60","v":0},{"$f":"INSERT!B60","v":0},{"$f":"INSERT!C60","v":0},{"$f":"INSERT!D60","v":0},{"$f":"INSERT!E60","v":0}]
[59,{"$f":"INSERT!A61","v":0},{"$f":"INSERT!B61","v":0},{"$f":"INSERT!C61","v":0},{"$f":"INSERT!D61","v":0},{"$f":"INSERT!E61","v":0}]
[60,{"$f":"INSERT!A62","v":0},{"$f":"INSERT!B62","v":0},{"$f":"INSERT!C62","v":0},{"$f":"INSERT!D62","v":0},{"$f":"INSERT!E62","v":0}]
[61,{"$f":"INSERT!A63","v":0},{"$f":"INSERT!B63","v":0},{"$f":"INSERT!C63","v":0},{"$f":"INSERT!D63","v":0},{"$f":"INSERT!E63","v":0}]
[62,{"$f":"INSERT!A64","v":0},{"$f":"INSERT!B64","v":0},{"$f":"INSERT!C64","v":0},{"$f":"INSERT!D64","v":0},{"$f":"INSERT!E64","v":0}]
[63,{"$f":"INSERT!A65","v":0},{"$f":"INSERT!B65","v":0},{"$f":"INSERT!C65","v":0},{"$f":"INSERT!D65","v":0},{"$f":"INSERT!E65","v":0}]
[64,{"$f":"INSERT!A66","v":0},{"$f":"INSERT!B66","v":0},{"$f":"INSERT!C66","v":0},{"$f":"INSERT!D66","v":0},{"$f":"INSERT!E66","v":0}]
[65,{"$f":"INSERT!A67","v":0},{"$f":"INSERT!B67","v":0},{"$f":"INSERT!C67","v":0},{"$f":"INSERT!D67","v":0},{"$f":"INSERT!E67","v":0}]
[66,{"$f":"INSERT!A68","v":0},{"$f":"INSERT!B68","v":0},{"$f":"INSERT!C68","v":0},{"$f":"INSERT!D68","v":0},{"$f":"INSERT!E68","v":0}]
[67,{"$f":"INSERT!A69","v":0},{"$f":"INSERT!B69","v":0},{"$f":"INSERT!C69","v":0},{"$f":"INSERT!D69","v":0},{"$f":"INSERT!E69","v":0}]
[68,{"$f":"INSERT!A70","v":0},{"$f":"INSERT!B70","v":0},{"$f":"INSERT!C70","v":0},{"$f":"INSERT!D70","v":0},{"$f":"INSERT!E70","v":0}]
[69,{"$f":"INSERT!A71","v":0},{"$f":"INSERT!B71","v":0},{"$f":"INSERT!C71","v":0},{"$f":"INSERT!D71","v":0},{"$f":"INSERT!E71","v":0}]
[70,{"$f":"INSERT!A72","v":0},{"$f":"INSERT!B72","v":0},{"$f":"INSERT!C72","v":0},{"$f":"INSERT!D72","v":0},{"$f":"INSERT!E72","v":0}]
[71,{"$f":"INSERT!A73","v":0},{"$f":"INSERT!B73","v":0},{"$f":"INSERT!C73","v":0},{"$f":"INSERT!D73","v":0},{"$f":"INSERT!E73","v":0}]
[72,{"$f":"INSERT!A74","v":0},{"$f":"INSERT!B74","v":0},{"$f":"INSERT!C74","v":0},{"$f":"INSERT!D74","v":0},{"$f":"INSERT!E74","v":0}]
[73,{"$f":"INSERT!A75","v":0},{"$f":"INSERT!B75","v":0},{"$f":"INSERT!C75","v":0},{"$f":"INSERT!D75","v":0},{"$f":"INSERT!E75","v":0}]
[74,{"$f":"INSERT!A76","v":0},{"$f":"INSERT!B76","v":0},{"$f":"INSERT!C76","v":0},{"$f":"INSERT!D76","v":0},{"$f":"INSERT!E76","v":0}]
[75,{"$f":"INSERT!A77","v":0},{"$f":"INSERT!B77","v":0},{"$f":"INSERT!C77","v":0},{"$f":"INSERT!D77","v":0},{"$f":"INSERT!E77","v":0}]
[76,{"$f":"INSERT!A78","v":0},{"$f":"INSERT!B78","v":0},{"$f":"INSERT!C78","v":0},{"$f":"INSERT!D78","v":0},{"$f":"INSERT!E78","v":0}]
[77,{"$f":"INSERT!A79","v":0},{"$f":"INSERT!B79","v":0},{"$f":"INSERT!C79","v":0},{"$f":"INSERT!D79","v":0},{"$f":"INSERT!E79","v":0}]
[78,{"$f":"INSERT!A80","v":0},{"$f":"INSERT!B80","v":0},{"$f":"INSERT!C80","v":0},{"$f":"INSERT!D80","v":0},{"$f":"INSERT!E80","v":0}]
[79,{"$f":"INSERT!A81","v":0},{"$f":"INSERT!B81","v":0},{"$f":"INSERT!C81","v":0},{"$f":"INSERT!D81","v":0},{"$f":"INSERT!E81","v":0}]
[80,{"$f":"INSERT!A82","v":0},{"$f":"INSERT!B82","v":0},{"$f":"INSERT!C82","v":0},{"$f":"INSERT!D82","v":0},{"$f":"INSERT!E82","v":0}]
[81,{"$f":"INSERT!A83","v":0},{"$f":"INSERT!B83","v":0},{"$f":"INSERT!C83","v":0},{"$f":"INSERT!D83","v":0},{"$f":"INSERT!E83","v":0}]
[82,{"$f":"INSERT!A84","v":0},{"$f":"INSERT!B84","v":0},{"$f":"INSERT!C84","v":0},{"$f":"INSERT!D84","v":0},{"$f":"INSERT!E84","v":0}]
[83,{"$f":"INSERT!A85","v":0},{"$f":"INSERT!B85","v":0},{"$f":"INSERT!C85","v":0},{"$f":"INSERT!D85","v":0},{"$f":"INSERT!E85","v":0}]
[84,{"$f":"INSERT!A86","v":0},{"$f":"INSERT!B86","v":0},{"$f":"INSERT!C86","v":0},{"$f":"INSERT!D86","v":0},{"$f":"INSERT!E86","v":0}]
[85,{"$f":"INSERT!A87","v":0},{"$f":"INSERT!B87","v":0},{"$f":"INSERT!C87","v":0},{"$f":"INSERT!D87","v":0},{"$f":"INSERT!E87","v":0}]
[86,{"$f":"INSERT!A88","v":0},{"$f":"INSERT!B88","v":0},{"$f":"INSERT!C88","v":0},{"$f":"INSERT!D88","v":0},{"$f":"INSERT!E88","v":0}]
[87,{"$f":"INSERT!A89","v":0},{"$f":"INSERT!B89","v":0},{"$f":"INSERT!C89","v":0},{"$f":"INSERT!D89","v":0},{"$f":"INSERT!E89","v":0}]
[88,{"$f":"INSERT!A90","v":0},{"$f":"INSERT!B90","v":0},{"$f":"INSERT!C90","v":0},{"$f":"INSERT!D90","v":0},{"$f":"INSERT!E90","v":0}]
[89,{"$f":"INSERT!A91","v":0},{"$f":"INSERT!B91","v":0},{"$f":"INSERT!C91","v":0},{"$f":"INSERT!D91","v":0},{"$f":"INSERT!E91","v":0}]
[90,{"$f":"INSERT!A92","v":0},{"$f":"INSERT!B92","v":0},{"$f":"INSERT!C92","v":0},{"$f":"INSERT!D92","v":0},{"$f":"INSERT!E92","v":0}]
[91,{"$f":"INSERT!A93","v":0},{"$f":"INSERT!B93","v":0},{"$f":"INSERT!C93","v":0},{"$f":"INSERT!D93","v":0},{"$f":"INSERT!E93","v":0}]
[92,{"$f":"INSERT!A94","v":0},{"$f":"INSERT!B94","v":0},{"$f":"INSERT!C94","v":0},{"$f":"INSERT!D94","v":0},{"$f":"INSERT!E94","v":0}]
[93,{"$f":"INSERT!A95","v":0},{"$f":"INSERT!B95","v":0},{"$f":"INSERT!C95","v":0},{"$f":"INSERT!D95","v":0},{"$f":"INSERT!E95","v":0}]
[94,{"$f":"INSERT!A96","v":0},{"$f":"INSERT!B96","v":0},{"$f":"INSERT!C96","v":0},{"$f":"INSERT!D96","v":0},{"$f":"INSERT!E96","v":0}]
[95,{"$f":"INSERT!A97","v":0},{"$f":"INSERT!B97","v":0},{"$f":"INSERT!C97","v":0},{"$f":"INSERT!D97","v":0},{"$f":"INSERT!E97","v":0}]
[96,{"$f":"INSERT!A98","v":0},{"$f":"INSERT!B98","v":0},{"$f":"INSERT!C98","v":0},{"$f":"INSERT!D98","v":0},{"$f":"INSERT!E98","v":0}]
[97,{"$f":"INSERT!A99","v":0},{"$f":"INSERT!B99","v":0},{"$f":"INSERT!C99","v":0},{"$f":"INSERT!D99","v":0},{"$f":"INSERT!E99","v":0}]
[98,{"$f":"INSERT!A100","v":0},{"$f":"INSERT!B100","v":0},{"$f":"INSERT!C100","v":0},{"$f":"INSERT!D100","v":0},{"$f":"INSERT!E100","v":0}]
[99,{"$f":"INSERT!A101","v":0},{"$f":"INSERT!B101","v":0},{"$f":"INSERT!C101","v":0},{"$f":"INSERT!D101","v":0},{"$f":"INSERT!E101","v":0}]
[100,{"$f":"INSERT!A102","v":0},{"$f":"INSERT!B102","v":0},{"$f":"INSERT!C102","v":0},{"$f":"INSERT!D102","v":0},{"$f":"INSERT!E102","v":0}]

{"sheet":"Term4 Sign","index":18,"n_rows":105,"n_cols":13,"rows_kept":105,"cut":false,"hidden":false,"merged":[[1,6,1,7],[1,8,1,9],[1,10,1,11],[1,12,1,13]]}
[null,null,null,null,null,"GRADE :",{"$f":"TERM1!$F$6","v":0},"EGD TERM 4"]
[null,null,null,null,null,null,"CD13 - Cam Shaft"]
[null,null,null,null,null,null,"DUE DATE: ",null,"DUE DATE: ",null,"DUE DATE: ",null,"DUE DATE: "]
[null,"Class","Admission","SURNAME","NAME","Gender","CD13.1","CD13.2"]
[]
[1,{"$f":"INSERT!A3","v":0},{"$f":"INSERT!B3","v":0},{"$f":"INSERT!C3","v":0},{"$f":"INSERT!D3","v":0},{"$f":"INSERT!E3","v":0}]
[2,{"$f":"INSERT!A4","v":0},{"$f":"INSERT!B4","v":0},{"$f":"INSERT!C4","v":0},{"$f":"INSERT!D4","v":0},{"$f":"INSERT!E4","v":0}]
[3,{"$f":"INSERT!A5","v":0},{"$f":"INSERT!B5","v":0},{"$f":"INSERT!C5","v":0},{"$f":"INSERT!D5","v":0},{"$f":"INSERT!E5","v":0}]
[4,{"$f":"INSERT!A6","v":0},{"$f":"INSERT!B6","v":0},{"$f":"INSERT!C6","v":0},{"$f":"INSERT!D6","v":0},{"$f":"INSERT!E6","v":0}]
[5,{"$f":"INSERT!A7","v":0},{"$f":"INSERT!B7","v":0},{"$f":"INSERT!C7","v":0},{"$f":"INSERT!D7","v":0},{"$f":"INSERT!E7","v":0}]
[6,{"$f":"INSERT!A8","v":0},{"$f":"INSERT!B8","v":0},{"$f":"INSERT!C8","v":0},{"$f":"INSERT!D8","v":0},{"$f":"INSERT!E8","v":0}]
[7,{"$f":"INSERT!A9","v":0},{"$f":"INSERT!B9","v":0},{"$f":"INSERT!C9","v":0},{"$f":"INSERT!D9","v":0},{"$f":"INSERT!E9","v":0}]
[8,{"$f":"INSERT!A10","v":0},{"$f":"INSERT!B10","v":0},{"$f":"INSERT!C10","v":0},{"$f":"INSERT!D10","v":0},{"$f":"INSERT!E10","v":0}]
[9,{"$f":"INSERT!A11","v":0},{"$f":"INSERT!B11","v":0},{"$f":"INSERT!C11","v":0},{"$f":"INSERT!D11","v":0},{"$f":"INSERT!E11","v":0}]
[10,{"$f":"INSERT!A12","v":0},{"$f":"INSERT!B12","v":0},{"$f":"INSERT!C12","v":0},{"$f":"INSERT!D12","v":0},{"$f":"INSERT!E12","v":0}]
[11,{"$f":"INSERT!A13","v":0},{"$f":"INSERT!B13","v":0},{"$f":"INSERT!C13","v":0},{"$f":"INSERT!D13","v":0},{"$f":"INSERT!E13","v":0}]
[12,{"$f":"INSERT!A14","v":0},{"$f":"INSERT!B14","v":0},{"$f":"INSERT!C14","v":0},{"$f":"INSERT!D14","v":0},{"$f":"INSERT!E14","v":0}]
[13,{"$f":"INSERT!A15","v":0},{"$f":"INSERT!B15","v":0},{"$f":"INSERT!C15","v":0},{"$f":"INSERT!D15","v":0},{"$f":"INSERT!E15","v":0}]
[14,{"$f":"INSERT!A16","v":0},{"$f":"INSERT!B16","v":0},{"$f":"INSERT!C16","v":0},{"$f":"INSERT!D16","v":0},{"$f":"INSERT!E16","v":0}]
[15,{"$f":"INSERT!A17","v":0},{"$f":"INSERT!B17","v":0},{"$f":"INSERT!C17","v":0},{"$f":"INSERT!D17","v":0},{"$f":"INSERT!E17","v":0}]
[16,{"$f":"INSERT!A18","v":0},{"$f":"INSERT!B18","v":0},{"$f":"INSERT!C18","v":0},{"$f":"INSERT!D18","v":0},{"$f":"INSERT!E18","v":0}]
[17,{"$f":"INSERT!A19","v":0},{"$f":"INSERT!B19","v":0},{"$f":"INSERT!C19","v":0},{"$f":"INSERT!D19","v":0},{"$f":"INSERT!E19","v":0}]
[18,{"$f":"INSERT!A20","v":0},{"$f":"INSERT!B20","v":0},{"$f":"INSERT!C20","v":0},{"$f":"INSERT!D20","v":0},{"$f":"INSERT!E20","v":0}]
[19,{"$f":"INSERT!A21","v":0},{"$f":"INSERT!B21","v":0},{"$f":"INSERT!C21","v":0},{"$f":"INSERT!D21","v":0},{"$f":"INSERT!E21","v":0}]
[20,{"$f":"INSERT!A22","v":0},{"$f":"INSERT!B22","v":0},{"$f":"INSERT!C22","v":0},{"$f":"INSERT!D22","v":0},{"$f":"INSERT!E22","v":0}]
[21,{"$f":"INSERT!A23","v":0},{"$f":"INSERT!B23","v":0},{"$f":"INSERT!C23","v":0},{"$f":"INSERT!D23","v":0},{"$f":"INSERT!E23","v":0}]
[22,{"$f":"INSERT!A24","v":0},{"$f":"INSERT!B24","v":0},{"$f":"INSERT!C24","v":0},{"$f":"INSERT!D24","v":0},{"$f":"INSERT!E24","v":0}]
[23,{"$f":"INSERT!A25","v":0},{"$f":"INSERT!B25","v":0},{"$f":"INSERT!C25","v":0},{"$f":"INSERT!D25","v":0},{"$f":"INSERT!E25","v":0}]
[24,{"$f":"INSERT!A26","v":0},{"$f":"INSERT!B26","v":0},{"$f":"INSERT!C26","v":0},{"$f":"INSERT!D26","v":0},{"$f":"INSERT!E26","v":0}]
[25,{"$f":"INSERT!A27","v":0},{"$f":"INSERT!B27","v":0},{"$f":"INSERT!C27","v":0},{"$f":"INSERT!D27","v":0},{"$f":"INSERT!E27","v":0}]
[26,{"$f":"INSERT!A28","v":0},{"$f":"INSERT!B28","v":0},{"$f":"INSERT!C28","v":0},{"$f":"INSERT!D28","v":0},{"$f":"INSERT!E28","v":0}]
[27,{"$f":"INSERT!A29","v":0},{"$f":"INSERT!B29","v":0},{"$f":"INSERT!C29","v":0},{"$f":"INSERT!D29","v":0},{"$f":"INSERT!E29","v":0}]
[28,{"$f":"INSERT!A30","v":0},{"$f":"INSERT!B30","v":0},{"$f":"INSERT!C30","v":0},{"$f":"INSERT!D30","v":0},{"$f":"INSERT!E30","v":0}]
[29,{"$f":"INSERT!A31","v":0},{"$f":"INSERT!B31","v":0},{"$f":"INSERT!C31","v":0},{"$f":"INSERT!D31","v":0},{"$f":"INSERT!E31","v":0}]
[30,{"$f":"INSERT!A32","v":0},{"$f":"INSERT!B32","v":0},{"$f":"INSERT!C32","v":0},{"$f":"INSERT!D32","v":0},{"$f":"INSERT!E32","v":0}]
[31,{"$f":"INSERT!A33","v":0},{"$f":"INSERT!B33","v":0},{"$f":"INSERT!C33","v":0},{"$f":"INSERT!D33","v":0},{"$f":"INSERT!E33","v":0}]
[32,{"$f":"INSERT!A34","v":0},{"$f":"INSERT!B34","v":0},{"$f":"INSERT!C34","v":0},{"$f":"INSERT!D34","v":0},{"$f":"INSERT!E34","v":0}]
[33,{"$f":"INSERT!A35","v":0},{"$f":"INSERT!B35","v":0},{"$f":"INSERT!C35","v":0},{"$f":"INSERT!D35","v":0},{"$f":"INSERT!E35","v":0}]
[34,{"$f":"INSERT!A36","v":0},{"$f":"INSERT!B36","v":0},{"$f":"INSERT!C36","v":0},{"$f":"INSERT!D36","v":0},{"$f":"INSERT!E36","v":0}]
[35,{"$f":"INSERT!A37","v":0},{"$f":"INSERT!B37","v":0},{"$f":"INSERT!C37","v":0},{"$f":"INSERT!D37","v":0},{"$f":"INSERT!E37","v":0}]
[36,{"$f":"INSERT!A38","v":0},{"$f":"INSERT!B38","v":0},{"$f":"INSERT!C38","v":0},{"$f":"INSERT!D38","v":0},{"$f":"INSERT!E38","v":0}]
[37,{"$f":"INSERT!A39","v":0},{"$f":"INSERT!B39","v":0},{"$f":"INSERT!C39","v":0},{"$f":"INSERT!D39","v":0},{"$f":"INSERT!E39","v":0}]
[38,{"$f":"INSERT!A40","v":0},{"$f":"INSERT!B40","v":0},{"$f":"INSERT!C40","v":0},{"$f":"INSERT!D40","v":0},{"$f":"INSERT!E40","v":0}]
[39,{"$f":"INSERT!A41","v":0},{"$f":"INSERT!B41","v":0},{"$f":"INSERT!C41","v":0},{"$f":"INSERT!D41","v":0},{"$f":"INSERT!E41","v":0}]
[40,{"$f":"INSERT!A42","v":0},{"$f":"INSERT!B42","v":0},{"$f":"INSERT!C42","v":0},{"$f":"INSERT!D42","v":0},{"$f":"INSERT!E42","v":0}]
[41,{"$f":"INSERT!A43","v":0},{"$f":"INSERT!B43","v":0},{"$f":"INSERT!C43","v":0},{"$f":"INSERT!D43","v":0},{"$f":"INSERT!E43","v":0}]
[42,{"$f":"INSERT!A44","v":0},{"$f":"INSERT!B44","v":0},{"$f":"INSERT!C44","v":0},{"$f":"INSERT!D44","v":0},{"$f":"INSERT!E44","v":0}]
[43,{"$f":"INSERT!A45","v":0},{"$f":"INSERT!B45","v":0},{"$f":"INSERT!C45","v":0},{"$f":"INSERT!D45","v":0},{"$f":"INSERT!E45","v":0}]
[44,{"$f":"INSERT!A46","v":0},{"$f":"INSERT!B46","v":0},{"$f":"INSERT!C46","v":0},{"$f":"INSERT!D46","v":0},{"$f":"INSERT!E46","v":0}]
[45,{"$f":"INSERT!A47","v":0},{"$f":"INSERT!B47","v":0},{"$f":"INSERT!C47","v":0},{"$f":"INSERT!D47","v":0},{"$f":"INSERT!E47","v":0}]
[46,{"$f":"INSERT!A48","v":0},{"$f":"INSERT!B48","v":0},{"$f":"INSERT!C48","v":0},{"$f":"INSERT!D48","v":0},{"$f":"INSERT!E48","v":0}]
[47,{"$f":"INSERT!A49","v":0},{"$f":"INSERT!B49","v":0},{"$f":"INSERT!C49","v":0},{"$f":"INSERT!D49","v":0},{"$f":"INSERT!E49","v":0}]
[48,{"$f":"INSERT!A50","v":0},{"$f":"INSERT!B50","v":0},{"$f":"INSERT!C50","v":0},{"$f":"INSERT!D50","v":0},{"$f":"INSERT!E50","v":0}]
[49,{"$f":"INSERT!A51","v":0},{"$f":"INSERT!B51","v":0},{"$f":"INSERT!C51","v":0},{"$f":"INSERT!D51","v":0},{"$f":"INSERT!E51","v":0}]
[50,{"$f":"INSERT!A52","v":0},{"$f":"INSERT!B52","v":0},{"$f":"INSERT!C52","v":0},{"$f":"INSERT!D52","v":0},{"$f":"INSERT!E52","v":0}]
[51,{"$f":"INSERT!A53","v":0},{"$f":"INSERT!B53","v":0},{"$f":"INSERT!C53","v":0},{"$f":"INSERT!D53","v":0},{"$f":"INSERT!E53","v":0}]
[52,{"$f":"INSERT!A54","v":0},{"$f":"INSERT!B54","v":0},{"$f":"INSERT!C54","v":0},{"$f":"INSERT!D54","v":0},{"$f":"INSERT!E54","v":0}]
[53,{"$f":"INSERT!A55","v":0},{"$f":"INSERT!B55","v":0},{"$f":"INSERT!C55","v":0},{"$f":"INSERT!D55","v":0},{"$f":"INSERT!E55","v":0}]
[54,{"$f":"INSERT!A56","v":0},{"$f":"INSERT!B56","v":0},{"$f":"INSERT!C56","v":0},{"$f":"INSERT!D56","v":0},{"$f":"INSERT!E56","v":0}]
[55,{"$f":"INSERT!A57","v":0},{"$f":"INSERT!B57","v":0},{"$f":"INSERT!C57","v":0},{"$f":"INSERT!D57","v":0},{"$f":"INSERT!E57","v":0}]
[56,{"$f":"INSERT!A58","v":0},{"$f":"INSERT!B58","v":0},{"$f":"INSERT!C58","v":0},{"$f":"INSERT!D58","v":0},{"$f":"INSERT!E58","v":0}]
[57,{"$f":"INSERT!A59","v":0},{"$f":"INSERT!B59","v":0},{"$f":"INSERT!C59","v":0},{"$f":"INSERT!D59","v":0},{"$f":"INSERT!E59","v":0}]
[58,{"$f":"INSERT!A60","v":0},{"$f":"INSERT!B60","v":0},{"$f":"INSERT!C60","v":0},{"$f":"INSERT!D60","v":0},{"$f":"INSERT!E60","v":0}]
[59,{"$f":"INSERT!A61","v":0},{"$f":"INSERT!B61","v":0},{"$f":"INSERT!C61","v":0},{"$f":"INSERT!D61","v":0},{"$f":"INSERT!E61","v":0}]
[60,{"$f":"INSERT!A62","v":0},{"$f":"INSERT!B62","v":0},{"$f":"INSERT!C62","v":0},{"$f":"INSERT!D62","v":0},{"$f":"INSERT!E62","v":0}]
[61,{"$f":"INSERT!A63","v":0},{"$f":"INSERT!B63","v":0},{"$f":"INSERT!C63","v":0},{"$f":"INSERT!D63","v":0},{"$f":"INSERT!E63","v":0}]
[62,{"$f":"INSERT!A64","v":0},{"$f":"INSERT!B64","v":0},{"$f":"INSERT!C64","v":0},{"$f":"INSERT!D64","v":0},{"$f":"INSERT!E64","v":0}]
[63,{"$f":"INSERT!A65","v":0},{"$f":"INSERT!B65","v":0},{"$f":"INSERT!C65","v":0},{"$f":"INSERT!D65","v":0},{"$f":"INSERT!E65","v":0}]
[64,{"$f":"INSERT!A66","v":0},{"$f":"INSERT!B66","v":0},{"$f":"INSERT!C66","v":0},{"$f":"INSERT!D66","v":0},{"$f":"INSERT!E66","v":0}]
[65,{"$f":"INSERT!A67","v":0},{"$f":"INSERT!B67","v":0},{"$f":"INSERT!C67","v":0},{"$f":"INSERT!D67","v":0},{"$f":"INSERT!E67","v":0}]
[66,{"$f":"INSERT!A68","v":0},{"$f":"INSERT!B68","v":0},{"$f":"INSERT!C68","v":0},{"$f":"INSERT!D68","v":0},{"$f":"INSERT!E68","v":0}]
[67,{"$f":"INSERT!A69","v":0},{"$f":"INSERT!B69","v":0},{"$f":"INSERT!C69","v":0},{"$f":"INSERT!D69","v":0},{"$f":"INSERT!E69","v":0}]
[68,{"$f":"INSERT!A70","v":0},{"$f":"INSERT!B70","v":0},{"$f":"INSERT!C70","v":0},{"$f":"INSERT!D70","v":0},{"$f":"INSERT!E70","v":0}]
[69,{"$f":"INSERT!A71","v":0},{"$f":"INSERT!B71","v":0},{"$f":"INSERT!C71","v":0},{"$f":"INSERT!D71","v":0},{"$f":"INSERT!E71","v":0}]
[70,{"$f":"INSERT!A72","v":0},{"$f":"INSERT!B72","v":0},{"$f":"INSERT!C72","v":0},{"$f":"INSERT!D72","v":0},{"$f":"INSERT!E72","v":0}]
[71,{"$f":"INSERT!A73","v":0},{"$f":"INSERT!B73","v":0},{"$f":"INSERT!C73","v":0},{"$f":"INSERT!D73","v":0},{"$f":"INSERT!E73","v":0}]
[72,{"$f":"INSERT!A74","v":0},{"$f":"INSERT!B74","v":0},{"$f":"INSERT!C74","v":0},{"$f":"INSERT!D74","v":0},{"$f":"INSERT!E74","v":0}]
[73,{"$f":"INSERT!A75","v":0},{"$f":"INSERT!B75","v":0},{"$f":"INSERT!C75","v":0},{"$f":"INSERT!D75","v":0},{"$f":"INSERT!E75","v":0}]
[74,{"$f":"INSERT!A76","v":0},{"$f":"INSERT!B76","v":0},{"$f":"INSERT!C76","v":0},{"$f":"INSERT!D76","v":0},{"$f":"INSERT!E76","v":0}]
[75,{"$f":"INSERT!A77","v":0},{"$f":"INSERT!B77","v":0},{"$f":"INSERT!C77","v":0},{"$f":"INSERT!D77","v":0},{"$f":"INSERT!E77","v":0}]
[76,{"$f":"INSERT!A78","v":0},{"$f":"INSERT!B78","v":0},{"$f":"INSERT!C78","v":0},{"$f":"INSERT!D78","v":0},{"$f":"INSERT!E78","v":0}]
[77,{"$f":"INSERT!A79","v":0},{"$f":"INSERT!B79","v":0},{"$f":"INSERT!C79","v":0},{"$f":"INSERT!D79","v":0},{"$f":"INSERT!E79","v":0}]
[78,{"$f":"INSERT!A80","v":0},{"$f":"INSERT!B80","v":0},{"$f":"INSERT!C80","v":0},{"$f":"INSERT!D80","v":0},{"$f":"INSERT!E80","v":0}]
[79,{"$f":"INSERT!A81","v":0},{"$f":"INSERT!B81","v":0},{"$f":"INSERT!C81","v":0},{"$f":"INSERT!D81","v":0},{"$f":"INSERT!E81","v":0}]
[80,{"$f":"INSERT!A82","v":0},{"$f":"INSERT!B82","v":0},{"$f":"INSERT!C82","v":0},{"$f":"INSERT!D82","v":0},{"$f":"INSERT!E82","v":0}]
[81,{"$f":"INSERT!A83","v":0},{"$f":"INSERT!B83","v":0},{"$f":"INSERT!C83","v":0},{"$f":"INSERT!D83","v":0},{"$f":"INSERT!E83","v":0}]
[82,{"$f":"INSERT!A84","v":0},{"$f":"INSERT!B84","v":0},{"$f":"INSERT!C84","v":0},{"$f":"INSERT!D84","v":0},{"$f":"INSERT!E84","v":0}]
[83,{"$f":"INSERT!A85","v":0},{"$f":"INSERT!B85","v":0},{"$f":"INSERT!C85","v":0},{"$f":"INSERT!D85","v":0},{"$f":"INSERT!E85","v":0}]
[84,{"$f":"INSERT!A86","v":0},{"$f":"INSERT!B86","v":0},{"$f":"INSERT!C86","v":0},{"$f":"INSERT!D86","v":0},{"$f":"INSERT!E86","v":0}]
[85,{"$f":"INSERT!A87","v":0},{"$f":"INSERT!B87","v":0},{"$f":"INSERT!C87","v":0},{"$f":"INSERT!D87","v":0},{"$f":"INSERT!E87","v":0}]
[86,{"$f":"INSERT!A88","v":0},{"$f":"INSERT!B88","v":0},{"$f":"INSERT!C88","v":0},{"$f":"INSERT!D88","v":0},{"$f":"INSERT!E88","v":0}]
[87,{"$f":"INSERT!A89","v":0},{"$f":"INSERT!B89","v":0},{"$f":"INSERT!C89","v":0},{"$f":"INSERT!D89","v":0},{"$f":"INSERT!E89","v":0}]
[88,{"$f":"INSERT!A90","v":0},{"$f":"INSERT!B90","v":0},{"$f":"INSERT!C90","v":0},{"$f":"INSERT!D90","v":0},{"$f":"INSERT!E90","v":0}]
[89,{"$f":"INSERT!A91","v":0},{"$f":"INSERT!B91","v":0},{"$f":"INSERT!C91","v":0},{"$f":"INSERT!D91","v":0},{"$f":"INSERT!E91","v":0}]
[90,{"$f":"INSERT!A92","v":0},{"$f":"INSERT!B92","v":0},{"$f":"INSERT!C92","v":0},{"$f":"INSERT!D92","v":0},{"$f":"INSERT!E92","v":0}]
[91,{"$f":"INSERT!A93","v":0},{"$f":"INSERT!B93","v":0},{"$f":"INSERT!C93","v":0},{"$f":"INSERT!D93","v":0},{"$f":"INSERT!E93","v":0}]
[92,{"$f":"INSERT!A94","v":0},{"$f":"INSERT!B94","v":0},{"$f":"INSERT!C94","v":0},{"$f":"INSERT!D94","v":0},{"$f":"INSERT!E94","v":0}]
[93,{"$f":"INSERT!A95","v":0},{"$f":"INSERT!B95","v":0},{"$f":"INSERT!C95","v":0},{"$f":"INSERT!D95","v":0},{"$f":"INSERT!E95","v":0}]
[94,{"$f":"INSERT!A96","v":0},{"$f":"INSERT!B96","v":0},{"$f":"INSERT!C96","v":0},{"$f":"INSERT!D96","v":0},{"$f":"INSERT!E96","v":0}]
[95,{"$f":"INSERT!A97","v":0},{"$f":"INSERT!B97","v":0},{"$f":"INSERT!C97","v":0},{"$f":"INSERT!D97","v":0},{"$f":"INSERT!E97","v":0}]
[96,{"$f":"INSERT!A98","v":0},{"$f":"INSERT!B98","v":0},{"$f":"INSERT!C98","v":0},{"$f":"INSERT!D98","v":0},{"$f":"INSERT!E98","v":0}]
[97,{"$f":"INSERT!A99","v":0},{"$f":"INSERT!B99","v":0},{"$f":"INSERT!C99","v":0},{"$f":"INSERT!D99","v":0},{"$f":"INSERT!E99","v":0}]
[98,{"$f":"INSERT!A100","v":0},{"$f":"INSERT!B100","v":0},{"$f":"INSERT!C100","v":0},{"$f":"INSERT!D100","v":0},{"$f":"INSERT!E100","v":0}]
[99,{"$f":"INSERT!A101","v":0},{"$f":"INSERT!B101","v":0},{"$f":"INSERT!C101","v":0},{"$f":"INSERT!D101","v":0},{"$f":"INSERT!E101","v":0}]
[100,{"$f":"INSERT!A102","v":0},{"$f":"INSERT!B102","v":0},{"$f":"INSERT!C102","v":0},{"$f":"INSERT!D102","v":0},{"$f":"INSERT!E102","v":0}]

{"sheet":"PAT Sign","index":19,"n_rows":105,"n_cols":14,"rows_kept":105,"cut":false,"hidden":false,"merged":[[1,6,1,7],[1,8,1,9],[1,10,1,11],[1,12,1,13]]}
[null,null,null,null,null,"GRADE :",{"$f":"TERM1!$F$6","v":0},"EGD"]
[null,null,null,null,null,null,"PAT (Paper 3) Scenario`s",null,"PAT (Paper 3)           Phase 1",null,"PAT (Paper 3)           Phase 2"]
[null,null,null,null,null,null,"DUE DATE: ",null,"DUE DATE: ",null,"DUE DATE: ",null,"DUE DATE: "]
[null,"Class","Admission","SURNAME","NAME","Gender","Out","Back","Out","Back","Out","Back","Out","Back"]
[]
[1,{"$f":"INSERT!A3","v":0},{"$f":"INSERT!B3","v":0},{"$f":"INSERT!C3","v":0},{"$f":"INSERT!D3","v":0},{"$f":"INSERT!E3","v":0}]
[2,{"$f":"INSERT!A4","v":0},{"$f":"INSERT!B4","v":0},{"$f":"INSERT!C4","v":0},{"$f":"INSERT!D4","v":0},{"$f":"INSERT!E4","v":0}]
[3,{"$f":"INSERT!A5","v":0},{"$f":"INSERT!B5","v":0},{"$f":"INSERT!C5","v":0},{"$f":"INSERT!D5","v":0},{"$f":"INSERT!E5","v":0}]
[4,{"$f":"INSERT!A6","v":0},{"$f":"INSERT!B6","v":0},{"$f":"INSERT!C6","v":0},{"$f":"INSERT!D6","v":0},{"$f":"INSERT!E6","v":0}]
[5,{"$f":"INSERT!A7","v":0},{"$f":"INSERT!B7","v":0},{"$f":"INSERT!C7","v":0},{"$f":"INSERT!D7","v":0},{"$f":"INSERT!E7","v":0}]
[6,{"$f":"INSERT!A8","v":0},{"$f":"INSERT!B8","v":0},{"$f":"INSERT!C8","v":0},{"$f":"INSERT!D8","v":0},{"$f":"INSERT!E8","v":0}]
[7,{"$f":"INSERT!A9","v":0},{"$f":"INSERT!B9","v":0},{"$f":"INSERT!C9","v":0},{"$f":"INSERT!D9","v":0},{"$f":"INSERT!E9","v":0}]
[8,{"$f":"INSERT!A10","v":0},{"$f":"INSERT!B10","v":0},{"$f":"INSERT!C10","v":0},{"$f":"INSERT!D10","v":0},{"$f":"INSERT!E10","v":0}]
[9,{"$f":"INSERT!A11","v":0},{"$f":"INSERT!B11","v":0},{"$f":"INSERT!C11","v":0},{"$f":"INSERT!D11","v":0},{"$f":"INSERT!E11","v":0}]
[10,{"$f":"INSERT!A12","v":0},{"$f":"INSERT!B12","v":0},{"$f":"INSERT!C12","v":0},{"$f":"INSERT!D12","v":0},{"$f":"INSERT!E12","v":0}]
[11,{"$f":"INSERT!A13","v":0},{"$f":"INSERT!B13","v":0},{"$f":"INSERT!C13","v":0},{"$f":"INSERT!D13","v":0},{"$f":"INSERT!E13","v":0}]
[12,{"$f":"INSERT!A14","v":0},{"$f":"INSERT!B14","v":0},{"$f":"INSERT!C14","v":0},{"$f":"INSERT!D14","v":0},{"$f":"INSERT!E14","v":0}]
[13,{"$f":"INSERT!A15","v":0},{"$f":"INSERT!B15","v":0},{"$f":"INSERT!C15","v":0},{"$f":"INSERT!D15","v":0},{"$f":"INSERT!E15","v":0}]
[14,{"$f":"INSERT!A16","v":0},{"$f":"INSERT!B16","v":0},{"$f":"INSERT!C16","v":0},{"$f":"INSERT!D16","v":0},{"$f":"INSERT!E16","v":0}]
[15,{"$f":"INSERT!A17","v":0},{"$f":"INSERT!B17","v":0},{"$f":"INSERT!C17","v":0},{"$f":"INSERT!D17","v":0},{"$f":"INSERT!E17","v":0}]
[16,{"$f":"INSERT!A18","v":0},{"$f":"INSERT!B18","v":0},{"$f":"INSERT!C18","v":0},{"$f":"INSERT!D18","v":0},{"$f":"INSERT!E18","v":0}]
[17,{"$f":"INSERT!A19","v":0},{"$f":"INSERT!B19","v":0},{"$f":"INSERT!C19","v":0},{"$f":"INSERT!D19","v":0},{"$f":"INSERT!E19","v":0}]
[18,{"$f":"INSERT!A20","v":0},{"$f":"INSERT!B20","v":0},{"$f":"INSERT!C20","v":0},{"$f":"INSERT!D20","v":0},{"$f":"INSERT!E20","v":0}]
[19,{"$f":"INSERT!A21","v":0},{"$f":"INSERT!B21","v":0},{"$f":"INSERT!C21","v":0},{"$f":"INSERT!D21","v":0},{"$f":"INSERT!E21","v":0}]
[20,{"$f":"INSERT!A22","v":0},{"$f":"INSERT!B22","v":0},{"$f":"INSERT!C22","v":0},{"$f":"INSERT!D22","v":0},{"$f":"INSERT!E22","v":0}]
[21,{"$f":"INSERT!A23","v":0},{"$f":"INSERT!B23","v":0},{"$f":"INSERT!C23","v":0},{"$f":"INSERT!D23","v":0},{"$f":"INSERT!E23","v":0}]
[22,{"$f":"INSERT!A24","v":0},{"$f":"INSERT!B24","v":0},{"$f":"INSERT!C24","v":0},{"$f":"INSERT!D24","v":0},{"$f":"INSERT!E24","v":0}]
[23,{"$f":"INSERT!A25","v":0},{"$f":"INSERT!B25","v":0},{"$f":"INSERT!C25","v":0},{"$f":"INSERT!D25","v":0},{"$f":"INSERT!E25","v":0}]
[24,{"$f":"INSERT!A26","v":0},{"$f":"INSERT!B26","v":0},{"$f":"INSERT!C26","v":0},{"$f":"INSERT!D26","v":0},{"$f":"INSERT!E26","v":0}]
[25,{"$f":"INSERT!A27","v":0},{"$f":"INSERT!B27","v":0},{"$f":"INSERT!C27","v":0},{"$f":"INSERT!D27","v":0},{"$f":"INSERT!E27","v":0}]
[26,{"$f":"INSERT!A28","v":0},{"$f":"INSERT!B28","v":0},{"$f":"INSERT!C28","v":0},{"$f":"INSERT!D28","v":0},{"$f":"INSERT!E28","v":0}]
[27,{"$f":"INSERT!A29","v":0},{"$f":"INSERT!B29","v":0},{"$f":"INSERT!C29","v":0},{"$f":"INSERT!D29","v":0},{"$f":"INSERT!E29","v":0}]
[28,{"$f":"INSERT!A30","v":0},{"$f":"INSERT!B30","v":0},{"$f":"INSERT!C30","v":0},{"$f":"INSERT!D30","v":0},{"$f":"INSERT!E30","v":0}]
[29,{"$f":"INSERT!A31","v":0},{"$f":"INSERT!B31","v":0},{"$f":"INSERT!C31","v":0},{"$f":"INSERT!D31","v":0},{"$f":"INSERT!E31","v":0}]
[30,{"$f":"INSERT!A32","v":0},{"$f":"INSERT!B32","v":0},{"$f":"INSERT!C32","v":0},{"$f":"INSERT!D32","v":0},{"$f":"INSERT!E32","v":0}]
[31,{"$f":"INSERT!A33","v":0},{"$f":"INSERT!B33","v":0},{"$f":"INSERT!C33","v":0},{"$f":"INSERT!D33","v":0},{"$f":"INSERT!E33","v":0}]
[32,{"$f":"INSERT!A34","v":0},{"$f":"INSERT!B34","v":0},{"$f":"INSERT!C34","v":0},{"$f":"INSERT!D34","v":0},{"$f":"INSERT!E34","v":0}]
[33,{"$f":"INSERT!A35","v":0},{"$f":"INSERT!B35","v":0},{"$f":"INSERT!C35","v":0},{"$f":"INSERT!D35","v":0},{"$f":"INSERT!E35","v":0}]
[34,{"$f":"INSERT!A36","v":0},{"$f":"INSERT!B36","v":0},{"$f":"INSERT!C36","v":0},{"$f":"INSERT!D36","v":0},{"$f":"INSERT!E36","v":0}]
[35,{"$f":"INSERT!A37","v":0},{"$f":"INSERT!B37","v":0},{"$f":"INSERT!C37","v":0},{"$f":"INSERT!D37","v":0},{"$f":"INSERT!E37","v":0}]
[36,{"$f":"INSERT!A38","v":0},{"$f":"INSERT!B38","v":0},{"$f":"INSERT!C38","v":0},{"$f":"INSERT!D38","v":0},{"$f":"INSERT!E38","v":0}]
[37,{"$f":"INSERT!A39","v":0},{"$f":"INSERT!B39","v":0},{"$f":"INSERT!C39","v":0},{"$f":"INSERT!D39","v":0},{"$f":"INSERT!E39","v":0}]
[38,{"$f":"INSERT!A40","v":0},{"$f":"INSERT!B40","v":0},{"$f":"INSERT!C40","v":0},{"$f":"INSERT!D40","v":0},{"$f":"INSERT!E40","v":0}]
[39,{"$f":"INSERT!A41","v":0},{"$f":"INSERT!B41","v":0},{"$f":"INSERT!C41","v":0},{"$f":"INSERT!D41","v":0},{"$f":"INSERT!E41","v":0}]
[40,{"$f":"INSERT!A42","v":0},{"$f":"INSERT!B42","v":0},{"$f":"INSERT!C42","v":0},{"$f":"INSERT!D42","v":0},{"$f":"INSERT!E42","v":0}]
[41,{"$f":"INSERT!A43","v":0},{"$f":"INSERT!B43","v":0},{"$f":"INSERT!C43","v":0},{"$f":"INSERT!D43","v":0},{"$f":"INSERT!E43","v":0}]
[42,{"$f":"INSERT!A44","v":0},{"$f":"INSERT!B44","v":0},{"$f":"INSERT!C44","v":0},{"$f":"INSERT!D44","v":0},{"$f":"INSERT!E44","v":0}]
[43,{"$f":"INSERT!A45","v":0},{"$f":"INSERT!B45","v":0},{"$f":"INSERT!C45","v":0},{"$f":"INSERT!D45","v":0},{"$f":"INSERT!E45","v":0}]
[44,{"$f":"INSERT!A46","v":0},{"$f":"INSERT!B46","v":0},{"$f":"INSERT!C46","v":0},{"$f":"INSERT!D46","v":0},{"$f":"INSERT!E46","v":0}]
[45,{"$f":"INSERT!A47","v":0},{"$f":"INSERT!B47","v":0},{"$f":"INSERT!C47","v":0},{"$f":"INSERT!D47","v":0},{"$f":"INSERT!E47","v":0}]
[46,{"$f":"INSERT!A48","v":0},{"$f":"INSERT!B48","v":0},{"$f":"INSERT!C48","v":0},{"$f":"INSERT!D48","v":0},{"$f":"INSERT!E48","v":0}]
[47,{"$f":"INSERT!A49","v":0},{"$f":"INSERT!B49","v":0},{"$f":"INSERT!C49","v":0},{"$f":"INSERT!D49","v":0},{"$f":"INSERT!E49","v":0}]
[48,{"$f":"INSERT!A50","v":0},{"$f":"INSERT!B50","v":0},{"$f":"INSERT!C50","v":0},{"$f":"INSERT!D50","v":0},{"$f":"INSERT!E50","v":0}]
[49,{"$f":"INSERT!A51","v":0},{"$f":"INSERT!B51","v":0},{"$f":"INSERT!C51","v":0},{"$f":"INSERT!D51","v":0},{"$f":"INSERT!E51","v":0}]
[50,{"$f":"INSERT!A52","v":0},{"$f":"INSERT!B52","v":0},{"$f":"INSERT!C52","v":0},{"$f":"INSERT!D52","v":0},{"$f":"INSERT!E52","v":0}]
[51,{"$f":"INSERT!A53","v":0},{"$f":"INSERT!B53","v":0},{"$f":"INSERT!C53","v":0},{"$f":"INSERT!D53","v":0},{"$f":"INSERT!E53","v":0}]
[52,{"$f":"INSERT!A54","v":0},{"$f":"INSERT!B54","v":0},{"$f":"INSERT!C54","v":0},{"$f":"INSERT!D54","v":0},{"$f":"INSERT!E54","v":0}]
[53,{"$f":"INSERT!A55","v":0},{"$f":"INSERT!B55","v":0},{"$f":"INSERT!C55","v":0},{"$f":"INSERT!D55","v":0},{"$f":"INSERT!E55","v":0}]
[54,{"$f":"INSERT!A56","v":0},{"$f":"INSERT!B56","v":0},{"$f":"INSERT!C56","v":0},{"$f":"INSERT!D56","v":0},{"$f":"INSERT!E56","v":0}]
[55,{"$f":"INSERT!A57","v":0},{"$f":"INSERT!B57","v":0},{"$f":"INSERT!C57","v":0},{"$f":"INSERT!D57","v":0},{"$f":"INSERT!E57","v":0}]
[56,{"$f":"INSERT!A58","v":0},{"$f":"INSERT!B58","v":0},{"$f":"INSERT!C58","v":0},{"$f":"INSERT!D58","v":0},{"$f":"INSERT!E58","v":0}]
[57,{"$f":"INSERT!A59","v":0},{"$f":"INSERT!B59","v":0},{"$f":"INSERT!C59","v":0},{"$f":"INSERT!D59","v":0},{"$f":"INSERT!E59","v":0}]
[58,{"$f":"INSERT!A60","v":0},{"$f":"INSERT!B60","v":0},{"$f":"INSERT!C60","v":0},{"$f":"INSERT!D60","v":0},{"$f":"INSERT!E60","v":0}]
[59,{"$f":"INSERT!A61","v":0},{"$f":"INSERT!B61","v":0},{"$f":"INSERT!C61","v":0},{"$f":"INSERT!D61","v":0},{"$f":"INSERT!E61","v":0}]
[60,{"$f":"INSERT!A62","v":0},{"$f":"INSERT!B62","v":0},{"$f":"INSERT!C62","v":0},{"$f":"INSERT!D62","v":0},{"$f":"INSERT!E62","v":0}]
[61,{"$f":"INSERT!A63","v":0},{"$f":"INSERT!B63","v":0},{"$f":"INSERT!C63","v":0},{"$f":"INSERT!D63","v":0},{"$f":"INSERT!E63","v":0}]
[62,{"$f":"INSERT!A64","v":0},{"$f":"INSERT!B64","v":0},{"$f":"INSERT!C64","v":0},{"$f":"INSERT!D64","v":0},{"$f":"INSERT!E64","v":0}]
[63,{"$f":"INSERT!A65","v":0},{"$f":"INSERT!B65","v":0},{"$f":"INSERT!C65","v":0},{"$f":"INSERT!D65","v":0},{"$f":"INSERT!E65","v":0}]
[64,{"$f":"INSERT!A66","v":0},{"$f":"INSERT!B66","v":0},{"$f":"INSERT!C66","v":0},{"$f":"INSERT!D66","v":0},{"$f":"INSERT!E66","v":0}]
[65,{"$f":"INSERT!A67","v":0},{"$f":"INSERT!B67","v":0},{"$f":"INSERT!C67","v":0},{"$f":"INSERT!D67","v":0},{"$f":"INSERT!E67","v":0}]
[66,{"$f":"INSERT!A68","v":0},{"$f":"INSERT!B68","v":0},{"$f":"INSERT!C68","v":0},{"$f":"INSERT!D68","v":0},{"$f":"INSERT!E68","v":0}]
[67,{"$f":"INSERT!A69","v":0},{"$f":"INSERT!B69","v":0},{"$f":"INSERT!C69","v":0},{"$f":"INSERT!D69","v":0},{"$f":"INSERT!E69","v":0}]
[68,{"$f":"INSERT!A70","v":0},{"$f":"INSERT!B70","v":0},{"$f":"INSERT!C70","v":0},{"$f":"INSERT!D70","v":0},{"$f":"INSERT!E70","v":0}]
[69,{"$f":"INSERT!A71","v":0},{"$f":"INSERT!B71","v":0},{"$f":"INSERT!C71","v":0},{"$f":"INSERT!D71","v":0},{"$f":"INSERT!E71","v":0}]
[70,{"$f":"INSERT!A72","v":0},{"$f":"INSERT!B72","v":0},{"$f":"INSERT!C72","v":0},{"$f":"INSERT!D72","v":0},{"$f":"INSERT!E72","v":0}]
[71,{"$f":"INSERT!A73","v":0},{"$f":"INSERT!B73","v":0},{"$f":"INSERT!C73","v":0},{"$f":"INSERT!D73","v":0},{"$f":"INSERT!E73","v":0}]
[72,{"$f":"INSERT!A74","v":0},{"$f":"INSERT!B74","v":0},{"$f":"INSERT!C74","v":0},{"$f":"INSERT!D74","v":0},{"$f":"INSERT!E74","v":0}]
[73,{"$f":"INSERT!A75","v":0},{"$f":"INSERT!B75","v":0},{"$f":"INSERT!C75","v":0},{"$f":"INSERT!D75","v":0},{"$f":"INSERT!E75","v":0}]
[74,{"$f":"INSERT!A76","v":0},{"$f":"INSERT!B76","v":0},{"$f":"INSERT!C76","v":0},{"$f":"INSERT!D76","v":0},{"$f":"INSERT!E76","v":0}]
[75,{"$f":"INSERT!A77","v":0},{"$f":"INSERT!B77","v":0},{"$f":"INSERT!C77","v":0},{"$f":"INSERT!D77","v":0},{"$f":"INSERT!E77","v":0}]
[76,{"$f":"INSERT!A78","v":0},{"$f":"INSERT!B78","v":0},{"$f":"INSERT!C78","v":0},{"$f":"INSERT!D78","v":0},{"$f":"INSERT!E78","v":0}]
[77,{"$f":"INSERT!A79","v":0},{"$f":"INSERT!B79","v":0},{"$f":"INSERT!C79","v":0},{"$f":"INSERT!D79","v":0},{"$f":"INSERT!E79","v":0}]
[78,{"$f":"INSERT!A80","v":0},{"$f":"INSERT!B80","v":0},{"$f":"INSERT!C80","v":0},{"$f":"INSERT!D80","v":0},{"$f":"INSERT!E80","v":0}]
[79,{"$f":"INSERT!A81","v":0},{"$f":"INSERT!B81","v":0},{"$f":"INSERT!C81","v":0},{"$f":"INSERT!D81","v":0},{"$f":"INSERT!E81","v":0}]
[80,{"$f":"INSERT!A82","v":0},{"$f":"INSERT!B82","v":0},{"$f":"INSERT!C82","v":0},{"$f":"INSERT!D82","v":0},{"$f":"INSERT!E82","v":0}]
[81,{"$f":"INSERT!A83","v":0},{"$f":"INSERT!B83","v":0},{"$f":"INSERT!C83","v":0},{"$f":"INSERT!D83","v":0},{"$f":"INSERT!E83","v":0}]
[82,{"$f":"INSERT!A84","v":0},{"$f":"INSERT!B84","v":0},{"$f":"INSERT!C84","v":0},{"$f":"INSERT!D84","v":0},{"$f":"INSERT!E84","v":0}]
[83,{"$f":"INSERT!A85","v":0},{"$f":"INSERT!B85","v":0},{"$f":"INSERT!C85","v":0},{"$f":"INSERT!D85","v":0},{"$f":"INSERT!E85","v":0}]
[84,{"$f":"INSERT!A86","v":0},{"$f":"INSERT!B86","v":0},{"$f":"INSERT!C86","v":0},{"$f":"INSERT!D86","v":0},{"$f":"INSERT!E86","v":0}]
[85,{"$f":"INSERT!A87","v":0},{"$f":"INSERT!B87","v":0},{"$f":"INSERT!C87","v":0},{"$f":"INSERT!D87","v":0},{"$f":"INSERT!E87","v":0}]
[86,{"$f":"INSERT!A88","v":0},{"$f":"INSERT!B88","v":0},{"$f":"INSERT!C88","v":0},{"$f":"INSERT!D88","v":0},{"$f":"INSERT!E88","v":0}]
[87,{"$f":"INSERT!A89","v":0},{"$f":"INSERT!B89","v":0},{"$f":"INSERT!C89","v":0},{"$f":"INSERT!D89","v":0},{"$f":"INSERT!E89","v":0}]
[88,{"$f":"INSERT!A90","v":0},{"$f":"INSERT!B90","v":0},{"$f":"INSERT!C90","v":0},{"$f":"INSERT!D90","v":0},{"$f":"INSERT!E90","v":0}]
[89,{"$f":"INSERT!A91","v":0},{"$f":"INSERT!B91","v":0},{"$f":"INSERT!C91","v":0},{"$f":"INSERT!D91","v":0},{"$f":"INSERT!E91","v":0}]
[90,{"$f":"INSERT!A92","v":0},{"$f":"INSERT!B92","v":0},{"$f":"INSERT!C92","v":0},{"$f":"INSERT!D92","v":0},{"$f":"INSERT!E92","v":0}]
[91,{"$f":"INSERT!A93","v":0},{"$f":"INSERT!B93","v":0},{"$f":"INSERT!C93","v":0},{"$f":"INSERT!D93","v":0},{"$f":"INSERT!E93","v":0}]
[92,{"$f":"INSERT!A94","v":0},{"$f":"INSERT!B94","v":0},{"$f":"INSERT!C94","v":0},{"$f":"INSERT!D94","v":0},{"$f":"INSERT!E94","v":0}]
[93,{"$f":"INSERT!A95","v":0},{"$f":"INSERT!B95","v":0},{"$f":"INSERT!C95","v":0},{"$f":"INSERT!D95","v":0},{"$f":"INSERT!E95","v":0}]
[94,{"$f":"INSERT!A96","v":0},{"$f":"INSERT!B96","v":0},{"$f":"INSERT!C96","v":0},{"$f":"INSERT!D96","v":0},{"$f":"INSERT!E96","v":0}]
[95,{"$f":"INSERT!A97","v":0},{"$f":"INSERT!B97","v":0},{"$f":"INSERT!C97","v":0},{"$f":"INSERT!D97","v":0},{"$f":"INSERT!E97","v":0}]
[96,{"$f":"INSERT!A98","v":0},{"$f":"INSERT!B98","v":0},{"$f":"INSERT!C98","v":0},{"$f":"INSERT!D98","v":0},{"$f":"INSERT!E98","v":0}]
[97,{"$f":"INSERT!A99","v":0},{"$f":"INSERT!B99","v":0},{"$f":"INSERT!C99","v":0},{"$f":"INSERT!D99","v":0},{"$f":"INSERT!E99","v":0}]
[98,{"$f":"INSERT!A100","v":0},{"$f":"INSERT!B100","v":0},{"$f":"INSERT!C100","v":0},{"$f":"INSERT!D100","v":0},{"$f":"INSERT!E100","v":0}]
[99,{"$f":"INSERT!A101","v":0},{"$f":"INSERT!B101","v":0},{"$f":"INSERT!C101","v":0},{"$f":"INSERT!D101","v":0},{"$f":"INSERT!E101","v":0}]
[100,{"$f":"INSERT!A102","v":0},{"$f":"INSERT!B102","v":0},{"$f":"INSERT!C102","v":0},{"$f":"INSERT!D102","v":0},{"$f":"INSERT!E102","v":0}]