{"text_format":"1","workbook":"xlsx","n_sheets":19,"sheets":["Index","Insert","Decleration","TERM1","TERM2","TERM3","SASAMS Term1","SASAMS Term2","SASAMS Term3","PAT Civil Detailed","Civil Assessment","PAT Mech Detailed","Mech Assessment","FIN PAT MARK SHEET","FIN SBA MARK SHEET","Term1 Sign","Term2 Sign","Term3 Sign","PAT Sign"],"not_rendered":{"charts":0,"images":0,"macros":1,"external_links":0,"defined_names":44,"comments":0,"pivot_tables":0},"unopened":[],"bounds":{"document_bytes":16777216,"sheet_cells":100000,"rows_first":2000,"rows_last":500,"rows_between":2000,"halvings":0,"cell_chars":16384,"cell_head_chars":4096},"cells_cut":0,"cells_raw":0,"read":"whole","date_system":"1900"}

{"sheet":"Index","index":0,"n_rows":34,"n_cols":5,"rows_kept":34,"cut":false,"hidden":false,"merged":[]}
[null,"Sheets Names","Go to Sheets"]
[null,{"$f":"IFERROR(REPLACE(INDEX(MySheets,ROW()),1,FIND(\"]\",INDEX(MySheets,ROW())),\"\"),\"\")","v":"Insert"},{"$f":"HYPERLINK(\"#'\"&B2&\"'!a1\",B2)","v":"Insert"}]
[null,{"$f":"IFERROR(REPLACE(INDEX(MySheets,ROW()),1,FIND(\"]\",INDEX(MySheets,ROW())),\"\"),\"\")","v":"Decleration"},{"$f":"HYPERLINK(\"#'\"&B3&\"'!a1\",B3)","v":"Decleration"}]
[null,{"$f":"IFERROR(REPLACE(INDEX(MySheets,ROW()),1,FIND(\"]\",INDEX(MySheets,ROW())),\"\"),\"\")","v":"TERM1"},"TERM1"]
[null,{"$f":"IFERROR(REPLACE(INDEX(MySheets,ROW()),1,FIND(\"]\",INDEX(MySheets,ROW())),\"\"),\"\")","v":"TERM2"},"TERM2"]
[null,{"$f":"IFERROR(REPLACE(INDEX(MySheets,ROW()),1,FIND(\"]\",INDEX(MySheets,ROW())),\"\"),\"\")","v":"TERM3"},"TERM3"]
[null,{"$f":"IFERROR(REPLACE(INDEX(MySheets,ROW()),1,FIND(\"]\",INDEX(MySheets,ROW())),\"\"),\"\")","v":"SASAMS Term1"},"SASAMS Term1"]
[null,{"$f":"IFERROR(REPLACE(INDEX(MySheets,ROW()),1,FIND(\"]\",INDEX(MySheets,ROW())),\"\"),\"\")","v":"SASAMS Term2"},"SASAMS Term2"]
[null,{"$f":"IFERROR(REPLACE(INDEX(MySheets,ROW()),1,FIND(\"]\",INDEX(MySheets,ROW())),\"\"),\"\")","v":"SASAMS Term3"},"SASAMS Term3"]
[null,{"$f":"IFERROR(REPLACE(INDEX(MySheets,ROW()),1,FIND(\"]\",INDEX(MySheets,ROW())),\"\"),\"\")","v":"PAT Civil Detailed"},"PAT Civil Detailed"]
[null,{"$f":"IFERROR(REPLACE(INDEX(MySheets,ROW()),1,FIND(\"]\",INDEX(MySheets,ROW())),\"\"),\"\")","v":"Civil Assessment"},"Civil Assessment"]
[null,{"$f":"IFERROR(REPLACE(INDEX(MySheets,ROW()),1,FIND(\"]\",INDEX(MySheets,ROW())),\"\"),\"\")","v":"PAT Mech Detailed"},"PAT Mech Detailed"]
[null,{"$f":"IFERROR(REPLACE(INDEX(MySheets,ROW()),1,FIND(\"]\",INDEX(MySheets,ROW())),\"\"),\"\")","v":"Mech Assessment"},"Mech Assessment"]
[null,{"$f":"IFERROR(REPLACE(INDEX(MySheets,ROW()),1,FIND(\"]\",INDEX(MySheets,ROW())),\"\"),\"\")","v":"FIN PAT MARK SHEET"},"FIN PAT MARK SHEET"]
[null,{"$f":"IFERROR(REPLACE(INDEX(MySheets,ROW()),1,FIND(\"]\",INDEX(MySheets,ROW())),\"\"),\"\")","v":"FIN SBA MARK SHEET"},"FIN SBA MARK SHEET"]
[null,{"$f":"IFERROR(REPLACE(INDEX(MySheets,ROW()),1,FIND(\"]\",INDEX(MySheets,ROW())),\"\"),\"\")","v":"Term1 Sign"},"Term1 Sign"]
[null,{"$f":"IFERROR(REPLACE(INDEX(MySheets,ROW()),1,FIND(\"]\",INDEX(MySheets,ROW())),\"\"),\"\")","v":"Term2 Sign"},"Term2 Sign"]
[null,{"$f":"IFERROR(REPLACE(INDEX(MySheets,ROW()),1,FIND(\"]\",INDEX(MySheets,ROW())),\"\"),\"\")","v":"Term3 Sign"},"Term3 Sign"]
[null,{"$f":"IFERROR(REPLACE(INDEX(MySheets,ROW()),1,FIND(\"]\",INDEX(MySheets,ROW())),\"\"),\"\")","v":"PAT Sign"},"PAT Sign"]
[null,{"$f":"IFERROR(REPLACE(INDEX(MySheets,ROW()),1,FIND(\"]\",INDEX(MySheets,ROW())),\"\"),\"\")","v":""},""]
[null,{"$f":"IFERROR(REPLACE(INDEX(MySheets,ROW()),1,FIND(\"]\",INDEX(MySheets,ROW())),\"\"),\"\")","v":""}]
[null,{"$f":"IFERROR(REPLACE(INDEX(MySheets,ROW()),1,FIND(\"]\",INDEX(MySheets,ROW())),\"\"),\"\")","v":""}]
[]
[]
[]
[]
[]
[]
[]
[null,"Last Update:","2021-01-15T14:27:14",null,16]
[null,"Version:",null,null,17]
[null,"Download Link:",null,null,18]
[null,"File Name:",null,null,19]
[null,"Message:",{"$f":"\"Version \"&C31&\" is now available. Click here to download & update.\"","v":"Version  is now available. Click here to download & update."}]

{"sheet":"Insert","index":1,"n_rows":103,"n_cols":9,"rows_kept":103,"cut":false,"hidden":false,"merged":[[102,3,103,4],[102,5,103,5]]}
[]
["Class","Admission","SURNAME","NAME","Gender","CELLPHONE NR.","E-MAIL ADRESS",null,"INFORMATION"]
[null,null,null,null,null,null,null,null,"Name of School:"]
[null,null,null,null,null,null,null,null,"Grade:"]
[null,null,null,null,null,null,null,null,"Your Initials and Surname:"]
[null,null,null,null,null,null,null,null,"Initials and Surname of HOD for EGD:"]
[null,null,null,null,null,null,null,null,"Your EGD SES Initials and Surname:"]
[]
[]
[]
[]
[]
[]
[]
[]
[]
[]
[]
[]
[]
[]
[]
[]
[]
[]
[]
[]
[]
[]
[]
[]
[]
[]
[]
[]
[]
[]
[]
[]
[]
[]
[]
[]
[]
[]
[]
[]
[]
[]
[]
[]
[]
[]
[]
[]
[]
[]
[]
[]
[]
[]
[]
[]
[]
[]
[]
[]
[]
[]
[]
[]
[]
[]
[]
[]
[]
[]
[]
[]
[]
[]
[]
[]
[]
[]
[]
[]
[]
[]
[]
[]
[]
[]
[]
[]
[]
[]
[]
[]
[]
[]
[]
[null,null,null,"Total amount of learners on mark sheet",null,{"$f":"COUNTA(C3:C102)","v":0}]

{"sheet":"Decleration","index":2,"n_rows":29,"n_cols":22,"rows_kept":29,"cut":false,"hidden":false,"merged":[[11,13,11,21],[22,13,22,21],[11,1,11,9],[22,1,22,9],[28,3,35,7],[25,6,25,8],[7,1,7,2],[5,1,5,2],[18,3,18,9],[5,3,5,9],[14,6,14,8],[7,3,7,9]]}
[null,null,null,null,null,null,null,null,null,null,null,null,null,"Surname:",{"$f":"$V$2","v":0},null,1,null,null,null,null,32]
["DECLARATION OF AUTHENTICITY",null,null,null,null,null,null,null,null,null,null,null,null,"Name:",{"$f":"IFERROR(VLOOKUP($O$1,'PAT Civil Detailed'!F16:DG125,2,FALSE),\"\")","v":0},null,{"$f":"OFFSET(Insert!$C$2,$Q$1,0)","v":0},null,null,null,null,{"$f":"OFFSET(Insert!$C$2,$V$1,0)","v":0}]
[]
["To be submitted with each learner's practical assessment task portfolio"]
[]
[null,"NAME OF SCHOOL:",null,{"$f":"Insert!$J$3","v":0}]
[]
[null,"NAME OF LEARNER:",null,{"$f":"O2&\" \"&O1","v":"0 0"}]
[null,null,null,null,"(SURNAME AND INITIALS)"]
[]
[null,"Learner information:"]
[null,"I hereby declare that all the contents of the practical assessment task (PAT) submitted by myself for assessment is my own original work and has not been plagiarised, copied from someone else or previously submitted for assessment.",null,null,null,null,null,null,null,null,null,null,null,"I hereby declare that all the contents of the practical assessment task submitted by myself for assessment is my own original work and has not been plagiarised, copied from someone else or previously submitted for assessment."]
[]
[]
[null,null,null,null,null,null,"2024-09-12"]
[null,"SIGNATURE OF CANIDATE",null,null,null,null,null,"DATE (DD/MM/YYYY)"]
[]
[]
[null,"NAME OF TEACHER:",null,{"$f":"Insert!$J$5","v":0}]
[null,null,null,null,"(SURNAME AND INITIALS)"]
[]
[null,"Teacher information:"]
[null,"As far as I know, the above declaration by the candidate is true and I accept that the PAT submitted is his/her own work.",null,null,null,null,null,null,null,null,null,null,null,"As far as I know, the above declaration by the candidate is true and I accept that the PAT offered is his/her own work."]
[]
[]
[null,null,null,null,null,null,{"$f":"$G$15","v":"2024-09-12"}]
[null,"SIGNATURE OF TEACHER",null,null,null,null,null,"DATE (DD/MM/YYYY)"]
[]
[null,null,null,"SCHOOL STAMP"]

{"sheet":"TERM1","index":3,"n_rows":120,"n_cols":123,"rows_kept":120,"cut":false,"hidden":false,"merged":[[4,26,9,26],[4,77,9,77],[4,24,10,24],[4,42,10,42],[4,60,10,60],[4,63,9,63],[4,61,10,61],[4,59,9,59],[4,58,9,58],[4,67,9,67],[4,68,9,68],[4,27,9,27],[4,29,9,29],[4,40,9,40],[4,41,9,41],[4,33,9,33],[4,34,9,34],[4,46,9,46],[4,30,9,30],[4,31,9,31],[4,32,9,32],[4,118,10,118],[4,117,10,117],[4,65,9,65],[4,76,9,76],[4,112,9,112],[4,62,9,62],[4,80,9,80],[4,79,10,79],[4,64,9,64],[4,116,10,116],[4,113,9,113],[4,101,9,101],[4,104,9,104],[4,105,9,105],[4,106,9,106],[4,107,9,107],[4,108,9,108],[4,109,9,109],[4,110,9,110],[4,111,9,111],[4,114,10,114],[4,102,9,102],[4,103,9,103],[4,88,9,88],[4,23,9,23],[4,25,10,25],[4,44,9,44],[4,45,9,45],[4,13,9,13],[4,14,9,14],[4,115,10,115],[4,97,10,97],[4,100,9,100],[4,96,10,96],[4,98,9,98],[4,99,9,99],[4,15,9,15],[4,16,9,16],[4,17,9,17],[4,18,9,18],[4,19,9,19],[4,20,9,20],[4,21,9,21],[4,22,9,22],[4,84,9,84],[4,85,9,85],[4,86,9,86],[4,87,9,87],[9,5,9,7],[13,1,13,6],[10,5,10,7],[9,1,9,4],[10,1,10,4],[4,9,9,9],[4,11,9,11],[4,12,9,12],[4,1,4,4],[5,1,5,4],[4,8,9,8],[4,10,9,10],[4,89,9,89],[4,90,9,90],[4,91,9,91],[4,92,9,92],[4,93,9,93],[4,66,9,66],[4,81,9,81],[4,82,9,82],[4,83,9,83],[4,69,9,69],[4,70,9,70],[4,71,9,71],[4,72,9,72],[4,73,9,73],[4,74,9,74],[4,78,10,78],[4,120,14,120],[4,121,14,121],[4,122,14,122],[4,94,9,94],[4,95,9,95],[4,43,10,43],[4,47,9,47],[4,28,9,28],[4,75,9,75],[4,48,9,48],[4,49,9,49],[4,50,9,50],[4,51,9,51],[4,52,9,52],[4,53,9,53],[4,54,9,54],[4,55,9,55],[4,56,9,56],[4,57,9,57],[4,35,9,35],[4,36,9,36],[4,37,9,37],[4,38,9,38],[4,39,9,39]]}
[]
[null,"ENGINEERING GRAPHICS AND DESIGN"]
[null,null,null,null,null,null,null,null,"PROGRAM OF ASSESSMENT  :  TERM 1"]
[null,null,null,null,null,null,null,null,"CD1 Mechanical Analytical",null,null,null,null,null,null,null,null,null,null,null,null,null,null,null,null,null,"CD2 Mechanical Drawing",null,null,null,null,null,null,null,null,null,null,null,null,null,null,null,null,null,"CD3 Civil floor plan with elevations",null,null,null,null,null,null,null,null,null,null,null,null,null,null,null,null,null,"CD4 Civil Sectional elevation",null,null,null,null,null,null,null,null,null,null,null,null,null,null,null,null,null,"CD5 Civil Site plan",null,null,null,null,null,null,null,null,null,null,null,null,null,null,null,null,null,"CD6 2-point perspective",null,null,null,null,null,null,null,null,null,null,null,null,null,null,null,null,null,"TERM TEST"]
[null,"School:",null,null,null,{"$f":"Insert!J3","v":0},null,null,"CD 1.1","CD 1.2","CD 1.3",null,null,null,null,null,null,null,null,null,null,null,null,null,"TOTAL CD1","TOTAL","CD 2.1","CD 2.2","CD 2.3",null,null,null,null,null,null,null,null,null,null,null,null,null,"TOTAL CD2","TOTAL","CD 3.1","CD 3.2","CD 3.3",null,null,null,null,null,null,null,null,null,null,null,null,null,"TOTAL CD3","TOTAL","CD 4.1","CD 4.2","CD 4.3",null,null,null,null,null,null,null,null,null,null,null,null,null,"TOTAL CD4","TOTAL","CD 5.1","CD 5.2","CD 5.3",null,null,null,null,null,null,null,null,null,null,null,null,null,"TOTAL CD5","TOTAL","CD 6.1","CD 6.2","CD 6.3",null,null,null,null,null,null,null,null,null,null,null,null,null,"TOTAL CD6","TOTAL","TEST 1","TEST 2","TEST TOTAL",null,"Helper Test 1","Helper Test 2","Helper Count Course drawings"]
[null,"Grade:",null,null,null,{"$f":"Insert!J4","v":0}]
[null,null,null,null,"Teacher:",{"$f":"Insert!J5","v":0}]
[null,null,null,null,"HOD:",{"$f":"Insert!J6","v":0}]
[null,null,null,null,"EGD SES:",{"$f":"Insert!J7","v":0}]
[]
[null,null,null,null,null,null,null,null,1.1000000000000001,1.2,1.3,1.4,1.5,1.6,1.7,1.8,1.9,1.1000000000000001,1.1100000000000001,1.1200000000000001,1.1299999999999999,1.1399999999999999,1.1499999999999999,1.1599999999999999,null,null,2.1,2.2000000000000002,2.2999999999999998,2.4,2.5,2.6,2.7,2.8,2.9,2.1,2.11,2.12,2.13,2.14,2.15,2.16,null,null,3.1,3.2,3.3,3.4,3.5,3.6,3.7,3.8,3.9,3.1,3.11,3.12,3.13,3.14,3.15,3.16,null,null,4.0999999999999996,4.2,4.3,4.4000000000000004,4.5,4.5999999999999996,4.7,4.8,4.9000000000000004,4.0999999999999996,4.1100000000000003,4.12,4.13,4.1399999999999997,4.1500000000000004,4.16,null,null,5.0999999999999996,5.2,5.3,5.4,5.5,5.6,5.7,5.8,5.9,5.0999999999999996,5.1100000000000003,5.12,5.13,5.14,5.15,5.16,null,null,6.1,6.2,6.3,6.4,6.5,6.6,6.7,6.8,6.9,6.1,6.11,6.12,6.13,6.14,6.15,6.16]
[null,null,null,"Class","Admission","SURNAME","NAME","Gender",null,null,null,null,null,null,null,null,null,null,null,null,null,null,null,null,{"$f":"SUM(I12:X12)","v":0},10,null,null,null,null,null,null,null,null,null,null,null,null,null,null,null,null,{"$f":"SUM(AA12:AP13)","v":0},10,null,null,null,null,null,null,null,null,null,null,null,null,null,null,null,null,{"$f":"SUM(AS12:BH13)","v":0},10,null,null,null,null,null,null,null,null,null,null,null,null,null,null,null,null,{"$f":"SUM(BK12:BZ13)","v":0},10,50,null,null,null,null,null,null,null,null,null,null,null,null,null,null,null,{"$f":"SUM(CC12:CR13)","v":50},10,null,null,null,null,null,null,null,null,null,null,null,null,null,null,null,null,{"$f":"SUM(CU12:DJ12)","v":0},10,null,null,50]
[null,null,null,null,null,null,null,null,{"$f":"IF(I12>0,\"\",\"X\")","v":"X"},{"$f":"IF(J12>0,\"\",\"X\")","v":"X"},"X","X","X","X","X","X","X","X","X","X","X","X","X","X",{"$f":"SUM(100/Y12)","v":{"$error":"#DIV/0!"}},null,{"$f":"IF(AA12>0,\"\",\"X\")","v":"X"},"X","X","X","X","X","X","X","X","X","X","X","X","X","X","X",{"$f":"SUM(100/AQ12)","v":{"$error":"#DIV/0!"}},null,{"$f":"IF(AS12>0,\"\",\"X\")","v":"X"},"X","X","X","X","X","X","X","X","X","X","X","X","X","X","X",{"$f":"SUM(100/BI12)","v":{"$error":"#DIV/0!"}},null,{"$f":"IF(BK12>0,\"\",\"X\")","v":"X"},"X","X","X","X","X","X","X","X","X","X","X","X","X","X","X",{"$f":"SUM(100/CA12)","v":{"$error":"#DIV/0!"}},null,{"$f":"IF(CC12>0,\"\",\"X\")","v":""},"X","X","X","X","X","X","X","X","X","X","X","X","X","X","X",{"$f":"SUM(100/CS12)","v":2},null,{"$f":"IF(CU12>0,\"\",\"X\")","v":"X"},"X","X","X","X","X","X","X","X","X","X","X","X","X","X","X",{"$f":"SUM(100/DK12)","v":{"$error":"#DIV/0!"}},null,{"$f":"SUM(100/DM12)*0.5","v":{"$error":"#DIV/0!"}},{"$f":"IFERROR((SUM(100/DN12)*0.5),\"0\")","v":"0"},{"$f":"COUNT(DM13)+COUNT(DN13)","v":0}]
[null,null,null,null,null,null,null,"DATE:"]
[]
[{"$f":"IF(DS16=0,\"X\",\"\")","v":""},1,1,{"$f":"Insert!A3","v":0},{"$f":"Insert!B3","v":0},{"$f":"Insert!C3","v":0},{"$f":"Insert!D3","v":0},{"$f":"Insert!E3","v":0},null,null,null,null,null,null,null,null,null,null,null,null,null,null,null,null,{"$f":"SUM(I16:X16)","v":0},{"$f":"IFERROR(ROUND((SUM(Y16*$Y$13)/10),0),\"0\")","v":"0"},null,null,null,null,null,null,null,null,null,null,null,null,null,null,null,null,{"$f":"SUM(AA16:AP16)","v":0},{"$f":"IFERROR(ROUND((SUM(AQ16*$AQ$13)/10),0),\"0\")","v":"0"},null,null,null,null,null,null,null,null,null,null,null,null,null,null,null,null,{"$f":"SUM(AS16:BH16)","v":0},{"$f":"IFERROR(ROUND((SUM(BI16*$BI$13)/10),0),\"0\")","v":"0"},null,null,null,null,null,null,null,null,null,null,null,null,null,null,null,null,{"$f":"SUM(BK16:BZ16)","v":0},{"$f":"IFERROR(ROUND((SUM(CA16*$CA$13)/10),0),\"0\")","v":"0"},null,null,null,null,null,null,null,null,null,null,null,null,null,null,null,null,{"$f":"SUM(CC16:CR16)","v":0},{"$f":"IFERROR(ROUND((SUM(CS16*$CS$13)/10),0),\"0\")","v":0},null,null,null,null,null,null,null,null,null,null,null,null,null,null,null,null,{"$f":"SUM(CU16:DJ16)","v":0},{"$f":"IFERROR(ROUND((SUM(DK16*$DK$13)/10),0),\"0\")","v":"0"},null,null,{"$f":"ROUND(IF($DO$13=1,DQ16,IF($DO$13=2,(DR16+DQ16)/2)),0)","v":0},null,{"$f":"ROUND(SUM(DM16*$DM$13),0)","v":{"$error":"#DIV/0!"}},{"$f":"ROUND(SUM(DN16*$DN$13),0)","v":0},{"$f":"COUNTA(D16:X16,AA16:AP16,AS16:BH16,BK16:BZ16,CC16:CR16,CU16:DJ16,DM16:DN16)","v":5}]
["",2,2,{"$f":"Insert!A4","v":0},{"$f":"Insert!B4","v":0},{"$f":"Insert!C4","v":0},{"$f":"Insert!D4","v":0},{"$f":"Insert!E4","v":0},null,null,null,null,null,null,null,null,null,null,null,null,null,null,null,null,0,"0",null,null,null,null,null,null,null,null,null,null,null,null,null,null,null,null,0,"0",null,null,null,null,null,null,null,null,null,null,null,null,null,null,null,null,0,"0",null,null,null,null,null,null,null,null,null,null,null,null,null,null,null,null,0,"0",null,null,null,null,null,null,null,null,null,null,null,null,null,null,null,null,0,0,null,null,null,null,null,null,null,null,null,null,null,null,null,null,null,null,0,"0",null,null,0,null,{"$error":"#DIV/0!"},0,{"$f":"COUNTA(D17:X17,AA17:AP17,AS17:BH17,BK17:BZ17,CC17:CR17,CU17:DJ17,DM17:DN17)","v":5}]
["",3,3,{"$f":"Insert!A5","v":0},{"$f":"Insert!B5","v":0},{"$f":"Insert!C5","v":0},{"$f":"Insert!D5","v":0},{"$f":"Insert!E5","v":0},null,null,null,null,null,null,null,null,null,null,null,null,null,null,null,null,0,"0",null,null,null,null,null,null,null,null,null,null,null,null,null,null,null,null,0,"0",null,null,null,null,null,null,null,null,null,null,null,null,null,null,null,null,0,"0",null,null,null,null,null,null,null,null,null,null,null,null,null,null,null,null,0,"0",null,null,null,null,null,null,null,null,null,null,null,null,null,null,null,null,0,0,null,null,null,null,null,null,null,null,null,null,null,null,null,null,null,null,0,"0",null,null,0,null,{"$error":"#DIV/0!"},0,5]
["",4,4,{"$f":"Insert!A6","v":0},{"$f":"Insert!B6","v":0},{"$f":"Insert!C6","v":0},{"$f":"Insert!D6","v":0},{"$f":"Insert!E6","v":0},null,null,null,null,null,null,null,null,null,null,null,null,null,null,null,null,0,"0",null,null,null,null,null,null,null,null,null,null,null,null,null,null,null,null,0,"0",null,null,null,null,null,null,null,null,null,null,null,null,null,null,null,null,0,"0",null,null,null,null,null,null,null,null,null,null,null,null,null,null,null,null,0,"0",null,null,null,null,null,null,null,null,null,null,null,null,null,null,null,null,0,0,null,null,null,null,null,null,null,null,null,null,null,null,null,null,null,null,0,"0",null,null,0,null,{"$error":"#DIV/0!"},0,5]
["",5,5,{"$f":"Insert!A7","v":0},{"$f":"Insert!B7","v":0},{"$f":"Insert!C7","v":0},{"$f":"Insert!D7","v":0},{"$f":"Insert!E7","v":0},null,null,null,null,null,null,null,null,null,null,null,null,null,null,null,null,0,"0",null,null,null,null,null,null,null,null,null,null,null,null,null,null,null,null,0,"0",null,null,null,null,null,null,null,null,null,null,null,null,null,null,null,null,0,"0",null,null,null,null,null,null,null,null,null,null,null,null,null,null,null,null,0,"0",null,null,null,null,null,null,null,null,null,null,null,null,null,null,null,null,0,0,null,null,null,null,null,null,null,null,null,null,null,null,null,null,null,null,0,"0",null,null,0,null,{"$error":"#DIV/0!"},0,5]
["",6,6,{"$f":"Insert!A8","v":0},{"$f":"Insert!B8","v":0},{"$f":"Insert!C8","v":0},{"$f":"Insert!D8","v":0},{"$f":"Insert!E8","v":0},null,null,null,null,null,null,null,null,null,null,null,null,null,null,null,null,0,"0",null,null,null,null,null,null,null,null,null,null,null,null,null,null,null,null,0,"0",null,null,null,null,null,null,null,null,null,null,null,null,null,null,null,null,0,"0",null,null,null,null,null,null,null,null,null,null,null,null,null,null,null,null,0,"0",null,null,null,null,null,null,null,null,null,null,null,null,null,null,null,null,0,0,null,null,null,null,null,null,null,null,null,null,null,null,null,null,null,null,0,"0",null,null,0,null,{"$error":"#DIV/0!"},0,5]
["",7,7,{"$f":"Insert!A9","v":0},{"$f":"Insert!B9","v":0},{"$f":"Insert!C9","v":0},{"$f":"Insert!D9","v":0},{"$f":"Insert!E9","v":0},null,null,null,null,null,null,null,null,null,null,null,null,null,null,null,null,0,"0",null,null,null,null,null,null,null,null,null,null,null,null,null,null,null,null,0,"0",null,null,null,null,null,null,null,null,null,null,null,null,null,null,null,null,0,"0",null,null,null,null,null,null,null,null,null,null,null,null,null,null,null,null,0,"0",null,null,null,null,null,null,null,null,null,null,null,null,null,null,null,null,0,0,null,null,null,null,null,null,null,null,null,null,null,null,null,null,null,null,0,"0",null,null,0,null,{"$error":"#DIV/0!"},0,5]
["",8,8,{"$f":"Insert!A10","v":0},{"$f":"Insert!B10","v":0},{"$f":"Insert!C10","v":0},{"$f":"Insert!D10","v":0},{"$f":"Insert!E10","v":0},null,null,null,null,null,null,null,null,null,null,null,null,null,null,null,null,0,"0",null,null,null,null,null,null,null,null,null,null,null,null,null,null,null,null,0,"0",null,null,null,null,null,null,null,null,null,null,null,null,null,null,null,null,0,"0",null,null,null,null,null,null,null,null,null,null,null,null,null,null,null,null,0,"0",null,null,null,null,null,null,null,null,null,null,null,null,null,null,null,null,0,0,null,null,null,null,null,null,null,null,null,null,null,null,null,null,null,null,0,"0",null,null,0,null,{"$error":"#DIV/0!"},0,5]
["",9,9,{"$f":"Insert!A11","v":0},{"$f":"Insert!B11","v":0},{"$f":"Insert!C11","v":0},{"$f":"Insert!D11","v":0},{"$f":"Insert!E11","v":0},null,null,null,null,null,null,null,null,null,null,null,null,null,null,null,null,0,"0",null,null,null,null,null,null,null,null,null,null,null,null,null,null,null,null,0,"0",null,null,null,null,null,null,null,null,null,null,null,null,null,null,null,null,0,"0",null,null,null,null,null,null,null,null,null,null,null,null,null,null,null,null,0,"0",null,null,null,null,null,null,null,null,null,null,null,null,null,null,null,null,0,0,null,null,null,null,null,null,null,null,null,null,null,null,null,null,null,null,0,"0",null,null,0,null,{"$error":"#DIV/0!"},0,5]
["",10,10,{"$f":"Insert!A12","v":0},{"$f":"Insert!B12","v":0},{"$f":"Insert!C12","v":0},{"$f":"Insert!D12","v":0},{"$f":"Insert!E12","v":0},null,null,null,null,null,null,null,null,null,null,null,null,null,null,null,null,0,"0",null,null,null,null,null,null,null,null,null,null,null,null,null,null,null,null,0,"0",null,null,null,null,null,null,null,null,null,null,null,null,null,null,null,null,0,"0",null,null,null,null,null,null,null,null,null,null,null,null,null,null,null,null,0,"0",null,null,null,null,null,null,null,null,null,null,null,null,null,null,null,null,0,0,null,null,null,null,null,null,null,null,null,null,null,null,null,null,null,null,0,"0",null,null,0,null,{"$error":"#DIV/0!"},0,5]
["",11,11,{"$f":"Insert!A13","v":0},{"$f":"Insert!B13","v":0},{"$f":"Insert!C13","v":0},{"$f":"Insert!D13","v":0},{"$f":"Insert!E13","v":0},null,null,null,null,null,null,null,null,null,null,null,null,null,null,null,null,0,"0",null,null,null,null,null,null,null,null,null,null,null,null,null,null,null,null,0,"0",null,null,null,null,null,null,null,null,null,null,null,null,null,null,null,null,0,"0",null,null,null,null,null,null,null,null,null,null,null,null,null,null,null,null,0,"0",null,null,null,null,null,null,null,null,null,null,null,null,null,null,null,null,0,0,null,null,null,null,null,null,null,null,null,null,null,null,null,null,null,null,0,"0",null,null,0,null,{"$error":"#DIV/0!"},0,5]
["",12,12,{"$f":"Insert!A14","v":0},{"$f":"Insert!B14","v":0},{"$f":"Insert!C14","v":0},{"$f":"Insert!D14","v":0},{"$f":"Insert!E14","v":0},null,null,null,null,null,null,null,null,null,null,null,null,null,null,null,null,0,"0",null,null,null,null,null,null,null,null,null,null,null,null,null,null,null,null,0,"0",null,null,null,null,null,null,null,null,null,null,null,null,null,null,null,null,0,"0",null,null,null,null,null,null,null,null,null,null,null,null,null,null,null,null,0,"0",null,null,null,null,null,null,null,null,null,null,null,null,null,null,null,null,0,0,null,null,null,null,null,null,null,null,null,null,null,null,null,null,null,null,0,"0",null,null,0,null,{"$error":"#DIV/0!"},0,5]
["",13,13,{"$f":"Insert!A15","v":0},{"$f":"Insert!B15","v":0},{"$f":"Insert!C15","v":0},{"$f":"Insert!D15","v":0},{"$f":"Insert!E15","v":0},null,null,null,null,null,null,null,null,null,null,null,null,null,null,null,null,0,"0",null,null,null,null,null,null,null,null,null,null,null,null,null,null,null,null,0,"0",null,null,null,null,null,null,null,null,null,null,null,null,null,null,null,null,0,"0",null,null,null,null,null,null,null,null,null,null,null,null,null,null,null,null,0,"0",null,null,null,null,null,null,null,null,null,null,null,null,null,null,null,null,0,0,null,null,null,null,null,null,null,null,null,null,null,null,null,null,null,null,0,"0",null,null,0,null,{"$error":"#DIV/0!"},0,5]
["",14,14,{"$f":"Insert!A16","v":0},{"$f":"Insert!B16","v":0},{"$f":"Insert!C16","v":0},{"$f":"Insert!D16","v":0},{"$f":"Insert!E16","v":0},null,null,null,null,null,null,null,null,null,null,null,null,null,null,null,null,0,"0",null,null,null,null,null,null,null,null,null,null,null,null,null,null,null,null,0,"0",null,null,null,null,null,null,null,null,null,null,null,null,null,null,null,null,0,"0",null,null,null,null,null,null,null,null,null,null,null,null,null,null,null,null,0,"0",null,null,null,null,null,null,null,null,null,null,null,null,null,null,null,null,0,0,null,null,null,null,null,null,null,null,null,null,null,null,null,null,null,null,0,"0",null,null,0,null,{"$error":"#DIV/0!"},0,5]
["",15,15,{"$f":"Insert!A17","v":0},{"$f":"Insert!B17","v":0},{"$f":"Insert!C17","v":0},{"$f":"Insert!D17","v":0},{"$f":"Insert!E17","v":0},null,null,null,null,null,null,null,null,null,null,null,null,null,null,null,null,0,"0",null,null,null,null,null,null,null,null,null,null,null,null,null,null,null,null,0,"0",null,null,null,null,null,null,null,null,null,null,null,null,null,null,null,null,0,"0",null,null,null,null,null,null,null,null,null,null,null,null,null,null,null,null,0,"0",null,null,null,null,null,null,null,null,null,null,null,null,null,null,null,null,0,0,null,null,null,null,null,null,null,null,null,null,null,null,null,null,null,null,0,"0",null,null,0,null,{"$error":"#DIV/0!"},0,5]
["",16,16,{"$f":"Insert!A18","v":0},{"$f":"Insert!B18","v":0},{"$f":"Insert!C18","v":0},{"$f":"Insert!D18","v":0},{"$f":"Insert!E18","v":0},null,null,null,null,null,null,null,null,null,null,null,null,null,null,null,null,0,"0",null,null,null,null,null,null,null,null,null,null,null,null,null,null,null,null,0,"0",null,null,null,null,null,null,null,null,null,null,null,null,null,null,null,null,0,"0",null,null,null,null,null,null,null,null,null,null,null,null,null,null,null,null,0,"0",null,null,null,null,null,null,null,null,null,null,null,null,null,null,null,null,0,0,null,null,null,null,null,null,null,null,null,null,null,null,null,null,null,null,0,"0",null,null,0,null,{"$error":"#DIV/0!"},0,5]
["",17,17,{"$f":"Insert!A19","v":0},{"$f":"Insert!B19","v":0},{"$f":"Insert!C19","v":0},{"$f":"Insert!D19","v":0},{"$f":"Insert!E19","v":0},null,null,null,null,null,null,null,null,null,null,null,null,null,null,null,null,0,"0",null,null,null,null,null,null,null,null,null,null,null,null,null,null,null,null,0,"0",null,null,null,null,null,null,null,null,null,null,null,null,null,null,null,null,0,"0",null,null,null,null,null,null,null,null,null,null,null,null,null,null,null,null,0,"0",null,null,null,null,null,null,null,null,null,null,null,null,null,null,null,null,0,0,null,null,null,null,null,null,null,null,null,null,null,null,null,null,null,null,0,"0",null,null,0,null,{"$error":"#DIV/0!"},0,5]
["",18,18,{"$f":"Insert!A20","v":0},{"$f":"Insert!B20","v":0},{"$f":"Insert!C20","v":0},{"$f":"Insert!D20","v":0},{"$f":"Insert!E20","v":0},null,null,null,null,null,null,null,null,null,null,null,null,null,null,null,null,0,"0",null,null,null,null,null,null,null,null,null,null,null,null,null,null,null,null,0,"0",null,null,null,null,null,null,null,null,null,null,null,null,null,null,null,null,0,"0",null,null,null,null,null,null,null,null,null,null,null,null,null,null,null,null,0,"0",null,null,null,null,null,null,null,null,null,null,null,null,null,null,null,null,0,0,null,null,null,null,null,null,null,null,null,null,null,null,null,null,null,null,0,"0",null,null,0,null,{"$error":"#DIV/0!"},0,5]
["",19,19,{"$f":"Insert!A21","v":0},{"$f":"Insert!B21","v":0},{"$f":"Insert!C21","v":0},{"$f":"Insert!D21","v":0},{"$f":"Insert!E21","v":0},null,null,null,null,null,null,null,null,null,null,null,null,null,null,null,null,0,"0",null,null,null,null,null,null,null,null,null,null,null,null,null,null,null,null,0,"0",null,null,null,null,null,null,null,null,null,null,null,null,null,null,null,null,0,"0",null,null,null,null,null,null,null,null,null,null,null,null,null,null,null,null,0,"0",null,null,null,null,null,null,null,null,null,null,null,null,null,null,null,null,0,0,null,null,null,null,null,null,null,null,null,null,null,null,null,null,null,null,0,"0",null,null,0,null,{"$error":"#DIV/0!"},0,5]
["",20,20,{"$f":"Insert!A22","v":0},{"$f":"Insert!B22","v":0},{"$f":"Insert!C22","v":0},{"$f":"Insert!D22","v":0},{"$f":"Insert!E22","v":0},null,null,null,null,null,null,null,null,null,null,null,null,null,null,null,null,0,"0",null,null,null,null,null,null,null,null,null,null,null,null,null,null,null,null,0,"0",null,null,null,null,null,null,null,null,null,null,null,null,null,null,null,null,0,"0",null,null,null,null,null,null,null,null,null,null,null,null,null,null,null,null,0,"0",null,null,null,null,null,null,null,null,null,null,null,null,null,null,null,null,0,0,null,null,null,null,null,null,null,null,null,null,null,null,null,null,null,null,0,"0",null,null,0,null,{"$error":"#DIV/0!"},0,5]
["",21,21,{"$f":"Insert!A23","v":0},{"$f":"Insert!B23","v":0},{"$f":"Insert!C23","v":0},{"$f":"Insert!D23","v":0},{"$f":"Insert!E23","v":0},null,null,null,null,null,null,null,null,null,null,null,null,null,null,null,null,0,"0",null,null,null,null,null,null,null,null,null,null,null,null,null,null,null,null,0,"0",null,null,null,null,null,null,null,null,null,null,null,null,null,null,null,null,0,"0",null,null,null,null,null,null,null,null,null,null,null,null,null,null,null,null,0,"0",null,null,null,null,null,null,null,null,null,null,null,null,null,null,null,null,0,0,null,null,null,null,null,null,null,null,null,null,null,null,null,null,null,null,0,"0",null,null,0,null,{"$error":"#DIV/0!"},0,5]
["",22,22,{"$f":"Insert!A24","v":0},{"$f":"Insert!B24","v":0},{"$f":"Insert!C24","v":0},{"$f":"Insert!D24","v":0},{"$f":"Insert!E24","v":0},null,null,null,null,null,null,null,null,null,null,null,null,null,null,null,null,0,"0",null,null,null,null,null,null,null,null,null,null,null,null,null,null,null,null,0,"0",null,null,null,null,null,null,null,null,null,null,null,null,null,null,null,null,0,"0",null,null,null,null,null,null,null,null,null,null,null,null,null,null,null,null,0,"0",null,null,null,null,null,null,null,null,null,null,null,null,null,null,null,null,0,0,null,null,null,null,null,null,null,null,null,null,null,null,null,null,null,null,0,"0",null,null,0,null,{"$error":"#DIV/0!"},0,5]
["",23,23,{"$f":"Insert!A25","v":0},{"$f":"Insert!B25","v":0},{"$f":"Insert!C25","v":0},{"$f":"Insert!D25","v":0},{"$f":"Insert!E25","v":0},null,null,null,null,null,null,null,null,null,null,null,null,null,null,null,null,0,"0",null,null,null,null,null,null,null,null,null,null,null,null,null,null,null,null,0,"0",null,null,null,null,null,null,null,null,null,null,null,null,null,null,null,null,0,"0",null,null,null,null,null,null,null,null,null,null,null,null,null,null,null,null,0,"0",null,null,null,null,null,null,null,null,null,null,null,null,null,null,null,null,0,0,null,null,null,null,null,null,null,null,null,null,null,null,null,null,null,null,0,"0",null,null,0,null,{"$error":"#DIV/0!"},0,5]
["",24,24,{"$f":"Insert!A26","v":0},{"$f":"Insert!B26","v":0},{"$f":"Insert!C26","v":0},{"$f":"Insert!D26","v":0},{"$f":"Insert!E26","v":0},null,null,null,null,null,null,null,null,null,null,null,null,null,null,null,null,0,"0",null,null,null,null,null,null,null,null,null,null,null,null,null,null,null,null,0,"0",null,null,null,null,null,null,null,null,null,null,null,null,null,null,null,null,0,"0",null,null,null,null,null,null,null,null,null,null,null,null,null,null,null,null,0,"0",null,null,null,null,null,null,null,null,null,null,null,null,null,null,null,null,0,0,null,null,null,null,null,null,null,null,null,null,null,null,null,null,null,null,0,"0",null,null,0,null,{"$error":"#DIV/0!"},0,5]
["",25,25,{"$f":"Insert!A27","v":0},{"$f":"Insert!B27","v":0},{"$f":"Insert!C27","v":0},{"$f":"Insert!D27","v":0},{"$f":"Insert!E27","v":0},null,null,null,null,null,null,null,null,null,null,null,null,null,null,null,null,0,"0",null,null,null,null,null,null,null,null,null,null,null,null,null,null,null,null,0,"0",null,null,null,null,null,null,null,null,null,null,null,null,null,null,null,null,0,"0",null,null,null,null,null,null,null,null,null,null,null,null,null,null,null,null,0,"0",null,null,null,null,null,null,null,null,null,null,null,null,null,null,null,null,0,0,null,null,null,null,null,null,null,null,null,null,null,null,null,null,null,null,0,"0",null,null,0,null,{"$error":"#DIV/0!"},0,5]
["",26,26,{"$f":"Insert!A28","v":0},{"$f":"Insert!B28","v":0},{"$f":"Insert!C28","v":0},{"$f":"Insert!D28","v":0},{"$f":"Insert!E28","v":0},null,null,null,null,null,null,null,null,null,null,null,null,null,null,null,null,0,"0",null,null,null,null,null,null,null,null,null,null,null,null,null,null,null,null,0,"0",null,null,null,null,null,null,null,null,null,null,null,null,null,null,null,null,0,"0",null,null,null,null,null,null,null,null,null,null,null,null,null,null,null,null,0,"0",null,null,null,null,null,null,null,null,null,null,null,null,null,null,null,null,0,0,null,null,null,null,null,null,null,null,null,null,null,null,null,null,null,null,0,"0",null,null,0,null,{"$error":"#DIV/0!"},0,5]
["",27,27,{"$f":"Insert!A29","v":0},{"$f":"Insert!B29","v":0},{"$f":"Insert!C29","v":0},{"$f":"Insert!D29","v":0},{"$f":"Insert!E29","v":0},null,null,null,null,null,null,null,null,null,null,null,null,null,null,null,null,0,"0",null,null,null,null,null,null,null,null,null,null,null,null,null,null,null,null,0,"0",null,null,null,null,null,null,null,null,null,null,null,null,null,null,null,null,0,"0",null,null,null,null,null,null,null,null,null,null,null,null,null,null,null,null,0,"0",null,null,null,null,null,null,null,null,null,null,null,null,null,null,null,null,0,0,null,null,null,null,null,null,null,null,null,null,null,null,null,null,null,null,0,"0",null,null,0,null,{"$error":"#DIV/0!"},0,5]
["",28,28,{"$f":"Insert!A30","v":0},{"$f":"Insert!B30","v":0},{"$f":"Insert!C30","v":0},{"$f":"Insert!D30","v":0},{"$f":"Insert!E30","v":0},null,null,null,null,null,null,null,null,null,null,null,null,null,null,null,null,0,"0",null,null,null,null,null,null,null,null,null,null,null,null,null,null,null,null,0,"0",null,null,null,null,null,null,null,null,null,null,null,null,null,null,null,null,0,"0",null,null,null,null,null,null,null,null,null,null,null,null,null,null,null,null,0,"0",null,null,null,null,null,null,null,null,null,null,null,null,null,null,null,null,0,0,null,null,null,null,null,null,null,null,null,null,null,null,null,null,null,null,0,"0",null,null,0,null,{"$error":"#DIV/0!"},0,5]
["",29,29,{"$f":"Insert!A31","v":0},{"$f":"Insert!B31","v":0},{"$f":"Insert!C31","v":0},{"$f":"Insert!D31","v":0},{"$f":"Insert!E31","v":0},null,null,null,null,null,null,null,null,null,null,null,null,null,null,null,null,0,"0",null,null,null,null,null,null,null,null,null,null,null,null,null,null,null,null,0,"0",null,null,null,null,null,null,null,null,null,null,null,null,null,null,null,null,0,"0",null,null,null,null,null,null,null,null,null,null,null,null,null,null,null,null,0,"0",null,null,null,null,null,null,null,null,null,null,null,null,null,null,null,null,0,0,null,null,null,null,null,null,null,null,null,null,null,null,null,null,null,null,0,"0",null,null,0,null,{"$error":"#DIV/0!"},0,5]
["",30,30,{"$f":"Insert!A32","v":0},{"$f":"Insert!B32","v":0},{"$f":"Insert!C32","v":0},{"$f":"Insert!D32","v":0},{"$f":"Insert!E32","v":0},null,null,null,null,null,null,null,null,null,null,null,null,null,null,null,null,0,"0",null,null,null,null,null,null,null,null,null,null,null,null,null,null,null,null,0,"0",null,null,null,null,null,null,null,null,null,null,null,null,null,null,null,null,0,"0",null,null,null,null,null,null,null,null,null,null,null,null,null,null,null,null,0,"0",null,null,null,null,null,null,null,null,null,null,null,null,null,null,null,null,0,0,null,null,null,null,null,null,null,null,null,null,null,null,null,null,null,null,0,"0",null,null,0,null,{"$error":"#DIV/0!"},0,5]
["",31,31,{"$f":"Insert!A33","v":0},{"$f":"Insert!B33","v":0},{"$f":"Insert!C33","v":0},{"$f":"Insert!D33","v":0},{"$f":"Insert!E33","v":0},null,null,null,null,null,null,null,null,null,null,null,null,null,null,null,null,0,"0",null,null,null,null,null,null,null,null,null,null,null,null,null,null,null,null,0,"0",null,null,null,null,null,null,null,null,null,null,null,null,null,null,null,null,0,"0",null,null,null,null,null,null,null,null,null,null,null,null,null,null,null,null,0,"0",null,null,null,null,null,null,null,null,null,null,null,null,null,null,null,null,0,0,null,null,null,null,null,null,null,null,null,null,null,null,null,null,null,null,0,"0",null,null,{"$f":"ROUND(IF($DO$13=1,DQ46,IF($DO$13=2,(DR46+DQ46)/2)),0)","v":0},null,{"$f":"ROUND(SUM(DM46*$DM$13),0)","v":{"$error":"#DIV/0!"}},{"$f":"ROUND(SUM(DN46*$DN$13),0)","v":0},{"$f":"COUNTA(D46:X46,AA46:AP46,AS46:BH46,BK46:BZ46,CC46:CR46,CU46:DJ46,DM46:DN46)","v":5}]
["",32,32,{"$f":"Insert!A34","v":0},{"$f":"Insert!B34","v":0},{"$f":"Insert!C34","v":0},{"$f":"Insert!D34","v":0},{"$f":"Insert!E34","v":0},null,null,null,null,null,null,null,null,null,null,null,null,null,null,null,null,0,"0",null,null,null,null,null,null,null,null,null,null,null,null,null,null,null,null,0,"0",null,null,null,null,null,null,null,null,null,null,null,null,null,null,null,null,0,"0",null,null,null,null,null,null,null,null,null,null,null,null,null,null,null,null,0,"0",null,null,null,null,null,null,null,null,null,null,null,null,null,null,null,null,0,0,null,null,null,null,null,null,null,null,null,null,null,null,null,null,null,null,0,"0",null,null,{"$f":"ROUND(IF($DO$13=1,DQ47,IF($DO$13=2,(DR47+DQ47)/2)),0)","v":0},null,{"$error":"#DIV/0!"},0,5]
[{"$f":"IF(DS48=0,\"X\",\"\")","v":""},33,33,{"$f":"Insert!A35","v":0},{"$f":"Insert!B35","v":0},{"$f":"Insert!C35","v":0},{"$f":"Insert!D35","v":0},{"$f":"Insert!E35","v":0},null,null,null,null,null,null,null,null,null,null,null,null,null,null,null,null,{"$f":"SUM(I48:X48)","v":0},{"$f":"IFERROR(ROUND((SUM(Y48*$Y$13)/10),0),\"0\")","v":"0"},null,null,null,null,null,null,null,null,null,null,null,null,null,null,null,null,{"$f":"SUM(AA48:AP48)","v":0},{"$f":"IFERROR(ROUND((SUM(AQ48*$AQ$13)/10),0),\"0\")","v":"0"},null,null,null,null,null,null,null,null,null,null,null,null,null,null,null,null,{"$f":"SUM(AS48:BH48)","v":0},{"$f":"IFERROR(ROUND((SUM(BI48*$BI$13)/10),0),\"0\")","v":"0"},null,null,null,null,null,null,null,null,null,null,null,null,null,null,null,null,{"$f":"SUM(BK48:BZ48)","v":0},{"$f":"IFERROR(ROUND((SUM(CA48*$CA$13)/10),0),\"0\")","v":"0"},null,null,null,null,null,null,null,null,null,null,null,null,null,null,null,null,{"$f":"SUM(CC48:CR48)","v":0},{"$f":"IFERROR(ROUND((SUM(CS48*$CS$13)/10),0),\"0\")","v":0},null,null,null,null,null,null,null,null,null,null,null,null,null,null,null,null,{"$f":"SUM(CU48:DJ48)","v":0},{"$f":"IFERROR(ROUND((SUM(DK48*$DK$13)/10),0),\"0\")","v":"0"},null,null,0,null,{"$f":"ROUND(SUM(DM48*$DM$13),0)","v":{"$error":"#DIV/0!"}},{"$f":"ROUND(SUM(DN48*$DN$13),0)","v":0},5]
["",34,34,{"$f":"Insert!A36","v":0},{"$f":"Insert!B36","v":0},{"$f":"Insert!C36","v":0},{"$f":"Insert!D36","v":0},{"$f":"Insert!E36","v":0},null,null,null,null,null,null,null,null,null,null,null,null,null,null,null,null,0,"0",null,null,null,null,null,null,null,null,null,null,null,null,null,null,null,null,0,"0",null,null,null,null,null,null,null,null,null,null,null,null,null,null,null,null,0,"0",null,null,null,null,null,null,null,null,null,null,null,null,null,null,null,null,0,"0",null,null,null,null,null,null,null,null,null,null,null,null,null,null,null,null,0,0,null,null,null,null,null,null,null,null,null,null,null,null,null,null,null,null,0,"0",null,null,0,null,{"$error":"#DIV/0!"},0,5]
["",35,35,{"$f":"Insert!A37","v":0},{"$f":"Insert!B37","v":0},{"$f":"Insert!C37","v":0},{"$f":"Insert!D37","v":0},{"$f":"Insert!E37","v":0},null,null,null,null,null,null,null,null,null,null,null,null,null,null,null,null,0,"0",null,null,null,null,null,null,null,null,null,null,null,null,null,null,null,null,0,"0",null,null,null,null,null,null,null,null,null,null,null,null,null,null,null,null,0,"0",null,null,null,null,null,null,null,null,null,null,null,null,null,null,null,null,0,"0",null,null,null,null,null,null,null,null,null,null,null,null,null,null,null,null,0,0,null,null,null,null,null,null,null,null,null,null,null,null,null,null,null,null,0,"0",null,null,0,null,{"$error":"#DIV/0!"},0,5]
["",36,36,{"$f":"Insert!A38","v":0},{"$f":"Insert!B38","v":0},{"$f":"Insert!C38","v":0},{"$f":"Insert!D38","v":0},{"$f":"Insert!E38","v":0},null,null,null,null,null,null,null,null,null,null,null,null,null,null,null,null,0,"0",null,null,null,null,null,null,null,null,null,null,null,null,null,null,null,null,0,"0",null,null,null,null,null,null,null,null,null,null,null,null,null,null,null,null,0,"0",null,null,null,null,null,null,null,null,null,null,null,null,null,null,null,null,0,"0",null,null,null,null,null,null,null,null,null,null,null,null,null,null,null,null,0,0,null,null,null,null,null,null,null,null,null,null,null,null,null,null,null,null,0,"0",null,null,0,null,{"$error":"#DIV/0!"},0,5]
["",37,37,{"$f":"Insert!A39","v":0},{"$f":"Insert!B39","v":0},{"$f":"Insert!C39","v":0},{"$f":"Insert!D39","v":0},{"$f":"Insert!E39","v":0},null,null,null,null,null,null,null,null,null,null,null,null,null,null,null,null,0,"0",null,null,null,null,null,null,null,null,null,null,null,null,null,null,null,null,0,"0",null,null,null,null,null,null,null,null,null,null,null,null,null,null,null,null,0,"0",null,null,null,null,null,null,null,null,null,null,null,null,null,null,null,null,0,"0",null,null,null,null,null,null,null,null,null,null,null,null,null,null,null,null,0,0,null,null,null,null,null,null,null,null,null,null,null,null,null,null,null,null,0,"0",null,null,0,null,{"$error":"#DIV/0!"},0,5]
["",38,38,{"$f":"Insert!A40","v":0},{"$f":"Insert!B40","v":0},{"$f":"Insert!C40","v":0},{"$f":"Insert!D40","v":0},{"$f":"Insert!E40","v":0},null,null,null,null,null,null,null,null,null,null,null,null,null,null,null,null,0,"0",null,null,null,null,null,null,null,null,null,null,null,null,null,null,null,null,0,"0",null,null,null,null,null,null,null,null,null,null,null,null,null,null,null,null,0,"0",null,null,null,null,null,null,null,null,null,null,null,null,null,null,null,null,0,"0",null,null,null,null,null,null,null,null,null,null,null,null,null,null,null,null,0,0,null,null,null,null,null,null,null,null,null,null,null,null,null,null,null,null,0,"0",null,null,0,null,{"$error":"#DIV/0!"},0,5]
["",39,39,{"$f":"Insert!A41","v":0},{"$f":"Insert!B41","v":0},{"$f":"Insert!C41","v":0},{"$f":"Insert!D41","v":0},{"$f":"Insert!E41","v":0},null,null,null,null,null,null,null,null,null,null,null,null,null,null,null,null,0,"0",null,null,null,null,null,null,null,null,null,null,null,null,null,null,null,null,0,"0",null,null,null,null,null,null,null,null,null,null,null,null,null,null,null,null,0,"0",null,null,null,null,null,null,null,null,null,null,null,null,null,null,null,null,0,"0",null,null,null,null,null,null,null,null,null,null,null,null,null,null,null,null,0,0,null,null,null,null,null,null,null,null,null,null,null,null,null,null,null,null,0,"0",null,null,0,null,{"$error":"#DIV/0!"},0,5]
["",40,40,{"$f":"Insert!A42","v":0},{"$f":"Insert!B42","v":0},{"$f":"Insert!C42","v":0},{"$f":"Insert!D42","v":0},{"$f":"Insert!E42","v":0},null,null,null,null,null,null,null,null,null,null,null,null,null,null,null,null,0,"0",null,null,null,null,null,null,null,null,null,null,null,null,null,null,null,null,0,"0",null,null,null,null,null,null,null,null,null,null,null,null,null,null,null,null,0,"0",null,null,null,null,null,null,null,null,null,null,null,null,null,null,null,null,0,"0",null,null,null,null,null,null,null,null,null,null,null,null,null,null,null,null,0,0,null,null,null,null,null,null,null,null,null,null,null,null,null,null,null,null,0,"0",null,null,0,null,{"$error":"#DIV/0!"},0,5]
["",41,41,{"$f":"Insert!A43","v":0},{"$f":"Insert!B43","v":0},{"$f":"Insert!C43","v":0},{"$f":"Insert!D43","v":0},{"$f":"Insert!E43","v":0},null,null,null,null,null,null,null,null,null,null,null,null,null,null,null,null,0,"0",null,null,null,null,null,null,null,null,null,null,null,null,null,null,null,null,0,"0",null,null,null,null,null,null,null,null,null,null,null,null,null,null,null,null,0,"0",null,null,null,null,null,null,null,null,null,null,null,null,null,null,null,null,0,"0",null,null,null,null,null,null,null,null,null,null,null,null,null,null,null,null,0,0,null,null,null,null,null,null,null,null,null,null,null,null,null,null,null,null,0,"0",null,null,0,null,{"$error":"#DIV/0!"},0,5]
["",42,42,{"$f":"Insert!A44","v":0},{"$f":"Insert!B44","v":0},{"$f":"Insert!C44","v":0},{"$f":"Insert!D44","v":0},{"$f":"Insert!E44","v":0},null,null,null,null,null,null,null,null,null,null,null,null,null,null,null,null,0,"0",null,null,null,null,null,null,null,null,null,null,null,null,null,null,null,null,0,"0",null,null,null,null,null,null,null,null,null,null,null,null,null,null,null,null,0,"0",null,null,null,null,null,null,null,null,null,null,null,null,null,null,null,null,0,"0",null,null,null,null,null,null,null,null,null,null,null,null,null,null,null,null,0,0,null,null,null,null,null,null,null,null,null,null,null,null,null,null,null,null,0,"0",null,null,0,null,{"$error":"#DIV/0!"},0,5]
["",43,43,{"$f":"Insert!A45","v":0},{"$f":"Insert!B45","v":0},{"$f":"Insert!C45","v":0},{"$f":"Insert!D45","v":0},{"$f":"Insert!E45","v":0},null,null,null,null,null,null,null,null,null,null,null,null,null,null,null,null,0,"0",null,null,null,null,null,null,null,null,null,null,null,null,null,null,null,null,0,"0",null,null,null,null,null,null,null,null,null,null,null,null,null,null,null,null,0,"0",null,null,null,null,null,null,null,null,null,null,null,null,null,null,null,null,0,"0",null,null,null,null,null,null,null,null,null,null,null,null,null,null,null,null,0,0,null,null,null,null,null,null,null,null,null,null,null,null,null,null,null,null,0,"0",null,null,0,null,{"$error":"#DIV/0!"},0,5]
["",44,44,{"$f":"Insert!A46","v":0},{"$f":"Insert!B46","v":0},{"$f":"Insert!C46","v":0},{"$f":"Insert!D46","v":0},{"$f":"Insert!E46","v":0},null,null,null,null,null,null,null,null,null,null,null,null,null,null,null,null,0,"0",null,null,null,null,null,null,null,null,null,null,null,null,null,null,null,null,0,"0",null,null,null,null,null,null,null,null,null,null,null,null,null,null,null,null,0,"0",null,null,null,null,null,null,null,null,null,null,null,null,null,null,null,null,0,"0",null,null,null,null,null,null,null,null,null,null,null,null,null,null,null,null,0,0,null,null,null,null,null,null,null,null,null,null,null,null,null,null,null,null,0,"0",null,null,0,null,{"$error":"#DIV/0!"},0,5]
["",45,45,{"$f":"Insert!A47","v":0},{"$f":"Insert!B47","v":0},{"$f":"Insert!C47","v":0},{"$f":"Insert!D47","v":0},{"$f":"Insert!E47","v":0},null,null,null,null,null,null,null,null,null,null,null,null,null,null,null,null,0,"0",null,null,null,null,null,null,null,null,null,null,null,null,null,null,null,null,0,"0",null,null,null,null,null,null,null,null,null,null,null,null,null,null,null,null,0,"0",null,null,null,null,null,null,null,null,null,null,null,null,null,null,null,null,0,"0",null,null,null,null,null,null,null,null,null,null,null,null,null,null,null,null,0,0,null,null,null,null,null,null,null,null,null,null,null,null,null,null,null,null,0,"0",null,null,0,null,{"$error":"#DIV/0!"},0,5]
["",46,46,{"$f":"Insert!A48","v":0},{"$f":"Insert!B48","v":0},{"$f":"Insert!C48","v":0},{"$f":"Insert!D48","v":0},{"$f":"Insert!E48","v":0},null,null,null,null,null,null,null,null,null,null,null,null,null,null,null,null,0,"0",null,null,null,null,null,null,null,null,null,null,null,null,null,null,null,null,0,"0",null,null,null,null,null,null,null,null,null,null,null,null,null,null,null,null,0,"0",null,null,null,null,null,null,null,null,null,null,null,null,null,null,null,null,0,"0",null,null,null,null,null,null,null,null,null,null,null,null,null,null,null,null,0,0,null,null,null,null,null,null,null,null,null,null,null,null,null,null,null,null,0,"0",null,null,0,null,{"$error":"#DIV/0!"},0,5]
["",47,47,{"$f":"Insert!A49","v":0},{"$f":"Insert!B49","v":0},{"$f":"Insert!C49","v":0},{"$f":"Insert!D49","v":0},{"$f":"Insert!E49","v":0},null,null,null,null,null,null,null,null,null,null,null,null,null,null,null,null,0,"0",null,null,null,null,null,null,null,null,null,null,null,null,null,null,null,null,0,"0",null,null,null,null,null,null,null,null,null,null,null,null,null,null,null,null,0,"0",null,null,null,null,null,null,null,null,null,null,null,null,null,null,null,null,0,"0",null,null,null,null,null,null,null,null,null,null,null,null,null,null,null,null,0,0,null,null,null,null,null,null,null,null,null,null,null,null,null,null,null,null,0,"0",null,null,0,null,{"$error":"#DIV/0!"},0,5]
["",48,48,{"$f":"Insert!A50","v":0},{"$f":"Insert!B50","v":0},{"$f":"Insert!C50","v":0},{"$f":"Insert!D50","v":0},{"$f":"Insert!E50","v":0},null,null,null,null,null,null,null,null,null,null,null,null,null,null,null,null,0,"0",null,null,null,null,null,null,null,null,null,null,null,null,null,null,null,null,0,"0",null,null,null,null,null,null,null,null,null,null,null,null,null,null,null,null,0,"0",null,null,null,null,null,null,null,null,null,null,null,null,null,null,null,null,0,"0",null,null,null,null,null,null,null,null,null,null,null,null,null,null,null,null,0,0,null,null,null,null,null,null,null,null,null,null,null,null,null,null,null,null,0,"0",null,null,0,null,{"$error":"#DIV/0!"},0,5]
["",49,49,{"$f":"Insert!A51","v":0},{"$f":"Insert!B51","v":0},{"$f":"Insert!C51","v":0},{"$f":"Insert!D51","v":0},{"$f":"Insert!E51","v":0},null,null,null,null,null,null,null,null,null,null,null,null,null,null,null,null,0,"0",null,null,null,null,null,null,null,null,null,null,null,null,null,null,null,null,0,"0",null,null,null,null,null,null,null,null,null,null,null,null,null,null,null,null,0,"0",null,null,null,null,null,null,null,null,null,null,null,null,null,null,null,null,0,"0",null,null,null,null,null,null,null,null,null,null,null,null,null,null,null,null,0,0,null,null,null,null,null,null,null,null,null,null,null,null,null,null,null,null,0,"0",null,null,0,null,{"$error":"#DIV/0!"},0,5]
["",50,50,{"$f":"Insert!A52","v":0},{"$f":"Insert!B52","v":0},{"$f":"Insert!C52","v":0},{"$f":"Insert!D52","v":0},{"$f":"Insert!E52","v":0},null,null,null,null,null,null,null,null,null,null,null,null,null,null,null,null,0,"0",null,null,null,null,null,null,null,null,null,null,null,null,null,null,null,null,0,"0",null,null,null,null,null,null,null,null,null,null,null,null,null,null,null,null,0,"0",null,null,null,null,null,null,null,null,null,null,null,null,null,null,null,null,0,"0",null,null,null,null,null,null,null,null,null,null,null,null,null,null,null,null,0,0,null,null,null,null,null,null,null,null,null,null,null,null,null,null,null,null,0,"0",null,null,0,null,{"$error":"#DIV/0!"},0,5]
["",51,51,{"$f":"Insert!A53","v":0},{"$f":"Insert!B53","v":0},{"$f":"Insert!C53","v":0},{"$f":"Insert!D53","v":0},{"$f":"Insert!E53","v":0},null,null,null,null,null,null,null,null,null,null,null,null,null,null,null,null,0,"0",null,null,null,null,null,null,null,null,null,null,null,null,null,null,null,null,0,"0",null,null,null,null,null,null,null,null,null,null,null,null,null,null,null,null,0,"0",null,null,null,null,null,null,null,null,null,null,null,null,null,null,null,null,0,"0",null,null,null,null,null,null,null,null,null,null,null,null,null,null,null,null,0,0,null,null,null,null,null,null,null,null,null,null,null,null,null,null,null,null,0,"0",null,null,0,null,{"$error":"#DIV/0!"},0,5]
["",52,52,{"$f":"Insert!A54","v":0},{"$f":"Insert!B54","v":0},{"$f":"Insert!C54","v":0},{"$f":"Insert!D54","v":0},{"$f":"Insert!E54","v":0},null,null,null,null,null,null,null,null,null,null,null,null,null,null,null,null,0,"0",null,null,null,null,null,null,null,null,null,null,null,null,null,null,null,null,0,"0",null,null,null,null,null,null,null,null,null,null,null,null,null,null,null,null,0,"0",null,null,null,null,null,null,null,null,null,null,null,null,null,null,null,null,0,"0",null,null,null,null,null,null,null,null,null,null,null,null,null,null,null,null,0,0,null,null,null,null,null,null,null,null,null,null,null,null,null,null,null,null,0,"0",null,null,0,null,{"$error":"#DIV/0!"},0,5]
["",53,53,{"$f":"Insert!A55","v":0},{"$f":"Insert!B55","v":0},{"$f":"Insert!C55","v":0},{"$f":"Insert!D55","v":0},{"$f":"Insert!E55","v":0},null,null,null,null,null,null,null,null,null,null,null,null,null,null,null,null,0,"0",null,null,null,null,null,null,null,null,null,null,null,null,null,null,null,null,0,"0",null,null,null,null,null,null,null,null,null,null,null,null,null,null,null,null,0,"0",null,null,null,null,null,null,null,null,null,null,null,null,null,null,null,null,0,"0",null,null,null,null,null,null,null,null,null,null,null,null,null,null,null,null,0,0,null,null,null,null,null,null,null,null,null,null,null,null,null,null,null,null,0,"0",null,null,0,null,{"$error":"#DIV/0!"},0,5]
["",54,54,{"$f":"Insert!A56","v":0},{"$f":"Insert!B56","v":0},{"$f":"Insert!C56","v":0},{"$f":"Insert!D56","v":0},{"$f":"Insert!E56","v":0},null,null,null,null,null,null,null,null,null,null,null,null,null,null,null,null,0,"0",null,null,null,null,null,null,null,null,null,null,null,null,null,null,null,null,0,"0",null,null,null,null,null,null,null,null,null,null,null,null,null,null,null,null,0,"0",null,null,null,null,null,null,null,null,null,null,null,null,null,null,null,null,0,"0",null,null,null,null,null,null,null,null,null,null,null,null,null,null,null,null,0,0,null,null,null,null,null,null,null,null,null,null,null,null,null,null,null,null,0,"0",null,null,0,null,{"$error":"#DIV/0!"},0,5]
["",55,55,{"$f":"Insert!A57","v":0},{"$f":"Insert!B57","v":0},{"$f":"Insert!C57","v":0},{"$f":"Insert!D57","v":0},{"$f":"Insert!E57","v":0},null,null,null,null,null,null,null,null,null,null,null,null,null,null,null,null,0,"0",null,null,null,null,null,null,null,null,null,null,null,null,null,null,null,null,0,"0",null,null,null,null,null,null,null,null,null,null,null,null,null,null,null,null,0,"0",null,null,null,null,null,null,null,null,null,null,null,null,null,null,null,null,0,"0",null,null,null,null,null,null,null,null,null,null,null,null,null,null,null,null,0,0,null,null,null,null,null,null,null,null,null,null,null,null,null,null,null,null,0,"0",null,null,0,null,{"$error":"#DIV/0!"},0,5]
["",56,56,{"$f":"Insert!A58","v":0},{"$f":"Insert!B58","v":0},{"$f":"Insert!C58","v":0},{"$f":"Insert!D58","v":0},{"$f":"Insert!E58","v":0},null,null,null,null,null,null,null,null,null,null,null,null,null,null,null,null,0,"0",null,null,null,null,null,null,null,null,null,null,null,null,null,null,null,null,0,"0",null,null,null,null,null,null,null,null,null,null,null,null,null,null,null,null,0,"0",null,null,null,null,null,null,null,null,null,null,null,null,null,null,null,null,0,"0",null,null,null,null,null,null,null,null,null,null,null,null,null,null,null,null,0,0,null,null,null,null,null,null,null,null,null,null,null,null,null,null,null,null,0,"0",null,null,0,null,{"$error":"#DIV/0!"},0,5]
["",57,57,{"$f":"Insert!A59","v":0},{"$f":"Insert!B59","v":0},{"$f":"Insert!C59","v":0},{"$f":"Insert!D59","v":0},{"$f":"Insert!E59","v":0},null,null,null,null,null,null,null,null,null,null,null,null,null,null,null,null,0,"0",null,null,null,null,null,null,null,null,null,null,null,null,null,null,null,null,0,"0",null,null,null,null,null,null,null,null,null,null,null,null,null,null,null,null,0,"0",null,null,null,null,null,null,null,null,null,null,null,null,null,null,null,null,0,"0",null,null,null,null,null,null,null,null,null,null,null,null,null,null,null,null,0,0,null,null,null,null,null,null,null,null,null,null,null,null,null,null,null,null,0,"0",null,null,0,null,{"$error":"#DIV/0!"},0,5]
["",58,58,{"$f":"Insert!A60","v":0},{"$f":"Insert!B60","v":0},{"$f":"Insert!C60","v":0},{"$f":"Insert!D60","v":0},{"$f":"Insert!E60","v":0},null,null,null,null,null,null,null,null,null,null,null,null,null,null,null,null,0,"0",null,null,null,null,null,null,null,null,null,null,null,null,null,null,null,null,0,"0",null,null,null,null,null,null,null,null,null,null,null,null,null,null,null,null,0,"0",null,null,null,null,null,null,null,null,null,null,null,null,null,null,null,null,0,"0",null,null,null,null,null,null,null,null,null,null,null,null,null,null,null,null,0,0,null,null,null,null,null,null,null,null,null,null,null,null,null,null,null,null,0,"0",null,null,0,null,{"$error":"#DIV/0!"},0,5]
["",59,59,{"$f":"Insert!A61","v":0},{"$f":"Insert!B61","v":0},{"$f":"Insert!C61","v":0},{"$f":"Insert!D61","v":0},{"$f":"Insert!E61","v":0},null,null,null,null,null,null,null,null,null,null,null,null,null,null,null,null,0,"0",null,null,null,null,null,null,null,null,null,null,null,null,null,null,null,null,0,"0",null,null,null,null,null,null,null,null,null,null,null,null,null,null,null,null,0,"0",null,null,null,null,null,null,null,null,null,null,null,null,null,null,null,null,0,"0",null,null,null,null,null,null,null,null,null,null,null,null,null,null,null,null,0,0,null,null,null,null,null,null,null,null,null,null,null,null,null,null,null,null,0,"0",null,null,0,null,{"$error":"#DIV/0!"},0,5]
["X",60,60,null,null,null,null,null,null,null,null,null,null,null,null,null,null,null,null,null,null,null,null,null,{"$f":"SUM(I75:X75)","v":0},{"$f":"IFERROR(ROUND((SUM(Y75*$Y$13)/10),0),\"0\")","v":"0"},null,null,null,null,null,null,null,null,null,null,null,null,null,null,null,null,{"$f":"SUM(AA75:AP75)","v":0},{"$f":"IFERROR(ROUND((SUM(AQ75*$AQ$13)/10),0),\"0\")","v":"0"},null,null,null,null,null,null,null,null,null,null,null,null,null,null,null,null,{"$f":"SUM(AS75:BH75)","v":0},{"$f":"IFERROR(ROUND((SUM(BI75*$BI$13)/10),0),\"0\")","v":"0"},null,null,null,null,null,null,null,null,null,null,null,null,null,null,null,null,{"$f":"SUM(BK75:BZ75)","v":0},{"$f":"IFERROR(ROUND((SUM(CA75*$CA$13)/10),0),\"0\")","v":"0"},null,null,null,null,null,null,null,null,null,null,null,null,null,null,null,null,{"$f":"SUM(CC75:CR75)","v":0},{"$f":"IFERROR(ROUND((SUM(CS75*$CS$13)/10),0),\"0\")","v":0},null,null,null,null,null,null,null,null,null,null,null,null,null,null,null,null,0,"0",null,null,0,null,{"$error":"#DIV/0!"},0,0]
["",61,61,{"$f":"Insert!A63","v":0},{"$f":"Insert!B63","v":0},{"$f":"Insert!C63","v":0},{"$f":"Insert!D63","v":0},{"$f":"Insert!E63","v":0},null,null,null,null,null,null,null,null,null,null,null,null,null,null,null,null,0,"0",null,null,null,null,null,null,null,null,null,null,null,null,null,null,null,null,0,"0",null,null,null,null,null,null,null,null,null,null,null,null,null,null,null,null,0,"0",null,null,null,null,null,null,null,null,null,null,null,null,null,null,null,null,0,"0",null,null,null,null,null,null,null,null,null,null,null,null,null,null,null,null,0,0,null,null,null,null,null,null,null,null,null,null,null,null,null,null,null,null,0,"0",null,null,0,null,{"$error":"#DIV/0!"},0,5]
["",62,62,{"$f":"Insert!A64","v":0},{"$f":"Insert!B64","v":0},{"$f":"Insert!C64","v":0},{"$f":"Insert!D64","v":0},{"$f":"Insert!E64","v":0},null,null,null,null,null,null,null,null,null,null,null,null,null,null,null,null,0,"0",null,null,null,null,null,null,null,null,null,null,null,null,null,null,null,null,0,"0",null,null,null,null,null,null,null,null,null,null,null,null,null,null,null,null,0,"0",null,null,null,null,null,null,null,null,null,null,null,null,null,null,null,null,0,"0",null,null,null,null,null,null,null,null,null,null,null,null,null,null,null,null,0,0,null,null,null,null,null,null,null,null,null,null,null,null,null,null,null,null,0,"0",null,null,0,null,{"$error":"#DIV/0!"},0,5]
["",63,63,{"$f":"Insert!A65","v":0},{"$f":"Insert!B65","v":0},{"$f":"Insert!C65","v":0},{"$f":"Insert!D65","v":0},{"$f":"Insert!E65","v":0},null,null,null,null,null,null,null,null,null,null,null,null,null,null,null,null,0,"0",null,null,null,null,null,null,null,null,null,null,null,null,null,null,null,null,0,"0",null,null,null,null,null,null,null,null,null,null,null,null,null,null,null,null,0,"0",null,null,null,null,null,null,null,null,null,null,null,null,null,null,null,null,0,"0",null,null,null,null,null,null,null,null,null,null,null,null,null,null,null,null,0,0,null,null,null,null,null,null,null,null,null,null,null,null,null,null,null,null,0,"0",null,null,0,null,{"$error":"#DIV/0!"},0,5]
["",64,64,{"$f":"Insert!A66","v":0},{"$f":"Insert!B66","v":0},{"$f":"Insert!C66","v":0},{"$f":"Insert!D66","v":0},{"$f":"Insert!E66","v":0},null,null,null,null,null,null,null,null,null,null,null,null,null,null,null,null,0,"0",null,null,null,null,null,null,null,null,null,null,null,null,null,null,null,null,0,"0",null,null,null,null,null,null,null,null,null,null,null,null,null,null,null,null,0,"0",null,null,null,null,null,null,null,null,null,null,null,null,null,null,null,null,0,"0",null,null,null,null,null,null,null,null,null,null,null,null,null,null,null,null,0,0,null,null,null,null,null,null,null,null,null,null,null,null,null,null,null,null,0,"0",null,null,{"$f":"ROUND(IF($DO$13=1,DQ79,IF($DO$13=2,(DR79+DQ79)/2)),0)","v":0},null,{"$error":"#DIV/0!"},0,5]
[{"$f":"IF(DS80=0,\"X\",\"\")","v":""},65,65,{"$f":"Insert!A67","v":0},{"$f":"Insert!B67","v":0},{"$f":"Insert!C67","v":0},{"$f":"Insert!D67","v":0},{"$f":"Insert!E67","v":0},null,null,null,null,null,null,null,null,null,null,null,null,null,null,null,null,{"$f":"SUM(I80:X80)","v":0},{"$f":"IFERROR(ROUND((SUM(Y80*$Y$13)/10),0),\"0\")","v":"0"},null,null,null,null,null,null,null,null,null,null,null,null,null,null,null,null,{"$f":"SUM(AA80:AP80)","v":0},{"$f":"IFERROR(ROUND((SUM(AQ80*$AQ$13)/10),0),\"0\")","v":"0"},null,null,null,null,null,null,null,null,null,null,null,null,null,null,null,null,{"$f":"SUM(AS80:BH80)","v":0},{"$f":"IFERROR(ROUND((SUM(BI80*$BI$13)/10),0),\"0\")","v":"0"},null,null,null,null,null,null,null,null,null,null,null,null,null,null,null,null,{"$f":"SUM(BK80:BZ80)","v":0},{"$f":"IFERROR(ROUND((SUM(CA80*$CA$13)/10),0),\"0\")","v":"0"},null,null,null,null,null,null,null,null,null,null,null,null,null,null,null,null,{"$f":"SUM(CC80:CR80)","v":0},{"$f":"IFERROR(ROUND((SUM(CS80*$CS$13)/10),0),\"0\")","v":0},null,null,null,null,null,null,null,null,null,null,null,null,null,null,null,null,{"$f":"SUM(CU80:DJ80)","v":0},{"$f":"IFERROR(ROUND((SUM(DK80*$DK$13)/10),0),\"0\")","v":"0"},null,null,0,null,{"$f":"ROUND(SUM(DM80*$DM$13),0)","v":{"$error":"#DIV/0!"}},{"$f":"ROUND(SUM(DN80*$DN$13),0)","v":0},5]
["",66,66,{"$f":"Insert!A68","v":0},{"$f":"Insert!B68","v":0},{"$f":"Insert!C68","v":0},{"$f":"Insert!D68","v":0},{"$f":"Insert!E68","v":0},null,null,null,null,null,null,null,null,null,null,null,null,null,null,null,null,0,"0",null,null,null,null,null,null,null,null,null,null,null,null,null,null,null,null,0,"0",null,null,null,null,null,null,null,null,null,null,null,null,null,null,null,null,0,"0",null,null,null,null,null,null,null,null,null,null,null,null,null,null,null,null,0,"0",null,null,null,null,null,null,null,null,null,null,null,null,null,null,null,null,0,0,null,null,null,null,null,null,null,null,null,null,null,null,null,null,null,null,0,"0",null,null,0,null,{"$error":"#DIV/0!"},0,{"$f":"COUNTA(D81:X81,AA81:AP81,AS81:BH81,BK81:BZ81,CC81:CR81,CU81:DJ81,DM81:DN81)","v":5}]
["",67,67,{"$f":"Insert!A69","v":0},{"$f":"Insert!B69","v":0},{"$f":"Insert!C69","v":0},{"$f":"Insert!D69","v":0},{"$f":"Insert!E69","v":0},null,null,null,null,null,null,null,null,null,null,null,null,null,null,null,null,0,"0",null,null,null,null,null,null,null,null,null,null,null,null,null,null,null,null,0,"0",null,null,null,null,null,null,null,null,null,null,null,null,null,null,null,null,0,"0",null,null,null,null,null,null,null,null,null,null,null,null,null,null,null,null,0,"0",null,null,null,null,null,null,null,null,null,null,null,null,null,null,null,null,0,0,null,null,null,null,null,null,null,null,null,null,null,null,null,null,null,null,0,"0",null,null,0,null,{"$error":"#DIV/0!"},0,5]
["",68,68,{"$f":"Insert!A70","v":0},{"$f":"Insert!B70","v":0},{"$f":"Insert!C70","v":0},{"$f":"Insert!D70","v":0},{"$f":"Insert!E70","v":0},null,null,null,null,null,null,null,null,null,null,null,null,null,null,null,null,0,"0",null,null,null,null,null,null,null,null,null,null,null,null,null,null,null,null,0,"0",null,null,null,null,null,null,null,null,null,null,null,null,null,null,null,null,0,"0",null,null,null,null,null,null,null,null,null,null,null,null,null,null,null,null,0,"0",null,null,null,null,null,null,null,null,null,null,null,null,null,null,null,null,0,0,null,null,null,null,null,null,null,null,null,null,null,null,null,null,null,null,0,"0",null,null,0,null,{"$error":"#DIV/0!"},0,5]
["",69,69,{"$f":"Insert!A71","v":0},{"$f":"Insert!B71","v":0},{"$f":"Insert!C71","v":0},{"$f":"Insert!D71","v":0},{"$f":"Insert!E71","v":0},null,null,null,null,null,null,null,null,null,null,null,null,null,null,null,null,0,"0",null,null,null,null,null,null,null,null,null,null,null,null,null,null,null,null,0,"0",null,null,null,null,null,null,null,null,null,null,null,null,null,null,null,null,0,"0",null,null,null,null,null,null,null,null,null,null,null,null,null,null,null,null,0,"0",null,null,null,null,null,null,null,null,null,null,null,null,null,null,null,null,0,0,null,null,null,null,null,null,null,null,null,null,null,null,null,null,null,null,0,"0",null,null,0,null,{"$error":"#DIV/0!"},0,5]
["",70,70,{"$f":"Insert!A72","v":0},{"$f":"Insert!B72","v":0},{"$f":"Insert!C72","v":0},{"$f":"Insert!D72","v":0},{"$f":"Insert!E72","v":0},null,null,null,null,null,null,null,null,null,null,null,null,null,null,null,null,0,"0",null,null,null,null,null,null,null,null,null,null,null,null,null,null,null,null,0,"0",null,null,null,null,null,null,null,null,null,null,null,null,null,null,null,null,0,"0",null,null,null,null,null,null,null,null,null,null,null,null,null,null,null,null,0,"0",null,null,null,null,null,null,null,null,null,null,null,null,null,null,null,null,0,0,null,null,null,null,null,null,null,null,null,null,null,null,null,null,null,null,0,"0",null,null,0,null,{"$error":"#DIV/0!"},0,5]
["",71,71,{"$f":"Insert!A73","v":0},{"$f":"Insert!B73","v":0},{"$f":"Insert!C73","v":0},{"$f":"Insert!D73","v":0},{"$f":"Insert!E73","v":0},null,null,null,null,null,null,null,null,null,null,null,null,null,null,null,null,0,"0",null,null,null,null,null,null,null,null,null,null,null,null,null,null,null,null,0,"0",null,null,null,null,null,null,null,null,null,null,null,null,null,null,null,null,0,"0",null,null,null,null,null,null,null,null,null,null,null,null,null,null,null,null,0,"0",null,null,null,null,null,null,null,null,null,null,null,null,null,null,null,null,0,0,null,null,null,null,null,null,null,null,null,null,null,null,null,null,null,null,0,"0",null,null,0,null,{"$error":"#DIV/0!"},0,5]
["",72,72,{"$f":"Insert!A74","v":0},{"$f":"Insert!B74","v":0},{"$f":"Insert!C74","v":0},{"$f":"Insert!D74","v":0},{"$f":"Insert!E74","v":0},null,null,null,null,null,null,null,null,null,null,null,null,null,null,null,null,0,"0",null,null,null,null,null,null,null,null,null,null,null,null,null,null,null,null,0,"0",null,null,null,null,null,null,null,null,null,null,null,null,null,null,null,null,0,"0",null,null,null,null,null,null,null,null,null,null,null,null,null,null,null,null,0,"0",null,null,null,null,null,null,null,null,null,null,null,null,null,null,null,null,0,0,null,null,null,null,null,null,null,null,null,null,null,null,null,null,null,null,0,"0",null,null,0,null,{"$error":"#DIV/0!"},0,5]
["",73,73,{"$f":"Insert!A75","v":0},{"$f":"Insert!B75","v":0},{"$f":"Insert!C75","v":0},{"$f":"Insert!D75","v":0},{"$f":"Insert!E75","v":0},null,null,null,null,null,null,null,null,null,null,null,null,null,null,null,null,0,"0",null,null,null,null,null,null,null,null,null,null,null,null,null,null,null,null,0,"0",null,null,null,null,null,null,null,null,null,null,null,null,null,null,null,null,0,"0",null,null,null,null,null,null,null,null,null,null,null,null,null,null,null,null,0,"0",null,null,null,null,null,null,null,null,null,null,null,null,null,null,null,null,0,0,null,null,null,null,null,null,null,null,null,null,null,null,null,null,null,null,0,"0",null,null,0,null,{"$error":"#DIV/0!"},0,5]
["",74,74,{"$f":"Insert!A76","v":0},{"$f":"Insert!B76","v":0},{"$f":"Insert!C76","v":0},{"$f":"Insert!D76","v":0},{"$f":"Insert!E76","v":0},null,null,null,null,null,null,null,null,null,null,null,null,null,null,null,null,0,"0",null,null,null,null,null,null,null,null,null,null,null,null,null,null,null,null,0,"0",null,null,null,null,null,null,null,null,null,null,null,null,null,null,null,null,0,"0",null,null,null,null,null,null,null,null,null,null,null,null,null,null,null,null,0,"0",null,null,null,null,null,null,null,null,null,null,null,null,null,null,null,null,0,0,null,null,null,null,null,null,null,null,null,null,null,null,null,null,null,null,0,"0",null,null,0,null,{"$error":"#DIV/0!"},0,5]
["",75,75,{"$f":"Insert!A77","v":0},{"$f":"Insert!B77","v":0},{"$f":"Insert!C77","v":0},{"$f":"Insert!D77","v":0},{"$f":"Insert!E77","v":0},null,null,null,null,null,null,null,null,null,null,null,null,null,null,null,null,0,"0",null,null,null,null,null,null,null,null,null,null,null,null,null,null,null,null,0,"0",null,null,null,null,null,null,null,null,null,null,null,null,null,null,null,null,0,"0",null,null,null,null,null,null,null,null,null,null,null,null,null,null,null,null,0,"0",null,null,null,null,null,null,null,null,null,null,null,null,null,null,null,null,0,0,null,null,null,null,null,null,null,null,null,null,null,null,null,null,null,null,0,"0",null,null,0,null,{"$error":"#DIV/0!"},0,5]
["",76,76,{"$f":"Insert!A78","v":0},{"$f":"Insert!B78","v":0},{"$f":"Insert!C78","v":0},{"$f":"Insert!D78","v":0},{"$f":"Insert!E78","v":0},null,null,null,null,null,null,null,null,null,null,null,null,null,null,null,null,0,"0",null,null,null,null,null,null,null,null,null,null,null,null,null,null,null,null,0,"0",null,null,null,null,null,null,null,null,null,null,null,null,null,null,null,null,0,"0",null,null,null,null,null,null,null,null,null,null,null,null,null,null,null,null,0,"0",null,null,null,null,null,null,null,null,null,null,null,null,null,null,null,null,0,0,null,null,null,null,null,null,null,null,null,null,null,null,null,null,null,null,0,"0",null,null,0,null,{"$error":"#DIV/0!"},0,5]
["",77,77,{"$f":"Insert!A79","v":0},{"$f":"Insert!B79","v":0},{"$f":"Insert!C79","v":0},{"$f":"Insert!D79","v":0},{"$f":"Insert!E79","v":0},null,null,null,null,null,null,null,null,null,null,null,null,null,null,null,null,0,"0",null,null,null,null,null,null,null,null,null,null,null,null,null,null,null,null,0,"0",null,null,null,null,null,null,null,null,null,null,null,null,null,null,null,null,0,"0",null,null,null,null,null,null,null,null,null,null,null,null,null,null,null,null,0,"0",null,null,null,null,null,null,null,null,null,null,null,null,null,null,null,null,0,0,null,null,null,null,null,null,null,null,null,null,null,null,null,null,null,null,0,"0",null,null,0,null,{"$error":"#DIV/0!"},0,5]
["",78,78,{"$f":"Insert!A80","v":0},{"$f":"Insert!B80","v":0},{"$f":"Insert!C80","v":0},{"$f":"Insert!D80","v":0},{"$f":"Insert!E80","v":0},null,null,null,null,null,null,null,null,null,null,null,null,null,null,null,null,0,"0",null,null,null,null,null,null,null,null,null,null,null,null,null,null,null,null,0,"0",null,null,null,null,null,null,null,null,null,null,null,null,null,null,null,null,0,"0",null,null,null,null,null,null,null,null,null,null,null,null,null,null,null,null,0,"0",null,null,null,null,null,null,null,null,null,null,null,null,null,null,null,null,0,0,null,null,null,null,null,null,null,null,null,null,null,null,null,null,null,null,0,"0",null,null,0,null,{"$error":"#DIV/0!"},0,5]
["",79,79,{"$f":"Insert!A81","v":0},{"$f":"Insert!B81","v":0},{"$f":"Insert!C81","v":0},{"$f":"Insert!D81","v":0},{"$f":"Insert!E81","v":0},null,null,null,null,null,null,null,null,null,null,null,null,null,null,null,null,0,"0",null,null,null,null,null,null,null,null,null,null,null,null,null,null,null,null,0,"0",null,null,null,null,null,null,null,null,null,null,null,null,null,null,null,null,0,"0",null,null,null,null,null,null,null,null,null,null,null,null,null,null,null,null,0,"0",null,null,null,null,null,null,null,null,null,null,null,null,null,null,null,null,0,0,null,null,null,null,null,null,null,null,null,null,null,null,null,null,null,null,0,"0",null,null,0,null,{"$error":"#DIV/0!"},0,5]
["",80,80,{"$f":"Insert!A82","v":0},{"$f":"Insert!B82","v":0},{"$f":"Insert!C82","v":0},{"$f":"Insert!D82","v":0},{"$f":"Insert!E82","v":0},null,null,null,null,null,null,null,null,null,null,null,null,null,null,null,null,0,"0",null,null,null,null,null,null,null,null,null,null,null,null,null,null,null,null,0,"0",null,null,null,null,null,null,null,null,null,null,null,null,null,null,null,null,0,"0",null,null,null,null,null,null,null,null,null,null,null,null,null,null,null,null,0,"0",null,null,null,null,null,null,null,null,null,null,null,null,null,null,null,null,0,0,null,null,null,null,null,null,null,null,null,null,null,null,null,null,null,null,0,"0",null,null,0,null,{"$error":"#DIV/0!"},0,5]
["",81,81,{"$f":"Insert!A83","v":0},{"$f":"Insert!B83","v":0},{"$f":"Insert!C83","v":0},{"$f":"Insert!D83","v":0},{"$f":"Insert!E83","v":0},null,null,null,null,null,null,null,null,null,null,null,null,null,null,null,null,0,"0",null,null,null,null,null,null,null,null,null,null,null,null,null,null,null,null,0,"0",null,null,null,null,null,null,null,null,null,null,null,null,null,null,null,null,0,"0",null,null,null,null,null,null,null,null,null,null,null,null,null,null,null,null,0,"0",null,null,null,null,null,null,null,null,null,null,null,null,null,null,null,null,0,0,null,null,null,null,null,null,null,null,null,null,null,null,null,null,null,null,0,"0",null,null,0,null,{"$error":"#DIV/0!"},0,5]
["",82,82,{"$f":"Insert!A84","v":0},{"$f":"Insert!B84","v":0},{"$f":"Insert!C84","v":0},{"$f":"Insert!D84","v":0},{"$f":"Insert!E84","v":0},null,null,null,null,null,null,null,null,null,null,null,null,null,null,null,null,0,"0",null,null,null,null,null,null,null,null,null,null,null,null,null,null,null,null,0,"0",null,null,null,null,null,null,null,null,null,null,null,null,null,null,null,null,0,"0",null,null,null,null,null,null,null,null,null,null,null,null,null,null,null,null,0,"0",null,null,null,null,null,null,null,null,null,null,null,null,null,null,null,null,0,0,null,null,null,null,null,null,null,null,null,null,null,null,null,null,null,null,0,"0",null,null,0,null,{"$error":"#DIV/0!"},0,5]
["",83,83,{"$f":"Insert!A85","v":0},{"$f":"Insert!B85","v":0},{"$f":"Insert!C85","v":0},{"$f":"Insert!D85","v":0},{"$f":"Insert!E85","v":0},null,null,null,null,null,null,null,null,null,null,null,null,null,null,null,null,0,"0",null,null,null,null,null,null,null,null,null,null,null,null,null,null,null,null,0,"0",null,null,null,null,null,null,null,null,null,null,null,null,null,null,null,null,0,"0",null,null,null,null,null,null,null,null,null,null,null,null,null,null,null,null,0,"0",null,null,null,null,null,null,null,null,null,null,null,null,null,null,null,null,0,0,null,null,null,null,null,null,null,null,null,null,null,null,null,null,null,null,0,"0",null,null,0,null,{"$error":"#DIV/0!"},0,5]
["",84,84,{"$f":"Insert!A86","v":0},{"$f":"Insert!B86","v":0},{"$f":"Insert!C86","v":0},{"$f":"Insert!D86","v":0},{"$f":"Insert!E86","v":0},null,null,null,null,null,null,null,null,null,null,null,null,null,null,null,null,0,"0",null,null,null,null,null,null,null,null,null,null,null,null,null,null,null,null,0,"0",null,null,null,null,null,null,null,null,null,null,null,null,null,null,null,null,0,"0",null,null,null,null,null,null,null,null,null,null,null,null,null,null,null,null,0,"0",null,null,null,null,null,null,null,null,null,null,null,null,null,null,null,null,0,0,null,null,null,null,null,null,null,null,null,null,null,null,null,null,null,null,0,"0",null,null,0,null,{"$error":"#DIV/0!"},0,5]
["",85,85,{"$f":"Insert!A87","v":0},{"$f":"Insert!B87","v":0},{"$f":"Insert!C87","v":0},{"$f":"Insert!D87","v":0},{"$f":"Insert!E87","v":0},null,null,null,null,null,null,null,null,null,null,null,null,null,null,null,null,0,"0",null,null,null,null,null,null,null,null,null,null,null,null,null,null,null,null,0,"0",null,null,null,null,null,null,null,null,null,null,null,null,null,null,null,null,0,"0",null,null,null,null,null,null,null,null,null,null,null,null,null,null,null,null,0,"0",null,null,null,null,null,null,null,null,null,null,null,null,null,null,null,null,0,0,null,null,null,null,null,null,null,null,null,null,null,null,null,null,null,null,0,"0",null,null,0,null,{"$error":"#DIV/0!"},0,5]
["",86,86,{"$f":"Insert!A88","v":0},{"$f":"Insert!B88","v":0},{"$f":"Insert!C88","v":0},{"$f":"Insert!D88","v":0},{"$f":"Insert!E88","v":0},null,null,null,null,null,null,null,null,null,null,null,null,null,null,null,null,0,"0",null,null,null,null,null,null,null,null,null,null,null,null,null,null,null,null,0,"0",null,null,null,null,null,null,null,null,null,null,null,null,null,null,null,null,0,"0",null,null,null,null,null,null,null,null,null,null,null,null,null,null,null,null,0,"0",null,null,null,null,null,null,null,null,null,null,null,null,null,null,null,null,0,0,null,null,null,null,null,null,null,null,null,null,null,null,null,null,null,null,0,"0",null,null,0,null,{"$error":"#DIV/0!"},0,5]
["",87,87,{"$f":"Insert!A89","v":0},{"$f":"Insert!B89","v":0},{"$f":"Insert!C89","v":0},{"$f":"Insert!D89","v":0},{"$f":"Insert!E89","v":0},null,null,null,null,null,null,null,null,null,null,null,null,null,null,null,null,0,"0",null,null,null,null,null,null,null,null,null,null,null,null,null,null,null,null,0,"0",null,null,null,null,null,null,null,null,null,null,null,null,null,null,null,null,0,"0",null,null,null,null,null,null,null,null,null,null,null,null,null,null,null,null,0,"0",null,null,null,null,null,null,null,null,null,null,null,null,null,null,null,null,0,0,null,null,null,null,null,null,null,null,null,null,null,null,null,null,null,null,0,"0",null,null,0,null,{"$error":"#DIV/0!"},0,5]
["",88,88,{"$f":"Insert!A90","v":0},{"$f":"Insert!B90","v":0},{"$f":"Insert!C90","v":0},{"$f":"Insert!D90","v":0},{"$f":"Insert!E90","v":0},null,null,null,null,null,null,null,null,null,null,null,null,null,null,null,null,0,"0",null,null,null,null,null,null,null,null,null,null,null,null,null,null,null,null,0,"0",null,null,null,null,null,null,null,null,null,null,null,null,null,null,null,null,0,"0",null,null,null,null,null,null,null,null,null,null,null,null,null,null,null,null,0,"0",null,null,null,null,null,null,null,null,null,null,null,null,null,null,null,null,0,0,null,null,null,null,null,null,null,null,null,null,null,null,null,null,null,null,0,"0",null,null,0,null,{"$error":"#DIV/0!"},0,5]
["",89,89,{"$f":"Insert!A91","v":0},{"$f":"Insert!B91","v":0},{"$f":"Insert!C91","v":0},{"$f":"Insert!D91","v":0},{"$f":"Insert!E91","v":0},null,null,null,null,null,null,null,null,null,null,null,null,null,null,null,null,0,"0",null,null,null,null,null,null,null,null,null,null,null,null,null,null,null,null,0,"0",null,null,null,null,null,null,null,null,null,null,null,null,null,null,null,null,0,"0",null,null,null,null,null,null,null,null,null,null,null,null,null,null,null,null,0,"0",null,null,null,null,null,null,null,null,null,null,null,null,null,null,null,null,0,0,null,null,null,null,null,null,null,null,null,null,null,null,null,null,null,null,0,"0",null,null,0,null,{"$error":"#DIV/0!"},0,5]
["",90,90,{"$f":"Insert!A92","v":0},{"$f":"Insert!B92","v":0},{"$f":"Insert!C92","v":0},{"$f":"Insert!D92","v":0},{"$f":"Insert!E92","v":0},null,null,null,null,null,null,null,null,null,null,null,null,null,null,null,null,0,"0",null,null,null,null,null,null,null,null,null,null,null,null,null,null,null,null,0,"0",null,null,null,null,null,null,null,null,null,null,null,null,null,null,null,null,0,"0",null,null,null,null,null,null,null,null,null,null,null,null,null,null,null,null,0,"0",null,null,null,null,null,null,null,null,null,null,null,null,null,null,null,null,0,0,null,null,null,null,null,null,null,null,null,null,null,null,null,null,null,null,0,"0",null,null,0,null,{"$error":"#DIV/0!"},0,5]
["",91,91,{"$f":"Insert!A93","v":0},{"$f":"Insert!B93","v":0},{"$f":"Insert!C93","v":0},{"$f":"Insert!D93","v":0},{"$f":"Insert!E93","v":0},null,null,null,null,null,null,null,null,null,null,null,null,null,null,null,null,0,"0",null,null,null,null,null,null,null,null,null,null,null,null,null,null,null,null,0,"0",null,null,null,null,null,null,null,null,null,null,null,null,null,null,null,null,0,"0",null,null,null,null,null,null,null,null,null,null,null,null,null,null,null,null,0,"0",null,null,null,null,null,null,null,null,null,null,null,null,null,null,null,null,0,0,null,null,null,null,null,null,null,null,null,null,null,null,null,null,null,null,0,"0",null,null,0,null,{"$error":"#DIV/0!"},0,5]
["",92,92,{"$f":"Insert!A94","v":0},{"$f":"Insert!B94","v":0},{"$f":"Insert!C94","v":0},{"$f":"Insert!D94","v":0},{"$f":"Insert!E94","v":0},null,null,null,null,null,null,null,null,null,null,null,null,null,null,null,null,0,"0",null,null,null,null,null,null,null,null,null,null,null,null,null,null,null,null,0,"0",null,null,null,null,null,null,null,null,null,null,null,null,null,null,null,null,0,"0",null,null,null,null,null,null,null,null,null,null,null,null,null,null,null,null,0,"0",null,null,null,null,null,null,null,null,null,null,null,null,null,null,null,null,0,0,null,null,null,null,null,null,null,null,null,null,null,null,null,null,null,null,0,"0",null,null,0,null,{"$error":"#DIV/0!"},0,5]
["",93,93,{"$f":"Insert!A95","v":0},{"$f":"Insert!B95","v":0},{"$f":"Insert!C95","v":0},{"$f":"Insert!D95","v":0},{"$f":"Insert!E95","v":0},null,null,null,null,null,null,null,null,null,null,null,null,null,null,null,null,0,"0",null,null,null,null,null,null,null,null,null,null,null,null,null,null,null,null,0,"0",null,null,null,null,null,null,null,null,null,null,null,null,null,null,null,null,0,"0",null,null,null,null,null,null,null,null,null,null,null,null,null,null,null,null,0,"0",null,null,null,null,null,null,null,null,null,null,null,null,null,null,null,null,0,0,null,null,null,null,null,null,null,null,null,null,null,null,null,null,null,null,0,"0",null,null,0,null,{"$error":"#DIV/0!"},0,5]
["",94,94,{"$f":"Insert!A96","v":0},{"$f":"Insert!B96","v":0},{"$f":"Insert!C96","v":0},{"$f":"Insert!D96","v":0},{"$f":"Insert!E96","v":0},null,null,null,null,null,null,null,null,null,null,null,null,null,null,null,null,0,"0",null,null,null,null,null,null,null,null,null,null,null,null,null,null,null,null,0,"0",null,null,null,null,null,null,null,null,null,null,null,null,null,null,null,null,0,"0",null,null,null,null,null,null,null,null,null,null,null,null,null,null,null,null,0,"0",null,null,null,null,null,null,null,null,null,null,null,null,null,null,null,null,0,0,null,null,null,null,null,null,null,null,null,null,null,null,null,null,null,null,0,"0",null,null,0,null,{"$error":"#DIV/0!"},0,5]
["",95,95,{"$f":"Insert!A97","v":0},{"$f":"Insert!B97","v":0},{"$f":"Insert!C97","v":0},{"$f":"Insert!D97","v":0},{"$f":"Insert!E97","v":0},null,null,null,null,null,null,null,null,null,null,null,null,null,null,null,null,0,"0",null,null,null,null,null,null,null,null,null,null,null,null,null,null,null,null,0,"0",null,null,null,null,null,null,null,null,null,null,null,null,null,null,null,null,0,"0",null,null,null,null,null,null,null,null,null,null,null,null,null,null,null,null,0,"0",null,null,null,null,null,null,null,null,null,null,null,null,null,null,null,null,0,0,null,null,null,null,null,null,null,null,null,null,null,null,null,null,null,null,0,"0",null,null,0,null,{"$error":"#DIV/0!"},0,5]
["",96,96,{"$f":"Insert!A98","v":0},{"$f":"Insert!B98","v":0},{"$f":"Insert!C98","v":0},{"$f":"Insert!D98","v":0},{"$f":"Insert!E98","v":0},null,null,null,null,null,null,null,null,null,null,null,null,null,null,null,null,0,"0",null,null,null,null,null,null,null,null,null,null,null,null,null,null,null,null,0,"0",null,null,null,null,null,null,null,null,null,null,null,null,null,null,null,null,0,"0",null,null,null,null,null,null,null,null,null,null,null,null,null,null,null,null,0,"0",null,null,null,null,null,null,null,null,null,null,null,null,null,null,null,null,0,0,null,null,null,null,null,null,null,null,null,null,null,null,null,null,null,null,0,"0",null,null,0,null,{"$error":"#DIV/0!"},0,5]
["",97,97,{"$f":"Insert!A99","v":0},{"$f":"Insert!B99","v":0},{"$f":"Insert!C99","v":0},{"$f":"Insert!D99","v":0},{"$f":"Insert!E99","v":0},null,null,null,null,null,null,null,null,null,null,null,null,null,null,null,null,{"$f":"SUM(I112:X112)","v":0},{"$f":"IFERROR(ROUND((SUM(Y112*$Y$13)/10),0),\"0\")","v":"0"},null,null,null,null,null,null,null,null,null,null,null,null,null,null,null,null,{"$f":"SUM(AA112:AP112)","v":0},{"$f":"IFERROR(ROUND((SUM(AQ112*$AQ$13)/10),0),\"0\")","v":"0"},null,null,null,null,null,null,null,null,null,null,null,null,null,null,null,null,{"$f":"SUM(AS112:BH112)","v":0},{"$f":"IFERROR(ROUND((SUM(BI112*$BI$13)/10),0),\"0\")","v":"0"},null,null,null,null,null,null,null,null,null,null,null,null,null,null,null,null,{"$f":"SUM(BK112:BZ112)","v":0},{"$f":"IFERROR(ROUND((SUM(CA112*$CA$13)/10),0),\"0\")","v":"0"},null,null,null,null,null,null,null,null,null,null,null,null,null,null,null,null,{"$f":"SUM(CC112:CR112)","v":0},{"$f":"IFERROR(ROUND((SUM(CS112*$CS$13)/10),0),\"0\")","v":0},null,null,null,null,null,null,null,null,null,null,null,null,null,null,null,null,{"$f":"SUM(CU112:DJ112)","v":0},{"$f":"IFERROR(ROUND((SUM(DK112*$DK$13)/10),0),\"0\")","v":"0"},null,null,0,null,{"$error":"#DIV/0!"},0,5]
["",98,98,{"$f":"Insert!A100","v":0},{"$f":"Insert!B100","v":0},{"$f":"Insert!C100","v":0},{"$f":"Insert!D100","v":0},{"$f":"Insert!E100","v":0},null,null,null,null,null,null,null,null,null,null,null,null,null,null,null,null,0,"0",null,null,null,null,null,null,null,null,null,null,null,null,null,null,null,null,0,"0",null,null,null,null,null,null,null,null,null,null,null,null,null,null,null,null,0,"0",null,null,null,null,null,null,null,null,null,null,null,null,null,null,null,null,0,"0",null,null,null,null,null,null,null,null,null,null,null,null,null,null,null,null,0,0,null,null,null,null,null,null,null,null,null,null,null,null,null,null,null,null,0,"0",null,null,0,null,{"$error":"#DIV/0!"},0,5]
["",99,99,{"$f":"Insert!A101","v":0},{"$f":"Insert!B101","v":0},{"$f":"Insert!C101","v":0},{"$f":"Insert!D101","v":0},{"$f":"Insert!E101","v":0},null,null,null,null,null,null,null,null,null,null,null,null,null,null,null,null,0,"0",null,null,null,null,null,null,null,null,null,null,null,null,null,null,null,null,0,"0",null,null,null,null,null,null,null,null,null,null,null,null,null,null,null,null,0,"0",null,null,null,null,null,null,null,null,null,null,null,null,null,null,null,null,0,"0",null,null,null,null,null,null,null,null,null,null,null,null,null,null,null,null,0,0,null,null,null,null,null,null,null,null,null,null,null,null,null,null,null,null,0,"0",null,null,0,null,{"$error":"#DIV/0!"},0,5]
["",100,100,{"$f":"Insert!A102","v":0},{"$f":"Insert!B102","v":0},{"$f":"Insert!C102","v":0},{"$f":"Insert!D102","v":0},{"$f":"Insert!E102","v":0},null,null,null,null,null,null,null,null,null,null,null,null,null,null,null,null,0,"0",null,null,null,null,null,null,null,null,null,null,null,null,null,null,null,null,0,"0",null,null,null,null,null,null,null,null,null,null,null,null,null,null,null,null,0,"0",null,null,null,null,null,null,null,null,null,null,null,null,null,null,null,null,0,"0",null,null,null,null,null,null,null,null,null,null,null,null,null,null,null,null,0,0,null,null,null,null,null,null,null,null,null,null,null,null,null,null,null,null,0,"0",null,null,0,null,{"$error":"#DIV/0!"},0,5]
[]
[null,null,null,null,null,0,"TOTAL",null,{"$f":"SUMIF(I16:I115,\">0\")","v":0},0,0,0,0,{"$f":"SUMIF(N16:N115,\">0\")","v":0},0,0,0,0,0,0,0,0,0,0,{"$f":"SUM(I117:X117)","v":0},{"$f":"SUM(Z16:Z115)","v":0},{"$f":"SUMIF(AA16:AA115,\">0\")","v":0},0,0,0,{"$f":"SUMIF(AE16:AE115,\">0\")","v":0},0,0,0,0,0,0,0,0,0,0,0,{"$f":"SUM(AA117:AP117)","v":0},{"$f":"SUM(AR16:AR115)","v":0},{"$f":"SUMIF(AS16:AS115,\">0\")","v":0},0,0,0,{"$f":"SUMIF(AW16:AW115,\">0\")","v":0},0,0,0,0,0,0,0,0,0,0,0,{"$f":"SUM(AS117:BH117)","v":0},{"$f":"SUM(BJ16:BJ115)","v":0},{"$f":"SUMIF(BK16:BK115,\">0\")","v":0},0,0,0,{"$f":"SUMIF(BO16:BO115,\">0\")","v":0},0,0,0,0,0,0,0,0,0,0,0,{"$f":"SUM(BK117:BZ117)","v":0},{"$f":"SUM(CB16:CB115)","v":0},{"$f":"SUMIF(CC16:CC115,\">0\")","v":0},0,0,0,{"$f":"SUMIF(CG16:CG115,\">0\")","v":0},0,0,0,0,0,0,0,0,0,0,0,{"$f":"SUM(CC117:CR117)","v":0},{"$f":"SUM(CT16:CT115)","v":0},{"$f":"SUMIF(CU16:CU115,\">0\")","v":0},{"$f":"SUMIF(CV16:CV115,\">0\")","v":0},0,0,{"$f":"SUMIF(CY16:CY115,\">0\")","v":0},0,0,0,0,0,0,0,0,0,0,0,{"$f":"SUM(CU117:DJ117)","v":0},{"$f":"SUM(DL16:DL115)","v":0},{"$f":"SUMIF(DM16:DM115,\">0\")","v":0},{"$f":"SUMIF(DN16:DN115,\">0\")","v":0},{"$f":"SUMIF(DO16:DO115,\">0\")","v":0}]
[null,null,null,null,null,0,"AVERAGE",null,{"$f":"IFERROR(SUM(I117/$B$120),\"0\")","v":"0"},"0","0","0","0",{"$f":"IFERROR(SUM(N117/$B$120),\"0\")","v":"0"},"0","0","0","0","0","0","0","0","0","0",0,{"$f":"IFERROR(SUM(Z117/$B$120),\"0\")","v":"0"},"0","0","0","0",{"$f":"IFERROR(SUM(AE117/$B$120),\"0\")","v":"0"},"0","0","0","0","0","0","0","0","0","0","0",{"$f":"SUM(AA118:AP118)","v":0},{"$f":"IFERROR(SUM(AR117/$B$120),\"0\")","v":"0"},"0","0","0","0",{"$f":"IFERROR(SUM(AW117/$B$120),\"0\")","v":"0"},"0","0","0","0","0","0","0","0","0","0","0",0,{"$f":"IFERROR(SUM(BJ117/$B$120),\"0\")","v":"0"},"0","0","0","0",{"$f":"IFERROR(SUM(BO117/$B$120),\"0\")","v":"0"},"0","0","0","0","0","0","0","0","0","0","0",0,{"$f":"IFERROR(SUM(CB117/$B$120),\"0\")","v":"0"},"0","0","0","0",{"$f":"IFERROR(SUM(CG117/$B$120),\"0\")","v":"0"},"0","0","0","0","0","0","0","0","0","0","0",0,{"$f":"IFERROR(SUM(CT117/$B$120),\"0\")","v":"0"},"0","0","0","0",{"$f":"IFERROR(SUM(CY117/$B$120),\"0\")","v":"0"},"0","0","0","0","0","0","0","0","0","0","0",0,{"$f":"IFERROR(SUM(DL117/$B$120),\"0\")","v":"0"},"0","0","0"]
[null,null,null,null,null,0,"PERCENTAGE",null,{"$f":"IFERROR(ROUND((SUM(I118/I12)*100),0),\"0\")","v":"0"},"0","0","0","0","0","0","0","0","0","0","0","0","0","0","0",0,{"$f":"IFERROR(ROUND((SUM(Z118/Z12)*100),0),\"0\")","v":0},{"$f":"IFERROR(ROUND((SUM(AA118/AA12)*100),0),\"0\")","v":"0"},{"$f":"IFERROR(ROUND((SUM(AB118/AB12)*100),0),\"0\")","v":"0"},{"$f":"IFERROR(ROUND((SUM(AC118/AC12)*100),0),\"0\")","v":"0"},{"$f":"IFERROR(ROUND((SUM(AD118/AD12)*100),0),\"0\")","v":"0"},{"$f":"IFERROR(ROUND((SUM(AE118/AE12)*100),0),\"0\")","v":"0"},"0","0","0","0","0","0","0","0","0",{"$f":"IFERROR(ROUND((SUM(AO118/AO12)*100),0),\"0\")","v":"0"},{"$f":"IFERROR(ROUND((SUM(AP118/AP12)*100),0),\"0\")","v":"0"},0,{"$f":"IFERROR(ROUND((SUM(AR118/AR12)*100),0),\"0\")","v":0},{"$f":"IFERROR(ROUND((SUM(AS118/AS12)*100),0),\"0\")","v":"0"},{"$f":"IFERROR(ROUND((SUM(AT118/AT12)*100),0),\"0\")","v":"0"},{"$f":"IFERROR(ROUND((SUM(AU118/AU12)*100),0),\"0\")","v":"0"},{"$f":"IFERROR(ROUND((SUM(AV118/AV12)*100),0),\"0\")","v":"0"},{"$f":"IFERROR(ROUND((SUM(AW118/AW12)*100),0),\"0\")","v":"0"},"0","0","0","0","0","0","0","0","0",{"$f":"IFERROR(ROUND((SUM(BG118/BG12)*100),0),\"0\")","v":"0"},{"$f":"IFERROR(ROUND((SUM(BH118/BH12)*100),0),\"0\")","v":"0"},0,{"$f":"IFERROR(ROUND((SUM(BJ118/BJ12)*100),0),\"0\")","v":0},{"$f":"IFERROR(ROUND((SUM(BK118/BK12)*100),0),\"0\")","v":"0"},{"$f":"IFERROR(ROUND((SUM(BL118/BL12)*100),0),\"0\")","v":"0"},{"$f":"IFERROR(ROUND((SUM(BM118/BM12)*100),0),\"0\")","v":"0"},{"$f":"IFERROR(ROUND((SUM(BN118/BN12)*100),0),\"0\")","v":"0"},{"$f":"IFERROR(ROUND((SUM(BO118/BO12)*100),0),\"0\")","v":"0"},"0","0","0","0","0","0","0","0","0",{"$f":"IFERROR(ROUND((SUM(BY118/BY12)*100),0),\"0\")","v":"0"},{"$f":"IFERROR(ROUND((SUM(BZ118/BZ12)*100),0),\"0\")","v":"0"},0,{"$f":"IFERROR(ROUND((SUM(CB118/CB12)*100),0),\"0\")","v":0},{"$f":"IFERROR(ROUND((SUM(CC118/CC12)*100),0),\"0\")","v":0},{"$f":"IFERROR(ROUND((SUM(CD118/CD12)*100),0),\"0\")","v":"0"},{"$f":"IFERROR(ROUND((SUM(CE118/CE12)*100),0),\"0\")","v":"0"},{"$f":"IFERROR(ROUND((SUM(CF118/CF12)*100),0),\"0\")","v":"0"},{"$f":"IFERROR(ROUND((SUM(CG118/CG12)*100),0),\"0\")","v":"0"},"0","0","0","0","0","0","0","0","0",{"$f":"IFERROR(ROUND((SUM(CQ118/CQ12)*100),0),\"0\")","v":"0"},{"$f":"IFERROR(ROUND((SUM(CR118/CR12)*100),0),\"0\")","v":"0"},0,{"$f":"IFERROR(ROUND((SUM(CT118/CT12)*100),0),\"0\")","v":0},{"$f":"IFERROR(ROUND((SUM(CU118/CU12)*100),0),\"0\")","v":"0"},{"$f":"IFERROR(ROUND((SUM(CV118/CV12)*100),0),\"0\")","v":"0"},{"$f":"IFERROR(ROUND((SUM(CW118/CW12)*100),0),\"0\")","v":"0"},{"$f":"IFERROR(ROUND((SUM(CX118/CX12)*100),0),\"0\")","v":"0"},{"$f":"IFERROR(ROUND((SUM(CY118/CY12)*100),0),\"0\")","v":"0"},"0","0","0","0","0","0","0","0","0",{"$f":"IFERROR(ROUND((SUM(DI118/DI12)*100),0),\"0\")","v":"0"},{"$f":"IFERROR(ROUND((SUM(DJ118/DJ12)*100),0),\"0\")","v":"0"},0,{"$f":"IFERROR(ROUND((SUM(DL118/DL12)*100),0),\"0\")","v":0},"0","0",0]
[null,{"$f":"Insert!$F$103","v":0},null,null,null,0,"TOTAL HANDED IN",null,{"$f":"COUNT(I16:I115)","v":0},{"$f":"COUNT(J16:J115)","v":0},{"$f":"COUNT(K16:K115)","v":0},{"$f":"COUNT(L16:L115)","v":0},0,{"$f":"COUNT(N16:N115)","v":0},0,0,0,0,0,0,0,0,0,0,null,null,{"$f":"COUNT(AA16:AA115)","v":0},{"$f":"COUNT(AB16:AB115)","v":0},{"$f":"COUNT(AC16:AC115)","v":0},{"$f":"COUNT(AD16:AD115)","v":0},{"$f":"COUNT(AE16:AE115)","v":0},0,0,0,0,0,0,0,0,0,0,0,null,null,{"$f":"COUNT(AS16:AS115)","v":0},{"$f":"COUNT(AT16:AT115)","v":0},{"$f":"COUNT(AU16:AU115)","v":0},{"$f":"COUNT(AV16:AV115)","v":0},{"$f":"COUNT(AW16:AW115)","v":0},0,0,0,0,0,0,0,0,0,0,0,null,null,{"$f":"COUNT(BK16:BK115)","v":0},{"$f":"COUNT(BL16:BL115)","v":0},{"$f":"COUNT(BM16:BM115)","v":0},{"$f":"COUNT(BN16:BN115)","v":0},{"$f":"COUNT(BO16:BO115)","v":0},0,0,0,0,0,0,0,0,0,0,0,null,null,{"$f":"COUNT(CC16:CC115)","v":0},{"$f":"COUNT(CD16:CD115)","v":0},{"$f":"COUNT(CE16:CE115)","v":0},{"$f":"COUNT(CF16:CF115)","v":0},{"$f":"COUNT(CG16:CG115)","v":0},0,0,0,0,0,0,0,0,0,0,0,null,null,{"$f":"COUNT(CU16:CU115)","v":0},{"$f":"COUNT(CV16:CV115)","v":0},{"$f":"COUNT(CW16:CW115)","v":0},{"$f":"COUNT(CX16:CX115)","v":0},{"$f":"COUNT(CY16:CY115)","v":0},0,0,0,0,0,0,0,0,0,0,0,null,null,{"$f":"COUNT(DM16:DM115)","v":0},{"$f":"COUNT(DN16:DN115)","v":0}]

{"sheet":"TERM2","index":4,"n_rows":122,"n_cols":103,"rows_kept":122,"cut":false,"hidden":false,"merged":[[4,102,14,102],[2,90,2,95],[3,90,3,95],[2,84,2,89],[3,84,3,89],[4,85,10,85],[3,80,3,83],[4,99,14,99],[4,100,14,100],[4,101,14,101],[4,95,10,95],[4,89,10,89],[4,93,10,93],[4,94,10,94],[4,91,10,91],[4,92,10,92],[4,88,10,88],[4,90,10,90],[4,82,10,82],[4,84,10,84],[4,86,10,86],[4,87,10,87],[4,43,10,43],[4,8,9,8],[4,9,9,9],[4,10,9,10],[4,24,10,24],[4,25,10,25],[4,42,10,42],[4,41,9,41],[4,22,9,22],[4,23,9,23],[4,29,9,29],[4,40,9,40],[4,26,9,26],[4,27,9,27],[4,28,9,28],[4,76,9,76],[4,77,9,77],[4,63,9,63],[4,64,9,64],[4,78,10,78],[4,62,9,62],[4,47,9,47],[4,58,9,58],[4,59,9,59],[4,65,9,65],[4,44,9,44],[4,45,9,45],[4,46,9,46],[4,60,10,60],[4,61,10,61],[121,86,121,87],[119,84,119,85],[120,84,120,85],[121,84,121,85],[4,79,10,79],[4,80,10,80],[121,82,121,83],[121,80,121,81],[4,81,10,81],[4,83,10,83],[121,90,121,91],[119,92,119,93],[120,92,120,93],[121,92,121,93],[121,88,121,89],[119,90,119,91],[120,90,120,91],[119,88,119,89],[120,88,120,89],[118,1,118,4],[120,82,120,83],[119,86,119,87],[120,86,120,87],[115,1,117,4],[120,80,120,81],[119,82,119,83],[119,80,119,81],[10,1,10,4],[10,5,10,6],[9,1,9,4],[9,5,9,6],[4,11,9,11],[4,1,4,4],[5,1,5,4]]}
[]
[null,"ENGINEERING GRAPHICS AND DESIGN"]
[null,null,null,null,null,null,null,null,"PROGRAM OF ASSESSMENT  :  TERM 2",null,null,null,null,null,null,null,null,null,null,null,null,null,null,null,null,null,null,null,null,null,null,null,null,null,null,null,null,null,null,null,null,null,null,null,null,null,null,null,null,null,null,null,null,null,null,null,null,null,null,null,null,null,null,null,null,null,null,null,null,null,null,null,null,null,null,null,null,null,null,null,null,null,null,null,"JUNE EXAM",null,null,null,null,null,"JUNE EXAM"]
[null,null,null,null,null,null,null,null,"CD7 Isometric",null,null,null,null,null,null,null,null,null,null,null,null,null,null,null,null,null,"CD8 Solid Geometry",null,null,null,null,null,null,null,null,null,null,null,null,null,null,null,null,null,"CD9  Interpenetration & Development (Two Prisms)",null,null,null,null,null,null,null,null,null,null,null,null,null,null,null,null,null,"CD10 2nd Mechanical Assembly",null,null,null,null,null,null,null,null,null,null,null,null,null,null,null,null,null,"JUNE EXAM",null,null,null,"PAPER 1",null,null,null,null,null,"PAPER 2"]
[23,"School:",null,null,null,{"$f":"Insert!J3","v":0},null,null,"CD 7.1","CD 7.2","CD 7.3",null,null,null,null,null,null,null,null,null,null,null,null,null,"TOTAL CD7","TOTAL","CD 8.1","CD 8.2","CD 8.3",null,null,null,null,null,null,null,null,null,null,null,null,null,"TOTAL CD8","TOTAL","CD 9.1","CD 9.2","CD 9.3",null,null,null,null,null,null,null,null,null,null,null,null,null,"TOTAL CD9","TOTAL","CD 10.1","CD 10.2","CD 10.3",null,null,null,null,null,null,null,null,null,null,null,null,null,"TOTAL CD10","TOTAL","PAPER 1","PAPER 2","EXAM TOTAL","LEVELS","Question 1","Question 2","Question 3","Question 4","TOTAL","TOTAL = 100","Question 1","Question 2","Question 3","Question 4","TOTAL","TOTAL = 80",null,null,null,"Helper Test 1","Helper Test 2","Helper Count Course drawings","Helper for Exam Levels"]
[null,"Grade:",null,null,null,{"$f":"Insert!J4","v":0}]
[null,null,null,null,"Teacher:",{"$f":"Insert!J5","v":0}]
[null,null,null,null,"HOD:",{"$f":"Insert!J6","v":0}]
[null,null,null,null,"EGD SES:",{"$f":"Insert!J7","v":0}]
[]
[null,null,null,null,null,null,null,null,7.1,7.2,7.3,7.4,7.5,7.6,7.7,7.8,7.9,7.1,7.11,7.12,7.13,7.14,7.15,7.16,null,null,8.1,8.1999999999999993,8.3000000000000007,8.4,8.5,8.6,8.6999999999999993,8.8000000000000007,8.9,8.1,8.11,8.1199999999999992,8.1300000000000008,8.14,8.15,8.16,null,null,9.1,9.1999999999999993,9.3000000000000007,9.4,9.5,9.6,9.6999999999999993,9.8000000000000007,9.9,9.1,9.11,9.1199999999999992,9.1300000000000008,9.14,9.15,9.16,null,null,10.1,10.199999999999999,10.3,10.4,10.5,10.6,10.7,10.8,10.9,10.1,10.11,10.119999999999999,10.130000000000001,10.14,10.15,10.16]
[null,null,null,"Class","Admission","SURNAME","NAME","Gender",null,null,null,null,null,null,null,null,null,null,null,null,null,null,null,null,{"$f":"SUM(I12:X13)","v":0},10,null,null,null,null,null,null,null,null,null,null,null,null,null,null,null,null,{"$f":"SUM(AA12:AP13)","v":0},10,null,null,null,null,null,null,null,null,null,null,null,null,null,null,null,null,{"$f":"SUM(AS12:BH12)","v":0},10,null,null,null,null,null,null,null,null,null,null,null,null,null,null,null,null,{"$f":"SUM(BK12:BZ12)","v":0},10,{"$f":"$CL$12","v":100},{"$f":"$CR$12","v":80},{"$f":"SUM(CC12:CD12)","v":180},null,30,36,40,94,{"$f":"SUM(CG12:CJ12)","v":200},{"$f":"ROUND(SUM(CK12*$CK$13),0)","v":100},30,30,37,103,{"$f":"SUM(CM12:CP12)","v":200},{"$f":"ROUND(SUM(CQ12*$CQ$13),0)","v":80}]
[null,null,null,null,null,null,null,null,{"$f":"IF(I12>0,\"\",\"X\")","v":"X"},{"$f":"IF(J12>0,\"\",\"X\")","v":"X"},"X","X","X","X","X","X","X","X","X","X","X","X","X","X",{"$f":"SUM(100/Y12)","v":{"$error":"#DIV/0!"}},null,{"$f":"IF(AA12>0,\"\",\"X\")","v":"X"},"X","X","X","X","X","X","X","X","X","X","X","X","X","X","X",{"$f":"SUM(100/AQ12)","v":{"$error":"#DIV/0!"}},null,{"$f":"IF(AS12>0,\"\",\"X\")","v":"X"},"X","X","X","X","X","X","X","X","X","X","X","X","X","X","X",{"$f":"SUM(100/BI12)","v":{"$error":"#DIV/0!"}},null,{"$f":"IF(BK12>0,\"\",\"X\")","v":"X"},"X","X","X","X","X","X","X","X","X","X","X","X","X","X","X",{"$f":"SUM(100/CA12)","v":{"$error":"#DIV/0!"}},null,{"$f":"IFERROR((SUM(100/CC12)*0.5),\"0\")","v":0.5},{"$f":"IFERROR((SUM(80/CD12)*0.5),\"0\")","v":0.5},null,null,null,null,null,null,{"$f":"IFERROR(SUM(100/CK12),\"0\")","v":0.5},null,null,null,null,null,{"$f":"IFERROR(SUM(80/CQ12),\"0\")","v":0.4}]
[null,null,null,null,null,null,null,"DATE:"]
[]
[{"$f":"IF(CX16=0,\"X\",\"\")","v":""},1,1,{"$f":"Insert!A3","v":0},{"$f":"Insert!B3","v":0},{"$f":"Insert!C3","v":0},{"$f":"Insert!D3","v":0},{"$f":"Insert!E3","v":0},null,null,null,null,null,null,null,null,null,null,null,null,null,null,null,null,{"$f":"SUM(I16:X16)","v":0},{"$f":"IFERROR(ROUND((SUM(Y16*$Y$13)/10),0),\"0\")","v":"0"},null,null,null,null,null,null,null,null,null,null,null,null,null,null,null,null,{"$f":"SUM(AA16:AP16)","v":0},{"$f":"IFERROR(ROUND((SUM(AQ16*$AQ$13)/10),0),\"0\")","v":"0"},null,null,null,null,null,null,null,null,null,null,null,null,null,null,null,null,{"$f":"SUM(AS16:BH16)","v":0},{"$f":"IFERROR(ROUND((SUM(BI16*$BI$13)/10),0),\"0\")","v":"0"},null,null,null,null,null,null,null,null,null,null,null,null,null,null,null,null,{"$f":"SUM(BK16:BZ16)","v":0},{"$f":"IFERROR(ROUND((SUM(CA16*$CA$13)/10),0),\"0\")","v":"0"},{"$f":"ROUND((CL16),0)","v":0},{"$f":"ROUND((CR16),0)","v":0},{"$f":"SUM(CC16:CD16)","v":0},{"$f":"IF(CY16>79.4,\"7\",IF(CY16>69.4,\"6\",IF(CY16>59.4,\"5\",IF(CY16>49.4,\"4\",IF(CY16>39.4,\"3\",IF(CY16>29.4,\"2\",IF(CY16>0,\"1\",IF(CY16=0,\"\",IF(CY16=-1,\"\")))))))))","v":""},null,null,null,null,{"$f":"SUM(CG16:CJ16)","v":0},{"$f":"ROUND(SUM(CK16*$CK$13),0)","v":0},null,null,null,null,{"$f":"SUM(CM16:CP16)","v":0},{"$f":"ROUND(SUM(CQ16*$CQ$13),0)","v":0},null,null,null,{"$f":"SUM(CC16*$CC$13)","v":0},{"$f":"SUM(CD16*$CD$13)","v":0},{"$f":"COUNTA(D16:X16,AA16:AP16,AS16:BH16,BK16:BZ16,CG16:CJ16,CM16:CP16)","v":5},{"$f":"ROUND(SUM(CE16/1.8),0)","v":0}]
[{"$f":"IF(CX17=0,\"X\",\"\")","v":""},2,2,{"$f":"Insert!A4","v":0},{"$f":"Insert!B4","v":0},{"$f":"Insert!C4","v":0},{"$f":"Insert!D4","v":0},{"$f":"Insert!E4","v":0},null,null,null,null,null,null,null,null,null,null,null,null,null,null,null,null,0,"0",null,null,null,null,null,null,null,null,null,null,null,null,null,null,null,null,0,"0",null,null,null,null,null,null,null,null,null,null,null,null,null,null,null,null,0,"0",null,null,null,null,null,null,null,null,null,null,null,null,null,null,null,null,0,"0",0,0,0,{"$f":"IF(CY17>79.4,\"7\",IF(CY17>69.4,\"6\",IF(CY17>59.4,\"5\",IF(CY17>49.4,\"4\",IF(CY17>39.4,\"3\",IF(CY17>29.4,\"2\",IF(CY17>0,\"1\",IF(CY17=0,\"\",IF(CY17=-1,\"\")))))))))","v":""},null,null,null,null,0,0,null,null,null,null,0,0,null,null,null,0,0,5,{"$f":"ROUND(SUM(CE17/1.8),0)","v":0}]
["",3,3,{"$f":"Insert!A5","v":0},{"$f":"Insert!B5","v":0},{"$f":"Insert!C5","v":0},{"$f":"Insert!D5","v":0},{"$f":"Insert!E5","v":0},null,null,null,null,null,null,null,null,null,null,null,null,null,null,null,null,0,"0",null,null,null,null,null,null,null,null,null,null,null,null,null,null,null,null,0,"0",null,null,null,null,null,null,null,null,null,null,null,null,null,null,null,null,0,"0",null,null,null,null,null,null,null,null,null,null,null,null,null,null,null,null,0,"0",0,0,0,"",null,null,null,null,0,0,null,null,null,null,0,0,null,null,null,0,0,5,0]
["",4,4,{"$f":"Insert!A6","v":0},{"$f":"Insert!B6","v":0},{"$f":"Insert!C6","v":0},{"$f":"Insert!D6","v":0},{"$f":"Insert!E6","v":0},null,null,null,null,null,null,null,null,null,null,null,null,null,null,null,null,0,"0",null,null,null,null,null,null,null,null,null,null,null,null,null,null,null,null,0,"0",null,null,null,null,null,null,null,null,null,null,null,null,null,null,null,null,0,"0",null,null,null,null,null,null,null,null,null,null,null,null,null,null,null,null,0,"0",0,0,0,"",null,null,null,null,0,0,null,null,null,null,0,0,null,null,null,0,0,5,0]
["",5,5,{"$f":"Insert!A7","v":0},{"$f":"Insert!B7","v":0},{"$f":"Insert!C7","v":0},{"$f":"Insert!D7","v":0},{"$f":"Insert!E7","v":0},null,null,null,null,null,null,null,null,null,null,null,null,null,null,null,null,0,"0",null,null,null,null,null,null,null,null,null,null,null,null,null,null,null,null,0,"0",null,null,null,null,null,null,null,null,null,null,null,null,null,null,null,null,0,"0",null,null,null,null,null,null,null,null,null,null,null,null,null,null,null,null,0,"0",0,0,0,"",null,null,null,null,0,0,null,null,null,null,0,0,null,null,null,0,0,5,0]
["",6,6,{"$f":"Insert!A8","v":0},{"$f":"Insert!B8","v":0},{"$f":"Insert!C8","v":0},{"$f":"Insert!D8","v":0},{"$f":"Insert!E8","v":0},null,null,null,null,null,null,null,null,null,null,null,null,null,null,null,null,0,"0",null,null,null,null,null,null,null,null,null,null,null,null,null,null,null,null,0,"0",null,null,null,null,null,null,null,null,null,null,null,null,null,null,null,null,0,"0",null,null,null,null,null,null,null,null,null,null,null,null,null,null,null,null,0,"0",0,0,0,"",null,null,null,null,0,0,null,null,null,null,0,0,null,null,null,0,0,5,0]
["",7,7,{"$f":"Insert!A9","v":0},{"$f":"Insert!B9","v":0},{"$f":"Insert!C9","v":0},{"$f":"Insert!D9","v":0},{"$f":"Insert!E9","v":0},null,null,null,null,null,null,null,null,null,null,null,null,null,null,null,null,0,"0",null,null,null,null,null,null,null,null,null,null,null,null,null,null,null,null,0,"0",null,null,null,null,null,null,null,null,null,null,null,null,null,null,null,null,0,"0",null,null,null,null,null,null,null,null,null,null,null,null,null,null,null,null,0,"0",0,0,0,"",null,null,null,null,0,0,null,null,null,null,0,0,null,null,null,0,0,5,0]
["",8,8,{"$f":"Insert!A10","v":0},{"$f":"Insert!B10","v":0},{"$f":"Insert!C10","v":0},{"$f":"Insert!D10","v":0},{"$f":"Insert!E10","v":0},null,null,null,null,null,null,null,null,null,null,null,null,null,null,null,null,0,"0",null,null,null,null,null,null,null,null,null,null,null,null,null,null,null,null,0,"0",null,null,null,null,null,null,null,null,null,null,null,null,null,null,null,null,0,"0",null,null,null,null,null,null,null,null,null,null,null,null,null,null,null,null,0,"0",0,0,0,"",null,null,null,null,0,0,null,null,null,null,0,0,null,null,null,0,0,5,0]
["",9,9,{"$f":"Insert!A11","v":0},{"$f":"Insert!B11","v":0},{"$f":"Insert!C11","v":0},{"$f":"Insert!D11","v":0},{"$f":"Insert!E11","v":0},null,null,null,null,null,null,null,null,null,null,null,null,null,null,null,null,0,"0",null,null,null,null,null,null,null,null,null,null,null,null,null,null,null,null,0,"0",null,null,null,null,null,null,null,null,null,null,null,null,null,null,null,null,0,"0",null,null,null,null,null,null,null,null,null,null,null,null,null,null,null,null,0,"0",0,0,0,"",null,null,null,null,0,0,null,null,null,null,0,0,null,null,null,0,0,5,0]
["",10,10,{"$f":"Insert!A12","v":0},{"$f":"Insert!B12","v":0},{"$f":"Insert!C12","v":0},{"$f":"Insert!D12","v":0},{"$f":"Insert!E12","v":0},null,null,null,null,null,null,null,null,null,null,null,null,null,null,null,null,0,"0",null,null,null,null,null,null,null,null,null,null,null,null,null,null,null,null,0,"0",null,null,null,null,null,null,null,null,null,null,null,null,null,null,null,null,0,"0",null,null,null,null,null,null,null,null,null,null,null,null,null,null,null,null,0,"0",0,0,0,"",null,null,null,null,0,0,null,null,null,null,0,0,null,null,null,0,0,5,0]
["",11,11,{"$f":"Insert!A13","v":0},{"$f":"Insert!B13","v":0},{"$f":"Insert!C13","v":0},{"$f":"Insert!D13","v":0},{"$f":"Insert!E13","v":0},null,null,null,null,null,null,null,null,null,null,null,null,null,null,null,null,0,"0",null,null,null,null,null,null,null,null,null,null,null,null,null,null,null,null,0,"0",null,null,null,null,null,null,null,null,null,null,null,null,null,null,null,null,0,"0",null,null,null,null,null,null,null,null,null,null,null,null,null,null,null,null,0,"0",0,0,0,"",null,null,null,null,0,0,null,null,null,null,0,0,null,null,null,0,0,5,0]
["",12,12,{"$f":"Insert!A14","v":0},{"$f":"Insert!B14","v":0},{"$f":"Insert!C14","v":0},{"$f":"Insert!D14","v":0},{"$f":"Insert!E14","v":0},null,null,null,null,null,null,null,null,null,null,null,null,null,null,null,null,0,"0",null,null,null,null,null,null,null,null,null,null,null,null,null,null,null,null,0,"0",null,null,null,null,null,null,null,null,null,null,null,null,null,null,null,null,0,"0",null,null,null,null,null,null,null,null,null,null,null,null,null,null,null,null,0,"0",0,0,0,"",null,null,null,null,0,0,null,null,null,null,0,0,null,null,null,0,0,5,0]
["",13,13,{"$f":"Insert!A15","v":0},{"$f":"Insert!B15","v":0},{"$f":"Insert!C15","v":0},{"$f":"Insert!D15","v":0},{"$f":"Insert!E15","v":0},null,null,null,null,null,null,null,null,null,null,null,null,null,null,null,null,0,"0",null,null,null,null,null,null,null,null,null,null,null,null,null,null,null,null,0,"0",null,null,null,null,null,null,null,null,null,null,null,null,null,null,null,null,0,"0",null,null,null,null,null,null,null,null,null,null,null,null,null,null,null,null,0,"0",0,0,0,"",null,null,null,null,0,0,null,null,null,null,0,0,null,null,null,0,0,5,0]
["",14,14,{"$f":"Insert!A16","v":0},{"$f":"Insert!B16","v":0},{"$f":"Insert!C16","v":0},{"$f":"Insert!D16","v":0},{"$f":"Insert!E16","v":0},null,null,null,null,null,null,null,null,null,null,null,null,null,null,null,null,0,"0",null,null,null,null,null,null,null,null,null,null,null,null,null,null,null,null,0,"0",null,null,null,null,null,null,null,null,null,null,null,null,null,null,null,null,0,"0",null,null,null,null,null,null,null,null,null,null,null,null,null,null,null,null,0,"0",0,0,0,"",null,null,null,null,0,0,null,null,null,null,0,0,null,null,null,0,0,5,0]
["",15,15,{"$f":"Insert!A17","v":0},{"$f":"Insert!B17","v":0},{"$f":"Insert!C17","v":0},{"$f":"Insert!D17","v":0},{"$f":"Insert!E17","v":0},null,null,null,null,null,null,null,null,null,null,null,null,null,null,null,null,0,"0",null,null,null,null,null,null,null,null,null,null,null,null,null,null,null,null,0,"0",null,null,null,null,null,null,null,null,null,null,null,null,null,null,null,null,0,"0",null,null,null,null,null,null,null,null,null,null,null,null,null,null,null,null,0,"0",0,0,0,"",null,null,null,null,0,0,null,null,null,null,0,0,null,null,null,0,0,5,0]
["",16,16,{"$f":"Insert!A18","v":0},{"$f":"Insert!B18","v":0},{"$f":"Insert!C18","v":0},{"$f":"Insert!D18","v":0},{"$f":"Insert!E18","v":0},null,null,null,null,null,null,null,null,null,null,null,null,null,null,null,null,0,"0",null,null,null,null,null,null,null,null,null,null,null,null,null,null,null,null,0,"0",null,null,null,null,null,null,null,null,null,null,null,null,null,null,null,null,0,"0",null,null,null,null,null,null,null,null,null,null,null,null,null,null,null,null,0,"0",0,0,0,"",null,null,null,null,0,0,null,null,null,null,0,0,null,null,null,0,0,5,0]
["",17,17,{"$f":"Insert!A19","v":0},{"$f":"Insert!B19","v":0},{"$f":"Insert!C19","v":0},{"$f":"Insert!D19","v":0},{"$f":"Insert!E19","v":0},null,null,null,null,null,null,null,null,null,null,null,null,null,null,null,null,0,"0",null,null,null,null,null,null,null,null,null,null,null,null,null,null,null,null,0,"0",null,null,null,null,null,null,null,null,null,null,null,null,null,null,null,null,0,"0",null,null,null,null,null,null,null,null,null,null,null,null,null,null,null,null,0,"0",0,0,0,"",null,null,null,null,0,0,null,null,null,null,0,0,null,null,null,0,0,5,0]
["",18,18,{"$f":"Insert!A20","v":0},{"$f":"Insert!B20","v":0},{"$f":"Insert!C20","v":0},{"$f":"Insert!D20","v":0},{"$f":"Insert!E20","v":0},null,null,null,null,null,null,null,null,null,null,null,null,null,null,null,null,0,"0",null,null,null,null,null,null,null,null,null,null,null,null,null,null,null,null,0,"0",null,null,null,null,null,null,null,null,null,null,null,null,null,null,null,null,0,"0",null,null,null,null,null,null,null,null,null,null,null,null,null,null,null,null,0,"0",0,0,0,"",null,null,null,null,0,0,null,null,null,null,0,0,null,null,null,0,0,5,0]
["",19,19,{"$f":"Insert!A21","v":0},{"$f":"Insert!B21","v":0},{"$f":"Insert!C21","v":0},{"$f":"Insert!D21","v":0},{"$f":"Insert!E21","v":0},null,null,null,null,null,null,null,null,null,null,null,null,null,null,null,null,0,"0",null,null,null,null,null,null,null,null,null,null,null,null,null,null,null,null,0,"0",null,null,null,null,null,null,null,null,null,null,null,null,null,null,null,null,0,"0",null,null,null,null,null,null,null,null,null,null,null,null,null,null,null,null,0,"0",0,0,0,"",null,null,null,null,0,0,null,null,null,null,0,0,null,null,null,0,0,5,0]
["",20,20,{"$f":"Insert!A22","v":0},{"$f":"Insert!B22","v":0},{"$f":"Insert!C22","v":0},{"$f":"Insert!D22","v":0},{"$f":"Insert!E22","v":0},null,null,null,null,null,null,null,null,null,null,null,null,null,null,null,null,0,"0",null,null,null,null,null,null,null,null,null,null,null,null,null,null,null,null,0,"0",null,null,null,null,null,null,null,null,null,null,null,null,null,null,null,null,0,"0",null,null,null,null,null,null,null,null,null,null,null,null,null,null,null,null,0,"0",0,0,0,"",null,null,null,null,0,0,null,null,null,null,0,0,null,null,null,0,0,5,0]
["",21,21,{"$f":"Insert!A23","v":0},{"$f":"Insert!B23","v":0},{"$f":"Insert!C23","v":0},{"$f":"Insert!D23","v":0},{"$f":"Insert!E23","v":0},null,null,null,null,null,null,null,null,null,null,null,null,null,null,null,null,0,"0",null,null,null,null,null,null,null,null,null,null,null,null,null,null,null,null,0,"0",null,null,null,null,null,null,null,null,null,null,null,null,null,null,null,null,0,"0",null,null,null,null,null,null,null,null,null,null,null,null,null,null,null,null,0,"0",0,0,0,"",null,null,null,null,0,0,null,null,null,null,0,0,null,null,null,0,0,5,0]
["",22,22,{"$f":"Insert!A24","v":0},{"$f":"Insert!B24","v":0},{"$f":"Insert!C24","v":0},{"$f":"Insert!D24","v":0},{"$f":"Insert!E24","v":0},null,null,null,null,null,null,null,null,null,null,null,null,null,null,null,null,0,"0",null,null,null,null,null,null,null,null,null,null,null,null,null,null,null,null,0,"0",null,null,null,null,null,null,null,null,null,null,null,null,null,null,null,null,0,"0",null,null,null,null,null,null,null,null,null,null,null,null,null,null,null,null,0,"0",0,0,0,"",null,null,null,null,0,0,null,null,null,null,0,0,null,null,null,0,0,5,0]
["",23,23,{"$f":"Insert!A25","v":0},{"$f":"Insert!B25","v":0},{"$f":"Insert!C25","v":0},{"$f":"Insert!D25","v":0},{"$f":"Insert!E25","v":0},null,null,null,null,null,null,null,null,null,null,null,null,null,null,null,null,0,"0",null,null,null,null,null,null,null,null,null,null,null,null,null,null,null,null,0,"0",null,null,null,null,null,null,null,null,null,null,null,null,null,null,null,null,0,"0",null,null,null,null,null,null,null,null,null,null,null,null,null,null,null,null,0,"0",0,0,0,"",null,null,null,null,0,0,null,null,null,null,0,0,null,null,null,0,0,5,0]
["",24,24,{"$f":"Insert!A26","v":0},{"$f":"Insert!B26","v":0},{"$f":"Insert!C26","v":0},{"$f":"Insert!D26","v":0},{"$f":"Insert!E26","v":0},null,null,null,null,null,null,null,null,null,null,null,null,null,null,null,null,0,"0",null,null,null,null,null,null,null,null,null,null,null,null,null,null,null,null,0,"0",null,null,null,null,null,null,null,null,null,null,null,null,null,null,null,null,0,"0",null,null,null,null,null,null,null,null,null,null,null,null,null,null,null,null,0,"0",0,0,0,"",null,null,null,null,0,0,null,null,null,null,0,0,null,null,null,0,0,5,0]
["",25,25,{"$f":"Insert!A27","v":0},{"$f":"Insert!B27","v":0},{"$f":"Insert!C27","v":0},{"$f":"Insert!D27","v":0},{"$f":"Insert!E27","v":0},null,null,null,null,null,null,null,null,null,null,null,null,null,null,null,null,0,"0",null,null,null,null,null,null,null,null,null,null,null,null,null,null,null,null,0,"0",null,null,null,null,null,null,null,null,null,null,null,null,null,null,null,null,0,"0",null,null,null,null,null,null,null,null,null,null,null,null,null,null,null,null,0,"0",0,0,0,"",null,null,null,null,0,0,null,null,null,null,0,0,null,null,null,0,0,5,0]
["",26,26,{"$f":"Insert!A28","v":0},{"$f":"Insert!B28","v":0},{"$f":"Insert!C28","v":0},{"$f":"Insert!D28","v":0},{"$f":"Insert!E28","v":0},null,null,null,null,null,null,null,null,null,null,null,null,null,null,null,null,0,"0",null,null,null,null,null,null,null,null,null,null,null,null,null,null,null,null,0,"0",null,null,null,null,null,null,null,null,null,null,null,null,null,null,null,null,0,"0",null,null,null,null,null,null,null,null,null,null,null,null,null,null,null,null,0,"0",0,0,0,"",null,null,null,null,0,0,null,null,null,null,0,0,null,null,null,0,0,5,0]
["",27,27,{"$f":"Insert!A29","v":0},{"$f":"Insert!B29","v":0},{"$f":"Insert!C29","v":0},{"$f":"Insert!D29","v":0},{"$f":"Insert!E29","v":0},null,null,null,null,null,null,null,null,null,null,null,null,null,null,null,null,0,"0",null,null,null,null,null,null,null,null,null,null,null,null,null,null,null,null,0,"0",null,null,null,null,null,null,null,null,null,null,null,null,null,null,null,null,0,"0",null,null,null,null,null,null,null,null,null,null,null,null,null,null,null,null,0,"0",0,0,0,"",null,null,null,null,0,0,null,null,null,null,0,0,null,null,null,0,0,5,0]
["",28,28,{"$f":"Insert!A30","v":0},{"$f":"Insert!B30","v":0},{"$f":"Insert!C30","v":0},{"$f":"Insert!D30","v":0},{"$f":"Insert!E30","v":0},null,null,null,null,null,null,null,null,null,null,null,null,null,null,null,null,0,"0",null,null,null,null,null,null,null,null,null,null,null,null,null,null,null,null,0,"0",null,null,null,null,null,null,null,null,null,null,null,null,null,null,null,null,0,"0",null,null,null,null,null,null,null,null,null,null,null,null,null,null,null,null,0,"0",0,0,0,"",null,null,null,null,0,0,null,null,null,null,0,0,null,null,null,0,0,5,0]
["",29,29,{"$f":"Insert!A31","v":0},{"$f":"Insert!B31","v":0},{"$f":"Insert!C31","v":0},{"$f":"Insert!D31","v":0},{"$f":"Insert!E31","v":0},null,null,null,null,null,null,null,null,null,null,null,null,null,null,null,null,0,"0",null,null,null,null,null,null,null,null,null,null,null,null,null,null,null,null,0,"0",null,null,null,null,null,null,null,null,null,null,null,null,null,null,null,null,0,"0",null,null,null,null,null,null,null,null,null,null,null,null,null,null,null,null,0,"0",0,0,0,"",null,null,null,null,0,0,null,null,null,null,0,0,null,null,null,0,0,5,0]
["",30,30,{"$f":"Insert!A32","v":0},{"$f":"Insert!B32","v":0},{"$f":"Insert!C32","v":0},{"$f":"Insert!D32","v":0},{"$f":"Insert!E32","v":0},null,null,null,null,null,null,null,null,null,null,null,null,null,null,null,null,0,"0",null,null,null,null,null,null,null,null,null,null,null,null,null,null,null,null,0,"0",null,null,null,null,null,null,null,null,null,null,null,null,null,null,null,null,0,"0",null,null,null,null,null,null,null,null,null,null,null,null,null,null,null,null,0,"0",0,0,0,"",null,null,null,null,0,0,null,null,null,null,0,0,null,null,null,0,0,5,0]
["",31,31,{"$f":"Insert!A33","v":0},{"$f":"Insert!B33","v":0},{"$f":"Insert!C33","v":0},{"$f":"Insert!D33","v":0},{"$f":"Insert!E33","v":0},null,null,null,null,null,null,null,null,null,null,null,null,null,null,null,null,0,"0",null,null,null,null,null,null,null,null,null,null,null,null,null,null,null,null,0,"0",null,null,null,null,null,null,null,null,null,null,null,null,null,null,null,null,0,"0",null,null,null,null,null,null,null,null,null,null,null,null,null,null,null,null,0,"0",0,0,0,"",null,null,null,null,0,0,null,null,null,null,0,0,null,null,null,0,0,5,0]
["",32,32,{"$f":"Insert!A34","v":0},{"$f":"Insert!B34","v":0},{"$f":"Insert!C34","v":0},{"$f":"Insert!D34","v":0},{"$f":"Insert!E34","v":0},null,null,null,null,null,null,null,null,null,null,null,null,null,null,null,null,0,"0",null,null,null,null,null,null,null,null,null,null,null,null,null,null,null,null,0,"0",null,null,null,null,null,null,null,null,null,null,null,null,null,null,null,null,0,"0",null,null,null,null,null,null,null,null,null,null,null,null,null,null,null,null,0,"0",0,0,0,"",null,null,null,null,0,0,null,null,null,null,0,0,null,null,null,0,0,5]
["",33,33,{"$f":"Insert!A35","v":0},{"$f":"Insert!B35","v":0},{"$f":"Insert!C35","v":0},{"$f":"Insert!D35","v":0},{"$f":"Insert!E35","v":0},null,null,null,null,null,null,null,null,null,null,null,null,null,null,null,null,{"$f":"SUM(I48:X48)","v":0},{"$f":"IFERROR(ROUND((SUM(Y48*$Y$13)/10),0),\"0\")","v":"0"},null,null,null,null,null,null,null,null,null,null,null,null,null,null,null,null,{"$f":"SUM(AA48:AP48)","v":0},{"$f":"IFERROR(ROUND((SUM(AQ48*$AQ$13)/10),0),\"0\")","v":"0"},null,null,null,null,null,null,null,null,null,null,null,null,null,null,null,null,{"$f":"SUM(AS48:BH48)","v":0},{"$f":"IFERROR(ROUND((SUM(BI48*$BI$13)/10),0),\"0\")","v":"0"},null,null,null,null,null,null,null,null,null,null,null,null,null,null,null,null,{"$f":"SUM(BK48:BZ48)","v":0},{"$f":"IFERROR(ROUND((SUM(CA48*$CA$13)/10),0),\"0\")","v":"0"},{"$f":"ROUND((CL48),0)","v":0},{"$f":"ROUND((CR48),0)","v":0},0,"",null,null,null,null,{"$f":"SUM(CG48:CJ48)","v":0},{"$f":"ROUND(SUM(CK48*$CK$13),0)","v":0},null,null,null,null,{"$f":"SUM(CM48:CP48)","v":0},{"$f":"ROUND(SUM(CQ48*$CQ$13),0)","v":0},null,null,null,{"$f":"SUM(CC48*$CC$13)","v":0},{"$f":"SUM(CD48*$CD$13)","v":0},{"$f":"COUNTA(D48:X48,AA48:AP48,AS48:BH48,BK48:BZ48,CG48:CJ48,CM48:CP48)","v":5}]
["",34,34,{"$f":"Insert!A36","v":0},{"$f":"Insert!B36","v":0},{"$f":"Insert!C36","v":0},{"$f":"Insert!D36","v":0},{"$f":"Insert!E36","v":0},null,null,null,null,null,null,null,null,null,null,null,null,null,null,null,null,0,"0",null,null,null,null,null,null,null,null,null,null,null,null,null,null,null,null,0,"0",null,null,null,null,null,null,null,null,null,null,null,null,null,null,null,null,0,"0",null,null,null,null,null,null,null,null,null,null,null,null,null,null,null,null,0,"0",0,0,0,"",null,null,null,null,0,0,null,null,null,null,0,0,null,null,null,0,0,5]
["",35,35,{"$f":"Insert!A37","v":0},{"$f":"Insert!B37","v":0},{"$f":"Insert!C37","v":0},{"$f":"Insert!D37","v":0},{"$f":"Insert!E37","v":0},null,null,null,null,null,null,null,null,null,null,null,null,null,null,null,null,0,"0",null,null,null,null,null,null,null,null,null,null,null,null,null,null,null,null,0,"0",null,null,null,null,null,null,null,null,null,null,null,null,null,null,null,null,0,"0",null,null,null,null,null,null,null,null,null,null,null,null,null,null,null,null,0,"0",0,0,0,"",null,null,null,null,0,0,null,null,null,null,0,0,null,null,null,0,0,5]
["",36,36,{"$f":"Insert!A38","v":0},{"$f":"Insert!B38","v":0},{"$f":"Insert!C38","v":0},{"$f":"Insert!D38","v":0},{"$f":"Insert!E38","v":0},null,null,null,null,null,null,null,null,null,null,null,null,null,null,null,null,0,"0",null,null,null,null,null,null,null,null,null,null,null,null,null,null,null,null,0,"0",null,null,null,null,null,null,null,null,null,null,null,null,null,null,null,null,0,"0",null,null,null,null,null,null,null,null,null,null,null,null,null,null,null,null,0,"0",0,0,0,"",null,null,null,null,0,0,null,null,null,null,0,0,null,null,null,0,0,5]
["",37,37,{"$f":"Insert!A39","v":0},{"$f":"Insert!B39","v":0},{"$f":"Insert!C39","v":0},{"$f":"Insert!D39","v":0},{"$f":"Insert!E39","v":0},null,null,null,null,null,null,null,null,null,null,null,null,null,null,null,null,0,"0",null,null,null,null,null,null,null,null,null,null,null,null,null,null,null,null,0,"0",null,null,null,null,null,null,null,null,null,null,null,null,null,null,null,null,0,"0",null,null,null,null,null,null,null,null,null,null,null,null,null,null,null,null,0,"0",0,0,0,"",null,null,null,null,0,0,null,null,null,null,0,0,null,null,null,0,0,5]
["",38,38,{"$f":"Insert!A40","v":0},{"$f":"Insert!B40","v":0},{"$f":"Insert!C40","v":0},{"$f":"Insert!D40","v":0},{"$f":"Insert!E40","v":0},null,null,null,null,null,null,null,null,null,null,null,null,null,null,null,null,0,"0",null,null,null,null,null,null,null,null,null,null,null,null,null,null,null,null,0,"0",null,null,null,null,null,null,null,null,null,null,null,null,null,null,null,null,0,"0",null,null,null,null,null,null,null,null,null,null,null,null,null,null,null,null,0,"0",0,0,0,"",null,null,null,null,0,0,null,null,null,null,0,0,null,null,null,0,0,5]
["",39,39,{"$f":"Insert!A41","v":0},{"$f":"Insert!B41","v":0},{"$f":"Insert!C41","v":0},{"$f":"Insert!D41","v":0},{"$f":"Insert!E41","v":0},null,null,null,null,null,null,null,null,null,null,null,null,null,null,null,null,0,"0",null,null,null,null,null,null,null,null,null,null,null,null,null,null,null,null,0,"0",null,null,null,null,null,null,null,null,null,null,null,null,null,null,null,null,0,"0",null,null,null,null,null,null,null,null,null,null,null,null,null,null,null,null,0,"0",0,0,0,"",null,null,null,null,0,0,null,null,null,null,0,0,null,null,null,0,0,5]
["",40,40,{"$f":"Insert!A42","v":0},{"$f":"Insert!B42","v":0},{"$f":"Insert!C42","v":0},{"$f":"Insert!D42","v":0},{"$f":"Insert!E42","v":0},null,null,null,null,null,null,null,null,null,null,null,null,null,null,null,null,0,"0",null,null,null,null,null,null,null,null,null,null,null,null,null,null,null,null,0,"0",null,null,null,null,null,null,null,null,null,null,null,null,null,null,null,null,0,"0",null,null,null,null,null,null,null,null,null,null,null,null,null,null,null,null,0,"0",0,0,0,"",null,null,null,null,0,0,null,null,null,null,0,0,null,null,null,0,0,5]
["",41,41,{"$f":"Insert!A43","v":0},{"$f":"Insert!B43","v":0},{"$f":"Insert!C43","v":0},{"$f":"Insert!D43","v":0},{"$f":"Insert!E43","v":0},null,null,null,null,null,null,null,null,null,null,null,null,null,null,null,null,0,"0",null,null,null,null,null,null,null,null,null,null,null,null,null,null,null,null,0,"0",null,null,null,null,null,null,null,null,null,null,null,null,null,null,null,null,0,"0",null,null,null,null,null,null,null,null,null,null,null,null,null,null,null,null,0,"0",0,0,0,"",null,null,null,null,0,0,null,null,null,null,0,0,null,null,null,0,0,5]
["",42,42,{"$f":"Insert!A44","v":0},{"$f":"Insert!B44","v":0},{"$f":"Insert!C44","v":0},{"$f":"Insert!D44","v":0},{"$f":"Insert!E44","v":0},null,null,null,null,null,null,null,null,null,null,null,null,null,null,null,null,0,"0",null,null,null,null,null,null,null,null,null,null,null,null,null,null,null,null,0,"0",null,null,null,null,null,null,null,null,null,null,null,null,null,null,null,null,0,"0",null,null,null,null,null,null,null,null,null,null,null,null,null,null,null,null,0,"0",0,0,0,"",null,null,null,null,0,0,null,null,null,null,0,0,null,null,null,0,0,5]
["",43,43,{"$f":"Insert!A45","v":0},{"$f":"Insert!B45","v":0},{"$f":"Insert!C45","v":0},{"$f":"Insert!D45","v":0},{"$f":"Insert!E45","v":0},null,null,null,null,null,null,null,null,null,null,null,null,null,null,null,null,0,"0",null,null,null,null,null,null,null,null,null,null,null,null,null,null,null,null,0,"0",null,null,null,null,null,null,null,null,null,null,null,null,null,null,null,null,0,"0",null,null,null,null,null,null,null,null,null,null,null,null,null,null,null,null,0,"0",0,0,0,"",null,null,null,null,0,0,null,null,null,null,0,0,null,null,null,0,0,5]
["",44,44,{"$f":"Insert!A46","v":0},{"$f":"Insert!B46","v":0},{"$f":"Insert!C46","v":0},{"$f":"Insert!D46","v":0},{"$f":"Insert!E46","v":0},null,null,null,null,null,null,null,null,null,null,null,null,null,null,null,null,0,"0",null,null,null,null,null,null,null,null,null,null,null,null,null,null,null,null,0,"0",null,null,null,null,null,null,null,null,null,null,null,null,null,null,null,null,0,"0",null,null,null,null,null,null,null,null,null,null,null,null,null,null,null,null,0,"0",0,0,0,"",null,null,null,null,0,0,null,null,null,null,0,0,null,null,null,0,0,5]
["",45,45,{"$f":"Insert!A47","v":0},{"$f":"Insert!B47","v":0},{"$f":"Insert!C47","v":0},{"$f":"Insert!D47","v":0},{"$f":"Insert!E47","v":0},null,null,null,null,null,null,null,null,null,null,null,null,null,null,null,null,0,"0",null,null,null,null,null,null,null,null,null,null,null,null,null,null,null,null,0,"0",null,null,null,null,null,null,null,null,null,null,null,null,null,null,null,null,0,"0",null,null,null,null,null,null,null,null,null,null,null,null,null,null,null,null,0,"0",0,0,0,"",null,null,null,null,0,0,null,null,null,null,0,0,null,null,null,0,0,5]
["",46,46,{"$f":"Insert!A48","v":0},{"$f":"Insert!B48","v":0},{"$f":"Insert!C48","v":0},{"$f":"Insert!D48","v":0},{"$f":"Insert!E48","v":0},null,null,null,null,null,null,null,null,null,null,null,null,null,null,null,null,0,"0",null,null,null,null,null,null,null,null,null,null,null,null,null,null,null,null,0,"0",null,null,null,null,null,null,null,null,null,null,null,null,null,null,null,null,0,"0",null,null,null,null,null,null,null,null,null,null,null,null,null,null,null,null,0,"0",0,0,0,"",null,null,null,null,0,0,null,null,null,null,0,0,null,null,null,0,0,5]
["",47,47,{"$f":"Insert!A49","v":0},{"$f":"Insert!B49","v":0},{"$f":"Insert!C49","v":0},{"$f":"Insert!D49","v":0},{"$f":"Insert!E49","v":0},null,null,null,null,null,null,null,null,null,null,null,null,null,null,null,null,0,"0",null,null,null,null,null,null,null,null,null,null,null,null,null,null,null,null,0,"0",null,null,null,null,null,null,null,null,null,null,null,null,null,null,null,null,0,"0",null,null,null,null,null,null,null,null,null,null,null,null,null,null,null,null,0,"0",0,0,0,"",null,null,null,null,0,0,null,null,null,null,0,0,null,null,null,0,0,5]
["",48,48,{"$f":"Insert!A50","v":0},{"$f":"Insert!B50","v":0},{"$f":"Insert!C50","v":0},{"$f":"Insert!D50","v":0},{"$f":"Insert!E50","v":0},null,null,null,null,null,null,null,null,null,null,null,null,null,null,null,null,0,"0",null,null,null,null,null,null,null,null,null,null,null,null,null,null,null,null,0,"0",null,null,null,null,null,null,null,null,null,null,null,null,null,null,null,null,0,"0",null,null,null,null,null,null,null,null,null,null,null,null,null,null,null,null,0,"0",0,0,0,"",null,null,null,null,0,0,null,null,null,null,0,0,null,null,null,0,0,5]
["",49,49,{"$f":"Insert!A51","v":0},{"$f":"Insert!B51","v":0},{"$f":"Insert!C51","v":0},{"$f":"Insert!D51","v":0},{"$f":"Insert!E51","v":0},null,null,null,null,null,null,null,null,null,null,null,null,null,null,null,null,0,"0",null,null,null,null,null,null,null,null,null,null,null,null,null,null,null,null,0,"0",null,null,null,null,null,null,null,null,null,null,null,null,null,null,null,null,0,"0",null,null,null,null,null,null,null,null,null,null,null,null,null,null,null,null,0,"0",0,0,0,"",null,null,null,null,0,0,null,null,null,null,0,0,null,null,null,0,0,5]
["",50,50,{"$f":"Insert!A52","v":0},{"$f":"Insert!B52","v":0},{"$f":"Insert!C52","v":0},{"$f":"Insert!D52","v":0},{"$f":"Insert!E52","v":0},null,null,null,null,null,null,null,null,null,null,null,null,null,null,null,null,0,"0",null,null,null,null,null,null,null,null,null,null,null,null,null,null,null,null,0,"0",null,null,null,null,null,null,null,null,null,null,null,null,null,null,null,null,0,"0",null,null,null,null,null,null,null,null,null,null,null,null,null,null,null,null,0,"0",0,0,0,"",null,null,null,null,0,0,null,null,null,null,0,0,null,null,null,0,0,5]
["",51,51,{"$f":"Insert!A53","v":0},{"$f":"Insert!B53","v":0},{"$f":"Insert!C53","v":0},{"$f":"Insert!D53","v":0},{"$f":"Insert!E53","v":0},null,null,null,null,null,null,null,null,null,null,null,null,null,null,null,null,0,"0",null,null,null,null,null,null,null,null,null,null,null,null,null,null,null,null,0,"0",null,null,null,null,null,null,null,null,null,null,null,null,null,null,null,null,0,"0",null,null,null,null,null,null,null,null,null,null,null,null,null,null,null,null,0,"0",0,0,0,"",null,null,null,null,0,0,null,null,null,null,0,0,null,null,null,0,0,5]
["",52,52,{"$f":"Insert!A54","v":0},{"$f":"Insert!B54","v":0},{"$f":"Insert!C54","v":0},{"$f":"Insert!D54","v":0},{"$f":"Insert!E54","v":0},null,null,null,null,null,null,null,null,null,null,null,null,null,null,null,null,0,"0",null,null,null,null,null,null,null,null,null,null,null,null,null,null,null,null,0,"0",null,null,null,null,null,null,null,null,null,null,null,null,null,null,null,null,0,"0",null,null,null,null,null,null,null,null,null,null,null,null,null,null,null,null,0,"0",0,0,0,"",null,null,null,null,0,0,null,null,null,null,0,0,null,null,null,0,0,5]
["",53,53,{"$f":"Insert!A55","v":0},{"$f":"Insert!B55","v":0},{"$f":"Insert!C55","v":0},{"$f":"Insert!D55","v":0},{"$f":"Insert!E55","v":0},null,null,null,null,null,null,null,null,null,null,null,null,null,null,null,null,0,"0",null,null,null,null,null,null,null,null,null,null,null,null,null,null,null,null,0,"0",null,null,null,null,null,null,null,null,null,null,null,null,null,null,null,null,0,"0",null,null,null,null,null,null,null,null,null,null,null,null,null,null,null,null,0,"0",0,0,0,"",null,null,null,null,0,0,null,null,null,null,0,0,null,null,null,0,0,5]
["",54,54,{"$f":"Insert!A56","v":0},{"$f":"Insert!B56","v":0},{"$f":"Insert!C56","v":0},{"$f":"Insert!D56","v":0},{"$f":"Insert!E56","v":0},null,null,null,null,null,null,null,null,null,null,null,null,null,null,null,null,0,"0",null,null,null,null,null,null,null,null,null,null,null,null,null,null,null,null,0,"0",null,null,null,null,null,null,null,null,null,null,null,null,null,null,null,null,0,"0",null,null,null,null,null,null,null,null,null,null,null,null,null,null,null,null,0,"0",0,0,0,"",null,null,null,null,0,0,null,null,null,null,0,0,null,null,null,0,0,5]
["",55,55,{"$f":"Insert!A57","v":0},{"$f":"Insert!B57","v":0},{"$f":"Insert!C57","v":0},{"$f":"Insert!D57","v":0},{"$f":"Insert!E57","v":0},null,null,null,null,null,null,null,null,null,null,null,null,null,null,null,null,0,"0",null,null,null,null,null,null,null,null,null,null,null,null,null,null,null,null,0,"0",null,null,null,null,null,null,null,null,null,null,null,null,null,null,null,null,0,"0",null,null,null,null,null,null,null,null,null,null,null,null,null,null,null,null,0,"0",0,0,0,"",null,null,null,null,0,0,null,null,null,null,0,0,null,null,null,0,0,5]
["",56,56,{"$f":"Insert!A58","v":0},{"$f":"Insert!B58","v":0},{"$f":"Insert!C58","v":0},{"$f":"Insert!D58","v":0},{"$f":"Insert!E58","v":0},null,null,null,null,null,null,null,null,null,null,null,null,null,null,null,null,0,"0",null,null,null,null,null,null,null,null,null,null,null,null,null,null,null,null,0,"0",null,null,null,null,null,null,null,null,null,null,null,null,null,null,null,null,0,"0",null,null,null,null,null,null,null,null,null,null,null,null,null,null,null,null,0,"0",0,0,0,"",null,null,null,null,0,0,null,null,null,null,0,0,null,null,null,0,0,5]
["",57,57,{"$f":"Insert!A59","v":0},{"$f":"Insert!B59","v":0},{"$f":"Insert!C59","v":0},{"$f":"Insert!D59","v":0},{"$f":"Insert!E59","v":0},null,null,null,null,null,null,null,null,null,null,null,null,null,null,null,null,0,"0",null,null,null,null,null,null,null,null,null,null,null,null,null,null,null,null,0,"0",null,null,null,null,null,null,null,null,null,null,null,null,null,null,null,null,0,"0",null,null,null,null,null,null,null,null,null,null,null,null,null,null,null,null,0,"0",0,0,0,"",null,null,null,null,0,0,null,null,null,null,0,0,null,null,null,0,0,5]
["",58,58,{"$f":"Insert!A60","v":0},{"$f":"Insert!B60","v":0},{"$f":"Insert!C60","v":0},{"$f":"Insert!D60","v":0},{"$f":"Insert!E60","v":0},null,null,null,null,null,null,null,null,null,null,null,null,null,null,null,null,0,"0",null,null,null,null,null,null,null,null,null,null,null,null,null,null,null,null,0,"0",null,null,null,null,null,null,null,null,null,null,null,null,null,null,null,null,0,"0",null,null,null,null,null,null,null,null,null,null,null,null,null,null,null,null,0,"0",0,0,0,"",null,null,null,null,0,0,null,null,null,null,0,0,null,null,null,0,0,5]
["",59,59,{"$f":"Insert!A61","v":0},{"$f":"Insert!B61","v":0},{"$f":"Insert!C61","v":0},{"$f":"Insert!D61","v":0},{"$f":"Insert!E61","v":0},null,null,null,null,null,null,null,null,null,null,null,null,null,null,null,null,0,"0",null,null,null,null,null,null,null,null,null,null,null,null,null,null,null,null,0,"0",null,null,null,null,null,null,null,null,null,null,null,null,null,null,null,null,0,"0",null,null,null,null,null,null,null,null,null,null,null,null,null,null,null,null,0,"0",0,0,0,"",null,null,null,null,0,0,null,null,null,null,0,0,null,null,null,0,0,5]
["",60,60,{"$f":"Insert!A62","v":0},{"$f":"Insert!B62","v":0},{"$f":"Insert!C62","v":0},{"$f":"Insert!D62","v":0},{"$f":"Insert!E62","v":0},null,null,null,null,null,null,null,null,null,null,null,null,null,null,null,null,0,"0",null,null,null,null,null,null,null,null,null,null,null,null,null,null,null,null,0,"0",null,null,null,null,null,null,null,null,null,null,null,null,null,null,null,null,0,"0",null,null,null,null,null,null,null,null,null,null,null,null,null,null,null,null,0,"0",0,0,0,"",null,null,null,null,0,0,null,null,null,null,0,0,null,null,null,0,0,5]
["",61,61,{"$f":"Insert!A63","v":0},{"$f":"Insert!B63","v":0},{"$f":"Insert!C63","v":0},{"$f":"Insert!D63","v":0},{"$f":"Insert!E63","v":0},null,null,null,null,null,null,null,null,null,null,null,null,null,null,null,null,0,"0",null,null,null,null,null,null,null,null,null,null,null,null,null,null,null,null,0,"0",null,null,null,null,null,null,null,null,null,null,null,null,null,null,null,null,0,"0",null,null,null,null,null,null,null,null,null,null,null,null,null,null,null,null,0,"0",0,0,0,"",null,null,null,null,0,0,null,null,null,null,0,0,null,null,null,0,0,5]
["",62,62,{"$f":"Insert!A64","v":0},{"$f":"Insert!B64","v":0},{"$f":"Insert!C64","v":0},{"$f":"Insert!D64","v":0},{"$f":"Insert!E64","v":0},null,null,null,null,null,null,null,null,null,null,null,null,null,null,null,null,0,"0",null,null,null,null,null,null,null,null,null,null,null,null,null,null,null,null,0,"0",null,null,null,null,null,null,null,null,null,null,null,null,null,null,null,null,0,"0",null,null,null,null,null,null,null,null,null,null,null,null,null,null,null,null,0,"0",0,0,0,"",null,null,null,null,0,0,null,null,null,null,0,0,null,null,null,0,0,5]
["",63,63,{"$f":"Insert!A65","v":0},{"$f":"Insert!B65","v":0},{"$f":"Insert!C65","v":0},{"$f":"Insert!D65","v":0},{"$f":"Insert!E65","v":0},null,null,null,null,null,null,null,null,null,null,null,null,null,null,null,null,0,"0",null,null,null,null,null,null,null,null,null,null,null,null,null,null,null,null,0,"0",null,null,null,null,null,null,null,null,null,null,null,null,null,null,null,null,0,"0",null,null,null,null,null,null,null,null,null,null,null,null,null,null,null,null,0,"0",0,0,0,"",null,null,null,null,0,0,null,null,null,null,0,0,null,null,null,0,0,5]
["",64,64,{"$f":"Insert!A66","v":0},{"$f":"Insert!B66","v":0},{"$f":"Insert!C66","v":0},{"$f":"Insert!D66","v":0},{"$f":"Insert!E66","v":0},null,null,null,null,null,null,null,null,null,null,null,null,null,null,null,null,0,"0",null,null,null,null,null,null,null,null,null,null,null,null,null,null,null,null,0,"0",null,null,null,null,null,null,null,null,null,null,null,null,null,null,null,null,0,"0",null,null,null,null,null,null,null,null,null,null,null,null,null,null,null,null,0,"0",0,0,0,"",null,null,null,null,0,0,null,null,null,null,0,0,null,null,null,0,0,5]
["",65,65,{"$f":"Insert!A67","v":0},{"$f":"Insert!B67","v":0},{"$f":"Insert!C67","v":0},{"$f":"Insert!D67","v":0},{"$f":"Insert!E67","v":0},null,null,null,null,null,null,null,null,null,null,null,null,null,null,null,null,{"$f":"SUM(I80:X80)","v":0},{"$f":"IFERROR(ROUND((SUM(Y80*$Y$13)/10),0),\"0\")","v":"0"},null,null,null,null,null,null,null,null,null,null,null,null,null,null,null,null,{"$f":"SUM(AA80:AP80)","v":0},{"$f":"IFERROR(ROUND((SUM(AQ80*$AQ$13)/10),0),\"0\")","v":"0"},null,null,null,null,null,null,null,null,null,null,null,null,null,null,null,null,{"$f":"SUM(AS80:BH80)","v":0},{"$f":"IFERROR(ROUND((SUM(BI80*$BI$13)/10),0),\"0\")","v":"0"},null,null,null,null,null,null,null,null,null,null,null,null,null,null,null,null,{"$f":"SUM(BK80:BZ80)","v":0},{"$f":"IFERROR(ROUND((SUM(CA80*$CA$13)/10),0),\"0\")","v":"0"},{"$f":"ROUND((CL80),0)","v":0},{"$f":"ROUND((CR80),0)","v":0},{"$f":"SUM(CC80:CD80)","v":0},"",null,null,null,null,{"$f":"SUM(CG80:CJ80)","v":0},{"$f":"ROUND(SUM(CK80*$CK$13),0)","v":0},null,null,null,null,{"$f":"SUM(CM80:CP80)","v":0},{"$f":"ROUND(SUM(CQ80*$CQ$13),0)","v":0},null,null,null,{"$f":"SUM(CC80*$CC$13)","v":0},{"$f":"SUM(CD80*$CD$13)","v":0},{"$f":"COUNTA(D80:X80,AA80:AP80,AS80:BH80,BK80:BZ80,CG80:CJ80,CM80:CP80)","v":5}]
[{"$f":"IF(CX81=0,\"X\",\"\")","v":""},66,66,{"$f":"Insert!A68","v":0},{"$f":"Insert!B68","v":0},{"$f":"Insert!C68","v":0},{"$f":"Insert!D68","v":0},{"$f":"Insert!E68","v":0},null,null,null,null,null,null,null,null,null,null,null,null,null,null,null,null,0,"0",null,null,null,null,null,null,null,null,null,null,null,null,null,null,null,null,0,"0",null,null,null,null,null,null,null,null,null,null,null,null,null,null,null,null,0,"0",null,null,null,null,null,null,null,null,null,null,null,null,null,null,null,null,0,"0",0,0,0,{"$f":"IF(CY81>79.4,\"7\",IF(CY81>69.4,\"6\",IF(CY81>59.4,\"5\",IF(CY81>49.4,\"4\",IF(CY81>39.4,\"3\",IF(CY81>29.4,\"2\",IF(CY81>0,\"1\",IF(CY81=0,\"\",IF(CY81=-1,\"\")))))))))","v":""},null,null,null,null,0,0,null,null,null,null,0,0,null,null,null,0,0,5]
["",67,67,{"$f":"Insert!A69","v":0},{"$f":"Insert!B69","v":0},{"$f":"Insert!C69","v":0},{"$f":"Insert!D69","v":0},{"$f":"Insert!E69","v":0},null,null,null,null,null,null,null,null,null,null,null,null,null,null,null,null,0,"0",null,null,null,null,null,null,null,null,null,null,null,null,null,null,null,null,0,"0",null,null,null,null,null,null,null,null,null,null,null,null,null,null,null,null,0,"0",null,null,null,null,null,null,null,null,null,null,null,null,null,null,null,null,0,"0",0,0,0,"",null,null,null,null,0,0,null,null,null,null,0,0,null,null,null,0,0,5]
["",68,68,{"$f":"Insert!A70","v":0},{"$f":"Insert!B70","v":0},{"$f":"Insert!C70","v":0},{"$f":"Insert!D70","v":0},{"$f":"Insert!E70","v":0},null,null,null,null,null,null,null,null,null,null,null,null,null,null,null,null,0,"0",null,null,null,null,null,null,null,null,null,null,null,null,null,null,null,null,0,"0",null,null,null,null,null,null,null,null,null,null,null,null,null,null,null,null,0,"0",null,null,null,null,null,null,null,null,null,null,null,null,null,null,null,null,0,"0",0,0,0,"",null,null,null,null,0,0,null,null,null,null,0,0,null,null,null,0,0,5]
["",69,69,{"$f":"Insert!A71","v":0},{"$f":"Insert!B71","v":0},{"$f":"Insert!C71","v":0},{"$f":"Insert!D71","v":0},{"$f":"Insert!E71","v":0},null,null,null,null,null,null,null,null,null,null,null,null,null,null,null,null,0,"0",null,null,null,null,null,null,null,null,null,null,null,null,null,null,null,null,0,"0",null,null,null,null,null,null,null,null,null,null,null,null,null,null,null,null,0,"0",null,null,null,null,null,null,null,null,null,null,null,null,null,null,null,null,0,"0",0,0,0,"",null,null,null,null,0,0,null,null,null,null,0,0,null,null,null,0,0,5]
["",70,70,{"$f":"Insert!A72","v":0},{"$f":"Insert!B72","v":0},{"$f":"Insert!C72","v":0},{"$f":"Insert!D72","v":0},{"$f":"Insert!E72","v":0},null,null,null,null,null,null,null,null,null,null,null,null,null,null,null,null,0,"0",null,null,null,null,null,null,null,null,null,null,null,null,null,null,null,null,0,"0",null,null,null,null,null,null,null,null,null,null,null,null,null,null,null,null,0,"0",null,null,null,null,null,null,null,null,null,null,null,null,null,null,null,null,0,"0",0,0,0,"",null,null,null,null,0,0,null,null,null,null,0,0,null,null,null,0,0,5]
["",71,71,{"$f":"Insert!A73","v":0},{"$f":"Insert!B73","v":0},{"$f":"Insert!C73","v":0},{"$f":"Insert!D73","v":0},{"$f":"Insert!E73","v":0},null,null,null,null,null,null,null,null,null,null,null,null,null,null,null,null,0,"0",null,null,null,null,null,null,null,null,null,null,null,null,null,null,null,null,0,"0",null,null,null,null,null,null,null,null,null,null,null,null,null,null,null,null,0,"0",null,null,null,null,null,null,null,null,null,null,null,null,null,null,null,null,0,"0",0,0,0,"",null,null,null,null,0,0,null,null,null,null,0,0,null,null,null,0,0,5]
["",72,72,{"$f":"Insert!A74","v":0},{"$f":"Insert!B74","v":0},{"$f":"Insert!C74","v":0},{"$f":"Insert!D74","v":0},{"$f":"Insert!E74","v":0},null,null,null,null,null,null,null,null,null,null,null,null,null,null,null,null,0,"0",null,null,null,null,null,null,null,null,null,null,null,null,null,null,null,null,0,"0",null,null,null,null,null,null,null,null,null,null,null,null,null,null,null,null,0,"0",null,null,null,null,null,null,null,null,null,null,null,null,null,null,null,null,0,"0",0,0,0,"",null,null,null,null,0,0,null,null,null,null,0,0,null,null,null,0,0,5]
["",73,73,{"$f":"Insert!A75","v":0},{"$f":"Insert!B75","v":0},{"$f":"Insert!C75","v":0},{"$f":"Insert!D75","v":0},{"$f":"Insert!E75","v":0},null,null,null,null,null,null,null,null,null,null,null,null,null,null,null,null,0,"0",null,null,null,null,null,null,null,null,null,null,null,null,null,null,null,null,0,"0",null,null,null,null,null,null,null,null,null,null,null,null,null,null,null,null,0,"0",null,null,null,null,null,null,null,null,null,null,null,null,null,null,null,null,0,"0",0,0,0,"",null,null,null,null,0,0,null,null,null,null,0,0,null,null,null,0,0,5]
["",74,74,{"$f":"Insert!A76","v":0},{"$f":"Insert!B76","v":0},{"$f":"Insert!C76","v":0},{"$f":"Insert!D76","v":0},{"$f":"Insert!E76","v":0},null,null,null,null,null,null,null,null,null,null,null,null,null,null,null,null,0,"0",null,null,null,null,null,null,null,null,null,null,null,null,null,null,null,null,0,"0",null,null,null,null,null,null,null,null,null,null,null,null,null,null,null,null,0,"0",null,null,null,null,null,null,null,null,null,null,null,null,null,null,null,null,0,"0",0,0,0,"",null,null,null,null,0,0,null,null,null,null,0,0,null,null,null,0,0,5]
["",75,75,{"$f":"Insert!A77","v":0},{"$f":"Insert!B77","v":0},{"$f":"Insert!C77","v":0},{"$f":"Insert!D77","v":0},{"$f":"Insert!E77","v":0},null,null,null,null,null,null,null,null,null,null,null,null,null,null,null,null,0,"0",null,null,null,null,null,null,null,null,null,null,null,null,null,null,null,null,0,"0",null,null,null,null,null,null,null,null,null,null,null,null,null,null,null,null,0,"0",null,null,null,null,null,null,null,null,null,null,null,null,null,null,null,null,0,"0",0,0,0,"",null,null,null,null,0,0,null,null,null,null,0,0,null,null,null,0,0,5]
["",76,76,{"$f":"Insert!A78","v":0},{"$f":"Insert!B78","v":0},{"$f":"Insert!C78","v":0},{"$f":"Insert!D78","v":0},{"$f":"Insert!E78","v":0},null,null,null,null,null,null,null,null,null,null,null,null,null,null,null,null,0,"0",null,null,null,null,null,null,null,null,null,null,null,null,null,null,null,null,0,"0",null,null,null,null,null,null,null,null,null,null,null,null,null,null,null,null,0,"0",null,null,null,null,null,null,null,null,null,null,null,null,null,null,null,null,0,"0",0,0,0,"",null,null,null,null,0,0,null,null,null,null,0,0,null,null,null,0,0,5]
["",77,77,{"$f":"Insert!A79","v":0},{"$f":"Insert!B79","v":0},{"$f":"Insert!C79","v":0},{"$f":"Insert!D79","v":0},{"$f":"Insert!E79","v":0},null,null,null,null,null,null,null,null,null,null,null,null,null,null,null,null,0,"0",null,null,null,null,null,null,null,null,null,null,null,null,null,null,null,null,0,"0",null,null,null,null,null,null,null,null,null,null,null,null,null,null,null,null,0,"0",null,null,null,null,null,null,null,null,null,null,null,null,null,null,null,null,0,"0",0,0,0,"",null,null,null,null,0,0,null,null,null,null,0,0,null,null,null,0,0,5]
["",78,78,{"$f":"Insert!A80","v":0},{"$f":"Insert!B80","v":0},{"$f":"Insert!C80","v":0},{"$f":"Insert!D80","v":0},{"$f":"Insert!E80","v":0},null,null,null,null,null,null,null,null,null,null,null,null,null,null,null,null,0,"0",null,null,null,null,null,null,null,null,null,null,null,null,null,null,null,null,0,"0",null,null,null,null,null,null,null,null,null,null,null,null,null,null,null,null,0,"0",null,null,null,null,null,null,null,null,null,null,null,null,null,null,null,null,0,"0",0,0,0,"",null,null,null,null,0,0,null,null,null,null,0,0,null,null,null,0,0,5]
["",79,79,{"$f":"Insert!A81","v":0},{"$f":"Insert!B81","v":0},{"$f":"Insert!C81","v":0},{"$f":"Insert!D81","v":0},{"$f":"Insert!E81","v":0},null,null,null,null,null,null,null,null,null,null,null,null,null,null,null,null,0,"0",null,null,null,null,null,null,null,null,null,null,null,null,null,null,null,null,0,"0",null,null,null,null,null,null,null,null,null,null,null,null,null,null,null,null,0,"0",null,null,null,null,null,null,null,null,null,null,null,null,null,null,null,null,0,"0",0,0,0,"",null,null,null,null,0,0,null,null,null,null,0,0,null,null,null,0,0,5]
["",80,80,{"$f":"Insert!A82","v":0},{"$f":"Insert!B82","v":0},{"$f":"Insert!C82","v":0},{"$f":"Insert!D82","v":0},{"$f":"Insert!E82","v":0},null,null,null,null,null,null,null,null,null,null,null,null,null,null,null,null,0,"0",null,null,null,null,null,null,null,null,null,null,null,null,null,null,null,null,0,"0",null,null,null,null,null,null,null,null,null,null,null,null,null,null,null,null,0,"0",null,null,null,null,null,null,null,null,null,null,null,null,null,null,null,null,0,"0",0,0,0,"",null,null,null,null,0,0,null,null,null,null,0,0,null,null,null,0,0,5]
["",81,81,{"$f":"Insert!A83","v":0},{"$f":"Insert!B83","v":0},{"$f":"Insert!C83","v":0},{"$f":"Insert!D83","v":0},{"$f":"Insert!E83","v":0},null,null,null,null,null,null,null,null,null,null,null,null,null,null,null,null,0,"0",null,null,null,null,null,null,null,null,null,null,null,null,null,null,null,null,0,"0",null,null,null,null,null,null,null,null,null,null,null,null,null,null,null,null,0,"0",null,null,null,null,null,null,null,null,null,null,null,null,null,null,null,null,0,"0",0,0,0,"",null,null,null,null,0,0,null,null,null,null,0,0,null,null,null,0,0,5]
["",82,82,{"$f":"Insert!A84","v":0},{"$f":"Insert!B84","v":0},{"$f":"Insert!C84","v":0},{"$f":"Insert!D84","v":0},{"$f":"Insert!E84","v":0},null,null,null,null,null,null,null,null,null,null,null,null,null,null,null,null,0,"0",null,null,null,null,null,null,null,null,null,null,null,null,null,null,null,null,0,"0",null,null,null,null,null,null,null,null,null,null,null,null,null,null,null,null,0,"0",null,null,null,null,null,null,null,null,null,null,null,null,null,null,null,null,0,"0",0,0,0,"",null,null,null,null,0,0,null,null,null,null,0,0,null,null,null,0,0,5]
["",83,83,{"$f":"Insert!A85","v":0},{"$f":"Insert!B85","v":0},{"$f":"Insert!C85","v":0},{"$f":"Insert!D85","v":0},{"$f":"Insert!E85","v":0},null,null,null,null,null,null,null,null,null,null,null,null,null,null,null,null,0,"0",null,null,null,null,null,null,null,null,null,null,null,null,null,null,null,null,0,"0",null,null,null,null,null,null,null,null,null,null,null,null,null,null,null,null,0,"0",null,null,null,null,null,null,null,null,null,null,null,null,null,null,null,null,0,"0",0,0,0,"",null,null,null,null,0,0,null,null,null,null,0,0,null,null,null,0,0,5]
["",84,84,{"$f":"Insert!A86","v":0},{"$f":"Insert!B86","v":0},{"$f":"Insert!C86","v":0},{"$f":"Insert!D86","v":0},{"$f":"Insert!E86","v":0},null,null,null,null,null,null,null,null,null,null,null,null,null,null,null,null,0,"0",null,null,null,null,null,null,null,null,null,null,null,null,null,null,null,null,0,"0",null,null,null,null,null,null,null,null,null,null,null,null,null,null,null,null,0,"0",null,null,null,null,null,null,null,null,null,null,null,null,null,null,null,null,0,"0",0,0,0,"",null,null,null,null,0,0,null,null,null,null,0,0,null,null,null,0,0,5]
["",85,85,{"$f":"Insert!A87","v":0},{"$f":"Insert!B87","v":0},{"$f":"Insert!C87","v":0},{"$f":"Insert!D87","v":0},{"$f":"Insert!E87","v":0},null,null,null,null,null,null,null,null,null,null,null,null,null,null,null,null,0,"0",null,null,null,null,null,null,null,null,null,null,null,null,null,null,null,null,0,"0",null,null,null,null,null,null,null,null,null,null,null,null,null,null,null,null,0,"0",null,null,null,null,null,null,null,null,null,null,null,null,null,null,null,null,0,"0",0,0,0,"",null,null,null,null,0,0,null,null,null,null,0,0,null,null,null,0,0,5]
["",86,86,{"$f":"Insert!A88","v":0},{"$f":"Insert!B88","v":0},{"$f":"Insert!C88","v":0},{"$f":"Insert!D88","v":0},{"$f":"Insert!E88","v":0},null,null,null,null,null,null,null,null,null,null,null,null,null,null,null,null,0,"0",null,null,null,null,null,null,null,null,null,null,null,null,null,null,null,null,0,"0",null,null,null,null,null,null,null,null,null,null,null,null,null,null,null,null,0,"0",null,null,null,null,null,null,null,null,null,null,null,null,null,null,null,null,0,"0",0,0,0,"",null,null,null,null,0,0,null,null,null,null,0,0,null,null,null,0,0,5]
["",87,87,{"$f":"Insert!A89","v":0},{"$f":"Insert!B89","v":0},{"$f":"Insert!C89","v":0},{"$f":"Insert!D89","v":0},{"$f":"Insert!E89","v":0},null,null,null,null,null,null,null,null,null,null,null,null,null,null,null,null,0,"0",null,null,null,null,null,null,null,null,null,null,null,null,null,null,null,null,0,"0",null,null,null,null,null,null,null,null,null,null,null,null,null,null,null,null,0,"0",null,null,null,null,null,null,null,null,null,null,null,null,null,null,null,null,0,"0",0,0,0,"",null,null,null,null,0,0,null,null,null,null,0,0,null,null,null,0,0,5]
["",88,88,{"$f":"Insert!A90","v":0},{"$f":"Insert!B90","v":0},{"$f":"Insert!C90","v":0},{"$f":"Insert!D90","v":0},{"$f":"Insert!E90","v":0},null,null,null,null,null,null,null,null,null,null,null,null,null,null,null,null,0,"0",null,null,null,null,null,null,null,null,null,null,null,null,null,null,null,null,0,"0",null,null,null,null,null,null,null,null,null,null,null,null,null,null,null,null,0,"0",null,null,null,null,null,null,null,null,null,null,null,null,null,null,null,null,0,"0",0,0,0,"",null,null,null,null,0,0,null,null,null,null,0,0,null,null,null,0,0,5]
["",89,89,{"$f":"Insert!A91","v":0},{"$f":"Insert!B91","v":0},{"$f":"Insert!C91","v":0},{"$f":"Insert!D91","v":0},{"$f":"Insert!E91","v":0},null,null,null,null,null,null,null,null,null,null,null,null,null,null,null,null,0,"0",null,null,null,null,null,null,null,null,null,null,null,null,null,null,null,null,0,"0",null,null,null,null,null,null,null,null,null,null,null,null,null,null,null,null,0,"0",null,null,null,null,null,null,null,null,null,null,null,null,null,null,null,null,0,"0",0,0,0,"",null,null,null,null,0,0,null,null,null,null,0,0,null,null,null,0,0,5]
["",90,90,{"$f":"Insert!A92","v":0},{"$f":"Insert!B92","v":0},{"$f":"Insert!C92","v":0},{"$f":"Insert!D92","v":0},{"$f":"Insert!E92","v":0},null,null,null,null,null,null,null,null,null,null,null,null,null,null,null,null,0,"0",null,null,null,null,null,null,null,null,null,null,null,null,null,null,null,null,0,"0",null,null,null,null,null,null,null,null,null,null,null,null,null,null,null,null,0,"0",null,null,null,null,null,null,null,null,null,null,null,null,null,null,null,null,0,"0",0,0,0,"",null,null,null,null,0,0,null,null,null,null,0,0,null,null,null,0,0,5]
["",91,91,{"$f":"Insert!A93","v":0},{"$f":"Insert!B93","v":0},{"$f":"Insert!C93","v":0},{"$f":"Insert!D93","v":0},{"$f":"Insert!E93","v":0},null,null,null,null,null,null,null,null,null,null,null,null,null,null,null,null,0,"0",null,null,null,null,null,null,null,null,null,null,null,null,null,null,null,null,0,"0",null,null,null,null,null,null,null,null,null,null,null,null,null,null,null,null,0,"0",null,null,null,null,null,null,null,null,null,null,null,null,null,null,null,null,0,"0",0,0,0,"",null,null,null,null,0,0,null,null,null,null,0,0,null,null,null,0,0,5]
["",92,92,{"$f":"Insert!A94","v":0},{"$f":"Insert!B94","v":0},{"$f":"Insert!C94","v":0},{"$f":"Insert!D94","v":0},{"$f":"Insert!E94","v":0},null,null,null,null,null,null,null,null,null,null,null,null,null,null,null,null,0,"0",null,null,null,null,null,null,null,null,null,null,null,null,null,null,null,null,0,"0",null,null,null,null,null,null,null,null,null,null,null,null,null,null,null,null,0,"0",null,null,null,null,null,null,null,null,null,null,null,null,null,null,null,null,0,"0",0,0,0,"",null,null,null,null,0,0,null,null,null,null,0,0,null,null,null,0,0,5]
["",93,93,{"$f":"Insert!A95","v":0},{"$f":"Insert!B95","v":0},{"$f":"Insert!C95","v":0},{"$f":"Insert!D95","v":0},{"$f":"Insert!E95","v":0},null,null,null,null,null,null,null,null,null,null,null,null,null,null,null,null,0,"0",null,null,null,null,null,null,null,null,null,null,null,null,null,null,null,null,0,"0",null,null,null,null,null,null,null,null,null,null,null,null,null,null,null,null,0,"0",null,null,null,null,null,null,null,null,null,null,null,null,null,null,null,null,0,"0",0,0,0,"",null,null,null,null,0,0,null,null,null,null,0,0,null,null,null,0,0,5]
["",94,94,{"$f":"Insert!A96","v":0},{"$f":"Insert!B96","v":0},{"$f":"Insert!C96","v":0},{"$f":"Insert!D96","v":0},{"$f":"Insert!E96","v":0},null,null,null,null,null,null,null,null,null,null,null,null,null,null,null,null,0,"0",null,null,null,null,null,null,null,null,null,null,null,null,null,null,null,null,0,"0",null,null,null,null,null,null,null,null,null,null,null,null,null,null,null,null,0,"0",null,null,null,null,null,null,null,null,null,null,null,null,null,null,null,null,0,"0",0,0,0,"",null,null,null,null,0,0,null,null,null,null,0,0,null,null,null,0,0,5]
["",95,95,{"$f":"Insert!A97","v":0},{"$f":"Insert!B97","v":0},{"$f":"Insert!C97","v":0},{"$f":"Insert!D97","v":0},{"$f":"Insert!E97","v":0},null,null,null,null,null,null,null,null,null,null,null,null,null,null,null,null,0,"0",null,null,null,null,null,null,null,null,null,null,null,null,null,null,null,null,0,"0",null,null,null,null,null,null,null,null,null,null,null,null,null,null,null,null,0,"0",null,null,null,null,null,null,null,null,null,null,null,null,null,null,null,null,0,"0",0,0,0,"",null,null,null,null,0,0,null,null,null,null,0,0,null,null,null,0,0,5]
["",96,96,{"$f":"Insert!A98","v":0},{"$f":"Insert!B98","v":0},{"$f":"Insert!C98","v":0},{"$f":"Insert!D98","v":0},{"$f":"Insert!E98","v":0},null,null,null,null,null,null,null,null,null,null,null,null,null,null,null,null,0,"0",null,null,null,null,null,null,null,null,null,null,null,null,null,null,null,null,0,"0",null,null,null,null,null,null,null,null,null,null,null,null,null,null,null,null,0,"0",null,null,null,null,null,null,null,null,null,null,null,null,null,null,null,null,0,"0",0,0,0,"",null,null,null,null,0,0,null,null,null,null,0,0,null,null,null,0,0,5]
["",97,97,{"$f":"Insert!A99","v":0},{"$f":"Insert!B99","v":0},{"$f":"Insert!C99","v":0},{"$f":"Insert!D99","v":0},{"$f":"Insert!E99","v":0},null,null,null,null,null,null,null,null,null,null,null,null,null,null,null,null,{"$f":"SUM(I112:X112)","v":0},{"$f":"IFERROR(ROUND((SUM(Y112*$Y$13)/10),0),\"0\")","v":"0"},null,null,null,null,null,null,null,null,null,null,null,null,null,null,null,null,{"$f":"SUM(AA112:AP112)","v":0},{"$f":"IFERROR(ROUND((SUM(AQ112*$AQ$13)/10),0),\"0\")","v":"0"},null,null,null,null,null,null,null,null,null,null,null,null,null,null,null,null,{"$f":"SUM(AS112:BH112)","v":0},{"$f":"IFERROR(ROUND((SUM(BI112*$BI$13)/10),0),\"0\")","v":"0"},null,null,null,null,null,null,null,null,null,null,null,null,null,null,null,null,{"$f":"SUM(BK112:BZ112)","v":0},{"$f":"IFERROR(ROUND((SUM(CA112*$CA$13)/10),0),\"0\")","v":"0"},0,0,0,"",null,null,null,null,{"$f":"SUM(CG112:CJ112)","v":0},{"$f":"ROUND(SUM(CK112*$CK$13),0)","v":0},null,null,null,null,{"$f":"SUM(CM112:CP112)","v":0},{"$f":"ROUND(SUM(CQ112*$CQ$13),0)","v":0},null,null,null,0,0,5]
["",98,98,{"$f":"Insert!A100","v":0},{"$f":"Insert!B100","v":0},{"$f":"Insert!C100","v":0},{"$f":"Insert!D100","v":0},{"$f":"Insert!E100","v":0},null,null,null,null,null,null,null,null,null,null,null,null,null,null,null,null,0,"0",null,null,null,null,null,null,null,null,null,null,null,null,null,null,null,null,0,"0",null,null,null,null,null,null,null,null,null,null,null,null,null,null,null,null,0,"0",null,null,null,null,null,null,null,null,null,null,null,null,null,null,null,null,0,"0",0,0,0,"",null,null,null,null,0,0,null,null,null,null,0,0,null,null,null,0,0,5]
["",99,99,{"$f":"Insert!A101","v":0},{"$f":"Insert!B101","v":0},{"$f":"Insert!C101","v":0},{"$f":"Insert!D101","v":0},{"$f":"Insert!E101","v":0},null,null,null,null,null,null,null,null,null,null,null,null,null,null,null,null,0,"0",null,null,null,null,null,null,null,null,null,null,null,null,null,null,null,null,0,"0",null,null,null,null,null,null,null,null,null,null,null,null,null,null,null,null,0,"0",null,null,null,null,null,null,null,null,null,null,null,null,null,null,null,null,0,"0",0,0,0,"",null,null,null,null,0,0,null,null,null,null,0,0,null,null,null,0,0,5]
["",100,100,{"$f":"Insert!A102","v":0},{"$f":"Insert!B102","v":0},{"$f":"Insert!C102","v":0},{"$f":"Insert!D102","v":0},{"$f":"Insert!E102","v":0},null,null,null,null,null,null,null,null,null,null,null,null,null,null,null,null,0,"0",null,null,null,null,null,null,null,null,null,null,null,null,null,null,null,null,0,"0",null,null,null,null,null,null,null,null,null,null,null,null,null,null,null,null,0,"0",null,null,null,null,null,null,null,null,null,null,null,null,null,null,null,null,0,"0",0,0,0,"",null,null,null,null,0,0,null,null,null,null,0,0,null,null,null,0,0,5]
[null,"Total amount of learners on mark sheet",null,null,null,"x",null,"TOTAL",{"$f":"SUMIF(I16:I115,\">0\")","v":0},0,0,0,{"$f":"SUMIF(M16:M115,\">0\")","v":0},0,0,0,0,0,0,0,0,0,0,0,{"$f":"SUMIF(Y16:Y115,\">0\")","v":0},0,{"$f":"SUMIF(AA16:AA115,\">0\")","v":0},0,0,0,{"$f":"SUMIF(AE16:AE115,\">0\")","v":0},0,0,0,0,0,0,0,0,0,0,0,{"$f":"SUMIF(AQ16:AQ115,\">0\")","v":0},0,{"$f":"SUMIF(AS16:AS115,\">0\")","v":0},0,0,0,{"$f":"SUMIF(AW16:AW115,\">0\")","v":0},0,0,0,0,0,0,0,0,0,0,0,{"$f":"SUM(BI16:BI115)","v":0},{"$f":"SUM(BJ16:BJ115)","v":0},{"$f":"SUMIF(BK16:BK115,\">0\")","v":0},0,0,0,{"$f":"SUMIF(BO16:BO115,\">0\")","v":0},0,0,0,0,0,0,0,0,0,0,0,0,0,{"$f":"SUMIF(CC16:CC115,\">0\")","v":0},{"$f":"SUMIF(CD16:CD115,\">0\")","v":0},{"$f":"SUMIF(CE16:CE115,\">0\")","v":0},null,{"$f":"SUMIF(CG16:CG115,\">0\")","v":0},0,0,0,0,0,0,0,0,0,{"$f":"SUMIF(CQ16:CQ115,\">0\")","v":0},{"$f":"SUMIF(CR16:CR115,\">0\")","v":0}]
[null,null,null,null,null,"x",null,"AVERAGE",{"$f":"IFERROR(SUM(I116/$B$119),\"0\")","v":"0"},"0","0","0","0","0","0","0","0","0","0","0","0","0","0","0","0","0","0","0","0","0","0","0","0","0","0","0","0","0","0","0",{"$f":"IFERROR(SUM(AO116/$B$119),\"0\")","v":"0"},"0","0","0","0","0","0","0","0","0","0","0","0","0","0","0","0","0","0","0","0","0","0","0","0","0","0","0","0","0","0","0",{"$f":"IFERROR(SUM(BU116/$B$119),\"0\")","v":"0"},"0","0","0","0","0","0","0","0","0","0",null,{"$f":"IFERROR(SUM(CG116/$B$119),\"0\")","v":"0"},"0","0","0","0","0","0","0","0","0","0","0"]
[null,null,null,null,null,"x",null,"PERCENTAGE",{"$f":"IFERROR(ROUND((SUM(I117/I12)*100),0),\"0\")","v":"0"},{"$f":"IFERROR(ROUND((SUM(J117/J12)*100),0),\"0\")","v":"0"},{"$f":"IFERROR(ROUND((SUM(K117/K12)*100),0),\"0\")","v":"0"},"0",{"$f":"IFERROR(ROUND((SUM(M117/M12)*100),0),\"0\")","v":"0"},"0","0","0","0","0","0","0","0","0","0","0",{"$f":"IFERROR(ROUND((SUM(Y117/Y12)*100),0),\"0\")","v":"0"},0,"0","0","0","0",{"$f":"IFERROR(ROUND((SUM(AE117/AE12)*100),0),\"0\")","v":"0"},"0","0","0","0","0","0","0","0","0","0","0",{"$f":"IFERROR(ROUND((SUM(AQ117/AQ12)*100),0),\"0\")","v":"0"},0,{"$f":"IFERROR(ROUND((SUM(AS117/AS12)*100),0),\"0\")","v":"0"},"0","0","0",{"$f":"IFERROR(ROUND((SUM(AW117/AW12)*100),0),\"0\")","v":"0"},"0","0","0","0","0","0","0","0","0","0","0","0",0,"0","0","0","0",{"$f":"IFERROR(ROUND((SUM(BO117/BO12)*100),0),\"0\")","v":"0"},"0","0","0","0","0","0","0","0","0","0","0","0",0,0,0,0,null,{"$f":"IFERROR(ROUND((SUM(CG117/CG12)*100),0),\"0\")","v":0},0,0,0,0,{"$f":"IFERROR(ROUND((SUM(CL117/CL12)*100),0),\"0\")","v":0},{"$f":"ROUND((SUM(CM117/CM12)*100),0)","v":0},{"$f":"ROUND((SUM(CN117/CN12)*100),0)","v":0},{"$f":"ROUND((SUM(CO117/CO12)*100),0)","v":0},{"$f":"ROUND((SUM(CP117/CP12)*100),0)","v":0},{"$f":"ROUND((SUM(CQ117/CQ12)*100),0)","v":0},{"$f":"ROUND((SUM(CR117/CR12)*100),0)","v":0}]
[null,{"$f":"Insert!$F$103","v":0},null,null,null,"x","TOTAL HANDED IN",null,{"$f":"COUNT(I16:I115)","v":0},0,0,0,0,0,0,0,0,0,0,0,0,0,0,0,null,null,{"$f":"COUNT(AA16:AA115)","v":0},0,0,0,0,0,0,0,0,0,0,0,0,0,0,0,null,null,{"$f":"COUNT(AS16:AS115)","v":0},0,0,0,0,0,0,0,0,0,0,0,0,0,0,0,null,null,{"$f":"COUNT(BK16:BK115)","v":0},0,0,0,0,0,0,0,0,0,0,0,0,0,0,0,null,null,"EXAM LEVELS"]
[null,null,null,0,0,0,0,null,0,null,null,null,null,null,null,null,null,null,null,null,null,null,null,null,null,null,null,null,null,null,null,null,null,null,null,null,null,null,null,null,null,null,null,null,null,null,null,null,null,null,null,null,null,null,null,null,null,null,null,null,null,null,null,null,null,null,null,null,null,null,null,null,null,null,null,null,null,null,null,null,"LEVEL 1",null,"LEVEL 2",null,"LEVEL 3",null,"LEVEL 4",null,"LEVEL 5",null,"LEVEL 6",null,"LEVEL 7"]
[null,null,null,0,0,0,0,null,0,null,null,null,null,null,null,null,null,null,null,null,null,null,null,null,null,null,null,null,null,null,null,null,null,null,null,null,null,null,null,null,null,null,null,null,null,null,null,null,null,null,null,null,null,null,null,null,null,null,null,null,null,null,null,null,null,null,null,null,null,null,null,null,null,null,null,null,null,null,null,null," 0 - 29 ",null," 30 - 39 ",null," 40 - 49 ",null," 50 - 59 ",null," 60 - 69 ",null," 70 - 79 ",null,"80 - 100"]
[null,null,null,0,0,0,0,null,0,null,null,null,null,null,null,null,null,null,null,null,null,null,null,null,null,null,null,null,null,null,null,null,null,null,null,null,null,null,null,null,null,null,null,null,null,null,null,null,null,null,null,null,null,null,null,null,null,null,null,null,null,null,null,null,null,null,null,null,null,null,null,null,null,null,null,null,null,null,null,null,{"$f":"COUNTIF($CF$16:$CF$115,1)","v":0},null,{"$f":"COUNTIF($CF$16:$CF$115,2)","v":0},null,{"$f":"COUNTIF($CF$16:$CF$115,3)","v":0},null,{"$f":"COUNTIF($CF$16:$CF$115,4)","v":0},null,{"$f":"COUNTIF($CF$16:$CF$115,5)","v":0},null,{"$f":"COUNTIF($CF$16:$CF$115,6)","v":0},null,{"$f":"COUNTIF($CF$16:$CF$115,7)","v":0}]

{"sheet":"TERM3","index":5,"n_rows":123,"n_cols":118,"rows_kept":123,"cut":false,"hidden":false,"merged":[[4,115,14,115],[4,116,14,116],[4,117,14,117],[4,113,10,113],[3,80,3,97],[4,80,9,80],[4,81,9,81],[4,95,9,95],[4,96,10,96],[4,97,10,97],[4,112,10,112],[4,100,10,100],[4,109,10,109],[3,98,3,101],[4,103,10,103],[4,104,10,104],[4,82,9,82],[4,83,9,83],[4,99,10,99],[4,101,10,101],[4,102,10,102],[4,93,9,93],[4,92,9,92],[121,111,121,112],[122,98,122,99],[122,100,122,101],[122,102,122,103],[122,104,122,105],[122,106,122,108],[122,109,122,110],[122,111,122,112],[121,98,121,99],[121,100,121,101],[121,102,121,103],[121,104,121,105],[121,106,121,108],[121,109,121,110],[120,109,120,110],[119,98,119,112],[4,110,10,110],[4,111,10,111],[4,107,10,107],[120,111,120,112],[120,98,120,99],[120,100,120,101],[120,102,120,103],[120,104,120,105],[120,106,120,108],[3,26,3,43],[3,44,3,61],[3,62,3,79],[4,108,10,108],[4,98,10,98],[4,60,10,60],[4,29,9,29],[4,40,9,40],[4,28,9,28],[4,105,10,105],[4,106,10,106],[4,26,9,26],[4,27,9,27],[4,94,9,94],[4,46,9,46],[4,65,9,65],[4,59,9,59],[4,84,9,84],[4,85,9,85],[4,86,9,86],[4,41,9,41],[4,42,10,42],[4,45,9,45],[4,61,10,61],[3,8,3,25],[4,8,9,8],[4,9,9,9],[4,23,9,23],[9,5,9,6],[10,5,10,6],[9,1,9,4],[4,24,10,24],[4,25,10,25],[4,12,9,12],[4,13,9,13],[4,14,9,14],[4,15,9,15],[4,21,9,21],[4,16,9,16],[4,17,9,17],[4,18,9,18],[4,19,9,19],[4,20,9,20],[4,22,9,22],[118,1,119,4],[4,10,9,10],[119,5,119,6],[115,5,115,6],[116,5,116,6],[117,5,117,6],[4,11,9,11],[10,1,10,4],[4,67,9,67],[4,31,9,31],[4,32,9,32],[4,33,9,33],[4,34,9,34],[4,53,9,53],[4,54,9,54],[4,43,10,43],[4,44,9,44],[4,47,9,47],[4,35,9,35],[4,36,9,36],[4,37,9,37],[4,68,9,68],[4,69,9,69],[4,70,9,70],[4,71,9,71],[4,72,9,72],[4,73,9,73],[4,74,9,74],[115,1,117,4],[4,55,9,55],[4,56,9,56],[4,57,9,57],[4,48,9,48],[4,49,9,49],[4,50,9,50],[4,51,9,51],[4,52,9,52],[4,62,9,62],[4,63,9,63],[4,58,9,58],[4,64,9,64],[4,66,9,66],[4,38,9,38],[4,39,9,39],[4,30,9,30],[4,75,9,75],[4,87,9,87],[4,88,9,88],[4,89,9,89],[4,90,9,90],[4,91,9,91],[4,77,9,77],[4,78,10,78],[4,79,10,79],[4,76,9,76]]}
[]
[null,"ENGINEERING GRAPHICS AND DESIGN"]
[null,null,null,null,null,null,null,null,"PROGRAM OF ASSESSMENT  :  TERM 3",null,null,null,null,null,null,null,null,null,null,null,null,null,null,null,null,null,null,null,null,null,null,null,null,null,null,null,null,null,null,null,null,null,null,null,null,null,null,null,null,null,null,null,null,null,null,null,null,null,null,null,null,null,null,null,null,null,null,null,null,null,null,null,null,null,null,null,null,null,null,null,null,null,null,null,null,null,null,null,null,null,null,null,null,null,null,null,null,null,null,null,null,null,"SEPT EXAM",null,null,null,null,null,"SEPT EXAM"]
[null,null,null,null,null,null,null,null,"CD11 2nd Interpenetration & Development (Including a cilinder(s)",null,null,null,null,null,null,null,null,null,null,null,null,null,null,null,null,null,"CD12 Loci: Cam",null,null,null,null,null,null,null,null,null,null,null,null,null,null,null,null,null,"CD13 Loci: 1st Mechanism",null,null,null,null,null,null,null,null,null,null,null,null,null,null,null,null,null,"CD14 Loci: 2nd Mechanism",null,null,null,null,null,null,null,null,null,null,null,null,null,null,null,null,null,"CD15 3rd Mechanical Drawings",null,null,null,null,null,null,null,null,null,null,null,null,null,null,null,null,null,"SEPT EXAM",null,null,null,null,null,null,null,null,null,"PAPER 2"]
[36,null,null,null,"School:",null,null,null,"CD 11.1","CD 11.2","CD 11.3",null,null,null,null,null,null,null,null,null,null,null,null,null,null,null,"CD 12.1","CD 12.2","CD 12.3",null,null,null,null,null,null,null,null,null,null,null,null,null,null,null,"CD 13.1","CD 13.2","CD 13.3",null,null,null,null,null,null,null,null,null,null,null,null,null,null,null,"CD 14.1","CD14.2","CD 14.3",null,null,null,null,null,null,null,null,null,null,null,null,null,null,null,"CD 15.1","CD 15.2","CD 15.3",null,null,null,null,null,null,null,null,null,null,null,null,null,"TOTAL CD15","TOTAL","PAPER 1","PAPER 2",null,null,"Question 1","Question 2","Question 3","Question 4",null,null,"Question 1","Question 2","Question 3","Question 4","TOTAL","TOTAL = 100",null,"Helper Test 1","Helper Test 2","Helper Count Course drawings"]
[null,null,null,null,"Grade:"]
[null,null,null,null,"Teacher:"]
[null,null,null,null,"HOD:"]
[null,null,null,null,"EGD SES:"]
[]
[null,null,null,null,null,null,null,null,11.1,11.2,11.3,11.4,11.5,11.6,11.7,11.8,11.9,11.1,11.11,11.122999999999999,11.13,11.14,11.15,11.16,null,null,12.1,12.2,12.3,12.4,12.5,12.6,12.7,12.8,12.9,12.1,12.11,12.12,12.13,12.14,12.15,12.16,null,null,13.1,13.2,13.3,13.4,13.5,13.6,13.7,13.8,13.9,13.1,13.11,13.12,13.13,13.14,13.15,13.16,null,null,14.1,14.2,14.3,14.4,14.5,14.6,14.7,14.8,14.9,14.1,14.11,14.12,14.13,14.14,14.15,14.16,null,null,15.1,15.2,15.3,15.4,15.5,15.6,15.7,15.8,15.9,15.1,15.11,15.12,15.13,15.14,15.15,15.16]
[null,null,null,"Class","Admission","SURNAME","NAME","Gender",null,null,null,null,null,null,null,null,null,null,null,null,null,null,null,null,{"$f":"SUM(I12:X12)","v":0},10,null,null,null,null,null,null,null,null,null,null,null,null,null,null,null,null,{"$f":"SUM(AA12:AP12)","v":0},10,null,null,null,null,null,null,null,null,null,null,null,null,null,null,null,null,{"$f":"SUM(AS12:BH12)","v":0},10,null,null,null,null,null,null,null,null,null,null,null,null,null,null,null,null,{"$f":"SUM(BK12:BZ12)","v":0},10,null,null,null,null,null,null,null,null,null,null,null,null,null,null,null,null,{"$f":"SUM(CC12:CR12)","v":0},10,{"$f":"$DD$12","v":100},{"$f":"$DJ$12","v":100},200,null,29,31,40,101,{"$f":"SUM(CY12:DB12)","v":201},{"$f":"SUM(DC12*$DC$13)","v":100},29,39,40,92,{"$f":"SUM(DE12:DH12)","v":200},{"$f":"SUM(DI12*$DI$13)","v":100}]
[null,null,null,null,null,null,null,null,{"$f":"IF(I12>0,\"\",\"X\")","v":"X"},{"$f":"IF(J12>0,\"\",\"X\")","v":"X"},"X","X","X","X","X","X","X","X","X","X","X","X","X","X",{"$f":"SUM(100/Y12)","v":{"$error":"#DIV/0!"}},null,{"$f":"IF(AA12>0,\"\",\"X\")","v":"X"},{"$f":"IF(AB12>0,\"\",\"X\")","v":"X"},{"$f":"IF(AC12>0,\"\",\"X\")","v":"X"},{"$f":"IF(AD12>0,\"\",\"X\")","v":"X"},{"$f":"IF(AE12>0,\"\",\"X\")","v":"X"},{"$f":"IF(AF12>0,\"\",\"X\")","v":"X"},{"$f":"IF(AG12>0,\"\",\"X\")","v":"X"},{"$f":"IF(AH12>0,\"\",\"X\")","v":"X"},{"$f":"IF(AI12>0,\"\",\"X\")","v":"X"},{"$f":"IF(AJ12>0,\"\",\"X\")","v":"X"},{"$f":"IF(AK12>0,\"\",\"X\")","v":"X"},{"$f":"IF(AL12>0,\"\",\"X\")","v":"X"},{"$f":"IF(AM12>0,\"\",\"X\")","v":"X"},{"$f":"IF(AN12>0,\"\",\"X\")","v":"X"},{"$f":"IF(AO12>0,\"\",\"X\")","v":"X"},{"$f":"IF(AP12>0,\"\",\"X\")","v":"X"},{"$f":"SUM(100/AQ12)","v":{"$error":"#DIV/0!"}},null,{"$f":"IF(AS12>0,\"X\",\"\")","v":""},{"$f":"IF(AT12>0,\"\",\"X\")","v":"X"},{"$f":"IF(AU12>0,\"\",\"X\")","v":"X"},{"$f":"IF(AV12>0,\"\",\"X\")","v":"X"},{"$f":"IF(AW12>0,\"\",\"X\")","v":"X"},{"$f":"IF(AX12>0,\"\",\"X\")","v":"X"},{"$f":"IF(AY12>0,\"\",\"X\")","v":"X"},{"$f":"IF(AZ12>0,\"\",\"X\")","v":"X"},{"$f":"IF(BA12>0,\"\",\"X\")","v":"X"},{"$f":"IF(BB12>0,\"\",\"X\")","v":"X"},{"$f":"IF(BC12>0,\"\",\"X\")","v":"X"},{"$f":"IF(BD12>0,\"\",\"X\")","v":"X"},{"$f":"IF(BE12>0,\"\",\"X\")","v":"X"},{"$f":"IF(BF12>0,\"\",\"X\")","v":"X"},{"$f":"IF(BG12>0,\"\",\"X\")","v":"X"},{"$f":"IF(BH12>0,\"\",\"X\")","v":"X"},{"$f":"SUM(100/BI12)","v":{"$error":"#DIV/0!"}},null,{"$f":"IF(BK12>0,\"\",\"X\")","v":"X"},{"$f":"IF(BL12>0,\"\",\"X\")","v":"X"},{"$f":"IF(BM12>0,\"\",\"X\")","v":"X"},{"$f":"IF(BN12>0,\"\",\"X\")","v":"X"},{"$f":"IF(BO12>0,\"\",\"X\")","v":"X"},{"$f":"IF(BP12>0,\"\",\"X\")","v":"X"},{"$f":"IF(BQ12>0,\"\",\"X\")","v":"X"},{"$f":"IF(BR12>0,\"\",\"X\")","v":"X"},{"$f":"IF(BS12>0,\"\",\"X\")","v":"X"},{"$f":"IF(BT12>0,\"\",\"X\")","v":"X"},{"$f":"IF(BU12>0,\"\",\"X\")","v":"X"},{"$f":"IF(BV12>0,\"\",\"X\")","v":"X"},{"$f":"IF(BW12>0,\"\",\"X\")","v":"X"},{"$f":"IF(BX12>0,\"\",\"X\")","v":"X"},{"$f":"IF(BY12>0,\"\",\"X\")","v":"X"},{"$f":"IF(BZ12>0,\"\",\"X\")","v":"X"},{"$f":"SUM(100/CA12)","v":{"$error":"#DIV/0!"}},null,{"$f":"IF(CC12>0,\"\",\"X\")","v":"X"},{"$f":"IF(CD12>0,\"\",\"X\")","v":"X"},{"$f":"IF(CE12>0,\"\",\"X\")","v":"X"},{"$f":"IF(CF12>0,\"\",\"X\")","v":"X"},{"$f":"IF(CG12>0,\"\",\"X\")","v":"X"},{"$f":"IF(CH12>0,\"\",\"X\")","v":"X"},{"$f":"IF(CI12>0,\"\",\"X\")","v":"X"},{"$f":"IF(CJ12>0,\"\",\"X\")","v":"X"},{"$f":"IF(CK12>0,\"\",\"X\")","v":"X"},{"$f":"IF(CL12>0,\"\",\"X\")","v":"X"},{"$f":"IF(CM12>0,\"\",\"X\")","v":"X"},{"$f":"IF(CN12>0,\"\",\"X\")","v":"X"},{"$f":"IF(CO12>0,\"\",\"X\")","v":"X"},{"$f":"IF(CP12>0,\"\",\"X\")","v":"X"},{"$f":"IF(CQ12>0,\"\",\"X\")","v":"X"},{"$f":"IF(CR12>0,\"\",\"X\")","v":"X"},{"$f":"SUM(100/CS12)","v":{"$error":"#DIV/0!"}},null,{"$f":"SUM(100/CU12)*0.5","v":0.5},{"$f":"SUM(100/CV12)*0.5","v":0.5},null,null,null,null,null,null,{"$f":"IFERROR(SUM(100/DC12),\"0\")","v":0.49751243781094528},null,null,null,null,null,{"$f":"IFERROR(SUM(100/DI12),\"0\")","v":0.5}]
[null,null,null,null,null,null,null,"DATE:"]
[]
[{"$f":"IF(DN16=0,\"X\",\"\")","v":""},1,1,{"$f":"Insert!A3","v":0},{"$f":"Insert!B3","v":0},{"$f":"Insert!C3","v":0},{"$f":"Insert!D3","v":0},{"$f":"Insert!E3","v":0},null,null,null,null,null,null,null,null,null,null,null,null,null,null,null,null,{"$f":"SUM(I16:X16)","v":0},{"$f":"IFERROR(ROUND((SUM(Y16*$Y$13)/10),0),\"0\")","v":"0"},null,null,null,null,null,null,null,null,null,null,null,null,null,null,null,null,{"$f":"SUM(AA16:AP16)","v":0},{"$f":"IFERROR(ROUND((SUM(AQ16*$AQ$13)/10),0),\"0\")","v":"0"},null,null,null,null,null,null,null,null,null,null,null,null,null,null,null,null,{"$f":"SUM(AS16:BH16)","v":0},{"$f":"IFERROR(ROUND((SUM(BI16*$BI$13)/10),0),\"0\")","v":"0"},null,null,null,null,null,null,null,null,null,null,null,null,null,null,null,null,{"$f":"SUM(BK16:BZ16)","v":0},{"$f":"IFERROR(ROUND((SUM(CA16*$CA$13)/10),0),\"0\")","v":"0"},null,null,null,null,null,null,null,null,null,null,null,null,null,null,null,null,{"$f":"SUM(CC16:CR16)","v":0},{"$f":"IFERROR(ROUND((SUM(CS16*$CS$13)/10),0),\"0\")","v":"0"},{"$f":"ROUND((DD16),0)","v":0},{"$f":"ROUND((DJ16),0)","v":0},{"$f":"ROUND((SUM(CU16+CV16)),0)","v":0},{"$f":"IF(CW16>79.4,\"7\",IF(CW16>69.4,\"6\",IF(CW16>59.4,\"5\",IF(CW16>49.4,\"4\",IF(CW16>39.4,\"3\",IF(CW16>29.4,\"2\",IF(CW16>0,\"1\",IF(CW16=0,\"\",IF(CW16=-1,\"\")))))))))","v":""},null,null,null,null,{"$f":"SUM(CY16:DB16)","v":0},{"$f":"ROUND(SUM(DC16*$DC$13),0)","v":0},null,null,null,null,{"$f":"SUM(DE16:DH16)","v":0},{"$f":"ROUND(SUM(DI16*$DI$13),0)","v":0},null,{"$f":"SUM(CU16*$CU$13)","v":0},{"$f":"SUM(CV16*$CV$13)","v":0},{"$f":"COUNTA(D16:X16,AA16:AP16,AS16:BH16,BK16:BZ16,CY16:DB16,DE16:DH16,CC16:CR16)","v":5}]
[{"$f":"IF(DN17=0,\"X\",\"\")","v":""},2,2,{"$f":"Insert!A4","v":0},{"$f":"Insert!B4","v":0},{"$f":"Insert!C4","v":0},{"$f":"Insert!D4","v":0},{"$f":"Insert!E4","v":0},null,null,null,null,null,null,null,null,null,null,null,null,null,null,null,null,0,"0",null,null,null,null,null,null,null,null,null,null,null,null,null,null,null,null,0,"0",null,null,null,null,null,null,null,null,null,null,null,null,null,null,null,null,0,"0",null,null,null,null,null,null,null,null,null,null,null,null,null,null,null,null,0,"0",null,null,null,null,null,null,null,null,null,null,null,null,null,null,null,null,0,"0",0,0,{"$f":"ROUND((SUM(CU17+CV17)/2),0)","v":0},"",null,null,null,null,0,0,null,null,null,null,0,0,null,0,0,5]
["",3,3,{"$f":"Insert!A5","v":0},{"$f":"Insert!B5","v":0},{"$f":"Insert!C5","v":0},{"$f":"Insert!D5","v":0},{"$f":"Insert!E5","v":0},null,null,null,null,null,null,null,null,null,null,null,null,null,null,null,null,0,"0",null,null,null,null,null,null,null,null,null,null,null,null,null,null,null,null,0,"0",null,null,null,null,null,null,null,null,null,null,null,null,null,null,null,null,0,"0",null,null,null,null,null,null,null,null,null,null,null,null,null,null,null,null,0,"0",null,null,null,null,null,null,null,null,null,null,null,null,null,null,null,null,0,"0",0,0,0,"",null,null,null,null,0,0,null,null,null,null,0,0,null,0,0,5]
["",4,4,{"$f":"Insert!A6","v":0},{"$f":"Insert!B6","v":0},{"$f":"Insert!C6","v":0},{"$f":"Insert!D6","v":0},{"$f":"Insert!E6","v":0},null,null,null,null,null,null,null,null,null,null,null,null,null,null,null,null,0,"0",null,null,null,null,null,null,null,null,null,null,null,null,null,null,null,null,0,"0",null,null,null,null,null,null,null,null,null,null,null,null,null,null,null,null,0,"0",null,null,null,null,null,null,null,null,null,null,null,null,null,null,null,null,0,"0",null,null,null,null,null,null,null,null,null,null,null,null,null,null,null,null,0,"0",0,0,0,"",null,null,null,null,0,0,null,null,null,null,0,0,null,0,0,5]
["",5,5,{"$f":"Insert!A7","v":0},{"$f":"Insert!B7","v":0},{"$f":"Insert!C7","v":0},{"$f":"Insert!D7","v":0},{"$f":"Insert!E7","v":0},null,null,null,null,null,null,null,null,null,null,null,null,null,null,null,null,0,"0",null,null,null,null,null,null,null,null,null,null,null,null,null,null,null,null,0,"0",null,null,null,null,null,null,null,null,null,null,null,null,null,null,null,null,0,"0",null,null,null,null,null,null,null,null,null,null,null,null,null,null,null,null,0,"0",null,null,null,null,null,null,null,null,null,null,null,null,null,null,null,null,0,"0",0,0,0,"",null,null,null,null,0,0,null,null,null,null,0,0,null,0,0,5]
["",6,6,{"$f":"Insert!A8","v":0},{"$f":"Insert!B8","v":0},{"$f":"Insert!C8","v":0},{"$f":"Insert!D8","v":0},{"$f":"Insert!E8","v":0},null,null,null,null,null,null,null,null,null,null,null,null,null,null,null,null,0,"0",null,null,null,null,null,null,null,null,null,null,null,null,null,null,null,null,0,"0",null,null,null,null,null,null,null,null,null,null,null,null,null,null,null,null,0,"0",null,null,null,null,null,null,null,null,null,null,null,null,null,null,null,null,0,"0",null,null,null,null,null,null,null,null,null,null,null,null,null,null,null,null,0,"0",0,0,0,"",null,null,null,null,0,0,null,null,null,null,0,0,null,0,0,5]
["",7,7,{"$f":"Insert!A9","v":0},{"$f":"Insert!B9","v":0},{"$f":"Insert!C9","v":0},{"$f":"Insert!D9","v":0},{"$f":"Insert!E9","v":0},null,null,null,null,null,null,null,null,null,null,null,null,null,null,null,null,0,"0",null,null,null,null,null,null,null,null,null,null,null,null,null,null,null,null,0,"0",null,null,null,null,null,null,null,null,null,null,null,null,null,null,null,null,0,"0",null,null,null,null,null,null,null,null,null,null,null,null,null,null,null,null,0,"0",null,null,null,null,null,null,null,null,null,null,null,null,null,null,null,null,0,"0",0,0,0,"",null,null,null,null,0,0,null,null,null,null,0,0,null,0,0,5]
["",8,8,{"$f":"Insert!A10","v":0},{"$f":"Insert!B10","v":0},{"$f":"Insert!C10","v":0},{"$f":"Insert!D10","v":0},{"$f":"Insert!E10","v":0},null,null,null,null,null,null,null,null,null,null,null,null,null,null,null,null,0,"0",null,null,null,null,null,null,null,null,null,null,null,null,null,null,null,null,0,"0",null,null,null,null,null,null,null,null,null,null,null,null,null,null,null,null,0,"0",null,null,null,null,null,null,null,null,null,null,null,null,null,null,null,null,0,"0",null,null,null,null,null,null,null,null,null,null,null,null,null,null,null,null,0,"0",0,0,0,"",null,null,null,null,0,0,null,null,null,null,0,0,null,0,0,5]
["",9,9,{"$f":"Insert!A11","v":0},{"$f":"Insert!B11","v":0},{"$f":"Insert!C11","v":0},{"$f":"Insert!D11","v":0},{"$f":"Insert!E11","v":0},null,null,null,null,null,null,null,null,null,null,null,null,null,null,null,null,0,"0",null,null,null,null,null,null,null,null,null,null,null,null,null,null,null,null,0,"0",null,null,null,null,null,null,null,null,null,null,null,null,null,null,null,null,0,"0",null,null,null,null,null,null,null,null,null,null,null,null,null,null,null,null,0,"0",null,null,null,null,null,null,null,null,null,null,null,null,null,null,null,null,0,"0",0,0,0,"",null,null,null,null,0,0,null,null,null,null,0,0,null,0,0,5]
["",10,10,{"$f":"Insert!A12","v":0},{"$f":"Insert!B12","v":0},{"$f":"Insert!C12","v":0},{"$f":"Insert!D12","v":0},{"$f":"Insert!E12","v":0},null,null,null,null,null,null,null,null,null,null,null,null,null,null,null,null,0,"0",null,null,null,null,null,null,null,null,null,null,null,null,null,null,null,null,0,"0",null,null,null,null,null,null,null,null,null,null,null,null,null,null,null,null,0,"0",null,null,null,null,null,null,null,null,null,null,null,null,null,null,null,null,0,"0",null,null,null,null,null,null,null,null,null,null,null,null,null,null,null,null,0,"0",0,0,0,"",null,null,null,null,0,0,null,null,null,null,0,0,null,0,0,5]
["",11,11,{"$f":"Insert!A13","v":0},{"$f":"Insert!B13","v":0},{"$f":"Insert!C13","v":0},{"$f":"Insert!D13","v":0},{"$f":"Insert!E13","v":0},null,null,null,null,null,null,null,null,null,null,null,null,null,null,null,null,0,"0",null,null,null,null,null,null,null,null,null,null,null,null,null,null,null,null,0,"0",null,null,null,null,null,null,null,null,null,null,null,null,null,null,null,null,0,"0",null,null,null,null,null,null,null,null,null,null,null,null,null,null,null,null,0,"0",null,null,null,null,null,null,null,null,null,null,null,null,null,null,null,null,0,"0",0,0,0,"",null,null,null,null,0,0,null,null,null,null,0,0,null,0,0,5]
["",12,12,{"$f":"Insert!A14","v":0},{"$f":"Insert!B14","v":0},{"$f":"Insert!C14","v":0},{"$f":"Insert!D14","v":0},{"$f":"Insert!E14","v":0},null,null,null,null,null,null,null,null,null,null,null,null,null,null,null,null,0,"0",null,null,null,null,null,null,null,null,null,null,null,null,null,null,null,null,0,"0",null,null,null,null,null,null,null,null,null,null,null,null,null,null,null,null,0,"0",null,null,null,null,null,null,null,null,null,null,null,null,null,null,null,null,0,"0",null,null,null,null,null,null,null,null,null,null,null,null,null,null,null,null,0,"0",0,0,0,"",null,null,null,null,0,0,null,null,null,null,0,0,null,0,0,5]
["",13,13,{"$f":"Insert!A15","v":0},{"$f":"Insert!B15","v":0},{"$f":"Insert!C15","v":0},{"$f":"Insert!D15","v":0},{"$f":"Insert!E15","v":0},null,null,null,null,null,null,null,null,null,null,null,null,null,null,null,null,0,"0",null,null,null,null,null,null,null,null,null,null,null,null,null,null,null,null,0,"0",null,null,null,null,null,null,null,null,null,null,null,null,null,null,null,null,0,"0",null,null,null,null,null,null,null,null,null,null,null,null,null,null,null,null,0,"0",null,null,null,null,null,null,null,null,null,null,null,null,null,null,null,null,0,"0",0,0,0,"",null,null,null,null,0,0,null,null,null,null,0,0,null,0,0,5]
["",14,14,{"$f":"Insert!A16","v":0},{"$f":"Insert!B16","v":0},{"$f":"Insert!C16","v":0},{"$f":"Insert!D16","v":0},{"$f":"Insert!E16","v":0},null,null,null,null,null,null,null,null,null,null,null,null,null,null,null,null,0,"0",null,null,null,null,null,null,null,null,null,null,null,null,null,null,null,null,0,"0",null,null,null,null,null,null,null,null,null,null,null,null,null,null,null,null,0,"0",null,null,null,null,null,null,null,null,null,null,null,null,null,null,null,null,0,"0",null,null,null,null,null,null,null,null,null,null,null,null,null,null,null,null,0,"0",0,0,0,"",null,null,null,null,0,0,null,null,null,null,0,0,null,0,0,5]
["",15,15,{"$f":"Insert!A17","v":0},{"$f":"Insert!B17","v":0},{"$f":"Insert!C17","v":0},{"$f":"Insert!D17","v":0},{"$f":"Insert!E17","v":0},null,null,null,null,null,null,null,null,null,null,null,null,null,null,null,null,0,"0",null,null,null,null,null,null,null,null,null,null,null,null,null,null,null,null,0,"0",null,null,null,null,null,null,null,null,null,null,null,null,null,null,null,null,0,"0",null,null,null,null,null,null,null,null,null,null,null,null,null,null,null,null,0,"0",null,null,null,null,null,null,null,null,null,null,null,null,null,null,null,null,0,"0",0,0,0,"",null,null,null,null,0,0,null,null,null,null,0,0,null,0,0,5]
["",16,16,{"$f":"Insert!A18","v":0},{"$f":"Insert!B18","v":0},{"$f":"Insert!C18","v":0},{"$f":"Insert!D18","v":0},{"$f":"Insert!E18","v":0},null,null,null,null,null,null,null,null,null,null,null,null,null,null,null,null,0,"0",null,null,null,null,null,null,null,null,null,null,null,null,null,null,null,null,0,"0",null,null,null,null,null,null,null,null,null,null,null,null,null,null,null,null,0,"0",null,null,null,null,null,null,null,null,null,null,null,null,null,null,null,null,0,"0",null,null,null,null,null,null,null,null,null,null,null,null,null,null,null,null,0,"0",0,0,0,"",null,null,null,null,0,0,null,null,null,null,0,0,null,0,0,5]
["",17,17,{"$f":"Insert!A19","v":0},{"$f":"Insert!B19","v":0},{"$f":"Insert!C19","v":0},{"$f":"Insert!D19","v":0},{"$f":"Insert!E19","v":0},null,null,null,null,null,null,null,null,null,null,null,null,null,null,null,null,0,"0",null,null,null,null,null,null,null,null,null,null,null,null,null,null,null,null,0,"0",null,null,null,null,null,null,null,null,null,null,null,null,null,null,null,null,0,"0",null,null,null,null,null,null,null,null,null,null,null,null,null,null,null,null,0,"0",null,null,null,null,null,null,null,null,null,null,null,null,null,null,null,null,0,"0",0,0,0,"",null,null,null,null,0,0,null,null,null,null,0,0,null,0,0,5]
["",18,18,{"$f":"Insert!A20","v":0},{"$f":"Insert!B20","v":0},{"$f":"Insert!C20","v":0},{"$f":"Insert!D20","v":0},{"$f":"Insert!E20","v":0},null,null,null,null,null,null,null,null,null,null,null,null,null,null,null,null,0,"0",null,null,null,null,null,null,null,null,null,null,null,null,null,null,null,null,0,"0",null,null,null,null,null,null,null,null,null,null,null,null,null,null,null,null,0,"0",null,null,null,null,null,null,null,null,null,null,null,null,null,null,null,null,0,"0",null,null,null,null,null,null,null,null,null,null,null,null,null,null,null,null,0,"0",0,0,0,"",null,null,null,null,0,0,null,null,null,null,0,0,null,0,0,5]
["",19,19,{"$f":"Insert!A21","v":0},{"$f":"Insert!B21","v":0},{"$f":"Insert!C21","v":0},{"$f":"Insert!D21","v":0},{"$f":"Insert!E21","v":0},null,null,null,null,null,null,null,null,null,null,null,null,null,null,null,null,0,"0",null,null,null,null,null,null,null,null,null,null,null,null,null,null,null,null,0,"0",null,null,null,null,null,null,null,null,null,null,null,null,null,null,null,null,0,"0",null,null,null,null,null,null,null,null,null,null,null,null,null,null,null,null,0,"0",null,null,null,null,null,null,null,null,null,null,null,null,null,null,null,null,0,"0",0,0,0,"",null,null,null,null,0,0,null,null,null,null,0,0,null,0,0,5]
["",20,20,{"$f":"Insert!A22","v":0},{"$f":"Insert!B22","v":0},{"$f":"Insert!C22","v":0},{"$f":"Insert!D22","v":0},{"$f":"Insert!E22","v":0},null,null,null,null,null,null,null,null,null,null,null,null,null,null,null,null,0,"0",null,null,null,null,null,null,null,null,null,null,null,null,null,null,null,null,0,"0",null,null,null,null,null,null,null,null,null,null,null,null,null,null,null,null,0,"0",null,null,null,null,null,null,null,null,null,null,null,null,null,null,null,null,0,"0",null,null,null,null,null,null,null,null,null,null,null,null,null,null,null,null,0,"0",0,0,0,"",null,null,null,null,0,0,null,null,null,null,0,0,null,0,0,5]
["",21,21,{"$f":"Insert!A23","v":0},{"$f":"Insert!B23","v":0},{"$f":"Insert!C23","v":0},{"$f":"Insert!D23","v":0},{"$f":"Insert!E23","v":0},null,null,null,null,null,null,null,null,null,null,null,null,null,null,null,null,0,"0",null,null,null,null,null,null,null,null,null,null,null,null,null,null,null,null,0,"0",null,null,null,null,null,null,null,null,null,null,null,null,null,null,null,null,0,"0",null,null,null,null,null,null,null,null,null,null,null,null,null,null,null,null,0,"0",null,null,null,null,null,null,null,null,null,null,null,null,null,null,null,null,0,"0",0,0,0,"",null,null,null,null,0,0,null,null,null,null,0,0,null,0,0,5]
["",22,22,{"$f":"Insert!A24","v":0},{"$f":"Insert!B24","v":0},{"$f":"Insert!C24","v":0},{"$f":"Insert!D24","v":0},{"$f":"Insert!E24","v":0},null,null,null,null,null,null,null,null,null,null,null,null,null,null,null,null,0,"0",null,null,null,null,null,null,null,null,null,null,null,null,null,null,null,null,0,"0",null,null,null,null,null,null,null,null,null,null,null,null,null,null,null,null,0,"0",null,null,null,null,null,null,null,null,null,null,null,null,null,null,null,null,0,"0",null,null,null,null,null,null,null,null,null,null,null,null,null,null,null,null,0,"0",0,0,0,"",null,null,null,null,0,0,null,null,null,null,0,0,null,0,0,5]
["",23,23,{"$f":"Insert!A25","v":0},{"$f":"Insert!B25","v":0},{"$f":"Insert!C25","v":0},{"$f":"Insert!D25","v":0},{"$f":"Insert!E25","v":0},null,null,null,null,null,null,null,null,null,null,null,null,null,null,null,null,0,"0",null,null,null,null,null,null,null,null,null,null,null,null,null,null,null,null,0,"0",null,null,null,null,null,null,null,null,null,null,null,null,null,null,null,null,0,"0",null,null,null,null,null,null,null,null,null,null,null,null,null,null,null,null,0,"0",null,null,null,null,null,null,null,null,null,null,null,null,null,null,null,null,0,"0",0,0,0,"",null,null,null,null,0,0,null,null,null,null,0,0,null,0,0,5]
["",24,24,{"$f":"Insert!A26","v":0},{"$f":"Insert!B26","v":0},{"$f":"Insert!C26","v":0},{"$f":"Insert!D26","v":0},{"$f":"Insert!E26","v":0},null,null,null,null,null,null,null,null,null,null,null,null,null,null,null,null,0,"0",null,null,null,null,null,null,null,null,null,null,null,null,null,null,null,null,0,"0",null,null,null,null,null,null,null,null,null,null,null,null,null,null,null,null,0,"0",null,null,null,null,null,null,null,null,null,null,null,null,null,null,null,null,0,"0",null,null,null,null,null,null,null,null,null,null,null,null,null,null,null,null,0,"0",0,0,0,"",null,null,null,null,0,0,null,null,null,null,0,0,null,0,0,5]
["",25,25,{"$f":"Insert!A27","v":0},{"$f":"Insert!B27","v":0},{"$f":"Insert!C27","v":0},{"$f":"Insert!D27","v":0},{"$f":"Insert!E27","v":0},null,null,null,null,null,null,null,null,null,null,null,null,null,null,null,null,0,"0",null,null,null,null,null,null,null,null,null,null,null,null,null,null,null,null,0,"0",null,null,null,null,null,null,null,null,null,null,null,null,null,null,null,null,0,"0",null,null,null,null,null,null,null,null,null,null,null,null,null,null,null,null,0,"0",null,null,null,null,null,null,null,null,null,null,null,null,null,null,null,null,0,"0",0,0,0,"",null,null,null,null,0,0,null,null,null,null,0,0,null,0,0,5]
["",26,26,{"$f":"Insert!A28","v":0},{"$f":"Insert!B28","v":0},{"$f":"Insert!C28","v":0},{"$f":"Insert!D28","v":0},{"$f":"Insert!E28","v":0},null,null,null,null,null,null,null,null,null,null,null,null,null,null,null,null,0,"0",null,null,null,null,null,null,null,null,null,null,null,null,null,null,null,null,0,"0",null,null,null,null,null,null,null,null,null,null,null,null,null,null,null,null,0,"0",null,null,null,null,null,null,null,null,null,null,null,null,null,null,null,null,0,"0",null,null,null,null,null,null,null,null,null,null,null,null,null,null,null,null,0,"0",0,0,0,"",null,null,null,null,0,0,null,null,null,null,0,0,null,0,0,5]
["",27,27,{"$f":"Insert!A29","v":0},{"$f":"Insert!B29","v":0},{"$f":"Insert!C29","v":0},{"$f":"Insert!D29","v":0},{"$f":"Insert!E29","v":0},null,null,null,null,null,null,null,null,null,null,null,null,null,null,null,null,0,"0",null,null,null,null,null,null,null,null,null,null,null,null,null,null,null,null,0,"0",null,null,null,null,null,null,null,null,null,null,null,null,null,null,null,null,0,"0",null,null,null,null,null,null,null,null,null,null,null,null,null,null,null,null,0,"0",null,null,null,null,null,null,null,null,null,null,null,null,null,null,null,null,0,"0",0,0,0,"",null,null,null,null,0,0,null,null,null,null,0,0,null,0,0,5]
["",28,28,{"$f":"Insert!A30","v":0},{"$f":"Insert!B30","v":0},{"$f":"Insert!C30","v":0},{"$f":"Insert!D30","v":0},{"$f":"Insert!E30","v":0},null,null,null,null,null,null,null,null,null,null,null,null,null,null,null,null,0,"0",null,null,null,null,null,null,null,null,null,null,null,null,null,null,null,null,0,"0",null,null,null,null,null,null,null,null,null,null,null,null,null,null,null,null,0,"0",null,null,null,null,null,null,null,null,null,null,null,null,null,null,null,null,0,"0",null,null,null,null,null,null,null,null,null,null,null,null,null,null,null,null,0,"0",0,0,0,"",null,null,null,null,0,0,null,null,null,null,0,0,null,0,0,5]
["",29,29,{"$f":"Insert!A31","v":0},{"$f":"Insert!B31","v":0},{"$f":"Insert!C31","v":0},{"$f":"Insert!D31","v":0},{"$f":"Insert!E31","v":0},null,null,null,null,null,null,null,null,null,null,null,null,null,null,null,null,0,"0",null,null,null,null,null,null,null,null,null,null,null,null,null,null,null,null,0,"0",null,null,null,null,null,null,null,null,null,null,null,null,null,null,null,null,0,"0",null,null,null,null,null,null,null,null,null,null,null,null,null,null,null,null,0,"0",null,null,null,null,null,null,null,null,null,null,null,null,null,null,null,null,0,"0",0,0,0,"",null,null,null,null,0,0,null,null,null,null,0,0,null,0,0,5]
["",30,30,{"$f":"Insert!A32","v":0},{"$f":"Insert!B32","v":0},{"$f":"Insert!C32","v":0},{"$f":"Insert!D32","v":0},{"$f":"Insert!E32","v":0},null,null,null,null,null,null,null,null,null,null,null,null,null,null,null,null,0,"0",null,null,null,null,null,null,null,null,null,null,null,null,null,null,null,null,0,"0",null,null,null,null,null,null,null,null,null,null,null,null,null,null,null,null,0,"0",null,null,null,null,null,null,null,null,null,null,null,null,null,null,null,null,0,"0",null,null,null,null,null,null,null,null,null,null,null,null,null,null,null,null,0,"0",0,0,0,"",null,null,null,null,0,0,null,null,null,null,0,0,null,0,0,5]
["",31,31,{"$f":"Insert!A33","v":0},{"$f":"Insert!B33","v":0},{"$f":"Insert!C33","v":0},{"$f":"Insert!D33","v":0},{"$f":"Insert!E33","v":0},null,null,null,null,null,null,null,null,null,null,null,null,null,null,null,null,0,"0",null,null,null,null,null,null,null,null,null,null,null,null,null,null,null,null,0,"0",null,null,null,null,null,null,null,null,null,null,null,null,null,null,null,null,0,"0",null,null,null,null,null,null,null,null,null,null,null,null,null,null,null,null,0,"0",null,null,null,null,null,null,null,null,null,null,null,null,null,null,null,null,0,"0",0,0,0,"",null,null,null,null,0,0,null,null,null,null,0,0,null,0,0,5]
["",32,32,{"$f":"Insert!A34","v":0},{"$f":"Insert!B34","v":0},{"$f":"Insert!C34","v":0},{"$f":"Insert!D34","v":0},{"$f":"Insert!E34","v":0},null,null,null,null,null,null,null,null,null,null,null,null,null,null,null,null,0,"0",null,null,null,null,null,null,null,null,null,null,null,null,null,null,null,null,0,"0",null,null,null,null,null,null,null,null,null,null,null,null,null,null,null,null,0,"0",null,null,null,null,null,null,null,null,null,null,null,null,null,null,null,null,0,"0",null,null,null,null,null,null,null,null,null,null,null,null,null,null,null,null,0,"0",0,0,0,"",null,null,null,null,0,0,null,null,null,null,0,0,null,0,0,5]
["",33,33,{"$f":"Insert!A35","v":0},{"$f":"Insert!B35","v":0},{"$f":"Insert!C35","v":0},{"$f":"Insert!D35","v":0},{"$f":"Insert!E35","v":0},null,null,null,null,null,null,null,null,null,null,null,null,null,null,null,null,{"$f":"SUM(I48:X48)","v":0},{"$f":"IFERROR(ROUND((SUM(Y48*$Y$13)/10),0),\"0\")","v":"0"},null,null,null,null,null,null,null,null,null,null,null,null,null,null,null,null,{"$f":"SUM(AA48:AP48)","v":0},{"$f":"IFERROR(ROUND((SUM(AQ48*$AQ$13)/10),0),\"0\")","v":"0"},null,null,null,null,null,null,null,null,null,null,null,null,null,null,null,null,{"$f":"SUM(AS48:BH48)","v":0},{"$f":"IFERROR(ROUND((SUM(BI48*$BI$13)/10),0),\"0\")","v":"0"},null,null,null,null,null,null,null,null,null,null,null,null,null,null,null,null,{"$f":"SUM(BK48:BZ48)","v":0},{"$f":"IFERROR(ROUND((SUM(CA48*$CA$13)/10),0),\"0\")","v":"0"},null,null,null,null,null,null,null,null,null,null,null,null,null,null,null,null,{"$f":"SUM(CC48:CR48)","v":0},{"$f":"IFERROR(ROUND((SUM(CS48*$CS$13)/10),0),\"0\")","v":"0"},{"$f":"ROUND((DD48),0)","v":0},{"$f":"ROUND((DJ48),0)","v":0},0,{"$f":"IF(CW48>79.4,\"7\",IF(CW48>69.4,\"6\",IF(CW48>59.4,\"5\",IF(CW48>49.4,\"4\",IF(CW48>39.4,\"3\",IF(CW48>29.4,\"2\",IF(CW48>0,\"1\",IF(CW48=0,\"\",IF(CW48=-1,\"\")))))))))","v":""},null,null,null,null,{"$f":"SUM(CY48:DB48)","v":0},{"$f":"ROUND(SUM(DC48*$DC$13),0)","v":0},null,null,null,null,{"$f":"SUM(DE48:DH48)","v":0},{"$f":"ROUND(SUM(DI48*$DI$13),0)","v":0},null,{"$f":"SUM(CU48*$CU$13)","v":0},{"$f":"SUM(CV48*$CV$13)","v":0},{"$f":"COUNTA(D48:X48,AA48:AP48,AS48:BH48,BK48:BZ48,CY48:DB48,DE48:DH48,CC48:CR48)","v":5}]
["",34,34,{"$f":"Insert!A36","v":0},{"$f":"Insert!B36","v":0},{"$f":"Insert!C36","v":0},{"$f":"Insert!D36","v":0},{"$f":"Insert!E36","v":0},null,null,null,null,null,null,null,null,null,null,null,null,null,null,null,null,0,"0",null,null,null,null,null,null,null,null,null,null,null,null,null,null,null,null,0,"0",null,null,null,null,null,null,null,null,null,null,null,null,null,null,null,null,0,"0",null,null,null,null,null,null,null,null,null,null,null,null,null,null,null,null,0,"0",null,null,null,null,null,null,null,null,null,null,null,null,null,null,null,null,0,"0",0,0,0,"",null,null,null,null,0,0,null,null,null,null,0,0,null,0,0,5]
["",35,35,{"$f":"Insert!A37","v":0},{"$f":"Insert!B37","v":0},{"$f":"Insert!C37","v":0},{"$f":"Insert!D37","v":0},{"$f":"Insert!E37","v":0},null,null,null,null,null,null,null,null,null,null,null,null,null,null,null,null,0,"0",null,null,null,null,null,null,null,null,null,null,null,null,null,null,null,null,0,"0",null,null,null,null,null,null,null,null,null,null,null,null,null,null,null,null,0,"0",null,null,null,null,null,null,null,null,null,null,null,null,null,null,null,null,0,"0",null,null,null,null,null,null,null,null,null,null,null,null,null,null,null,null,0,"0",0,0,0,"",null,null,null,null,0,0,null,null,null,null,0,0,null,0,0,5]
["",36,36,{"$f":"Insert!A38","v":0},{"$f":"Insert!B38","v":0},{"$f":"Insert!C38","v":0},{"$f":"Insert!D38","v":0},{"$f":"Insert!E38","v":0},null,null,null,null,null,null,null,null,null,null,null,null,null,null,null,null,0,"0",null,null,null,null,null,null,null,null,null,null,null,null,null,null,null,null,0,"0",null,null,null,null,null,null,null,null,null,null,null,null,null,null,null,null,0,"0",null,null,null,null,null,null,null,null,null,null,null,null,null,null,null,null,0,"0",null,null,null,null,null,null,null,null,null,null,null,null,null,null,null,null,0,"0",0,0,0,"",null,null,null,null,0,0,null,null,null,null,0,0,null,0,0,5]
["",37,37,{"$f":"Insert!A39","v":0},{"$f":"Insert!B39","v":0},{"$f":"Insert!C39","v":0},{"$f":"Insert!D39","v":0},{"$f":"Insert!E39","v":0},null,null,null,null,null,null,null,null,null,null,null,null,null,null,null,null,0,"0",null,null,null,null,null,null,null,null,null,null,null,null,null,null,null,null,0,"0",null,null,null,null,null,null,null,null,null,null,null,null,null,null,null,null,0,"0",null,null,null,null,null,null,null,null,null,null,null,null,null,null,null,null,0,"0",null,null,null,null,null,null,null,null,null,null,null,null,null,null,null,null,0,"0",0,0,0,"",null,null,null,null,0,0,null,null,null,null,0,0,null,0,0,5]
["",38,38,{"$f":"Insert!A40","v":0},{"$f":"Insert!B40","v":0},{"$f":"Insert!C40","v":0},{"$f":"Insert!D40","v":0},{"$f":"Insert!E40","v":0},null,null,null,null,null,null,null,null,null,null,null,null,null,null,null,null,0,"0",null,null,null,null,null,null,null,null,null,null,null,null,null,null,null,null,0,"0",null,null,null,null,null,null,null,null,null,null,null,null,null,null,null,null,0,"0",null,null,null,null,null,null,null,null,null,null,null,null,null,null,null,null,0,"0",null,null,null,null,null,null,null,null,null,null,null,null,null,null,null,null,0,"0",0,0,0,"",null,null,null,null,0,0,null,null,null,null,0,0,null,0,0,5]
["",39,39,{"$f":"Insert!A41","v":0},{"$f":"Insert!B41","v":0},{"$f":"Insert!C41","v":0},{"$f":"Insert!D41","v":0},{"$f":"Insert!E41","v":0},null,null,null,null,null,null,null,null,null,null,null,null,null,null,null,null,0,"0",null,null,null,null,null,null,null,null,null,null,null,null,null,null,null,null,0,"0",null,null,null,null,null,null,null,null,null,null,null,null,null,null,null,null,0,"0",null,null,null,null,null,null,null,null,null,null,null,null,null,null,null,null,0,"0",null,null,null,null,null,null,null,null,null,null,null,null,null,null,null,null,0,"0",0,0,0,"",null,null,null,null,0,0,null,null,null,null,0,0,null,0,0,5]
["",40,40,{"$f":"Insert!A42","v":0},{"$f":"Insert!B42","v":0},{"$f":"Insert!C42","v":0},{"$f":"Insert!D42","v":0},{"$f":"Insert!E42","v":0},null,null,null,null,null,null,null,null,null,null,null,null,null,null,null,null,0,"0",null,null,null,null,null,null,null,null,null,null,null,null,null,null,null,null,0,"0",null,null,null,null,null,null,null,null,null,null,null,null,null,null,null,null,0,"0",null,null,null,null,null,null,null,null,null,null,null,null,null,null,null,null,0,"0",null,null,null,null,null,null,null,null,null,null,null,null,null,null,null,null,0,"0",0,0,0,"",null,null,null,null,0,0,null,null,null,null,0,0,null,0,0,5]
["",41,41,{"$f":"Insert!A43","v":0},{"$f":"Insert!B43","v":0},{"$f":"Insert!C43","v":0},{"$f":"Insert!D43","v":0},{"$f":"Insert!E43","v":0},null,null,null,null,null,null,null,null,null,null,null,null,null,null,null,null,0,"0",null,null,null,null,null,null,null,null,null,null,null,null,null,null,null,null,0,"0",null,null,null,null,null,null,null,null,null,null,null,null,null,null,null,null,0,"0",null,null,null,null,null,null,null,null,null,null,null,null,null,null,null,null,0,"0",null,null,null,null,null,null,null,null,null,null,null,null,null,null,null,null,0,"0",0,0,0,"",null,null,null,null,0,0,null,null,null,null,0,0,null,0,0,5]
["",42,42,{"$f":"Insert!A44","v":0},{"$f":"Insert!B44","v":0},{"$f":"Insert!C44","v":0},{"$f":"Insert!D44","v":0},{"$f":"Insert!E44","v":0},null,null,null,null,null,null,null,null,null,null,null,null,null,null,null,null,0,"0",null,null,null,null,null,null,null,null,null,null,null,null,null,null,null,null,0,"0",null,null,null,null,null,null,null,null,null,null,null,null,null,null,null,null,0,"0",null,null,null,null,null,null,null,null,null,null,null,null,null,null,null,null,0,"0",null,null,null,null,null,null,null,null,null,null,null,null,null,null,null,null,0,"0",0,0,0,"",null,null,null,null,0,0,null,null,null,null,0,0,null,0,0,5]
["",43,43,{"$f":"Insert!A45","v":0},{"$f":"Insert!B45","v":0},{"$f":"Insert!C45","v":0},{"$f":"Insert!D45","v":0},{"$f":"Insert!E45","v":0},null,null,null,null,null,null,null,null,null,null,null,null,null,null,null,null,0,"0",null,null,null,null,null,null,null,null,null,null,null,null,null,null,null,null,0,"0",null,null,null,null,null,null,null,null,null,null,null,null,null,null,null,null,0,"0",null,null,null,null,null,null,null,null,null,null,null,null,null,null,null,null,0,"0",null,null,null,null,null,null,null,null,null,null,null,null,null,null,null,null,0,"0",0,0,0,"",null,null,null,null,0,0,null,null,null,null,0,0,null,0,0,5]
["",44,44,{"$f":"Insert!A46","v":0},{"$f":"Insert!B46","v":0},{"$f":"Insert!C46","v":0},{"$f":"Insert!D46","v":0},{"$f":"Insert!E46","v":0},null,null,null,null,null,null,null,null,null,null,null,null,null,null,null,null,0,"0",null,null,null,null,null,null,null,null,null,null,null,null,null,null,null,null,0,"0",null,null,null,null,null,null,null,null,null,null,null,null,null,null,null,null,0,"0",null,null,null,null,null,null,null,null,null,null,null,null,null,null,null,null,0,"0",null,null,null,null,null,null,null,null,null,null,null,null,null,null,null,null,0,"0",0,0,0,"",null,null,null,null,0,0,null,null,null,null,0,0,null,0,0,5]
["",45,45,{"$f":"Insert!A47","v":0},{"$f":"Insert!B47","v":0},{"$f":"Insert!C47","v":0},{"$f":"Insert!D47","v":0},{"$f":"Insert!E47","v":0},null,null,null,null,null,null,null,null,null,null,null,null,null,null,null,null,0,"0",null,null,null,null,null,null,null,null,null,null,null,null,null,null,null,null,0,"0",null,null,null,null,null,null,null,null,null,null,null,null,null,null,null,null,0,"0",null,null,null,null,null,null,null,null,null,null,null,null,null,null,null,null,0,"0",null,null,null,null,null,null,null,null,null,null,null,null,null,null,null,null,0,"0",0,0,0,"",null,null,null,null,0,0,null,null,null,null,0,0,null,0,0,5]
["",46,46,{"$f":"Insert!A48","v":0},{"$f":"Insert!B48","v":0},{"$f":"Insert!C48","v":0},{"$f":"Insert!D48","v":0},{"$f":"Insert!E48","v":0},null,null,null,null,null,null,null,null,null,null,null,null,null,null,null,null,0,"0",null,null,null,null,null,null,null,null,null,null,null,null,null,null,null,null,0,"0",null,null,null,null,null,null,null,null,null,null,null,null,null,null,null,null,0,"0",null,null,null,null,null,null,null,null,null,null,null,null,null,null,null,null,0,"0",null,null,null,null,null,null,null,null,null,null,null,null,null,null,null,null,0,"0",0,0,0,"",null,null,null,null,0,0,null,null,null,null,0,0,null,0,0,5]
["",47,47,{"$f":"Insert!A49","v":0},{"$f":"Insert!B49","v":0},{"$f":"Insert!C49","v":0},{"$f":"Insert!D49","v":0},{"$f":"Insert!E49","v":0},null,null,null,null,null,null,null,null,null,null,null,null,null,null,null,null,0,"0",null,null,null,null,null,null,null,null,null,null,null,null,null,null,null,null,0,"0",null,null,null,null,null,null,null,null,null,null,null,null,null,null,null,null,0,"0",null,null,null,null,null,null,null,null,null,null,null,null,null,null,null,null,0,"0",null,null,null,null,null,null,null,null,null,null,null,null,null,null,null,null,0,"0",0,0,0,"",null,null,null,null,0,0,null,null,null,null,0,0,null,0,0,5]
["",48,48,{"$f":"Insert!A50","v":0},{"$f":"Insert!B50","v":0},{"$f":"Insert!C50","v":0},{"$f":"Insert!D50","v":0},{"$f":"Insert!E50","v":0},null,null,null,null,null,null,null,null,null,null,null,null,null,null,null,null,0,"0",null,null,null,null,null,null,null,null,null,null,null,null,null,null,null,null,0,"0",null,null,null,null,null,null,null,null,null,null,null,null,null,null,null,null,0,"0",null,null,null,null,null,null,null,null,null,null,null,null,null,null,null,null,0,"0",null,null,null,null,null,null,null,null,null,null,null,null,null,null,null,null,0,"0",0,0,0,"",null,null,null,null,0,0,null,null,null,null,0,0,null,0,0,5]
["",49,49,{"$f":"Insert!A51","v":0},{"$f":"Insert!B51","v":0},{"$f":"Insert!C51","v":0},{"$f":"Insert!D51","v":0},{"$f":"Insert!E51","v":0},null,null,null,null,null,null,null,null,null,null,null,null,null,null,null,null,0,"0",null,null,null,null,null,null,null,null,null,null,null,null,null,null,null,null,0,"0",null,null,null,null,null,null,null,null,null,null,null,null,null,null,null,null,0,"0",null,null,null,null,null,null,null,null,null,null,null,null,null,null,null,null,0,"0",null,null,null,null,null,null,null,null,null,null,null,null,null,null,null,null,0,"0",0,0,0,"",null,null,null,null,0,0,null,null,null,null,0,0,null,0,0,5]
["",50,50,{"$f":"Insert!A52","v":0},{"$f":"Insert!B52","v":0},{"$f":"Insert!C52","v":0},{"$f":"Insert!D52","v":0},{"$f":"Insert!E52","v":0},null,null,null,null,null,null,null,null,null,null,null,null,null,null,null,null,0,"0",null,null,null,null,null,null,null,null,null,null,null,null,null,null,null,null,0,"0",null,null,null,null,null,null,null,null,null,null,null,null,null,null,null,null,0,"0",null,null,null,null,null,null,null,null,null,null,null,null,null,null,null,null,0,"0",null,null,null,null,null,null,null,null,null,null,null,null,null,null,null,null,0,"0",0,0,0,"",null,null,null,null,0,0,null,null,null,null,0,0,null,0,0,5]
["",51,51,{"$f":"Insert!A53","v":0},{"$f":"Insert!B53","v":0},{"$f":"Insert!C53","v":0},{"$f":"Insert!D53","v":0},{"$f":"Insert!E53","v":0},null,null,null,null,null,null,null,null,null,null,null,null,null,null,null,null,0,"0",null,null,null,null,null,null,null,null,null,null,null,null,null,null,null,null,0,"0",null,null,null,null,null,null,null,null,null,null,null,null,null,null,null,null,0,"0",null,null,null,null,null,null,null,null,null,null,null,null,null,null,null,null,0,"0",null,null,null,null,null,null,null,null,null,null,null,null,null,null,null,null,0,"0",0,0,0,"",null,null,null,null,0,0,null,null,null,null,0,0,null,0,0,5]
["",52,52,{"$f":"Insert!A54","v":0},{"$f":"Insert!B54","v":0},{"$f":"Insert!C54","v":0},{"$f":"Insert!D54","v":0},{"$f":"Insert!E54","v":0},null,null,null,null,null,null,null,null,null,null,null,null,null,null,null,null,0,"0",null,null,null,null,null,null,null,null,null,null,null,null,null,null,null,null,0,"0",null,null,null,null,null,null,null,null,null,null,null,null,null,null,null,null,0,"0",null,null,null,null,null,null,null,null,null,null,null,null,null,null,null,null,0,"0",null,null,null,null,null,null,null,null,null,null,null,null,null,null,null,null,0,"0",0,0,0,"",null,null,null,null,0,0,null,null,null,null,0,0,null,0,0,5]
["",53,53,{"$f":"Insert!A55","v":0},{"$f":"Insert!B55","v":0},{"$f":"Insert!C55","v":0},{"$f":"Insert!D55","v":0},{"$f":"Insert!E55","v":0},null,null,null,null,null,null,null,null,null,null,null,null,null,null,null,null,0,"0",null,null,null,null,null,null,null,null,null,null,null,null,null,null,null,null,0,"0",null,null,null,null,null,null,null,null,null,null,null,null,null,null,null,null,0,"0",null,null,null,null,null,null,null,null,null,null,null,null,null,null,null,null,0,"0",null,null,null,null,null,null,null,null,null,null,null,null,null,null,null,null,0,"0",0,0,0,"",null,null,null,null,0,0,null,null,null,null,0,0,null,0,0,5]
["",54,54,{"$f":"Insert!A56","v":0},{"$f":"Insert!B56","v":0},{"$f":"Insert!C56","v":0},{"$f":"Insert!D56","v":0},{"$f":"Insert!E56","v":0},null,null,null,null,null,null,null,null,null,null,null,null,null,null,null,null,0,"0",null,null,null,null,null,null,null,null,null,null,null,null,null,null,null,null,0,"0",null,null,null,null,null,null,null,null,null,null,null,null,null,null,null,null,0,"0",null,null,null,null,null,null,null,null,null,null,null,null,null,null,null,null,0,"0",null,null,null,null,null,null,null,null,null,null,null,null,null,null,null,null,0,"0",0,0,0,"",null,null,null,null,0,0,null,null,null,null,0,0,null,0,0,5]
["",55,55,{"$f":"Insert!A57","v":0},{"$f":"Insert!B57","v":0},{"$f":"Insert!C57","v":0},{"$f":"Insert!D57","v":0},{"$f":"Insert!E57","v":0},null,null,null,null,null,null,null,null,null,null,null,null,null,null,null,null,0,"0",null,null,null,null,null,null,null,null,null,null,null,null,null,null,null,null,0,"0",null,null,null,null,null,null,null,null,null,null,null,null,null,null,null,null,0,"0",null,null,null,null,null,null,null,null,null,null,null,null,null,null,null,null,0,"0",null,null,null,null,null,null,null,null,null,null,null,null,null,null,null,null,0,"0",0,0,0,"",null,null,null,null,0,0,null,null,null,null,0,0,null,0,0,5]
["",56,56,{"$f":"Insert!A58","v":0},{"$f":"Insert!B58","v":0},{"$f":"Insert!C58","v":0},{"$f":"Insert!D58","v":0},{"$f":"Insert!E58","v":0},null,null,null,null,null,null,null,null,null,null,null,null,null,null,null,null,0,"0",null,null,null,null,null,null,null,null,null,null,null,null,null,null,null,null,0,"0",null,null,null,null,null,null,null,null,null,null,null,null,null,null,null,null,0,"0",null,null,null,null,null,null,null,null,null,null,null,null,null,null,null,null,0,"0",null,null,null,null,null,null,null,null,null,null,null,null,null,null,null,null,0,"0",0,0,0,"",null,null,null,null,0,0,null,null,null,null,0,0,null,0,0,5]
["",57,57,{"$f":"Insert!A59","v":0},{"$f":"Insert!B59","v":0},{"$f":"Insert!C59","v":0},{"$f":"Insert!D59","v":0},{"$f":"Insert!E59","v":0},null,null,null,null,null,null,null,null,null,null,null,null,null,null,null,null,0,"0",null,null,null,null,null,null,null,null,null,null,null,null,null,null,null,null,0,"0",null,null,null,null,null,null,null,null,null,null,null,null,null,null,null,null,0,"0",null,null,null,null,null,null,null,null,null,null,null,null,null,null,null,null,0,"0",null,null,null,null,null,null,null,null,null,null,null,null,null,null,null,null,0,"0",0,0,0,"",null,null,null,null,0,0,null,null,null,null,0,0,null,0,0,5]
["",58,58,{"$f":"Insert!A60","v":0},{"$f":"Insert!B60","v":0},{"$f":"Insert!C60","v":0},{"$f":"Insert!D60","v":0},{"$f":"Insert!E60","v":0},null,null,null,null,null,null,null,null,null,null,null,null,null,null,null,null,0,"0",null,null,null,null,null,null,null,null,null,null,null,null,null,null,null,null,0,"0",null,null,null,null,null,null,null,null,null,null,null,null,null,null,null,null,0,"0",null,null,null,null,null,null,null,null,null,null,null,null,null,null,null,null,0,"0",null,null,null,null,null,null,null,null,null,null,null,null,null,null,null,null,0,"0",0,0,0,"",null,null,null,null,0,0,null,null,null,null,0,0,null,0,0,5]
["",59,59,{"$f":"Insert!A61","v":0},{"$f":"Insert!B61","v":0},{"$f":"Insert!C61","v":0},{"$f":"Insert!D61","v":0},{"$f":"Insert!E61","v":0},null,null,null,null,null,null,null,null,null,null,null,null,null,null,null,null,0,"0",null,null,null,null,null,null,null,null,null,null,null,null,null,null,null,null,0,"0",null,null,null,null,null,null,null,null,null,null,null,null,null,null,null,null,0,"0",null,null,null,null,null,null,null,null,null,null,null,null,null,null,null,null,0,"0",null,null,null,null,null,null,null,null,null,null,null,null,null,null,null,null,0,"0",0,0,0,"",null,null,null,null,0,0,null,null,null,null,0,0,null,0,0,5]
["",60,60,{"$f":"Insert!A62","v":0},{"$f":"Insert!B62","v":0},{"$f":"Insert!C62","v":0},{"$f":"Insert!D62","v":0},{"$f":"Insert!E62","v":0},null,null,null,null,null,null,null,null,null,null,null,null,null,null,null,null,0,"0",null,null,null,null,null,null,null,null,null,null,null,null,null,null,null,null,0,"0",null,null,null,null,null,null,null,null,null,null,null,null,null,null,null,null,0,"0",null,null,null,null,null,null,null,null,null,null,null,null,null,null,null,null,0,"0",null,null,null,null,null,null,null,null,null,null,null,null,null,null,null,null,0,"0",0,0,0,"",null,null,null,null,0,0,null,null,null,null,0,0,null,0,0,5]
["",61,61,{"$f":"Insert!A63","v":0},{"$f":"Insert!B63","v":0},{"$f":"Insert!C63","v":0},{"$f":"Insert!D63","v":0},{"$f":"Insert!E63","v":0},null,null,null,null,null,null,null,null,null,null,null,null,null,null,null,null,0,"0",null,null,null,null,null,null,null,null,null,null,null,null,null,null,null,null,0,"0",null,null,null,null,null,null,null,null,null,null,null,null,null,null,null,null,0,"0",null,null,null,null,null,null,null,null,null,null,null,null,null,null,null,null,0,"0",null,null,null,null,null,null,null,null,null,null,null,null,null,null,null,null,0,"0",0,0,0,"",null,null,null,null,0,0,null,null,null,null,0,0,null,0,0,5]
["",62,62,{"$f":"Insert!A64","v":0},{"$f":"Insert!B64","v":0},{"$f":"Insert!C64","v":0},{"$f":"Insert!D64","v":0},{"$f":"Insert!E64","v":0},null,null,null,null,null,null,null,null,null,null,null,null,null,null,null,null,0,"0",null,null,null,null,null,null,null,null,null,null,null,null,null,null,null,null,0,"0",null,null,null,null,null,null,null,null,null,null,null,null,null,null,null,null,0,"0",null,null,null,null,null,null,null,null,null,null,null,null,null,null,null,null,0,"0",null,null,null,null,null,null,null,null,null,null,null,null,null,null,null,null,0,"0",0,0,0,"",null,null,null,null,0,0,null,null,null,null,0,0,null,0,0,5]
["",63,63,{"$f":"Insert!A65","v":0},{"$f":"Insert!B65","v":0},{"$f":"Insert!C65","v":0},{"$f":"Insert!D65","v":0},{"$f":"Insert!E65","v":0},null,null,null,null,null,null,null,null,null,null,null,null,null,null,null,null,0,"0",null,null,null,null,null,null,null,null,null,null,null,null,null,null,null,null,0,"0",null,null,null,null,null,null,null,null,null,null,null,null,null,null,null,null,0,"0",null,null,null,null,null,null,null,null,null,null,null,null,null,null,null,null,0,"0",null,null,null,null,null,null,null,null,null,null,null,null,null,null,null,null,0,"0",0,0,0,"",null,null,null,null,0,0,null,null,null,null,0,0,null,0,0,5]
["",64,64,{"$f":"Insert!A66","v":0},{"$f":"Insert!B66","v":0},{"$f":"Insert!C66","v":0},{"$f":"Insert!D66","v":0},{"$f":"Insert!E66","v":0},null,null,null,null,null,null,null,null,null,null,null,null,null,null,null,null,0,"0",null,null,null,null,null,null,null,null,null,null,null,null,null,null,null,null,0,"0",null,null,null,null,null,null,null,null,null,null,null,null,null,null,null,null,0,"0",null,null,null,null,null,null,null,null,null,null,null,null,null,null,null,null,0,"0",null,null,null,null,null,null,null,null,null,null,null,null,null,null,null,null,0,"0",0,0,0,"",null,null,null,null,0,0,null,null,null,null,0,0,null,0,0,5]
["",65,65,{"$f":"Insert!A67","v":0},{"$f":"Insert!B67","v":0},{"$f":"Insert!C67","v":0},{"$f":"Insert!D67","v":0},{"$f":"Insert!E67","v":0},null,null,null,null,null,null,null,null,null,null,null,null,null,null,null,null,{"$f":"SUM(I80:X80)","v":0},{"$f":"IFERROR(ROUND((SUM(Y80*$Y$13)/10),0),\"0\")","v":"0"},null,null,null,null,null,null,null,null,null,null,null,null,null,null,null,null,{"$f":"SUM(AA80:AP80)","v":0},{"$f":"IFERROR(ROUND((SUM(AQ80*$AQ$13)/10),0),\"0\")","v":"0"},null,null,null,null,null,null,null,null,null,null,null,null,null,null,null,null,{"$f":"SUM(AS80:BH80)","v":0},{"$f":"IFERROR(ROUND((SUM(BI80*$BI$13)/10),0),\"0\")","v":"0"},null,null,null,null,null,null,null,null,null,null,null,null,null,null,null,null,{"$f":"SUM(BK80:BZ80)","v":0},{"$f":"IFERROR(ROUND((SUM(CA80*$CA$13)/10),0),\"0\")","v":"0"},null,null,null,null,null,null,null,null,null,null,null,null,null,null,null,null,{"$f":"SUM(CC80:CR80)","v":0},{"$f":"IFERROR(ROUND((SUM(CS80*$CS$13)/10),0),\"0\")","v":"0"},{"$f":"ROUND((DD80),0)","v":0},{"$f":"ROUND((DJ80),0)","v":0},0,{"$f":"IF(CW80>79.4,\"7\",IF(CW80>69.4,\"6\",IF(CW80>59.4,\"5\",IF(CW80>49.4,\"4\",IF(CW80>39.4,\"3\",IF(CW80>29.4,\"2\",IF(CW80>0,\"1\",IF(CW80=0,\"\",IF(CW80=-1,\"\")))))))))","v":""},null,null,null,null,{"$f":"SUM(CY80:DB80)","v":0},{"$f":"ROUND(SUM(DC80*$DC$13),0)","v":0},null,null,null,null,{"$f":"SUM(DE80:DH80)","v":0},{"$f":"ROUND(SUM(DI80*$DI$13),0)","v":0},null,{"$f":"SUM(CU80*$CU$13)","v":0},{"$f":"SUM(CV80*$CV$13)","v":0},{"$f":"COUNTA(D80:X80,AA80:AP80,AS80:BH80,BK80:BZ80,CY80:DB80,DE80:DH80,CC80:CR80)","v":5}]
[{"$f":"IF(DN81=0,\"X\",\"\")","v":""},66,66,{"$f":"Insert!A68","v":0},{"$f":"Insert!B68","v":0},{"$f":"Insert!C68","v":0},{"$f":"Insert!D68","v":0},{"$f":"Insert!E68","v":0},null,null,null,null,null,null,null,null,null,null,null,null,null,null,null,null,0,"0",null,null,null,null,null,null,null,null,null,null,null,null,null,null,null,null,0,"0",null,null,null,null,null,null,null,null,null,null,null,null,null,null,null,null,0,"0",null,null,null,null,null,null,null,null,null,null,null,null,null,null,null,null,0,"0",null,null,null,null,null,null,null,null,null,null,null,null,null,null,null,null,0,"0",0,0,{"$f":"ROUND((SUM(CU81+CV81)/2),0)","v":0},"",null,null,null,null,0,0,null,null,null,null,0,0,null,0,0,5]
["",67,67,{"$f":"Insert!A69","v":0},{"$f":"Insert!B69","v":0},{"$f":"Insert!C69","v":0},{"$f":"Insert!D69","v":0},{"$f":"Insert!E69","v":0},null,null,null,null,null,null,null,null,null,null,null,null,null,null,null,null,0,"0",null,null,null,null,null,null,null,null,null,null,null,null,null,null,null,null,0,"0",null,null,null,null,null,null,null,null,null,null,null,null,null,null,null,null,0,"0",null,null,null,null,null,null,null,null,null,null,null,null,null,null,null,null,0,"0",null,null,null,null,null,null,null,null,null,null,null,null,null,null,null,null,0,"0",0,0,0,"",null,null,null,null,0,0,null,null,null,null,0,0,null,0,0,5]
["",68,68,{"$f":"Insert!A70","v":0},{"$f":"Insert!B70","v":0},{"$f":"Insert!C70","v":0},{"$f":"Insert!D70","v":0},{"$f":"Insert!E70","v":0},null,null,null,null,null,null,null,null,null,null,null,null,null,null,null,null,0,"0",null,null,null,null,null,null,null,null,null,null,null,null,null,null,null,null,0,"0",null,null,null,null,null,null,null,null,null,null,null,null,null,null,null,null,0,"0",null,null,null,null,null,null,null,null,null,null,null,null,null,null,null,null,0,"0",null,null,null,null,null,null,null,null,null,null,null,null,null,null,null,null,0,"0",0,0,0,"",null,null,null,null,0,0,null,null,null,null,0,0,null,0,0,5]
["",69,69,{"$f":"Insert!A71","v":0},{"$f":"Insert!B71","v":0},{"$f":"Insert!C71","v":0},{"$f":"Insert!D71","v":0},{"$f":"Insert!E71","v":0},null,null,null,null,null,null,null,null,null,null,null,null,null,null,null,null,0,"0",null,null,null,null,null,null,null,null,null,null,null,null,null,null,null,null,0,"0",null,null,null,null,null,null,null,null,null,null,null,null,null,null,null,null,0,"0",null,null,null,null,null,null,null,null,null,null,null,null,null,null,null,null,0,"0",null,null,null,null,null,null,null,null,null,null,null,null,null,null,null,null,0,"0",0,0,0,"",null,null,null,null,0,0,null,null,null,null,0,0,null,0,0,5]
["",70,70,{"$f":"Insert!A72","v":0},{"$f":"Insert!B72","v":0},{"$f":"Insert!C72","v":0},{"$f":"Insert!D72","v":0},{"$f":"Insert!E72","v":0},null,null,null,null,null,null,null,null,null,null,null,null,null,null,null,null,0,"0",null,null,null,null,null,null,null,null,null,null,null,null,null,null,null,null,0,"0",null,null,null,null,null,null,null,null,null,null,null,null,null,null,null,null,0,"0",null,null,null,null,null,null,null,null,null,null,null,null,null,null,null,null,0,"0",null,null,null,null,null,null,null,null,null,null,null,null,null,null,null,null,0,"0",0,0,0,"",null,null,null,null,0,0,null,null,null,null,0,0,null,0,0,5]
["",71,71,{"$f":"Insert!A73","v":0},{"$f":"Insert!B73","v":0},{"$f":"Insert!C73","v":0},{"$f":"Insert!D73","v":0},{"$f":"Insert!E73","v":0},null,null,null,null,null,null,null,null,null,null,null,null,null,null,null,null,0,"0",null,null,null,null,null,null,null,null,null,null,null,null,null,null,null,null,0,"0",null,null,null,null,null,null,null,null,null,null,null,null,null,null,null,null,0,"0",null,null,null,null,null,null,null,null,null,null,null,null,null,null,null,null,0,"0",null,null,null,null,null,null,null,null,null,null,null,null,null,null,null,null,0,"0",0,0,0,"",null,null,null,null,0,0,null,null,null,null,0,0,null,0,0,5]
["",72,72,{"$f":"Insert!A74","v":0},{"$f":"Insert!B74","v":0},{"$f":"Insert!C74","v":0},{"$f":"Insert!D74","v":0},{"$f":"Insert!E74","v":0},null,null,null,null,null,null,null,null,null,null,null,null,null,null,null,null,0,"0",null,null,null,null,null,null,null,null,null,null,null,null,null,null,null,null,0,"0",null,null,null,null,null,null,null,null,null,null,null,null,null,null,null,null,0,"0",null,null,null,null,null,null,null,null,null,null,null,null,null,null,null,null,0,"0",null,null,null,null,null,null,null,null,null,null,null,null,null,null,null,null,0,"0",0,0,0,"",null,null,null,null,0,0,null,null,null,null,0,0,null,0,0,5]
["",73,73,{"$f":"Insert!A75","v":0},{"$f":"Insert!B75","v":0},{"$f":"Insert!C75","v":0},{"$f":"Insert!D75","v":0},{"$f":"Insert!E75","v":0},null,null,null,null,null,null,null,null,null,null,null,null,null,null,null,null,0,"0",null,null,null,null,null,null,null,null,null,null,null,null,null,null,null,null,0,"0",null,null,null,null,null,null,null,null,null,null,null,null,null,null,null,null,0,"0",null,null,null,null,null,null,null,null,null,null,null,null,null,null,null,null,0,"0",null,null,null,null,null,null,null,null,null,null,null,null,null,null,null,null,0,"0",0,0,0,"",null,null,null,null,0,0,null,null,null,null,0,0,null,0,0,5]
["",74,74,{"$f":"Insert!A76","v":0},{"$f":"Insert!B76","v":0},{"$f":"Insert!C76","v":0},{"$f":"Insert!D76","v":0},{"$f":"Insert!E76","v":0},null,null,null,null,null,null,null,null,null,null,null,null,null,null,null,null,0,"0",null,null,null,null,null,null,null,null,null,null,null,null,null,null,null,null,0,"0",null,null,null,null,null,null,null,null,null,null,null,null,null,null,null,null,0,"0",null,null,null,null,null,null,null,null,null,null,null,null,null,null,null,null,0,"0",null,null,null,null,null,null,null,null,null,null,null,null,null,null,null,null,0,"0",0,0,0,"",null,null,null,null,0,0,null,null,null,null,0,0,null,0,0,5]
["",75,75,{"$f":"Insert!A77","v":0},{"$f":"Insert!B77","v":0},{"$f":"Insert!C77","v":0},{"$f":"Insert!D77","v":0},{"$f":"Insert!E77","v":0},null,null,null,null,null,null,null,null,null,null,null,null,null,null,null,null,0,"0",null,null,null,null,null,null,null,null,null,null,null,null,null,null,null,null,0,"0",null,null,null,null,null,null,null,null,null,null,null,null,null,null,null,null,0,"0",null,null,null,null,null,null,null,null,null,null,null,null,null,null,null,null,0,"0",null,null,null,null,null,null,null,null,null,null,null,null,null,null,null,null,0,"0",0,0,0,"",null,null,null,null,0,0,null,null,null,null,0,0,null,0,0,5]
["",76,76,{"$f":"Insert!A78","v":0},{"$f":"Insert!B78","v":0},{"$f":"Insert!C78","v":0},{"$f":"Insert!D78","v":0},{"$f":"Insert!E78","v":0},null,null,null,null,null,null,null,null,null,null,null,null,null,null,null,null,0,"0",null,null,null,null,null,null,null,null,null,null,null,null,null,null,null,null,0,"0",null,null,null,null,null,null,null,null,null,null,null,null,null,null,null,null,0,"0",null,null,null,null,null,null,null,null,null,null,null,null,null,null,null,null,0,"0",null,null,null,null,null,null,null,null,null,null,null,null,null,null,null,null,0,"0",0,0,0,"",null,null,null,null,0,0,null,null,null,null,0,0,null,0,0,5]
["",77,77,{"$f":"Insert!A79","v":0},{"$f":"Insert!B79","v":0},{"$f":"Insert!C79","v":0},{"$f":"Insert!D79","v":0},{"$f":"Insert!E79","v":0},null,null,null,null,null,null,null,null,null,null,null,null,null,null,null,null,0,"0",null,null,null,null,null,null,null,null,null,null,null,null,null,null,null,null,0,"0",null,null,null,null,null,null,null,null,null,null,null,null,null,null,null,null,0,"0",null,null,null,null,null,null,null,null,null,null,null,null,null,null,null,null,0,"0",null,null,null,null,null,null,null,null,null,null,null,null,null,null,null,null,0,"0",0,0,0,"",null,null,null,null,0,0,null,null,null,null,0,0,null,0,0,5]
["",78,78,{"$f":"Insert!A80","v":0},{"$f":"Insert!B80","v":0},{"$f":"Insert!C80","v":0},{"$f":"Insert!D80","v":0},{"$f":"Insert!E80","v":0},null,null,null,null,null,null,null,null,null,null,null,null,null,null,null,null,0,"0",null,null,null,null,null,null,null,null,null,null,null,null,null,null,null,null,0,"0",null,null,null,null,null,null,null,null,null,null,null,null,null,null,null,null,0,"0",null,null,null,null,null,null,null,null,null,null,null,null,null,null,null,null,0,"0",null,null,null,null,null,null,null,null,null,null,null,null,null,null,null,null,0,"0",0,0,0,"",null,null,null,null,0,0,null,null,null,null,0,0,null,0,0,5]
["",79,79,{"$f":"Insert!A81","v":0},{"$f":"Insert!B81","v":0},{"$f":"Insert!C81","v":0},{"$f":"Insert!D81","v":0},{"$f":"Insert!E81","v":0},null,null,null,null,null,null,null,null,null,null,null,null,null,null,null,null,0,"0",null,null,null,null,null,null,null,null,null,null,null,null,null,null,null,null,0,"0",null,null,null,null,null,null,null,null,null,null,null,null,null,null,null,null,0,"0",null,null,null,null,null,null,null,null,null,null,null,null,null,null,null,null,0,"0",null,null,null,null,null,null,null,null,null,null,null,null,null,null,null,null,0,"0",0,0,0,"",null,null,null,null,0,0,null,null,null,null,0,0,null,0,0,5]
["",80,80,{"$f":"Insert!A82","v":0},{"$f":"Insert!B82","v":0},{"$f":"Insert!C82","v":0},{"$f":"Insert!D82","v":0},{"$f":"Insert!E82","v":0},null,null,null,null,null,null,null,null,null,null,null,null,null,null,null,null,0,"0",null,null,null,null,null,null,null,null,null,null,null,null,null,null,null,null,0,"0",null,null,null,null,null,null,null,null,null,null,null,null,null,null,null,null,0,"0",null,null,null,null,null,null,null,null,null,null,null,null,null,null,null,null,0,"0",null,null,null,null,null,null,null,null,null,null,null,null,null,null,null,null,0,"0",0,0,0,"",null,null,null,null,0,0,null,null,null,null,0,0,null,0,0,5]
["",81,81,{"$f":"Insert!A83","v":0},{"$f":"Insert!B83","v":0},{"$f":"Insert!C83","v":0},{"$f":"Insert!D83","v":0},{"$f":"Insert!E83","v":0},null,null,null,null,null,null,null,null,null,null,null,null,null,null,null,null,0,"0",null,null,null,null,null,null,null,null,null,null,null,null,null,null,null,null,0,"0",null,null,null,null,null,null,null,null,null,null,null,null,null,null,null,null,0,"0",null,null,null,null,null,null,null,null,null,null,null,null,null,null,null,null,0,"0",null,null,null,null,null,null,null,null,null,null,null,null,null,null,null,null,0,"0",0,0,0,"",null,null,null,null,0,0,null,null,null,null,0,0,null,0,0,5]
["",82,82,{"$f":"Insert!A84","v":0},{"$f":"Insert!B84","v":0},{"$f":"Insert!C84","v":0},{"$f":"Insert!D84","v":0},{"$f":"Insert!E84","v":0},null,null,null,null,null,null,null,null,null,null,null,null,null,null,null,null,0,"0",null,null,null,null,null,null,null,null,null,null,null,null,null,null,null,null,0,"0",null,null,null,null,null,null,null,null,null,null,null,null,null,null,null,null,0,"0",null,null,null,null,null,null,null,null,null,null,null,null,null,null,null,null,0,"0",null,null,null,null,null,null,null,null,null,null,null,null,null,null,null,null,0,"0",0,0,0,"",null,null,null,null,0,0,null,null,null,null,0,0,null,0,0,5]
["",83,83,{"$f":"Insert!A85","v":0},{"$f":"Insert!B85","v":0},{"$f":"Insert!C85","v":0},{"$f":"Insert!D85","v":0},{"$f":"Insert!E85","v":0},null,null,null,null,null,null,null,null,null,null,null,null,null,null,null,null,0,"0",null,null,null,null,null,null,null,null,null,null,null,null,null,null,null,null,0,"0",null,null,null,null,null,null,null,null,null,null,null,null,null,null,null,null,0,"0",null,null,null,null,null,null,null,null,null,null,null,null,null,null,null,null,0,"0",null,null,null,null,null,null,null,null,null,null,null,null,null,null,null,null,0,"0",0,0,0,"",null,null,null,null,0,0,null,null,null,null,0,0,null,0,0,5]
["",84,84,{"$f":"Insert!A86","v":0},{"$f":"Insert!B86","v":0},{"$f":"Insert!C86","v":0},{"$f":"Insert!D86","v":0},{"$f":"Insert!E86","v":0},null,null,null,null,null,null,null,null,null,null,null,null,null,null,null,null,0,"0",null,null,null,null,null,null,null,null,null,null,null,null,null,null,null,null,0,"0",null,null,null,null,null,null,null,null,null,null,null,null,null,null,null,null,0,"0",null,null,null,null,null,null,null,null,null,null,null,null,null,null,null,null,0,"0",null,null,null,null,null,null,null,null,null,null,null,null,null,null,null,null,0,"0",0,0,0,"",null,null,null,null,0,0,null,null,null,null,0,0,null,0,0,5]
["",85,85,{"$f":"Insert!A87","v":0},{"$f":"Insert!B87","v":0},{"$f":"Insert!C87","v":0},{"$f":"Insert!D87","v":0},{"$f":"Insert!E87","v":0},null,null,null,null,null,null,null,null,null,null,null,null,null,null,null,null,0,"0",null,null,null,null,null,null,null,null,null,null,null,null,null,null,null,null,0,"0",null,null,null,null,null,null,null,null,null,null,null,null,null,null,null,null,0,"0",null,null,null,null,null,null,null,null,null,null,null,null,null,null,null,null,0,"0",null,null,null,null,null,null,null,null,null,null,null,null,null,null,null,null,0,"0",0,0,0,"",null,null,null,null,0,0,null,null,null,null,0,0,null,0,0,5]
["",86,86,{"$f":"Insert!A88","v":0},{"$f":"Insert!B88","v":0},{"$f":"Insert!C88","v":0},{"$f":"Insert!D88","v":0},{"$f":"Insert!E88","v":0},null,null,null,null,null,null,null,null,null,null,null,null,null,null,null,null,0,"0",null,null,null,null,null,null,null,null,null,null,null,null,null,null,null,null,0,"0",null,null,null,null,null,null,null,null,null,null,null,null,null,null,null,null,0,"0",null,null,null,null,null,null,null,null,null,null,null,null,null,null,null,null,0,"0",null,null,null,null,null,null,null,null,null,null,null,null,null,null,null,null,0,"0",0,0,0,"",null,null,null,null,0,0,null,null,null,null,0,0,null,0,0,5]
["",87,87,{"$f":"Insert!A89","v":0},{"$f":"Insert!B89","v":0},{"$f":"Insert!C89","v":0},{"$f":"Insert!D89","v":0},{"$f":"Insert!E89","v":0},null,null,null,null,null,null,null,null,null,null,null,null,null,null,null,null,0,"0",null,null,null,null,null,null,null,null,null,null,null,null,null,null,null,null,0,"0",null,null,null,null,null,null,null,null,null,null,null,null,null,null,null,null,0,"0",null,null,null,null,null,null,null,null,null,null,null,null,null,null,null,null,0,"0",null,null,null,null,null,null,null,null,null,null,null,null,null,null,null,null,0,"0",0,0,0,"",null,null,null,null,0,0,null,null,null,null,0,0,null,0,0,5]
["",88,88,{"$f":"Insert!A90","v":0},{"$f":"Insert!B90","v":0},{"$f":"Insert!C90","v":0},{"$f":"Insert!D90","v":0},{"$f":"Insert!E90","v":0},null,null,null,null,null,null,null,null,null,null,null,null,null,null,null,null,0,"0",null,null,null,null,null,null,null,null,null,null,null,null,null,null,null,null,0,"0",null,null,null,null,null,null,null,null,null,null,null,null,null,null,null,null,0,"0",null,null,null,null,null,null,null,null,null,null,null,null,null,null,null,null,0,"0",null,null,null,null,null,null,null,null,null,null,null,null,null,null,null,null,0,"0",0,0,0,"",null,null,null,null,0,0,null,null,null,null,0,0,null,0,0,5]
["",89,89,{"$f":"Insert!A91","v":0},{"$f":"Insert!B91","v":0},{"$f":"Insert!C91","v":0},{"$f":"Insert!D91","v":0},{"$f":"Insert!E91","v":0},null,null,null,null,null,null,null,null,null,null,null,null,null,null,null,null,0,"0",null,null,null,null,null,null,null,null,null,null,null,null,null,null,null,null,0,"0",null,null,null,null,null,null,null,null,null,null,null,null,null,null,null,null,0,"0",null,null,null,null,null,null,null,null,null,null,null,null,null,null,null,null,0,"0",null,null,null,null,null,null,null,null,null,null,null,null,null,null,null,null,0,"0",0,0,0,"",null,null,null,null,0,0,null,null,null,null,0,0,null,0,0,5]
["",90,90,{"$f":"Insert!A92","v":0},{"$f":"Insert!B92","v":0},{"$f":"Insert!C92","v":0},{"$f":"Insert!D92","v":0},{"$f":"Insert!E92","v":0},null,null,null,null,null,null,null,null,null,null,null,null,null,null,null,null,0,"0",null,null,null,null,null,null,null,null,null,null,null,null,null,null,null,null,0,"0",null,null,null,null,null,null,null,null,null,null,null,null,null,null,null,null,0,"0",null,null,null,null,null,null,null,null,null,null,null,null,null,null,null,null,0,"0",null,null,null,null,null,null,null,null,null,null,null,null,null,null,null,null,0,"0",0,0,0,"",null,null,null,null,0,0,null,null,null,null,0,0,null,0,0,5]
["",91,91,{"$f":"Insert!A93","v":0},{"$f":"Insert!B93","v":0},{"$f":"Insert!C93","v":0},{"$f":"Insert!D93","v":0},{"$f":"Insert!E93","v":0},null,null,null,null,null,null,null,null,null,null,null,null,null,null,null,null,0,"0",null,null,null,null,null,null,null,null,null,null,null,null,null,null,null,null,0,"0",null,null,null,null,null,null,null,null,null,null,null,null,null,null,null,null,0,"0",null,null,null,null,null,null,null,null,null,null,null,null,null,null,null,null,0,"0",null,null,null,null,null,null,null,null,null,null,null,null,null,null,null,null,0,"0",0,0,0,"",null,null,null,null,0,0,null,null,null,null,0,0,null,0,0,5]
["",92,92,{"$f":"Insert!A94","v":0},{"$f":"Insert!B94","v":0},{"$f":"Insert!C94","v":0},{"$f":"Insert!D94","v":0},{"$f":"Insert!E94","v":0},null,null,null,null,null,null,null,null,null,null,null,null,null,null,null,null,0,"0",null,null,null,null,null,null,null,null,null,null,null,null,null,null,null,null,0,"0",null,null,null,null,null,null,null,null,null,null,null,null,null,null,null,null,0,"0",null,null,null,null,null,null,null,null,null,null,null,null,null,null,null,null,0,"0",null,null,null,null,null,null,null,null,null,null,null,null,null,null,null,null,0,"0",0,0,0,"",null,null,null,null,0,0,null,null,null,null,0,0,null,0,0,5]
["",93,93,{"$f":"Insert!A95","v":0},{"$f":"Insert!B95","v":0},{"$f":"Insert!C95","v":0},{"$f":"Insert!D95","v":0},{"$f":"Insert!E95","v":0},null,null,null,null,null,null,null,null,null,null,null,null,null,null,null,null,0,"0",null,null,null,null,null,null,null,null,null,null,null,null,null,null,null,null,0,"0",null,null,null,null,null,null,null,null,null,null,null,null,null,null,null,null,0,"0",null,null,null,null,null,null,null,null,null,null,null,null,null,null,null,null,0,"0",null,null,null,null,null,null,null,null,null,null,null,null,null,null,null,null,0,"0",0,0,0,"",null,null,null,null,0,0,null,null,null,null,0,0,null,0,0,5]
["",94,94,{"$f":"Insert!A96","v":0},{"$f":"Insert!B96","v":0},{"$f":"Insert!C96","v":0},{"$f":"Insert!D96","v":0},{"$f":"Insert!E96","v":0},null,null,null,null,null,null,null,null,null,null,null,null,null,null,null,null,0,"0",null,null,null,null,null,null,null,null,null,null,null,null,null,null,null,null,0,"0",null,null,null,null,null,null,null,null,null,null,null,null,null,null,null,null,0,"0",null,null,null,null,null,null,null,null,null,null,null,null,null,null,null,null,0,"0",null,null,null,null,null,null,null,null,null,null,null,null,null,null,null,null,0,"0",0,0,0,"",null,null,null,null,0,0,null,null,null,null,0,0,null,0,0,5]
["",95,95,{"$f":"Insert!A97","v":0},{"$f":"Insert!B97","v":0},{"$f":"Insert!C97","v":0},{"$f":"Insert!D97","v":0},{"$f":"Insert!E97","v":0},null,null,null,null,null,null,null,null,null,null,null,null,null,null,null,null,0,"0",null,null,null,null,null,null,null,null,null,null,null,null,null,null,null,null,0,"0",null,null,null,null,null,null,null,null,null,null,null,null,null,null,null,null,0,"0",null,null,null,null,null,null,null,null,null,null,null,null,null,null,null,null,0,"0",null,null,null,null,null,null,null,null,null,null,null,null,null,null,null,null,0,"0",0,0,0,"",null,null,null,null,0,0,null,null,null,null,0,0,null,0,0,5]
["",96,96,{"$f":"Insert!A98","v":0},{"$f":"Insert!B98","v":0},{"$f":"Insert!C98","v":0},{"$f":"Insert!D98","v":0},{"$f":"Insert!E98","v":0},null,null,null,null,null,null,null,null,null,null,null,null,null,null,null,null,0,"0",null,null,null,null,null,null,null,null,null,null,null,null,null,null,null,null,0,"0",null,null,null,null,null,null,null,null,null,null,null,null,null,null,null,null,0,"0",null,null,null,null,null,null,null,null,null,null,null,null,null,null,null,null,0,"0",null,null,null,null,null,null,null,null,null,null,null,null,null,null,null,null,0,"0",0,0,0,"",null,null,null,null,0,0,null,null,null,null,0,0,null,0,0,5]
["",97,97,{"$f":"Insert!A99","v":0},{"$f":"Insert!B99","v":0},{"$f":"Insert!C99","v":0},{"$f":"Insert!D99","v":0},{"$f":"Insert!E99","v":0},null,null,null,null,null,null,null,null,null,null,null,null,null,null,null,null,{"$f":"SUM(I112:X112)","v":0},{"$f":"IFERROR(ROUND((SUM(Y112*$Y$13)/10),0),\"0\")","v":"0"},null,null,null,null,null,null,null,null,null,null,null,null,null,null,null,null,{"$f":"SUM(AA112:AP112)","v":0},{"$f":"IFERROR(ROUND((SUM(AQ112*$AQ$13)/10),0),\"0\")","v":"0"},null,null,null,null,null,null,null,null,null,null,null,null,null,null,null,null,{"$f":"SUM(AS112:BH112)","v":0},{"$f":"IFERROR(ROUND((SUM(BI112*$BI$13)/10),0),\"0\")","v":"0"},null,null,null,null,null,null,null,null,null,null,null,null,null,null,null,null,{"$f":"SUM(BK112:BZ112)","v":0},{"$f":"IFERROR(ROUND((SUM(CA112*$CA$13)/10),0),\"0\")","v":"0"},null,null,null,null,null,null,null,null,null,null,null,null,null,null,null,null,{"$f":"SUM(CC112:CR112)","v":0},{"$f":"IFERROR(ROUND((SUM(CS112*$CS$13)/10),0),\"0\")","v":"0"},0,0,0,{"$f":"IF(CW112>79.4,\"7\",IF(CW112>69.4,\"6\",IF(CW112>59.4,\"5\",IF(CW112>49.4,\"4\",IF(CW112>39.4,\"3\",IF(CW112>29.4,\"2\",IF(CW112>0,\"1\",IF(CW112=0,\"\",IF(CW112=-1,\"\")))))))))","v":""},null,null,null,null,{"$f":"SUM(CY112:DB112)","v":0},{"$f":"ROUND(SUM(DC112*$DC$13),0)","v":0},null,null,null,null,{"$f":"SUM(DE112:DH112)","v":0},{"$f":"ROUND(SUM(DI112*$DI$13),0)","v":0},null,0,0,5]
["",98,98,{"$f":"Insert!A100","v":0},{"$f":"Insert!B100","v":0},{"$f":"Insert!C100","v":0},{"$f":"Insert!D100","v":0},{"$f":"Insert!E100","v":0},null,null,null,null,null,null,null,null,null,null,null,null,null,null,null,null,0,"0",null,null,null,null,null,null,null,null,null,null,null,null,null,null,null,null,0,"0",null,null,null,null,null,null,null,null,null,null,null,null,null,null,null,null,0,"0",null,null,null,null,null,null,null,null,null,null,null,null,null,null,null,null,0,"0",null,null,null,null,null,null,null,null,null,null,null,null,null,null,null,null,0,"0",0,0,0,"",null,null,null,null,0,0,null,null,null,null,0,0,null,0,0,5]
["",99,99,{"$f":"Insert!A101","v":0},{"$f":"Insert!B101","v":0},{"$f":"Insert!C101","v":0},{"$f":"Insert!D101","v":0},{"$f":"Insert!E101","v":0},null,null,null,null,null,null,null,null,null,null,null,null,null,null,null,null,0,"0",null,null,null,null,null,null,null,null,null,null,null,null,null,null,null,null,0,"0",null,null,null,null,null,null,null,null,null,null,null,null,null,null,null,null,0,"0",null,null,null,null,null,null,null,null,null,null,null,null,null,null,null,null,0,"0",null,null,null,null,null,null,null,null,null,null,null,null,null,null,null,null,0,"0",0,0,0,"",null,null,null,null,0,0,null,null,null,null,0,0,null,0,0,5]
["",100,100,{"$f":"Insert!A102","v":0},{"$f":"Insert!B102","v":0},{"$f":"Insert!C102","v":0},{"$f":"Insert!D102","v":0},{"$f":"Insert!E102","v":0},null,null,null,null,null,null,null,null,null,null,null,null,null,null,null,null,0,"0",null,null,null,null,null,null,null,null,null,null,null,null,null,null,null,null,0,"0",null,null,null,null,null,null,null,null,null,null,null,null,null,null,null,null,0,"0",null,null,null,null,null,null,null,null,null,null,null,null,null,null,null,null,0,"0",null,null,null,null,null,null,null,null,null,null,null,null,null,null,null,null,0,"0",0,0,0,"",null,null,null,null,0,0,null,null,null,null,0,0,null,0,0,5]
[null,"Total amount of learners on mark sheet",null,null,null,"TOTAL",null,null,{"$f":"SUMIF(I16:I115,\">0\")","v":0},{"$f":"SUMIF(J16:J115,\">0\")","v":0},0,0,0,0,0,0,0,0,0,0,0,0,0,{"$f":"SUMIF(X16:X115,\">0\")","v":0},{"$f":"SUM(Y16:Y115)","v":0},0,{"$f":"SUMIF(AA16:AA115,\">0\")","v":0},{"$f":"SUMIF(AB16:AB115,\">0\")","v":0},0,0,0,0,0,0,0,0,0,0,0,0,0,0,0,0,{"$f":"SUMIF(AS16:AS115,\">0\")","v":0},0,0,0,{"$f":"SUMIF(AW16:AW115,\">0\")","v":0},0,0,0,0,0,0,0,0,0,0,0,0,0,{"$f":"SUMIF(BK16:BK115,\">0\")","v":0},{"$f":"SUMIF(BL16:BL115,\">0\")","v":0},0,0,0,0,0,0,0,0,0,0,0,0,0,0,0,0,{"$f":"SUMIF(CC16:CC115,\">0\")","v":0},0,0,0,{"$f":"SUMIF(CG16:CG115,\">0\")","v":0},0,0,0,0,0,0,0,0,0,0,0,0,0,0,0,0,null,{"$f":"SUMIF(CY16:CY115,\">0\")","v":0},0,0,0,{"$f":"SUMIF(DC16:DC115,\">0\")","v":0},null,{"$f":"SUMIF(DE16:DE115,\">0\")","v":0},0,0,0,0]
[null,null,null,null,null,"AVERAGE",null,null,{"$f":"SUM(I116/$B$119)","v":{"$error":"#DIV/0!"}},{"$f":"SUM(J116/$B$119)","v":{"$error":"#DIV/0!"}},{"$error":"#DIV/0!"},{"$error":"#DIV/0!"},{"$error":"#DIV/0!"},{"$error":"#DIV/0!"},{"$error":"#DIV/0!"},{"$error":"#DIV/0!"},{"$error":"#DIV/0!"},{"$error":"#DIV/0!"},{"$error":"#DIV/0!"},{"$error":"#DIV/0!"},{"$error":"#DIV/0!"},{"$error":"#DIV/0!"},{"$error":"#DIV/0!"},{"$error":"#DIV/0!"},{"$error":"#DIV/0!"},{"$error":"#DIV/0!"},{"$error":"#DIV/0!"},{"$f":"SUM(AB116/$B$119)","v":{"$error":"#DIV/0!"}},{"$error":"#DIV/0!"},{"$error":"#DIV/0!"},{"$error":"#DIV/0!"},{"$error":"#DIV/0!"},{"$error":"#DIV/0!"},{"$error":"#DIV/0!"},{"$error":"#DIV/0!"},{"$error":"#DIV/0!"},{"$error":"#DIV/0!"},{"$error":"#DIV/0!"},{"$error":"#DIV/0!"},{"$error":"#DIV/0!"},{"$error":"#DIV/0!"},{"$error":"#DIV/0!"},{"$error":"#DIV/0!"},{"$error":"#DIV/0!"},{"$error":"#DIV/0!"},{"$error":"#DIV/0!"},{"$error":"#DIV/0!"},{"$error":"#DIV/0!"},{"$f":"SUM(AW116/$B$119)","v":{"$error":"#DIV/0!"}},{"$error":"#DIV/0!"},{"$error":"#DIV/0!"},{"$error":"#DIV/0!"},{"$error":"#DIV/0!"},{"$error":"#DIV/0!"},{"$error":"#DIV/0!"},{"$error":"#DIV/0!"},{"$error":"#DIV/0!"},{"$error":"#DIV/0!"},{"$error":"#DIV/0!"},{"$error":"#DIV/0!"},{"$error":"#DIV/0!"},{"$error":"#DIV/0!"},{"$error":"#DIV/0!"},{"$f":"SUM(BL116/$B$119)","v":{"$error":"#DIV/0!"}},{"$error":"#DIV/0!"},{"$error":"#DIV/0!"},{"$error":"#DIV/0!"},{"$error":"#DIV/0!"},{"$error":"#DIV/0!"},{"$error":"#DIV/0!"},{"$error":"#DIV/0!"},{"$error":"#DIV/0!"},{"$error":"#DIV/0!"},{"$error":"#DIV/0!"},{"$error":"#DIV/0!"},{"$error":"#DIV/0!"},{"$error":"#DIV/0!"},{"$error":"#DIV/0!"},{"$error":"#DIV/0!"},{"$error":"#DIV/0!"},{"$error":"#DIV/0!"},{"$error":"#DIV/0!"},{"$error":"#DIV/0!"},{"$error":"#DIV/0!"},{"$f":"SUM(CG116/$B$119)","v":{"$error":"#DIV/0!"}},{"$error":"#DIV/0!"},{"$error":"#DIV/0!"},{"$error":"#DIV/0!"},{"$error":"#DIV/0!"},{"$error":"#DIV/0!"},{"$error":"#DIV/0!"},{"$error":"#DIV/0!"},{"$error":"#DIV/0!"},{"$error":"#DIV/0!"},{"$error":"#DIV/0!"},{"$error":"#DIV/0!"},{"$error":"#DIV/0!"},{"$error":"#DIV/0!"},{"$error":"#DIV/0!"},{"$error":"#DIV/0!"},{"$error":"#DIV/0!"},null,{"$f":"SUM(CY116/$B$119)","v":{"$error":"#DIV/0!"}},{"$f":"SUM(CZ116/$B$119)","v":{"$error":"#DIV/0!"}},{"$f":"SUM(DA116/$B$119)","v":{"$error":"#DIV/0!"}},{"$f":"SUM(DB116/$B$119)","v":{"$error":"#DIV/0!"}},{"$f":"SUM(DC116/$B$119)","v":{"$error":"#DIV/0!"}},null,{"$f":"SUM(DE116/$B$119)","v":{"$error":"#DIV/0!"}},{"$f":"SUM(DF116/$B$119)","v":{"$error":"#DIV/0!"}},{"$f":"SUM(DG116/$B$119)","v":{"$error":"#DIV/0!"}},{"$f":"SUM(DH116/$B$119)","v":{"$error":"#DIV/0!"}},{"$f":"SUM(DI116/$B$119)","v":{"$error":"#DIV/0!"}}]
[null,null,null,null,null,"PERCENTAGE",null,null,{"$f":"IFERROR(ROUND((SUM(I117/I12)*100),0),\"0\")","v":"0"},{"$f":"IFERROR(ROUND((SUM(J117/J12)*100),0),\"0\")","v":"0"},"0","0","0","0","0","0","0","0","0","0","0","0","0",{"$f":"IFERROR(ROUND((SUM(X117/X12)*100),0),\"0\")","v":"0"},"0",{"$f":"ROUND((SUM(Z117/Z12)*100),0)","v":{"$error":"#DIV/0!"}},{"$f":"IFERROR(ROUND((SUM(AA117/AA12)*100),0),\"0\")","v":"0"},{"$f":"IFERROR(ROUND((SUM(AB117/AB12)*100),0),\"0\")","v":"0"},"0","0","0","0","0","0","0","0","0","0","0","0","0","0","0",{"$f":"ROUND((SUM(AR117/AR12)*100),0)","v":{"$error":"#DIV/0!"}},{"$f":"IFERROR(ROUND((SUM(AS117/AS12)*100),0),\"0\")","v":"0"},"0","0","0",{"$f":"IFERROR(ROUND((SUM(AW117/AW12)*100),0),\"0\")","v":"0"},"0","0","0","0","0","0","0","0","0","0","0","0",{"$f":"ROUND((SUM(BJ117/BJ12)*100),0)","v":{"$error":"#DIV/0!"}},{"$f":"IFERROR(ROUND((SUM(BK117/BK12)*100),0),\"0\")","v":"0"},{"$f":"IFERROR(ROUND((SUM(BL117/BL12)*100),0),\"0\")","v":"0"},"0","0","0","0","0","0","0","0","0","0","0","0","0","0","0",{"$f":"ROUND((SUM(CB117/CB12)*100),0)","v":{"$error":"#DIV/0!"}},{"$f":"IFERROR(ROUND((SUM(CC117/CC12)*100),0),\"0\")","v":"0"},"0","0","0",{"$f":"IFERROR(ROUND((SUM(CG117/CG12)*100),0),\"0\")","v":"0"},"0","0","0","0","0","0","0","0","0","0","0","0",{"$f":"ROUND((SUM(CT117/CT12)*100),0)","v":{"$error":"#DIV/0!"}},{"$error":"#DIV/0!"},{"$error":"#DIV/0!"},{"$error":"#DIV/0!"},null,{"$f":"ROUND((SUM(CY117/CY12)*100),0)","v":{"$error":"#DIV/0!"}},{"$f":"ROUND((SUM(CZ117/CZ12)*100),0)","v":{"$error":"#DIV/0!"}},{"$f":"ROUND((SUM(DA117/DA12)*100),0)","v":{"$error":"#DIV/0!"}},{"$f":"ROUND((SUM(DB117/DB12)*100),0)","v":{"$error":"#DIV/0!"}},{"$f":"ROUND((SUM(DC117/DC12)*100),0)","v":{"$error":"#DIV/0!"}},null,{"$f":"ROUND((SUM(DE117/DE12)*100),0)","v":{"$error":"#DIV/0!"}},{"$f":"ROUND((SUM(DF117/DF12)*100),0)","v":{"$error":"#DIV/0!"}},{"$f":"ROUND((SUM(DG117/DG12)*100),0)","v":{"$error":"#DIV/0!"}},{"$f":"ROUND((SUM(DH117/DH12)*100),0)","v":{"$error":"#DIV/0!"}},{"$f":"ROUND((SUM(DI117/DI12)*100),0)","v":{"$error":"#DIV/0!"}}]
[null,{"$f":"Insert!$F$103","v":0}]
[null,null,null,null,null,"TOTAL HANDED IN",null,null,{"$f":"COUNT(I16:I115)","v":0},{"$f":"COUNT(J16:J115)","v":0},0,0,0,0,0,0,0,0,0,0,0,0,0,0,100,null,{"$f":"COUNT(AA16:AA115)","v":0},{"$f":"COUNT(AB16:AB115)","v":0},0,0,0,0,0,0,0,0,0,0,0,0,0,0,{"$f":"COUNTIF(AQ16:AQ115,\">0\")","v":0},null,{"$f":"COUNT(AS16:AS115)","v":0},{"$f":"COUNT(AT16:AT115)","v":0},0,0,0,0,0,0,0,0,0,0,0,0,0,0,null,null,{"$f":"COUNT(BK16:BK115)","v":0},{"$f":"COUNT(BL16:BL115)","v":0},0,0,0,0,0,0,0,0,0,0,0,0,{"$f":"COUNT(BY16:BY115)","v":0},0,{"$f":"COUNTIF(CA16:CA115,\">0\")","v":0},null,{"$f":"COUNT(CC16:CC115)","v":0},{"$f":"COUNT(CD16:CD115)","v":0},0,0,{"$f":"COUNT(CG16:CG115)","v":0},0,0,0,0,0,0,0,0,0,0,0,{"$f":"COUNTIF(CS16:CS115,\">0\")","v":0},null,"EXAM LEVELS"]
[null,null,null,null,null,"blank",null,null,null,null,null,null,null,null,null,null,null,null,null,null,null,null,null,null,null,null,null,null,null,null,null,null,null,null,null,null,null,null,null,null,null,null,null,null,null,null,null,null,null,null,null,null,null,null,null,null,null,null,null,null,null,null,null,null,null,null,null,null,null,null,null,null,null,null,null,null,null,null,null,null,null,null,null,null,null,null,null,null,null,null,null,null,null,null,null,null,null,null,"LEVEL 1",null,"LEVEL 2",null,"LEVEL 3",null,"LEVEL 4",null,"LEVEL 5",null,null,"LEVEL 6",null,"LEVEL 7"]
[null,null,null,null,null,"blank",null,null,null,null,null,null,null,null,null,null,null,null,null,null,null,null,null,null,null,null,null,null,null,null,null,null,null,null,null,null,null,null,null,null,null,null,null,null,null,null,null,null,null,null,null,null,null,null,null,null,null,null,null,null,null,null,null,null,null,null,null,null,null,null,null,null,null,null,null,null,null,null,null,null,null,null,null,null,null,null,null,null,null,null,null,null,null,null,null,null,null,null," 0 - 29 ",null," 30 - 39 ",null," 40 - 49 ",null," 50 - 59 ",null," 60 - 69 ",null,null," 70 - 79 ",null,"80 - 100"]
[null,null,null,null,null,"blank",null,null,null,null,null,null,null,null,null,null,null,null,null,null,null,null,null,null,null,null,null,null,null,null,null,null,null,null,null,null,null,null,null,null,null,null,null,null,null,null,null,null,null,null,null,null,null,null,null,null,null,null,null,null,null,null,null,null,null,null,null,null,null,null,null,null,null,null,null,null,null,null,null,null,null,null,null,null,null,null,null,null,null,null,null,null,null,null,null,null,null,null,{"$f":"COUNTIF($CX$16:$CX$115,1)","v":0},null,{"$f":"COUNTIF($CX$16:$CX$115,2)","v":0},null,{"$f":"COUNTIF($CX$16:$CX$115,3)","v":0},null,{"$f":"COUNTIF($CX$16:$CX$115,4)","v":0},null,{"$f":"COUNTIF($CX$16:$CX$115,5)","v":0},null,null,{"$f":"COUNTIF($CX$16:$CX$115,6)","v":0},null,{"$f":"COUNTIF($CX$16:$CX$115,7)","v":0}]

{"sheet":"SASAMS Term1","index":6,"n_rows":113,"n_cols":21,"rows_kept":113,"cut":false,"hidden":false,"merged":[[0,19,7,19],[0,20,7,20],[3,17,5,17],[110,1,112,3],[110,5,112,6],[5,0,5,4],[3,15,5,15],[3,16,5,16],[0,0,0,5],[1,0,1,2],[2,0,2,6],[3,0,3,5],[4,0,4,6]]}
["    Engineering Graphics and Design (Gr 12)\n    Term 1 : ",null,null,null,null,null,"TASKS",null,null,null,null,null,null,"TASK 1","TASK 2",null,null,null,null,"Helper Count Course drawings","show X or not"]
["Grade :  ",null,null,{"$f":"TERM1!$F$6","v":0},null,null,"Activities",{"$f":"TERM1!$I$4","v":"CD1 Mechanical Analytical"},{"$f":"TERM1!$AA$4","v":"CD2 Mechanical Drawing"},{"$f":"TERM1!$AS$4","v":"CD3 Civil floor plan with elevations"},{"$f":"TERM1!$BK$4","v":"CD4 Civil Sectional elevation"},{"$f":"TERM1!$CC$4","v":"CD5 Civil Site plan"},{"$f":"TERM1!$CU$4","v":"CD6 2-point perspective"}]
["Weighting ",null,null,null,null,null,null,16,16,17,17,17,17,100,60,100]
[" Marks: -1 = Absent,  -2 = Not Captured",null,null,null,null,null,"Total Mark",10,10,10,10,10,10,{"$f":"ROUND((SUM(H4:M4)),0)","v":60},50,"TOTAL Weighted Mark","Term\n%","Level"]
["SBA Year Mark Weight ",null,null,null,null,null,null,null,null,null,null,null,null,"12","15"]
[null,null,null,null,null,null,"Term \n /Date "]
["No","No","Class","Acc No","Learner",null,"Gender","T1:A1","T1:A2","T1:A3","T1:A4","T1:A5","T1:A6","T1","T2",null,"100"]
[]
[1,1,{"$f":"Insert!A3","v":0},{"$f":"Insert!B3","v":0},{"$f":"Insert!C3","v":0},{"$f":"Insert!D3","v":0},{"$f":"Insert!E3","v":0},{"$f":"TERM1!Z16","v":"0"},{"$f":"TERM1!AR16","v":"0"},{"$f":"TERM1!BJ16","v":"0"},{"$f":"TERM1!CB16","v":"0"},{"$f":"TERM1!CT16","v":0},{"$f":"TERM1!DL16","v":"0"},{"$f":"ROUND((SUM(H9/0.625)+SUM(I9/0.625)+SUM(J9/0.588235294)+SUM(K9/0.588235294)+SUM(L9/0.588235294)+SUM(M9/0.588235294)),0)","v":0},{"$f":"TERM1!DO16","v":0},{"$f":"SUMIF(N9,\">0\")","v":0},{"$f":"ROUND(P9,0)","v":0},{"$f":"IF(Q9>79,\"7\",IF(Q9>69,\"6\",IF(Q9>59,\"5\",IF(Q9>49,\"4\",IF(Q9>39,\"3\",IF(Q9>29,\"2\",IF(Q9>0,\"1\",IF(Q9=0,\"\"))))))))","v":""},null,{"$f":"COUNTIF(H9:O9,\">0\")","v":0},{"$f":"IF(T9=0,\"X\",\"\")","v":"X"}]
[2,2,{"$f":"Insert!A4","v":0},{"$f":"Insert!B4","v":0},{"$f":"Insert!C4","v":0},{"$f":"Insert!D4","v":0},{"$f":"Insert!E4","v":0},{"$f":"TERM1!Z17","v":"0"},{"$f":"TERM1!AR17","v":"0"},{"$f":"TERM1!BJ17","v":"0"},{"$f":"TERM1!CB17","v":"0"},{"$f":"TERM1!CT17","v":0},{"$f":"TERM1!DL17","v":"0"},{"$f":"ROUND((SUM(H10/0.625)+SUM(I10/0.625)+SUM(J10/0.588235294)+SUM(K10/0.588235294)+SUM(L10/0.588235294)+SUM(M10/0.588235294)),0)","v":0},{"$f":"TERM1!DO17","v":0},{"$f":"SUMIF(O10,\">0\")*1.2+SUMIF(N10,\">0\")","v":0},0,"",null,{"$f":"COUNTIF(H10:O10,\">0\")","v":0},"X"]
[3,3,{"$f":"Insert!A5","v":0},{"$f":"Insert!B5","v":0},{"$f":"Insert!C5","v":0},{"$f":"Insert!D5","v":0},{"$f":"Insert!E5","v":0},{"$f":"TERM1!Z18","v":"0"},{"$f":"TERM1!AR18","v":"0"},{"$f":"TERM1!BJ18","v":"0"},{"$f":"TERM1!CB18","v":"0"},{"$f":"TERM1!CT18","v":0},{"$f":"TERM1!DL18","v":"0"},0,{"$f":"TERM1!DO18","v":0},0,0,"",null,0,"X"]
[4,4,{"$f":"Insert!A6","v":0},{"$f":"Insert!B6","v":0},{"$f":"Insert!C6","v":0},{"$f":"Insert!D6","v":0},{"$f":"Insert!E6","v":0},{"$f":"TERM1!Z19","v":"0"},{"$f":"TERM1!AR19","v":"0"},{"$f":"TERM1!BJ19","v":"0"},{"$f":"TERM1!CB19","v":"0"},{"$f":"TERM1!CT19","v":0},{"$f":"TERM1!DL19","v":"0"},0,{"$f":"TERM1!DO19","v":0},0,0,"",null,0,"X"]
[5,5,{"$f":"Insert!A7","v":0},{"$f":"Insert!B7","v":0},{"$f":"Insert!C7","v":0},{"$f":"Insert!D7","v":0},{"$f":"Insert!E7","v":0},{"$f":"TERM1!Z20","v":"0"},{"$f":"TERM1!AR20","v":"0"},{"$f":"TERM1!BJ20","v":"0"},{"$f":"TERM1!CB20","v":"0"},{"$f":"TERM1!CT20","v":0},{"$f":"TERM1!DL20","v":"0"},0,{"$f":"TERM1!DO20","v":0},0,0,"",null,0,"X"]
[6,6,{"$f":"Insert!A8","v":0},{"$f":"Insert!B8","v":0},{"$f":"Insert!C8","v":0},{"$f":"Insert!D8","v":0},{"$f":"Insert!E8","v":0},{"$f":"TERM1!Z21","v":"0"},{"$f":"TERM1!AR21","v":"0"},{"$f":"TERM1!BJ21","v":"0"},{"$f":"TERM1!CB21","v":"0"},{"$f":"TERM1!CT21","v":0},{"$f":"TERM1!DL21","v":"0"},0,{"$f":"TERM1!DO21","v":0},0,0,"",null,0,"X"]
[7,7,{"$f":"Insert!A9","v":0},{"$f":"Insert!B9","v":0},{"$f":"Insert!C9","v":0},{"$f":"Insert!D9","v":0},{"$f":"Insert!E9","v":0},{"$f":"TERM1!Z22","v":"0"},{"$f":"TERM1!AR22","v":"0"},{"$f":"TERM1!BJ22","v":"0"},{"$f":"TERM1!CB22","v":"0"},{"$f":"TERM1!CT22","v":0},{"$f":"TERM1!DL22","v":"0"},0,{"$f":"TERM1!DO22","v":0},0,0,"",null,0,"X"]
[8,8,{"$f":"Insert!A10","v":0},{"$f":"Insert!B10","v":0},{"$f":"Insert!C10","v":0},{"$f":"Insert!D10","v":0},{"$f":"Insert!E10","v":0},{"$f":"TERM1!Z23","v":"0"},{"$f":"TERM1!AR23","v":"0"},{"$f":"TERM1!BJ23","v":"0"},{"$f":"TERM1!CB23","v":"0"},{"$f":"TERM1!CT23","v":0},{"$f":"TERM1!DL23","v":"0"},0,{"$f":"TERM1!DO23","v":0},0,0,"",null,0,"X"]
[9,9,{"$f":"Insert!A11","v":0},{"$f":"Insert!B11","v":0},{"$f":"Insert!C11","v":0},{"$f":"Insert!D11","v":0},{"$f":"Insert!E11","v":0},{"$f":"TERM1!Z24","v":"0"},{"$f":"TERM1!AR24","v":"0"},{"$f":"TERM1!BJ24","v":"0"},{"$f":"TERM1!CB24","v":"0"},{"$f":"TERM1!CT24","v":0},{"$f":"TERM1!DL24","v":"0"},0,{"$f":"TERM1!DO24","v":0},0,0,"",null,0,"X"]
[10,10,{"$f":"Insert!A12","v":0},{"$f":"Insert!B12","v":0},{"$f":"Insert!C12","v":0},{"$f":"Insert!D12","v":0},{"$f":"Insert!E12","v":0},{"$f":"TERM1!Z25","v":"0"},{"$f":"TERM1!AR25","v":"0"},{"$f":"TERM1!BJ25","v":"0"},{"$f":"TERM1!CB25","v":"0"},{"$f":"TERM1!CT25","v":0},{"$f":"TERM1!DL25","v":"0"},0,{"$f":"TERM1!DO25","v":0},0,0,"",null,{"$f":"COUNTIF(H18:O18,\">0\")","v":0},"X"]
[11,11,{"$f":"Insert!A13","v":0},{"$f":"Insert!B13","v":0},{"$f":"Insert!C13","v":0},{"$f":"Insert!D13","v":0},{"$f":"Insert!E13","v":0},{"$f":"TERM1!Z26","v":"0"},{"$f":"TERM1!AR26","v":"0"},{"$f":"TERM1!BJ26","v":"0"},{"$f":"TERM1!CB26","v":"0"},{"$f":"TERM1!CT26","v":0},{"$f":"TERM1!DL26","v":"0"},0,{"$f":"TERM1!DO26","v":0},0,0,"",null,0,"X"]
[12,12,{"$f":"Insert!A14","v":0},{"$f":"Insert!B14","v":0},{"$f":"Insert!C14","v":0},{"$f":"Insert!D14","v":0},{"$f":"Insert!E14","v":0},{"$f":"TERM1!Z27","v":"0"},{"$f":"TERM1!AR27","v":"0"},{"$f":"TERM1!BJ27","v":"0"},{"$f":"TERM1!CB27","v":"0"},{"$f":"TERM1!CT27","v":0},{"$f":"TERM1!DL27","v":"0"},0,{"$f":"TERM1!DO27","v":0},0,0,"",null,0,"X"]
[13,13,{"$f":"Insert!A15","v":0},{"$f":"Insert!B15","v":0},{"$f":"Insert!C15","v":0},{"$f":"Insert!D15","v":0},{"$f":"Insert!E15","v":0},{"$f":"TERM1!Z28","v":"0"},{"$f":"TERM1!AR28","v":"0"},{"$f":"TERM1!BJ28","v":"0"},{"$f":"TERM1!CB28","v":"0"},{"$f":"TERM1!CT28","v":0},{"$f":"TERM1!DL28","v":"0"},0,{"$f":"TERM1!DO28","v":0},0,0,"",null,0,"X"]
[14,14,{"$f":"Insert!A16","v":0},{"$f":"Insert!B16","v":0},{"$f":"Insert!C16","v":0},{"$f":"Insert!D16","v":0},{"$f":"Insert!E16","v":0},{"$f":"TERM1!Z29","v":"0"},{"$f":"TERM1!AR29","v":"0"},{"$f":"TERM1!BJ29","v":"0"},{"$f":"TERM1!CB29","v":"0"},{"$f":"TERM1!CT29","v":0},{"$f":"TERM1!DL29","v":"0"},0,{"$f":"TERM1!DO29","v":0},0,0,"",null,0,"X"]
[15,15,{"$f":"Insert!A17","v":0},{"$f":"Insert!B17","v":0},{"$f":"Insert!C17","v":0},{"$f":"Insert!D17","v":0},{"$f":"Insert!E17","v":0},{"$f":"TERM1!Z30","v":"0"},{"$f":"TERM1!AR30","v":"0"},{"$f":"TERM1!BJ30","v":"0"},{"$f":"TERM1!CB30","v":"0"},{"$f":"TERM1!CT30","v":0},{"$f":"TERM1!DL30","v":"0"},0,{"$f":"TERM1!DO30","v":0},0,0,"",null,0,"X"]
[16,16,{"$f":"Insert!A18","v":0},{"$f":"Insert!B18","v":0},{"$f":"Insert!C18","v":0},{"$f":"Insert!D18","v":0},{"$f":"Insert!E18","v":0},{"$f":"TERM1!Z31","v":"0"},{"$f":"TERM1!AR31","v":"0"},{"$f":"TERM1!BJ31","v":"0"},{"$f":"TERM1!CB31","v":"0"},{"$f":"TERM1!CT31","v":0},{"$f":"TERM1!DL31","v":"0"},0,{"$f":"TERM1!DO31","v":0},0,0,"",null,0,"X"]
[17,17,{"$f":"Insert!A19","v":0},{"$f":"Insert!B19","v":0},{"$f":"Insert!C19","v":0},{"$f":"Insert!D19","v":0},{"$f":"Insert!E19","v":0},{"$f":"TERM1!Z32","v":"0"},{"$f":"TERM1!AR32","v":"0"},{"$f":"TERM1!BJ32","v":"0"},{"$f":"TERM1!CB32","v":"0"},{"$f":"TERM1!CT32","v":0},{"$f":"TERM1!DL32","v":"0"},0,{"$f":"TERM1!DO32","v":0},0,0,"",null,0,"X"]
[18,18,{"$f":"Insert!A20","v":0},{"$f":"Insert!B20","v":0},{"$f":"Insert!C20","v":0},{"$f":"Insert!D20","v":0},{"$f":"Insert!E20","v":0},{"$f":"TERM1!Z33","v":"0"},{"$f":"TERM1!AR33","v":"0"},{"$f":"TERM1!BJ33","v":"0"},{"$f":"TERM1!CB33","v":"0"},{"$f":"TERM1!CT33","v":0},{"$f":"TERM1!DL33","v":"0"},0,{"$f":"TERM1!DO33","v":0},0,0,"",null,0,"X"]
[19,19,{"$f":"Insert!A21","v":0},{"$f":"Insert!B21","v":0},{"$f":"Insert!C21","v":0},{"$f":"Insert!D21","v":0},{"$f":"Insert!E21","v":0},{"$f":"TERM1!Z34","v":"0"},{"$f":"TERM1!AR34","v":"0"},{"$f":"TERM1!BJ34","v":"0"},{"$f":"TERM1!CB34","v":"0"},{"$f":"TERM1!CT34","v":0},{"$f":"TERM1!DL34","v":"0"},0,{"$f":"TERM1!DO34","v":0},0,0,"",null,0,"X"]
[20,20,{"$f":"Insert!A22","v":0},{"$f":"Insert!B22","v":0},{"$f":"Insert!C22","v":0},{"$f":"Insert!D22","v":0},{"$f":"Insert!E22","v":0},{"$f":"TERM1!Z35","v":"0"},{"$f":"TERM1!AR35","v":"0"},{"$f":"TERM1!BJ35","v":"0"},{"$f":"TERM1!CB35","v":"0"},{"$f":"TERM1!CT35","v":0},{"$f":"TERM1!DL35","v":"0"},0,{"$f":"TERM1!DO35","v":0},0,0,"",null,0,"X"]
[21,21,{"$f":"Insert!A23","v":0},{"$f":"Insert!B23","v":0},{"$f":"Insert!C23","v":0},{"$f":"Insert!D23","v":0},{"$f":"Insert!E23","v":0},{"$f":"TERM1!Z36","v":"0"},{"$f":"TERM1!AR36","v":"0"},{"$f":"TERM1!BJ36","v":"0"},{"$f":"TERM1!CB36","v":"0"},{"$f":"TERM1!CT36","v":0},{"$f":"TERM1!DL36","v":"0"},0,{"$f":"TERM1!DO36","v":0},0,0,"",null,0,"X"]
[22,22,{"$f":"Insert!A24","v":0},{"$f":"Insert!B24","v":0},{"$f":"Insert!C24","v":0},{"$f":"Insert!D24","v":0},{"$f":"Insert!E24","v":0},{"$f":"TERM1!Z37","v":"0"},{"$f":"TERM1!AR37","v":"0"},{"$f":"TERM1!BJ37","v":"0"},{"$f":"TERM1!CB37","v":"0"},{"$f":"TERM1!CT37","v":0},{"$f":"TERM1!DL37","v":"0"},0,{"$f":"TERM1!DO37","v":0},0,0,"",null,0,"X"]
[23,23,{"$f":"Insert!A25","v":0},{"$f":"Insert!B25","v":0},{"$f":"Insert!C25","v":0},{"$f":"Insert!D25","v":0},{"$f":"Insert!E25","v":0},{"$f":"TERM1!Z38","v":"0"},{"$f":"TERM1!AR38","v":"0"},{"$f":"TERM1!BJ38","v":"0"},{"$f":"TERM1!CB38","v":"0"},{"$f":"TERM1!CT38","v":0},{"$f":"TERM1!DL38","v":"0"},0,{"$f":"TERM1!DO38","v":0},0,0,"",null,0,"X"]
[24,24,{"$f":"Insert!A26","v":0},{"$f":"Insert!B26","v":0},{"$f":"Insert!C26","v":0},{"$f":"Insert!D26","v":0},{"$f":"Insert!E26","v":0},{"$f":"TERM1!Z39","v":"0"},{"$f":"TERM1!AR39","v":"0"},{"$f":"TERM1!BJ39","v":"0"},{"$f":"TERM1!CB39","v":"0"},{"$f":"TERM1!CT39","v":0},{"$f":"TERM1!DL39","v":"0"},0,{"$f":"TERM1!DO39","v":0},0,0,"",null,0,"X"]
[25,25,{"$f":"Insert!A27","v":0},{"$f":"Insert!B27","v":0},{"$f":"Insert!C27","v":0},{"$f":"Insert!D27","v":0},{"$f":"Insert!E27","v":0},{"$f":"TERM1!Z40","v":"0"},{"$f":"TERM1!AR40","v":"0"},{"$f":"TERM1!BJ40","v":"0"},{"$f":"TERM1!CB40","v":"0"},{"$f":"TERM1!CT40","v":0},{"$f":"TERM1!DL40","v":"0"},0,{"$f":"TERM1!DO40","v":0},0,0,"",null,0,"X"]
[26,26,{"$f":"Insert!A28","v":0},{"$f":"Insert!B28","v":0},{"$f":"Insert!C28","v":0},{"$f":"Insert!D28","v":0},{"$f":"Insert!E28","v":0},{"$f":"TERM1!Z41","v":"0"},{"$f":"TERM1!AR41","v":"0"},{"$f":"TERM1!BJ41","v":"0"},{"$f":"TERM1!CB41","v":"0"},{"$f":"TERM1!CT41","v":0},{"$f":"TERM1!DL41","v":"0"},0,{"$f":"TERM1!DO41","v":0},0,0,"",null,0,"X"]
[27,27,{"$f":"Insert!A29","v":0},{"$f":"Insert!B29","v":0},{"$f":"Insert!C29","v":0},{"$f":"Insert!D29","v":0},{"$f":"Insert!E29","v":0},{"$f":"TERM1!Z42","v":"0"},{"$f":"TERM1!AR42","v":"0"},{"$f":"TERM1!BJ42","v":"0"},{"$f":"TERM1!CB42","v":"0"},{"$f":"TERM1!CT42","v":0},{"$f":"TERM1!DL42","v":"0"},0,{"$f":"TERM1!DO42","v":0},0,0,"",null,0,"X"]
[28,28,{"$f":"Insert!A30","v":0},{"$f":"Insert!B30","v":0},{"$f":"Insert!C30","v":0},{"$f":"Insert!D30","v":0},{"$f":"Insert!E30","v":0},{"$f":"TERM1!Z43","v":"0"},{"$f":"TERM1!AR43","v":"0"},{"$f":"TERM1!BJ43","v":"0"},{"$f":"TERM1!CB43","v":"0"},{"$f":"TERM1!CT43","v":0},{"$f":"TERM1!DL43","v":"0"},0,{"$f":"TERM1!DO43","v":0},0,0,"",null,0,"X"]
[29,29,{"$f":"Insert!A31","v":0},{"$f":"Insert!B31","v":0},{"$f":"Insert!C31","v":0},{"$f":"Insert!D31","v":0},{"$f":"Insert!E31","v":0},{"$f":"TERM1!Z44","v":"0"},{"$f":"TERM1!AR44","v":"0"},{"$f":"TERM1!BJ44","v":"0"},{"$f":"TERM1!CB44","v":"0"},{"$f":"TERM1!CT44","v":0},{"$f":"TERM1!DL44","v":"0"},0,{"$f":"TERM1!DO44","v":0},0,0,"",null,0,"X"]
[30,30,{"$f":"Insert!A32","v":0},{"$f":"Insert!B32","v":0},{"$f":"Insert!C32","v":0},{"$f":"Insert!D32","v":0},{"$f":"Insert!E32","v":0},{"$f":"TERM1!Z45","v":"0"},{"$f":"TERM1!AR45","v":"0"},{"$f":"TERM1!BJ45","v":"0"},{"$f":"TERM1!CB45","v":"0"},{"$f":"TERM1!CT45","v":0},{"$f":"TERM1!DL45","v":"0"},0,{"$f":"TERM1!DO45","v":0},0,0,"",null,0,"X"]
[31,31,{"$f":"Insert!A33","v":0},{"$f":"Insert!B33","v":0},{"$f":"Insert!C33","v":0},{"$f":"Insert!D33","v":0},{"$f":"Insert!E33","v":0},{"$f":"TERM1!Z46","v":"0"},{"$f":"TERM1!AR46","v":"0"},{"$f":"TERM1!BJ46","v":"0"},{"$f":"TERM1!CB46","v":"0"},{"$f":"TERM1!CT46","v":0},{"$f":"TERM1!DL46","v":"0"},0,{"$f":"TERM1!DO46","v":0},0,0,"",null,0,"X"]
[32,32,{"$f":"Insert!A34","v":0},{"$f":"Insert!B34","v":0},{"$f":"Insert!C34","v":0},{"$f":"Insert!D34","v":0},{"$f":"Insert!E34","v":0},{"$f":"TERM1!Z47","v":"0"},{"$f":"TERM1!AR47","v":"0"},{"$f":"TERM1!BJ47","v":"0"},{"$f":"TERM1!CB47","v":"0"},{"$f":"TERM1!CT47","v":0},{"$f":"TERM1!DL47","v":"0"},0,{"$f":"TERM1!DO47","v":0},0,0,"",null,0,"X"]
[33,33,{"$f":"Insert!A35","v":0},{"$f":"Insert!B35","v":0},{"$f":"Insert!C35","v":0},{"$f":"Insert!D35","v":0},{"$f":"Insert!E35","v":0},{"$f":"TERM1!Z48","v":"0"},{"$f":"TERM1!AR48","v":"0"},{"$f":"TERM1!BJ48","v":"0"},{"$f":"TERM1!CB48","v":"0"},{"$f":"TERM1!CT48","v":0},{"$f":"TERM1!DL48","v":"0"},0,{"$f":"TERM1!DO48","v":0},{"$f":"SUMIF(O41,\">0\")*1.2+SUMIF(N41,\">0\")","v":0},0,{"$f":"IF(Q41>79,\"7\",IF(Q41>69,\"6\",IF(Q41>59,\"5\",IF(Q41>49,\"4\",IF(Q41>39,\"3\",IF(Q41>29,\"2\",IF(Q41>0,\"1\",IF(Q41=0,\"\"))))))))","v":""},null,{"$f":"COUNTIF(H41:O41,\">0\")","v":0},"X"]
[34,34,{"$f":"Insert!A36","v":0},{"$f":"Insert!B36","v":0},{"$f":"Insert!C36","v":0},{"$f":"Insert!D36","v":0},{"$f":"Insert!E36","v":0},{"$f":"TERM1!Z49","v":"0"},{"$f":"TERM1!AR49","v":"0"},{"$f":"TERM1!BJ49","v":"0"},{"$f":"TERM1!CB49","v":"0"},{"$f":"TERM1!CT49","v":0},{"$f":"TERM1!DL49","v":"0"},0,{"$f":"TERM1!DO49","v":0},0,0,"",null,0,"X"]
[35,35,{"$f":"Insert!A37","v":0},{"$f":"Insert!B37","v":0},{"$f":"Insert!C37","v":0},{"$f":"Insert!D37","v":0},{"$f":"Insert!E37","v":0},{"$f":"TERM1!Z50","v":"0"},{"$f":"TERM1!AR50","v":"0"},{"$f":"TERM1!BJ50","v":"0"},{"$f":"TERM1!CB50","v":"0"},{"$f":"TERM1!CT50","v":0},{"$f":"TERM1!DL50","v":"0"},0,{"$f":"TERM1!DO50","v":0},0,0,"",null,0,"X"]
[36,36,{"$f":"Insert!A38","v":0},{"$f":"Insert!B38","v":0},{"$f":"Insert!C38","v":0},{"$f":"Insert!D38","v":0},{"$f":"Insert!E38","v":0},{"$f":"TERM1!Z51","v":"0"},{"$f":"TERM1!AR51","v":"0"},{"$f":"TERM1!BJ51","v":"0"},{"$f":"TERM1!CB51","v":"0"},{"$f":"TERM1!CT51","v":0},{"$f":"TERM1!DL51","v":"0"},0,{"$f":"TERM1!DO51","v":0},0,0,"",null,0,"X"]
[37,37,{"$f":"Insert!A39","v":0},{"$f":"Insert!B39","v":0},{"$f":"Insert!C39","v":0},{"$f":"Insert!D39","v":0},{"$f":"Insert!E39","v":0},{"$f":"TERM1!Z52","v":"0"},{"$f":"TERM1!AR52","v":"0"},{"$f":"TERM1!BJ52","v":"0"},{"$f":"TERM1!CB52","v":"0"},{"$f":"TERM1!CT52","v":0},{"$f":"TERM1!DL52","v":"0"},0,{"$f":"TERM1!DO52","v":0},0,0,"",null,0,"X"]
[38,38,{"$f":"Insert!A40","v":0},{"$f":"Insert!B40","v":0},{"$f":"Insert!C40","v":0},{"$f":"Insert!D40","v":0},{"$f":"Insert!E40","v":0},{"$f":"TERM1!Z53","v":"0"},{"$f":"TERM1!AR53","v":"0"},{"$f":"TERM1!BJ53","v":"0"},{"$f":"TERM1!CB53","v":"0"},{"$f":"TERM1!CT53","v":0},{"$f":"TERM1!DL53","v":"0"},0,{"$f":"TERM1!DO53","v":0},0,0,"",null,0,"X"]
[39,39,{"$f":"Insert!A41","v":0},{"$f":"Insert!B41","v":0},{"$f":"Insert!C41","v":0},{"$f":"Insert!D41","v":0},{"$f":"Insert!E41","v":0},{"$f":"TERM1!Z54","v":"0"},{"$f":"TERM1!AR54","v":"0"},{"$f":"TERM1!BJ54","v":"0"},{"$f":"TERM1!CB54","v":"0"},{"$f":"TERM1!CT54","v":0},{"$f":"TERM1!DL54","v":"0"},0,{"$f":"TERM1!DO54","v":0},0,0,"",null,0,"X"]
[40,40,{"$f":"Insert!A42","v":0},{"$f":"Insert!B42","v":0},{"$f":"Insert!C42","v":0},{"$f":"Insert!D42","v":0},{"$f":"Insert!E42","v":0},{"$f":"TERM1!Z55","v":"0"},{"$f":"TERM1!AR55","v":"0"},{"$f":"TERM1!BJ55","v":"0"},{"$f":"TERM1!CB55","v":"0"},{"$f":"TERM1!CT55","v":0},{"$f":"TERM1!DL55","v":"0"},0,{"$f":"TERM1!DO55","v":0},0,0,"",null,0,"X"]
[41,41,{"$f":"Insert!A43","v":0},{"$f":"Insert!B43","v":0},{"$f":"Insert!C43","v":0},{"$f":"Insert!D43","v":0},{"$f":"Insert!E43","v":0},{"$f":"TERM1!Z56","v":"0"},{"$f":"TERM1!AR56","v":"0"},{"$f":"TERM1!BJ56","v":"0"},{"$f":"TERM1!CB56","v":"0"},{"$f":"TERM1!CT56","v":0},{"$f":"TERM1!DL56","v":"0"},0,{"$f":"TERM1!DO56","v":0},0,0,"",null,0,"X"]
[42,42,{"$f":"Insert!A44","v":0},{"$f":"Insert!B44","v":0},{"$f":"Insert!C44","v":0},{"$f":"Insert!D44","v":0},{"$f":"Insert!E44","v":0},{"$f":"TERM1!Z57","v":"0"},{"$f":"TERM1!AR57","v":"0"},{"$f":"TERM1!BJ57","v":"0"},{"$f":"TERM1!CB57","v":"0"},{"$f":"TERM1!CT57","v":0},{"$f":"TERM1!DL57","v":"0"},0,{"$f":"TERM1!DO57","v":0},0,0,"",null,0,"X"]
[43,43,{"$f":"Insert!A45","v":0},{"$f":"Insert!B45","v":0},{"$f":"Insert!C45","v":0},{"$f":"Insert!D45","v":0},{"$f":"Insert!E45","v":0},{"$f":"TERM1!Z58","v":"0"},{"$f":"TERM1!AR58","v":"0"},{"$f":"TERM1!BJ58","v":"0"},{"$f":"TERM1!CB58","v":"0"},{"$f":"TERM1!CT58","v":0},{"$f":"TERM1!DL58","v":"0"},0,{"$f":"TERM1!DO58","v":0},0,0,"",null,0,"X"]
[44,44,{"$f":"Insert!A46","v":0},{"$f":"Insert!B46","v":0},{"$f":"Insert!C46","v":0},{"$f":"Insert!D46","v":0},{"$f":"Insert!E46","v":0},{"$f":"TERM1!Z59","v":"0"},{"$f":"TERM1!AR59","v":"0"},{"$f":"TERM1!BJ59","v":"0"},{"$f":"TERM1!CB59","v":"0"},{"$f":"TERM1!CT59","v":0},{"$f":"TERM1!DL59","v":"0"},0,{"$f":"TERM1!DO59","v":0},0,0,"",null,0,"X"]
[45,45,{"$f":"Insert!A47","v":0},{"$f":"Insert!B47","v":0},{"$f":"Insert!C47","v":0},{"$f":"Insert!D47","v":0},{"$f":"Insert!E47","v":0},{"$f":"TERM1!Z60","v":"0"},{"$f":"TERM1!AR60","v":"0"},{"$f":"TERM1!BJ60","v":"0"},{"$f":"TERM1!CB60","v":"0"},{"$f":"TERM1!CT60","v":0},{"$f":"TERM1!DL60","v":"0"},0,{"$f":"TERM1!DO60","v":0},0,0,"",null,0,"X"]
[46,46,{"$f":"Insert!A48","v":0},{"$f":"Insert!B48","v":0},{"$f":"Insert!C48","v":0},{"$f":"Insert!D48","v":0},{"$f":"Insert!E48","v":0},{"$f":"TERM1!Z61","v":"0"},{"$f":"TERM1!AR61","v":"0"},{"$f":"TERM1!BJ61","v":"0"},{"$f":"TERM1!CB61","v":"0"},{"$f":"TERM1!CT61","v":0},{"$f":"TERM1!DL61","v":"0"},0,{"$f":"TERM1!DO61","v":0},0,0,"",null,0,"X"]
[47,47,{"$f":"Insert!A49","v":0},{"$f":"Insert!B49","v":0},{"$f":"Insert!C49","v":0},{"$f":"Insert!D49","v":0},{"$f":"Insert!E49","v":0},{"$f":"TERM1!Z62","v":"0"},{"$f":"TERM1!AR62","v":"0"},{"$f":"TERM1!BJ62","v":"0"},{"$f":"TERM1!CB62","v":"0"},{"$f":"TERM1!CT62","v":0},{"$f":"TERM1!DL62","v":"0"},0,{"$f":"TERM1!DO62","v":0},0,0,"",null,0,"X"]
[48,48,{"$f":"Insert!A50","v":0},{"$f":"Insert!B50","v":0},{"$f":"Insert!C50","v":0},{"$f":"Insert!D50","v":0},{"$f":"Insert!E50","v":0},{"$f":"TERM1!Z63","v":"0"},{"$f":"TERM1!AR63","v":"0"},{"$f":"TERM1!BJ63","v":"0"},{"$f":"TERM1!CB63","v":"0"},{"$f":"TERM1!CT63","v":0},{"$f":"TERM1!DL63","v":"0"},0,{"$f":"TERM1!DO63","v":0},0,0,"",null,0,"X"]
[49,49,{"$f":"Insert!A51","v":0},{"$f":"Insert!B51","v":0},{"$f":"Insert!C51","v":0},{"$f":"Insert!D51","v":0},{"$f":"Insert!E51","v":0},{"$f":"TERM1!Z64","v":"0"},{"$f":"TERM1!AR64","v":"0"},{"$f":"TERM1!BJ64","v":"0"},{"$f":"TERM1!CB64","v":"0"},{"$f":"TERM1!CT64","v":0},{"$f":"TERM1!DL64","v":"0"},0,{"$f":"TERM1!DO64","v":0},0,0,"",null,0,"X"]
[50,50,{"$f":"Insert!A52","v":0},{"$f":"Insert!B52","v":0},{"$f":"Insert!C52","v":0},{"$f":"Insert!D52","v":0},{"$f":"Insert!E52","v":0},{"$f":"TERM1!Z65","v":"0"},{"$f":"TERM1!AR65","v":"0"},{"$f":"TERM1!BJ65","v":"0"},{"$f":"TERM1!CB65","v":"0"},{"$f":"TERM1!CT65","v":0},{"$f":"TERM1!DL65","v":"0"},0,{"$f":"TERM1!DO65","v":0},0,0,"",null,0,"X"]
[51,51,{"$f":"Insert!A53","v":0},{"$f":"Insert!B53","v":0},{"$f":"Insert!C53","v":0},{"$f":"Insert!D53","v":0},{"$f":"Insert!E53","v":0},{"$f":"TERM1!Z66","v":"0"},{"$f":"TERM1!AR66","v":"0"},{"$f":"TERM1!BJ66","v":"0"},{"$f":"TERM1!CB66","v":"0"},{"$f":"TERM1!CT66","v":0},{"$f":"TERM1!DL66","v":"0"},0,{"$f":"TERM1!DO66","v":0},0,0,"",null,0,"X"]
[52,52,{"$f":"Insert!A54","v":0},{"$f":"Insert!B54","v":0},{"$f":"Insert!C54","v":0},{"$f":"Insert!D54","v":0},{"$f":"Insert!E54","v":0},{"$f":"TERM1!Z67","v":"0"},{"$f":"TERM1!AR67","v":"0"},{"$f":"TERM1!BJ67","v":"0"},{"$f":"TERM1!CB67","v":"0"},{"$f":"TERM1!CT67","v":0},{"$f":"TERM1!DL67","v":"0"},0,{"$f":"TERM1!DO67","v":0},0,0,"",null,0,"X"]
[53,53,{"$f":"Insert!A55","v":0},{"$f":"Insert!B55","v":0},{"$f":"Insert!C55","v":0},{"$f":"Insert!D55","v":0},{"$f":"Insert!E55","v":0},{"$f":"TERM1!Z68","v":"0"},{"$f":"TERM1!AR68","v":"0"},{"$f":"TERM1!BJ68","v":"0"},{"$f":"TERM1!CB68","v":"0"},{"$f":"TERM1!CT68","v":0},{"$f":"TERM1!DL68","v":"0"},0,{"$f":"TERM1!DO68","v":0},0,0,"",null,0,"X"]
[54,54,{"$f":"Insert!A56","v":0},{"$f":"Insert!B56","v":0},{"$f":"Insert!C56","v":0},{"$f":"Insert!D56","v":0},{"$f":"Insert!E56","v":0},{"$f":"TERM1!Z69","v":"0"},{"$f":"TERM1!AR69","v":"0"},{"$f":"TERM1!BJ69","v":"0"},{"$f":"TERM1!CB69","v":"0"},{"$f":"TERM1!CT69","v":0},{"$f":"TERM1!DL69","v":"0"},0,{"$f":"TERM1!DO69","v":0},0,0,"",null,0,"X"]
[55,55,{"$f":"Insert!A57","v":0},{"$f":"Insert!B57","v":0},{"$f":"Insert!C57","v":0},{"$f":"Insert!D57","v":0},{"$f":"Insert!E57","v":0},{"$f":"TERM1!Z70","v":"0"},{"$f":"TERM1!AR70","v":"0"},{"$f":"TERM1!BJ70","v":"0"},{"$f":"TERM1!CB70","v":"0"},{"$f":"TERM1!CT70","v":0},{"$f":"TERM1!DL70","v":"0"},0,{"$f":"TERM1!DO70","v":0},0,0,"",null,0,"X"]
[56,56,{"$f":"Insert!A58","v":0},{"$f":"Insert!B58","v":0},{"$f":"Insert!C58","v":0},{"$f":"Insert!D58","v":0},{"$f":"Insert!E58","v":0},{"$f":"TERM1!Z71","v":"0"},{"$f":"TERM1!AR71","v":"0"},{"$f":"TERM1!BJ71","v":"0"},{"$f":"TERM1!CB71","v":"0"},{"$f":"TERM1!CT71","v":0},{"$f":"TERM1!DL71","v":"0"},0,{"$f":"TERM1!DO71","v":0},0,0,"",null,0,"X"]
[57,57,{"$f":"Insert!A59","v":0},{"$f":"Insert!B59","v":0},{"$f":"Insert!C59","v":0},{"$f":"Insert!D59","v":0},{"$f":"Insert!E59","v":0},{"$f":"TERM1!Z72","v":"0"},{"$f":"TERM1!AR72","v":"0"},{"$f":"TERM1!BJ72","v":"0"},{"$f":"TERM1!CB72","v":"0"},{"$f":"TERM1!CT72","v":0},{"$f":"TERM1!DL72","v":"0"},0,{"$f":"TERM1!DO72","v":0},0,0,"",null,0,"X"]
[58,58,{"$f":"Insert!A60","v":0},{"$f":"Insert!B60","v":0},{"$f":"Insert!C60","v":0},{"$f":"Insert!D60","v":0},{"$f":"Insert!E60","v":0},{"$f":"TERM1!Z73","v":"0"},{"$f":"TERM1!AR73","v":"0"},{"$f":"TERM1!BJ73","v":"0"},{"$f":"TERM1!CB73","v":"0"},{"$f":"TERM1!CT73","v":0},{"$f":"TERM1!DL73","v":"0"},0,{"$f":"TERM1!DO73","v":0},0,0,"",null,{"$f":"COUNTIF(H66:O66,\">0\")","v":0},"X"]
[59,59,{"$f":"Insert!A61","v":0},{"$f":"Insert!B61","v":0},{"$f":"Insert!C61","v":0},{"$f":"Insert!D61","v":0},{"$f":"Insert!E61","v":0},{"$f":"TERM1!Z74","v":"0"},{"$f":"TERM1!AR74","v":"0"},{"$f":"TERM1!BJ74","v":"0"},{"$f":"TERM1!CB74","v":"0"},{"$f":"TERM1!CT74","v":0},{"$f":"TERM1!DL74","v":"0"},0,{"$f":"TERM1!DO74","v":0},0,0,"",null,0,"X"]
[60,60,{"$f":"Insert!A62","v":0},{"$f":"Insert!B62","v":0},{"$f":"Insert!C62","v":0},{"$f":"Insert!D62","v":0},{"$f":"Insert!E62","v":0},{"$f":"TERM1!Z75","v":"0"},{"$f":"TERM1!AR75","v":"0"},{"$f":"TERM1!BJ75","v":"0"},{"$f":"TERM1!CB75","v":"0"},{"$f":"TERM1!CT75","v":0},{"$f":"TERM1!DL75","v":"0"},0,{"$f":"TERM1!DO75","v":0},0,0,"",null,0,"X"]
[61,61,{"$f":"Insert!A63","v":0},{"$f":"Insert!B63","v":0},{"$f":"Insert!C63","v":0},{"$f":"Insert!D63","v":0},{"$f":"Insert!E63","v":0},{"$f":"TERM1!Z76","v":"0"},{"$f":"TERM1!AR76","v":"0"},{"$f":"TERM1!BJ76","v":"0"},{"$f":"TERM1!CB76","v":"0"},{"$f":"TERM1!CT76","v":0},{"$f":"TERM1!DL76","v":"0"},0,{"$f":"TERM1!DO76","v":0},0,0,"",null,0,"X"]
[62,62,{"$f":"Insert!A64","v":0},{"$f":"Insert!B64","v":0},{"$f":"Insert!C64","v":0},{"$f":"Insert!D64","v":0},{"$f":"Insert!E64","v":0},{"$f":"TERM1!Z77","v":"0"},{"$f":"TERM1!AR77","v":"0"},{"$f":"TERM1!BJ77","v":"0"},{"$f":"TERM1!CB77","v":"0"},{"$f":"TERM1!CT77","v":0},{"$f":"TERM1!DL77","v":"0"},0,{"$f":"TERM1!DO77","v":0},0,0,"",null,0,"X"]
[63,63,{"$f":"Insert!A65","v":0},{"$f":"Insert!B65","v":0},{"$f":"Insert!C65","v":0},{"$f":"Insert!D65","v":0},{"$f":"Insert!E65","v":0},{"$f":"TERM1!Z78","v":"0"},{"$f":"TERM1!AR78","v":"0"},{"$f":"TERM1!BJ78","v":"0"},{"$f":"TERM1!CB78","v":"0"},{"$f":"TERM1!CT78","v":0},{"$f":"TERM1!DL78","v":"0"},0,{"$f":"TERM1!DO78","v":0},0,0,"",null,0,"X"]
[64,64,{"$f":"Insert!A66","v":0},{"$f":"Insert!B66","v":0},{"$f":"Insert!C66","v":0},{"$f":"Insert!D66","v":0},{"$f":"Insert!E66","v":0},{"$f":"TERM1!Z79","v":"0"},{"$f":"TERM1!AR79","v":"0"},{"$f":"TERM1!BJ79","v":"0"},{"$f":"TERM1!CB79","v":"0"},{"$f":"TERM1!CT79","v":0},{"$f":"TERM1!DL79","v":"0"},0,{"$f":"TERM1!DO79","v":0},0,0,"",null,0,"X"]
[65,65,{"$f":"Insert!A67","v":0},{"$f":"Insert!B67","v":0},{"$f":"Insert!C67","v":0},{"$f":"Insert!D67","v":0},{"$f":"Insert!E67","v":0},{"$f":"TERM1!Z80","v":"0"},{"$f":"TERM1!AR80","v":"0"},{"$f":"TERM1!BJ80","v":"0"},{"$f":"TERM1!CB80","v":"0"},{"$f":"TERM1!CT80","v":0},{"$f":"TERM1!DL80","v":"0"},0,{"$f":"TERM1!DO80","v":0},{"$f":"SUMIF(O73,\">0\")*1.2+SUMIF(N73,\">0\")","v":0},{"$f":"ROUND(P73,0)","v":0},{"$f":"IF(Q73>79,\"7\",IF(Q73>69,\"6\",IF(Q73>59,\"5\",IF(Q73>49,\"4\",IF(Q73>39,\"3\",IF(Q73>29,\"2\",IF(Q73>0,\"1\",IF(Q73=0,\"\"))))))))","v":""},null,{"$f":"COUNTIF(H73:O73,\">0\")","v":0},"X"]
[66,66,{"$f":"Insert!A68","v":0},{"$f":"Insert!B68","v":0},{"$f":"Insert!C68","v":0},{"$f":"Insert!D68","v":0},{"$f":"Insert!E68","v":0},{"$f":"TERM1!Z81","v":"0"},{"$f":"TERM1!AR81","v":"0"},{"$f":"TERM1!BJ81","v":"0"},{"$f":"TERM1!CB81","v":"0"},{"$f":"TERM1!CT81","v":0},{"$f":"TERM1!DL81","v":"0"},{"$f":"ROUND((SUM(H74/0.625)+SUM(I74/0.625)+SUM(J74/0.588235294)+SUM(K74/0.588235294)+SUM(L74/0.588235294)+SUM(M74/0.588235294)),0)","v":0},{"$f":"TERM1!DO81","v":0},0,0,"",null,0,{"$f":"IF(T74=0,\"X\",\"\")","v":"X"}]
[67,67,{"$f":"Insert!A69","v":0},{"$f":"Insert!B69","v":0},{"$f":"Insert!C69","v":0},{"$f":"Insert!D69","v":0},{"$f":"Insert!E69","v":0},{"$f":"TERM1!Z82","v":"0"},{"$f":"TERM1!AR82","v":"0"},{"$f":"TERM1!BJ82","v":"0"},{"$f":"TERM1!CB82","v":"0"},{"$f":"TERM1!CT82","v":0},{"$f":"TERM1!DL82","v":"0"},0,{"$f":"TERM1!DO82","v":0},0,0,"",null,0,"X"]
[68,68,{"$f":"Insert!A70","v":0},{"$f":"Insert!B70","v":0},{"$f":"Insert!C70","v":0},{"$f":"Insert!D70","v":0},{"$f":"Insert!E70","v":0},{"$f":"TERM1!Z83","v":"0"},{"$f":"TERM1!AR83","v":"0"},{"$f":"TERM1!BJ83","v":"0"},{"$f":"TERM1!CB83","v":"0"},{"$f":"TERM1!CT83","v":0},{"$f":"TERM1!DL83","v":"0"},0,{"$f":"TERM1!DO83","v":0},0,0,"",null,0,"X"]
[69,69,{"$f":"Insert!A71","v":0},{"$f":"Insert!B71","v":0},{"$f":"Insert!C71","v":0},{"$f":"Insert!D71","v":0},{"$f":"Insert!E71","v":0},{"$f":"TERM1!Z84","v":"0"},{"$f":"TERM1!AR84","v":"0"},{"$f":"TERM1!BJ84","v":"0"},{"$f":"TERM1!CB84","v":"0"},{"$f":"TERM1!CT84","v":0},{"$f":"TERM1!DL84","v":"0"},0,{"$f":"TERM1!DO84","v":0},0,0,"",null,0,"X"]
[70,70,{"$f":"Insert!A72","v":0},{"$f":"Insert!B72","v":0},{"$f":"Insert!C72","v":0},{"$f":"Insert!D72","v":0},{"$f":"Insert!E72","v":0},{"$f":"TERM1!Z85","v":"0"},{"$f":"TERM1!AR85","v":"0"},{"$f":"TERM1!BJ85","v":"0"},{"$f":"TERM1!CB85","v":"0"},{"$f":"TERM1!CT85","v":0},{"$f":"TERM1!DL85","v":"0"},0,{"$f":"TERM1!DO85","v":0},0,0,"",null,0,"X"]
[71,71,{"$f":"Insert!A73","v":0},{"$f":"Insert!B73","v":0},{"$f":"Insert!C73","v":0},{"$f":"Insert!D73","v":0},{"$f":"Insert!E73","v":0},{"$f":"TERM1!Z86","v":"0"},{"$f":"TERM1!AR86","v":"0"},{"$f":"TERM1!BJ86","v":"0"},{"$f":"TERM1!CB86","v":"0"},{"$f":"TERM1!CT86","v":0},{"$f":"TERM1!DL86","v":"0"},0,{"$f":"TERM1!DO86","v":0},0,0,"",null,0,"X"]
[72,72,{"$f":"Insert!A74","v":0},{"$f":"Insert!B74","v":0},{"$f":"Insert!C74","v":0},{"$f":"Insert!D74","v":0},{"$f":"Insert!E74","v":0},{"$f":"TERM1!Z87","v":"0"},{"$f":"TERM1!AR87","v":"0"},{"$f":"TERM1!BJ87","v":"0"},{"$f":"TERM1!CB87","v":"0"},{"$f":"TERM1!CT87","v":0},{"$f":"TERM1!DL87","v":"0"},0,{"$f":"TERM1!DO87","v":0},0,0,"",null,0,"X"]
[73,73,{"$f":"Insert!A75","v":0},{"$f":"Insert!B75","v":0},{"$f":"Insert!C75","v":0},{"$f":"Insert!D75","v":0},{"$f":"Insert!E75","v":0},{"$f":"TERM1!Z88","v":"0"},{"$f":"TERM1!AR88","v":"0"},{"$f":"TERM1!BJ88","v":"0"},{"$f":"TERM1!CB88","v":"0"},{"$f":"TERM1!CT88","v":0},{"$f":"TERM1!DL88","v":"0"},0,{"$f":"TERM1!DO88","v":0},0,0,"",null,0,"X"]
[74,74,{"$f":"Insert!A76","v":0},{"$f":"Insert!B76","v":0},{"$f":"Insert!C76","v":0},{"$f":"Insert!D76","v":0},{"$f":"Insert!E76","v":0},{"$f":"TERM1!Z89","v":"0"},{"$f":"TERM1!AR89","v":"0"},{"$f":"TERM1!BJ89","v":"0"},{"$f":"TERM1!CB89","v":"0"},{"$f":"TERM1!CT89","v":0},{"$f":"TERM1!DL89","v":"0"},0,{"$f":"TERM1!DO89","v":0},0,0,"",null,0,"X"]
[75,75,{"$f":"Insert!A77","v":0},{"$f":"Insert!B77","v":0},{"$f":"Insert!C77","v":0},{"$f":"Insert!D77","v":0},{"$f":"Insert!E77","v":0},{"$f":"TERM1!Z90","v":"0"},{"$f":"TERM1!AR90","v":"0"},{"$f":"TERM1!BJ90","v":"0"},{"$f":"TERM1!CB90","v":"0"},{"$f":"TERM1!CT90","v":0},{"$f":"TERM1!DL90","v":"0"},0,{"$f":"TERM1!DO90","v":0},0,0,"",null,0,"X"]
[76,76,{"$f":"Insert!A78","v":0},{"$f":"Insert!B78","v":0},{"$f":"Insert!C78","v":0},{"$f":"Insert!D78","v":0},{"$f":"Insert!E78","v":0},{"$f":"TERM1!Z91","v":"0"},{"$f":"TERM1!AR91","v":"0"},{"$f":"TERM1!BJ91","v":"0"},{"$f":"TERM1!CB91","v":"0"},{"$f":"TERM1!CT91","v":0},{"$f":"TERM1!DL91","v":"0"},0,{"$f":"TERM1!DO91","v":0},0,0,"",null,0,"X"]
[77,77,{"$f":"Insert!A79","v":0},{"$f":"Insert!B79","v":0},{"$f":"Insert!C79","v":0},{"$f":"Insert!D79","v":0},{"$f":"Insert!E79","v":0},{"$f":"TERM1!Z92","v":"0"},{"$f":"TERM1!AR92","v":"0"},{"$f":"TERM1!BJ92","v":"0"},{"$f":"TERM1!CB92","v":"0"},{"$f":"TERM1!CT92","v":0},{"$f":"TERM1!DL92","v":"0"},0,{"$f":"TERM1!DO92","v":0},0,0,"",null,0,"X"]
[78,78,{"$f":"Insert!A80","v":0},{"$f":"Insert!B80","v":0},{"$f":"Insert!C80","v":0},{"$f":"Insert!D80","v":0},{"$f":"Insert!E80","v":0},{"$f":"TERM1!Z93","v":"0"},{"$f":"TERM1!AR93","v":"0"},{"$f":"TERM1!BJ93","v":"0"},{"$f":"TERM1!CB93","v":"0"},{"$f":"TERM1!CT93","v":0},{"$f":"TERM1!DL93","v":"0"},0,{"$f":"TERM1!DO93","v":0},0,0,"",null,0,"X"]
[79,79,{"$f":"Insert!A81","v":0},{"$f":"Insert!B81","v":0},{"$f":"Insert!C81","v":0},{"$f":"Insert!D81","v":0},{"$f":"Insert!E81","v":0},{"$f":"TERM1!Z94","v":"0"},{"$f":"TERM1!AR94","v":"0"},{"$f":"TERM1!BJ94","v":"0"},{"$f":"TERM1!CB94","v":"0"},{"$f":"TERM1!CT94","v":0},{"$f":"TERM1!DL94","v":"0"},0,{"$f":"TERM1!DO94","v":0},0,0,"",null,0,"X"]
[80,80,{"$f":"Insert!A82","v":0},{"$f":"Insert!B82","v":0},{"$f":"Insert!C82","v":0},{"$f":"Insert!D82","v":0},{"$f":"Insert!E82","v":0},{"$f":"TERM1!Z95","v":"0"},{"$f":"TERM1!AR95","v":"0"},{"$f":"TERM1!BJ95","v":"0"},{"$f":"TERM1!CB95","v":"0"},{"$f":"TERM1!CT95","v":0},{"$f":"TERM1!DL95","v":"0"},0,{"$f":"TERM1!DO95","v":0},0,0,"",null,0,"X"]
[81,81,{"$f":"Insert!A83","v":0},{"$f":"Insert!B83","v":0},{"$f":"Insert!C83","v":0},{"$f":"Insert!D83","v":0},{"$f":"Insert!E83","v":0},{"$f":"TERM1!Z96","v":"0"},{"$f":"TERM1!AR96","v":"0"},{"$f":"TERM1!BJ96","v":"0"},{"$f":"TERM1!CB96","v":"0"},{"$f":"TERM1!CT96","v":0},{"$f":"TERM1!DL96","v":"0"},0,{"$f":"TERM1!DO96","v":0},0,0,"",null,0,"X"]
[82,82,{"$f":"Insert!A84","v":0},{"$f":"Insert!B84","v":0},{"$f":"Insert!C84","v":0},{"$f":"Insert!D84","v":0},{"$f":"Insert!E84","v":0},{"$f":"TERM1!Z97","v":"0"},{"$f":"TERM1!AR97","v":"0"},{"$f":"TERM1!BJ97","v":"0"},{"$f":"TERM1!CB97","v":"0"},{"$f":"TERM1!CT97","v":0},{"$f":"TERM1!DL97","v":"0"},0,{"$f":"TERM1!DO97","v":0},0,0,"",null,0,"X"]
[83,83,{"$f":"Insert!A85","v":0},{"$f":"Insert!B85","v":0},{"$f":"Insert!C85","v":0},{"$f":"Insert!D85","v":0},{"$f":"Insert!E85","v":0},{"$f":"TERM1!Z98","v":"0"},{"$f":"TERM1!AR98","v":"0"},{"$f":"TERM1!BJ98","v":"0"},{"$f":"TERM1!CB98","v":"0"},{"$f":"TERM1!CT98","v":0},{"$f":"TERM1!DL98","v":"0"},0,{"$f":"TERM1!DO98","v":0},0,0,"",null,0,"X"]
[84,84,{"$f":"Insert!A86","v":0},{"$f":"Insert!B86","v":0},{"$f":"Insert!C86","v":0},{"$f":"Insert!D86","v":0},{"$f":"Insert!E86","v":0},{"$f":"TERM1!Z99","v":"0"},{"$f":"TERM1!AR99","v":"0"},{"$f":"TERM1!BJ99","v":"0"},{"$f":"TERM1!CB99","v":"0"},{"$f":"TERM1!CT99","v":0},{"$f":"TERM1!DL99","v":"0"},0,{"$f":"TERM1!DO99","v":0},0,0,"",null,0,"X"]
[85,85,{"$f":"Insert!A87","v":0},{"$f":"Insert!B87","v":0},{"$f":"Insert!C87","v":0},{"$f":"Insert!D87","v":0},{"$f":"Insert!E87","v":0},{"$f":"TERM1!Z100","v":"0"},{"$f":"TERM1!AR100","v":"0"},{"$f":"TERM1!BJ100","v":"0"},{"$f":"TERM1!CB100","v":"0"},{"$f":"TERM1!CT100","v":0},{"$f":"TERM1!DL100","v":"0"},0,{"$f":"TERM1!DO100","v":0},0,0,"",null,0,"X"]
[86,86,{"$f":"Insert!A88","v":0},{"$f":"Insert!B88","v":0},{"$f":"Insert!C88","v":0},{"$f":"Insert!D88","v":0},{"$f":"Insert!E88","v":0},{"$f":"TERM1!Z101","v":"0"},{"$f":"TERM1!AR101","v":"0"},{"$f":"TERM1!BJ101","v":"0"},{"$f":"TERM1!CB101","v":"0"},{"$f":"TERM1!CT101","v":0},{"$f":"TERM1!DL101","v":"0"},0,{"$f":"TERM1!DO101","v":0},0,0,"",null,0,"X"]
[87,87,{"$f":"Insert!A89","v":0},{"$f":"Insert!B89","v":0},{"$f":"Insert!C89","v":0},{"$f":"Insert!D89","v":0},{"$f":"Insert!E89","v":0},{"$f":"TERM1!Z102","v":"0"},{"$f":"TERM1!AR102","v":"0"},{"$f":"TERM1!BJ102","v":"0"},{"$f":"TERM1!CB102","v":"0"},{"$f":"TERM1!CT102","v":0},{"$f":"TERM1!DL102","v":"0"},0,{"$f":"TERM1!DO102","v":0},0,0,"",null,0,"X"]
[88,88,{"$f":"Insert!A90","v":0},{"$f":"Insert!B90","v":0},{"$f":"Insert!C90","v":0},{"$f":"Insert!D90","v":0},{"$f":"Insert!E90","v":0},{"$f":"TERM1!Z103","v":"0"},{"$f":"TERM1!AR103","v":"0"},{"$f":"TERM1!BJ103","v":"0"},{"$f":"TERM1!CB103","v":"0"},{"$f":"TERM1!CT103","v":0},{"$f":"TERM1!DL103","v":"0"},0,{"$f":"TERM1!DO103","v":0},0,0,"",null,0,"X"]
[89,89,{"$f":"Insert!A91","v":0},{"$f":"Insert!B91","v":0},{"$f":"Insert!C91","v":0},{"$f":"Insert!D91","v":0},{"$f":"Insert!E91","v":0},{"$f":"TERM1!Z104","v":"0"},{"$f":"TERM1!AR104","v":"0"},{"$f":"TERM1!BJ104","v":"0"},{"$f":"TERM1!CB104","v":"0"},{"$f":"TERM1!CT104","v":0},{"$f":"TERM1!DL104","v":"0"},0,{"$f":"TERM1!DO104","v":0},0,0,"",null,0,"X"]
[90,90,{"$f":"Insert!A92","v":0},{"$f":"Insert!B92","v":0},{"$f":"Insert!C92","v":0},{"$f":"Insert!D92","v":0},{"$f":"Insert!E92","v":0},{"$f":"TERM1!Z105","v":"0"},{"$f":"TERM1!AR105","v":"0"},{"$f":"TERM1!BJ105","v":"0"},{"$f":"TERM1!CB105","v":"0"},{"$f":"TERM1!CT105","v":0},{"$f":"TERM1!DL105","v":"0"},0,{"$f":"TERM1!DO105","v":0},0,0,"",null,0,"X"]
[91,91,{"$f":"Insert!A93","v":0},{"$f":"Insert!B93","v":0},{"$f":"Insert!C93","v":0},{"$f":"Insert!D93","v":0},{"$f":"Insert!E93","v":0},{"$f":"TERM1!Z106","v":"0"},{"$f":"TERM1!AR106","v":"0"},{"$f":"TERM1!BJ106","v":"0"},{"$f":"TERM1!CB106","v":"0"},{"$f":"TERM1!CT106","v":0},{"$f":"TERM1!DL106","v":"0"},0,{"$f":"TERM1!DO106","v":0},0,0,"",null,0,"X"]
[92,92,{"$f":"Insert!A94","v":0},{"$f":"Insert!B94","v":0},{"$f":"Insert!C94","v":0},{"$f":"Insert!D94","v":0},{"$f":"Insert!E94","v":0},{"$f":"TERM1!Z107","v":"0"},{"$f":"TERM1!AR107","v":"0"},{"$f":"TERM1!BJ107","v":"0"},{"$f":"TERM1!CB107","v":"0"},{"$f":"TERM1!CT107","v":0},{"$f":"TERM1!DL107","v":"0"},0,{"$f":"TERM1!DO107","v":0},0,0,"",null,0,"X"]
[93,93,{"$f":"Insert!A95","v":0},{"$f":"Insert!B95","v":0},{"$f":"Insert!C95","v":0},{"$f":"Insert!D95","v":0},{"$f":"Insert!E95","v":0},{"$f":"TERM1!Z108","v":"0"},{"$f":"TERM1!AR108","v":"0"},{"$f":"TERM1!BJ108","v":"0"},{"$f":"TERM1!CB108","v":"0"},{"$f":"TERM1!CT108","v":0},{"$f":"TERM1!DL108","v":"0"},0,{"$f":"TERM1!DO108","v":0},0,0,"",null,0,"X"]
[94,94,{"$f":"Insert!A96","v":0},{"$f":"Insert!B96","v":0},{"$f":"Insert!C96","v":0},{"$f":"Insert!D96","v":0},{"$f":"Insert!E96","v":0},{"$f":"TERM1!Z109","v":"0"},{"$f":"TERM1!AR109","v":"0"},{"$f":"TERM1!BJ109","v":"0"},{"$f":"TERM1!CB109","v":"0"},{"$f":"TERM1!CT109","v":0},{"$f":"TERM1!DL109","v":"0"},0,{"$f":"TERM1!DO109","v":0},0,0,"",null,0,"X"]
[95,95,{"$f":"Insert!A97","v":0},{"$f":"Insert!B97","v":0},{"$f":"Insert!C97","v":0},{"$f":"Insert!D97","v":0},{"$f":"Insert!E97","v":0},{"$f":"TERM1!Z110","v":"0"},{"$f":"TERM1!AR110","v":"0"},{"$f":"TERM1!BJ110","v":"0"},{"$f":"TERM1!CB110","v":"0"},{"$f":"TERM1!CT110","v":0},{"$f":"TERM1!DL110","v":"0"},0,{"$f":"TERM1!DO110","v":0},0,0,"",null,0,"X"]
[96,96,{"$f":"Insert!A98","v":0},{"$f":"Insert!B98","v":0},{"$f":"Insert!C98","v":0},{"$f":"Insert!D98","v":0},{"$f":"Insert!E98","v":0},{"$f":"TERM1!Z111","v":"0"},{"$f":"TERM1!AR111","v":"0"},{"$f":"TERM1!BJ111","v":"0"},{"$f":"TERM1!CB111","v":"0"},{"$f":"TERM1!CT111","v":0},{"$f":"TERM1!DL111","v":"0"},0,{"$f":"TERM1!DO111","v":0},0,0,"",null,0,"X"]
[97,97,{"$f":"Insert!A99","v":0},{"$f":"Insert!B99","v":0},{"$f":"Insert!C99","v":0},{"$f":"Insert!D99","v":0},{"$f":"Insert!E99","v":0},{"$f":"TERM1!Z112","v":"0"},{"$f":"TERM1!AR112","v":"0"},{"$f":"TERM1!BJ112","v":"0"},{"$f":"TERM1!CB112","v":"0"},{"$f":"TERM1!CT112","v":0},{"$f":"TERM1!DL112","v":"0"},0,{"$f":"TERM1!DO112","v":0},{"$f":"SUMIF(O105,\">0\")*1.2+SUMIF(N105,\">0\")","v":0},0,{"$f":"IF(Q105>79,\"7\",IF(Q105>69,\"6\",IF(Q105>59,\"5\",IF(Q105>49,\"4\",IF(Q105>39,\"3\",IF(Q105>29,\"2\",IF(Q105>0,\"1\",IF(Q105=0,\"\"))))))))","v":""},null,0,"X"]
[98,98,{"$f":"Insert!A100","v":0},{"$f":"Insert!B100","v":0},{"$f":"Insert!C100","v":0},{"$f":"Insert!D100","v":0},{"$f":"Insert!E100","v":0},{"$f":"TERM1!Z113","v":"0"},{"$f":"TERM1!AR113","v":"0"},{"$f":"TERM1!BJ113","v":"0"},{"$f":"TERM1!CB113","v":"0"},{"$f":"TERM1!CT113","v":0},{"$f":"TERM1!DL113","v":"0"},0,{"$f":"TERM1!DO113","v":0},0,0,"",null,0,"X"]
[99,99,{"$f":"Insert!A101","v":0},{"$f":"Insert!B101","v":0},{"$f":"Insert!C101","v":0},{"$f":"Insert!D101","v":0},{"$f":"Insert!E101","v":0},{"$f":"TERM1!Z114","v":"0"},{"$f":"TERM1!AR114","v":"0"},{"$f":"TERM1!BJ114","v":"0"},{"$f":"TERM1!CB114","v":"0"},{"$f":"TERM1!CT114","v":0},{"$f":"TERM1!DL114","v":"0"},0,{"$f":"TERM1!DO114","v":0},0,0,"",null,0,"X"]
[100,100,{"$f":"Insert!A102","v":0},{"$f":"Insert!B102","v":0},{"$f":"Insert!C102","v":0},{"$f":"Insert!D102","v":0},{"$f":"Insert!E102","v":0},{"$f":"TERM1!Z115","v":"0"},{"$f":"TERM1!AR115","v":"0"},{"$f":"TERM1!BJ115","v":"0"},{"$f":"TERM1!CB115","v":"0"},{"$f":"TERM1!CT115","v":0},{"$f":"TERM1!DL115","v":"0"},0,{"$f":"TERM1!DO115","v":0},0,0,"",null,{"$f":"COUNTIF(H108:O108,\">0\")","v":0},"X"]
[null,null,null,null,"X",null,"Total",{"$f":"SUMIF(H9:H108,\">0\")","v":0},0,0,0,0,0,{"$f":"ROUND((SUM(H109:M109)/0.6),0)","v":0},{"$f":"SUMIF(O9:O108,\">0\")","v":0},{"$f":"SUM(P9:P108)","v":0},0]
[null,null,null,null,"X",null,"Average%",{"$f":"IFERROR((AVERAGEIF(H9:H108,\">0\")/H4*100),\"0\")","v":"0"},"0","0","0","0","0",0,"0",{"$f":"SUM(P109/$E$112)","v":{"$error":"#DIV/0!"}},{"$error":"#DIV/0!"}]
[null,"Total amount of learners on mark sheet",null,null,"X","Term results analysis",null,"LEVEL 1","LEVEL 2","LEVEL 3","LEVEL 4","LEVEL 5","LEVEL 6","LEVEL 7","TOTAL"]
[null,null,null,null,{"$f":"Insert!$F$103","v":0},null,null," 0 - 29 "," 30 - 39 "," 40 - 49 "," 50 - 59 "," 60 - 69 "," 70 - 79 ","80 - 100 "]
[null,null,null,null,"X",null,null,{"$f":"COUNTIF(R9:R108,1)","v":0},{"$f":"COUNTIF($R$9:$R$108,2)","v":0},{"$f":"COUNTIF($R$9:$R$108,3)","v":0},{"$f":"COUNTIF($R$9:$R$108,4)","v":0},{"$f":"COUNTIF($R$9:$R$108,5)","v":0},{"$f":"COUNTIF($R$9:$R$108,6)","v":0},{"$f":"COUNTIF($R$9:$R$108,7)","v":0},{"$f":"SUM(H113:N113)","v":0}]

{"sheet":"SASAMS Term2","index":7,"n_rows":113,"n_cols":27,"rows_kept":113,"cut":false,"hidden":false,"merged":[[0,25,7,25],[0,26,7,26],[3,23,5,23],[110,1,112,3],[110,5,112,6],[1,0,1,2],[3,21,5,21],[3,22,5,22],[0,0,0,5],[4,0,4,6],[2,0,2,6],[5,0,5,4],[3,0,3,5]]}
["    Engineering Graphics and Design (Gr 12)\n    Term 2 : ",null,null,null,null,null,"TASKS",null,null,null,null,"TASK 2",null,null,"TASK 3",null,null,null,null,null,"TASK PAT (Phase 1)",null,null,null,null,"Helper Count Course drawings","show X or not"]
["Grade :  ",null,null,{"$f":"TERM1!$F$6","v":0},null,null,"Activities",{"$f":"TERM2!$I$4","v":"CD7 Isometric"},{"$f":"TERM2!$AA$4","v":"CD8 Solid Geometry"},{"$f":"TERM2!$AS$4","v":"CD9  Interpenetration & Development (Two Prisms)"},{"$f":"TERM2!$BK$4","v":"CD10 2nd Mechanical Assembly"},null,"Paper 1","Paper 2",null,"1.\nDesign brief","2.\nResearch","3.1 Possible solutions","3.2 Possible solutions","4.\nSelection of final solution"]
["Weighting ",null,null,null,null,null,null,25,25,25,25,25,55,45,75,20,20,20,20,20,0]
[" Marks: -1 = Absent,  -2 = Not Captured",null,null,null,null,null,"Total Mark",10,10,10,10,{"$f":"SUM(H4:K4)","v":40},100,80,{"$f":"SUM(M4+N4)","v":180},10,10,10,10,10,{"$f":"ROUND((SUM(P4:T4)/2.777777777),0)","v":18},"TOTAL Weighted Mark","Term\n%","Level"]
["SBA Year Mark Weight ",null,null,null,null,null,null,null,null,null,null,8,null,null,25]
[null,null,null,null,null,null,"Term \n /Date ",null,null,null,null,"Term2",null,null,"Term2",null,null,null,null,null,"Term2"]
["No","No","Class","Acc No","Learner",null,"Gender","T2:A1","T2:A2","T2:A3","T2:A4","T2","T1:A1","T1:A2","T1","T3:A1","T3:A2","T3:A3","T3:A4","T3:A5","T3",100,100]
[]
[1,1,{"$f":"Insert!A3","v":0},{"$f":"Insert!B3","v":0},{"$f":"Insert!C3","v":0},{"$f":"Insert!D3","v":0},{"$f":"Insert!E3","v":0},{"$f":"TERM2!Z16","v":"0"},{"$f":"TERM2!AR16","v":"0"},{"$f":"TERM2!BJ16","v":"0"},{"$f":"TERM2!CB16","v":"0"},{"$f":"SUM(H9:K9)","v":0},{"$f":"TERM2!CC16","v":0},{"$f":"TERM2!CD16","v":0},{"$f":"SUM(M9:N9)","v":0},{"$f":"'FIN PAT MARK SHEET'!J18","v":0},{"$f":"'FIN PAT MARK SHEET'!K18","v":0},{"$f":"'FIN PAT MARK SHEET'!L18","v":0},{"$f":"'FIN PAT MARK SHEET'!M18","v":0},{"$f":"'FIN PAT MARK SHEET'!N18","v":0},{"$f":"ROUND((SUMIF(P9:T9,\">0\")/2.777777777),0)","v":0},{"$f":"SUM(O9/2.4)+(L9/1.6)","v":0},{"$f":"ROUND(V9,0)","v":0},{"$f":"IF(W9>79,\"7\",IF(W9>69,\"6\",IF(W9>59,\"5\",IF(W9>49,\"4\",IF(W9>39,\"3\",IF(W9>29,\"2\",IF(W9>0,\"1\",IF(W9=0,\"\"))))))))","v":""},null,{"$f":"COUNTIF(H9:U9,\">0\")","v":0},{"$f":"IF(Z9=0,\"X\",\"\")","v":"X"}]
[2,2,{"$f":"Insert!A4","v":0},{"$f":"Insert!B4","v":0},{"$f":"Insert!C4","v":0},{"$f":"Insert!D4","v":0},{"$f":"Insert!E4","v":0},{"$f":"TERM2!Z17","v":"0"},{"$f":"TERM2!AR17","v":"0"},{"$f":"TERM2!BJ17","v":"0"},{"$f":"TERM2!CB17","v":"0"},{"$f":"SUM(H10:K10)","v":0},{"$f":"TERM2!CC17","v":0},{"$f":"TERM2!CD17","v":0},{"$f":"SUM(M10:N10)","v":0},{"$f":"'FIN PAT MARK SHEET'!J19","v":0},{"$f":"'FIN PAT MARK SHEET'!K19","v":0},{"$f":"'FIN PAT MARK SHEET'!L19","v":0},{"$f":"'FIN PAT MARK SHEET'!M19","v":0},{"$f":"'FIN PAT MARK SHEET'!N19","v":0},0,0,0,"",null,0,"X"]
[3,3,{"$f":"Insert!A5","v":0},{"$f":"Insert!B5","v":0},{"$f":"Insert!C5","v":0},{"$f":"Insert!D5","v":0},{"$f":"Insert!E5","v":0},{"$f":"TERM2!Z18","v":"0"},{"$f":"TERM2!AR18","v":"0"},{"$f":"TERM2!BJ18","v":"0"},{"$f":"TERM2!CB18","v":"0"},0,{"$f":"TERM2!CC18","v":0},{"$f":"TERM2!CD18","v":0},0,{"$f":"'FIN PAT MARK SHEET'!J20","v":0},{"$f":"'FIN PAT MARK SHEET'!K20","v":0},{"$f":"'FIN PAT MARK SHEET'!L20","v":0},{"$f":"'FIN PAT MARK SHEET'!M20","v":0},{"$f":"'FIN PAT MARK SHEET'!N20","v":0},0,0,0,"",null,0,"X"]
[4,4,{"$f":"Insert!A6","v":0},{"$f":"Insert!B6","v":0},{"$f":"Insert!C6","v":0},{"$f":"Insert!D6","v":0},{"$f":"Insert!E6","v":0},{"$f":"TERM2!Z19","v":"0"},{"$f":"TERM2!AR19","v":"0"},{"$f":"TERM2!BJ19","v":"0"},{"$f":"TERM2!CB19","v":"0"},0,{"$f":"TERM2!CC19","v":0},{"$f":"TERM2!CD19","v":0},0,{"$f":"'FIN PAT MARK SHEET'!J21","v":0},{"$f":"'FIN PAT MARK SHEET'!K21","v":0},{"$f":"'FIN PAT MARK SHEET'!L21","v":0},{"$f":"'FIN PAT MARK SHEET'!M21","v":0},{"$f":"'FIN PAT MARK SHEET'!N21","v":0},0,0,0,"",null,0,"X"]
[5,5,{"$f":"Insert!A7","v":0},{"$f":"Insert!B7","v":0},{"$f":"Insert!C7","v":0},{"$f":"Insert!D7","v":0},{"$f":"Insert!E7","v":0},{"$f":"TERM2!Z20","v":"0"},{"$f":"TERM2!AR20","v":"0"},{"$f":"TERM2!BJ20","v":"0"},{"$f":"TERM2!CB20","v":"0"},0,{"$f":"TERM2!CC20","v":0},{"$f":"TERM2!CD20","v":0},0,{"$f":"'FIN PAT MARK SHEET'!J22","v":0},{"$f":"'FIN PAT MARK SHEET'!K22","v":0},{"$f":"'FIN PAT MARK SHEET'!L22","v":0},{"$f":"'FIN PAT MARK SHEET'!M22","v":0},{"$f":"'FIN PAT MARK SHEET'!N22","v":0},0,0,0,"",null,0,"X"]
[6,6,{"$f":"Insert!A8","v":0},{"$f":"Insert!B8","v":0},{"$f":"Insert!C8","v":0},{"$f":"Insert!D8","v":0},{"$f":"Insert!E8","v":0},{"$f":"TERM2!Z21","v":"0"},{"$f":"TERM2!AR21","v":"0"},{"$f":"TERM2!BJ21","v":"0"},{"$f":"TERM2!CB21","v":"0"},0,{"$f":"TERM2!CC21","v":0},{"$f":"TERM2!CD21","v":0},0,{"$f":"'FIN PAT MARK SHEET'!J23","v":0},{"$f":"'FIN PAT MARK SHEET'!K23","v":0},{"$f":"'FIN PAT MARK SHEET'!L23","v":0},{"$f":"'FIN PAT MARK SHEET'!M23","v":0},{"$f":"'FIN PAT MARK SHEET'!N23","v":0},0,0,0,"",null,0,"X"]
[7,7,{"$f":"Insert!A9","v":0},{"$f":"Insert!B9","v":0},{"$f":"Insert!C9","v":0},{"$f":"Insert!D9","v":0},{"$f":"Insert!E9","v":0},{"$f":"TERM2!Z22","v":"0"},{"$f":"TERM2!AR22","v":"0"},{"$f":"TERM2!BJ22","v":"0"},{"$f":"TERM2!CB22","v":"0"},0,{"$f":"TERM2!CC22","v":0},{"$f":"TERM2!CD22","v":0},0,{"$f":"'FIN PAT MARK SHEET'!J24","v":0},{"$f":"'FIN PAT MARK SHEET'!K24","v":0},{"$f":"'FIN PAT MARK SHEET'!L24","v":0},{"$f":"'FIN PAT MARK SHEET'!M24","v":0},{"$f":"'FIN PAT MARK SHEET'!N24","v":0},0,0,0,"",null,0,"X"]
[8,8,{"$f":"Insert!A10","v":0},{"$f":"Insert!B10","v":0},{"$f":"Insert!C10","v":0},{"$f":"Insert!D10","v":0},{"$f":"Insert!E10","v":0},{"$f":"TERM2!Z23","v":"0"},{"$f":"TERM2!AR23","v":"0"},{"$f":"TERM2!BJ23","v":"0"},{"$f":"TERM2!CB23","v":"0"},0,{"$f":"TERM2!CC23","v":0},{"$f":"TERM2!CD23","v":0},0,{"$f":"'FIN PAT MARK SHEET'!J25","v":0},{"$f":"'FIN PAT MARK SHEET'!K25","v":0},{"$f":"'FIN PAT MARK SHEET'!L25","v":0},{"$f":"'FIN PAT MARK SHEET'!M25","v":0},{"$f":"'FIN PAT MARK SHEET'!N25","v":0},0,0,0,"",null,0,"X"]
[9,9,{"$f":"Insert!A11","v":0},{"$f":"Insert!B11","v":0},{"$f":"Insert!C11","v":0},{"$f":"Insert!D11","v":0},{"$f":"Insert!E11","v":0},{"$f":"TERM2!Z24","v":"0"},{"$f":"TERM2!AR24","v":"0"},{"$f":"TERM2!BJ24","v":"0"},{"$f":"TERM2!CB24","v":"0"},0,{"$f":"TERM2!CC24","v":0},{"$f":"TERM2!CD24","v":0},0,{"$f":"'FIN PAT MARK SHEET'!J26","v":0},{"$f":"'FIN PAT MARK SHEET'!K26","v":0},{"$f":"'FIN PAT MARK SHEET'!L26","v":0},{"$f":"'FIN PAT MARK SHEET'!M26","v":0},{"$f":"'FIN PAT MARK SHEET'!N26","v":0},0,0,0,"",null,0,"X"]
[10,10,{"$f":"Insert!A12","v":0},{"$f":"Insert!B12","v":0},{"$f":"Insert!C12","v":0},{"$f":"Insert!D12","v":0},{"$f":"Insert!E12","v":0},{"$f":"TERM2!Z25","v":"0"},{"$f":"TERM2!AR25","v":"0"},{"$f":"TERM2!BJ25","v":"0"},{"$f":"TERM2!CB25","v":"0"},0,{"$f":"TERM2!CC25","v":0},{"$f":"TERM2!CD25","v":0},0,{"$f":"'FIN PAT MARK SHEET'!J27","v":0},{"$f":"'FIN PAT MARK SHEET'!K27","v":0},{"$f":"'FIN PAT MARK SHEET'!L27","v":0},{"$f":"'FIN PAT MARK SHEET'!M27","v":0},{"$f":"'FIN PAT MARK SHEET'!N27","v":0},0,0,0,"",null,0,"X"]
[11,11,{"$f":"Insert!A13","v":0},{"$f":"Insert!B13","v":0},{"$f":"Insert!C13","v":0},{"$f":"Insert!D13","v":0},{"$f":"Insert!E13","v":0},{"$f":"TERM2!Z26","v":"0"},{"$f":"TERM2!AR26","v":"0"},{"$f":"TERM2!BJ26","v":"0"},{"$f":"TERM2!CB26","v":"0"},0,{"$f":"TERM2!CC26","v":0},{"$f":"TERM2!CD26","v":0},0,{"$f":"'FIN PAT MARK SHEET'!J28","v":0},{"$f":"'FIN PAT MARK SHEET'!K28","v":0},{"$f":"'FIN PAT MARK SHEET'!L28","v":0},{"$f":"'FIN PAT MARK SHEET'!M28","v":0},{"$f":"'FIN PAT MARK SHEET'!N28","v":0},0,0,0,"",null,0,"X"]
[12,12,{"$f":"Insert!A14","v":0},{"$f":"Insert!B14","v":0},{"$f":"Insert!C14","v":0},{"$f":"Insert!D14","v":0},{"$f":"Insert!E14","v":0},{"$f":"TERM2!Z27","v":"0"},{"$f":"TERM2!AR27","v":"0"},{"$f":"TERM2!BJ27","v":"0"},{"$f":"TERM2!CB27","v":"0"},0,{"$f":"TERM2!CC27","v":0},{"$f":"TERM2!CD27","v":0},0,{"$f":"'FIN PAT MARK SHEET'!J29","v":0},{"$f":"'FIN PAT MARK SHEET'!K29","v":0},{"$f":"'FIN PAT MARK SHEET'!L29","v":0},{"$f":"'FIN PAT MARK SHEET'!M29","v":0},{"$f":"'FIN PAT MARK SHEET'!N29","v":0},0,0,0,"",null,0,"X"]
[13,13,{"$f":"Insert!A15","v":0},{"$f":"Insert!B15","v":0},{"$f":"Insert!C15","v":0},{"$f":"Insert!D15","v":0},{"$f":"Insert!E15","v":0},{"$f":"TERM2!Z28","v":"0"},{"$f":"TERM2!AR28","v":"0"},{"$f":"TERM2!BJ28","v":"0"},{"$f":"TERM2!CB28","v":"0"},0,{"$f":"TERM2!CC28","v":0},{"$f":"TERM2!CD28","v":0},0,{"$f":"'FIN PAT MARK SHEET'!J30","v":0},{"$f":"'FIN PAT MARK SHEET'!K30","v":0},{"$f":"'FIN PAT MARK SHEET'!L30","v":0},{"$f":"'FIN PAT MARK SHEET'!M30","v":0},{"$f":"'FIN PAT MARK SHEET'!N30","v":0},0,0,0,"",null,0,"X"]
[14,14,{"$f":"Insert!A16","v":0},{"$f":"Insert!B16","v":0},{"$f":"Insert!C16","v":0},{"$f":"Insert!D16","v":0},{"$f":"Insert!E16","v":0},{"$f":"TERM2!Z29","v":"0"},{"$f":"TERM2!AR29","v":"0"},{"$f":"TERM2!BJ29","v":"0"},{"$f":"TERM2!CB29","v":"0"},0,{"$f":"TERM2!CC29","v":0},{"$f":"TERM2!CD29","v":0},0,{"$f":"'FIN PAT MARK SHEET'!J31","v":0},{"$f":"'FIN PAT MARK SHEET'!K31","v":0},{"$f":"'FIN PAT MARK SHEET'!L31","v":0},{"$f":"'FIN PAT MARK SHEET'!M31","v":0},{"$f":"'FIN PAT MARK SHEET'!N31","v":0},0,0,0,"",null,0,"X"]
[15,15,{"$f":"Insert!A17","v":0},{"$f":"Insert!B17","v":0},{"$f":"Insert!C17","v":0},{"$f":"Insert!D17","v":0},{"$f":"Insert!E17","v":0},{"$f":"TERM2!Z30","v":"0"},{"$f":"TERM2!AR30","v":"0"},{"$f":"TERM2!BJ30","v":"0"},{"$f":"TERM2!CB30","v":"0"},0,{"$f":"TERM2!CC30","v":0},{"$f":"TERM2!CD30","v":0},0,{"$f":"'FIN PAT MARK SHEET'!J32","v":0},{"$f":"'FIN PAT MARK SHEET'!K32","v":0},{"$f":"'FIN PAT MARK SHEET'!L32","v":0},{"$f":"'FIN PAT MARK SHEET'!M32","v":0},{"$f":"'FIN PAT MARK SHEET'!N32","v":0},0,0,0,"",null,0,"X"]
[16,16,{"$f":"Insert!A18","v":0},{"$f":"Insert!B18","v":0},{"$f":"Insert!C18","v":0},{"$f":"Insert!D18","v":0},{"$f":"Insert!E18","v":0},{"$f":"TERM2!Z31","v":"0"},{"$f":"TERM2!AR31","v":"0"},{"$f":"TERM2!BJ31","v":"0"},{"$f":"TERM2!CB31","v":"0"},0,{"$f":"TERM2!CC31","v":0},{"$f":"TERM2!CD31","v":0},0,{"$f":"'FIN PAT MARK SHEET'!J33","v":0},{"$f":"'FIN PAT MARK SHEET'!K33","v":0},{"$f":"'FIN PAT MARK SHEET'!L33","v":0},{"$f":"'FIN PAT MARK SHEET'!M33","v":0},{"$f":"'FIN PAT MARK SHEET'!N33","v":0},0,0,0,"",null,0,"X"]
[17,17,{"$f":"Insert!A19","v":0},{"$f":"Insert!B19","v":0},{"$f":"Insert!C19","v":0},{"$f":"Insert!D19","v":0},{"$f":"Insert!E19","v":0},{"$f":"TERM2!Z32","v":"0"},{"$f":"TERM2!AR32","v":"0"},{"$f":"TERM2!BJ32","v":"0"},{"$f":"TERM2!CB32","v":"0"},0,{"$f":"TERM2!CC32","v":0},{"$f":"TERM2!CD32","v":0},0,{"$f":"'FIN PAT MARK SHEET'!J34","v":0},{"$f":"'FIN PAT MARK SHEET'!K34","v":0},{"$f":"'FIN PAT MARK SHEET'!L34","v":0},{"$f":"'FIN PAT MARK SHEET'!M34","v":0},{"$f":"'FIN PAT MARK SHEET'!N34","v":0},0,0,0,"",null,0,"X"]
[18,18,{"$f":"Insert!A20","v":0},{"$f":"Insert!B20","v":0},{"$f":"Insert!C20","v":0},{"$f":"Insert!D20","v":0},{"$f":"Insert!E20","v":0},{"$f":"TERM2!Z33","v":"0"},{"$f":"TERM2!AR33","v":"0"},{"$f":"TERM2!BJ33","v":"0"},{"$f":"TERM2!CB33","v":"0"},0,{"$f":"TERM2!CC33","v":0},{"$f":"TERM2!CD33","v":0},0,{"$f":"'FIN PAT MARK SHEET'!J35","v":0},{"$f":"'FIN PAT MARK SHEET'!K35","v":0},{"$f":"'FIN PAT MARK SHEET'!L35","v":0},{"$f":"'FIN PAT MARK SHEET'!M35","v":0},{"$f":"'FIN PAT MARK SHEET'!N35","v":0},0,0,0,"",null,0,"X"]
[19,19,{"$f":"Insert!A21","v":0},{"$f":"Insert!B21","v":0},{"$f":"Insert!C21","v":0},{"$f":"Insert!D21","v":0},{"$f":"Insert!E21","v":0},{"$f":"TERM2!Z34","v":"0"},{"$f":"TERM2!AR34","v":"0"},{"$f":"TERM2!BJ34","v":"0"},{"$f":"TERM2!CB34","v":"0"},0,{"$f":"TERM2!CC34","v":0},{"$f":"TERM2!CD34","v":0},0,{"$f":"'FIN PAT MARK SHEET'!J36","v":0},{"$f":"'FIN PAT MARK SHEET'!K36","v":0},{"$f":"'FIN PAT MARK SHEET'!L36","v":0},{"$f":"'FIN PAT MARK SHEET'!M36","v":0},{"$f":"'FIN PAT MARK SHEET'!N36","v":0},0,0,0,"",null,0,"X"]
[20,20,{"$f":"Insert!A22","v":0},{"$f":"Insert!B22","v":0},{"$f":"Insert!C22","v":0},{"$f":"Insert!D22","v":0},{"$f":"Insert!E22","v":0},{"$f":"TERM2!Z35","v":"0"},{"$f":"TERM2!AR35","v":"0"},{"$f":"TERM2!BJ35","v":"0"},{"$f":"TERM2!CB35","v":"0"},0,{"$f":"TERM2!CC35","v":0},{"$f":"TERM2!CD35","v":0},0,{"$f":"'FIN PAT MARK SHEET'!J37","v":0},{"$f":"'FIN PAT MARK SHEET'!K37","v":0},{"$f":"'FIN PAT MARK SHEET'!L37","v":0},{"$f":"'FIN PAT MARK SHEET'!M37","v":0},{"$f":"'FIN PAT MARK SHEET'!N37","v":0},0,0,0,"",null,0,"X"]
[21,21,{"$f":"Insert!A23","v":0},{"$f":"Insert!B23","v":0},{"$f":"Insert!C23","v":0},{"$f":"Insert!D23","v":0},{"$f":"Insert!E23","v":0},{"$f":"TERM2!Z36","v":"0"},{"$f":"TERM2!AR36","v":"0"},{"$f":"TERM2!BJ36","v":"0"},{"$f":"TERM2!CB36","v":"0"},0,{"$f":"TERM2!CC36","v":0},{"$f":"TERM2!CD36","v":0},0,{"$f":"'FIN PAT MARK SHEET'!J38","v":0},{"$f":"'FIN PAT MARK SHEET'!K38","v":0},{"$f":"'FIN PAT MARK SHEET'!L38","v":0},{"$f":"'FIN PAT MARK SHEET'!M38","v":0},{"$f":"'FIN PAT MARK SHEET'!N38","v":0},0,0,0,"",null,0,"X"]
[22,22,{"$f":"Insert!A24","v":0},{"$f":"Insert!B24","v":0},{"$f":"Insert!C24","v":0},{"$f":"Insert!D24","v":0},{"$f":"Insert!E24","v":0},{"$f":"TERM2!Z37","v":"0"},{"$f":"TERM2!AR37","v":"0"},{"$f":"TERM2!BJ37","v":"0"},{"$f":"TERM2!CB37","v":"0"},0,{"$f":"TERM2!CC37","v":0},{"$f":"TERM2!CD37","v":0},0,{"$f":"'FIN PAT MARK SHEET'!J39","v":0},{"$f":"'FIN PAT MARK SHEET'!K39","v":0},{"$f":"'FIN PAT MARK SHEET'!L39","v":0},{"$f":"'FIN PAT MARK SHEET'!M39","v":0},{"$f":"'FIN PAT MARK SHEET'!N39","v":0},0,0,0,"",null,0,"X"]
[23,23,{"$f":"Insert!A25","v":0},{"$f":"Insert!B25","v":0},{"$f":"Insert!C25","v":0},{"$f":"Insert!D25","v":0},{"$f":"Insert!E25","v":0},{"$f":"TERM2!Z38","v":"0"},{"$f":"TERM2!AR38","v":"0"},{"$f":"TERM2!BJ38","v":"0"},{"$f":"TERM2!CB38","v":"0"},0,{"$f":"TERM2!CC38","v":0},{"$f":"TERM2!CD38","v":0},0,{"$f":"'FIN PAT MARK SHEET'!J40","v":0},{"$f":"'FIN PAT MARK SHEET'!K40","v":0},{"$f":"'FIN PAT MARK SHEET'!L40","v":0},{"$f":"'FIN PAT MARK SHEET'!M40","v":0},{"$f":"'FIN PAT MARK SHEET'!N40","v":0},0,0,0,"",null,0,"X"]
[24,24,{"$f":"Insert!A26","v":0},{"$f":"Insert!B26","v":0},{"$f":"Insert!C26","v":0},{"$f":"Insert!D26","v":0},{"$f":"Insert!E26","v":0},{"$f":"TERM2!Z39","v":"0"},{"$f":"TERM2!AR39","v":"0"},{"$f":"TERM2!BJ39","v":"0"},{"$f":"TERM2!CB39","v":"0"},0,{"$f":"TERM2!CC39","v":0},{"$f":"TERM2!CD39","v":0},0,{"$f":"'FIN PAT MARK SHEET'!J41","v":0},{"$f":"'FIN PAT MARK SHEET'!K41","v":0},{"$f":"'FIN PAT MARK SHEET'!L41","v":0},{"$f":"'FIN PAT MARK SHEET'!M41","v":0},{"$f":"'FIN PAT MARK SHEET'!N41","v":0},0,0,0,"",null,0,"X"]
[25,25,{"$f":"Insert!A27","v":0},{"$f":"Insert!B27","v":0},{"$f":"Insert!C27","v":0},{"$f":"Insert!D27","v":0},{"$f":"Insert!E27","v":0},{"$f":"TERM2!Z40","v":"0"},{"$f":"TERM2!AR40","v":"0"},{"$f":"TERM2!BJ40","v":"0"},{"$f":"TERM2!CB40","v":"0"},0,{"$f":"TERM2!CC40","v":0},{"$f":"TERM2!CD40","v":0},0,{"$f":"'FIN PAT MARK SHEET'!J42","v":0},{"$f":"'FIN PAT MARK SHEET'!K42","v":0},{"$f":"'FIN PAT MARK SHEET'!L42","v":0},{"$f":"'FIN PAT MARK SHEET'!M42","v":0},{"$f":"'FIN PAT MARK SHEET'!N42","v":0},0,0,0,"",null,0,"X"]
[26,26,{"$f":"Insert!A28","v":0},{"$f":"Insert!B28","v":0},{"$f":"Insert!C28","v":0},{"$f":"Insert!D28","v":0},{"$f":"Insert!E28","v":0},{"$f":"TERM2!Z41","v":"0"},{"$f":"TERM2!AR41","v":"0"},{"$f":"TERM2!BJ41","v":"0"},{"$f":"TERM2!CB41","v":"0"},0,{"$f":"TERM2!CC41","v":0},{"$f":"TERM2!CD41","v":0},0,{"$f":"'FIN PAT MARK SHEET'!J43","v":0},{"$f":"'FIN PAT MARK SHEET'!K43","v":0},{"$f":"'FIN PAT MARK SHEET'!L43","v":0},{"$f":"'FIN PAT MARK SHEET'!M43","v":0},{"$f":"'FIN PAT MARK SHEET'!N43","v":0},0,0,0,"",null,0,"X"]
[27,27,{"$f":"Insert!A29","v":0},{"$f":"Insert!B29","v":0},{"$f":"Insert!C29","v":0},{"$f":"Insert!D29","v":0},{"$f":"Insert!E29","v":0},{"$f":"TERM2!Z42","v":"0"},{"$f":"TERM2!AR42","v":"0"},{"$f":"TERM2!BJ42","v":"0"},{"$f":"TERM2!CB42","v":"0"},0,{"$f":"TERM2!CC42","v":0},{"$f":"TERM2!CD42","v":0},0,{"$f":"'FIN PAT MARK SHEET'!J44","v":0},{"$f":"'FIN PAT MARK SHEET'!K44","v":0},{"$f":"'FIN PAT MARK SHEET'!L44","v":0},{"$f":"'FIN PAT MARK SHEET'!M44","v":0},{"$f":"'FIN PAT MARK SHEET'!N44","v":0},0,0,0,"",null,0,"X"]
[28,28,{"$f":"Insert!A30","v":0},{"$f":"Insert!B30","v":0},{"$f":"Insert!C30","v":0},{"$f":"Insert!D30","v":0},{"$f":"Insert!E30","v":0},{"$f":"TERM2!Z43","v":"0"},{"$f":"TERM2!AR43","v":"0"},{"$f":"TERM2!BJ43","v":"0"},{"$f":"TERM2!CB43","v":"0"},0,{"$f":"TERM2!CC43","v":0},{"$f":"TERM2!CD43","v":0},0,{"$f":"'FIN PAT MARK SHEET'!J45","v":0},{"$f":"'FIN PAT MARK SHEET'!K45","v":0},{"$f":"'FIN PAT MARK SHEET'!L45","v":0},{"$f":"'FIN PAT MARK SHEET'!M45","v":0},{"$f":"'FIN PAT MARK SHEET'!N45","v":0},0,0,0,"",null,0,"X"]
[29,29,{"$f":"Insert!A31","v":0},{"$f":"Insert!B31","v":0},{"$f":"Insert!C31","v":0},{"$f":"Insert!D31","v":0},{"$f":"Insert!E31","v":0},{"$f":"TERM2!Z44","v":"0"},{"$f":"TERM2!AR44","v":"0"},{"$f":"TERM2!BJ44","v":"0"},{"$f":"TERM2!CB44","v":"0"},0,{"$f":"TERM2!CC44","v":0},{"$f":"TERM2!CD44","v":0},0,{"$f":"'FIN PAT MARK SHEET'!J46","v":0},{"$f":"'FIN PAT MARK SHEET'!K46","v":0},{"$f":"'FIN PAT MARK SHEET'!L46","v":0},{"$f":"'FIN PAT MARK SHEET'!M46","v":0},{"$f":"'FIN PAT MARK SHEET'!N46","v":0},0,0,0,"",null,0,"X"]
[30,30,{"$f":"Insert!A32","v":0},{"$f":"Insert!B32","v":0},{"$f":"Insert!C32","v":0},{"$f":"Insert!D32","v":0},{"$f":"Insert!E32","v":0},{"$f":"TERM2!Z45","v":"0"},{"$f":"TERM2!AR45","v":"0"},{"$f":"TERM2!BJ45","v":"0"},{"$f":"TERM2!CB45","v":"0"},0,{"$f":"TERM2!CC45","v":0},{"$f":"TERM2!CD45","v":0},0,{"$f":"'FIN PAT MARK SHEET'!J47","v":0},{"$f":"'FIN PAT MARK SHEET'!K47","v":0},{"$f":"'FIN PAT MARK SHEET'!L47","v":0},{"$f":"'FIN PAT MARK SHEET'!M47","v":0},{"$f":"'FIN PAT MARK SHEET'!N47","v":0},0,0,0,"",null,0,"X"]
[31,31,{"$f":"Insert!A33","v":0},{"$f":"Insert!B33","v":0},{"$f":"Insert!C33","v":0},{"$f":"Insert!D33","v":0},{"$f":"Insert!E33","v":0},{"$f":"TERM2!Z46","v":"0"},{"$f":"TERM2!AR46","v":"0"},{"$f":"TERM2!BJ46","v":"0"},{"$f":"TERM2!CB46","v":"0"},0,{"$f":"TERM2!CC46","v":0},{"$f":"TERM2!CD46","v":0},0,{"$f":"'FIN PAT MARK SHEET'!J48","v":0},{"$f":"'FIN PAT MARK SHEET'!K48","v":0},{"$f":"'FIN PAT MARK SHEET'!L48","v":0},{"$f":"'FIN PAT MARK SHEET'!M48","v":0},{"$f":"'FIN PAT MARK SHEET'!N48","v":0},0,0,0,"",null,0,"X"]
[32,32,{"$f":"Insert!A34","v":0},{"$f":"Insert!B34","v":0},{"$f":"Insert!C34","v":0},{"$f":"Insert!D34","v":0},{"$f":"Insert!E34","v":0},{"$f":"TERM2!Z47","v":"0"},{"$f":"TERM2!AR47","v":"0"},{"$f":"TERM2!BJ47","v":"0"},{"$f":"TERM2!CB47","v":"0"},0,{"$f":"TERM2!CC47","v":0},{"$f":"TERM2!CD47","v":0},0,{"$f":"'FIN PAT MARK SHEET'!J49","v":0},{"$f":"'FIN PAT MARK SHEET'!K49","v":0},{"$f":"'FIN PAT MARK SHEET'!L49","v":0},{"$f":"'FIN PAT MARK SHEET'!M49","v":0},{"$f":"'FIN PAT MARK SHEET'!N49","v":0},0,0,0,"",null,0,"X"]
[33,33,{"$f":"Insert!A35","v":0},{"$f":"Insert!B35","v":0},{"$f":"Insert!C35","v":0},{"$f":"Insert!D35","v":0},{"$f":"Insert!E35","v":0},{"$f":"TERM2!Z48","v":"0"},{"$f":"TERM2!AR48","v":"0"},{"$f":"TERM2!BJ48","v":"0"},{"$f":"TERM2!CB48","v":"0"},0,{"$f":"TERM2!CC48","v":0},{"$f":"TERM2!CD48","v":0},0,{"$f":"'FIN PAT MARK SHEET'!J50","v":0},{"$f":"'FIN PAT MARK SHEET'!K50","v":0},{"$f":"'FIN PAT MARK SHEET'!L50","v":0},{"$f":"'FIN PAT MARK SHEET'!M50","v":0},{"$f":"'FIN PAT MARK SHEET'!N50","v":0},{"$f":"ROUND((SUMIF(P41:T41,\">0\")/2.777777777),0)","v":0},0,{"$f":"ROUND(V41,0)","v":0},{"$f":"IF(W41>79,\"7\",IF(W41>69,\"6\",IF(W41>59,\"5\",IF(W41>49,\"4\",IF(W41>39,\"3\",IF(W41>29,\"2\",IF(W41>0,\"1\",IF(W41=0,\"\"))))))))","v":""},null,{"$f":"COUNTIF(H41:U41,\">0\")","v":0},"X"]
[34,34,{"$f":"Insert!A36","v":0},{"$f":"Insert!B36","v":0},{"$f":"Insert!C36","v":0},{"$f":"Insert!D36","v":0},{"$f":"Insert!E36","v":0},{"$f":"TERM2!Z49","v":"0"},{"$f":"TERM2!AR49","v":"0"},{"$f":"TERM2!BJ49","v":"0"},{"$f":"TERM2!CB49","v":"0"},{"$f":"SUM(H42:K42)","v":0},{"$f":"TERM2!CC49","v":0},{"$f":"TERM2!CD49","v":0},0,{"$f":"'FIN PAT MARK SHEET'!J51","v":0},{"$f":"'FIN PAT MARK SHEET'!K51","v":0},{"$f":"'FIN PAT MARK SHEET'!L51","v":0},{"$f":"'FIN PAT MARK SHEET'!M51","v":0},{"$f":"'FIN PAT MARK SHEET'!N51","v":0},0,0,0,"",null,0,"X"]
[35,35,{"$f":"Insert!A37","v":0},{"$f":"Insert!B37","v":0},{"$f":"Insert!C37","v":0},{"$f":"Insert!D37","v":0},{"$f":"Insert!E37","v":0},{"$f":"TERM2!Z50","v":"0"},{"$f":"TERM2!AR50","v":"0"},{"$f":"TERM2!BJ50","v":"0"},{"$f":"TERM2!CB50","v":"0"},{"$f":"SUM(H43:K43)","v":0},{"$f":"TERM2!CC50","v":0},{"$f":"TERM2!CD50","v":0},0,{"$f":"'FIN PAT MARK SHEET'!J52","v":0},{"$f":"'FIN PAT MARK SHEET'!K52","v":0},{"$f":"'FIN PAT MARK SHEET'!L52","v":0},{"$f":"'FIN PAT MARK SHEET'!L52","v":0},{"$f":"'FIN PAT MARK SHEET'!N52","v":0},0,{"$f":"SUM(O43/2.4)+(L43/1.6)","v":0},0,"",null,{"$f":"COUNTIF(H43:U43,\">0\")","v":0},"X"]
[36,36,{"$f":"Insert!A38","v":0},{"$f":"Insert!B38","v":0},{"$f":"Insert!C38","v":0},{"$f":"Insert!D38","v":0},{"$f":"Insert!E38","v":0},{"$f":"TERM2!Z51","v":"0"},{"$f":"TERM2!AR51","v":"0"},{"$f":"TERM2!BJ51","v":"0"},{"$f":"TERM2!CB51","v":"0"},0,{"$f":"TERM2!CC51","v":0},{"$f":"TERM2!CD51","v":0},0,{"$f":"'FIN PAT MARK SHEET'!J53","v":0},{"$f":"'FIN PAT MARK SHEET'!K53","v":0},{"$f":"'FIN PAT MARK SHEET'!L53","v":0},{"$f":"'FIN PAT MARK SHEET'!L53","v":0},{"$f":"'FIN PAT MARK SHEET'!N53","v":0},0,{"$f":"SUM(O44/2.4)+(L44/1.6)","v":0},0,"",null,0,"X"]
[37,37,{"$f":"Insert!A39","v":0},{"$f":"Insert!B39","v":0},{"$f":"Insert!C39","v":0},{"$f":"Insert!D39","v":0},{"$f":"Insert!E39","v":0},{"$f":"TERM2!Z52","v":"0"},{"$f":"TERM2!AR52","v":"0"},{"$f":"TERM2!BJ52","v":"0"},{"$f":"TERM2!CB52","v":"0"},0,{"$f":"TERM2!CC52","v":0},{"$f":"TERM2!CD52","v":0},0,{"$f":"'FIN PAT MARK SHEET'!J54","v":0},{"$f":"'FIN PAT MARK SHEET'!K54","v":0},{"$f":"'FIN PAT MARK SHEET'!L54","v":0},{"$f":"'FIN PAT MARK SHEET'!L54","v":0},{"$f":"'FIN PAT MARK SHEET'!N54","v":0},0,0,0,"",null,0,"X"]
[38,38,{"$f":"Insert!A40","v":0},{"$f":"Insert!B40","v":0},{"$f":"Insert!C40","v":0},{"$f":"Insert!D40","v":0},{"$f":"Insert!E40","v":0},{"$f":"TERM2!Z53","v":"0"},{"$f":"TERM2!AR53","v":"0"},{"$f":"TERM2!BJ53","v":"0"},{"$f":"TERM2!CB53","v":"0"},0,{"$f":"TERM2!CC53","v":0},{"$f":"TERM2!CD53","v":0},0,{"$f":"'FIN PAT MARK SHEET'!J55","v":0},{"$f":"'FIN PAT MARK SHEET'!K55","v":0},{"$f":"'FIN PAT MARK SHEET'!L55","v":0},{"$f":"'FIN PAT MARK SHEET'!L55","v":0},{"$f":"'FIN PAT MARK SHEET'!N55","v":0},0,0,0,"",null,0,"X"]
[39,39,{"$f":"Insert!A41","v":0},{"$f":"Insert!B41","v":0},{"$f":"Insert!C41","v":0},{"$f":"Insert!D41","v":0},{"$f":"Insert!E41","v":0},{"$f":"TERM2!Z54","v":"0"},{"$f":"TERM2!AR54","v":"0"},{"$f":"TERM2!BJ54","v":"0"},{"$f":"TERM2!CB54","v":"0"},0,{"$f":"TERM2!CC54","v":0},{"$f":"TERM2!CD54","v":0},0,{"$f":"'FIN PAT MARK SHEET'!J56","v":0},{"$f":"'FIN PAT MARK SHEET'!K56","v":0},{"$f":"'FIN PAT MARK SHEET'!L56","v":0},{"$f":"'FIN PAT MARK SHEET'!L56","v":0},{"$f":"'FIN PAT MARK SHEET'!N56","v":0},0,0,0,"",null,0,"X"]
[40,40,{"$f":"Insert!A42","v":0},{"$f":"Insert!B42","v":0},{"$f":"Insert!C42","v":0},{"$f":"Insert!D42","v":0},{"$f":"Insert!E42","v":0},{"$f":"TERM2!Z55","v":"0"},{"$f":"TERM2!AR55","v":"0"},{"$f":"TERM2!BJ55","v":"0"},{"$f":"TERM2!CB55","v":"0"},0,{"$f":"TERM2!CC55","v":0},{"$f":"TERM2!CD55","v":0},0,{"$f":"'FIN PAT MARK SHEET'!J57","v":0},{"$f":"'FIN PAT MARK SHEET'!K57","v":0},{"$f":"'FIN PAT MARK SHEET'!L57","v":0},{"$f":"'FIN PAT MARK SHEET'!L57","v":0},{"$f":"'FIN PAT MARK SHEET'!N57","v":0},0,0,0,"",null,0,"X"]
[41,41,{"$f":"Insert!A43","v":0},{"$f":"Insert!B43","v":0},{"$f":"Insert!C43","v":0},{"$f":"Insert!D43","v":0},{"$f":"Insert!E43","v":0},{"$f":"TERM2!Z56","v":"0"},{"$f":"TERM2!AR56","v":"0"},{"$f":"TERM2!BJ56","v":"0"},{"$f":"TERM2!CB56","v":"0"},0,{"$f":"TERM2!CC56","v":0},{"$f":"TERM2!CD56","v":0},0,{"$f":"'FIN PAT MARK SHEET'!J58","v":0},{"$f":"'FIN PAT MARK SHEET'!K58","v":0},{"$f":"'FIN PAT MARK SHEET'!L58","v":0},{"$f":"'FIN PAT MARK SHEET'!L58","v":0},{"$f":"'FIN PAT MARK SHEET'!N58","v":0},0,0,0,"",null,0,"X"]
[42,42,{"$f":"Insert!A44","v":0},{"$f":"Insert!B44","v":0},{"$f":"Insert!C44","v":0},{"$f":"Insert!D44","v":0},{"$f":"Insert!E44","v":0},{"$f":"TERM2!Z57","v":"0"},{"$f":"TERM2!AR57","v":"0"},{"$f":"TERM2!BJ57","v":"0"},{"$f":"TERM2!CB57","v":"0"},0,{"$f":"TERM2!CC57","v":0},{"$f":"TERM2!CD57","v":0},0,{"$f":"'FIN PAT MARK SHEET'!J59","v":0},{"$f":"'FIN PAT MARK SHEET'!K59","v":0},{"$f":"'FIN PAT MARK SHEET'!L59","v":0},{"$f":"'FIN PAT MARK SHEET'!L59","v":0},{"$f":"'FIN PAT MARK SHEET'!N59","v":0},0,0,0,"",null,0,"X"]
[43,43,{"$f":"Insert!A45","v":0},{"$f":"Insert!B45","v":0},{"$f":"Insert!C45","v":0},{"$f":"Insert!D45","v":0},{"$f":"Insert!E45","v":0},{"$f":"TERM2!Z58","v":"0"},{"$f":"TERM2!AR58","v":"0"},{"$f":"TERM2!BJ58","v":"0"},{"$f":"TERM2!CB58","v":"0"},0,{"$f":"TERM2!CC58","v":0},{"$f":"TERM2!CD58","v":0},0,{"$f":"'FIN PAT MARK SHEET'!J60","v":0},{"$f":"'FIN PAT MARK SHEET'!K60","v":0},{"$f":"'FIN PAT MARK SHEET'!L60","v":0},{"$f":"'FIN PAT MARK SHEET'!L60","v":0},{"$f":"'FIN PAT MARK SHEET'!N60","v":0},0,0,0,"",null,0,"X"]
[44,44,{"$f":"Insert!A46","v":0},{"$f":"Insert!B46","v":0},{"$f":"Insert!C46","v":0},{"$f":"Insert!D46","v":0},{"$f":"Insert!E46","v":0},{"$f":"TERM2!Z59","v":"0"},{"$f":"TERM2!AR59","v":"0"},{"$f":"TERM2!BJ59","v":"0"},{"$f":"TERM2!CB59","v":"0"},0,{"$f":"TERM2!CC59","v":0},{"$f":"TERM2!CD59","v":0},0,{"$f":"'FIN PAT MARK SHEET'!J61","v":0},{"$f":"'FIN PAT MARK SHEET'!K61","v":0},{"$f":"'FIN PAT MARK SHEET'!L61","v":0},{"$f":"'FIN PAT MARK SHEET'!L61","v":0},{"$f":"'FIN PAT MARK SHEET'!N61","v":0},0,0,0,"",null,0,"X"]
[45,45,{"$f":"Insert!A47","v":0},{"$f":"Insert!B47","v":0},{"$f":"Insert!C47","v":0},{"$f":"Insert!D47","v":0},{"$f":"Insert!E47","v":0},{"$f":"TERM2!Z60","v":"0"},{"$f":"TERM2!AR60","v":"0"},{"$f":"TERM2!BJ60","v":"0"},{"$f":"TERM2!CB60","v":"0"},0,{"$f":"TERM2!CC60","v":0},{"$f":"TERM2!CD60","v":0},0,{"$f":"'FIN PAT MARK SHEET'!J62","v":0},{"$f":"'FIN PAT MARK SHEET'!K62","v":0},{"$f":"'FIN PAT MARK SHEET'!L62","v":0},{"$f":"'FIN PAT MARK SHEET'!L62","v":0},{"$f":"'FIN PAT MARK SHEET'!N62","v":0},0,0,0,"",null,0,"X"]
[46,46,{"$f":"Insert!A48","v":0},{"$f":"Insert!B48","v":0},{"$f":"Insert!C48","v":0},{"$f":"Insert!D48","v":0},{"$f":"Insert!E48","v":0},{"$f":"TERM2!Z61","v":"0"},{"$f":"TERM2!AR61","v":"0"},{"$f":"TERM2!BJ61","v":"0"},{"$f":"TERM2!CB61","v":"0"},0,{"$f":"TERM2!CC61","v":0},{"$f":"TERM2!CD61","v":0},0,{"$f":"'FIN PAT MARK SHEET'!J63","v":0},{"$f":"'FIN PAT MARK SHEET'!K63","v":0},{"$f":"'FIN PAT MARK SHEET'!L63","v":0},{"$f":"'FIN PAT MARK SHEET'!M63","v":0},{"$f":"'FIN PAT MARK SHEET'!N63","v":0},0,0,0,"",null,0,"X"]
[47,47,{"$f":"Insert!A49","v":0},{"$f":"Insert!B49","v":0},{"$f":"Insert!C49","v":0},{"$f":"Insert!D49","v":0},{"$f":"Insert!E49","v":0},{"$f":"TERM2!Z62","v":"0"},{"$f":"TERM2!AR62","v":"0"},{"$f":"TERM2!BJ62","v":"0"},{"$f":"TERM2!CB62","v":"0"},0,{"$f":"TERM2!CC62","v":0},{"$f":"TERM2!CD62","v":0},0,{"$f":"'FIN PAT MARK SHEET'!J64","v":0},{"$f":"'FIN PAT MARK SHEET'!K64","v":0},{"$f":"'FIN PAT MARK SHEET'!L64","v":0},{"$f":"'FIN PAT MARK SHEET'!M64","v":0},{"$f":"'FIN PAT MARK SHEET'!N64","v":0},0,0,0,"",null,0,"X"]
[48,48,{"$f":"Insert!A50","v":0},{"$f":"Insert!B50","v":0},{"$f":"Insert!C50","v":0},{"$f":"Insert!D50","v":0},{"$f":"Insert!E50","v":0},{"$f":"TERM2!Z63","v":"0"},{"$f":"TERM2!AR63","v":"0"},{"$f":"TERM2!BJ63","v":"0"},{"$f":"TERM2!CB63","v":"0"},0,{"$f":"TERM2!CC63","v":0},{"$f":"TERM2!CD63","v":0},0,{"$f":"'FIN PAT MARK SHEET'!J65","v":0},{"$f":"'FIN PAT MARK SHEET'!K65","v":0},{"$f":"'FIN PAT MARK SHEET'!L65","v":0},{"$f":"'FIN PAT MARK SHEET'!M65","v":0},{"$f":"'FIN PAT MARK SHEET'!N65","v":0},0,0,0,"",null,0,"X"]
[49,49,{"$f":"Insert!A51","v":0},{"$f":"Insert!B51","v":0},{"$f":"Insert!C51","v":0},{"$f":"Insert!D51","v":0},{"$f":"Insert!E51","v":0},{"$f":"TERM2!Z64","v":"0"},{"$f":"TERM2!AR64","v":"0"},{"$f":"TERM2!BJ64","v":"0"},{"$f":"TERM2!CB64","v":"0"},0,{"$f":"TERM2!CC64","v":0},{"$f":"TERM2!CD64","v":0},0,{"$f":"'FIN PAT MARK SHEET'!J66","v":0},{"$f":"'FIN PAT MARK SHEET'!K66","v":0},{"$f":"'FIN PAT MARK SHEET'!L66","v":0},{"$f":"'FIN PAT MARK SHEET'!M66","v":0},{"$f":"'FIN PAT MARK SHEET'!N66","v":0},0,0,0,"",null,0,"X"]
[50,50,{"$f":"Insert!A52","v":0},{"$f":"Insert!B52","v":0},{"$f":"Insert!C52","v":0},{"$f":"Insert!D52","v":0},{"$f":"Insert!E52","v":0},{"$f":"TERM2!Z65","v":"0"},{"$f":"TERM2!AR65","v":"0"},{"$f":"TERM2!BJ65","v":"0"},{"$f":"TERM2!CB65","v":"0"},0,{"$f":"TERM2!CC65","v":0},{"$f":"TERM2!CD65","v":0},0,{"$f":"'FIN PAT MARK SHEET'!J67","v":0},{"$f":"'FIN PAT MARK SHEET'!K67","v":0},{"$f":"'FIN PAT MARK SHEET'!L67","v":0},{"$f":"'FIN PAT MARK SHEET'!M67","v":0},{"$f":"'FIN PAT MARK SHEET'!N67","v":0},0,0,0,"",null,0,"X"]
[51,51,{"$f":"Insert!A53","v":0},{"$f":"Insert!B53","v":0},{"$f":"Insert!C53","v":0},{"$f":"Insert!D53","v":0},{"$f":"Insert!E53","v":0},{"$f":"TERM2!Z66","v":"0"},{"$f":"TERM2!AR66","v":"0"},{"$f":"TERM2!BJ66","v":"0"},{"$f":"TERM2!CB66","v":"0"},0,{"$f":"TERM2!CC66","v":0},{"$f":"TERM2!CD66","v":0},0,{"$f":"'FIN PAT MARK SHEET'!J68","v":0},{"$f":"'FIN PAT MARK SHEET'!K68","v":0},{"$f":"'FIN PAT MARK SHEET'!L68","v":0},{"$f":"'FIN PAT MARK SHEET'!M68","v":0},{"$f":"'FIN PAT MARK SHEET'!N68","v":0},0,0,0,"",null,0,"X"]
[52,52,{"$f":"Insert!A54","v":0},{"$f":"Insert!B54","v":0},{"$f":"Insert!C54","v":0},{"$f":"Insert!D54","v":0},{"$f":"Insert!E54","v":0},{"$f":"TERM2!Z67","v":"0"},{"$f":"TERM2!AR67","v":"0"},{"$f":"TERM2!BJ67","v":"0"},{"$f":"TERM2!CB67","v":"0"},0,{"$f":"TERM2!CC67","v":0},{"$f":"TERM2!CD67","v":0},0,{"$f":"'FIN PAT MARK SHEET'!J69","v":0},{"$f":"'FIN PAT MARK SHEET'!K69","v":0},{"$f":"'FIN PAT MARK SHEET'!L69","v":0},{"$f":"'FIN PAT MARK SHEET'!M69","v":0},{"$f":"'FIN PAT MARK SHEET'!N69","v":0},0,0,0,"",null,0,"X"]
[53,53,{"$f":"Insert!A55","v":0},{"$f":"Insert!B55","v":0},{"$f":"Insert!C55","v":0},{"$f":"Insert!D55","v":0},{"$f":"Insert!E55","v":0},{"$f":"TERM2!Z68","v":"0"},{"$f":"TERM2!AR68","v":"0"},{"$f":"TERM2!BJ68","v":"0"},{"$f":"TERM2!CB68","v":"0"},0,{"$f":"TERM2!CC68","v":0},{"$f":"TERM2!CD68","v":0},0,{"$f":"'FIN PAT MARK SHEET'!J70","v":0},{"$f":"'FIN PAT MARK SHEET'!K70","v":0},{"$f":"'FIN PAT MARK SHEET'!L70","v":0},{"$f":"'FIN PAT MARK SHEET'!M70","v":0},{"$f":"'FIN PAT MARK SHEET'!N70","v":0},0,0,0,"",null,0,"X"]
[54,54,{"$f":"Insert!A56","v":0},{"$f":"Insert!B56","v":0},{"$f":"Insert!C56","v":0},{"$f":"Insert!D56","v":0},{"$f":"Insert!E56","v":0},{"$f":"TERM2!Z69","v":"0"},{"$f":"TERM2!AR69","v":"0"},{"$f":"TERM2!BJ69","v":"0"},{"$f":"TERM2!CB69","v":"0"},0,{"$f":"TERM2!CC69","v":0},{"$f":"TERM2!CD69","v":0},0,{"$f":"'FIN PAT MARK SHEET'!J71","v":0},{"$f":"'FIN PAT MARK SHEET'!K71","v":0},{"$f":"'FIN PAT MARK SHEET'!L71","v":0},{"$f":"'FIN PAT MARK SHEET'!M71","v":0},{"$f":"'FIN PAT MARK SHEET'!N71","v":0},0,0,0,"",null,0,"X"]
[55,55,{"$f":"Insert!A57","v":0},{"$f":"Insert!B57","v":0},{"$f":"Insert!C57","v":0},{"$f":"Insert!D57","v":0},{"$f":"Insert!E57","v":0},{"$f":"TERM2!Z70","v":"0"},{"$f":"TERM2!AR70","v":"0"},{"$f":"TERM2!BJ70","v":"0"},{"$f":"TERM2!CB70","v":"0"},0,{"$f":"TERM2!CC70","v":0},{"$f":"TERM2!CD70","v":0},0,{"$f":"'FIN PAT MARK SHEET'!J72","v":0},{"$f":"'FIN PAT MARK SHEET'!K72","v":0},{"$f":"'FIN PAT MARK SHEET'!L72","v":0},{"$f":"'FIN PAT MARK SHEET'!M72","v":0},{"$f":"'FIN PAT MARK SHEET'!N72","v":0},0,0,0,"",null,0,"X"]
[56,56,{"$f":"Insert!A58","v":0},{"$f":"Insert!B58","v":0},{"$f":"Insert!C58","v":0},{"$f":"Insert!D58","v":0},{"$f":"Insert!E58","v":0},{"$f":"TERM2!Z71","v":"0"},{"$f":"TERM2!AR71","v":"0"},{"$f":"TERM2!BJ71","v":"0"},{"$f":"TERM2!CB71","v":"0"},0,{"$f":"TERM2!CC71","v":0},{"$f":"TERM2!CD71","v":0},0,{"$f":"'FIN PAT MARK SHEET'!J73","v":0},{"$f":"'FIN PAT MARK SHEET'!K73","v":0},{"$f":"'FIN PAT MARK SHEET'!L73","v":0},{"$f":"'FIN PAT MARK SHEET'!M73","v":0},{"$f":"'FIN PAT MARK SHEET'!N73","v":0},0,0,0,"",null,0,"X"]
[57,57,{"$f":"Insert!A59","v":0},{"$f":"Insert!B59","v":0},{"$f":"Insert!C59","v":0},{"$f":"Insert!D59","v":0},{"$f":"Insert!E59","v":0},{"$f":"TERM2!Z72","v":"0"},{"$f":"TERM2!AR72","v":"0"},{"$f":"TERM2!BJ72","v":"0"},{"$f":"TERM2!CB72","v":"0"},0,{"$f":"TERM2!CC72","v":0},{"$f":"TERM2!CD72","v":0},0,{"$f":"'FIN PAT MARK SHEET'!J74","v":0},{"$f":"'FIN PAT MARK SHEET'!K74","v":0},{"$f":"'FIN PAT MARK SHEET'!L74","v":0},{"$f":"'FIN PAT MARK SHEET'!M74","v":0},{"$f":"'FIN PAT MARK SHEET'!N74","v":0},0,0,0,"",null,0,"X"]
[58,58,{"$f":"Insert!A60","v":0},{"$f":"Insert!B60","v":0},{"$f":"Insert!C60","v":0},{"$f":"Insert!D60","v":0},{"$f":"Insert!E60","v":0},{"$f":"TERM2!Z73","v":"0"},{"$f":"TERM2!AR73","v":"0"},{"$f":"TERM2!BJ73","v":"0"},{"$f":"TERM2!CB73","v":"0"},0,{"$f":"TERM2!CC73","v":0},{"$f":"TERM2!CD73","v":0},0,{"$f":"'FIN PAT MARK SHEET'!J75","v":0},{"$f":"'FIN PAT MARK SHEET'!K75","v":0},{"$f":"'FIN PAT MARK SHEET'!L75","v":0},{"$f":"'FIN PAT MARK SHEET'!M75","v":0},{"$f":"'FIN PAT MARK SHEET'!N75","v":0},0,0,0,"",null,0,"X"]
[59,59,{"$f":"Insert!A61","v":0},{"$f":"Insert!B61","v":0},{"$f":"Insert!C61","v":0},{"$f":"Insert!D61","v":0},{"$f":"Insert!E61","v":0},{"$f":"TERM2!Z74","v":"0"},{"$f":"TERM2!AR74","v":"0"},{"$f":"TERM2!BJ74","v":"0"},{"$f":"TERM2!CB74","v":"0"},0,{"$f":"TERM2!CC74","v":0},{"$f":"TERM2!CD74","v":0},0,{"$f":"'FIN PAT MARK SHEET'!J76","v":0},{"$f":"'FIN PAT MARK SHEET'!K76","v":0},{"$f":"'FIN PAT MARK SHEET'!L76","v":0},{"$f":"'FIN PAT MARK SHEET'!M76","v":0},{"$f":"'FIN PAT MARK SHEET'!N76","v":0},0,0,0,"",null,0,"X"]
[60,60,{"$f":"Insert!A62","v":0},{"$f":"Insert!B62","v":0},{"$f":"Insert!C62","v":0},{"$f":"Insert!D62","v":0},{"$f":"Insert!E62","v":0},{"$f":"TERM2!Z75","v":"0"},{"$f":"TERM2!AR75","v":"0"},{"$f":"TERM2!BJ75","v":"0"},{"$f":"TERM2!CB75","v":"0"},0,{"$f":"TERM2!CC75","v":0},{"$f":"TERM2!CD75","v":0},0,{"$f":"'FIN PAT MARK SHEET'!J77","v":0},{"$f":"'FIN PAT MARK SHEET'!K77","v":0},{"$f":"'FIN PAT MARK SHEET'!L77","v":0},{"$f":"'FIN PAT MARK SHEET'!M77","v":0},{"$f":"'FIN PAT MARK SHEET'!N77","v":0},0,0,0,"",null,0,"X"]
[61,61,{"$f":"Insert!A63","v":0},{"$f":"Insert!B63","v":0},{"$f":"Insert!C63","v":0},{"$f":"Insert!D63","v":0},{"$f":"Insert!E63","v":0},{"$f":"TERM2!Z76","v":"0"},{"$f":"TERM2!AR76","v":"0"},{"$f":"TERM2!BJ76","v":"0"},{"$f":"TERM2!CB76","v":"0"},0,{"$f":"TERM2!CC76","v":0},{"$f":"TERM2!CD76","v":0},0,{"$f":"'FIN PAT MARK SHEET'!J78","v":0},{"$f":"'FIN PAT MARK SHEET'!K78","v":0},{"$f":"'FIN PAT MARK SHEET'!L78","v":0},{"$f":"'FIN PAT MARK SHEET'!M78","v":0},{"$f":"'FIN PAT MARK SHEET'!N78","v":0},0,0,0,"",null,0,"X"]
[62,62,{"$f":"Insert!A64","v":0},{"$f":"Insert!B64","v":0},{"$f":"Insert!C64","v":0},{"$f":"Insert!D64","v":0},{"$f":"Insert!E64","v":0},{"$f":"TERM2!Z77","v":"0"},{"$f":"TERM2!AR77","v":"0"},{"$f":"TERM2!BJ77","v":"0"},{"$f":"TERM2!CB77","v":"0"},0,{"$f":"TERM2!CC77","v":0},{"$f":"TERM2!CD77","v":0},0,{"$f":"'FIN PAT MARK SHEET'!J79","v":0},{"$f":"'FIN PAT MARK SHEET'!K79","v":0},{"$f":"'FIN PAT MARK SHEET'!L79","v":0},{"$f":"'FIN PAT MARK SHEET'!M79","v":0},{"$f":"'FIN PAT MARK SHEET'!N79","v":0},0,0,0,"",null,0,"X"]
[63,63,{"$f":"Insert!A65","v":0},{"$f":"Insert!B65","v":0},{"$f":"Insert!C65","v":0},{"$f":"Insert!D65","v":0},{"$f":"Insert!E65","v":0},{"$f":"TERM2!Z78","v":"0"},{"$f":"TERM2!AR78","v":"0"},{"$f":"TERM2!BJ78","v":"0"},{"$f":"TERM2!CB78","v":"0"},0,{"$f":"TERM2!CC78","v":0},{"$f":"TERM2!CD78","v":0},0,{"$f":"'FIN PAT MARK SHEET'!J80","v":0},{"$f":"'FIN PAT MARK SHEET'!K80","v":0},{"$f":"'FIN PAT MARK SHEET'!L80","v":0},{"$f":"'FIN PAT MARK SHEET'!M80","v":0},{"$f":"'FIN PAT MARK SHEET'!N80","v":0},0,0,0,"",null,0,"X"]
[64,64,{"$f":"Insert!A66","v":0},{"$f":"Insert!B66","v":0},{"$f":"Insert!C66","v":0},{"$f":"Insert!D66","v":0},{"$f":"Insert!E66","v":0},{"$f":"TERM2!Z79","v":"0"},{"$f":"TERM2!AR79","v":"0"},{"$f":"TERM2!BJ79","v":"0"},{"$f":"TERM2!CB79","v":"0"},0,{"$f":"TERM2!CC79","v":0},{"$f":"TERM2!CD79","v":0},0,{"$f":"'FIN PAT MARK SHEET'!J81","v":0},{"$f":"'FIN PAT MARK SHEET'!K81","v":0},{"$f":"'FIN PAT MARK SHEET'!L81","v":0},{"$f":"'FIN PAT MARK SHEET'!M81","v":0},{"$f":"'FIN PAT MARK SHEET'!N81","v":0},0,0,0,"",null,0,"X"]
[65,65,{"$f":"Insert!A67","v":0},{"$f":"Insert!B67","v":0},{"$f":"Insert!C67","v":0},{"$f":"Insert!D67","v":0},{"$f":"Insert!E67","v":0},{"$f":"TERM2!Z80","v":"0"},{"$f":"TERM2!AR80","v":"0"},{"$f":"TERM2!BJ80","v":"0"},{"$f":"TERM2!CB80","v":"0"},0,{"$f":"TERM2!CC80","v":0},{"$f":"TERM2!CD80","v":0},0,{"$f":"'FIN PAT MARK SHEET'!J83","v":0},{"$f":"'FIN PAT MARK SHEET'!K83","v":0},{"$f":"'FIN PAT MARK SHEET'!L83","v":0},{"$f":"'FIN PAT MARK SHEET'!M83","v":0},{"$f":"'FIN PAT MARK SHEET'!N83","v":0},{"$f":"ROUND((SUMIF(P73:T73,\">0\")/2.777777777),0)","v":0},0,{"$f":"ROUND(V73,0)","v":0},{"$f":"IF(W73>79,\"7\",IF(W73>69,\"6\",IF(W73>59,\"5\",IF(W73>49,\"4\",IF(W73>39,\"3\",IF(W73>29,\"2\",IF(W73>0,\"1\",IF(W73=0,\"\"))))))))","v":""},null,{"$f":"COUNTIF(H73:U73,\">0\")","v":0},{"$f":"IF(Z73=0,\"X\",\"\")","v":"X"}]
[66,66,{"$f":"Insert!A68","v":0},{"$f":"Insert!B68","v":0},{"$f":"Insert!C68","v":0},{"$f":"Insert!D68","v":0},{"$f":"Insert!E68","v":0},{"$f":"TERM2!Z81","v":"0"},{"$f":"TERM2!AR81","v":"0"},{"$f":"TERM2!BJ81","v":"0"},{"$f":"TERM2!CB81","v":"0"},{"$f":"SUM(H74:K74)","v":0},{"$f":"TERM2!CC81","v":0},{"$f":"TERM2!CD81","v":0},{"$f":"SUM(M74:N74)","v":0},{"$f":"'FIN PAT MARK SHEET'!J84","v":0},{"$f":"'FIN PAT MARK SHEET'!K84","v":0},{"$f":"'FIN PAT MARK SHEET'!L84","v":0},{"$f":"'FIN PAT MARK SHEET'!M84","v":0},{"$f":"'FIN PAT MARK SHEET'!N84","v":0},0,0,0,"",null,0,"X"]
[67,67,{"$f":"Insert!A69","v":0},{"$f":"Insert!B69","v":0},{"$f":"Insert!C69","v":0},{"$f":"Insert!D69","v":0},{"$f":"Insert!E69","v":0},{"$f":"TERM2!Z82","v":"0"},{"$f":"TERM2!AR82","v":"0"},{"$f":"TERM2!BJ82","v":"0"},{"$f":"TERM2!CB82","v":"0"},0,{"$f":"TERM2!CC82","v":0},{"$f":"TERM2!CD82","v":0},0,{"$f":"'FIN PAT MARK SHEET'!J85","v":0},{"$f":"'FIN PAT MARK SHEET'!K85","v":0},{"$f":"'FIN PAT MARK SHEET'!L85","v":0},{"$f":"'FIN PAT MARK SHEET'!M85","v":0},{"$f":"'FIN PAT MARK SHEET'!N85","v":0},0,0,0,"",null,0,"X"]
[68,68,{"$f":"Insert!A70","v":0},{"$f":"Insert!B70","v":0},{"$f":"Insert!C70","v":0},{"$f":"Insert!D70","v":0},{"$f":"Insert!E70","v":0},{"$f":"TERM2!Z83","v":"0"},{"$f":"TERM2!AR83","v":"0"},{"$f":"TERM2!BJ83","v":"0"},{"$f":"TERM2!CB83","v":"0"},0,{"$f":"TERM2!CC83","v":0},{"$f":"TERM2!CD83","v":0},0,{"$f":"'FIN PAT MARK SHEET'!J86","v":0},{"$f":"'FIN PAT MARK SHEET'!K86","v":0},{"$f":"'FIN PAT MARK SHEET'!L86","v":0},{"$f":"'FIN PAT MARK SHEET'!M86","v":0},{"$f":"'FIN PAT MARK SHEET'!N86","v":0},0,0,0,"",null,0,"X"]
[69,69,{"$f":"Insert!A71","v":0},{"$f":"Insert!B71","v":0},{"$f":"Insert!C71","v":0},{"$f":"Insert!D71","v":0},{"$f":"Insert!E71","v":0},{"$f":"TERM2!Z84","v":"0"},{"$f":"TERM2!AR84","v":"0"},{"$f":"TERM2!BJ84","v":"0"},{"$f":"TERM2!CB84","v":"0"},0,{"$f":"TERM2!CC84","v":0},{"$f":"TERM2!CD84","v":0},0,{"$f":"'FIN PAT MARK SHEET'!J87","v":0},{"$f":"'FIN PAT MARK SHEET'!K87","v":0},{"$f":"'FIN PAT MARK SHEET'!L87","v":0},{"$f":"'FIN PAT MARK SHEET'!M87","v":0},{"$f":"'FIN PAT MARK SHEET'!N87","v":0},0,0,0,"",null,0,"X"]
[70,70,{"$f":"Insert!A72","v":0},{"$f":"Insert!B72","v":0},{"$f":"Insert!C72","v":0},{"$f":"Insert!D72","v":0},{"$f":"Insert!E72","v":0},{"$f":"TERM2!Z85","v":"0"},{"$f":"TERM2!AR85","v":"0"},{"$f":"TERM2!BJ85","v":"0"},{"$f":"TERM2!CB85","v":"0"},0,{"$f":"TERM2!CC85","v":0},{"$f":"TERM2!CD85","v":0},0,{"$f":"'FIN PAT MARK SHEET'!J88","v":0},{"$f":"'FIN PAT MARK SHEET'!K88","v":0},{"$f":"'FIN PAT MARK SHEET'!L88","v":0},{"$f":"'FIN PAT MARK SHEET'!M88","v":0},{"$f":"'FIN PAT MARK SHEET'!N88","v":0},0,0,0,"",null,0,"X"]
[71,71,{"$f":"Insert!A73","v":0},{"$f":"Insert!B73","v":0},{"$f":"Insert!C73","v":0},{"$f":"Insert!D73","v":0},{"$f":"Insert!E73","v":0},{"$f":"TERM2!Z86","v":"0"},{"$f":"TERM2!AR86","v":"0"},{"$f":"TERM2!BJ86","v":"0"},{"$f":"TERM2!CB86","v":"0"},0,{"$f":"TERM2!CC86","v":0},{"$f":"TERM2!CD86","v":0},0,{"$f":"'FIN PAT MARK SHEET'!J89","v":0},{"$f":"'FIN PAT MARK SHEET'!K89","v":0},{"$f":"'FIN PAT MARK SHEET'!L89","v":0},{"$f":"'FIN PAT MARK SHEET'!M89","v":0},{"$f":"'FIN PAT MARK SHEET'!N89","v":0},0,0,0,"",null,0,"X"]
[72,72,{"$f":"Insert!A74","v":0},{"$f":"Insert!B74","v":0},{"$f":"Insert!C74","v":0},{"$f":"Insert!D74","v":0},{"$f":"Insert!E74","v":0},{"$f":"TERM2!Z87","v":"0"},{"$f":"TERM2!AR87","v":"0"},{"$f":"TERM2!BJ87","v":"0"},{"$f":"TERM2!CB87","v":"0"},0,{"$f":"TERM2!CC87","v":0},{"$f":"TERM2!CD87","v":0},0,{"$f":"'FIN PAT MARK SHEET'!J90","v":0},{"$f":"'FIN PAT MARK SHEET'!K90","v":0},{"$f":"'FIN PAT MARK SHEET'!L90","v":0},{"$f":"'FIN PAT MARK SHEET'!M90","v":0},{"$f":"'FIN PAT MARK SHEET'!N90","v":0},0,0,0,"",null,0,"X"]
[73,73,{"$f":"Insert!A75","v":0},{"$f":"Insert!B75","v":0},{"$f":"Insert!C75","v":0},{"$f":"Insert!D75","v":0},{"$f":"Insert!E75","v":0},{"$f":"TERM2!Z88","v":"0"},{"$f":"TERM2!AR88","v":"0"},{"$f":"TERM2!BJ88","v":"0"},{"$f":"TERM2!CB88","v":"0"},0,{"$f":"TERM2!CC88","v":0},{"$f":"TERM2!CD88","v":0},0,{"$f":"'FIN PAT MARK SHEET'!J91","v":0},{"$f":"'FIN PAT MARK SHEET'!K91","v":0},{"$f":"'FIN PAT MARK SHEET'!L91","v":0},{"$f":"'FIN PAT MARK SHEET'!M91","v":0},{"$f":"'FIN PAT MARK SHEET'!N91","v":0},0,0,0,"",null,0,"X"]
[74,74,{"$f":"Insert!A76","v":0},{"$f":"Insert!B76","v":0},{"$f":"Insert!C76","v":0},{"$f":"Insert!D76","v":0},{"$f":"Insert!E76","v":0},{"$f":"TERM2!Z89","v":"0"},{"$f":"TERM2!AR89","v":"0"},{"$f":"TERM2!BJ89","v":"0"},{"$f":"TERM2!CB89","v":"0"},0,{"$f":"TERM2!CC89","v":0},{"$f":"TERM2!CD89","v":0},0,{"$f":"'FIN PAT MARK SHEET'!J92","v":0},{"$f":"'FIN PAT MARK SHEET'!K92","v":0},{"$f":"'FIN PAT MARK SHEET'!L92","v":0},{"$f":"'FIN PAT MARK SHEET'!M92","v":0},{"$f":"'FIN PAT MARK SHEET'!N92","v":0},0,0,0,"",null,0,"X"]
[75,75,{"$f":"Insert!A77","v":0},{"$f":"Insert!B77","v":0},{"$f":"Insert!C77","v":0},{"$f":"Insert!D77","v":0},{"$f":"Insert!E77","v":0},{"$f":"TERM2!Z90","v":"0"},{"$f":"TERM2!AR90","v":"0"},{"$f":"TERM2!BJ90","v":"0"},{"$f":"TERM2!CB90","v":"0"},0,{"$f":"TERM2!CC90","v":0},{"$f":"TERM2!CD90","v":0},0,{"$f":"'FIN PAT MARK SHEET'!J93","v":0},{"$f":"'FIN PAT MARK SHEET'!K93","v":0},{"$f":"'FIN PAT MARK SHEET'!L93","v":0},{"$f":"'FIN PAT MARK SHEET'!M93","v":0},{"$f":"'FIN PAT MARK SHEET'!N93","v":0},0,0,0,"",null,0,"X"]
[76,76,{"$f":"Insert!A78","v":0},{"$f":"Insert!B78","v":0},{"$f":"Insert!C78","v":0},{"$f":"Insert!D78","v":0},{"$f":"Insert!E78","v":0},{"$f":"TERM2!Z91","v":"0"},{"$f":"TERM2!AR91","v":"0"},{"$f":"TERM2!BJ91","v":"0"},{"$f":"TERM2!CB91","v":"0"},0,{"$f":"TERM2!CC91","v":0},{"$f":"TERM2!CD91","v":0},0,{"$f":"'FIN PAT MARK SHEET'!J94","v":0},{"$f":"'FIN PAT MARK SHEET'!K94","v":0},{"$f":"'FIN PAT MARK SHEET'!L94","v":0},{"$f":"'FIN PAT MARK SHEET'!M94","v":0},{"$f":"'FIN PAT MARK SHEET'!N94","v":0},0,0,0,"",null,0,"X"]
[77,77,{"$f":"Insert!A79","v":0},{"$f":"Insert!B79","v":0},{"$f":"Insert!C79","v":0},{"$f":"Insert!D79","v":0},{"$f":"Insert!E79","v":0},{"$f":"TERM2!Z92","v":"0"},{"$f":"TERM2!AR92","v":"0"},{"$f":"TERM2!BJ92","v":"0"},{"$f":"TERM2!CB92","v":"0"},0,{"$f":"TERM2!CC92","v":0},{"$f":"TERM2!CD92","v":0},0,{"$f":"'FIN PAT MARK SHEET'!J95","v":0},{"$f":"'FIN PAT MARK SHEET'!K95","v":0},{"$f":"'FIN PAT MARK SHEET'!L95","v":0},{"$f":"'FIN PAT MARK SHEET'!M95","v":0},{"$f":"'FIN PAT MARK SHEET'!N95","v":0},0,0,0,"",null,0,"X"]
[78,78,{"$f":"Insert!A80","v":0},{"$f":"Insert!B80","v":0},{"$f":"Insert!C80","v":0},{"$f":"Insert!D80","v":0},{"$f":"Insert!E80","v":0},{"$f":"TERM2!Z93","v":"0"},{"$f":"TERM2!AR93","v":"0"},{"$f":"TERM2!BJ93","v":"0"},{"$f":"TERM2!CB93","v":"0"},0,{"$f":"TERM2!CC93","v":0},{"$f":"TERM2!CD93","v":0},0,{"$f":"'FIN PAT MARK SHEET'!J96","v":0},{"$f":"'FIN PAT MARK SHEET'!K96","v":0},{"$f":"'FIN PAT MARK SHEET'!L96","v":0},{"$f":"'FIN PAT MARK SHEET'!M96","v":0},{"$f":"'FIN PAT MARK SHEET'!N96","v":0},0,0,0,"",null,0,"X"]
[79,79,{"$f":"Insert!A81","v":0},{"$f":"Insert!B81","v":0},{"$f":"Insert!C81","v":0},{"$f":"Insert!D81","v":0},{"$f":"Insert!E81","v":0},{"$f":"TERM2!Z94","v":"0"},{"$f":"TERM2!AR94","v":"0"},{"$f":"TERM2!BJ94","v":"0"},{"$f":"TERM2!CB94","v":"0"},0,{"$f":"TERM2!CC94","v":0},{"$f":"TERM2!CD94","v":0},0,{"$f":"'FIN PAT MARK SHEET'!J97","v":0},{"$f":"'FIN PAT MARK SHEET'!K97","v":0},{"$f":"'FIN PAT MARK SHEET'!L97","v":0},{"$f":"'FIN PAT MARK SHEET'!M97","v":0},{"$f":"'FIN PAT MARK SHEET'!N97","v":0},0,0,0,"",null,0,"X"]
[80,80,{"$f":"Insert!A82","v":0},{"$f":"Insert!B82","v":0},{"$f":"Insert!C82","v":0},{"$f":"Insert!D82","v":0},{"$f":"Insert!E82","v":0},{"$f":"TERM2!Z95","v":"0"},{"$f":"TERM2!AR95","v":"0"},{"$f":"TERM2!BJ95","v":"0"},{"$f":"TERM2!CB95","v":"0"},0,{"$f":"TERM2!CC95","v":0},{"$f":"TERM2!CD95","v":0},0,{"$f":"'FIN PAT MARK SHEET'!J98","v":0},{"$f":"'FIN PAT MARK SHEET'!K98","v":0},{"$f":"'FIN PAT MARK SHEET'!L98","v":0},{"$f":"'FIN PAT MARK SHEET'!M98","v":0},{"$f":"'FIN PAT MARK SHEET'!N98","v":0},0,0,0,"",null,0,"X"]
[81,81,{"$f":"Insert!A83","v":0},{"$f":"Insert!B83","v":0},{"$f":"Insert!C83","v":0},{"$f":"Insert!D83","v":0},{"$f":"Insert!E83","v":0},{"$f":"TERM2!Z96","v":"0"},{"$f":"TERM2!AR96","v":"0"},{"$f":"TERM2!BJ96","v":"0"},{"$f":"TERM2!CB96","v":"0"},0,{"$f":"TERM2!CC96","v":0},{"$f":"TERM2!CD96","v":0},0,{"$f":"'FIN PAT MARK SHEET'!J99","v":0},{"$f":"'FIN PAT MARK SHEET'!K99","v":0},{"$f":"'FIN PAT MARK SHEET'!L99","v":0},{"$f":"'FIN PAT MARK SHEET'!M99","v":0},{"$f":"'FIN PAT MARK SHEET'!N99","v":0},0,0,0,"",null,0,"X"]
[82,82,{"$f":"Insert!A84","v":0},{"$f":"Insert!B84","v":0},{"$f":"Insert!C84","v":0},{"$f":"Insert!D84","v":0},{"$f":"Insert!E84","v":0},{"$f":"TERM2!Z97","v":"0"},{"$f":"TERM2!AR97","v":"0"},{"$f":"TERM2!BJ97","v":"0"},{"$f":"TERM2!CB97","v":"0"},0,{"$f":"TERM2!CC97","v":0},{"$f":"TERM2!CD97","v":0},0,{"$f":"'FIN PAT MARK SHEET'!J100","v":0},{"$f":"'FIN PAT MARK SHEET'!K100","v":0},{"$f":"'FIN PAT MARK SHEET'!L100","v":0},{"$f":"'FIN PAT MARK SHEET'!M100","v":0},{"$f":"'FIN PAT MARK SHEET'!N100","v":0},0,0,0,"",null,0,"X"]
[83,83,{"$f":"Insert!A85","v":0},{"$f":"Insert!B85","v":0},{"$f":"Insert!C85","v":0},{"$f":"Insert!D85","v":0},{"$f":"Insert!E85","v":0},{"$f":"TERM2!Z98","v":"0"},{"$f":"TERM2!AR98","v":"0"},{"$f":"TERM2!BJ98","v":"0"},{"$f":"TERM2!CB98","v":"0"},0,{"$f":"TERM2!CC98","v":0},{"$f":"TERM2!CD98","v":0},0,{"$f":"'FIN PAT MARK SHEET'!J101","v":0},{"$f":"'FIN PAT MARK SHEET'!K101","v":0},{"$f":"'FIN PAT MARK SHEET'!L101","v":0},{"$f":"'FIN PAT MARK SHEET'!M101","v":0},{"$f":"'FIN PAT MARK SHEET'!N101","v":0},0,0,0,"",null,0,"X"]
[84,84,{"$f":"Insert!A86","v":0},{"$f":"Insert!B86","v":0},{"$f":"Insert!C86","v":0},{"$f":"Insert!D86","v":0},{"$f":"Insert!E86","v":0},{"$f":"TERM2!Z99","v":"0"},{"$f":"TERM2!AR99","v":"0"},{"$f":"TERM2!BJ99","v":"0"},{"$f":"TERM2!CB99","v":"0"},0,{"$f":"TERM2!CC99","v":0},{"$f":"TERM2!CD99","v":0},0,{"$f":"'FIN PAT MARK SHEET'!J102","v":0},{"$f":"'FIN PAT MARK SHEET'!K102","v":0},{"$f":"'FIN PAT MARK SHEET'!L102","v":0},{"$f":"'FIN PAT MARK SHEET'!M102","v":0},{"$f":"'FIN PAT MARK SHEET'!N102","v":0},0,0,0,"",null,0,"X"]
[85,85,{"$f":"Insert!A87","v":0},{"$f":"Insert!B87","v":0},{"$f":"Insert!C87","v":0},{"$f":"Insert!D87","v":0},{"$f":"Insert!E87","v":0},{"$f":"TERM2!Z100","v":"0"},{"$f":"TERM2!AR100","v":"0"},{"$f":"TERM2!BJ100","v":"0"},{"$f":"TERM2!CB100","v":"0"},0,{"$f":"TERM2!CC100","v":0},{"$f":"TERM2!CD100","v":0},0,{"$f":"'FIN PAT MARK SHEET'!J103","v":0},{"$f":"'FIN PAT MARK SHEET'!K103","v":0},{"$f":"'FIN PAT MARK SHEET'!L103","v":0},{"$f":"'FIN PAT MARK SHEET'!M103","v":0},{"$f":"'FIN PAT MARK SHEET'!N103","v":0},0,0,0,"",null,0,"X"]
[86,86,{"$f":"Insert!A88","v":0},{"$f":"Insert!B88","v":0},{"$f":"Insert!C88","v":0},{"$f":"Insert!D88","v":0},{"$f":"Insert!E88","v":0},{"$f":"TERM2!Z101","v":"0"},{"$f":"TERM2!AR101","v":"0"},{"$f":"TERM2!BJ101","v":"0"},{"$f":"TERM2!CB101","v":"0"},0,{"$f":"TERM2!CC101","v":0},{"$f":"TERM2!CD101","v":0},0,{"$f":"'FIN PAT MARK SHEET'!J104","v":0},{"$f":"'FIN PAT MARK SHEET'!K104","v":0},{"$f":"'FIN PAT MARK SHEET'!L104","v":0},{"$f":"'FIN PAT MARK SHEET'!M104","v":0},{"$f":"'FIN PAT MARK SHEET'!N104","v":0},0,0,0,"",null,0,"X"]
[87,87,{"$f":"Insert!A89","v":0},{"$f":"Insert!B89","v":0},{"$f":"Insert!C89","v":0},{"$f":"Insert!D89","v":0},{"$f":"Insert!E89","v":0},{"$f":"TERM2!Z102","v":"0"},{"$f":"TERM2!AR102","v":"0"},{"$f":"TERM2!BJ102","v":"0"},{"$f":"TERM2!CB102","v":"0"},0,{"$f":"TERM2!CC102","v":0},{"$f":"TERM2!CD102","v":0},0,{"$f":"'FIN PAT MARK SHEET'!J105","v":0},{"$f":"'FIN PAT MARK SHEET'!K105","v":0},{"$f":"'FIN PAT MARK SHEET'!L105","v":0},{"$f":"'FIN PAT MARK SHEET'!M105","v":0},{"$f":"'FIN PAT MARK SHEET'!N105","v":0},0,0,0,"",null,0,"X"]
[88,88,{"$f":"Insert!A90","v":0},{"$f":"Insert!B90","v":0},{"$f":"Insert!C90","v":0},{"$f":"Insert!D90","v":0},{"$f":"Insert!E90","v":0},{"$f":"TERM2!Z103","v":"0"},{"$f":"TERM2!AR103","v":"0"},{"$f":"TERM2!BJ103","v":"0"},{"$f":"TERM2!CB103","v":"0"},0,{"$f":"TERM2!CC103","v":0},{"$f":"TERM2!CD103","v":0},0,{"$f":"'FIN PAT MARK SHEET'!J106","v":0},{"$f":"'FIN PAT MARK SHEET'!K106","v":0},{"$f":"'FIN PAT MARK SHEET'!L106","v":0},{"$f":"'FIN PAT MARK SHEET'!M106","v":0},{"$f":"'FIN PAT MARK SHEET'!N106","v":0},0,0,0,"",null,0,"X"]
[89,89,{"$f":"Insert!A91","v":0},{"$f":"Insert!B91","v":0},{"$f":"Insert!C91","v":0},{"$f":"Insert!D91","v":0},{"$f":"Insert!E91","v":0},{"$f":"TERM2!Z104","v":"0"},{"$f":"TERM2!AR104","v":"0"},{"$f":"TERM2!BJ104","v":"0"},{"$f":"TERM2!CB104","v":"0"},0,{"$f":"TERM2!CC104","v":0},{"$f":"TERM2!CD104","v":0},0,{"$f":"'FIN PAT MARK SHEET'!J107","v":0},{"$f":"'FIN PAT MARK SHEET'!K107","v":0},{"$f":"'FIN PAT MARK SHEET'!L107","v":0},{"$f":"'FIN PAT MARK SHEET'!M107","v":0},{"$f":"'FIN PAT MARK SHEET'!N107","v":0},0,0,0,"",null,0,"X"]
[90,90,{"$f":"Insert!A92","v":0},{"$f":"Insert!B92","v":0},{"$f":"Insert!C92","v":0},{"$f":"Insert!D92","v":0},{"$f":"Insert!E92","v":0},{"$f":"TERM2!Z105","v":"0"},{"$f":"TERM2!AR105","v":"0"},{"$f":"TERM2!BJ105","v":"0"},{"$f":"TERM2!CB105","v":"0"},0,{"$f":"TERM2!CC105","v":0},{"$f":"TERM2!CD105","v":0},0,{"$f":"'FIN PAT MARK SHEET'!J108","v":0},{"$f":"'FIN PAT MARK SHEET'!K108","v":0},{"$f":"'FIN PAT MARK SHEET'!L108","v":0},{"$f":"'FIN PAT MARK SHEET'!M108","v":0},{"$f":"'FIN PAT MARK SHEET'!N108","v":0},0,0,0,"",null,0,"X"]
[91,91,{"$f":"Insert!A93","v":0},{"$f":"Insert!B93","v":0},{"$f":"Insert!C93","v":0},{"$f":"Insert!D93","v":0},{"$f":"Insert!E93","v":0},{"$f":"TERM2!Z106","v":"0"},{"$f":"TERM2!AR106","v":"0"},{"$f":"TERM2!BJ106","v":"0"},{"$f":"TERM2!CB106","v":"0"},0,{"$f":"TERM2!CC106","v":0},{"$f":"TERM2!CD106","v":0},0,{"$f":"'FIN PAT MARK SHEET'!J109","v":0},{"$f":"'FIN PAT MARK SHEET'!K109","v":0},{"$f":"'FIN PAT MARK SHEET'!L109","v":0},{"$f":"'FIN PAT MARK SHEET'!M109","v":0},{"$f":"'FIN PAT MARK SHEET'!N109","v":0},0,0,0,"",null,0,"X"]
[92,92,{"$f":"Insert!A94","v":0},{"$f":"Insert!B94","v":0},{"$f":"Insert!C94","v":0},{"$f":"Insert!D94","v":0},{"$f":"Insert!E94","v":0},{"$f":"TERM2!Z107","v":"0"},{"$f":"TERM2!AR107","v":"0"},{"$f":"TERM2!BJ107","v":"0"},{"$f":"TERM2!CB107","v":"0"},0,{"$f":"TERM2!CC107","v":0},{"$f":"TERM2!CD107","v":0},0,{"$f":"'FIN PAT MARK SHEET'!J110","v":0},{"$f":"'FIN PAT MARK SHEET'!K110","v":0},{"$f":"'FIN PAT MARK SHEET'!L110","v":0},{"$f":"'FIN PAT MARK SHEET'!M110","v":0},{"$f":"'FIN PAT MARK SHEET'!N110","v":0},0,0,0,"",null,0,"X"]
[93,93,{"$f":"Insert!A95","v":0},{"$f":"Insert!B95","v":0},{"$f":"Insert!C95","v":0},{"$f":"Insert!D95","v":0},{"$f":"Insert!E95","v":0},{"$f":"TERM2!Z108","v":"0"},{"$f":"TERM2!AR108","v":"0"},{"$f":"TERM2!BJ108","v":"0"},{"$f":"TERM2!CB108","v":"0"},0,{"$f":"TERM2!CC108","v":0},{"$f":"TERM2!CD108","v":0},0,{"$f":"'FIN PAT MARK SHEET'!J111","v":0},{"$f":"'FIN PAT MARK SHEET'!K111","v":0},{"$f":"'FIN PAT MARK SHEET'!L111","v":0},{"$f":"'FIN PAT MARK SHEET'!M111","v":0},{"$f":"'FIN PAT MARK SHEET'!N111","v":0},0,0,0,"",null,0,"X"]
[94,94,{"$f":"Insert!A96","v":0},{"$f":"Insert!B96","v":0},{"$f":"Insert!C96","v":0},{"$f":"Insert!D96","v":0},{"$f":"Insert!E96","v":0},{"$f":"TERM2!Z109","v":"0"},{"$f":"TERM2!AR109","v":"0"},{"$f":"TERM2!BJ109","v":"0"},{"$f":"TERM2!CB109","v":"0"},0,{"$f":"TERM2!CC109","v":0},{"$f":"TERM2!CD109","v":0},0,{"$f":"'FIN PAT MARK SHEET'!J112","v":0},{"$f":"'FIN PAT MARK SHEET'!K112","v":0},{"$f":"'FIN PAT MARK SHEET'!L112","v":0},{"$f":"'FIN PAT MARK SHEET'!M112","v":0},{"$f":"'FIN PAT MARK SHEET'!N112","v":0},0,0,0,"",null,0,"X"]
[95,95,{"$f":"Insert!A97","v":0},{"$f":"Insert!B97","v":0},{"$f":"Insert!C97","v":0},{"$f":"Insert!D97","v":0},{"$f":"Insert!E97","v":0},{"$f":"TERM2!Z110","v":"0"},{"$f":"TERM2!AR110","v":"0"},{"$f":"TERM2!BJ110","v":"0"},{"$f":"TERM2!CB110","v":"0"},0,{"$f":"TERM2!CC110","v":0},{"$f":"TERM2!CD110","v":0},0,{"$f":"'FIN PAT MARK SHEET'!J113","v":0},{"$f":"'FIN PAT MARK SHEET'!K113","v":0},{"$f":"'FIN PAT MARK SHEET'!L113","v":0},{"$f":"'FIN PAT MARK SHEET'!M113","v":0},{"$f":"'FIN PAT MARK SHEET'!N113","v":0},0,0,0,"",null,0,"X"]
[96,96,{"$f":"Insert!A98","v":0},{"$f":"Insert!B98","v":0},{"$f":"Insert!C98","v":0},{"$f":"Insert!D98","v":0},{"$f":"Insert!E98","v":0},{"$f":"TERM2!Z111","v":"0"},{"$f":"TERM2!AR111","v":"0"},{"$f":"TERM2!BJ111","v":"0"},{"$f":"TERM2!CB111","v":"0"},0,{"$f":"TERM2!CC111","v":0},{"$f":"TERM2!CD111","v":0},0,{"$f":"'FIN PAT MARK SHEET'!J114","v":0},{"$f":"'FIN PAT MARK SHEET'!K114","v":0},{"$f":"'FIN PAT MARK SHEET'!L114","v":0},{"$f":"'FIN PAT MARK SHEET'!M114","v":0},{"$f":"'FIN PAT MARK SHEET'!N114","v":0},0,0,0,"",null,0,"X"]
[97,97,{"$f":"Insert!A99","v":0},{"$f":"Insert!B99","v":0},{"$f":"Insert!C99","v":0},{"$f":"Insert!D99","v":0},{"$f":"Insert!E99","v":0},{"$f":"TERM2!Z112","v":"0"},{"$f":"TERM2!AR112","v":"0"},{"$f":"TERM2!BJ112","v":"0"},{"$f":"TERM2!CB112","v":"0"},0,{"$f":"TERM2!CC112","v":0},{"$f":"TERM2!CD112","v":0},0,{"$f":"'FIN PAT MARK SHEET'!J115","v":0},{"$f":"'FIN PAT MARK SHEET'!K115","v":0},{"$f":"'FIN PAT MARK SHEET'!L115","v":0},{"$f":"'FIN PAT MARK SHEET'!M115","v":0},{"$f":"'FIN PAT MARK SHEET'!N115","v":0},{"$f":"ROUND((SUMIF(P105:T105,\">0\")/2.777777777),0)","v":0},0,{"$f":"ROUND(V105,0)","v":0},{"$f":"IF(W105>79,\"7\",IF(W105>69,\"6\",IF(W105>59,\"5\",IF(W105>49,\"4\",IF(W105>39,\"3\",IF(W105>29,\"2\",IF(W105>0,\"1\",IF(W105=0,\"\"))))))))","v":""},null,0,"X"]
[98,98,{"$f":"Insert!A100","v":0},{"$f":"Insert!B100","v":0},{"$f":"Insert!C100","v":0},{"$f":"Insert!D100","v":0},{"$f":"Insert!E100","v":0},{"$f":"TERM2!Z113","v":"0"},{"$f":"TERM2!AR113","v":"0"},{"$f":"TERM2!BJ113","v":"0"},{"$f":"TERM2!CB113","v":"0"},0,{"$f":"TERM2!CC113","v":0},{"$f":"TERM2!CD113","v":0},0,{"$f":"'FIN PAT MARK SHEET'!J116","v":0},{"$f":"'FIN PAT MARK SHEET'!K116","v":0},{"$f":"'FIN PAT MARK SHEET'!L116","v":0},{"$f":"'FIN PAT MARK SHEET'!M116","v":0},{"$f":"'FIN PAT MARK SHEET'!N116","v":0},0,0,0,"",null,0,"X"]
[99,99,{"$f":"Insert!A101","v":0},{"$f":"Insert!B101","v":0},{"$f":"Insert!C101","v":0},{"$f":"Insert!D101","v":0},{"$f":"Insert!E101","v":0},{"$f":"TERM2!Z114","v":"0"},{"$f":"TERM2!AR114","v":"0"},{"$f":"TERM2!BJ114","v":"0"},{"$f":"TERM2!CB114","v":"0"},0,{"$f":"TERM2!CC114","v":0},{"$f":"TERM2!CD114","v":0},0,{"$f":"'FIN PAT MARK SHEET'!J117","v":0},{"$f":"'FIN PAT MARK SHEET'!K117","v":0},{"$f":"'FIN PAT MARK SHEET'!L117","v":0},{"$f":"'FIN PAT MARK SHEET'!M117","v":0},{"$f":"'FIN PAT MARK SHEET'!N117","v":0},0,0,0,"",null,0,"X"]
[100,100,{"$f":"Insert!A102","v":0},{"$f":"Insert!B102","v":0},{"$f":"Insert!C102","v":0},{"$f":"Insert!D102","v":0},{"$f":"Insert!E102","v":0},{"$f":"TERM2!Z115","v":"0"},{"$f":"TERM2!AR115","v":"0"},{"$f":"TERM2!BJ115","v":"0"},{"$f":"TERM2!CB115","v":"0"},0,{"$f":"TERM2!CC115","v":0},{"$f":"TERM2!CD115","v":0},0,{"$f":"'FIN PAT MARK SHEET'!J118","v":0},{"$f":"'FIN PAT MARK SHEET'!K118","v":0},{"$f":"'FIN PAT MARK SHEET'!L118","v":0},{"$f":"'FIN PAT MARK SHEET'!M118","v":0},{"$f":"'FIN PAT MARK SHEET'!N118","v":0},0,{"$f":"SUM(O108/2.4)+(L108/1.6)","v":0},0,"",null,0,"X"]
[null,null,{"$f":"TERM1!#REF!","v":{"$error":"#REF!"}},{"$f":"TERM1!#REF!","v":{"$error":"#REF!"}},{"$f":"TERM1!#REF!","v":{"$error":"#REF!"}},{"$f":"TERM1!G115","v":0},"Total",{"$f":"SUMIF(H8:H107,\">0\")","v":0},{"$f":"SUMIF(I8:I107,\">0\")","v":0},0,0,{"$f":"SUM(I9:I108)","v":0},{"$f":"SUM(J9:J108)","v":0},{"$f":"SUM(K9:K108)","v":0},{"$f":"SUM(L8:L107)","v":0},{"$f":"SUM(P9:P108)","v":0},{"$f":"SUM(Q9:Q108)","v":0},0,0,0,{"$f":"SUM(U9:U108)","v":0},0,{"$f":"SUM(W9:W108)","v":0},0]
[null,null,null,null,"X",null,"Average%",{"$f":"IFERROR((AVERAGEIF(H9:H108,\">0\")/H4*100),\"0\")","v":"0"},{"$f":"IFERROR((AVERAGEIF(I9:I108,\">0\")/I4*100),\"0\")","v":"0"},"0","0","0","0","0","0","0","0","0","0","0",{"$f":"IFERROR((AVERAGEIF(U9:U108,\">0\")/U4*100),\"0\")","v":"0"},{"$f":"IFERROR((AVERAGEIF(V9:V108,\">0\")/V7*100),\"0\")","v":"0"},{"$f":"IFERROR((AVERAGEIF(W9:W108,\">0\")/W7*100),\"0\")","v":"0"},"0"]
[null,"Total amount of learners on mark sheet",null,null,"X","Term results analysis",null,"LEVEL 1","LEVEL 2","LEVEL 3","LEVEL 4","LEVEL 5","LEVEL 6","LEVEL 7","TOTAL"]
[null,null,null,null,{"$f":"Insert!$F$103","v":0},null,null," 0 - 29 "," 30 - 39 "," 40 - 49 "," 50 - 59 "," 60 - 69 "," 70 - 79 ","80 - 100"]
[null,null,null,null,"X",null,null,{"$f":"COUNTIF(X9:X108,1)","v":0},{"$f":"COUNTIF($X$9:$X$108,2)","v":0},{"$f":"COUNTIF($X$9:$X$108,3)","v":0},{"$f":"COUNTIF($X$9:$X$108,4)","v":0},{"$f":"COUNTIF($X$9:$X$108,5)","v":0},{"$f":"COUNTIF($X$9:$X$108,6)","v":0},{"$f":"COUNTIF($X$9:$X$108,7)","v":0},{"$f":"SUM(H113:N113)","v":0}]

{"sheet":"SASAMS Term3","index":8,"n_rows":113,"n_cols":40,"rows_kept":113,"cut":false,"hidden":false,"merged":[[110,1,112,3],[0,33,2,35],[3,33,5,33],[3,34,5,34],[3,35,5,35],[110,5,112,6],[0,0,0,5],[1,0,1,2],[2,0,2,6],[0,37,7,37],[0,38,7,38],[3,0,3,5],[4,0,4,6],[5,0,5,4]]}
["    Engineering Graphics and Design (Gr 12)\n    Term 3 : ",null,null,null,null,null,"TASKS",null,null,null,null,null,"TASK 3",null,null,"TASK 4",null,null,null,null,null,null,"TASK PAT (Phase 2)",null,null,"TASK PAT (Phase 3)",null,null,null,null,null,null,"TASK PAT (Q&M)",null,null,null,null,"Helper Count Course drawings","show X or not"]
["Grade :",null,null,{"$f":"TERM1!$F$6","v":0},null,null,"Activities",{"$f":"TERM3!$I$4","v":"CD11 2nd Interpenetration & Development (Including a cilinder(s)"},{"$f":"TERM3!$AA$4","v":"CD12 Loci: Cam"},{"$f":"TERM3!$AS$4","v":"CD13 Loci: 1st Mechanism"},{"$f":"TERM3!$BK$4","v":"CD14 Loci: 2nd Mechanism"},{"$f":"TERM3!$CC$4","v":"CD15 3rd Mechanical Drawings"},null,"Paper 1","Paper 2",null,"Drawing paper layout","Presentation Drawing","Presentation drawing 1","Presentation drawing 2","Presentation Drawing 3D","Presentation Drawing 3D",null,"6\nContinuous evaluation","7\nFinal presentation & bibliografie",null,"Freehand Method","Freehand Quality","Instrument Method","Instrument Quality","CAD Method","CAD Quality",null,"100"]
["Weighting ",null,null,null,null,null,null,20,20,20,20,20,25,50,50,75,16,16,17,17,17,17,0,50,50,0,25,25,25,25,0,0,0]
[" Marks: -1 = Absent,  -2 = Not Captured",null,null,null,null,null,"Total Mark",10,10,10,10,10,{"$f":"SUM(H4:L4)","v":50},100,100,{"$f":"SUM(N4:O4)","v":200},10,10,10,10,10,10,{"$f":"ROUND((SUM(Q4:V4)/1.2),0)","v":50},10,10,7,10,10,10,10,10,10,25,"TOTAL Weighted Mark","Term\n%","Level"]
["SBA Year Mark Weight ",null,null,null,null,null,null,null,null,null,null,null,"10",null,null,45]
[null,null,null,null,null,null,"Term \n /Date ",null,null,null,null,null,"Term3",null,null,"Term3",null,null,null,null,null,null,"Term3",null,null,"Term3",null,null,null,null,null,null,"Term3"]
["No","No","Class","Acc No","Learner",null,"Gender","T1:A1","T1:A2","T1:A3","T1:A4","T1:A5","T1","T3:A1","T3:A2","T3","T2:A1","T2:A2","T2:A3","T2:A4","T2:A5","T2:A6","T2","T4:A1","T4:A2","T4","T5:A1","T5:A2","T5:A3","T5:A4","T5:A5","T5:A6","T5",100,100]
[]
[1,1,{"$f":"Insert!A3","v":0},{"$f":"Insert!B3","v":0},{"$f":"Insert!C3","v":0},{"$f":"Insert!D3","v":0},{"$f":"Insert!E3","v":0},{"$f":"TERM3!Z16","v":"0"},{"$f":"TERM3!AR16","v":"0"},{"$f":"TERM3!BJ16","v":"0"},{"$f":"TERM3!CB16","v":"0"},{"$f":"TERM3!CT16","v":"0"},{"$f":"SUMIF(H9:L9,\">0\")","v":0},{"$f":"TERM3!CU16","v":0},{"$f":"TERM3!CV16","v":0},{"$f":"SUMIF(N9:O9,\">0\")","v":0},{"$f":"'FIN PAT MARK SHEET'!P18","v":0},{"$f":"'FIN PAT MARK SHEET'!Q18","v":0},{"$f":"'FIN PAT MARK SHEET'!R18","v":0},{"$f":"'FIN PAT MARK SHEET'!S18","v":0},{"$f":"'FIN PAT MARK SHEET'!T18","v":0},{"$f":"'FIN PAT MARK SHEET'!U18","v":0},{"$f":"ROUND((SUMIF(Q9:V9,\">0\")/1.2),0)","v":0},{"$f":"'FIN PAT MARK SHEET'!W18","v":0},{"$f":"'FIN PAT MARK SHEET'!X18","v":0},{"$f":"ROUND((SUMIF(X9:Y9,\">0\")/2.857142857),0)","v":0},{"$f":"'FIN PAT MARK SHEET'!Z18","v":0},{"$f":"'FIN PAT MARK SHEET'!AA18","v":0},{"$f":"'FIN PAT MARK SHEET'!AB18","v":0},{"$f":"'FIN PAT MARK SHEET'!AC18","v":0},{"$f":"'FIN PAT MARK SHEET'!AD18","v":0},{"$f":"'FIN PAT MARK SHEET'!AE18","v":0},{"$f":"IF(AN9=4,SUM(AM9)/1.6,IF(AN9=6,SUM(AM9)/2.4,SUM(AM9)))","v":0},{"$f":"ROUND((SUM(M9/2)+(P9/2.6666666666)),2)","v":0},{"$f":"ROUND((AH9),0)","v":0},{"$f":"IF(AI9>79,\"7\",IF(AI9>69,\"6\",IF(AI9>59,\"5\",IF(AI9>49,\"4\",IF(AI9>39,\"3\",IF(AI9>29,\"2\",IF(AI9>0,\"1\",IF(AI9=0,\"\"))))))))","v":""},null,{"$f":"COUNTIF(H9:AF9,\">0\")","v":0},{"$f":"IF(AL9=0,\"X\",\"\")","v":"X"},{"$f":"COUNTIF(AA9:AF9,\">0\")","v":0}]
[2,2,{"$f":"Insert!A4","v":0},{"$f":"Insert!B4","v":0},{"$f":"Insert!C4","v":0},{"$f":"Insert!D4","v":0},{"$f":"Insert!E4","v":0},{"$f":"TERM3!Z17","v":"0"},{"$f":"TERM3!AR17","v":"0"},{"$f":"TERM3!BJ17","v":"0"},{"$f":"TERM3!CB17","v":"0"},{"$f":"TERM3!CT17","v":"0"},0,{"$f":"TERM3!CU17","v":0},{"$f":"TERM3!CV17","v":0},{"$f":"SUMIF(N10:O10,\">0\")","v":0},{"$f":"'FIN PAT MARK SHEET'!P19","v":0},{"$f":"'FIN PAT MARK SHEET'!Q19","v":0},{"$f":"'FIN PAT MARK SHEET'!R19","v":0},{"$f":"'FIN PAT MARK SHEET'!S19","v":0},{"$f":"'FIN PAT MARK SHEET'!T19","v":0},{"$f":"'FIN PAT MARK SHEET'!U19","v":0},0,{"$f":"'FIN PAT MARK SHEET'!W19","v":0},{"$f":"'FIN PAT MARK SHEET'!X19","v":0},0,{"$f":"'FIN PAT MARK SHEET'!Z19","v":0},{"$f":"'FIN PAT MARK SHEET'!AA19","v":0},{"$f":"'FIN PAT MARK SHEET'!AB19","v":0},{"$f":"'FIN PAT MARK SHEET'!AC19","v":0},{"$f":"'FIN PAT MARK SHEET'!AD19","v":0},{"$f":"'FIN PAT MARK SHEET'!AE19","v":0},0,{"$f":"ROUND((SUM(M10/2)+(P10/2.6666666666)),2)","v":0},0,"",null,0,"X",0]
[3,3,{"$f":"Insert!A5","v":0},{"$f":"Insert!B5","v":0},{"$f":"Insert!C5","v":0},{"$f":"Insert!D5","v":0},{"$f":"Insert!E5","v":0},{"$f":"TERM3!Z18","v":"0"},{"$f":"TERM3!AR18","v":"0"},{"$f":"TERM3!BJ18","v":"0"},{"$f":"TERM3!CB18","v":"0"},{"$f":"TERM3!CT18","v":"0"},0,{"$f":"TERM3!CU18","v":0},{"$f":"TERM3!CV18","v":0},0,{"$f":"'FIN PAT MARK SHEET'!P20","v":0},{"$f":"'FIN PAT MARK SHEET'!Q20","v":0},{"$f":"'FIN PAT MARK SHEET'!R20","v":0},{"$f":"'FIN PAT MARK SHEET'!S20","v":0},{"$f":"'FIN PAT MARK SHEET'!T20","v":0},{"$f":"'FIN PAT MARK SHEET'!U20","v":0},0,{"$f":"'FIN PAT MARK SHEET'!W20","v":0},{"$f":"'FIN PAT MARK SHEET'!X20","v":0},0,{"$f":"'FIN PAT MARK SHEET'!Z20","v":0},{"$f":"'FIN PAT MARK SHEET'!AA20","v":0},{"$f":"'FIN PAT MARK SHEET'!AB20","v":0},{"$f":"'FIN PAT MARK SHEET'!AC20","v":0},{"$f":"'FIN PAT MARK SHEET'!AD20","v":0},{"$f":"'FIN PAT MARK SHEET'!AE20","v":0},0,0,0,"",null,0,"X",0]
[4,4,{"$f":"Insert!A6","v":0},{"$f":"Insert!B6","v":0},{"$f":"Insert!C6","v":0},{"$f":"Insert!D6","v":0},{"$f":"Insert!E6","v":0},{"$f":"TERM3!Z19","v":"0"},{"$f":"TERM3!AR19","v":"0"},{"$f":"TERM3!BJ19","v":"0"},{"$f":"TERM3!CB19","v":"0"},{"$f":"TERM3!CT19","v":"0"},0,{"$f":"TERM3!CU19","v":0},{"$f":"TERM3!CV19","v":0},0,{"$f":"'FIN PAT MARK SHEET'!P21","v":0},{"$f":"'FIN PAT MARK SHEET'!Q21","v":0},{"$f":"'FIN PAT MARK SHEET'!R21","v":0},{"$f":"'FIN PAT MARK SHEET'!S21","v":0},{"$f":"'FIN PAT MARK SHEET'!T21","v":0},{"$f":"'FIN PAT MARK SHEET'!U21","v":0},0,{"$f":"'FIN PAT MARK SHEET'!W21","v":0},{"$f":"'FIN PAT MARK SHEET'!X21","v":0},0,{"$f":"'FIN PAT MARK SHEET'!Z21","v":0},{"$f":"'FIN PAT MARK SHEET'!AA21","v":0},{"$f":"'FIN PAT MARK SHEET'!AB21","v":0},{"$f":"'FIN PAT MARK SHEET'!AC21","v":0},{"$f":"'FIN PAT MARK SHEET'!AD21","v":0},{"$f":"'FIN PAT MARK SHEET'!AE21","v":0},0,0,0,"",null,0,"X",0]
[5,5,{"$f":"Insert!A7","v":0},{"$f":"Insert!B7","v":0},{"$f":"Insert!C7","v":0},{"$f":"Insert!D7","v":0},{"$f":"Insert!E7","v":0},{"$f":"TERM3!Z20","v":"0"},{"$f":"TERM3!AR20","v":"0"},{"$f":"TERM3!BJ20","v":"0"},{"$f":"TERM3!CB20","v":"0"},{"$f":"TERM3!CT20","v":"0"},0,{"$f":"TERM3!CU20","v":0},{"$f":"TERM3!CV20","v":0},0,{"$f":"'FIN PAT MARK SHEET'!P22","v":0},{"$f":"'FIN PAT MARK SHEET'!Q22","v":0},{"$f":"'FIN PAT MARK SHEET'!R22","v":0},{"$f":"'FIN PAT MARK SHEET'!S22","v":0},{"$f":"'FIN PAT MARK SHEET'!T22","v":0},{"$f":"'FIN PAT MARK SHEET'!U22","v":0},0,{"$f":"'FIN PAT MARK SHEET'!W22","v":0},{"$f":"'FIN PAT MARK SHEET'!X22","v":0},0,{"$f":"'FIN PAT MARK SHEET'!Z22","v":0},{"$f":"'FIN PAT MARK SHEET'!AA22","v":0},{"$f":"'FIN PAT MARK SHEET'!AB22","v":0},{"$f":"'FIN PAT MARK SHEET'!AC22","v":0},{"$f":"'FIN PAT MARK SHEET'!AD22","v":0},{"$f":"'FIN PAT MARK SHEET'!AE22","v":0},0,0,0,"",null,0,"X",0]
[6,6,{"$f":"Insert!A8","v":0},{"$f":"Insert!B8","v":0},{"$f":"Insert!C8","v":0},{"$f":"Insert!D8","v":0},{"$f":"Insert!E8","v":0},{"$f":"TERM3!Z21","v":"0"},{"$f":"TERM3!AR21","v":"0"},{"$f":"TERM3!BJ21","v":"0"},{"$f":"TERM3!CB21","v":"0"},{"$f":"TERM3!CT21","v":"0"},0,{"$f":"TERM3!CU21","v":0},{"$f":"TERM3!CV21","v":0},0,{"$f":"'FIN PAT MARK SHEET'!P23","v":0},{"$f":"'FIN PAT MARK SHEET'!Q23","v":0},{"$f":"'FIN PAT MARK SHEET'!R23","v":0},{"$f":"'FIN PAT MARK SHEET'!S23","v":0},{"$f":"'FIN PAT MARK SHEET'!T23","v":0},{"$f":"'FIN PAT MARK SHEET'!U23","v":0},0,{"$f":"'FIN PAT MARK SHEET'!W23","v":0},{"$f":"'FIN PAT MARK SHEET'!X23","v":0},0,{"$f":"'FIN PAT MARK SHEET'!Z23","v":0},{"$f":"'FIN PAT MARK SHEET'!AA23","v":0},{"$f":"'FIN PAT MARK SHEET'!AB23","v":0},{"$f":"'FIN PAT MARK SHEET'!AC23","v":0},{"$f":"'FIN PAT MARK SHEET'!AD23","v":0},{"$f":"'FIN PAT MARK SHEET'!AE23","v":0},0,0,0,"",null,0,"X",0]
[7,7,{"$f":"Insert!A9","v":0},{"$f":"Insert!B9","v":0},{"$f":"Insert!C9","v":0},{"$f":"Insert!D9","v":0},{"$f":"Insert!E9","v":0},{"$f":"TERM3!Z22","v":"0"},{"$f":"TERM3!AR22","v":"0"},{"$f":"TERM3!BJ22","v":"0"},{"$f":"TERM3!CB22","v":"0"},{"$f":"TERM3!CT22","v":"0"},0,{"$f":"TERM3!CU22","v":0},{"$f":"TERM3!CV22","v":0},0,{"$f":"'FIN PAT MARK SHEET'!P24","v":0},{"$f":"'FIN PAT MARK SHEET'!Q24","v":0},{"$f":"'FIN PAT MARK SHEET'!R24","v":0},{"$f":"'FIN PAT MARK SHEET'!S24","v":0},{"$f":"'FIN PAT MARK SHEET'!T24","v":0},{"$f":"'FIN PAT MARK SHEET'!U24","v":0},0,{"$f":"'FIN PAT MARK SHEET'!W24","v":0},{"$f":"'FIN PAT MARK SHEET'!X24","v":0},0,{"$f":"'FIN PAT MARK SHEET'!Z24","v":0},{"$f":"'FIN PAT MARK SHEET'!AA24","v":0},{"$f":"'FIN PAT MARK SHEET'!AB24","v":0},{"$f":"'FIN PAT MARK SHEET'!AC24","v":0},{"$f":"'FIN PAT MARK SHEET'!AD24","v":0},{"$f":"'FIN PAT MARK SHEET'!AE24","v":0},0,0,0,"",null,0,"X",0]
[8,8,{"$f":"Insert!A10","v":0},{"$f":"Insert!B10","v":0},{"$f":"Insert!C10","v":0},{"$f":"Insert!D10","v":0},{"$f":"Insert!E10","v":0},{"$f":"TERM3!Z23","v":"0"},{"$f":"TERM3!AR23","v":"0"},{"$f":"TERM3!BJ23","v":"0"},{"$f":"TERM3!CB23","v":"0"},{"$f":"TERM3!CT23","v":"0"},0,{"$f":"TERM3!CU23","v":0},{"$f":"TERM3!CV23","v":0},0,{"$f":"'FIN PAT MARK SHEET'!P25","v":0},{"$f":"'FIN PAT MARK SHEET'!Q25","v":0},{"$f":"'FIN PAT MARK SHEET'!R25","v":0},{"$f":"'FIN PAT MARK SHEET'!S25","v":0},{"$f":"'FIN PAT MARK SHEET'!T25","v":0},{"$f":"'FIN PAT MARK SHEET'!U25","v":0},0,{"$f":"'FIN PAT MARK SHEET'!W25","v":0},{"$f":"'FIN PAT MARK SHEET'!X25","v":0},0,{"$f":"'FIN PAT MARK SHEET'!Z25","v":0},{"$f":"'FIN PAT MARK SHEET'!AA25","v":0},{"$f":"'FIN PAT MARK SHEET'!AB25","v":0},{"$f":"'FIN PAT MARK SHEET'!AC25","v":0},{"$f":"'FIN PAT MARK SHEET'!AD25","v":0},{"$f":"'FIN PAT MARK SHEET'!AE25","v":0},0,0,0,"",null,0,"X",0]
[9,9,{"$f":"Insert!A11","v":0},{"$f":"Insert!B11","v":0},{"$f":"Insert!C11","v":0},{"$f":"Insert!D11","v":0},{"$f":"Insert!E11","v":0},{"$f":"TERM3!Z24","v":"0"},{"$f":"TERM3!AR24","v":"0"},{"$f":"TERM3!BJ24","v":"0"},{"$f":"TERM3!CB24","v":"0"},{"$f":"TERM3!CT24","v":"0"},0,{"$f":"TERM3!CU24","v":0},{"$f":"TERM3!CV24","v":0},0,{"$f":"'FIN PAT MARK SHEET'!P26","v":0},{"$f":"'FIN PAT MARK SHEET'!Q26","v":0},{"$f":"'FIN PAT MARK SHEET'!R26","v":0},{"$f":"'FIN PAT MARK SHEET'!S26","v":0},{"$f":"'FIN PAT MARK SHEET'!T26","v":0},{"$f":"'FIN PAT MARK SHEET'!U26","v":0},0,{"$f":"'FIN PAT MARK SHEET'!W26","v":0},{"$f":"'FIN PAT MARK SHEET'!X26","v":0},0,{"$f":"'FIN PAT MARK SHEET'!Z26","v":0},{"$f":"'FIN PAT MARK SHEET'!AA26","v":0},{"$f":"'FIN PAT MARK SHEET'!AB26","v":0},{"$f":"'FIN PAT MARK SHEET'!AC26","v":0},{"$f":"'FIN PAT MARK SHEET'!AD26","v":0},{"$f":"'FIN PAT MARK SHEET'!AE26","v":0},0,0,0,"",null,0,"X",0]
[10,10,{"$f":"Insert!A12","v":0},{"$f":"Insert!B12","v":0},{"$f":"Insert!C12","v":0},{"$f":"Insert!D12","v":0},{"$f":"Insert!E12","v":0},{"$f":"TERM3!Z25","v":"0"},{"$f":"TERM3!AR25","v":"0"},{"$f":"TERM3!BJ25","v":"0"},{"$f":"TERM3!CB25","v":"0"},{"$f":"TERM3!CT25","v":"0"},0,{"$f":"TERM3!CU25","v":0},{"$f":"TERM3!CV25","v":0},0,{"$f":"'FIN PAT MARK SHEET'!P27","v":0},{"$f":"'FIN PAT MARK SHEET'!Q27","v":0},{"$f":"'FIN PAT MARK SHEET'!R27","v":0},{"$f":"'FIN PAT MARK SHEET'!S27","v":0},{"$f":"'FIN PAT MARK SHEET'!T27","v":0},{"$f":"'FIN PAT MARK SHEET'!U27","v":0},0,{"$f":"'FIN PAT MARK SHEET'!W27","v":0},{"$f":"'FIN PAT MARK SHEET'!X27","v":0},0,{"$f":"'FIN PAT MARK SHEET'!Z27","v":0},{"$f":"'FIN PAT MARK SHEET'!AA27","v":0},{"$f":"'FIN PAT MARK SHEET'!AB27","v":0},{"$f":"'FIN PAT MARK SHEET'!AC27","v":0},{"$f":"'FIN PAT MARK SHEET'!AD27","v":0},{"$f":"'FIN PAT MARK SHEET'!AE27","v":0},0,0,0,"",null,0,"X",0]
[11,11,{"$f":"Insert!A13","v":0},{"$f":"Insert!B13","v":0},{"$f":"Insert!C13","v":0},{"$f":"Insert!D13","v":0},{"$f":"Insert!E13","v":0},{"$f":"TERM3!Z26","v":"0"},{"$f":"TERM3!AR26","v":"0"},{"$f":"TERM3!BJ26","v":"0"},{"$f":"TERM3!CB26","v":"0"},{"$f":"TERM3!CT26","v":"0"},0,{"$f":"TERM3!CU26","v":0},{"$f":"TERM3!CV26","v":0},0,{"$f":"'FIN PAT MARK SHEET'!P28","v":0},{"$f":"'FIN PAT MARK SHEET'!Q28","v":0},{"$f":"'FIN PAT MARK SHEET'!R28","v":0},{"$f":"'FIN PAT MARK SHEET'!S28","v":0},{"$f":"'FIN PAT MARK SHEET'!T28","v":0},{"$f":"'FIN PAT MARK SHEET'!U28","v":0},0,{"$f":"'FIN PAT MARK SHEET'!W28","v":0},{"$f":"'FIN PAT MARK SHEET'!X28","v":0},0,{"$f":"'FIN PAT MARK SHEET'!Z28","v":0},{"$f":"'FIN PAT MARK SHEET'!AA28","v":0},{"$f":"'FIN PAT MARK SHEET'!AB28","v":0},{"$f":"'FIN PAT MARK SHEET'!AC28","v":0},{"$f":"'FIN PAT MARK SHEET'!AD28","v":0},{"$f":"'FIN PAT MARK SHEET'!AE28","v":0},0,0,0,"",null,0,"X",0]
[12,12,{"$f":"Insert!A14","v":0},{"$f":"Insert!B14","v":0},{"$f":"Insert!C14","v":0},{"$f":"Insert!D14","v":0},{"$f":"Insert!E14","v":0},{"$f":"TERM3!Z27","v":"0"},{"$f":"TERM3!AR27","v":"0"},{"$f":"TERM3!BJ27","v":"0"},{"$f":"TERM3!CB27","v":"0"},{"$f":"TERM3!CT27","v":"0"},0,{"$f":"TERM3!CU27","v":0},{"$f":"TERM3!CV27","v":0},0,{"$f":"'FIN PAT MARK SHEET'!P29","v":0},{"$f":"'FIN PAT MARK SHEET'!Q29","v":0},{"$f":"'FIN PAT MARK SHEET'!R29","v":0},{"$f":"'FIN PAT MARK SHEET'!S29","v":0},{"$f":"'FIN PAT MARK SHEET'!T29","v":0},{"$f":"'FIN PAT MARK SHEET'!U29","v":0},0,{"$f":"'FIN PAT MARK SHEET'!W29","v":0},{"$f":"'FIN PAT MARK SHEET'!X29","v":0},0,{"$f":"'FIN PAT MARK SHEET'!Z29","v":0},{"$f":"'FIN PAT MARK SHEET'!AA29","v":0},{"$f":"'FIN PAT MARK SHEET'!AB29","v":0},{"$f":"'FIN PAT MARK SHEET'!AC29","v":0},{"$f":"'FIN PAT MARK SHEET'!AD29","v":0},{"$f":"'FIN PAT MARK SHEET'!AE29","v":0},0,0,0,"",null,0,"X",0]
[13,13,{"$f":"Insert!A15","v":0},{"$f":"Insert!B15","v":0},{"$f":"Insert!C15","v":0},{"$f":"Insert!D15","v":0},{"$f":"Insert!E15","v":0},{"$f":"TERM3!Z28","v":"0"},{"$f":"TERM3!AR28","v":"0"},{"$f":"TERM3!BJ28","v":"0"},{"$f":"TERM3!CB28","v":"0"},{"$f":"TERM3!CT28","v":"0"},0,{"$f":"TERM3!CU28","v":0},{"$f":"TERM3!CV28","v":0},0,{"$f":"'FIN PAT MARK SHEET'!P30","v":0},{"$f":"'FIN PAT MARK SHEET'!Q30","v":0},{"$f":"'FIN PAT MARK SHEET'!R30","v":0},{"$f":"'FIN PAT MARK SHEET'!S30","v":0},{"$f":"'FIN PAT MARK SHEET'!T30","v":0},{"$f":"'FIN PAT MARK SHEET'!U30","v":0},0,{"$f":"'FIN PAT MARK SHEET'!W30","v":0},{"$f":"'FIN PAT MARK SHEET'!X30","v":0},0,{"$f":"'FIN PAT MARK SHEET'!Z30","v":0},{"$f":"'FIN PAT MARK SHEET'!AA30","v":0},{"$f":"'FIN PAT MARK SHEET'!AB30","v":0},{"$f":"'FIN PAT MARK SHEET'!AC30","v":0},{"$f":"'FIN PAT MARK SHEET'!AD30","v":0},{"$f":"'FIN PAT MARK SHEET'!AE30","v":0},0,0,0,"",null,0,"X",0]
[14,14,{"$f":"Insert!A16","v":0},{"$f":"Insert!B16","v":0},{"$f":"Insert!C16","v":0},{"$f":"Insert!D16","v":0},{"$f":"Insert!E16","v":0},{"$f":"TERM3!Z29","v":"0"},{"$f":"TERM3!AR29","v":"0"},{"$f":"TERM3!BJ29","v":"0"},{"$f":"TERM3!CB29","v":"0"},{"$f":"TERM3!CT29","v":"0"},0,{"$f":"TERM3!CU29","v":0},{"$f":"TERM3!CV29","v":0},0,{"$f":"'FIN PAT MARK SHEET'!P31","v":0},{"$f":"'FIN PAT MARK SHEET'!Q31","v":0},{"$f":"'FIN PAT MARK SHEET'!R31","v":0},{"$f":"'FIN PAT MARK SHEET'!S31","v":0},{"$f":"'FIN PAT MARK SHEET'!T31","v":0},{"$f":"'FIN PAT MARK SHEET'!U31","v":0},0,{"$f":"'FIN PAT MARK SHEET'!W31","v":0},{"$f":"'FIN PAT MARK SHEET'!X31","v":0},0,{"$f":"'FIN PAT MARK SHEET'!Z31","v":0},{"$f":"'FIN PAT MARK SHEET'!AA31","v":0},{"$f":"'FIN PAT MARK SHEET'!AB31","v":0},{"$f":"'FIN PAT MARK SHEET'!AC31","v":0},{"$f":"'FIN PAT MARK SHEET'!AD31","v":0},{"$f":"'FIN PAT MARK SHEET'!AE31","v":0},0,0,0,"",null,0,"X",0]
[15,15,{"$f":"Insert!A17","v":0},{"$f":"Insert!B17","v":0},{"$f":"Insert!C17","v":0},{"$f":"Insert!D17","v":0},{"$f":"Insert!E17","v":0},{"$f":"TERM3!Z30","v":"0"},{"$f":"TERM3!AR30","v":"0"},{"$f":"TERM3!BJ30","v":"0"},{"$f":"TERM3!CB30","v":"0"},{"$f":"TERM3!CT30","v":"0"},0,{"$f":"TERM3!CU30","v":0},{"$f":"TERM3!CV30","v":0},0,{"$f":"'FIN PAT MARK SHEET'!P32","v":0},{"$f":"'FIN PAT MARK SHEET'!Q32","v":0},{"$f":"'FIN PAT MARK SHEET'!R32","v":0},{"$f":"'FIN PAT MARK SHEET'!S32","v":0},{"$f":"'FIN PAT MARK SHEET'!T32","v":0},{"$f":"'FIN PAT MARK SHEET'!U32","v":0},0,{"$f":"'FIN PAT MARK SHEET'!W32","v":0},{"$f":"'FIN PAT MARK SHEET'!X32","v":0},0,{"$f":"'FIN PAT MARK SHEET'!Z32","v":0},{"$f":"'FIN PAT MARK SHEET'!AA32","v":0},{"$f":"'FIN PAT MARK SHEET'!AB32","v":0},{"$f":"'FIN PAT MARK SHEET'!AC32","v":0},{"$f":"'FIN PAT MARK SHEET'!AD32","v":0},{"$f":"'FIN PAT MARK SHEET'!AE32","v":0},0,0,0,"",null,0,"X",0]
[16,16,{"$f":"Insert!A18","v":0},{"$f":"Insert!B18","v":0},{"$f":"Insert!C18","v":0},{"$f":"Insert!D18","v":0},{"$f":"Insert!E18","v":0},{"$f":"TERM3!Z31","v":"0"},{"$f":"TERM3!AR31","v":"0"},{"$f":"TERM3!BJ31","v":"0"},{"$f":"TERM3!CB31","v":"0"},{"$f":"TERM3!CT31","v":"0"},0,{"$f":"TERM3!CU31","v":0},{"$f":"TERM3!CV31","v":0},0,{"$f":"'FIN PAT MARK SHEET'!P33","v":0},{"$f":"'FIN PAT MARK SHEET'!Q33","v":0},{"$f":"'FIN PAT MARK SHEET'!R33","v":0},{"$f":"'FIN PAT MARK SHEET'!S33","v":0},{"$f":"'FIN PAT MARK SHEET'!T33","v":0},{"$f":"'FIN PAT MARK SHEET'!U33","v":0},0,{"$f":"'FIN PAT MARK SHEET'!W33","v":0},{"$f":"'FIN PAT MARK SHEET'!X33","v":0},0,{"$f":"'FIN PAT MARK SHEET'!Z33","v":0},{"$f":"'FIN PAT MARK SHEET'!AA33","v":0},{"$f":"'FIN PAT MARK SHEET'!AB33","v":0},{"$f":"'FIN PAT MARK SHEET'!AC33","v":0},{"$f":"'FIN PAT MARK SHEET'!AD33","v":0},{"$f":"'FIN PAT MARK SHEET'!AE33","v":0},0,0,0,"",null,0,"X",0]
[17,17,{"$f":"Insert!A19","v":0},{"$f":"Insert!B19","v":0},{"$f":"Insert!C19","v":0},{"$f":"Insert!D19","v":0},{"$f":"Insert!E19","v":0},{"$f":"TERM3!Z32","v":"0"},{"$f":"TERM3!AR32","v":"0"},{"$f":"TERM3!BJ32","v":"0"},{"$f":"TERM3!CB32","v":"0"},{"$f":"TERM3!CT32","v":"0"},0,{"$f":"TERM3!CU32","v":0},{"$f":"TERM3!CV32","v":0},0,{"$f":"'FIN PAT MARK SHEET'!P34","v":0},{"$f":"'FIN PAT MARK SHEET'!Q34","v":0},{"$f":"'FIN PAT MARK SHEET'!R34","v":0},{"$f":"'FIN PAT MARK SHEET'!S34","v":0},{"$f":"'FIN PAT MARK SHEET'!T34","v":0},{"$f":"'FIN PAT MARK SHEET'!U34","v":0},0,{"$f":"'FIN PAT MARK SHEET'!W34","v":0},{"$f":"'FIN PAT MARK SHEET'!X34","v":0},0,{"$f":"'FIN PAT MARK SHEET'!Z34","v":0},{"$f":"'FIN PAT MARK SHEET'!AA34","v":0},{"$f":"'FIN PAT MARK SHEET'!AB34","v":0},{"$f":"'FIN PAT MARK SHEET'!AC34","v":0},{"$f":"'FIN PAT MARK SHEET'!AD34","v":0},{"$f":"'FIN PAT MARK SHEET'!AE34","v":0},0,0,0,"",null,0,"X",0]
[18,18,{"$f":"Insert!A20","v":0},{"$f":"Insert!B20","v":0},{"$f":"Insert!C20","v":0},{"$f":"Insert!D20","v":0},{"$f":"Insert!E20","v":0},{"$f":"TERM3!Z33","v":"0"},{"$f":"TERM3!AR33","v":"0"},{"$f":"TERM3!BJ33","v":"0"},{"$f":"TERM3!CB33","v":"0"},{"$f":"TERM3!CT33","v":"0"},0,{"$f":"TERM3!CU33","v":0},{"$f":"TERM3!CV33","v":0},0,{"$f":"'FIN PAT MARK SHEET'!P35","v":0},{"$f":"'FIN PAT MARK SHEET'!Q35","v":0},{"$f":"'FIN PAT MARK SHEET'!R35","v":0},{"$f":"'FIN PAT MARK SHEET'!S35","v":0},{"$f":"'FIN PAT MARK SHEET'!T35","v":0},{"$f":"'FIN PAT MARK SHEET'!U35","v":0},0,{"$f":"'FIN PAT MARK SHEET'!W35","v":0},{"$f":"'FIN PAT MARK SHEET'!X35","v":0},0,{"$f":"'FIN PAT MARK SHEET'!Z35","v":0},{"$f":"'FIN PAT MARK SHEET'!AA35","v":0},{"$f":"'FIN PAT MARK SHEET'!AB35","v":0},{"$f":"'FIN PAT MARK SHEET'!AC35","v":0},{"$f":"'FIN PAT MARK SHEET'!AD35","v":0},{"$f":"'FIN PAT MARK SHEET'!AE35","v":0},0,0,0,"",null,0,"X",0]
[19,19,{"$f":"Insert!A21","v":0},{"$f":"Insert!B21","v":0},{"$f":"Insert!C21","v":0},{"$f":"Insert!D21","v":0},{"$f":"Insert!E21","v":0},{"$f":"TERM3!Z34","v":"0"},{"$f":"TERM3!AR34","v":"0"},{"$f":"TERM3!BJ34","v":"0"},{"$f":"TERM3!CB34","v":"0"},{"$f":"TERM3!CT34","v":"0"},0,{"$f":"TERM3!CU34","v":0},{"$f":"TERM3!CV34","v":0},0,{"$f":"'FIN PAT MARK SHEET'!P36","v":0},{"$f":"'FIN PAT MARK SHEET'!Q36","v":0},{"$f":"'FIN PAT MARK SHEET'!R36","v":0},{"$f":"'FIN PAT MARK SHEET'!S36","v":0},{"$f":"'FIN PAT MARK SHEET'!T36","v":0},{"$f":"'FIN PAT MARK SHEET'!U36","v":0},0,{"$f":"'FIN PAT MARK SHEET'!W36","v":0},{"$f":"'FIN PAT MARK SHEET'!X36","v":0},0,{"$f":"'FIN PAT MARK SHEET'!Z36","v":0},{"$f":"'FIN PAT MARK SHEET'!AA36","v":0},{"$f":"'FIN PAT MARK SHEET'!AB36","v":0},{"$f":"'FIN PAT MARK SHEET'!AC36","v":0},{"$f":"'FIN PAT MARK SHEET'!AD36","v":0},{"$f":"'FIN PAT MARK SHEET'!AE36","v":0},0,0,0,"",null,0,"X",0]
[20,20,{"$f":"Insert!A22","v":0},{"$f":"Insert!B22","v":0},{"$f":"Insert!C22","v":0},{"$f":"Insert!D22","v":0},{"$f":"Insert!E22","v":0},{"$f":"TERM3!Z35","v":"0"},{"$f":"TERM3!AR35","v":"0"},{"$f":"TERM3!BJ35","v":"0"},{"$f":"TERM3!CB35","v":"0"},{"$f":"TERM3!CT35","v":"0"},0,{"$f":"TERM3!CU35","v":0},{"$f":"TERM3!CV35","v":0},0,{"$f":"'FIN PAT MARK SHEET'!P37","v":0},{"$f":"'FIN PAT MARK SHEET'!Q37","v":0},{"$f":"'FIN PAT MARK SHEET'!R37","v":0},{"$f":"'FIN PAT MARK SHEET'!S37","v":0},{"$f":"'FIN PAT MARK SHEET'!T37","v":0},{"$f":"'FIN PAT MARK SHEET'!U37","v":0},0,{"$f":"'FIN PAT MARK SHEET'!W37","v":0},{"$f":"'FIN PAT MARK SHEET'!X37","v":0},0,{"$f":"'FIN PAT MARK SHEET'!Z37","v":0},{"$f":"'FIN PAT MARK SHEET'!AA37","v":0},{"$f":"'FIN PAT MARK SHEET'!AB37","v":0},{"$f":"'FIN PAT MARK SHEET'!AC37","v":0},{"$f":"'FIN PAT MARK SHEET'!AD37","v":0},{"$f":"'FIN PAT MARK SHEET'!AE37","v":0},0,0,0,"",null,0,"X",0]
[21,21,{"$f":"Insert!A23","v":0},{"$f":"Insert!B23","v":0},{"$f":"Insert!C23","v":0},{"$f":"Insert!D23","v":0},{"$f":"Insert!E23","v":0},{"$f":"TERM3!Z36","v":"0"},{"$f":"TERM3!AR36","v":"0"},{"$f":"TERM3!BJ36","v":"0"},{"$f":"TERM3!CB36","v":"0"},{"$f":"TERM3!CT36","v":"0"},0,{"$f":"TERM3!CU36","v":0},{"$f":"TERM3!CV36","v":0},0,{"$f":"'FIN PAT MARK SHEET'!P38","v":0},{"$f":"'FIN PAT MARK SHEET'!Q38","v":0},{"$f":"'FIN PAT MARK SHEET'!R38","v":0},{"$f":"'FIN PAT MARK SHEET'!S38","v":0},{"$f":"'FIN PAT MARK SHEET'!T38","v":0},{"$f":"'FIN PAT MARK SHEET'!U38","v":0},0,{"$f":"'FIN PAT MARK SHEET'!W38","v":0},{"$f":"'FIN PAT MARK SHEET'!X38","v":0},0,{"$f":"'FIN PAT MARK SHEET'!Z38","v":0},{"$f":"'FIN PAT MARK SHEET'!AA38","v":0},{"$f":"'FIN PAT MARK SHEET'!AB38","v":0},{"$f":"'FIN PAT MARK SHEET'!AC38","v":0},{"$f":"'FIN PAT MARK SHEET'!AD38","v":0},{"$f":"'FIN PAT MARK SHEET'!AE38","v":0},0,0,0,"",null,0,"X",0]
[22,22,{"$f":"Insert!A24","v":0},{"$f":"Insert!B24","v":0},{"$f":"Insert!C24","v":0},{"$f":"Insert!D24","v":0},{"$f":"Insert!E24","v":0},{"$f":"TERM3!Z37","v":"0"},{"$f":"TERM3!AR37","v":"0"},{"$f":"TERM3!BJ37","v":"0"},{"$f":"TERM3!CB37","v":"0"},{"$f":"TERM3!CT37","v":"0"},0,{"$f":"TERM3!CU37","v":0},{"$f":"TERM3!CV37","v":0},0,{"$f":"'FIN PAT MARK SHEET'!P39","v":0},{"$f":"'FIN PAT MARK SHEET'!Q39","v":0},{"$f":"'FIN PAT MARK SHEET'!R39","v":0},{"$f":"'FIN PAT MARK SHEET'!S39","v":0},{"$f":"'FIN PAT MARK SHEET'!T39","v":0},{"$f":"'FIN PAT MARK SHEET'!U39","v":0},0,{"$f":"'FIN PAT MARK SHEET'!W39","v":0},{"$f":"'FIN PAT MARK SHEET'!X39","v":0},0,{"$f":"'FIN PAT MARK SHEET'!Z39","v":0},{"$f":"'FIN PAT MARK SHEET'!AA39","v":0},{"$f":"'FIN PAT MARK SHEET'!AB39","v":0},{"$f":"'FIN PAT MARK SHEET'!AC39","v":0},{"$f":"'FIN PAT MARK SHEET'!AD39","v":0},{"$f":"'FIN PAT MARK SHEET'!AE39","v":0},0,0,0,"",null,0,"X",0]
[23,23,{"$f":"Insert!A25","v":0},{"$f":"Insert!B25","v":0},{"$f":"Insert!C25","v":0},{"$f":"Insert!D25","v":0},{"$f":"Insert!E25","v":0},{"$f":"TERM3!Z38","v":"0"},{"$f":"TERM3!AR38","v":"0"},{"$f":"TERM3!BJ38","v":"0"},{"$f":"TERM3!CB38","v":"0"},{"$f":"TERM3!CT38","v":"0"},0,{"$f":"TERM3!CU38","v":0},{"$f":"TERM3!CV38","v":0},0,{"$f":"'FIN PAT MARK SHEET'!P40","v":0},{"$f":"'FIN PAT MARK SHEET'!Q40","v":0},{"$f":"'FIN PAT MARK SHEET'!R40","v":0},{"$f":"'FIN PAT MARK SHEET'!S40","v":0},{"$f":"'FIN PAT MARK SHEET'!T40","v":0},{"$f":"'FIN PAT MARK SHEET'!U40","v":0},0,{"$f":"'FIN PAT MARK SHEET'!W40","v":0},{"$f":"'FIN PAT MARK SHEET'!X40","v":0},0,{"$f":"'FIN PAT MARK SHEET'!Z40","v":0},{"$f":"'FIN PAT MARK SHEET'!AA40","v":0},{"$f":"'FIN PAT MARK SHEET'!AB40","v":0},{"$f":"'FIN PAT MARK SHEET'!AC40","v":0},{"$f":"'FIN PAT MARK SHEET'!AD40","v":0},{"$f":"'FIN PAT MARK SHEET'!AE40","v":0},0,0,0,"",null,0,"X",0]
[24,24,{"$f":"Insert!A26","v":0},{"$f":"Insert!B26","v":0},{"$f":"Insert!C26","v":0},{"$f":"Insert!D26","v":0},{"$f":"Insert!E26","v":0},{"$f":"TERM3!Z39","v":"0"},{"$f":"TERM3!AR39","v":"0"},{"$f":"TERM3!BJ39","v":"0"},{"$f":"TERM3!CB39","v":"0"},{"$f":"TERM3!CT39","v":"0"},0,{"$f":"TERM3!CU39","v":0},{"$f":"TERM3!CV39","v":0},0,{"$f":"'FIN PAT MARK SHEET'!P41","v":0},{"$f":"'FIN PAT MARK SHEET'!Q41","v":0},{"$f":"'FIN PAT MARK SHEET'!R41","v":0},{"$f":"'FIN PAT MARK SHEET'!S41","v":0},{"$f":"'FIN PAT MARK SHEET'!T41","v":0},{"$f":"'FIN PAT MARK SHEET'!U41","v":0},0,{"$f":"'FIN PAT MARK SHEET'!W41","v":0},{"$f":"'FIN PAT MARK SHEET'!X41","v":0},0,{"$f":"'FIN PAT MARK SHEET'!Z41","v":0},{"$f":"'FIN PAT MARK SHEET'!AA41","v":0},{"$f":"'FIN PAT MARK SHEET'!AB41","v":0},{"$f":"'FIN PAT MARK SHEET'!AC41","v":0},{"$f":"'FIN PAT MARK SHEET'!AD41","v":0},{"$f":"'FIN PAT MARK SHEET'!AE41","v":0},0,0,0,"",null,0,"X",0]
[25,25,{"$f":"Insert!A27","v":0},{"$f":"Insert!B27","v":0},{"$f":"Insert!C27","v":0},{"$f":"Insert!D27","v":0},{"$f":"Insert!E27","v":0},{"$f":"TERM3!Z40","v":"0"},{"$f":"TERM3!AR40","v":"0"},{"$f":"TERM3!BJ40","v":"0"},{"$f":"TERM3!CB40","v":"0"},{"$f":"TERM3!CT40","v":"0"},0,{"$f":"TERM3!CU40","v":0},{"$f":"TERM3!CV40","v":0},0,{"$f":"'FIN PAT MARK SHEET'!P42","v":0},{"$f":"'FIN PAT MARK SHEET'!Q42","v":0},{"$f":"'FIN PAT MARK SHEET'!R42","v":0},{"$f":"'FIN PAT MARK SHEET'!S42","v":0},{"$f":"'FIN PAT MARK SHEET'!T42","v":0},{"$f":"'FIN PAT MARK SHEET'!U42","v":0},0,{"$f":"'FIN PAT MARK SHEET'!W42","v":0},{"$f":"'FIN PAT MARK SHEET'!X42","v":0},0,{"$f":"'FIN PAT MARK SHEET'!Z42","v":0},{"$f":"'FIN PAT MARK SHEET'!AA42","v":0},{"$f":"'FIN PAT MARK SHEET'!AB42","v":0},{"$f":"'FIN PAT MARK SHEET'!AC42","v":0},{"$f":"'FIN PAT MARK SHEET'!AD42","v":0},{"$f":"'FIN PAT MARK SHEET'!AE42","v":0},0,0,0,"",null,0,"X",0]
[26,26,{"$f":"Insert!A28","v":0},{"$f":"Insert!B28","v":0},{"$f":"Insert!C28","v":0},{"$f":"Insert!D28","v":0},{"$f":"Insert!E28","v":0},{"$f":"TERM3!Z41","v":"0"},{"$f":"TERM3!AR41","v":"0"},{"$f":"TERM3!BJ41","v":"0"},{"$f":"TERM3!CB41","v":"0"},{"$f":"TERM3!CT41","v":"0"},0,{"$f":"TERM3!CU41","v":0},{"$f":"TERM3!CV41","v":0},0,{"$f":"'FIN PAT MARK SHEET'!P43","v":0},{"$f":"'FIN PAT MARK SHEET'!Q43","v":0},{"$f":"'FIN PAT MARK SHEET'!R43","v":0},{"$f":"'FIN PAT MARK SHEET'!S43","v":0},{"$f":"'FIN PAT MARK SHEET'!T43","v":0},{"$f":"'FIN PAT MARK SHEET'!U43","v":0},0,{"$f":"'FIN PAT MARK SHEET'!W43","v":0},{"$f":"'FIN PAT MARK SHEET'!X43","v":0},0,{"$f":"'FIN PAT MARK SHEET'!Z43","v":0},{"$f":"'FIN PAT MARK SHEET'!AA43","v":0},{"$f":"'FIN PAT MARK SHEET'!AB43","v":0},{"$f":"'FIN PAT MARK SHEET'!AC43","v":0},{"$f":"'FIN PAT MARK SHEET'!AD43","v":0},{"$f":"'FIN PAT MARK SHEET'!AE43","v":0},0,0,0,"",null,0,"X",0]
[27,27,{"$f":"Insert!A29","v":0},{"$f":"Insert!B29","v":0},{"$f":"Insert!C29","v":0},{"$f":"Insert!D29","v":0},{"$f":"Insert!E29","v":0},{"$f":"TERM3!Z42","v":"0"},{"$f":"TERM3!AR42","v":"0"},{"$f":"TERM3!BJ42","v":"0"},{"$f":"TERM3!CB42","v":"0"},{"$f":"TERM3!CT42","v":"0"},0,{"$f":"TERM3!CU42","v":0},{"$f":"TERM3!CV42","v":0},0,{"$f":"'FIN PAT MARK SHEET'!P44","v":0},{"$f":"'FIN PAT MARK SHEET'!Q44","v":0},{"$f":"'FIN PAT MARK SHEET'!R44","v":0},{"$f":"'FIN PAT MARK SHEET'!S44","v":0},{"$f":"'FIN PAT MARK SHEET'!T44","v":0},{"$f":"'FIN PAT MARK SHEET'!U44","v":0},0,{"$f":"'FIN PAT MARK SHEET'!W44","v":0},{"$f":"'FIN PAT MARK SHEET'!X44","v":0},0,{"$f":"'FIN PAT MARK SHEET'!Z44","v":0},{"$f":"'FIN PAT MARK SHEET'!AA44","v":0},{"$f":"'FIN PAT MARK SHEET'!AB44","v":0},{"$f":"'FIN PAT MARK SHEET'!AC44","v":0},{"$f":"'FIN PAT MARK SHEET'!AD44","v":0},{"$f":"'FIN PAT MARK SHEET'!AE44","v":0},0,0,0,"",null,0,"X",0]
[28,28,{"$f":"Insert!A30","v":0},{"$f":"Insert!B30","v":0},{"$f":"Insert!C30","v":0},{"$f":"Insert!D30","v":0},{"$f":"Insert!E30","v":0},{"$f":"TERM3!Z43","v":"0"},{"$f":"TERM3!AR43","v":"0"},{"$f":"TERM3!BJ43","v":"0"},{"$f":"TERM3!CB43","v":"0"},{"$f":"TERM3!CT43","v":"0"},0,{"$f":"TERM3!CU43","v":0},{"$f":"TERM3!CV43","v":0},0,{"$f":"'FIN PAT MARK SHEET'!P45","v":0},{"$f":"'FIN PAT MARK SHEET'!Q45","v":0},{"$f":"'FIN PAT MARK SHEET'!R45","v":0},{"$f":"'FIN PAT MARK SHEET'!S45","v":0},{"$f":"'FIN PAT MARK SHEET'!T45","v":0},{"$f":"'FIN PAT MARK SHEET'!U45","v":0},0,{"$f":"'FIN PAT MARK SHEET'!W45","v":0},{"$f":"'FIN PAT MARK SHEET'!X45","v":0},0,{"$f":"'FIN PAT MARK SHEET'!Z45","v":0},{"$f":"'FIN PAT MARK SHEET'!AA45","v":0},{"$f":"'FIN PAT MARK SHEET'!AB45","v":0},{"$f":"'FIN PAT MARK SHEET'!AC45","v":0},{"$f":"'FIN PAT MARK SHEET'!AD45","v":0},{"$f":"'FIN PAT MARK SHEET'!AE45","v":0},0,0,0,"",null,0,"X",0]
[29,29,{"$f":"Insert!A31","v":0},{"$f":"Insert!B31","v":0},{"$f":"Insert!C31","v":0},{"$f":"Insert!D31","v":0},{"$f":"Insert!E31","v":0},{"$f":"TERM3!Z44","v":"0"},{"$f":"TERM3!AR44","v":"0"},{"$f":"TERM3!BJ44","v":"0"},{"$f":"TERM3!CB44","v":"0"},{"$f":"TERM3!CT44","v":"0"},0,{"$f":"TERM3!CU44","v":0},{"$f":"TERM3!CV44","v":0},0,{"$f":"'FIN PAT MARK SHEET'!P46","v":0},{"$f":"'FIN PAT MARK SHEET'!Q46","v":0},{"$f":"'FIN PAT MARK SHEET'!R46","v":0},{"$f":"'FIN PAT MARK SHEET'!S46","v":0},{"$f":"'FIN PAT MARK SHEET'!T46","v":0},{"$f":"'FIN PAT MARK SHEET'!U46","v":0},0,{"$f":"'FIN PAT MARK SHEET'!W46","v":0},{"$f":"'FIN PAT MARK SHEET'!X46","v":0},0,{"$f":"'FIN PAT MARK SHEET'!Z46","v":0},{"$f":"'FIN PAT MARK SHEET'!AA46","v":0},{"$f":"'FIN PAT MARK SHEET'!AB46","v":0},{"$f":"'FIN PAT MARK SHEET'!AC46","v":0},{"$f":"'FIN PAT MARK SHEET'!AD46","v":0},{"$f":"'FIN PAT MARK SHEET'!AE46","v":0},0,0,0,"",null,0,"X",0]
[30,30,{"$f":"Insert!A32","v":0},{"$f":"Insert!B32","v":0},{"$f":"Insert!C32","v":0},{"$f":"Insert!D32","v":0},{"$f":"Insert!E32","v":0},{"$f":"TERM3!Z45","v":"0"},{"$f":"TERM3!AR45","v":"0"},{"$f":"TERM3!BJ45","v":"0"},{"$f":"TERM3!CB45","v":"0"},{"$f":"TERM3!CT45","v":"0"},0,{"$f":"TERM3!CU45","v":0},{"$f":"TERM3!CV45","v":0},0,{"$f":"'FIN PAT MARK SHEET'!P47","v":0},{"$f":"'FIN PAT MARK SHEET'!Q47","v":0},{"$f":"'FIN PAT MARK SHEET'!R47","v":0},{"$f":"'FIN PAT MARK SHEET'!S47","v":0},{"$f":"'FIN PAT MARK SHEET'!T47","v":0},{"$f":"'FIN PAT MARK SHEET'!U47","v":0},0,{"$f":"'FIN PAT MARK SHEET'!W47","v":0},{"$f":"'FIN PAT MARK SHEET'!X47","v":0},0,{"$f":"'FIN PAT MARK SHEET'!Z47","v":0},{"$f":"'FIN PAT MARK SHEET'!AA47","v":0},{"$f":"'FIN PAT MARK SHEET'!AB47","v":0},{"$f":"'FIN PAT MARK SHEET'!AC47","v":0},{"$f":"'FIN PAT MARK SHEET'!AD47","v":0},{"$f":"'FIN PAT MARK SHEET'!AE47","v":0},0,0,0,"",null,0,"X",0]
[31,31,{"$f":"Insert!A33","v":0},{"$f":"Insert!B33","v":0},{"$f":"Insert!C33","v":0},{"$f":"Insert!D33","v":0},{"$f":"Insert!E33","v":0},{"$f":"TERM3!Z46","v":"0"},{"$f":"TERM3!AR46","v":"0"},{"$f":"TERM3!BJ46","v":"0"},{"$f":"TERM3!CB46","v":"0"},{"$f":"TERM3!CT46","v":"0"},0,{"$f":"TERM3!CU46","v":0},{"$f":"TERM3!CV46","v":0},0,{"$f":"'FIN PAT MARK SHEET'!P48","v":0},{"$f":"'FIN PAT MARK SHEET'!Q48","v":0},{"$f":"'FIN PAT MARK SHEET'!R48","v":0},{"$f":"'FIN PAT MARK SHEET'!S48","v":0},{"$f":"'FIN PAT MARK SHEET'!T48","v":0},{"$f":"'FIN PAT MARK SHEET'!U48","v":0},0,{"$f":"'FIN PAT MARK SHEET'!W48","v":0},{"$f":"'FIN PAT MARK SHEET'!X48","v":0},0,{"$f":"'FIN PAT MARK SHEET'!Z48","v":0},{"$f":"'FIN PAT MARK SHEET'!AA48","v":0},{"$f":"'FIN PAT MARK SHEET'!AB48","v":0},{"$f":"'FIN PAT MARK SHEET'!AC48","v":0},{"$f":"'FIN PAT MARK SHEET'!AD48","v":0},{"$f":"'FIN PAT MARK SHEET'!AE48","v":0},0,0,0,"",null,0,"X",0]
[32,32,{"$f":"Insert!A34","v":0},{"$f":"Insert!B34","v":0},{"$f":"Insert!C34","v":0},{"$f":"Insert!D34","v":0},{"$f":"Insert!E34","v":0},{"$f":"TERM3!Z47","v":"0"},{"$f":"TERM3!AR47","v":"0"},{"$f":"TERM3!BJ47","v":"0"},{"$f":"TERM3!CB47","v":"0"},{"$f":"TERM3!CT47","v":"0"},0,{"$f":"TERM3!CU47","v":0},{"$f":"TERM3!CV47","v":0},0,{"$f":"'FIN PAT MARK SHEET'!P49","v":0},{"$f":"'FIN PAT MARK SHEET'!Q49","v":0},{"$f":"'FIN PAT MARK SHEET'!R49","v":0},{"$f":"'FIN PAT MARK SHEET'!S49","v":0},{"$f":"'FIN PAT MARK SHEET'!T49","v":0},{"$f":"'FIN PAT MARK SHEET'!U49","v":0},0,{"$f":"'FIN PAT MARK SHEET'!W49","v":0},{"$f":"'FIN PAT MARK SHEET'!X49","v":0},0,{"$f":"'FIN PAT MARK SHEET'!Z49","v":0},{"$f":"'FIN PAT MARK SHEET'!AA49","v":0},{"$f":"'FIN PAT MARK SHEET'!AB49","v":0},{"$f":"'FIN PAT MARK SHEET'!AC49","v":0},{"$f":"'FIN PAT MARK SHEET'!AD49","v":0},{"$f":"'FIN PAT MARK SHEET'!AE49","v":0},0,{"$f":"ROUND((SUM(M40/2)+(P40/1.333333333)),2)","v":0},0,"",null,0,"X",0]
[33,33,{"$f":"Insert!A35","v":0},{"$f":"Insert!B35","v":0},{"$f":"Insert!C35","v":0},{"$f":"Insert!D35","v":0},{"$f":"Insert!E35","v":0},{"$f":"TERM3!Z48","v":"0"},{"$f":"TERM3!AR48","v":"0"},{"$f":"TERM3!BJ48","v":"0"},{"$f":"TERM3!CB48","v":"0"},{"$f":"TERM3!CT48","v":"0"},{"$f":"SUMIF(H41:L41,\">0\")","v":0},{"$f":"TERM3!CU48","v":0},{"$f":"TERM3!CV48","v":0},0,{"$f":"'FIN PAT MARK SHEET'!P50","v":0},{"$f":"'FIN PAT MARK SHEET'!Q50","v":0},{"$f":"'FIN PAT MARK SHEET'!R50","v":0},{"$f":"'FIN PAT MARK SHEET'!S50","v":0},{"$f":"'FIN PAT MARK SHEET'!T50","v":0},{"$f":"'FIN PAT MARK SHEET'!U50","v":0},{"$f":"ROUND((SUMIF(Q41:V41,\">0\")/1.2),0)","v":0},{"$f":"'FIN PAT MARK SHEET'!W50","v":0},{"$f":"'FIN PAT MARK SHEET'!X50","v":0},{"$f":"ROUND((SUMIF(X41:Y41,\">0\")/2.857142857),0)","v":0},{"$f":"'FIN PAT MARK SHEET'!Z50","v":0},{"$f":"'FIN PAT MARK SHEET'!AA50","v":0},{"$f":"'FIN PAT MARK SHEET'!AB50","v":0},{"$f":"'FIN PAT MARK SHEET'!AC50","v":0},{"$f":"'FIN PAT MARK SHEET'!AD50","v":0},{"$f":"'FIN PAT MARK SHEET'!AE50","v":0},{"$f":"IF(AN41=4,SUM(AM41)/1.6,IF(AN41=6,SUM(AM41)/2.4,SUM(AM41)))","v":0},{"$f":"ROUND((SUM(M41/2)+(P41/1.333333333)),2)","v":0},{"$f":"ROUND((AH41),0)","v":0},{"$f":"IF(AI41>79,\"7\",IF(AI41>69,\"6\",IF(AI41>59,\"5\",IF(AI41>49,\"4\",IF(AI41>39,\"3\",IF(AI41>29,\"2\",IF(AI41>0,\"1\",IF(AI41=0,\"\"))))))))","v":""},null,{"$f":"COUNTIF(H41:AF41,\">0\")","v":0},{"$f":"IF(AL41=0,\"X\",\"\")","v":"X"},{"$f":"COUNTIF(AA41:AF41,\">0\")","v":0}]
[34,34,{"$f":"Insert!A36","v":0},{"$f":"Insert!B36","v":0},{"$f":"Insert!C36","v":0},{"$f":"Insert!D36","v":0},{"$f":"Insert!E36","v":0},{"$f":"TERM3!Z49","v":"0"},{"$f":"TERM3!AR49","v":"0"},{"$f":"TERM3!BJ49","v":"0"},{"$f":"TERM3!CB49","v":"0"},{"$f":"TERM3!CT49","v":"0"},0,{"$f":"TERM3!CU49","v":0},{"$f":"TERM3!CV49","v":0},0,{"$f":"'FIN PAT MARK SHEET'!P51","v":0},{"$f":"'FIN PAT MARK SHEET'!Q51","v":0},{"$f":"'FIN PAT MARK SHEET'!R51","v":0},{"$f":"'FIN PAT MARK SHEET'!S51","v":0},{"$f":"'FIN PAT MARK SHEET'!T51","v":0},{"$f":"'FIN PAT MARK SHEET'!U51","v":0},0,{"$f":"'FIN PAT MARK SHEET'!W51","v":0},{"$f":"'FIN PAT MARK SHEET'!X51","v":0},0,{"$f":"'FIN PAT MARK SHEET'!Z51","v":0},{"$f":"'FIN PAT MARK SHEET'!AA51","v":0},{"$f":"'FIN PAT MARK SHEET'!AB51","v":0},{"$f":"'FIN PAT MARK SHEET'!AC51","v":0},{"$f":"'FIN PAT MARK SHEET'!AD51","v":0},{"$f":"'FIN PAT MARK SHEET'!AE51","v":0},0,0,0,"",null,0,"X",0]
[35,35,{"$f":"Insert!A37","v":0},{"$f":"Insert!B37","v":0},{"$f":"Insert!C37","v":0},{"$f":"Insert!D37","v":0},{"$f":"Insert!E37","v":0},{"$f":"TERM3!Z50","v":"0"},{"$f":"TERM3!AR50","v":"0"},{"$f":"TERM3!BJ50","v":"0"},{"$f":"TERM3!CB50","v":"0"},{"$f":"TERM3!CT50","v":"0"},0,{"$f":"TERM3!CU50","v":0},{"$f":"TERM3!CV50","v":0},0,{"$f":"'FIN PAT MARK SHEET'!P52","v":0},{"$f":"'FIN PAT MARK SHEET'!Q52","v":0},{"$f":"'FIN PAT MARK SHEET'!R52","v":0},{"$f":"'FIN PAT MARK SHEET'!S52","v":0},{"$f":"'FIN PAT MARK SHEET'!T52","v":0},{"$f":"'FIN PAT MARK SHEET'!U52","v":0},0,{"$f":"'FIN PAT MARK SHEET'!W52","v":0},{"$f":"'FIN PAT MARK SHEET'!X52","v":0},0,{"$f":"'FIN PAT MARK SHEET'!Z52","v":0},{"$f":"'FIN PAT MARK SHEET'!AA52","v":0},{"$f":"'FIN PAT MARK SHEET'!AB52","v":0},{"$f":"'FIN PAT MARK SHEET'!AC52","v":0},{"$f":"'FIN PAT MARK SHEET'!AD52","v":0},{"$f":"'FIN PAT MARK SHEET'!AE52","v":0},0,0,0,"",null,0,"X",0]
[36,36,{"$f":"Insert!A38","v":0},{"$f":"Insert!B38","v":0},{"$f":"Insert!C38","v":0},{"$f":"Insert!D38","v":0},{"$f":"Insert!E38","v":0},{"$f":"TERM3!Z51","v":"0"},{"$f":"TERM3!AR51","v":"0"},{"$f":"TERM3!BJ51","v":"0"},{"$f":"TERM3!CB51","v":"0"},{"$f":"TERM3!CT51","v":"0"},0,{"$f":"TERM3!CU51","v":0},{"$f":"TERM3!CV51","v":0},0,{"$f":"'FIN PAT MARK SHEET'!P53","v":0},{"$f":"'FIN PAT MARK SHEET'!Q53","v":0},{"$f":"'FIN PAT MARK SHEET'!R53","v":0},{"$f":"'FIN PAT MARK SHEET'!S53","v":0},{"$f":"'FIN PAT MARK SHEET'!T53","v":0},{"$f":"'FIN PAT MARK SHEET'!U53","v":0},0,{"$f":"'FIN PAT MARK SHEET'!W53","v":0},{"$f":"'FIN PAT MARK SHEET'!X53","v":0},0,{"$f":"'FIN PAT MARK SHEET'!Z53","v":0},{"$f":"'FIN PAT MARK SHEET'!AA53","v":0},{"$f":"'FIN PAT MARK SHEET'!AB53","v":0},{"$f":"'FIN PAT MARK SHEET'!AC53","v":0},{"$f":"'FIN PAT MARK SHEET'!AD53","v":0},{"$f":"'FIN PAT MARK SHEET'!AE53","v":0},0,0,0,"",null,0,"X",0]
[37,37,{"$f":"Insert!A39","v":0},{"$f":"Insert!B39","v":0},{"$f":"Insert!C39","v":0},{"$f":"Insert!D39","v":0},{"$f":"Insert!E39","v":0},{"$f":"TERM3!Z52","v":"0"},{"$f":"TERM3!AR52","v":"0"},{"$f":"TERM3!BJ52","v":"0"},{"$f":"TERM3!CB52","v":"0"},{"$f":"TERM3!CT52","v":"0"},0,{"$f":"TERM3!CU52","v":0},{"$f":"TERM3!CV52","v":0},0,{"$f":"'FIN PAT MARK SHEET'!P54","v":0},{"$f":"'FIN PAT MARK SHEET'!Q54","v":0},{"$f":"'FIN PAT MARK SHEET'!R54","v":0},{"$f":"'FIN PAT MARK SHEET'!S54","v":0},{"$f":"'FIN PAT MARK SHEET'!T54","v":0},{"$f":"'FIN PAT MARK SHEET'!U54","v":0},0,{"$f":"'FIN PAT MARK SHEET'!W54","v":0},{"$f":"'FIN PAT MARK SHEET'!X54","v":0},0,{"$f":"'FIN PAT MARK SHEET'!Z54","v":0},{"$f":"'FIN PAT MARK SHEET'!AA54","v":0},{"$f":"'FIN PAT MARK SHEET'!AB54","v":0},{"$f":"'FIN PAT MARK SHEET'!AC54","v":0},{"$f":"'FIN PAT MARK SHEET'!AD54","v":0},{"$f":"'FIN PAT MARK SHEET'!AE54","v":0},0,0,0,"",null,0,"X",0]
[38,38,{"$f":"Insert!A40","v":0},{"$f":"Insert!B40","v":0},{"$f":"Insert!C40","v":0},{"$f":"Insert!D40","v":0},{"$f":"Insert!E40","v":0},{"$f":"TERM3!Z53","v":"0"},{"$f":"TERM3!AR53","v":"0"},{"$f":"TERM3!BJ53","v":"0"},{"$f":"TERM3!CB53","v":"0"},{"$f":"TERM3!CT53","v":"0"},0,{"$f":"TERM3!CU53","v":0},{"$f":"TERM3!CV53","v":0},0,{"$f":"'FIN PAT MARK SHEET'!P55","v":0},{"$f":"'FIN PAT MARK SHEET'!Q55","v":0},{"$f":"'FIN PAT MARK SHEET'!R55","v":0},{"$f":"'FIN PAT MARK SHEET'!S55","v":0},{"$f":"'FIN PAT MARK SHEET'!T55","v":0},{"$f":"'FIN PAT MARK SHEET'!U55","v":0},0,{"$f":"'FIN PAT MARK SHEET'!W55","v":0},{"$f":"'FIN PAT MARK SHEET'!X55","v":0},0,{"$f":"'FIN PAT MARK SHEET'!Z55","v":0},{"$f":"'FIN PAT MARK SHEET'!AA55","v":0},{"$f":"'FIN PAT MARK SHEET'!AB55","v":0},{"$f":"'FIN PAT MARK SHEET'!AC55","v":0},{"$f":"'FIN PAT MARK SHEET'!AD55","v":0},{"$f":"'FIN PAT MARK SHEET'!AE55","v":0},0,0,0,"",null,0,"X",0]
[39,39,{"$f":"Insert!A41","v":0},{"$f":"Insert!B41","v":0},{"$f":"Insert!C41","v":0},{"$f":"Insert!D41","v":0},{"$f":"Insert!E41","v":0},{"$f":"TERM3!Z54","v":"0"},{"$f":"TERM3!AR54","v":"0"},{"$f":"TERM3!BJ54","v":"0"},{"$f":"TERM3!CB54","v":"0"},{"$f":"TERM3!CT54","v":"0"},0,{"$f":"TERM3!CU54","v":0},{"$f":"TERM3!CV54","v":0},0,{"$f":"'FIN PAT MARK SHEET'!P56","v":0},{"$f":"'FIN PAT MARK SHEET'!Q56","v":0},{"$f":"'FIN PAT MARK SHEET'!R56","v":0},{"$f":"'FIN PAT MARK SHEET'!S56","v":0},{"$f":"'FIN PAT MARK SHEET'!T56","v":0},{"$f":"'FIN PAT MARK SHEET'!U56","v":0},0,{"$f":"'FIN PAT MARK SHEET'!W56","v":0},{"$f":"'FIN PAT MARK SHEET'!X56","v":0},0,{"$f":"'FIN PAT MARK SHEET'!Z56","v":0},{"$f":"'FIN PAT MARK SHEET'!AA56","v":0},{"$f":"'FIN PAT MARK SHEET'!AB56","v":0},{"$f":"'FIN PAT MARK SHEET'!AC56","v":0},{"$f":"'FIN PAT MARK SHEET'!AD56","v":0},{"$f":"'FIN PAT MARK SHEET'!AE56","v":0},0,0,0,"",null,0,"X",0]
[40,40,{"$f":"Insert!A42","v":0},{"$f":"Insert!B42","v":0},{"$f":"Insert!C42","v":0},{"$f":"Insert!D42","v":0},{"$f":"Insert!E42","v":0},{"$f":"TERM3!Z55","v":"0"},{"$f":"TERM3!AR55","v":"0"},{"$f":"TERM3!BJ55","v":"0"},{"$f":"TERM3!CB55","v":"0"},{"$f":"TERM3!CT55","v":"0"},0,{"$f":"TERM3!CU55","v":0},{"$f":"TERM3!CV55","v":0},0,{"$f":"'FIN PAT MARK SHEET'!P57","v":0},{"$f":"'FIN PAT MARK SHEET'!Q57","v":0},{"$f":"'FIN PAT MARK SHEET'!R57","v":0},{"$f":"'FIN PAT MARK SHEET'!S57","v":0},{"$f":"'FIN PAT MARK SHEET'!T57","v":0},{"$f":"'FIN PAT MARK SHEET'!U57","v":0},0,{"$f":"'FIN PAT MARK SHEET'!W57","v":0},{"$f":"'FIN PAT MARK SHEET'!X57","v":0},0,{"$f":"'FIN PAT MARK SHEET'!Z57","v":0},{"$f":"'FIN PAT MARK SHEET'!AA57","v":0},{"$f":"'FIN PAT MARK SHEET'!AB57","v":0},{"$f":"'FIN PAT MARK SHEET'!AC57","v":0},{"$f":"'FIN PAT MARK SHEET'!AD57","v":0},{"$f":"'FIN PAT MARK SHEET'!AE57","v":0},0,0,0,"",null,0,"X",0]
[41,41,{"$f":"Insert!A43","v":0},{"$f":"Insert!B43","v":0},{"$f":"Insert!C43","v":0},{"$f":"Insert!D43","v":0},{"$f":"Insert!E43","v":0},{"$f":"TERM3!Z56","v":"0"},{"$f":"TERM3!AR56","v":"0"},{"$f":"TERM3!BJ56","v":"0"},{"$f":"TERM3!CB56","v":"0"},{"$f":"TERM3!CT56","v":"0"},0,{"$f":"TERM3!CU56","v":0},{"$f":"TERM3!CV56","v":0},0,{"$f":"'FIN PAT MARK SHEET'!P58","v":0},{"$f":"'FIN PAT MARK SHEET'!Q58","v":0},{"$f":"'FIN PAT MARK SHEET'!R58","v":0},{"$f":"'FIN PAT MARK SHEET'!S58","v":0},{"$f":"'FIN PAT MARK SHEET'!T58","v":0},{"$f":"'FIN PAT MARK SHEET'!U58","v":0},0,{"$f":"'FIN PAT MARK SHEET'!W58","v":0},{"$f":"'FIN PAT MARK SHEET'!X58","v":0},0,{"$f":"'FIN PAT MARK SHEET'!Z58","v":0},{"$f":"'FIN PAT MARK SHEET'!AA58","v":0},{"$f":"'FIN PAT MARK SHEET'!AB58","v":0},{"$f":"'FIN PAT MARK SHEET'!AC58","v":0},{"$f":"'FIN PAT MARK SHEET'!AD58","v":0},{"$f":"'FIN PAT MARK SHEET'!AE58","v":0},0,0,0,"",null,0,"X",0]
[42,42,{"$f":"Insert!A44","v":0},{"$f":"Insert!B44","v":0},{"$f":"Insert!C44","v":0},{"$f":"Insert!D44","v":0},{"$f":"Insert!E44","v":0},{"$f":"TERM3!Z57","v":"0"},{"$f":"TERM3!AR57","v":"0"},{"$f":"TERM3!BJ57","v":"0"},{"$f":"TERM3!CB57","v":"0"},{"$f":"TERM3!CT57","v":"0"},0,{"$f":"TERM3!CU57","v":0},{"$f":"TERM3!CV57","v":0},0,{"$f":"'FIN PAT MARK SHEET'!P59","v":0},{"$f":"'FIN PAT MARK SHEET'!Q59","v":0},{"$f":"'FIN PAT MARK SHEET'!R59","v":0},{"$f":"'FIN PAT MARK SHEET'!S59","v":0},{"$f":"'FIN PAT MARK SHEET'!T59","v":0},{"$f":"'FIN PAT MARK SHEET'!U59","v":0},0,{"$f":"'FIN PAT MARK SHEET'!W59","v":0},{"$f":"'FIN PAT MARK SHEET'!X59","v":0},0,{"$f":"'FIN PAT MARK SHEET'!Z59","v":0},{"$f":"'FIN PAT MARK SHEET'!AA59","v":0},{"$f":"'FIN PAT MARK SHEET'!AB59","v":0},{"$f":"'FIN PAT MARK SHEET'!AC59","v":0},{"$f":"'FIN PAT MARK SHEET'!AD59","v":0},{"$f":"'FIN PAT MARK SHEET'!AE59","v":0},0,0,0,"",null,0,"X",0]
[43,43,{"$f":"Insert!A45","v":0},{"$f":"Insert!B45","v":0},{"$f":"Insert!C45","v":0},{"$f":"Insert!D45","v":0},{"$f":"Insert!E45","v":0},{"$f":"TERM3!Z58","v":"0"},{"$f":"TERM3!AR58","v":"0"},{"$f":"TERM3!BJ58","v":"0"},{"$f":"TERM3!CB58","v":"0"},{"$f":"TERM3!CT58","v":"0"},0,{"$f":"TERM3!CU58","v":0},{"$f":"TERM3!CV58","v":0},0,{"$f":"'FIN PAT MARK SHEET'!P60","v":0},{"$f":"'FIN PAT MARK SHEET'!Q60","v":0},{"$f":"'FIN PAT MARK SHEET'!R60","v":0},{"$f":"'FIN PAT MARK SHEET'!S60","v":0},{"$f":"'FIN PAT MARK SHEET'!T60","v":0},{"$f":"'FIN PAT MARK SHEET'!U60","v":0},0,{"$f":"'FIN PAT MARK SHEET'!W60","v":0},{"$f":"'FIN PAT MARK SHEET'!X60","v":0},0,{"$f":"'FIN PAT MARK SHEET'!Z60","v":0},{"$f":"'FIN PAT MARK SHEET'!AA60","v":0},{"$f":"'FIN PAT MARK SHEET'!AB60","v":0},{"$f":"'FIN PAT MARK SHEET'!AC60","v":0},{"$f":"'FIN PAT MARK SHEET'!AD60","v":0},{"$f":"'FIN PAT MARK SHEET'!AE60","v":0},0,0,0,"",null,0,"X",0]
[44,44,{"$f":"Insert!A46","v":0},{"$f":"Insert!B46","v":0},{"$f":"Insert!C46","v":0},{"$f":"Insert!D46","v":0},{"$f":"Insert!E46","v":0},{"$f":"TERM3!Z59","v":"0"},{"$f":"TERM3!AR59","v":"0"},{"$f":"TERM3!BJ59","v":"0"},{"$f":"TERM3!CB59","v":"0"},{"$f":"TERM3!CT59","v":"0"},0,{"$f":"TERM3!CU59","v":0},{"$f":"TERM3!CV59","v":0},0,{"$f":"'FIN PAT MARK SHEET'!P61","v":0},{"$f":"'FIN PAT MARK SHEET'!Q61","v":0},{"$f":"'FIN PAT MARK SHEET'!R61","v":0},{"$f":"'FIN PAT MARK SHEET'!S61","v":0},{"$f":"'FIN PAT MARK SHEET'!T61","v":0},{"$f":"'FIN PAT MARK SHEET'!U61","v":0},0,{"$f":"'FIN PAT MARK SHEET'!W61","v":0},{"$f":"'FIN PAT MARK SHEET'!X61","v":0},0,{"$f":"'FIN PAT MARK SHEET'!Z61","v":0},{"$f":"'FIN PAT MARK SHEET'!AA61","v":0},{"$f":"'FIN PAT MARK SHEET'!AB61","v":0},{"$f":"'FIN PAT MARK SHEET'!AC61","v":0},{"$f":"'FIN PAT MARK SHEET'!AD61","v":0},{"$f":"'FIN PAT MARK SHEET'!AE61","v":0},0,0,0,"",null,0,"X",0]
[45,45,{"$f":"Insert!A47","v":0},{"$f":"Insert!B47","v":0},{"$f":"Insert!C47","v":0},{"$f":"Insert!D47","v":0},{"$f":"Insert!E47","v":0},{"$f":"TERM3!Z60","v":"0"},{"$f":"TERM3!AR60","v":"0"},{"$f":"TERM3!BJ60","v":"0"},{"$f":"TERM3!CB60","v":"0"},{"$f":"TERM3!CT60","v":"0"},0,{"$f":"TERM3!CU60","v":0},{"$f":"TERM3!CV60","v":0},0,{"$f":"'FIN PAT MARK SHEET'!P62","v":0},{"$f":"'FIN PAT MARK SHEET'!Q62","v":0},{"$f":"'FIN PAT MARK SHEET'!R62","v":0},{"$f":"'FIN PAT MARK SHEET'!S62","v":0},{"$f":"'FIN PAT MARK SHEET'!T62","v":0},{"$f":"'FIN PAT MARK SHEET'!U62","v":0},0,{"$f":"'FIN PAT MARK SHEET'!W62","v":0},{"$f":"'FIN PAT MARK SHEET'!X62","v":0},0,{"$f":"'FIN PAT MARK SHEET'!Z62","v":0},{"$f":"'FIN PAT MARK SHEET'!AA62","v":0},{"$f":"'FIN PAT MARK SHEET'!AB62","v":0},{"$f":"'FIN PAT MARK SHEET'!AC62","v":0},{"$f":"'FIN PAT MARK SHEET'!AD62","v":0},{"$f":"'FIN PAT MARK SHEET'!AE62","v":0},0,0,0,"",null,0,"X",0]
[46,46,{"$f":"Insert!A48","v":0},{"$f":"Insert!B48","v":0},{"$f":"Insert!C48","v":0},{"$f":"Insert!D48","v":0},{"$f":"Insert!E48","v":0},{"$f":"TERM3!Z61","v":"0"},{"$f":"TERM3!AR61","v":"0"},{"$f":"TERM3!BJ61","v":"0"},{"$f":"TERM3!CB61","v":"0"},{"$f":"TERM3!CT61","v":"0"},0,{"$f":"TERM3!CU61","v":0},{"$f":"TERM3!CV61","v":0},0,{"$f":"'FIN PAT MARK SHEET'!P63","v":0},{"$f":"'FIN PAT MARK SHEET'!Q63","v":0},{"$f":"'FIN PAT MARK SHEET'!R63","v":0},{"$f":"'FIN PAT MARK SHEET'!S63","v":0},{"$f":"'FIN PAT MARK SHEET'!T63","v":0},{"$f":"'FIN PAT MARK SHEET'!U63","v":0},0,{"$f":"'FIN PAT MARK SHEET'!W63","v":0},{"$f":"'FIN PAT MARK SHEET'!X63","v":0},0,{"$f":"'FIN PAT MARK SHEET'!Z63","v":0},{"$f":"'FIN PAT MARK SHEET'!AA63","v":0},{"$f":"'FIN PAT MARK SHEET'!AB63","v":0},{"$f":"'FIN PAT MARK SHEET'!AC63","v":0},{"$f":"'FIN PAT MARK SHEET'!AD63","v":0},{"$f":"'FIN PAT MARK SHEET'!AE63","v":0},0,0,0,"",null,0,"X",0]
[47,47,{"$f":"Insert!A49","v":0},{"$f":"Insert!B49","v":0},{"$f":"Insert!C49","v":0},{"$f":"Insert!D49","v":0},{"$f":"Insert!E49","v":0},{"$f":"TERM3!Z62","v":"0"},{"$f":"TERM3!AR62","v":"0"},{"$f":"TERM3!BJ62","v":"0"},{"$f":"TERM3!CB62","v":"0"},{"$f":"TERM3!CT62","v":"0"},0,{"$f":"TERM3!CU62","v":0},{"$f":"TERM3!CV62","v":0},0,{"$f":"'FIN PAT MARK SHEET'!P64","v":0},{"$f":"'FIN PAT MARK SHEET'!Q64","v":0},{"$f":"'FIN PAT MARK SHEET'!R64","v":0},{"$f":"'FIN PAT MARK SHEET'!S64","v":0},{"$f":"'FIN PAT MARK SHEET'!T64","v":0},{"$f":"'FIN PAT MARK SHEET'!U64","v":0},0,{"$f":"'FIN PAT MARK SHEET'!W64","v":0},{"$f":"'FIN PAT MARK SHEET'!X64","v":0},0,{"$f":"'FIN PAT MARK SHEET'!Z64","v":0},{"$f":"'FIN PAT MARK SHEET'!AA64","v":0},{"$f":"'FIN PAT MARK SHEET'!AB64","v":0},{"$f":"'FIN PAT MARK SHEET'!AC64","v":0},{"$f":"'FIN PAT MARK SHEET'!AD64","v":0},{"$f":"'FIN PAT MARK SHEET'!AE64","v":0},0,0,0,"",null,0,"X",0]
[48,48,{"$f":"Insert!A50","v":0},{"$f":"Insert!B50","v":0},{"$f":"Insert!C50","v":0},{"$f":"Insert!D50","v":0},{"$f":"Insert!E50","v":0},{"$f":"TERM3!Z63","v":"0"},{"$f":"TERM3!AR63","v":"0"},{"$f":"TERM3!BJ63","v":"0"},{"$f":"TERM3!CB63","v":"0"},{"$f":"TERM3!CT63","v":"0"},0,{"$f":"TERM3!CU63","v":0},{"$f":"TERM3!CV63","v":0},0,{"$f":"'FIN PAT MARK SHEET'!P65","v":0},{"$f":"'FIN PAT MARK SHEET'!Q65","v":0},{"$f":"'FIN PAT MARK SHEET'!R65","v":0},{"$f":"'FIN PAT MARK SHEET'!S65","v":0},{"$f":"'FIN PAT MARK SHEET'!T65","v":0},{"$f":"'FIN PAT MARK SHEET'!U65","v":0},0,{"$f":"'FIN PAT MARK SHEET'!W65","v":0},{"$f":"'FIN PAT MARK SHEET'!X65","v":0},0,{"$f":"'FIN PAT MARK SHEET'!Z65","v":0},{"$f":"'FIN PAT MARK SHEET'!AA65","v":0},{"$f":"'FIN PAT MARK SHEET'!AB65","v":0},{"$f":"'FIN PAT MARK SHEET'!AC65","v":0},{"$f":"'FIN PAT MARK SHEET'!AD65","v":0},{"$f":"'FIN PAT MARK SHEET'!AE65","v":0},0,0,0,"",null,0,"X",0]
[49,49,{"$f":"Insert!A51","v":0},{"$f":"Insert!B51","v":0},{"$f":"Insert!C51","v":0},{"$f":"Insert!D51","v":0},{"$f":"Insert!E51","v":0},{"$f":"TERM3!Z64","v":"0"},{"$f":"TERM3!AR64","v":"0"},{"$f":"TERM3!BJ64","v":"0"},{"$f":"TERM3!CB64","v":"0"},{"$f":"TERM3!CT64","v":"0"},0,{"$f":"TERM3!CU64","v":0},{"$f":"TERM3!CV64","v":0},0,{"$f":"'FIN PAT MARK SHEET'!P66","v":0},{"$f":"'FIN PAT MARK SHEET'!Q66","v":0},{"$f":"'FIN PAT MARK SHEET'!R66","v":0},{"$f":"'FIN PAT MARK SHEET'!S66","v":0},{"$f":"'FIN PAT MARK SHEET'!T66","v":0},{"$f":"'FIN PAT MARK SHEET'!U66","v":0},0,{"$f":"'FIN PAT MARK SHEET'!W66","v":0},{"$f":"'FIN PAT MARK SHEET'!X66","v":0},0,{"$f":"'FIN PAT MARK SHEET'!Z66","v":0},{"$f":"'FIN PAT MARK SHEET'!AA66","v":0},{"$f":"'FIN PAT MARK SHEET'!AB66","v":0},{"$f":"'FIN PAT MARK SHEET'!AC66","v":0},{"$f":"'FIN PAT MARK SHEET'!AD66","v":0},{"$f":"'FIN PAT MARK SHEET'!AE66","v":0},0,0,0,"",null,0,"X",0]
[50,50,{"$f":"Insert!A52","v":0},{"$f":"Insert!B52","v":0},{"$f":"Insert!C52","v":0},{"$f":"Insert!D52","v":0},{"$f":"Insert!E52","v":0},{"$f":"TERM3!Z65","v":"0"},{"$f":"TERM3!AR65","v":"0"},{"$f":"TERM3!BJ65","v":"0"},{"$f":"TERM3!CB65","v":"0"},{"$f":"TERM3!CT65","v":"0"},0,{"$f":"TERM3!CU65","v":0},{"$f":"TERM3!CV65","v":0},0,{"$f":"'FIN PAT MARK SHEET'!P67","v":0},{"$f":"'FIN PAT MARK SHEET'!Q67","v":0},{"$f":"'FIN PAT MARK SHEET'!R67","v":0},{"$f":"'FIN PAT MARK SHEET'!S67","v":0},{"$f":"'FIN PAT MARK SHEET'!T67","v":0},{"$f":"'FIN PAT MARK SHEET'!U67","v":0},0,{"$f":"'FIN PAT MARK SHEET'!W67","v":0},{"$f":"'FIN PAT MARK SHEET'!X67","v":0},0,{"$f":"'FIN PAT MARK SHEET'!Z67","v":0},{"$f":"'FIN PAT MARK SHEET'!AA67","v":0},{"$f":"'FIN PAT MARK SHEET'!AB67","v":0},{"$f":"'FIN PAT MARK SHEET'!AC67","v":0},{"$f":"'FIN PAT MARK SHEET'!AD67","v":0},{"$f":"'FIN PAT MARK SHEET'!AE67","v":0},0,0,0,"",null,0,"X",0]
[51,51,{"$f":"Insert!A53","v":0},{"$f":"Insert!B53","v":0},{"$f":"Insert!C53","v":0},{"$f":"Insert!D53","v":0},{"$f":"Insert!E53","v":0},{"$f":"TERM3!Z66","v":"0"},{"$f":"TERM3!AR66","v":"0"},{"$f":"TERM3!BJ66","v":"0"},{"$f":"TERM3!CB66","v":"0"},{"$f":"TERM3!CT66","v":"0"},0,{"$f":"TERM3!CU66","v":0},{"$f":"TERM3!CV66","v":0},0,{"$f":"'FIN PAT MARK SHEET'!P68","v":0},{"$f":"'FIN PAT MARK SHEET'!Q68","v":0},{"$f":"'FIN PAT MARK SHEET'!R68","v":0},{"$f":"'FIN PAT MARK SHEET'!S68","v":0},{"$f":"'FIN PAT MARK SHEET'!T68","v":0},{"$f":"'FIN PAT MARK SHEET'!U68","v":0},0,{"$f":"'FIN PAT MARK SHEET'!W68","v":0},{"$f":"'FIN PAT MARK SHEET'!X68","v":0},0,{"$f":"'FIN PAT MARK SHEET'!Z68","v":0},{"$f":"'FIN PAT MARK SHEET'!AA68","v":0},{"$f":"'FIN PAT MARK SHEET'!AB68","v":0},{"$f":"'FIN PAT MARK SHEET'!AC68","v":0},{"$f":"'FIN PAT MARK SHEET'!AD68","v":0},{"$f":"'FIN PAT MARK SHEET'!AE68","v":0},0,0,0,"",null,0,"X",0]
[52,52,{"$f":"Insert!A54","v":0},{"$f":"Insert!B54","v":0},{"$f":"Insert!C54","v":0},{"$f":"Insert!D54","v":0},{"$f":"Insert!E54","v":0},{"$f":"TERM3!Z67","v":"0"},{"$f":"TERM3!AR67","v":"0"},{"$f":"TERM3!BJ67","v":"0"},{"$f":"TERM3!CB67","v":"0"},{"$f":"TERM3!CT67","v":"0"},0,{"$f":"TERM3!CU67","v":0},{"$f":"TERM3!CV67","v":0},0,{"$f":"'FIN PAT MARK SHEET'!P69","v":0},{"$f":"'FIN PAT MARK SHEET'!Q69","v":0},{"$f":"'FIN PAT MARK SHEET'!R69","v":0},{"$f":"'FIN PAT MARK SHEET'!S69","v":0},{"$f":"'FIN PAT MARK SHEET'!T69","v":0},{"$f":"'FIN PAT MARK SHEET'!U69","v":0},0,{"$f":"'FIN PAT MARK SHEET'!W69","v":0},{"$f":"'FIN PAT MARK SHEET'!X69","v":0},0,{"$f":"'FIN PAT MARK SHEET'!Z69","v":0},{"$f":"'FIN PAT MARK SHEET'!AA69","v":0},{"$f":"'FIN PAT MARK SHEET'!AB69","v":0},{"$f":"'FIN PAT MARK SHEET'!AC69","v":0},{"$f":"'FIN PAT MARK SHEET'!AD69","v":0},{"$f":"'FIN PAT MARK SHEET'!AE69","v":0},0,0,0,"",null,0,"X",0]
[53,53,{"$f":"Insert!A55","v":0},{"$f":"Insert!B55","v":0},{"$f":"Insert!C55","v":0},{"$f":"Insert!D55","v":0},{"$f":"Insert!E55","v":0},{"$f":"TERM3!Z68","v":"0"},{"$f":"TERM3!AR68","v":"0"},{"$f":"TERM3!BJ68","v":"0"},{"$f":"TERM3!CB68","v":"0"},{"$f":"TERM3!CT68","v":"0"},0,{"$f":"TERM3!CU68","v":0},{"$f":"TERM3!CV68","v":0},0,{"$f":"'FIN PAT MARK SHEET'!P70","v":0},{"$f":"'FIN PAT MARK SHEET'!Q70","v":0},{"$f":"'FIN PAT MARK SHEET'!R70","v":0},{"$f":"'FIN PAT MARK SHEET'!S70","v":0},{"$f":"'FIN PAT MARK SHEET'!T70","v":0},{"$f":"'FIN PAT MARK SHEET'!U70","v":0},0,{"$f":"'FIN PAT MARK SHEET'!W70","v":0},{"$f":"'FIN PAT MARK SHEET'!X70","v":0},0,{"$f":"'FIN PAT MARK SHEET'!Z70","v":0},{"$f":"'FIN PAT MARK SHEET'!AA70","v":0},{"$f":"'FIN PAT MARK SHEET'!AB70","v":0},{"$f":"'FIN PAT MARK SHEET'!AC70","v":0},{"$f":"'FIN PAT MARK SHEET'!AD70","v":0},{"$f":"'FIN PAT MARK SHEET'!AE70","v":0},0,0,0,"",null,0,"X",0]
[54,54,{"$f":"Insert!A56","v":0},{"$f":"Insert!B56","v":0},{"$f":"Insert!C56","v":0},{"$f":"Insert!D56","v":0},{"$f":"Insert!E56","v":0},{"$f":"TERM3!Z69","v":"0"},{"$f":"TERM3!AR69","v":"0"},{"$f":"TERM3!BJ69","v":"0"},{"$f":"TERM3!CB69","v":"0"},{"$f":"TERM3!CT69","v":"0"},0,{"$f":"TERM3!CU69","v":0},{"$f":"TERM3!CV69","v":0},0,{"$f":"'FIN PAT MARK SHEET'!P71","v":0},{"$f":"'FIN PAT MARK SHEET'!Q71","v":0},{"$f":"'FIN PAT MARK SHEET'!R71","v":0},{"$f":"'FIN PAT MARK SHEET'!S71","v":0},{"$f":"'FIN PAT MARK SHEET'!T71","v":0},{"$f":"'FIN PAT MARK SHEET'!U71","v":0},0,{"$f":"'FIN PAT MARK SHEET'!W71","v":0},{"$f":"'FIN PAT MARK SHEET'!X71","v":0},0,{"$f":"'FIN PAT MARK SHEET'!Z71","v":0},{"$f":"'FIN PAT MARK SHEET'!AA71","v":0},{"$f":"'FIN PAT MARK SHEET'!AB71","v":0},{"$f":"'FIN PAT MARK SHEET'!AC71","v":0},{"$f":"'FIN PAT MARK SHEET'!AD71","v":0},{"$f":"'FIN PAT MARK SHEET'!AE71","v":0},0,0,0,"",null,0,"X",0]
[55,55,{"$f":"Insert!A57","v":0},{"$f":"Insert!B57","v":0},{"$f":"Insert!C57","v":0},{"$f":"Insert!D57","v":0},{"$f":"Insert!E57","v":0},{"$f":"TERM3!Z70","v":"0"},{"$f":"TERM3!AR70","v":"0"},{"$f":"TERM3!BJ70","v":"0"},{"$f":"TERM3!CB70","v":"0"},{"$f":"TERM3!CT70","v":"0"},0,{"$f":"TERM3!CU70","v":0},{"$f":"TERM3!CV70","v":0},0,{"$f":"'FIN PAT MARK SHEET'!P72","v":0},{"$f":"'FIN PAT MARK SHEET'!Q72","v":0},{"$f":"'FIN PAT MARK SHEET'!R72","v":0},{"$f":"'FIN PAT MARK SHEET'!S72","v":0},{"$f":"'FIN PAT MARK SHEET'!T72","v":0},{"$f":"'FIN PAT MARK SHEET'!U72","v":0},0,{"$f":"'FIN PAT MARK SHEET'!W72","v":0},{"$f":"'FIN PAT MARK SHEET'!X72","v":0},0,{"$f":"'FIN PAT MARK SHEET'!Z72","v":0},{"$f":"'FIN PAT MARK SHEET'!AA72","v":0},{"$f":"'FIN PAT MARK SHEET'!AB72","v":0},{"$f":"'FIN PAT MARK SHEET'!AC72","v":0},{"$f":"'FIN PAT MARK SHEET'!AD72","v":0},{"$f":"'FIN PAT MARK SHEET'!AE72","v":0},0,0,0,"",null,0,"X",0]
[56,56,{"$f":"Insert!A58","v":0},{"$f":"Insert!B58","v":0},{"$f":"Insert!C58","v":0},{"$f":"Insert!D58","v":0},{"$f":"Insert!E58","v":0},{"$f":"TERM3!Z71","v":"0"},{"$f":"TERM3!AR71","v":"0"},{"$f":"TERM3!BJ71","v":"0"},{"$f":"TERM3!CB71","v":"0"},{"$f":"TERM3!CT71","v":"0"},0,{"$f":"TERM3!CU71","v":0},{"$f":"TERM3!CV71","v":0},0,{"$f":"'FIN PAT MARK SHEET'!P73","v":0},{"$f":"'FIN PAT MARK SHEET'!Q73","v":0},{"$f":"'FIN PAT MARK SHEET'!R73","v":0},{"$f":"'FIN PAT MARK SHEET'!S73","v":0},{"$f":"'FIN PAT MARK SHEET'!T73","v":0},{"$f":"'FIN PAT MARK SHEET'!U73","v":0},0,{"$f":"'FIN PAT MARK SHEET'!W73","v":0},{"$f":"'FIN PAT MARK SHEET'!X73","v":0},0,{"$f":"'FIN PAT MARK SHEET'!Z73","v":0},{"$f":"'FIN PAT MARK SHEET'!AA73","v":0},{"$f":"'FIN PAT MARK SHEET'!AB73","v":0},{"$f":"'FIN PAT MARK SHEET'!AC73","v":0},{"$f":"'FIN PAT MARK SHEET'!AD73","v":0},{"$f":"'FIN PAT MARK SHEET'!AE73","v":0},0,0,0,"",null,0,"X",0]
[57,57,{"$f":"Insert!A59","v":0},{"$f":"Insert!B59","v":0},{"$f":"Insert!C59","v":0},{"$f":"Insert!D59","v":0},{"$f":"Insert!E59","v":0},{"$f":"TERM3!Z72","v":"0"},{"$f":"TERM3!AR72","v":"0"},{"$f":"TERM3!BJ72","v":"0"},{"$f":"TERM3!CB72","v":"0"},{"$f":"TERM3!CT72","v":"0"},0,{"$f":"TERM3!CU72","v":0},{"$f":"TERM3!CV72","v":0},0,{"$f":"'FIN PAT MARK SHEET'!P74","v":0},{"$f":"'FIN PAT MARK SHEET'!Q74","v":0},{"$f":"'FIN PAT MARK SHEET'!R74","v":0},{"$f":"'FIN PAT MARK SHEET'!S74","v":0},{"$f":"'FIN PAT MARK SHEET'!T74","v":0},{"$f":"'FIN PAT MARK SHEET'!U74","v":0},0,{"$f":"'FIN PAT MARK SHEET'!W74","v":0},{"$f":"'FIN PAT MARK SHEET'!X74","v":0},0,{"$f":"'FIN PAT MARK SHEET'!Z74","v":0},{"$f":"'FIN PAT MARK SHEET'!AA74","v":0},{"$f":"'FIN PAT MARK SHEET'!AB74","v":0},{"$f":"'FIN PAT MARK SHEET'!AC74","v":0},{"$f":"'FIN PAT MARK SHEET'!AD74","v":0},{"$f":"'FIN PAT MARK SHEET'!AE74","v":0},0,0,0,"",null,0,"X",0]
[58,58,{"$f":"Insert!A60","v":0},{"$f":"Insert!B60","v":0},{"$f":"Insert!C60","v":0},{"$f":"Insert!D60","v":0},{"$f":"Insert!E60","v":0},{"$f":"TERM3!Z73","v":"0"},{"$f":"TERM3!AR73","v":"0"},{"$f":"TERM3!BJ73","v":"0"},{"$f":"TERM3!CB73","v":"0"},{"$f":"TERM3!CT73","v":"0"},0,{"$f":"TERM3!CU73","v":0},{"$f":"TERM3!CV73","v":0},0,{"$f":"'FIN PAT MARK SHEET'!P75","v":0},{"$f":"'FIN PAT MARK SHEET'!Q75","v":0},{"$f":"'FIN PAT MARK SHEET'!R75","v":0},{"$f":"'FIN PAT MARK SHEET'!S75","v":0},{"$f":"'FIN PAT MARK SHEET'!T75","v":0},{"$f":"'FIN PAT MARK SHEET'!U75","v":0},0,{"$f":"'FIN PAT MARK SHEET'!W75","v":0},{"$f":"'FIN PAT MARK SHEET'!X75","v":0},0,{"$f":"'FIN PAT MARK SHEET'!Z75","v":0},{"$f":"'FIN PAT MARK SHEET'!AA75","v":0},{"$f":"'FIN PAT MARK SHEET'!AB75","v":0},{"$f":"'FIN PAT MARK SHEET'!AC75","v":0},{"$f":"'FIN PAT MARK SHEET'!AD75","v":0},{"$f":"'FIN PAT MARK SHEET'!AE75","v":0},0,0,0,"",null,0,"X",0]
[59,59,{"$f":"Insert!A61","v":0},{"$f":"Insert!B61","v":0},{"$f":"Insert!C61","v":0},{"$f":"Insert!D61","v":0},{"$f":"Insert!E61","v":0},{"$f":"TERM3!Z74","v":"0"},{"$f":"TERM3!AR74","v":"0"},{"$f":"TERM3!BJ74","v":"0"},{"$f":"TERM3!CB74","v":"0"},{"$f":"TERM3!CT74","v":"0"},0,{"$f":"TERM3!CU74","v":0},{"$f":"TERM3!CV74","v":0},0,{"$f":"'FIN PAT MARK SHEET'!P76","v":0},{"$f":"'FIN PAT MARK SHEET'!Q76","v":0},{"$f":"'FIN PAT MARK SHEET'!R76","v":0},{"$f":"'FIN PAT MARK SHEET'!S76","v":0},{"$f":"'FIN PAT MARK SHEET'!T76","v":0},{"$f":"'FIN PAT MARK SHEET'!U76","v":0},0,{"$f":"'FIN PAT MARK SHEET'!W76","v":0},{"$f":"'FIN PAT MARK SHEET'!X76","v":0},0,{"$f":"'FIN PAT MARK SHEET'!Z76","v":0},{"$f":"'FIN PAT MARK SHEET'!AA76","v":0},{"$f":"'FIN PAT MARK SHEET'!AB76","v":0},{"$f":"'FIN PAT MARK SHEET'!AC76","v":0},{"$f":"'FIN PAT MARK SHEET'!AD76","v":0},{"$f":"'FIN PAT MARK SHEET'!AE76","v":0},0,0,0,"",null,0,"X",0]
[60,60,{"$f":"Insert!A62","v":0},{"$f":"Insert!B62","v":0},{"$f":"Insert!C62","v":0},{"$f":"Insert!D62","v":0},{"$f":"Insert!E62","v":0},{"$f":"TERM3!Z75","v":"0"},{"$f":"TERM3!AR75","v":"0"},{"$f":"TERM3!BJ75","v":"0"},{"$f":"TERM3!CB75","v":"0"},{"$f":"TERM3!CT75","v":"0"},0,{"$f":"TERM3!CU75","v":0},{"$f":"TERM3!CV75","v":0},0,{"$f":"'FIN PAT MARK SHEET'!P77","v":0},{"$f":"'FIN PAT MARK SHEET'!Q77","v":0},{"$f":"'FIN PAT MARK SHEET'!R77","v":0},{"$f":"'FIN PAT MARK SHEET'!S77","v":0},{"$f":"'FIN PAT MARK SHEET'!T77","v":0},{"$f":"'FIN PAT MARK SHEET'!U77","v":0},0,{"$f":"'FIN PAT MARK SHEET'!W77","v":0},{"$f":"'FIN PAT MARK SHEET'!X77","v":0},0,{"$f":"'FIN PAT MARK SHEET'!Z77","v":0},{"$f":"'FIN PAT MARK SHEET'!AA77","v":0},{"$f":"'FIN PAT MARK SHEET'!AB77","v":0},{"$f":"'FIN PAT MARK SHEET'!AC77","v":0},{"$f":"'FIN PAT MARK SHEET'!AD77","v":0},{"$f":"'FIN PAT MARK SHEET'!AE77","v":0},0,0,0,"",null,0,"X",0]
[61,61,{"$f":"Insert!A63","v":0},{"$f":"Insert!B63","v":0},{"$f":"Insert!C63","v":0},{"$f":"Insert!D63","v":0},{"$f":"Insert!E63","v":0},{"$f":"TERM3!Z76","v":"0"},{"$f":"TERM3!AR76","v":"0"},{"$f":"TERM3!BJ76","v":"0"},{"$f":"TERM3!CB76","v":"0"},{"$f":"TERM3!CT76","v":"0"},0,{"$f":"TERM3!CU76","v":0},{"$f":"TERM3!CV76","v":0},0,{"$f":"'FIN PAT MARK SHEET'!P78","v":0},{"$f":"'FIN PAT MARK SHEET'!Q78","v":0},{"$f":"'FIN PAT MARK SHEET'!R78","v":0},{"$f":"'FIN PAT MARK SHEET'!S78","v":0},{"$f":"'FIN PAT MARK SHEET'!T78","v":0},{"$f":"'FIN PAT MARK SHEET'!U78","v":0},0,{"$f":"'FIN PAT MARK SHEET'!W78","v":0},{"$f":"'FIN PAT MARK SHEET'!X78","v":0},0,{"$f":"'FIN PAT MARK SHEET'!Z78","v":0},{"$f":"'FIN PAT MARK SHEET'!AA78","v":0},{"$f":"'FIN PAT MARK SHEET'!AB78","v":0},{"$f":"'FIN PAT MARK SHEET'!AC78","v":0},{"$f":"'FIN PAT MARK SHEET'!AD78","v":0},{"$f":"'FIN PAT MARK SHEET'!AE78","v":0},0,0,0,"",null,0,"X",0]
[62,62,{"$f":"Insert!A64","v":0},{"$f":"Insert!B64","v":0},{"$f":"Insert!C64","v":0},{"$f":"Insert!D64","v":0},{"$f":"Insert!E64","v":0},{"$f":"TERM3!Z77","v":"0"},{"$f":"TERM3!AR77","v":"0"},{"$f":"TERM3!BJ77","v":"0"},{"$f":"TERM3!CB77","v":"0"},{"$f":"TERM3!CT77","v":"0"},0,{"$f":"TERM3!CU77","v":0},{"$f":"TERM3!CV77","v":0},0,{"$f":"'FIN PAT MARK SHEET'!P79","v":0},{"$f":"'FIN PAT MARK SHEET'!Q79","v":0},{"$f":"'FIN PAT MARK SHEET'!R79","v":0},{"$f":"'FIN PAT MARK SHEET'!S79","v":0},{"$f":"'FIN PAT MARK SHEET'!T79","v":0},{"$f":"'FIN PAT MARK SHEET'!U79","v":0},0,{"$f":"'FIN PAT MARK SHEET'!W79","v":0},{"$f":"'FIN PAT MARK SHEET'!X79","v":0},0,{"$f":"'FIN PAT MARK SHEET'!Z79","v":0},{"$f":"'FIN PAT MARK SHEET'!AA79","v":0},{"$f":"'FIN PAT MARK SHEET'!AB79","v":0},{"$f":"'FIN PAT MARK SHEET'!AC79","v":0},{"$f":"'FIN PAT MARK SHEET'!AD79","v":0},{"$f":"'FIN PAT MARK SHEET'!AE79","v":0},0,0,0,"",null,0,"X",0]
[63,63,{"$f":"Insert!A65","v":0},{"$f":"Insert!B65","v":0},{"$f":"Insert!C65","v":0},{"$f":"Insert!D65","v":0},{"$f":"Insert!E65","v":0},{"$f":"TERM3!Z78","v":"0"},{"$f":"TERM3!AR78","v":"0"},{"$f":"TERM3!BJ78","v":"0"},{"$f":"TERM3!CB78","v":"0"},{"$f":"TERM3!CT78","v":"0"},0,{"$f":"TERM3!CU78","v":0},{"$f":"TERM3!CV78","v":0},0,{"$f":"'FIN PAT MARK SHEET'!P80","v":0},{"$f":"'FIN PAT MARK SHEET'!Q80","v":0},{"$f":"'FIN PAT MARK SHEET'!R80","v":0},{"$f":"'FIN PAT MARK SHEET'!S80","v":0},{"$f":"'FIN PAT MARK SHEET'!T80","v":0},{"$f":"'FIN PAT MARK SHEET'!U80","v":0},0,{"$f":"'FIN PAT MARK SHEET'!W80","v":0},{"$f":"'FIN PAT MARK SHEET'!X80","v":0},0,{"$f":"'FIN PAT MARK SHEET'!Z80","v":0},{"$f":"'FIN PAT MARK SHEET'!AA80","v":0},{"$f":"'FIN PAT MARK SHEET'!AB80","v":0},{"$f":"'FIN PAT MARK SHEET'!AC80","v":0},{"$f":"'FIN PAT MARK SHEET'!AD80","v":0},{"$f":"'FIN PAT MARK SHEET'!AE80","v":0},0,0,0,"",null,0,"X",0]
[64,64,{"$f":"Insert!A66","v":0},{"$f":"Insert!B66","v":0},{"$f":"Insert!C66","v":0},{"$f":"Insert!D66","v":0},{"$f":"Insert!E66","v":0},{"$f":"TERM3!Z79","v":"0"},{"$f":"TERM3!AR79","v":"0"},{"$f":"TERM3!BJ79","v":"0"},{"$f":"TERM3!CB79","v":"0"},{"$f":"TERM3!CT79","v":"0"},0,{"$f":"TERM3!CU79","v":0},{"$f":"TERM3!CV79","v":0},0,{"$f":"'FIN PAT MARK SHEET'!P81","v":0},{"$f":"'FIN PAT MARK SHEET'!Q81","v":0},{"$f":"'FIN PAT MARK SHEET'!R81","v":0},{"$f":"'FIN PAT MARK SHEET'!S81","v":0},{"$f":"'FIN PAT MARK SHEET'!T81","v":0},{"$f":"'FIN PAT MARK SHEET'!U81","v":0},0,{"$f":"'FIN PAT MARK SHEET'!W81","v":0},{"$f":"'FIN PAT MARK SHEET'!X81","v":0},0,{"$f":"'FIN PAT MARK SHEET'!Z81","v":0},{"$f":"'FIN PAT MARK SHEET'!AA81","v":0},{"$f":"'FIN PAT MARK SHEET'!AB81","v":0},{"$f":"'FIN PAT MARK SHEET'!AC81","v":0},{"$f":"'FIN PAT MARK SHEET'!AD81","v":0},{"$f":"'FIN PAT MARK SHEET'!AE81","v":0},0,0,0,"",null,0,"X",0]
[65,65,{"$f":"Insert!A67","v":0},{"$f":"Insert!B67","v":0},{"$f":"Insert!C67","v":0},{"$f":"Insert!D67","v":0},{"$f":"Insert!E67","v":0},{"$f":"TERM3!Z80","v":"0"},{"$f":"TERM3!AR80","v":"0"},{"$f":"TERM3!BJ80","v":"0"},{"$f":"TERM3!CB80","v":"0"},{"$f":"TERM3!CT80","v":"0"},{"$f":"SUMIF(H73:L73,\">0\")","v":0},{"$f":"TERM3!CU80","v":0},{"$f":"TERM3!CV80","v":0},0,{"$f":"'FIN PAT MARK SHEET'!P83","v":0},{"$f":"'FIN PAT MARK SHEET'!Q83","v":0},{"$f":"'FIN PAT MARK SHEET'!R83","v":0},{"$f":"'FIN PAT MARK SHEET'!S83","v":0},{"$f":"'FIN PAT MARK SHEET'!T83","v":0},{"$f":"'FIN PAT MARK SHEET'!U83","v":0},{"$f":"ROUND((SUMIF(Q73:V73,\">0\")/1.2),0)","v":0},{"$f":"'FIN PAT MARK SHEET'!W83","v":0},{"$f":"'FIN PAT MARK SHEET'!X83","v":0},{"$f":"ROUND((SUMIF(X73:Y73,\">0\")/2.857142857),0)","v":0},{"$f":"'FIN PAT MARK SHEET'!Z83","v":0},{"$f":"'FIN PAT MARK SHEET'!AA83","v":0},{"$f":"'FIN PAT MARK SHEET'!AB83","v":0},{"$f":"'FIN PAT MARK SHEET'!AC83","v":0},{"$f":"'FIN PAT MARK SHEET'!AD83","v":0},{"$f":"'FIN PAT MARK SHEET'!AE83","v":0},{"$f":"IF(AN73=4,SUM(AM73)/1.6,IF(AN73=6,SUM(AM73)/2.4,SUM(AM73)))","v":0},{"$f":"ROUND((SUM(M73/2)+(P73/1.333333333)),2)","v":0},{"$f":"ROUND((AH73),0)","v":0},{"$f":"IF(AI73>79,\"7\",IF(AI73>69,\"6\",IF(AI73>59,\"5\",IF(AI73>49,\"4\",IF(AI73>39,\"3\",IF(AI73>29,\"2\",IF(AI73>0,\"1\",IF(AI73=0,\"\"))))))))","v":""},null,{"$f":"COUNTIF(H73:AF73,\">0\")","v":0},{"$f":"IF(AL73=0,\"X\",\"\")","v":"X"},{"$f":"COUNTIF(AA73:AF73,\">0\")","v":0}]
[66,66,{"$f":"Insert!A68","v":0},{"$f":"Insert!B68","v":0},{"$f":"Insert!C68","v":0},{"$f":"Insert!D68","v":0},{"$f":"Insert!E68","v":0},{"$f":"TERM3!Z81","v":"0"},{"$f":"TERM3!AR81","v":"0"},{"$f":"TERM3!BJ81","v":"0"},{"$f":"TERM3!CB81","v":"0"},{"$f":"TERM3!CT81","v":"0"},0,{"$f":"TERM3!CU81","v":0},{"$f":"TERM3!CV81","v":0},{"$f":"SUMIF(N74:O74,\">0\")","v":0},{"$f":"'FIN PAT MARK SHEET'!P84","v":0},{"$f":"'FIN PAT MARK SHEET'!Q84","v":0},{"$f":"'FIN PAT MARK SHEET'!R84","v":0},{"$f":"'FIN PAT MARK SHEET'!S84","v":0},{"$f":"'FIN PAT MARK SHEET'!T84","v":0},{"$f":"'FIN PAT MARK SHEET'!U84","v":0},0,{"$f":"'FIN PAT MARK SHEET'!W84","v":0},{"$f":"'FIN PAT MARK SHEET'!X84","v":0},0,{"$f":"'FIN PAT MARK SHEET'!Z84","v":0},{"$f":"'FIN PAT MARK SHEET'!AA84","v":0},{"$f":"'FIN PAT MARK SHEET'!AB84","v":0},{"$f":"'FIN PAT MARK SHEET'!AC84","v":0},{"$f":"'FIN PAT MARK SHEET'!AD84","v":0},{"$f":"'FIN PAT MARK SHEET'!AE84","v":0},0,0,0,"",null,0,"X",0]
[67,67,{"$f":"Insert!A69","v":0},{"$f":"Insert!B69","v":0},{"$f":"Insert!C69","v":0},{"$f":"Insert!D69","v":0},{"$f":"Insert!E69","v":0},{"$f":"TERM3!Z82","v":"0"},{"$f":"TERM3!AR82","v":"0"},{"$f":"TERM3!BJ82","v":"0"},{"$f":"TERM3!CB82","v":"0"},{"$f":"TERM3!CT82","v":"0"},0,{"$f":"TERM3!CU82","v":0},{"$f":"TERM3!CV82","v":0},0,{"$f":"'FIN PAT MARK SHEET'!P85","v":0},{"$f":"'FIN PAT MARK SHEET'!Q85","v":0},{"$f":"'FIN PAT MARK SHEET'!R85","v":0},{"$f":"'FIN PAT MARK SHEET'!S85","v":0},{"$f":"'FIN PAT MARK SHEET'!T85","v":0},{"$f":"'FIN PAT MARK SHEET'!U85","v":0},0,{"$f":"'FIN PAT MARK SHEET'!W85","v":0},{"$f":"'FIN PAT MARK SHEET'!X85","v":0},0,{"$f":"'FIN PAT MARK SHEET'!Z85","v":0},{"$f":"'FIN PAT MARK SHEET'!AA85","v":0},{"$f":"'FIN PAT MARK SHEET'!AB85","v":0},{"$f":"'FIN PAT MARK SHEET'!AC85","v":0},{"$f":"'FIN PAT MARK SHEET'!AD85","v":0},{"$f":"'FIN PAT MARK SHEET'!AE85","v":0},0,0,0,"",null,0,"X",0]
[68,68,{"$f":"Insert!A70","v":0},{"$f":"Insert!B70","v":0},{"$f":"Insert!C70","v":0},{"$f":"Insert!D70","v":0},{"$f":"Insert!E70","v":0},{"$f":"TERM3!Z83","v":"0"},{"$f":"TERM3!AR83","v":"0"},{"$f":"TERM3!BJ83","v":"0"},{"$f":"TERM3!CB83","v":"0"},{"$f":"TERM3!CT83","v":"0"},0,{"$f":"TERM3!CU83","v":0},{"$f":"TERM3!CV83","v":0},0,{"$f":"'FIN PAT MARK SHEET'!P86","v":0},{"$f":"'FIN PAT MARK SHEET'!Q86","v":0},{"$f":"'FIN PAT MARK SHEET'!R86","v":0},{"$f":"'FIN PAT MARK SHEET'!S86","v":0},{"$f":"'FIN PAT MARK SHEET'!T86","v":0},{"$f":"'FIN PAT MARK SHEET'!U86","v":0},0,{"$f":"'FIN PAT MARK SHEET'!W86","v":0},{"$f":"'FIN PAT MARK SHEET'!X86","v":0},0,{"$f":"'FIN PAT MARK SHEET'!Z86","v":0},{"$f":"'FIN PAT MARK SHEET'!AA86","v":0},{"$f":"'FIN PAT MARK SHEET'!AB86","v":0},{"$f":"'FIN PAT MARK SHEET'!AC86","v":0},{"$f":"'FIN PAT MARK SHEET'!AD86","v":0},{"$f":"'FIN PAT MARK SHEET'!AE86","v":0},0,0,0,"",null,0,"X",0]
[69,69,{"$f":"Insert!A71","v":0},{"$f":"Insert!B71","v":0},{"$f":"Insert!C71","v":0},{"$f":"Insert!D71","v":0},{"$f":"Insert!E71","v":0},{"$f":"TERM3!Z84","v":"0"},{"$f":"TERM3!AR84","v":"0"},{"$f":"TERM3!BJ84","v":"0"},{"$f":"TERM3!CB84","v":"0"},{"$f":"TERM3!CT84","v":"0"},0,{"$f":"TERM3!CU84","v":0},{"$f":"TERM3!CV84","v":0},0,{"$f":"'FIN PAT MARK SHEET'!P87","v":0},{"$f":"'FIN PAT MARK SHEET'!Q87","v":0},{"$f":"'FIN PAT MARK SHEET'!R87","v":0},{"$f":"'FIN PAT MARK SHEET'!S87","v":0},{"$f":"'FIN PAT MARK SHEET'!T87","v":0},{"$f":"'FIN PAT MARK SHEET'!U87","v":0},0,{"$f":"'FIN PAT MARK SHEET'!W87","v":0},{"$f":"'FIN PAT MARK SHEET'!X87","v":0},0,{"$f":"'FIN PAT MARK SHEET'!Z87","v":0},{"$f":"'FIN PAT MARK SHEET'!AA87","v":0},{"$f":"'FIN PAT MARK SHEET'!AB87","v":0},{"$f":"'FIN PAT MARK SHEET'!AC87","v":0},{"$f":"'FIN PAT MARK SHEET'!AD87","v":0},{"$f":"'FIN PAT MARK SHEET'!AE87","v":0},0,0,0,"",null,0,"X",0]
[70,70,{"$f":"Insert!A72","v":0},{"$f":"Insert!B72","v":0},{"$f":"Insert!C72","v":0},{"$f":"Insert!D72","v":0},{"$f":"Insert!E72","v":0},{"$f":"TERM3!Z85","v":"0"},{"$f":"TERM3!AR85","v":"0"},{"$f":"TERM3!BJ85","v":"0"},{"$f":"TERM3!CB85","v":"0"},{"$f":"TERM3!CT85","v":"0"},0,{"$f":"TERM3!CU85","v":0},{"$f":"TERM3!CV85","v":0},0,{"$f":"'FIN PAT MARK SHEET'!P88","v":0},{"$f":"'FIN PAT MARK SHEET'!Q88","v":0},{"$f":"'FIN PAT MARK SHEET'!R88","v":0},{"$f":"'FIN PAT MARK SHEET'!S88","v":0},{"$f":"'FIN PAT MARK SHEET'!T88","v":0},{"$f":"'FIN PAT MARK SHEET'!U88","v":0},0,{"$f":"'FIN PAT MARK SHEET'!W88","v":0},{"$f":"'FIN PAT MARK SHEET'!X88","v":0},0,{"$f":"'FIN PAT MARK SHEET'!Z88","v":0},{"$f":"'FIN PAT MARK SHEET'!AA88","v":0},{"$f":"'FIN PAT MARK SHEET'!AB88","v":0},{"$f":"'FIN PAT MARK SHEET'!AC88","v":0},{"$f":"'FIN PAT MARK SHEET'!AD88","v":0},{"$f":"'FIN PAT MARK SHEET'!AE88","v":0},0,0,0,"",null,0,"X",0]
[71,71,{"$f":"Insert!A73","v":0},{"$f":"Insert!B73","v":0},{"$f":"Insert!C73","v":0},{"$f":"Insert!D73","v":0},{"$f":"Insert!E73","v":0},{"$f":"TERM3!Z86","v":"0"},{"$f":"TERM3!AR86","v":"0"},{"$f":"TERM3!BJ86","v":"0"},{"$f":"TERM3!CB86","v":"0"},{"$f":"TERM3!CT86","v":"0"},0,{"$f":"TERM3!CU86","v":0},{"$f":"TERM3!CV86","v":0},0,{"$f":"'FIN PAT MARK SHEET'!P89","v":0},{"$f":"'FIN PAT MARK SHEET'!Q89","v":0},{"$f":"'FIN PAT MARK SHEET'!R89","v":0},{"$f":"'FIN PAT MARK SHEET'!S89","v":0},{"$f":"'FIN PAT MARK SHEET'!T89","v":0},{"$f":"'FIN PAT MARK SHEET'!U89","v":0},0,{"$f":"'FIN PAT MARK SHEET'!W89","v":0},{"$f":"'FIN PAT MARK SHEET'!X89","v":0},0,{"$f":"'FIN PAT MARK SHEET'!Z89","v":0},{"$f":"'FIN PAT MARK SHEET'!AA89","v":0},{"$f":"'FIN PAT MARK SHEET'!AB89","v":0},{"$f":"'FIN PAT MARK SHEET'!AC89","v":0},{"$f":"'FIN PAT MARK SHEET'!AD89","v":0},{"$f":"'FIN PAT MARK SHEET'!AE89","v":0},0,0,0,"",null,0,"X",0]
[72,72,{"$f":"Insert!A74","v":0},{"$f":"Insert!B74","v":0},{"$f":"Insert!C74","v":0},{"$f":"Insert!D74","v":0},{"$f":"Insert!E74","v":0},{"$f":"TERM3!Z87","v":"0"},{"$f":"TERM3!AR87","v":"0"},{"$f":"TERM3!BJ87","v":"0"},{"$f":"TERM3!CB87","v":"0"},{"$f":"TERM3!CT87","v":"0"},0,{"$f":"TERM3!CU87","v":0},{"$f":"TERM3!CV87","v":0},0,{"$f":"'FIN PAT MARK SHEET'!P90","v":0},{"$f":"'FIN PAT MARK SHEET'!Q90","v":0},{"$f":"'FIN PAT MARK SHEET'!R90","v":0},{"$f":"'FIN PAT MARK SHEET'!S90","v":0},{"$f":"'FIN PAT MARK SHEET'!T90","v":0},{"$f":"'FIN PAT MARK SHEET'!U90","v":0},0,{"$f":"'FIN PAT MARK SHEET'!W90","v":0},{"$f":"'FIN PAT MARK SHEET'!X90","v":0},0,{"$f":"'FIN PAT MARK SHEET'!Z90","v":0},{"$f":"'FIN PAT MARK SHEET'!AA90","v":0},{"$f":"'FIN PAT MARK SHEET'!AB90","v":0},{"$f":"'FIN PAT MARK SHEET'!AC90","v":0},{"$f":"'FIN PAT MARK SHEET'!AD90","v":0},{"$f":"'FIN PAT MARK SHEET'!AE90","v":0},0,0,0,"",null,0,"X",0]
[73,73,{"$f":"Insert!A75","v":0},{"$f":"Insert!B75","v":0},{"$f":"Insert!C75","v":0},{"$f":"Insert!D75","v":0},{"$f":"Insert!E75","v":0},{"$f":"TERM3!Z88","v":"0"},{"$f":"TERM3!AR88","v":"0"},{"$f":"TERM3!BJ88","v":"0"},{"$f":"TERM3!CB88","v":"0"},{"$f":"TERM3!CT88","v":"0"},0,{"$f":"TERM3!CU88","v":0},{"$f":"TERM3!CV88","v":0},0,{"$f":"'FIN PAT MARK SHEET'!P91","v":0},{"$f":"'FIN PAT MARK SHEET'!Q91","v":0},{"$f":"'FIN PAT MARK SHEET'!R91","v":0},{"$f":"'FIN PAT MARK SHEET'!S91","v":0},{"$f":"'FIN PAT MARK SHEET'!T91","v":0},{"$f":"'FIN PAT MARK SHEET'!U91","v":0},0,{"$f":"'FIN PAT MARK SHEET'!W91","v":0},{"$f":"'FIN PAT MARK SHEET'!X91","v":0},0,{"$f":"'FIN PAT MARK SHEET'!Z91","v":0},{"$f":"'FIN PAT MARK SHEET'!AA91","v":0},{"$f":"'FIN PAT MARK SHEET'!AB91","v":0},{"$f":"'FIN PAT MARK SHEET'!AC91","v":0},{"$f":"'FIN PAT MARK SHEET'!AD91","v":0},{"$f":"'FIN PAT MARK SHEET'!AE91","v":0},0,0,0,"",null,0,"X",0]
[74,74,{"$f":"Insert!A76","v":0},{"$f":"Insert!B76","v":0},{"$f":"Insert!C76","v":0},{"$f":"Insert!D76","v":0},{"$f":"Insert!E76","v":0},{"$f":"TERM3!Z89","v":"0"},{"$f":"TERM3!AR89","v":"0"},{"$f":"TERM3!BJ89","v":"0"},{"$f":"TERM3!CB89","v":"0"},{"$f":"TERM3!CT89","v":"0"},0,{"$f":"TERM3!CU89","v":0},{"$f":"TERM3!CV89","v":0},0,{"$f":"'FIN PAT MARK SHEET'!P92","v":0},{"$f":"'FIN PAT MARK SHEET'!Q92","v":0},{"$f":"'FIN PAT MARK SHEET'!R92","v":0},{"$f":"'FIN PAT MARK SHEET'!S92","v":0},{"$f":"'FIN PAT MARK SHEET'!T92","v":0},{"$f":"'FIN PAT MARK SHEET'!U92","v":0},0,{"$f":"'FIN PAT MARK SHEET'!W92","v":0},{"$f":"'FIN PAT MARK SHEET'!X92","v":0},0,{"$f":"'FIN PAT MARK SHEET'!Z92","v":0},{"$f":"'FIN PAT MARK SHEET'!AA92","v":0},{"$f":"'FIN PAT MARK SHEET'!AB92","v":0},{"$f":"'FIN PAT MARK SHEET'!AC92","v":0},{"$f":"'FIN PAT MARK SHEET'!AD92","v":0},{"$f":"'FIN PAT MARK SHEET'!AE92","v":0},0,0,0,"",null,0,"X",0]
[75,75,{"$f":"Insert!A77","v":0},{"$f":"Insert!B77","v":0},{"$f":"Insert!C77","v":0},{"$f":"Insert!D77","v":0},{"$f":"Insert!E77","v":0},{"$f":"TERM3!Z90","v":"0"},{"$f":"TERM3!AR90","v":"0"},{"$f":"TERM3!BJ90","v":"0"},{"$f":"TERM3!CB90","v":"0"},{"$f":"TERM3!CT90","v":"0"},0,{"$f":"TERM3!CU90","v":0},{"$f":"TERM3!CV90","v":0},0,{"$f":"'FIN PAT MARK SHEET'!P93","v":0},{"$f":"'FIN PAT MARK SHEET'!Q93","v":0},{"$f":"'FIN PAT MARK SHEET'!R93","v":0},{"$f":"'FIN PAT MARK SHEET'!S93","v":0},{"$f":"'FIN PAT MARK SHEET'!T93","v":0},{"$f":"'FIN PAT MARK SHEET'!U93","v":0},0,{"$f":"'FIN PAT MARK SHEET'!W93","v":0},{"$f":"'FIN PAT MARK SHEET'!X93","v":0},0,{"$f":"'FIN PAT MARK SHEET'!Z93","v":0},{"$f":"'FIN PAT MARK SHEET'!AA93","v":0},{"$f":"'FIN PAT MARK SHEET'!AB93","v":0},{"$f":"'FIN PAT MARK SHEET'!AC93","v":0},{"$f":"'FIN PAT MARK SHEET'!AD93","v":0},{"$f":"'FIN PAT MARK SHEET'!AE93","v":0},0,0,0,"",null,0,"X",0]
[76,76,{"$f":"Insert!A78","v":0},{"$f":"Insert!B78","v":0},{"$f":"Insert!C78","v":0},{"$f":"Insert!D78","v":0},{"$f":"Insert!E78","v":0},{"$f":"TERM3!Z91","v":"0"},{"$f":"TERM3!AR91","v":"0"},{"$f":"TERM3!BJ91","v":"0"},{"$f":"TERM3!CB91","v":"0"},{"$f":"TERM3!CT91","v":"0"},0,{"$f":"TERM3!CU91","v":0},{"$f":"TERM3!CV91","v":0},0,{"$f":"'FIN PAT MARK SHEET'!P94","v":0},{"$f":"'FIN PAT MARK SHEET'!Q94","v":0},{"$f":"'FIN PAT MARK SHEET'!R94","v":0},{"$f":"'FIN PAT MARK SHEET'!S94","v":0},{"$f":"'FIN PAT MARK SHEET'!T94","v":0},{"$f":"'FIN PAT MARK SHEET'!U94","v":0},0,{"$f":"'FIN PAT MARK SHEET'!W94","v":0},{"$f":"'FIN PAT MARK SHEET'!X94","v":0},0,{"$f":"'FIN PAT MARK SHEET'!Z94","v":0},{"$f":"'FIN PAT MARK SHEET'!AA94","v":0},{"$f":"'FIN PAT MARK SHEET'!AB94","v":0},{"$f":"'FIN PAT MARK SHEET'!AC94","v":0},{"$f":"'FIN PAT MARK SHEET'!AD94","v":0},{"$f":"'FIN PAT MARK SHEET'!AE94","v":0},0,0,0,"",null,0,"X",0]
[77,77,{"$f":"Insert!A79","v":0},{"$f":"Insert!B79","v":0},{"$f":"Insert!C79","v":0},{"$f":"Insert!D79","v":0},{"$f":"Insert!E79","v":0},{"$f":"TERM3!Z92","v":"0"},{"$f":"TERM3!AR92","v":"0"},{"$f":"TERM3!BJ92","v":"0"},{"$f":"TERM3!CB92","v":"0"},{"$f":"TERM3!CT92","v":"0"},0,{"$f":"TERM3!CU92","v":0},{"$f":"TERM3!CV92","v":0},0,{"$f":"'FIN PAT MARK SHEET'!P95","v":0},{"$f":"'FIN PAT MARK SHEET'!Q95","v":0},{"$f":"'FIN PAT MARK SHEET'!R95","v":0},{"$f":"'FIN PAT MARK SHEET'!S95","v":0},{"$f":"'FIN PAT MARK SHEET'!T95","v":0},{"$f":"'FIN PAT MARK SHEET'!U95","v":0},0,{"$f":"'FIN PAT MARK SHEET'!W95","v":0},{"$f":"'FIN PAT MARK SHEET'!X95","v":0},0,{"$f":"'FIN PAT MARK SHEET'!Z95","v":0},{"$f":"'FIN PAT MARK SHEET'!AA95","v":0},{"$f":"'FIN PAT MARK SHEET'!AB95","v":0},{"$f":"'FIN PAT MARK SHEET'!AC95","v":0},{"$f":"'FIN PAT MARK SHEET'!AD95","v":0},{"$f":"'FIN PAT MARK SHEET'!AE95","v":0},0,0,0,"",null,0,"X",0]
[78,78,{"$f":"Insert!A80","v":0},{"$f":"Insert!B80","v":0},{"$f":"Insert!C80","v":0},{"$f":"Insert!D80","v":0},{"$f":"Insert!E80","v":0},{"$f":"TERM3!Z93","v":"0"},{"$f":"TERM3!AR93","v":"0"},{"$f":"TERM3!BJ93","v":"0"},{"$f":"TERM3!CB93","v":"0"},{"$f":"TERM3!CT93","v":"0"},0,{"$f":"TERM3!CU93","v":0},{"$f":"TERM3!CV93","v":0},0,{"$f":"'FIN PAT MARK SHEET'!P96","v":0},{"$f":"'FIN PAT MARK SHEET'!Q96","v":0},{"$f":"'FIN PAT MARK SHEET'!R96","v":0},{"$f":"'FIN PAT MARK SHEET'!S96","v":0},{"$f":"'FIN PAT MARK SHEET'!T96","v":0},{"$f":"'FIN PAT MARK SHEET'!U96","v":0},0,{"$f":"'FIN PAT MARK SHEET'!W96","v":0},{"$f":"'FIN PAT MARK SHEET'!X96","v":0},0,{"$f":"'FIN PAT MARK SHEET'!Z96","v":0},{"$f":"'FIN PAT MARK SHEET'!AA96","v":0},{"$f":"'FIN PAT MARK SHEET'!AB96","v":0},{"$f":"'FIN PAT MARK SHEET'!AC96","v":0},{"$f":"'FIN PAT MARK SHEET'!AD96","v":0},{"$f":"'FIN PAT MARK SHEET'!AE96","v":0},0,0,0,"",null,0,"X",0]
[79,79,{"$f":"Insert!A81","v":0},{"$f":"Insert!B81","v":0},{"$f":"Insert!C81","v":0},{"$f":"Insert!D81","v":0},{"$f":"Insert!E81","v":0},{"$f":"TERM3!Z94","v":"0"},{"$f":"TERM3!AR94","v":"0"},{"$f":"TERM3!BJ94","v":"0"},{"$f":"TERM3!CB94","v":"0"},{"$f":"TERM3!CT94","v":"0"},0,{"$f":"TERM3!CU94","v":0},{"$f":"TERM3!CV94","v":0},0,{"$f":"'FIN PAT MARK SHEET'!P97","v":0},{"$f":"'FIN PAT MARK SHEET'!Q97","v":0},{"$f":"'FIN PAT MARK SHEET'!R97","v":0},{"$f":"'FIN PAT MARK SHEET'!S97","v":0},{"$f":"'FIN PAT MARK SHEET'!T97","v":0},{"$f":"'FIN PAT MARK SHEET'!U97","v":0},0,{"$f":"'FIN PAT MARK SHEET'!W97","v":0},{"$f":"'FIN PAT MARK SHEET'!X97","v":0},0,{"$f":"'FIN PAT MARK SHEET'!Z97","v":0},{"$f":"'FIN PAT MARK SHEET'!AA97","v":0},{"$f":"'FIN PAT MARK SHEET'!AB97","v":0},{"$f":"'FIN PAT MARK SHEET'!AC97","v":0},{"$f":"'FIN PAT MARK SHEET'!AD97","v":0},{"$f":"'FIN PAT MARK SHEET'!AE97","v":0},0,0,0,"",null,0,"X",0]
[80,80,{"$f":"Insert!A82","v":0},{"$f":"Insert!B82","v":0},{"$f":"Insert!C82","v":0},{"$f":"Insert!D82","v":0},{"$f":"Insert!E82","v":0},{"$f":"TERM3!Z95","v":"0"},{"$f":"TERM3!AR95","v":"0"},{"$f":"TERM3!BJ95","v":"0"},{"$f":"TERM3!CB95","v":"0"},{"$f":"TERM3!CT95","v":"0"},0,{"$f":"TERM3!CU95","v":0},{"$f":"TERM3!CV95","v":0},0,{"$f":"'FIN PAT MARK SHEET'!P98","v":0},{"$f":"'FIN PAT MARK SHEET'!Q98","v":0},{"$f":"'FIN PAT MARK SHEET'!R98","v":0},{"$f":"'FIN PAT MARK SHEET'!S98","v":0},{"$f":"'FIN PAT MARK SHEET'!T98","v":0},{"$f":"'FIN PAT MARK SHEET'!U98","v":0},0,{"$f":"'FIN PAT MARK SHEET'!W98","v":0},{"$f":"'FIN PAT MARK SHEET'!X98","v":0},0,{"$f":"'FIN PAT MARK SHEET'!Z98","v":0},{"$f":"'FIN PAT MARK SHEET'!AA98","v":0},{"$f":"'FIN PAT MARK SHEET'!AB98","v":0},{"$f":"'FIN PAT MARK SHEET'!AC98","v":0},{"$f":"'FIN PAT MARK SHEET'!AD98","v":0},{"$f":"'FIN PAT MARK SHEET'!AE98","v":0},0,0,0,"",null,0,"X",0]
[81,81,{"$f":"Insert!A83","v":0},{"$f":"Insert!B83","v":0},{"$f":"Insert!C83","v":0},{"$f":"Insert!D83","v":0},{"$f":"Insert!E83","v":0},{"$f":"TERM3!Z96","v":"0"},{"$f":"TERM3!AR96","v":"0"},{"$f":"TERM3!BJ96","v":"0"},{"$f":"TERM3!CB96","v":"0"},{"$f":"TERM3!CT96","v":"0"},0,{"$f":"TERM3!CU96","v":0},{"$f":"TERM3!CV96","v":0},0,{"$f":"'FIN PAT MARK SHEET'!P99","v":0},{"$f":"'FIN PAT MARK SHEET'!Q99","v":0},{"$f":"'FIN PAT MARK SHEET'!R99","v":0},{"$f":"'FIN PAT MARK SHEET'!S99","v":0},{"$f":"'FIN PAT MARK SHEET'!T99","v":0},{"$f":"'FIN PAT MARK SHEET'!U99","v":0},0,{"$f":"'FIN PAT MARK SHEET'!W99","v":0},{"$f":"'FIN PAT MARK SHEET'!X99","v":0},0,{"$f":"'FIN PAT MARK SHEET'!Z99","v":0},{"$f":"'FIN PAT MARK SHEET'!AA99","v":0},{"$f":"'FIN PAT MARK SHEET'!AB99","v":0},{"$f":"'FIN PAT MARK SHEET'!AC99","v":0},{"$f":"'FIN PAT MARK SHEET'!AD99","v":0},{"$f":"'FIN PAT MARK SHEET'!AE99","v":0},0,0,0,"",null,0,"X",0]
[82,82,{"$f":"Insert!A84","v":0},{"$f":"Insert!B84","v":0},{"$f":"Insert!C84","v":0},{"$f":"Insert!D84","v":0},{"$f":"Insert!E84","v":0},{"$f":"TERM3!Z97","v":"0"},{"$f":"TERM3!AR97","v":"0"},{"$f":"TERM3!BJ97","v":"0"},{"$f":"TERM3!CB97","v":"0"},{"$f":"TERM3!CT97","v":"0"},0,{"$f":"TERM3!CU97","v":0},{"$f":"TERM3!CV97","v":0},0,{"$f":"'FIN PAT MARK SHEET'!P100","v":0},{"$f":"'FIN PAT MARK SHEET'!Q100","v":0},{"$f":"'FIN PAT MARK SHEET'!R100","v":0},{"$f":"'FIN PAT MARK SHEET'!S100","v":0},{"$f":"'FIN PAT MARK SHEET'!T100","v":0},{"$f":"'FIN PAT MARK SHEET'!U100","v":0},0,{"$f":"'FIN PAT MARK SHEET'!W100","v":0},{"$f":"'FIN PAT MARK SHEET'!X100","v":0},0,{"$f":"'FIN PAT MARK SHEET'!Z100","v":0},{"$f":"'FIN PAT MARK SHEET'!AA100","v":0},{"$f":"'FIN PAT MARK SHEET'!AB100","v":0},{"$f":"'FIN PAT MARK SHEET'!AC100","v":0},{"$f":"'FIN PAT MARK SHEET'!AD100","v":0},{"$f":"'FIN PAT MARK SHEET'!AE100","v":0},0,0,0,"",null,0,"X",0]
[83,83,{"$f":"Insert!A85","v":0},{"$f":"Insert!B85","v":0},{"$f":"Insert!C85","v":0},{"$f":"Insert!D85","v":0},{"$f":"Insert!E85","v":0},{"$f":"TERM3!Z98","v":"0"},{"$f":"TERM3!AR98","v":"0"},{"$f":"TERM3!BJ98","v":"0"},{"$f":"TERM3!CB98","v":"0"},{"$f":"TERM3!CT98","v":"0"},0,{"$f":"TERM3!CU98","v":0},{"$f":"TERM3!CV98","v":0},0,{"$f":"'FIN PAT MARK SHEET'!P101","v":0},{"$f":"'FIN PAT MARK SHEET'!Q101","v":0},{"$f":"'FIN PAT MARK SHEET'!R101","v":0},{"$f":"'FIN PAT MARK SHEET'!S101","v":0},{"$f":"'FIN PAT MARK SHEET'!T101","v":0},{"$f":"'FIN PAT MARK SHEET'!U101","v":0},0,{"$f":"'FIN PAT MARK SHEET'!W101","v":0},{"$f":"'FIN PAT MARK SHEET'!X101","v":0},0,{"$f":"'FIN PAT MARK SHEET'!Z101","v":0},{"$f":"'FIN PAT MARK SHEET'!AA101","v":0},{"$f":"'FIN PAT MARK SHEET'!AB101","v":0},{"$f":"'FIN PAT MARK SHEET'!AC101","v":0},{"$f":"'FIN PAT MARK SHEET'!AD101","v":0},{"$f":"'FIN PAT MARK SHEET'!AE101","v":0},0,0,0,"",null,0,"X",0]
[84,84,{"$f":"Insert!A86","v":0},{"$f":"Insert!B86","v":0},{"$f":"Insert!C86","v":0},{"$f":"Insert!D86","v":0},{"$f":"Insert!E86","v":0},{"$f":"TERM3!Z99","v":"0"},{"$f":"TERM3!AR99","v":"0"},{"$f":"TERM3!BJ99","v":"0"},{"$f":"TERM3!CB99","v":"0"},{"$f":"TERM3!CT99","v":"0"},0,{"$f":"TERM3!CU99","v":0},{"$f":"TERM3!CV99","v":0},0,{"$f":"'FIN PAT MARK SHEET'!P102","v":0},{"$f":"'FIN PAT MARK SHEET'!Q102","v":0},{"$f":"'FIN PAT MARK SHEET'!R102","v":0},{"$f":"'FIN PAT MARK SHEET'!S102","v":0},{"$f":"'FIN PAT MARK SHEET'!T102","v":0},{"$f":"'FIN PAT MARK SHEET'!U102","v":0},0,{"$f":"'FIN PAT MARK SHEET'!W102","v":0},{"$f":"'FIN PAT MARK SHEET'!X102","v":0},0,{"$f":"'FIN PAT MARK SHEET'!Z102","v":0},{"$f":"'FIN PAT MARK SHEET'!AA102","v":0},{"$f":"'FIN PAT MARK SHEET'!AB102","v":0},{"$f":"'FIN PAT MARK SHEET'!AC102","v":0},{"$f":"'FIN PAT MARK SHEET'!AD102","v":0},{"$f":"'FIN PAT MARK SHEET'!AE102","v":0},0,0,0,"",null,0,"X",0]
[85,85,{"$f":"Insert!A87","v":0},{"$f":"Insert!B87","v":0},{"$f":"Insert!C87","v":0},{"$f":"Insert!D87","v":0},{"$f":"Insert!E87","v":0},{"$f":"TERM3!Z100","v":"0"},{"$f":"TERM3!AR100","v":"0"},{"$f":"TERM3!BJ100","v":"0"},{"$f":"TERM3!CB100","v":"0"},{"$f":"TERM3!CT100","v":"0"},0,{"$f":"TERM3!CU100","v":0},{"$f":"TERM3!CV100","v":0},0,{"$f":"'FIN PAT MARK SHEET'!P103","v":0},{"$f":"'FIN PAT MARK SHEET'!Q103","v":0},{"$f":"'FIN PAT MARK SHEET'!R103","v":0},{"$f":"'FIN PAT MARK SHEET'!S103","v":0},{"$f":"'FIN PAT MARK SHEET'!T103","v":0},{"$f":"'FIN PAT MARK SHEET'!U103","v":0},0,{"$f":"'FIN PAT MARK SHEET'!W103","v":0},{"$f":"'FIN PAT MARK SHEET'!X103","v":0},0,{"$f":"'FIN PAT MARK SHEET'!Z103","v":0},{"$f":"'FIN PAT MARK SHEET'!AA103","v":0},{"$f":"'FIN PAT MARK SHEET'!AB103","v":0},{"$f":"'FIN PAT MARK SHEET'!AC103","v":0},{"$f":"'FIN PAT MARK SHEET'!AD103","v":0},{"$f":"'FIN PAT MARK SHEET'!AE103","v":0},0,0,0,"",null,0,"X",0]
[86,86,{"$f":"Insert!A88","v":0},{"$f":"Insert!B88","v":0},{"$f":"Insert!C88","v":0},{"$f":"Insert!D88","v":0},{"$f":"Insert!E88","v":0},{"$f":"TERM3!Z101","v":"0"},{"$f":"TERM3!AR101","v":"0"},{"$f":"TERM3!BJ101","v":"0"},{"$f":"TERM3!CB101","v":"0"},{"$f":"TERM3!CT101","v":"0"},0,{"$f":"TERM3!CU101","v":0},{"$f":"TERM3!CV101","v":0},0,{"$f":"'FIN PAT MARK SHEET'!P104","v":0},{"$f":"'FIN PAT MARK SHEET'!Q104","v":0},{"$f":"'FIN PAT MARK SHEET'!R104","v":0},{"$f":"'FIN PAT MARK SHEET'!S104","v":0},{"$f":"'FIN PAT MARK SHEET'!T104","v":0},{"$f":"'FIN PAT MARK SHEET'!U104","v":0},0,{"$f":"'FIN PAT MARK SHEET'!W104","v":0},{"$f":"'FIN PAT MARK SHEET'!X104","v":0},0,{"$f":"'FIN PAT MARK SHEET'!Z104","v":0},{"$f":"'FIN PAT MARK SHEET'!AA104","v":0},{"$f":"'FIN PAT MARK SHEET'!AB104","v":0},{"$f":"'FIN PAT MARK SHEET'!AC104","v":0},{"$f":"'FIN PAT MARK SHEET'!AD104","v":0},{"$f":"'FIN PAT MARK SHEET'!AE104","v":0},0,0,0,"",null,0,"X",0]
[87,87,{"$f":"Insert!A89","v":0},{"$f":"Insert!B89","v":0},{"$f":"Insert!C89","v":0},{"$f":"Insert!D89","v":0},{"$f":"Insert!E89","v":0},{"$f":"TERM3!Z102","v":"0"},{"$f":"TERM3!AR102","v":"0"},{"$f":"TERM3!BJ102","v":"0"},{"$f":"TERM3!CB102","v":"0"},{"$f":"TERM3!CT102","v":"0"},0,{"$f":"TERM3!CU102","v":0},{"$f":"TERM3!CV102","v":0},0,{"$f":"'FIN PAT MARK SHEET'!P105","v":0},{"$f":"'FIN PAT MARK SHEET'!Q105","v":0},{"$f":"'FIN PAT MARK SHEET'!R105","v":0},{"$f":"'FIN PAT MARK SHEET'!S105","v":0},{"$f":"'FIN PAT MARK SHEET'!T105","v":0},{"$f":"'FIN PAT MARK SHEET'!U105","v":0},0,{"$f":"'FIN PAT MARK SHEET'!W105","v":0},{"$f":"'FIN PAT MARK SHEET'!X105","v":0},0,{"$f":"'FIN PAT MARK SHEET'!Z105","v":0},{"$f":"'FIN PAT MARK SHEET'!AA105","v":0},{"$f":"'FIN PAT MARK SHEET'!AB105","v":0},{"$f":"'FIN PAT MARK SHEET'!AC105","v":0},{"$f":"'FIN PAT MARK SHEET'!AD105","v":0},{"$f":"'FIN PAT MARK SHEET'!AE105","v":0},0,0,0,"",null,0,"X",0]
[88,88,{"$f":"Insert!A90","v":0},{"$f":"Insert!B90","v":0},{"$f":"Insert!C90","v":0},{"$f":"Insert!D90","v":0},{"$f":"Insert!E90","v":0},{"$f":"TERM3!Z103","v":"0"},{"$f":"TERM3!AR103","v":"0"},{"$f":"TERM3!BJ103","v":"0"},{"$f":"TERM3!CB103","v":"0"},{"$f":"TERM3!CT103","v":"0"},0,{"$f":"TERM3!CU103","v":0},{"$f":"TERM3!CV103","v":0},0,{"$f":"'FIN PAT MARK SHEET'!P106","v":0},{"$f":"'FIN PAT MARK SHEET'!Q106","v":0},{"$f":"'FIN PAT MARK SHEET'!R106","v":0},{"$f":"'FIN PAT MARK SHEET'!S106","v":0},{"$f":"'FIN PAT MARK SHEET'!T106","v":0},{"$f":"'FIN PAT MARK SHEET'!U106","v":0},0,{"$f":"'FIN PAT MARK SHEET'!W106","v":0},{"$f":"'FIN PAT MARK SHEET'!X106","v":0},0,{"$f":"'FIN PAT MARK SHEET'!Z106","v":0},{"$f":"'FIN PAT MARK SHEET'!AA106","v":0},{"$f":"'FIN PAT MARK SHEET'!AB106","v":0},{"$f":"'FIN PAT MARK SHEET'!AC106","v":0},{"$f":"'FIN PAT MARK SHEET'!AD106","v":0},{"$f":"'FIN PAT MARK SHEET'!AE106","v":0},0,0,0,"",null,0,"X",0]
[89,89,{"$f":"Insert!A91","v":0},{"$f":"Insert!B91","v":0},{"$f":"Insert!C91","v":0},{"$f":"Insert!D91","v":0},{"$f":"Insert!E91","v":0},{"$f":"TERM3!Z104","v":"0"},{"$f":"TERM3!AR104","v":"0"},{"$f":"TERM3!BJ104","v":"0"},{"$f":"TERM3!CB104","v":"0"},{"$f":"TERM3!CT104","v":"0"},0,{"$f":"TERM3!CU104","v":0},{"$f":"TERM3!CV104","v":0},0,{"$f":"'FIN PAT MARK SHEET'!P107","v":0},{"$f":"'FIN PAT MARK SHEET'!Q107","v":0},{"$f":"'FIN PAT MARK SHEET'!R107","v":0},{"$f":"'FIN PAT MARK SHEET'!S107","v":0},{"$f":"'FIN PAT MARK SHEET'!T107","v":0},{"$f":"'FIN PAT MARK SHEET'!U107","v":0},0,{"$f":"'FIN PAT MARK SHEET'!W107","v":0},{"$f":"'FIN PAT MARK SHEET'!X107","v":0},0,{"$f":"'FIN PAT MARK SHEET'!Z107","v":0},{"$f":"'FIN PAT MARK SHEET'!AA107","v":0},{"$f":"'FIN PAT MARK SHEET'!AB107","v":0},{"$f":"'FIN PAT MARK SHEET'!AC107","v":0},{"$f":"'FIN PAT MARK SHEET'!AD107","v":0},{"$f":"'FIN PAT MARK SHEET'!AE107","v":0},0,0,0,"",null,0,"X",0]
[90,90,{"$f":"Insert!A92","v":0},{"$f":"Insert!B92","v":0},{"$f":"Insert!C92","v":0},{"$f":"Insert!D92","v":0},{"$f":"Insert!E92","v":0},{"$f":"TERM3!Z105","v":"0"},{"$f":"TERM3!AR105","v":"0"},{"$f":"TERM3!BJ105","v":"0"},{"$f":"TERM3!CB105","v":"0"},{"$f":"TERM3!CT105","v":"0"},0,{"$f":"TERM3!CU105","v":0},{"$f":"TERM3!CV105","v":0},0,{"$f":"'FIN PAT MARK SHEET'!P108","v":0},{"$f":"'FIN PAT MARK SHEET'!Q108","v":0},{"$f":"'FIN PAT MARK SHEET'!R108","v":0},{"$f":"'FIN PAT MARK SHEET'!S108","v":0},{"$f":"'FIN PAT MARK SHEET'!T108","v":0},{"$f":"'FIN PAT MARK SHEET'!U108","v":0},0,{"$f":"'FIN PAT MARK SHEET'!W108","v":0},{"$f":"'FIN PAT MARK SHEET'!X108","v":0},0,{"$f":"'FIN PAT MARK SHEET'!Z108","v":0},{"$f":"'FIN PAT MARK SHEET'!AA108","v":0},{"$f":"'FIN PAT MARK SHEET'!AB108","v":0},{"$f":"'FIN PAT MARK SHEET'!AC108","v":0},{"$f":"'FIN PAT MARK SHEET'!AD108","v":0},{"$f":"'FIN PAT MARK SHEET'!AE108","v":0},0,0,0,"",null,0,"X",0]
[91,91,{"$f":"Insert!A93","v":0},{"$f":"Insert!B93","v":0},{"$f":"Insert!C93","v":0},{"$f":"Insert!D93","v":0},{"$f":"Insert!E93","v":0},{"$f":"TERM3!Z106","v":"0"},{"$f":"TERM3!AR106","v":"0"},{"$f":"TERM3!BJ106","v":"0"},{"$f":"TERM3!CB106","v":"0"},{"$f":"TERM3!CT106","v":"0"},0,{"$f":"TERM3!CU106","v":0},{"$f":"TERM3!CV106","v":0},0,{"$f":"'FIN PAT MARK SHEET'!P109","v":0},{"$f":"'FIN PAT MARK SHEET'!Q109","v":0},{"$f":"'FIN PAT MARK SHEET'!R109","v":0},{"$f":"'FIN PAT MARK SHEET'!S109","v":0},{"$f":"'FIN PAT MARK SHEET'!T109","v":0},{"$f":"'FIN PAT MARK SHEET'!U109","v":0},0,{"$f":"'FIN PAT MARK SHEET'!W109","v":0},{"$f":"'FIN PAT MARK SHEET'!X109","v":0},0,{"$f":"'FIN PAT MARK SHEET'!Z109","v":0},{"$f":"'FIN PAT MARK SHEET'!AA109","v":0},{"$f":"'FIN PAT MARK SHEET'!AB109","v":0},{"$f":"'FIN PAT MARK SHEET'!AC109","v":0},{"$f":"'FIN PAT MARK SHEET'!AD109","v":0},{"$f":"'FIN PAT MARK SHEET'!AE109","v":0},0,0,0,"",null,0,"X",0]
[92,92,{"$f":"Insert!A94","v":0},{"$f":"Insert!B94","v":0},{"$f":"Insert!C94","v":0},{"$f":"Insert!D94","v":0},{"$f":"Insert!E94","v":0},{"$f":"TERM3!Z107","v":"0"},{"$f":"TERM3!AR107","v":"0"},{"$f":"TERM3!BJ107","v":"0"},{"$f":"TERM3!CB107","v":"0"},{"$f":"TERM3!CT107","v":"0"},0,{"$f":"TERM3!CU107","v":0},{"$f":"TERM3!CV107","v":0},0,{"$f":"'FIN PAT MARK SHEET'!P110","v":0},{"$f":"'FIN PAT MARK SHEET'!Q110","v":0},{"$f":"'FIN PAT MARK SHEET'!R110","v":0},{"$f":"'FIN PAT MARK SHEET'!S110","v":0},{"$f":"'FIN PAT MARK SHEET'!T110","v":0},{"$f":"'FIN PAT MARK SHEET'!U110","v":0},0,{"$f":"'FIN PAT MARK SHEET'!W110","v":0},{"$f":"'FIN PAT MARK SHEET'!X110","v":0},0,{"$f":"'FIN PAT MARK SHEET'!Z110","v":0},{"$f":"'FIN PAT MARK SHEET'!AA110","v":0},{"$f":"'FIN PAT MARK SHEET'!AB110","v":0},{"$f":"'FIN PAT MARK SHEET'!AC110","v":0},{"$f":"'FIN PAT MARK SHEET'!AD110","v":0},{"$f":"'FIN PAT MARK SHEET'!AE110","v":0},0,0,0,"",null,0,"X",0]
[93,93,{"$f":"Insert!A95","v":0},{"$f":"Insert!B95","v":0},{"$f":"Insert!C95","v":0},{"$f":"Insert!D95","v":0},{"$f":"Insert!E95","v":0},{"$f":"TERM3!Z108","v":"0"},{"$f":"TERM3!AR108","v":"0"},{"$f":"TERM3!BJ108","v":"0"},{"$f":"TERM3!CB108","v":"0"},{"$f":"TERM3!CT108","v":"0"},0,{"$f":"TERM3!CU108","v":0},{"$f":"TERM3!CV108","v":0},0,{"$f":"'FIN PAT MARK SHEET'!P111","v":0},{"$f":"'FIN PAT MARK SHEET'!Q111","v":0},{"$f":"'FIN PAT MARK SHEET'!R111","v":0},{"$f":"'FIN PAT MARK SHEET'!S111","v":0},{"$f":"'FIN PAT MARK SHEET'!T111","v":0},{"$f":"'FIN PAT MARK SHEET'!U111","v":0},0,{"$f":"'FIN PAT MARK SHEET'!W111","v":0},{"$f":"'FIN PAT MARK SHEET'!X111","v":0},0,{"$f":"'FIN PAT MARK SHEET'!Z111","v":0},{"$f":"'FIN PAT MARK SHEET'!AA111","v":0},{"$f":"'FIN PAT MARK SHEET'!AB111","v":0},{"$f":"'FIN PAT MARK SHEET'!AC111","v":0},{"$f":"'FIN PAT MARK SHEET'!AD111","v":0},{"$f":"'FIN PAT MARK SHEET'!AE111","v":0},0,0,0,"",null,0,"X",0]
[94,94,{"$f":"Insert!A96","v":0},{"$f":"Insert!B96","v":0},{"$f":"Insert!C96","v":0},{"$f":"Insert!D96","v":0},{"$f":"Insert!E96","v":0},{"$f":"TERM3!Z109","v":"0"},{"$f":"TERM3!AR109","v":"0"},{"$f":"TERM3!BJ109","v":"0"},{"$f":"TERM3!CB109","v":"0"},{"$f":"TERM3!CT109","v":"0"},0,{"$f":"TERM3!CU109","v":0},{"$f":"TERM3!CV109","v":0},0,{"$f":"'FIN PAT MARK SHEET'!P112","v":0},{"$f":"'FIN PAT MARK SHEET'!Q112","v":0},{"$f":"'FIN PAT MARK SHEET'!R112","v":0},{"$f":"'FIN PAT MARK SHEET'!S112","v":0},{"$f":"'FIN PAT MARK SHEET'!T112","v":0},{"$f":"'FIN PAT MARK SHEET'!U112","v":0},0,{"$f":"'FIN PAT MARK SHEET'!W112","v":0},{"$f":"'FIN PAT MARK SHEET'!X112","v":0},0,{"$f":"'FIN PAT MARK SHEET'!Z112","v":0},{"$f":"'FIN PAT MARK SHEET'!AA112","v":0},{"$f":"'FIN PAT MARK SHEET'!AB112","v":0},{"$f":"'FIN PAT MARK SHEET'!AC112","v":0},{"$f":"'FIN PAT MARK SHEET'!AD112","v":0},{"$f":"'FIN PAT MARK SHEET'!AE112","v":0},0,0,0,"",null,0,"X",0]
[95,95,{"$f":"Insert!A97","v":0},{"$f":"Insert!B97","v":0},{"$f":"Insert!C97","v":0},{"$f":"Insert!D97","v":0},{"$f":"Insert!E97","v":0},{"$f":"TERM3!Z110","v":"0"},{"$f":"TERM3!AR110","v":"0"},{"$f":"TERM3!BJ110","v":"0"},{"$f":"TERM3!CB110","v":"0"},{"$f":"TERM3!CT110","v":"0"},0,{"$f":"TERM3!CU110","v":0},{"$f":"TERM3!CV110","v":0},0,{"$f":"'FIN PAT MARK SHEET'!P113","v":0},{"$f":"'FIN PAT MARK SHEET'!Q113","v":0},{"$f":"'FIN PAT MARK SHEET'!R113","v":0},{"$f":"'FIN PAT MARK SHEET'!S113","v":0},{"$f":"'FIN PAT MARK SHEET'!T113","v":0},{"$f":"'FIN PAT MARK SHEET'!U113","v":0},0,{"$f":"'FIN PAT MARK SHEET'!W113","v":0},{"$f":"'FIN PAT MARK SHEET'!X113","v":0},0,{"$f":"'FIN PAT MARK SHEET'!Z113","v":0},{"$f":"'FIN PAT MARK SHEET'!AA113","v":0},{"$f":"'FIN PAT MARK SHEET'!AB113","v":0},{"$f":"'FIN PAT MARK SHEET'!AC113","v":0},{"$f":"'FIN PAT MARK SHEET'!AD113","v":0},{"$f":"'FIN PAT MARK SHEET'!AE113","v":0},0,0,0,"",null,0,"X",0]
[96,96,{"$f":"Insert!A98","v":0},{"$f":"Insert!B98","v":0},{"$f":"Insert!C98","v":0},{"$f":"Insert!D98","v":0},{"$f":"Insert!E98","v":0},{"$f":"TERM3!Z111","v":"0"},{"$f":"TERM3!AR111","v":"0"},{"$f":"TERM3!BJ111","v":"0"},{"$f":"TERM3!CB111","v":"0"},{"$f":"TERM3!CT111","v":"0"},0,{"$f":"TERM3!CU111","v":0},{"$f":"TERM3!CV111","v":0},0,{"$f":"'FIN PAT MARK SHEET'!P114","v":0},{"$f":"'FIN PAT MARK SHEET'!Q114","v":0},{"$f":"'FIN PAT MARK SHEET'!R114","v":0},{"$f":"'FIN PAT MARK SHEET'!S114","v":0},{"$f":"'FIN PAT MARK SHEET'!T114","v":0},{"$f":"'FIN PAT MARK SHEET'!U114","v":0},0,{"$f":"'FIN PAT MARK SHEET'!W114","v":0},{"$f":"'FIN PAT MARK SHEET'!X114","v":0},0,{"$f":"'FIN PAT MARK SHEET'!Z114","v":0},{"$f":"'FIN PAT MARK SHEET'!AA114","v":0},{"$f":"'FIN PAT MARK SHEET'!AB114","v":0},{"$f":"'FIN PAT MARK SHEET'!AC114","v":0},{"$f":"'FIN PAT MARK SHEET'!AD114","v":0},{"$f":"'FIN PAT MARK SHEET'!AE114","v":0},0,0,0,"",null,0,"X",0]
[97,97,{"$f":"Insert!A99","v":0},{"$f":"Insert!B99","v":0},{"$f":"Insert!C99","v":0},{"$f":"Insert!D99","v":0},{"$f":"Insert!E99","v":0},{"$f":"TERM3!Z112","v":"0"},{"$f":"TERM3!AR112","v":"0"},{"$f":"TERM3!BJ112","v":"0"},{"$f":"TERM3!CB112","v":"0"},{"$f":"TERM3!CT112","v":"0"},{"$f":"SUMIF(H105:L105,\">0\")","v":0},{"$f":"TERM3!CU112","v":0},{"$f":"TERM3!CV112","v":0},0,{"$f":"'FIN PAT MARK SHEET'!P115","v":0},{"$f":"'FIN PAT MARK SHEET'!Q115","v":0},{"$f":"'FIN PAT MARK SHEET'!R115","v":0},{"$f":"'FIN PAT MARK SHEET'!S115","v":0},{"$f":"'FIN PAT MARK SHEET'!T115","v":0},{"$f":"'FIN PAT MARK SHEET'!U115","v":0},{"$f":"ROUND((SUMIF(Q105:V105,\">0\")/1.2),0)","v":0},{"$f":"'FIN PAT MARK SHEET'!W115","v":0},{"$f":"'FIN PAT MARK SHEET'!X115","v":0},{"$f":"ROUND((SUMIF(X105:Y105,\">0\")/2.857142857),0)","v":0},{"$f":"'FIN PAT MARK SHEET'!Z115","v":0},{"$f":"'FIN PAT MARK SHEET'!AA115","v":0},{"$f":"'FIN PAT MARK SHEET'!AB115","v":0},{"$f":"'FIN PAT MARK SHEET'!AC115","v":0},{"$f":"'FIN PAT MARK SHEET'!AD115","v":0},{"$f":"'FIN PAT MARK SHEET'!AE115","v":0},0,0,{"$f":"ROUND((AH105),0)","v":0},{"$f":"IF(AI105>79,\"7\",IF(AI105>69,\"6\",IF(AI105>59,\"5\",IF(AI105>49,\"4\",IF(AI105>39,\"3\",IF(AI105>29,\"2\",IF(AI105>0,\"1\",IF(AI105=0,\"\"))))))))","v":""},null,0,{"$f":"IF(AL105=0,\"X\",\"\")","v":"X"},0]
[98,98,{"$f":"Insert!A100","v":0},{"$f":"Insert!B100","v":0},{"$f":"Insert!C100","v":0},{"$f":"Insert!D100","v":0},{"$f":"Insert!E100","v":0},{"$f":"TERM3!Z113","v":"0"},{"$f":"TERM3!AR113","v":"0"},{"$f":"TERM3!BJ113","v":"0"},{"$f":"TERM3!CB113","v":"0"},{"$f":"TERM3!CT113","v":"0"},0,{"$f":"TERM3!CU113","v":0},{"$f":"TERM3!CV113","v":0},0,{"$f":"'FIN PAT MARK SHEET'!P116","v":0},{"$f":"'FIN PAT MARK SHEET'!Q116","v":0},{"$f":"'FIN PAT MARK SHEET'!R116","v":0},{"$f":"'FIN PAT MARK SHEET'!S116","v":0},{"$f":"'FIN PAT MARK SHEET'!T116","v":0},{"$f":"'FIN PAT MARK SHEET'!U116","v":0},0,{"$f":"'FIN PAT MARK SHEET'!W116","v":0},{"$f":"'FIN PAT MARK SHEET'!X116","v":0},0,{"$f":"'FIN PAT MARK SHEET'!Z116","v":0},{"$f":"'FIN PAT MARK SHEET'!AA116","v":0},{"$f":"'FIN PAT MARK SHEET'!AB116","v":0},{"$f":"'FIN PAT MARK SHEET'!AC116","v":0},{"$f":"'FIN PAT MARK SHEET'!AD116","v":0},{"$f":"'FIN PAT MARK SHEET'!AE116","v":0},0,0,0,"",null,0,"X",0]
[99,99,{"$f":"Insert!A101","v":0},{"$f":"Insert!B101","v":0},{"$f":"Insert!C101","v":0},{"$f":"Insert!D101","v":0},{"$f":"Insert!E101","v":0},{"$f":"TERM3!Z114","v":"0"},{"$f":"TERM3!AR114","v":"0"},{"$f":"TERM3!BJ114","v":"0"},{"$f":"TERM3!CB114","v":"0"},{"$f":"TERM3!CT114","v":"0"},0,{"$f":"TERM3!CU114","v":0},{"$f":"TERM3!CV114","v":0},0,{"$f":"'FIN PAT MARK SHEET'!P117","v":0},{"$f":"'FIN PAT MARK SHEET'!Q117","v":0},{"$f":"'FIN PAT MARK SHEET'!R117","v":0},{"$f":"'FIN PAT MARK SHEET'!S117","v":0},{"$f":"'FIN PAT MARK SHEET'!T117","v":0},{"$f":"'FIN PAT MARK SHEET'!U117","v":0},0,{"$f":"'FIN PAT MARK SHEET'!W117","v":0},{"$f":"'FIN PAT MARK SHEET'!X117","v":0},0,{"$f":"'FIN PAT MARK SHEET'!Z117","v":0},{"$f":"'FIN PAT MARK SHEET'!AA117","v":0},{"$f":"'FIN PAT MARK SHEET'!AB117","v":0},{"$f":"'FIN PAT MARK SHEET'!AC117","v":0},{"$f":"'FIN PAT MARK SHEET'!AD117","v":0},{"$f":"'FIN PAT MARK SHEET'!AE117","v":0},0,0,0,"",null,0,"X",0]
[100,100,{"$f":"Insert!A102","v":0},{"$f":"Insert!B102","v":0},{"$f":"Insert!C102","v":0},{"$f":"Insert!D102","v":0},{"$f":"Insert!E102","v":0},{"$f":"TERM3!Z115","v":"0"},{"$f":"TERM3!AR115","v":"0"},{"$f":"TERM3!BJ115","v":"0"},{"$f":"TERM3!CB115","v":"0"},{"$f":"TERM3!CT115","v":"0"},0,{"$f":"TERM3!CU115","v":0},{"$f":"TERM3!CV115","v":0},0,{"$f":"'FIN PAT MARK SHEET'!P118","v":0},{"$f":"'FIN PAT MARK SHEET'!Q118","v":0},{"$f":"'FIN PAT MARK SHEET'!R118","v":0},{"$f":"'FIN PAT MARK SHEET'!S118","v":0},{"$f":"'FIN PAT MARK SHEET'!T118","v":0},{"$f":"'FIN PAT MARK SHEET'!U118","v":0},0,{"$f":"'FIN PAT MARK SHEET'!W118","v":0},{"$f":"'FIN PAT MARK SHEET'!X118","v":0},0,{"$f":"'FIN PAT MARK SHEET'!Z118","v":0},{"$f":"'FIN PAT MARK SHEET'!AA118","v":0},{"$f":"'FIN PAT MARK SHEET'!AB118","v":0},{"$f":"'FIN PAT MARK SHEET'!AC118","v":0},{"$f":"'FIN PAT MARK SHEET'!AD118","v":0},{"$f":"'FIN PAT MARK SHEET'!AE118","v":0},0,0,0,"",null,0,"X",0]
[null,null,0,{"$f":"TERM1!#REF!","v":{"$error":"#REF!"}},0,0,"Total",{"$f":"SUM(H9:H108)","v":0},{"$f":"TERM3!AR115","v":"0"},{"$f":"TERM3!BJ115","v":"0"},{"$f":"TERM3!CT115","v":"0"},{"$f":"TERM3!CB115","v":"0"},{"$f":"SUM(M9:M108)","v":0},{"$f":"TERM3!CU116/2","v":0},{"$f":"TERM3!CV116/2","v":0},{"$f":"SUMIF(N109:O109,\">0\")/2","v":0},{"$f":"SUM(T8:T107)","v":0},0,0,{"$f":"SUM(W9:W108)","v":0},{"$f":"SUMIF(N9:N108,\">0\")","v":0},{"$f":"SUMIF(O9:O108,\">0\")","v":0},{"$f":"SUM(P9:P108)","v":0},{"$f":"SUM(X9:X108)","v":0},0,{"$f":"SUM(Z9:Z108)","v":0},{"$f":"SUM(AA8:AA107)","v":0},{"$f":"SUM(AB7:AB106)","v":0},{"$f":"SUM(AC8:AC107)","v":0},0,0,0,{"$f":"SUM(AG9:AG108)","v":0},{"$f":"SUM(AH9:AH108)","v":0},{"$f":"SUM(AI9:AI108)","v":0}]
[null,null,0,0,0,0,"Average%",{"$f":"IFERROR((AVERAGEIF(H9:H108,\">0\")/H4*100),\"0\")","v":"0"},"0","0","0","0","0",{"$f":"TERM3!CU117/2","v":{"$error":"#DIV/0!"}},{"$f":"TERM3!CV117/2","v":{"$error":"#DIV/0!"}},0,{"$f":"IFERROR((AVERAGEIF(T9:T108,\">0\")/T4*100),\"0\")","v":"0"},"0","0","0",{"$f":"IFERROR((AVERAGEIF(N9:N108,\">0\")/N4*100),\"0\")","v":"0"},{"$f":"IFERROR((AVERAGEIF(O9:O108,\">0\")/O4*100),\"0\")","v":"0"},{"$f":"IFERROR((AVERAGEIF(P9:P108,\">0\")/P4*100),\"0\")","v":"0"},"0","0","0",{"$f":"IFERROR((AVERAGEIF(AA9:AA108,\">0\")/AA4*100),\"0\")","v":"0"},{"$f":"IFERROR((AVERAGEIF(AB9:AB108,\">0\")/AB4*100),\"0\")","v":"0"},"0","0","0","0","0",{"$f":"IFERROR((AVERAGEIF(AH9:AH108,\">0\")/AH7*100),\"0\")","v":"0"},{"$f":"IFERROR((AVERAGEIF(AI9:AI108,\">0\")/AI7*100),\"0\")","v":"0"}]
[null,"Total amount of learners on mark sheet",null,null,"X","Term results analysis",null,"LEVEL 1","LEVEL 2","LEVEL 3","LEVEL 4","LEVEL 5","LEVEL 6",{"$f":"TERM3!CU118/2","v":{"$error":"#DIV/0!"}},{"$f":"TERM3!CV118/2","v":{"$error":"#DIV/0!"}}]
[null,null,null,null,{"$f":"Insert!$F$103","v":0},null,null," 0 - 29 "," 30 - 39 "," 40 - 49 "," 50 - 59 "," 60 - 69 "," 70 - 79 ",{"$f":"TERM3!CU119/2","v":0}]
[null,null,null,null,"X",null,null,{"$f":"COUNTIF(AJ9:AJ108,1)","v":0},{"$f":"COUNTIF($AJ$9:$AJ$108,2)","v":0},{"$f":"COUNTIF($AJ$9:$AJ$108,3)","v":0},{"$f":"COUNTIF($AJ$9:$AJ$108,4)","v":0},{"$f":"COUNTIF($AJ$9:$AJ$108,5)","v":0},{"$f":"COUNTIF($AJ$9:$AJ$108,6)","v":0},{"$f":"TERM3!CU120/2","v":{"$error":"#VALUE!"}},{"$f":"SUM(H113:N113)","v":{"$error":"#VALUE!"}}]

{"sheet":"PAT Civil Detailed","index":9,"n_rows":119,"n_cols":111,"rows_kept":119,"cut":false,"hidden":false,"merged":[[5,15,10,15],[5,16,10,16],[5,28,10,28],[5,36,10,36],[5,32,10,32],[5,18,10,18],[5,19,10,19],[5,29,10,29],[5,30,10,30],[5,20,10,20],[5,21,10,21],[5,22,10,22],[5,23,10,23],[5,37,10,37],[118,1,118,4],[5,8,10,8],[5,9,10,9],[5,10,10,10],[5,11,10,11],[10,1,10,4],[13,1,13,6],[115,1,117,4],[10,5,10,6],[5,1,5,4],[5,5,5,6],[118,5,118,7],[5,17,10,17],[5,13,10,13],[5,12,10,12],[5,33,10,33],[5,34,10,34],[5,35,10,35],[5,24,10,24],[5,25,10,25],[5,27,10,27],[5,26,10,26],[5,14,10,14],[5,58,10,58],[5,44,10,44],[5,45,10,45],[5,50,10,50],[5,51,10,51],[5,52,10,52],[3,20,3,39],[5,40,10,40],[5,41,10,41],[5,42,10,42],[5,43,10,43],[4,20,4,29],[4,30,4,39],[5,46,10,46],[5,49,10,49],[5,47,10,47],[5,48,10,48],[4,46,4,49],[3,46,3,49],[3,50,3,78],[4,50,4,60],[5,61,10,61],[5,39,10,39],[5,31,10,31],[5,54,10,54],[5,55,10,55],[5,56,10,56],[5,57,10,57],[5,105,10,105],[5,100,10,100],[5,101,10,101],[5,102,10,102],[5,103,10,103],[5,104,10,104],[5,95,10,95],[5,96,10,96],[5,97,10,97],[5,98,10,98],[5,99,10,99],[5,90,10,90],[5,91,10,91],[5,86,10,86],[5,80,10,80],[5,81,10,81],[5,82,10,82],[5,83,10,83],[5,84,10,84],[5,60,10,60],[5,68,10,68],[115,108,117,108],[1,1,1,110],[3,40,4,45],[3,8,4,13],[3,14,4,19],[3,110,10,110],[3,106,10,106],[3,107,10,107],[3,109,10,109],[3,108,10,108],[2,1,2,110],[3,100,4,101],[3,102,4,103],[3,104,4,105],[3,90,4,92],[5,92,10,92],[5,93,10,93],[5,69,10,69],[5,70,10,70],[5,72,10,72],[5,73,10,73],[5,53,10,53],[5,38,10,38],[5,59,10,59],[5,77,10,77],[5,94,10,94],[3,93,4,99],[5,87,10,87],[5,88,10,88],[3,86,4,89],[3,79,4,85],[4,68,4,78],[4,61,4,67],[5,67,10,67],[5,63,10,63],[5,78,10,78],[5,71,10,71],[5,62,10,62],[5,64,10,64],[5,65,10,65],[5,66,10,66],[5,89,10,89],[5,79,10,79],[5,85,10,85],[5,74,10,74],[5,75,10,75],[5,76,10,76]]}
[null,null,null,null,"N3",null,null,null,"N12","N13","N14","N15","N16",null,"N19","N20","N21","N22","N23",null,"N26","N27","N28","N29","N30","N31","N32",null,null,null,"O26","O27","O28","O29","O30","O31","O32",null,null,null,"N37","N38","N39","N40","N41",null,"N45","N46","N47",null,"N51","N52","N53","N54","N55","N56","N57","N58","N59",null,null,"N62","N63","N64","N65","N66","N67",null,"N73","N74","N75","N76","N77","N78",null,null,null,null,null,"N81","N82","N83","N84","N85","N86",null,"N89","N90","N91",null,"N94","N95",null,"N98","N99","N100","N101","N102","N103",null,"N107","N108","N111","N112","N115","N116"]
[null,"ENGINEERING GRAPHICS AND DESIGN"]
[null,"PROGRAM OF ASSESSMENT  :  PAT"]
[null,null,null,null,null,null,null,null,"1. Design Brief",null,null,null,null,null,"2. Research",null,null,null,null,null,"3. Freehand drawings of THREE possible design solutions",null,null,null,null,null,null,null,null,null,null,null,null,null,null,null,null,null,null,null,"4. Selecting the best freehand solution",null,null,null,null,null,"5. Working drawings and a pictorial drawing of selected solution",null,null,null,"5.1 Detailed layout drawings of the selected proposed solution of the building",null,null,null,null,null,null,null,null,null,null,null,null,null,null,null,null,null,null,null,null,null,null,null,null,null,null,null,null,"5.2 Detailed site plan",null,null,null,null,null,null,"5.3 Detailed interior perspective drawing of the reception and waiting area",null,null,null,"6. Continuous self-evaluation and the meeting of deadlines",null,null,"7. Presentation of the complete PAT file/portfolio",null,null,null,null,null,null,"Freehand drawings",null,"Instrument drawings",null,"CAD drawings",null,"TOTAL for Design Process","TOTAL for Working Drawing","4 = NO CAD / 6 = CAD","TOTAL: DRAWING METHODS","TOTAL"]
[null,null,null,null,null,null,null,null,null,null,null,null,null,null,null,null,null,null,null,null,"Solution 1",null,null,null,null,null,null,null,null,null,"Solution 2",null,null,null,null,null,null,null,null,null,null,null,null,null,null,null,"Drawing sheet preparation",null,null,null,"5.1.1. Floor plan",null,null,null,null,null,null,null,null,null,null,"5.1.2. TWO detailed elevations, showing the front view and a side view",null,null,null,null,null,null,"5.1.3 Sectional elevation"]
[null,"School:",null,null,null,{"$f":"Insert!J3","v":0},null,null,{"$f":"'Civil Assessment'!$C$12","v":"1st paragraph: background and comprehensive description of what is to be designed"},{"$f":"'Civil Assessment'!$C$13","v":"2nd paragraph: your role and description of the design process you are going to follow"},{"$f":"'Civil Assessment'!$C$14","v":"A list of TWENTY given specifications from the scenario"},{"$f":"'Civil Assessment'!$C$15","v":"A list of FIVE possible constraints from the scenario"},{"$f":"'Civil Assessment'!$C$16","v":"A management plan with possible target dates for ALL the presentation requirements"},"TOTAL",{"$f":"'Civil Assessment'!$E$19","v":"Examples and construction details of wooden multipanel sliding doors"},{"$f":"'Civil Assessment'!$E$20","v":"Examples and construction details of wooden pergolas"},{"$f":"'Civil Assessment'!$E$21","v":"THREE gabled roof designs (1) + THREE Cape Dutch gable facades (1)"},{"$f":"'Civil Assessment'!$B$22","v":"Clear evidence that the research was used in design solutions"},{"$f":"'Civil Assessment'!$B$23","v":"A list of ALL references used (Bibliography)"},"TOTAL",{"$f":"'Civil Assessment'!$D$26","v":"Restaurant with ALL rooms/areas, features and rooflines"},{"$f":"'Civil Assessment'!$D$27","v":"Museum with features and rooflines (1) + veranda with pergolas (1)"},{"$f":"'Civil Assessment'!$D$28","v":"Correct presentation of all building features (walls, doors, etc.)"},{"$f":"'Civil Assessment'!$D$29","v":"ALL fixtures included (toilets, sinks, counters, etc.)"},{"$f":"'Civil Assessment'!$D$30","v":"Correct presentation of all fixtures according to SANS 10143"},{"$f":"'Civil Assessment'!$D$31","v":"The relative size and proportion of ALL features to each other"},{"$f":"'Civil Assessment'!$D$32","v":"Primary labels (1) + primary dimensions (1)"},{"$f":"'Civil Assessment'!$D$33","v":"2 x calculations shown and within the specifications\t(2 + 2 = 4)"},{"$f":"'Civil Assessment'!$D$34","v":"Design, functionality and effective space utilisation"},"TOTAL",{"$f":"U6","v":"Restaurant with ALL rooms/areas, features and rooflines"},"Museum with features and rooflines (1) + veranda with pergolas (1)","Correct presentation of all building features (walls, doors, etc.)","ALL fixtures included (toilets, sinks, counters, etc.)","Correct presentation of all fixtures according to SANS 10143","The relative size and proportion of ALL features to each other","Primary labels (1) + primary dimensions (1)","2 x calculations shown and within the specifications\t(2 + 2 = 4)","Design, functionality and effective space utilisation","TOTAL",{"$f":"'Civil Assessment'!$B$38","v":"A suitable table created for the selection process"},{"$f":"'Civil Assessment'!$B$39","v":"A minimum of SIX relevant and descriptive criteria that will facilitate measurable comparisons"},{"$f":"'Civil Assessment'!$B$40","v":"A simple rating scale created and used to score each solution against each criterion"},{"$f":"'Civil Assessment'!$B$41","v":"Each score justified by describing the positive or negative aspects against each criterion"},{"$f":"'Civil Assessment'!$B$42","v":"Comprehensive summary with reasons for selected solution (including possible late changes)"},"TOTAL",{"$f":"'Civil Assessment'!$B$46","v":"Appropriately sized drawing sheets"},{"$f":"'Civil Assessment'!$B$47","v":"Borders on all the drawing sheets of all the working drawings"},{"$f":"'Civil Assessment'!$B$48","v":"Complete SANS 10143 compliant CIVIL TITLE PANEL on ONE working drawing's drawing sheet"},"TOTAL",{"$f":"'Civil Assessment'!$C$52","v":"Correlation with selected freehand solution"},{"$f":"'Civil Assessment'!$C$53","v":"ALL external and internal walls, veranda with pergolas and rooflines"},{"$f":"'Civil Assessment'!$C$54","v":"ALL doors, including the multipanel sliding doors and windows"},{"$f":"'Civil Assessment'!$C$55","v":"ALL permanent fixtures"},{"$f":"'Civil Assessment'!$C$56","v":"ALL electrical fittings and the wiring layout"},{"$f":"'Civil Assessment'!$C$57","v":"Waste-water disposal systems (sewerage)"},{"$f":"'Civil Assessment'!$C$58","v":"Title, labels and notes"},{"$f":"'Civil Assessment'!$C$59","v":"Detailed dimensioning"},{"$f":"'Civil Assessment'!$C$60","v":"Hatching detail (1) + Cutting plane (1)\t                                                              (1 + 1 = 2)"},{"$f":"'Civil Assessment'!$C$61","v":"Suitable scale selected and correctly indicated (1) + North point (1)         \t       (1 + 1 = 2)"},"TOTAL",{"$f":"'Civil Assessment'!$C$64","v":"Prescribed views: one with entrance to museum + one with side view of the museum"},{"$f":"'Civil Assessment'!$C$65","v":"External walls, veranda and pergolas"},{"$f":"'Civil Assessment'!$C$66","v":"Museum's Cape Dutch facade with double wooden door + sash windows on either side"},{"$f":"'Civil Assessment'!$C$67","v":"Detail, incl. frames, of all doors and windows"},{"$f":"'Civil Assessment'!$C$68","v":"Gable roof detail, including all rainwater items"},{"$f":"'Civil Assessment'!$C$69","v":"Elevations drawn to the same scale as the floor plan"},"TOTAL",{"$f":"'Civil Assessment'!$C$73","v":"The section is according to the indicated cutting plane"},{"$f":"'Civil Assessment'!$C$74","v":"Foundation, slab and wall detail, including the correct hatching thereof"},{"$f":"'Civil Assessment'!$C$75","v":"Wooden multipanel sliding door detail"},{"$f":"'Civil Assessment'!$C$76","v":"Detail of 1½ m section of veranda and wooden pergola"},{"$f":"'Civil Assessment'!$C$77","v":"Roof detail, including all rainwater items, and the correct hatching of the wood"},{"$f":"'Civil Assessment'!$C$78","v":"Titles, labels and notes"},{"$f":"'Civil Assessment'!$C$79","v":"Detailed dimensioning"},{"$f":"'Civil Assessment'!$C$80","v":"Scale 1 : 20 used and correctly indicated (1) + Break lines (1)"},{"$f":"'Civil Assessment'!$C$81","v":0},{"$f":"'Civil Assessment'!$C$82","v":0},"TOTAL",{"$f":"'Civil Assessment'!$B$85","v":"Site plan correctly drawn, including ALL given site features and detail"},{"$f":"'Civil Assessment'!$B$86","v":"The proposed new restaurant and museum, including parking area and driveways"},{"$f":"'Civil Assessment'!$B$87","v":"ALL sewerage detail, with labels and notes included"},{"$f":"'Civil Assessment'!$B$88","v":"Dimensions, including new building's reference dimensions and corner heights"},{"$f":"'Civil Assessment'!$B$89","v":"Suitable scale indicated correctly"},{"$f":"'Civil Assessment'!$B$90","v":"North point"},"TOTAL",{"$f":"'Civil Assessment'!$B$93","v":"Evidence of the views and construction used to prepare the drawing"},{"$f":"'Civil Assessment'!$B$94","v":"Orientation showing entrance to museum and entire veranda (1) and HL ±1 m above the roof (1)"},{"$f":"'Civil Assessment'!$B$95","v":"Detail and correctness of the perspective drawing"},"TOTAL",{"$f":"'Civil Assessment'!$B$98","v":"Checklist completed as evidence of continuous self-evaluation\t                     (mark out of 10 ÷ 2)"},{"$f":"'Civil Assessment'!$B$99","v":"Meeting ALL the submission deadlines                                                          (mark out of 10 ÷ 2)"},"TOTAL",{"$f":"'Civil Assessment'!$B$102","v":"Complete cover page with a copy of the perspective drawing"},{"$f":"'Civil Assessment'!$B$103","v":"Complete index (table of content)"},{"$f":"'Civil Assessment'!$B$104","v":"Completed summative assessment sheet and declaration"},{"$f":"'Civil Assessment'!$B$105","v":"Correct sequencing of ALL presentation requirements"},{"$f":"'Civil Assessment'!$B$106","v":"Name and numbering on ALL the presentation requirements"},{"$f":"'Civil Assessment'!$B$107","v":"General impression of file/portfolio, e.g. binding, appearance, etc.\t                 (mark out of 10 ÷ 2)"},"TOTAL",{"$f":"'Civil Assessment'!$B$111","v":"Freehand drawing methods and skills                                           (See ANNEXURE A on page 24)\nNOTE:  • No evidence of grid/graph paper used = max. 7 marks, even if drawn excellently\n• Not drawn in freehand = 0 marks, & some evidence of instruments used = max. 5 marks"},{"$f":"'Civil Assessment'!$B$112","v":"Neatness (2) + correct line types used (2) + line consistency (2) + printing (2) + dimensioning (2)\n(Also see ANNEXURE A on page 24)"},{"$f":"'Civil Assessment'!$B$115","v":"Use of drawing instruments, drawing methods and skills               (See ANNEXURE A on page 24)"},{"$f":"'Civil Assessment'!$B$116","v":"Neatness (2) + correct line types used (2) + line consistency (2) + printing (2) + dimensioning (2)\n(Also see ANNEXURE A on page 24)"},{"$f":"'Civil Assessment'!$B$119","v":"Competence displayed in using a CAD program                              (See ANNEXURE A on page 24)"},{"$f":"'Civil Assessment'!$B$120","v":"Layout and correctness of the drawings presentation                      (See ANNEXURE A on page 24)"}]
[null,null,null,null,"Grade:",{"$f":"Insert!J4","v":0}]
[null,null,null,null,"Teacher:",{"$f":"Insert!J5","v":0}]
[null,null,null,null,"HOD:",{"$f":"Insert!J6","v":0}]
[null,null,null,null,"EGD SES:",{"$f":"Insert!J7","v":0},{"$f":"Insert!K7","v":0}]
[]
[null,null,null,"Class","Admission","SURNAME","NAME","GENDER",2,2,2,2,2,{"$f":"SUM(I12:M12)","v":10},{"$f":"'Civil Assessment'!$M$19","v":2},{"$f":"'Civil Assessment'!$M$20","v":2},{"$f":"'Civil Assessment'!$M$21","v":2},{"$f":"'Civil Assessment'!$M$22","v":2},{"$f":"'Civil Assessment'!$M$23","v":2},{"$f":"SUM(O12:S12)","v":10},{"$f":"'Civil Assessment'!$M$26","v":2},{"$f":"'Civil Assessment'!$M$27","v":2},{"$f":"'Civil Assessment'!$M$28","v":2},{"$f":"'Civil Assessment'!$M$29","v":2},{"$f":"'Civil Assessment'!$M$30","v":2},{"$f":"'Civil Assessment'!$M$31","v":2},{"$f":"'Civil Assessment'!$M$32","v":2},{"$f":"'Civil Assessment'!$M$33","v":4},{"$f":"'Civil Assessment'!$M$34","v":2},{"$f":"ROUND((SUM(U12:AC12)/2),0)","v":10},{"$f":"U12","v":2},2,2,2,2,2,2,{"$f":"AB12","v":4},2,{"$f":"ROUND((SUM(AE12:AM13)/2),0)","v":10},{"$f":"'Civil Assessment'!$M$38","v":2},{"$f":"'Civil Assessment'!$M$39","v":2},{"$f":"'Civil Assessment'!$M$40","v":2},{"$f":"'Civil Assessment'!$M$41","v":2},{"$f":"'Civil Assessment'!$M$42","v":2},{"$f":"SUM(AO12:AS12)","v":10},{"$f":"'Civil Assessment'!$M$46","v":1},{"$f":"'Civil Assessment'!$M$47","v":2},{"$f":"'Civil Assessment'!$M$48","v":7},{"$f":"SUM(AU12:AW12)","v":10},{"$f":"'Civil Assessment'!$M$52","v":2},{"$f":"'Civil Assessment'!$M$53","v":2},{"$f":"'Civil Assessment'!$M$54","v":2},{"$f":"'Civil Assessment'!$M$55","v":2},{"$f":"'Civil Assessment'!$M$56","v":2},{"$f":"'Civil Assessment'!$M$57","v":2},{"$f":"'Civil Assessment'!$M$58","v":2},{"$f":"'Civil Assessment'!$M$59","v":2},{"$f":"'Civil Assessment'!$M$60","v":2},{"$f":"'Civil Assessment'!$M$60","v":2},{"$f":"ROUND((SUM(AY12:BH12)/2),0)","v":10},{"$f":"'Civil Assessment'!$M$64","v":1},{"$f":"'Civil Assessment'!$M$65","v":2},{"$f":"'Civil Assessment'!$M$66","v":2},{"$f":"'Civil Assessment'!$M$67","v":2},{"$f":"'Civil Assessment'!$M$68","v":2},{"$f":"'Civil Assessment'!$M$69","v":1},{"$f":"ROUND((SUM(BJ12:BO12)),0)","v":10},{"$f":"'Civil Assessment'!$M$73","v":1},{"$f":"'Civil Assessment'!$M$74","v":2},{"$f":"'Civil Assessment'!$M$75","v":2},{"$f":"'Civil Assessment'!$M$76","v":2},{"$f":"'Civil Assessment'!$M$77","v":2},{"$f":"'Civil Assessment'!$M$78","v":2},{"$f":"'Civil Assessment'!$M$79","v":2},{"$f":"'Civil Assessment'!$M$80","v":2},{"$f":"'Civil Assessment'!$M$81","v":0},{"$f":"'Civil Assessment'!$M$82","v":0},{"$f":"ROUND((SUM(BQ12:BZ13)/1.5),0)","v":10},{"$f":"'Civil Assessment'!$M$85","v":2},{"$f":"'Civil Assessment'!$M$86","v":2},{"$f":"'Civil Assessment'!$M$87","v":2},{"$f":"'Civil Assessment'!$M$88","v":2},{"$f":"'Civil Assessment'!$M$89","v":1},{"$f":"'Civil Assessment'!$M$90","v":1},{"$f":"SUM(CB12:CG12)","v":10},{"$f":"'Civil Assessment'!$M$93","v":1},{"$f":"'Civil Assessment'!$M$94","v":2},{"$f":"'Civil Assessment'!$M$95","v":7},{"$f":"SUM(CI12:CK12)","v":10},{"$f":"'Civil Assessment'!$M$98","v":5},{"$f":"'Civil Assessment'!$M$99","v":5},{"$f":"SUM(CM12:CN12)","v":10},{"$f":"'Civil Assessment'!$M$102","v":1},{"$f":"'Civil Assessment'!$M$103","v":1},{"$f":"'Civil Assessment'!$M$104","v":1},{"$f":"'Civil Assessment'!$M$105","v":1},{"$f":"'Civil Assessment'!$M$106","v":1},{"$f":"'Civil Assessment'!$M$107","v":5},{"$f":"SUM(CP12:CU12)","v":10},{"$f":"'Civil Assessment'!$M$111","v":10},{"$f":"'Civil Assessment'!$M$112","v":10},{"$f":"'Civil Assessment'!$M$115","v":10},{"$f":"'Civil Assessment'!$M$116","v":10},{"$f":"'Civil Assessment'!$M$119","v":10},{"$f":"'Civil Assessment'!$M$120","v":10},{"$f":"ROUND((SUM(N12+T12+AD12+AN12+AT12+CO12+CV12)/2.82),0)","v":25},{"$f":"ROUND((SUM(AX12+BI12+BP12+CA12+CH12+CL12)/1.2),0)","v":50},null,25,{"$f":"SUM(DC12+DD12+DF12)","v":100}]
[]
[null,null,null,null,null,null,null,"DATE:"]
[]
[1,1,1,{"$f":"Insert!A3","v":0},{"$f":"Insert!B3","v":0},{"$f":"Insert!C3","v":0},{"$f":"Insert!D3","v":0},{"$f":"Insert!E3","v":0},null,null,null,null,null,{"$f":"SUM(I16:M16)","v":0},null,null,null,null,null,{"$f":"SUM(O16:S16)","v":0},null,null,null,null,null,null,null,null,null,{"$f":"ROUND((SUM(U16:AC16)/2),0)","v":0},null,null,null,null,null,null,null,null,null,{"$f":"ROUND((SUM(AE16:AM16)/2),0)","v":0},null,null,null,null,null,{"$f":"SUM(AO16:AS16)","v":0},null,null,null,{"$f":"SUM(AU16:AW16)","v":0},null,null,null,null,null,null,null,null,null,null,{"$f":"ROUND((SUM(AY16:BH16)/2),0)","v":0},null,null,null,null,null,null,{"$f":"ROUND((SUM(BJ16:BO16)),0)","v":0},null,null,null,null,null,null,null,null,null,null,{"$f":"ROUND((SUM(BQ16:BZ16)/1.5),0)","v":0},null,null,null,null,null,null,{"$f":"SUM(CB16:CG16)","v":0},null,null,null,{"$f":"SUM(CI16:CK16)","v":0},null,null,{"$f":"SUM(CM16:CN16)","v":0},null,null,null,null,null,null,{"$f":"SUM(CP16:CU16)","v":0},null,null,null,null,null,null,{"$f":"ROUND((SUM(N16+T16+AD16+AN16+AT16+CO16+CV16)/2.82),0)","v":0},{"$f":"ROUND((SUM(AX16+BI16+BP16+CA16+CH16+CL16)/1.2),0)","v":0},{"$f":"COUNTIF(CW16:DB16,\">0\")","v":0},{"$f":"ROUND(IF(DE16=4,SUM(CW16:CZ16)/1.6,IF(DE16=6,SUMIF(CW16:DB16,\">0\")/2.4,SUM(CW16:CZ16))),0)","v":0},{"$f":"SUM(DC16+DD16+DF16)","v":0}]
[2,2,2,{"$f":"Insert!A4","v":0},{"$f":"Insert!B4","v":0},{"$f":"Insert!C4","v":0},{"$f":"Insert!D4","v":0},{"$f":"Insert!E4","v":0},null,null,null,null,null,0,null,null,null,null,null,0,null,null,null,null,null,null,null,null,null,{"$f":"ROUND((SUM(U17:AC17)/2),0)","v":0},null,null,null,null,null,null,null,null,null,{"$f":"ROUND((SUM(AE17:AM17)/2),0)","v":0},null,null,null,null,null,0,null,null,null,0,null,null,null,null,null,null,null,null,null,null,{"$f":"ROUND((SUM(AY17:BH17)/2),0)","v":0},null,null,null,null,null,null,0,null,null,null,null,null,null,null,null,null,null,{"$f":"ROUND((SUM(BQ17:BZ17)/1.5),0)","v":0},null,null,null,null,null,null,0,null,null,null,0,null,null,0,null,null,null,null,null,null,0,null,null,null,null,null,null,0,0,0,0,0]
[3,3,3,{"$f":"Insert!A5","v":0},{"$f":"Insert!B5","v":0},{"$f":"Insert!C5","v":0},{"$f":"Insert!D5","v":0},{"$f":"Insert!E5","v":0},null,null,null,null,null,0,null,null,null,null,null,0,null,null,null,null,null,null,null,null,null,{"$f":"ROUND((SUM(U18:AC18)/2),0)","v":0},null,null,null,null,null,null,null,null,null,0,null,null,null,null,null,0,null,null,null,0,null,null,null,null,null,null,null,null,null,null,0,null,null,null,null,null,null,0,null,null,null,null,null,null,null,null,null,null,0,null,null,null,null,null,null,0,null,null,null,0,null,null,0,null,null,null,null,null,null,0,null,null,null,null,null,null,0,0,0,0,0]
[4,4,4,{"$f":"Insert!A6","v":0},{"$f":"Insert!B6","v":0},{"$f":"Insert!C6","v":0},{"$f":"Insert!D6","v":0},{"$f":"Insert!E6","v":0},null,null,null,null,null,0,null,null,null,null,null,0,null,null,null,null,null,null,null,null,null,0,null,null,null,null,null,null,null,null,null,0,null,null,null,null,null,0,null,null,null,0,null,null,null,null,null,null,null,null,null,null,0,null,null,null,null,null,null,0,null,null,null,null,null,null,null,null,null,null,0,null,null,null,null,null,null,0,null,null,null,0,null,null,0,null,null,null,null,null,null,0,null,null,null,null,null,null,0,0,0,0,0]
[5,5,5,{"$f":"Insert!A7","v":0},{"$f":"Insert!B7","v":0},{"$f":"Insert!C7","v":0},{"$f":"Insert!D7","v":0},{"$f":"Insert!E7","v":0},null,null,null,null,null,0,null,null,null,null,null,0,null,null,null,null,null,null,null,null,null,0,null,null,null,null,null,null,null,null,null,0,null,null,null,null,null,0,null,null,null,0,null,null,null,null,null,null,null,null,null,null,0,null,null,null,null,null,null,0,null,null,null,null,null,null,null,null,null,null,0,null,null,null,null,null,null,0,null,null,null,0,null,null,0,null,null,null,null,null,null,0,null,null,null,null,null,null,0,0,0,0,0]
[6,6,6,{"$f":"Insert!A8","v":0},{"$f":"Insert!B8","v":0},{"$f":"Insert!C8","v":0},{"$f":"Insert!D8","v":0},{"$f":"Insert!E8","v":0},null,null,null,null,null,0,null,null,null,null,null,0,null,null,null,null,null,null,null,null,null,0,null,null,null,null,null,null,null,null,null,0,null,null,null,null,null,0,null,null,null,0,null,null,null,null,null,null,null,null,null,null,0,null,null,null,null,null,null,0,null,null,null,null,null,null,null,null,null,null,0,null,null,null,null,null,null,0,null,null,null,0,null,null,0,null,null,null,null,null,null,0,null,null,null,null,null,null,0,0,0,0,0]
[7,7,7,{"$f":"Insert!A9","v":0},{"$f":"Insert!B9","v":0},{"$f":"Insert!C9","v":0},{"$f":"Insert!D9","v":0},{"$f":"Insert!E9","v":0},null,null,null,null,null,0,null,null,null,null,null,0,null,null,null,null,null,null,null,null,null,0,null,null,null,null,null,null,null,null,null,0,null,null,null,null,null,0,null,null,null,0,null,null,null,null,null,null,null,null,null,null,0,null,null,null,null,null,null,0,null,null,null,null,null,null,null,null,null,null,0,null,null,null,null,null,null,0,null,null,null,0,null,null,0,null,null,null,null,null,null,0,null,null,null,null,null,null,0,0,0,0,0]
[8,8,8,{"$f":"Insert!A10","v":0},{"$f":"Insert!B10","v":0},{"$f":"Insert!C10","v":0},{"$f":"Insert!D10","v":0},{"$f":"Insert!E10","v":0},null,null,null,null,null,0,null,null,null,null,null,0,null,null,null,null,null,null,null,null,null,0,null,null,null,null,null,null,null,null,null,0,null,null,null,null,null,0,null,null,null,0,null,null,null,null,null,null,null,null,null,null,0,null,null,null,null,null,null,0,null,null,null,null,null,null,null,null,null,null,0,null,null,null,null,null,null,0,null,null,null,0,null,null,0,null,null,null,null,null,null,0,null,null,null,null,null,null,0,0,0,0,0]
[9,9,9,{"$f":"Insert!A11","v":0},{"$f":"Insert!B11","v":0},{"$f":"Insert!C11","v":0},{"$f":"Insert!D11","v":0},{"$f":"Insert!E11","v":0},null,null,null,null,null,0,null,null,null,null,null,0,null,null,null,null,null,null,null,null,null,0,null,null,null,null,null,null,null,null,null,0,null,null,null,null,null,0,null,null,null,0,null,null,null,null,null,null,null,null,null,null,0,null,null,null,null,null,null,0,null,null,null,null,null,null,null,null,null,null,0,null,null,null,null,null,null,0,null,null,null,0,null,null,0,null,null,null,null,null,null,0,null,null,null,null,null,null,0,0,0,0,0]
[10,10,10,{"$f":"Insert!A12","v":0},{"$f":"Insert!B12","v":0},{"$f":"Insert!C12","v":0},{"$f":"Insert!D12","v":0},{"$f":"Insert!E12","v":0},null,null,null,null,null,0,null,null,null,null,null,0,null,null,null,null,null,null,null,null,null,0,null,null,null,null,null,null,null,null,null,0,null,null,null,null,null,0,null,null,null,0,null,null,null,null,null,null,null,null,null,null,0,null,null,null,null,null,null,0,null,null,null,null,null,null,null,null,null,null,0,null,null,null,null,null,null,0,null,null,null,0,null,null,0,null,null,null,null,null,null,0,null,null,null,null,null,null,0,0,0,0,0]
[11,11,11,{"$f":"Insert!A13","v":0},{"$f":"Insert!B13","v":0},{"$f":"Insert!C13","v":0},{"$f":"Insert!D13","v":0},{"$f":"Insert!E13","v":0},null,null,null,null,null,0,null,null,null,null,null,0,null,null,null,null,null,null,null,null,null,0,null,null,null,null,null,null,null,null,null,0,null,null,null,null,null,0,null,null,null,0,null,null,null,null,null,null,null,null,null,null,0,null,null,null,null,null,null,0,null,null,null,null,null,null,null,null,null,null,0,null,null,null,null,null,null,0,null,null,null,0,null,null,0,null,null,null,null,null,null,0,null,null,null,null,null,null,0,0,0,0,0]
[12,12,12,{"$f":"Insert!A14","v":0},{"$f":"Insert!B14","v":0},{"$f":"Insert!C14","v":0},{"$f":"Insert!D14","v":0},{"$f":"Insert!E14","v":0},null,null,null,null,null,0,null,null,null,null,null,0,null,null,null,null,null,null,null,null,null,0,null,null,null,null,null,null,null,null,null,0,null,null,null,null,null,0,null,null,null,0,null,null,null,null,null,null,null,null,null,null,0,null,null,null,null,null,null,0,null,null,null,null,null,null,null,null,null,null,0,null,null,null,null,null,null,0,null,null,null,0,null,null,0,null,null,null,null,null,null,0,null,null,null,null,null,null,0,0,0,0,0]
[13,13,13,{"$f":"Insert!A15","v":0},{"$f":"Insert!B15","v":0},{"$f":"Insert!C15","v":0},{"$f":"Insert!D15","v":0},{"$f":"Insert!E15","v":0},null,null,null,null,null,0,null,null,null,null,null,0,null,null,null,null,null,null,null,null,null,0,null,null,null,null,null,null,null,null,null,0,null,null,null,null,null,0,null,null,null,0,null,null,null,null,null,null,null,null,null,null,0,null,null,null,null,null,null,0,null,null,null,null,null,null,null,null,null,null,0,null,null,null,null,null,null,0,null,null,null,0,null,null,0,null,null,null,null,null,null,0,null,null,null,null,null,null,0,0,0,0,0]
[14,14,14,{"$f":"Insert!A16","v":0},{"$f":"Insert!B16","v":0},{"$f":"Insert!C16","v":0},{"$f":"Insert!D16","v":0},{"$f":"Insert!E16","v":0},null,null,null,null,null,0,null,null,null,null,null,0,null,null,null,null,null,null,null,null,null,0,null,null,null,null,null,null,null,null,null,0,null,null,null,null,null,0,null,null,null,0,null,null,null,null,null,null,null,null,null,null,0,null,null,null,null,null,null,0,null,null,null,null,null,null,null,null,null,null,0,null,null,null,null,null,null,0,null,null,null,0,null,null,0,null,null,null,null,null,null,0,null,null,null,null,null,null,0,0,0,0,0]
[15,15,15,{"$f":"Insert!A17","v":0},{"$f":"Insert!B17","v":0},{"$f":"Insert!C17","v":0},{"$f":"Insert!D17","v":0},{"$f":"Insert!E17","v":0},null,null,null,null,null,0,null,null,null,null,null,0,null,null,null,null,null,null,null,null,null,0,null,null,null,null,null,null,null,null,null,0,null,null,null,null,null,0,null,null,null,0,null,null,null,null,null,null,null,null,null,null,0,null,null,null,null,null,null,0,null,null,null,null,null,null,null,null,null,null,0,null,null,null,null,null,null,0,null,null,null,0,null,null,0,null,null,null,null,null,null,0,null,null,null,null,null,null,0,0,0,0,0]
[16,16,16,{"$f":"Insert!A18","v":0},{"$f":"Insert!B18","v":0},{"$f":"Insert!C18","v":0},{"$f":"Insert!D18","v":0},{"$f":"Insert!E18","v":0},null,null,null,null,null,0,null,null,null,null,null,0,null,null,null,null,null,null,null,null,null,0,null,null,null,null,null,null,null,null,null,0,null,null,null,null,null,0,null,null,null,0,null,null,null,null,null,null,null,null,null,null,0,null,null,null,null,null,null,0,null,null,null,null,null,null,null,null,null,null,0,null,null,null,null,null,null,0,null,null,null,0,null,null,0,null,null,null,null,null,null,0,null,null,null,null,null,null,0,0,0,0,0]
[17,17,17,{"$f":"Insert!A19","v":0},{"$f":"Insert!B19","v":0},{"$f":"Insert!C19","v":0},{"$f":"Insert!D19","v":0},{"$f":"Insert!E19","v":0},null,null,null,null,null,0,null,null,null,null,null,0,null,null,null,null,null,null,null,null,null,0,null,null,null,null,null,null,null,null,null,0,null,null,null,null,null,0,null,null,null,0,null,null,null,null,null,null,null,null,null,null,0,null,null,null,null,null,null,0,null,null,null,null,null,null,null,null,null,null,0,null,null,null,null,null,null,0,null,null,null,0,null,null,0,null,null,null,null,null,null,0,null,null,null,null,null,null,0,0,0,0,0]
[18,18,18,{"$f":"Insert!A20","v":0},{"$f":"Insert!B20","v":0},{"$f":"Insert!C20","v":0},{"$f":"Insert!D20","v":0},{"$f":"Insert!E20","v":0},null,null,null,null,null,0,null,null,null,null,null,0,null,null,null,null,null,null,null,null,null,0,null,null,null,null,null,null,null,null,null,0,null,null,null,null,null,0,null,null,null,0,null,null,null,null,null,null,null,null,null,null,0,null,null,null,null,null,null,0,null,null,null,null,null,null,null,null,null,null,0,null,null,null,null,null,null,0,null,null,null,0,null,null,0,null,null,null,null,null,null,0,null,null,null,null,null,null,0,0,0,0,0]
[19,19,19,{"$f":"Insert!A21","v":0},{"$f":"Insert!B21","v":0},{"$f":"Insert!C21","v":0},{"$f":"Insert!D21","v":0},{"$f":"Insert!E21","v":0},null,null,null,null,null,0,null,null,null,null,null,0,null,null,null,null,null,null,null,null,null,0,null,null,null,null,null,null,null,null,null,0,null,null,null,null,null,0,null,null,null,0,null,null,null,null,null,null,null,null,null,null,0,null,null,null,null,null,null,0,null,null,null,null,null,null,null,null,null,null,0,null,null,null,null,null,null,0,null,null,null,0,null,null,0,null,null,null,null,null,null,0,null,null,null,null,null,null,0,0,0,0,0]
[20,20,20,{"$f":"Insert!A22","v":0},{"$f":"Insert!B22","v":0},{"$f":"Insert!C22","v":0},{"$f":"Insert!D22","v":0},{"$f":"Insert!E22","v":0},null,null,null,null,null,0,null,null,null,null,null,0,null,null,null,null,null,null,null,null,null,0,null,null,null,null,null,null,null,null,null,0,null,null,null,null,null,0,null,null,null,0,null,null,null,null,null,null,null,null,null,null,0,null,null,null,null,null,null,0,null,null,null,null,null,null,null,null,null,null,0,null,null,null,null,null,null,0,null,null,null,0,null,null,0,null,null,null,null,null,null,0,null,null,null,null,null,null,0,0,0,0,0]
[21,21,21,{"$f":"Insert!A23","v":0},{"$f":"Insert!B23","v":0},{"$f":"Insert!C23","v":0},{"$f":"Insert!D23","v":0},{"$f":"Insert!E23","v":0},null,null,null,null,null,0,null,null,null,null,null,0,null,null,null,null,null,null,null,null,null,0,null,null,null,null,null,null,null,null,null,0,null,null,null,null,null,0,null,null,null,0,null,null,null,null,null,null,null,null,null,null,0,null,null,null,null,null,null,0,null,null,null,null,null,null,null,null,null,null,0,null,null,null,null,null,null,0,null,null,null,0,null,null,0,null,null,null,null,null,null,0,null,null,null,null,null,null,0,0,0,0,0]
[22,22,22,{"$f":"Insert!A24","v":0},{"$f":"Insert!B24","v":0},{"$f":"Insert!C24","v":0},{"$f":"Insert!D24","v":0},{"$f":"Insert!E24","v":0},null,null,null,null,null,0,null,null,null,null,null,0,null,null,null,null,null,null,null,null,null,0,null,null,null,null,null,null,null,null,null,0,null,null,null,null,null,0,null,null,null,0,null,null,null,null,null,null,null,null,null,null,0,null,null,null,null,null,null,0,null,null,null,null,null,null,null,null,null,null,0,null,null,null,null,null,null,0,null,null,null,0,null,null,0,null,null,null,null,null,null,0,null,null,null,null,null,null,0,0,0,0,0]
[23,23,23,{"$f":"Insert!A25","v":0},{"$f":"Insert!B25","v":0},{"$f":"Insert!C25","v":0},{"$f":"Insert!D25","v":0},{"$f":"Insert!E25","v":0},null,null,null,null,null,0,null,null,null,null,null,0,null,null,null,null,null,null,null,null,null,0,null,null,null,null,null,null,null,null,null,0,null,null,null,null,null,0,null,null,null,0,null,null,null,null,null,null,null,null,null,null,0,null,null,null,null,null,null,0,null,null,null,null,null,null,null,null,null,null,0,null,null,null,null,null,null,0,null,null,null,0,null,null,0,null,null,null,null,null,null,0,null,null,null,null,null,null,0,0,0,0,0]
[24,24,24,{"$f":"Insert!A26","v":0},{"$f":"Insert!B26","v":0},{"$f":"Insert!C26","v":0},{"$f":"Insert!D26","v":0},{"$f":"Insert!E26","v":0},null,null,null,null,null,0,null,null,null,null,null,0,null,null,null,null,null,null,null,null,null,0,null,null,null,null,null,null,null,null,null,0,null,null,null,null,null,0,null,null,null,0,null,null,null,null,null,null,null,null,null,null,0,null,null,null,null,null,null,0,null,null,null,null,null,null,null,null,null,null,0,null,null,null,null,null,null,0,null,null,null,0,null,null,0,null,null,null,null,null,null,0,null,null,null,null,null,null,0,0,0,0,0]
[25,25,25,{"$f":"Insert!A27","v":0},{"$f":"Insert!B27","v":0},{"$f":"Insert!C27","v":0},{"$f":"Insert!D27","v":0},{"$f":"Insert!E27","v":0},null,null,null,null,null,0,null,null,null,null,null,0,null,null,null,null,null,null,null,null,null,0,null,null,null,null,null,null,null,null,null,0,null,null,null,null,null,0,null,null,null,0,null,null,null,null,null,null,null,null,null,null,0,null,null,null,null,null,null,0,null,null,null,null,null,null,null,null,null,null,0,null,null,null,null,null,null,0,null,null,null,0,null,null,0,null,null,null,null,null,null,0,null,null,null,null,null,null,0,0,0,0,0]
[26,26,26,{"$f":"Insert!A28","v":0},{"$f":"Insert!B28","v":0},{"$f":"Insert!C28","v":0},{"$f":"Insert!D28","v":0},{"$f":"Insert!E28","v":0},null,null,null,null,null,0,null,null,null,null,null,0,null,null,null,null,null,null,null,null,null,0,null,null,null,null,null,null,null,null,null,0,null,null,null,null,null,0,null,null,null,0,null,null,null,null,null,null,null,null,null,null,0,null,null,null,null,null,null,0,null,null,null,null,null,null,null,null,null,null,0,null,null,null,null,null,null,0,null,null,null,0,null,null,0,null,null,null,null,null,null,0,null,null,null,null,null,null,0,0,0,0,0]
[27,27,27,{"$f":"Insert!A29","v":0},{"$f":"Insert!B29","v":0},{"$f":"Insert!C29","v":0},{"$f":"Insert!D29","v":0},{"$f":"Insert!E29","v":0},null,null,null,null,null,0,null,null,null,null,null,0,null,null,null,null,null,null,null,null,null,0,null,null,null,null,null,null,null,null,null,0,null,null,null,null,null,0,null,null,null,0,null,null,null,null,null,null,null,null,null,null,0,null,null,null,null,null,null,0,null,null,null,null,null,null,null,null,null,null,0,null,null,null,null,null,null,0,null,null,null,0,null,null,0,null,null,null,null,null,null,0,null,null,null,null,null,null,0,0,0,0,0]
[28,28,28,{"$f":"Insert!A30","v":0},{"$f":"Insert!B30","v":0},{"$f":"Insert!C30","v":0},{"$f":"Insert!D30","v":0},{"$f":"Insert!E30","v":0},null,null,null,null,null,0,null,null,null,null,null,0,null,null,null,null,null,null,null,null,null,0,null,null,null,null,null,null,null,null,null,0,null,null,null,null,null,0,null,null,null,0,null,null,null,null,null,null,null,null,null,null,0,null,null,null,null,null,null,0,null,null,null,null,null,null,null,null,null,null,0,null,null,null,null,null,null,0,null,null,null,0,null,null,0,null,null,null,null,null,null,0,null,null,null,null,null,null,0,0,0,0,0]
[29,29,29,{"$f":"Insert!A31","v":0},{"$f":"Insert!B31","v":0},{"$f":"Insert!C31","v":0},{"$f":"Insert!D31","v":0},{"$f":"Insert!E31","v":0},null,null,null,null,null,0,null,null,null,null,null,0,null,null,null,null,null,null,null,null,null,0,null,null,null,null,null,null,null,null,null,0,null,null,null,null,null,0,null,null,null,0,null,null,null,null,null,null,null,null,null,null,0,null,null,null,null,null,null,0,null,null,null,null,null,null,null,null,null,null,0,null,null,null,null,null,null,0,null,null,null,0,null,null,0,null,null,null,null,null,null,0,null,null,null,null,null,null,0,0,0,0,0]
[30,30,30,{"$f":"Insert!A32","v":0},{"$f":"Insert!B32","v":0},{"$f":"Insert!C32","v":0},{"$f":"Insert!D32","v":0},{"$f":"Insert!E32","v":0},null,null,null,null,null,0,null,null,null,null,null,0,null,null,null,null,null,null,null,null,null,0,null,null,null,null,null,null,null,null,null,0,null,null,null,null,null,0,null,null,null,0,null,null,null,null,null,null,null,null,null,null,0,null,null,null,null,null,null,0,null,null,null,null,null,null,null,null,null,null,0,null,null,null,null,null,null,0,null,null,null,0,null,null,0,null,null,null,null,null,null,0,null,null,null,null,null,null,0,0,0,0,0]
[31,31,31,{"$f":"Insert!A33","v":0},{"$f":"Insert!B33","v":0},{"$f":"Insert!C33","v":0},{"$f":"Insert!D33","v":0},{"$f":"Insert!E33","v":0},null,null,null,null,null,0,null,null,null,null,null,0,null,null,null,null,null,null,null,null,null,0,null,null,null,null,null,null,null,null,null,0,null,null,null,null,null,0,null,null,null,0,null,null,null,null,null,null,null,null,null,null,0,null,null,null,null,null,null,0,null,null,null,null,null,null,null,null,null,null,0,null,null,null,null,null,null,0,null,null,null,0,null,null,0,null,null,null,null,null,null,0,null,null,null,null,null,null,0,0,0,0,0]
[32,32,32,{"$f":"Insert!A34","v":0},{"$f":"Insert!B34","v":0},{"$f":"Insert!C34","v":0},{"$f":"Insert!D34","v":0},{"$f":"Insert!E34","v":0},null,null,null,null,null,0,null,null,null,null,null,0,null,null,null,null,null,null,null,null,null,0,null,null,null,null,null,null,null,null,null,0,null,null,null,null,null,0,null,null,null,0,null,null,null,null,null,null,null,null,null,null,0,null,null,null,null,null,null,0,null,null,null,null,null,null,null,null,null,null,0,null,null,null,null,null,null,0,null,null,null,0,null,null,0,null,null,null,null,null,null,0,null,null,null,null,null,null,0,0,0,0,0]
[33,33,33,{"$f":"Insert!A35","v":0},{"$f":"Insert!B35","v":0},{"$f":"Insert!C35","v":0},{"$f":"Insert!D35","v":0},{"$f":"Insert!E35","v":0},null,null,null,null,null,{"$f":"SUM(I48:M48)","v":0},null,null,null,null,null,{"$f":"SUM(O48:S48)","v":0},null,null,null,null,null,null,null,null,null,0,null,null,null,null,null,null,null,null,null,0,null,null,null,null,null,{"$f":"SUM(AO48:AS48)","v":0},null,null,null,{"$f":"SUM(AU48:AW48)","v":0},null,null,null,null,null,null,null,null,null,null,0,null,null,null,null,null,null,0,null,null,null,null,null,null,null,null,null,null,0,null,null,null,null,null,null,{"$f":"SUM(CB48:CG48)","v":0},null,null,null,0,null,null,{"$f":"SUM(CM48:CN48)","v":0},null,null,null,null,null,null,{"$f":"SUM(CP48:CU48)","v":0},null,null,null,null,null,null,{"$f":"ROUND((SUM(N48+T48+AD48+AN48+AT48+CO48+CV48)/2.82),0)","v":0},{"$f":"ROUND((SUM(AX48+BI48+BP48+CA48+CH48+CL48)/1.2),0)","v":0},{"$f":"COUNTIF(CW48:DB48,\">0\")","v":0},{"$f":"ROUND(IF(DE48=4,SUM(CW48:CZ48)/1.6,IF(DE48=6,SUMIF(CW48:DB48,\">0\")/2.4,SUM(CW48:CZ48))),0)","v":0},{"$f":"SUM(DC48+DD48+DF48)","v":0}]
[34,34,34,{"$f":"Insert!A36","v":0},{"$f":"Insert!B36","v":0},{"$f":"Insert!C36","v":0},{"$f":"Insert!D36","v":0},{"$f":"Insert!E36","v":0},null,null,null,null,null,0,null,null,null,null,null,0,null,null,null,null,null,null,null,null,null,0,null,null,null,null,null,null,null,null,null,0,null,null,null,null,null,0,null,null,null,0,null,null,null,null,null,null,null,null,null,null,0,null,null,null,null,null,null,0,null,null,null,null,null,null,null,null,null,null,0,null,null,null,null,null,null,0,null,null,null,{"$f":"SUM(CI49:CK49)","v":0},null,null,0,null,null,null,null,null,null,0,null,null,null,null,null,null,0,0,0,0,0]
[35,35,35,{"$f":"Insert!A37","v":0},{"$f":"Insert!B37","v":0},{"$f":"Insert!C37","v":0},{"$f":"Insert!D37","v":0},{"$f":"Insert!E37","v":0},null,null,null,null,null,0,null,null,null,null,null,0,null,null,null,null,null,null,null,null,null,0,null,null,null,null,null,null,null,null,null,0,null,null,null,null,null,0,null,null,null,0,null,null,null,null,null,null,null,null,null,null,0,null,null,null,null,null,null,0,null,null,null,null,null,null,null,null,null,null,0,null,null,null,null,null,null,0,null,null,null,0,null,null,0,null,null,null,null,null,null,0,null,null,null,null,null,null,0,0,0,0,0]
[36,36,36,{"$f":"Insert!A38","v":0},{"$f":"Insert!B38","v":0},{"$f":"Insert!C38","v":0},{"$f":"Insert!D38","v":0},{"$f":"Insert!E38","v":0},null,null,null,null,null,0,null,null,null,null,null,0,null,null,null,null,null,null,null,null,null,0,null,null,null,null,null,null,null,null,null,0,null,null,null,null,null,0,null,null,null,0,null,null,null,null,null,null,null,null,null,null,0,null,null,null,null,null,null,0,null,null,null,null,null,null,null,null,null,null,0,null,null,null,null,null,null,0,null,null,null,0,null,null,0,null,null,null,null,null,null,0,null,null,null,null,null,null,0,0,0,0,0]
[37,37,37,{"$f":"Insert!A39","v":0},{"$f":"Insert!B39","v":0},{"$f":"Insert!C39","v":0},{"$f":"Insert!D39","v":0},{"$f":"Insert!E39","v":0},null,null,null,null,null,0,null,null,null,null,null,0,null,null,null,null,null,null,null,null,null,0,null,null,null,null,null,null,null,null,null,0,null,null,null,null,null,0,null,null,null,0,null,null,null,null,null,null,null,null,null,null,0,null,null,null,null,null,null,0,null,null,null,null,null,null,null,null,null,null,0,null,null,null,null,null,null,0,null,null,null,0,null,null,0,null,null,null,null,null,null,0,null,null,null,null,null,null,0,0,0,0,0]
[38,38,38,{"$f":"Insert!A40","v":0},{"$f":"Insert!B40","v":0},{"$f":"Insert!C40","v":0},{"$f":"Insert!D40","v":0},{"$f":"Insert!E40","v":0},null,null,null,null,null,0,null,null,null,null,null,0,null,null,null,null,null,null,null,null,null,0,null,null,null,null,null,null,null,null,null,0,null,null,null,null,null,0,null,null,null,0,null,null,null,null,null,null,null,null,null,null,0,null,null,null,null,null,null,0,null,null,null,null,null,null,null,null,null,null,0,null,null,null,null,null,null,0,null,null,null,0,null,null,0,null,null,null,null,null,null,0,null,null,null,null,null,null,0,0,0,0,0]
[39,39,39,{"$f":"Insert!A41","v":0},{"$f":"Insert!B41","v":0},{"$f":"Insert!C41","v":0},{"$f":"Insert!D41","v":0},{"$f":"Insert!E41","v":0},null,null,null,null,null,0,null,null,null,null,null,0,null,null,null,null,null,null,null,null,null,0,null,null,null,null,null,null,null,null,null,0,null,null,null,null,null,0,null,null,null,0,null,null,null,null,null,null,null,null,null,null,0,null,null,null,null,null,null,0,null,null,null,null,null,null,null,null,null,null,0,null,null,null,null,null,null,0,null,null,null,0,null,null,0,null,null,null,null,null,null,0,null,null,null,null,null,null,0,0,0,0,0]
[40,40,40,{"$f":"Insert!A42","v":0},{"$f":"Insert!B42","v":0},{"$f":"Insert!C42","v":0},{"$f":"Insert!D42","v":0},{"$f":"Insert!E42","v":0},null,null,null,null,null,0,null,null,null,null,null,0,null,null,null,null,null,null,null,null,null,0,null,null,null,null,null,null,null,null,null,0,null,null,null,null,null,0,null,null,null,0,null,null,null,null,null,null,null,null,null,null,0,null,null,null,null,null,null,0,null,null,null,null,null,null,null,null,null,null,0,null,null,null,null,null,null,0,null,null,null,0,null,null,0,null,null,null,null,null,null,0,null,null,null,null,null,null,0,0,0,0,0]
[41,41,41,{"$f":"Insert!A43","v":0},{"$f":"Insert!B43","v":0},{"$f":"Insert!C43","v":0},{"$f":"Insert!D43","v":0},{"$f":"Insert!E43","v":0},null,null,null,null,null,0,null,null,null,null,null,0,null,null,null,null,null,null,null,null,null,0,null,null,null,null,null,null,null,null,null,0,null,null,null,null,null,0,null,null,null,0,null,null,null,null,null,null,null,null,null,null,0,null,null,null,null,null,null,0,null,null,null,null,null,null,null,null,null,null,0,null,null,null,null,null,null,0,null,null,null,0,null,null,0,null,null,null,null,null,null,0,null,null,null,null,null,null,0,0,0,0,0]
[42,42,42,{"$f":"Insert!A44","v":0},{"$f":"Insert!B44","v":0},{"$f":"Insert!C44","v":0},{"$f":"Insert!D44","v":0},{"$f":"Insert!E44","v":0},null,null,null,null,null,0,null,null,null,null,null,0,null,null,null,null,null,null,null,null,null,0,null,null,null,null,null,null,null,null,null,0,null,null,null,null,null,0,null,null,null,0,null,null,null,null,null,null,null,null,null,null,0,null,null,null,null,null,null,0,null,null,null,null,null,null,null,null,null,null,0,null,null,null,null,null,null,0,null,null,null,0,null,null,0,null,null,null,null,null,null,0,null,null,null,null,null,null,0,0,0,0,0]
[43,43,43,{"$f":"Insert!A45","v":0},{"$f":"Insert!B45","v":0},{"$f":"Insert!C45","v":0},{"$f":"Insert!D45","v":0},{"$f":"Insert!E45","v":0},null,null,null,null,null,0,null,null,null,null,null,0,null,null,null,null,null,null,null,null,null,0,null,null,null,null,null,null,null,null,null,0,null,null,null,null,null,0,null,null,null,0,null,null,null,null,null,null,null,null,null,null,0,null,null,null,null,null,null,0,null,null,null,null,null,null,null,null,null,null,0,null,null,null,null,null,null,0,null,null,null,0,null,null,0,null,null,null,null,null,null,0,null,null,null,null,null,null,0,0,0,0,0]
[44,44,44,{"$f":"Insert!A46","v":0},{"$f":"Insert!B46","v":0},{"$f":"Insert!C46","v":0},{"$f":"Insert!D46","v":0},{"$f":"Insert!E46","v":0},null,null,null,null,null,0,null,null,null,null,null,0,null,null,null,null,null,null,null,null,null,0,null,null,null,null,null,null,null,null,null,0,null,null,null,null,null,0,null,null,null,0,null,null,null,null,null,null,null,null,null,null,0,null,null,null,null,null,null,0,null,null,null,null,null,null,null,null,null,null,0,null,null,null,null,null,null,0,null,null,null,0,null,null,0,null,null,null,null,null,null,0,null,null,null,null,null,null,0,0,0,0,0]
[45,45,45,{"$f":"Insert!A47","v":0},{"$f":"Insert!B47","v":0},{"$f":"Insert!C47","v":0},{"$f":"Insert!D47","v":0},{"$f":"Insert!E47","v":0},null,null,null,null,null,0,null,null,null,null,null,0,null,null,null,null,null,null,null,null,null,0,null,null,null,null,null,null,null,null,null,0,null,null,null,null,null,0,null,null,null,0,null,null,null,null,null,null,null,null,null,null,0,null,null,null,null,null,null,0,null,null,null,null,null,null,null,null,null,null,0,null,null,null,null,null,null,0,null,null,null,0,null,null,0,null,null,null,null,null,null,0,null,null,null,null,null,null,0,0,0,0,0]
[46,46,46,{"$f":"Insert!A48","v":0},{"$f":"Insert!B48","v":0},{"$f":"Insert!C48","v":0},{"$f":"Insert!D48","v":0},{"$f":"Insert!E48","v":0},null,null,null,null,null,0,null,null,null,null,null,0,null,null,null,null,null,null,null,null,null,0,null,null,null,null,null,null,null,null,null,0,null,null,null,null,null,0,null,null,null,0,null,null,null,null,null,null,null,null,null,null,0,null,null,null,null,null,null,0,null,null,null,null,null,null,null,null,null,null,0,null,null,null,null,null,null,0,null,null,null,0,null,null,0,null,null,null,null,null,null,0,null,null,null,null,null,null,0,0,0,0,0]
[47,47,47,{"$f":"Insert!A49","v":0},{"$f":"Insert!B49","v":0},{"$f":"Insert!C49","v":0},{"$f":"Insert!D49","v":0},{"$f":"Insert!E49","v":0},null,null,null,null,null,0,null,null,null,null,null,0,null,null,null,null,null,null,null,null,null,0,null,null,null,null,null,null,null,null,null,0,null,null,null,null,null,0,null,null,null,0,null,null,null,null,null,null,null,null,null,null,0,null,null,null,null,null,null,0,null,null,null,null,null,null,null,null,null,null,0,null,null,null,null,null,null,0,null,null,null,0,null,null,0,null,null,null,null,null,null,0,null,null,null,null,null,null,0,0,0,0,0]
[48,48,48,{"$f":"Insert!A50","v":0},{"$f":"Insert!B50","v":0},{"$f":"Insert!C50","v":0},{"$f":"Insert!D50","v":0},{"$f":"Insert!E50","v":0},null,null,null,null,null,0,null,null,null,null,null,0,null,null,null,null,null,null,null,null,null,0,null,null,null,null,null,null,null,null,null,0,null,null,null,null,null,0,null,null,null,0,null,null,null,null,null,null,null,null,null,null,0,null,null,null,null,null,null,0,null,null,null,null,null,null,null,null,null,null,0,null,null,null,null,null,null,0,null,null,null,0,null,null,0,null,null,null,null,null,null,0,null,null,null,null,null,null,0,0,0,0,0]
[49,49,49,{"$f":"Insert!A51","v":0},{"$f":"Insert!B51","v":0},{"$f":"Insert!C51","v":0},{"$f":"Insert!D51","v":0},{"$f":"Insert!E51","v":0},null,null,null,null,null,0,null,null,null,null,null,0,null,null,null,null,null,null,null,null,null,0,null,null,null,null,null,null,null,null,null,0,null,null,null,null,null,0,null,null,null,0,null,null,null,null,null,null,null,null,null,null,0,null,null,null,null,null,null,0,null,null,null,null,null,null,null,null,null,null,0,null,null,null,null,null,null,0,null,null,null,0,null,null,0,null,null,null,null,null,null,0,null,null,null,null,null,null,0,0,0,0,0]
[50,50,50,{"$f":"Insert!A52","v":0},{"$f":"Insert!B52","v":0},{"$f":"Insert!C52","v":0},{"$f":"Insert!D52","v":0},{"$f":"Insert!E52","v":0},null,null,null,null,null,0,null,null,null,null,null,0,null,null,null,null,null,null,null,null,null,0,null,null,null,null,null,null,null,null,null,0,null,null,null,null,null,0,null,null,null,0,null,null,null,null,null,null,null,null,null,null,0,null,null,null,null,null,null,0,null,null,null,null,null,null,null,null,null,null,0,null,null,null,null,null,null,0,null,null,null,0,null,null,0,null,null,null,null,null,null,0,null,null,null,null,null,null,0,0,0,0,0]
[51,51,51,{"$f":"Insert!A53","v":0},{"$f":"Insert!B53","v":0},{"$f":"Insert!C53","v":0},{"$f":"Insert!D53","v":0},{"$f":"Insert!E53","v":0},null,null,null,null,null,0,null,null,null,null,null,0,null,null,null,null,null,null,null,null,null,0,null,null,null,null,null,null,null,null,null,0,null,null,null,null,null,0,null,null,null,0,null,null,null,null,null,null,null,null,null,null,0,null,null,null,null,null,null,0,null,null,null,null,null,null,null,null,null,null,0,null,null,null,null,null,null,0,null,null,null,0,null,null,0,null,null,null,null,null,null,0,null,null,null,null,null,null,0,0,0,0,0]
[52,52,52,{"$f":"Insert!A54","v":0},{"$f":"Insert!B54","v":0},{"$f":"Insert!C54","v":0},{"$f":"Insert!D54","v":0},{"$f":"Insert!E54","v":0},null,null,null,null,null,0,null,null,null,null,null,0,null,null,null,null,null,null,null,null,null,0,null,null,null,null,null,null,null,null,null,0,null,null,null,null,null,0,null,null,null,0,null,null,null,null,null,null,null,null,null,null,0,null,null,null,null,null,null,0,null,null,null,null,null,null,null,null,null,null,0,null,null,null,null,null,null,0,null,null,null,0,null,null,0,null,null,null,null,null,null,0,null,null,null,null,null,null,0,0,0,0,0]
[53,53,53,{"$f":"Insert!A55","v":0},{"$f":"Insert!B55","v":0},{"$f":"Insert!C55","v":0},{"$f":"Insert!D55","v":0},{"$f":"Insert!E55","v":0},null,null,null,null,null,0,null,null,null,null,null,0,null,null,null,null,null,null,null,null,null,0,null,null,null,null,null,null,null,null,null,0,null,null,null,null,null,0,null,null,null,0,null,null,null,null,null,null,null,null,null,null,0,null,null,null,null,null,null,0,null,null,null,null,null,null,null,null,null,null,0,null,null,null,null,null,null,0,null,null,null,0,null,null,0,null,null,null,null,null,null,0,null,null,null,null,null,null,0,0,0,0,0]
[54,54,54,{"$f":"Insert!A56","v":0},{"$f":"Insert!B56","v":0},{"$f":"Insert!C56","v":0},{"$f":"Insert!D56","v":0},{"$f":"Insert!E56","v":0},null,null,null,null,null,0,null,null,null,null,null,0,null,null,null,null,null,null,null,null,null,0,null,null,null,null,null,null,null,null,null,0,null,null,null,null,null,0,null,null,null,0,null,null,null,null,null,null,null,null,null,null,0,null,null,null,null,null,null,0,null,null,null,null,null,null,null,null,null,null,0,null,null,null,null,null,null,0,null,null,null,0,null,null,0,null,null,null,null,null,null,0,null,null,null,null,null,null,0,0,0,0,0]
[55,55,55,{"$f":"Insert!A57","v":0},{"$f":"Insert!B57","v":0},{"$f":"Insert!C57","v":0},{"$f":"Insert!D57","v":0},{"$f":"Insert!E57","v":0},null,null,null,null,null,0,null,null,null,null,null,0,null,null,null,null,null,null,null,null,null,0,null,null,null,null,null,null,null,null,null,0,null,null,null,null,null,0,null,null,null,0,null,null,null,null,null,null,null,null,null,null,0,null,null,null,null,null,null,0,null,null,null,null,null,null,null,null,null,null,0,null,null,null,null,null,null,0,null,null,null,0,null,null,0,null,null,null,null,null,null,0,null,null,null,null,null,null,0,0,0,0,0]
[56,56,56,{"$f":"Insert!A58","v":0},{"$f":"Insert!B58","v":0},{"$f":"Insert!C58","v":0},{"$f":"Insert!D58","v":0},{"$f":"Insert!E58","v":0},null,null,null,null,null,0,null,null,null,null,null,0,null,null,null,null,null,null,null,null,null,0,null,null,null,null,null,null,null,null,null,0,null,null,null,null,null,0,null,null,null,0,null,null,null,null,null,null,null,null,null,null,0,null,null,null,null,null,null,0,null,null,null,null,null,null,null,null,null,null,0,null,null,null,null,null,null,0,null,null,null,0,null,null,0,null,null,null,null,null,null,0,null,null,null,null,null,null,0,0,0,0,0]
[57,57,57,{"$f":"Insert!A59","v":0},{"$f":"Insert!B59","v":0},{"$f":"Insert!C59","v":0},{"$f":"Insert!D59","v":0},{"$f":"Insert!E59","v":0},null,null,null,null,null,0,null,null,null,null,null,0,null,null,null,null,null,null,null,null,null,0,null,null,null,null,null,null,null,null,null,0,null,null,null,null,null,0,null,null,null,0,null,null,null,null,null,null,null,null,null,null,0,null,null,null,null,null,null,0,null,null,null,null,null,null,null,null,null,null,0,null,null,null,null,null,null,0,null,null,null,0,null,null,0,null,null,null,null,null,null,0,null,null,null,null,null,null,0,0,0,0,0]
[58,58,58,{"$f":"Insert!A60","v":0},{"$f":"Insert!B60","v":0},{"$f":"Insert!C60","v":0},{"$f":"Insert!D60","v":0},{"$f":"Insert!E60","v":0},null,null,null,null,null,0,null,null,null,null,null,0,null,null,null,null,null,null,null,null,null,0,null,null,null,null,null,null,null,null,null,0,null,null,null,null,null,0,null,null,null,0,null,null,null,null,null,null,null,null,null,null,0,null,null,null,null,null,null,0,null,null,null,null,null,null,null,null,null,null,0,null,null,null,null,null,null,0,null,null,null,0,null,null,0,null,null,null,null,null,null,0,null,null,null,null,null,null,0,0,0,0,0]
[59,59,59,{"$f":"Insert!A61","v":0},{"$f":"Insert!B61","v":0},{"$f":"Insert!C61","v":0},{"$f":"Insert!D61","v":0},{"$f":"Insert!E61","v":0},null,null,null,null,null,0,null,null,null,null,null,0,null,null,null,null,null,null,null,null,null,0,null,null,null,null,null,null,null,null,null,0,null,null,null,null,null,0,null,null,null,0,null,null,null,null,null,null,null,null,null,null,0,null,null,null,null,null,null,0,null,null,null,null,null,null,null,null,null,null,0,null,null,null,null,null,null,0,null,null,null,0,null,null,0,null,null,null,null,null,null,0,null,null,null,null,null,null,0,0,0,0,0]
[60,60,60,{"$f":"Insert!A62","v":0},{"$f":"Insert!B62","v":0},{"$f":"Insert!C62","v":0},{"$f":"Insert!D62","v":0},{"$f":"Insert!E62","v":0},null,null,null,null,null,0,null,null,null,null,null,0,null,null,null,null,null,null,null,null,null,0,null,null,null,null,null,null,null,null,null,0,null,null,null,null,null,0,null,null,null,0,null,null,null,null,null,null,null,null,null,null,0,null,null,null,null,null,null,0,null,null,null,null,null,null,null,null,null,null,0,null,null,null,null,null,null,0,null,null,null,0,null,null,0,null,null,null,null,null,null,0,null,null,null,null,null,null,0,0,0,0,0]
[61,61,61,{"$f":"Insert!A63","v":0},{"$f":"Insert!B63","v":0},{"$f":"Insert!C63","v":0},{"$f":"Insert!D63","v":0},{"$f":"Insert!E63","v":0},null,null,null,null,null,0,null,null,null,null,null,0,null,null,null,null,null,null,null,null,null,0,null,null,null,null,null,null,null,null,null,0,null,null,null,null,null,0,null,null,null,0,null,null,null,null,null,null,null,null,null,null,0,null,null,null,null,null,null,0,null,null,null,null,null,null,null,null,null,null,0,null,null,null,null,null,null,0,null,null,null,{"$f":"SUMIF(CI76:CK76,\">0\")","v":0},null,null,0,null,null,null,null,null,null,0,null,null,null,null,null,null,0,0,0,0,0]
[62,62,62,{"$f":"Insert!A64","v":0},{"$f":"Insert!B64","v":0},{"$f":"Insert!C64","v":0},{"$f":"Insert!D64","v":0},{"$f":"Insert!E64","v":0},null,null,null,null,null,0,null,null,null,null,null,0,null,null,null,null,null,null,null,null,null,0,null,null,null,null,null,null,null,null,null,0,null,null,null,null,null,0,null,null,null,0,null,null,null,null,null,null,null,null,null,null,0,null,null,null,null,null,null,0,null,null,null,null,null,null,null,null,null,null,0,null,null,null,null,null,null,0,null,null,null,0,null,null,0,null,null,null,null,null,null,0,null,null,null,null,null,null,0,0,0,0,0]
[63,63,63,{"$f":"Insert!A65","v":0},{"$f":"Insert!B65","v":0},{"$f":"Insert!C65","v":0},{"$f":"Insert!D65","v":0},{"$f":"Insert!E65","v":0},null,null,null,null,null,0,null,null,null,null,null,0,null,null,null,null,null,null,null,null,null,0,null,null,null,null,null,null,null,null,null,0,null,null,null,null,null,0,null,null,null,0,null,null,null,null,null,null,null,null,null,null,0,null,null,null,null,null,null,0,null,null,null,null,null,null,null,null,null,null,0,null,null,null,null,null,null,0,null,null,null,0,null,null,0,null,null,null,null,null,null,0,null,null,null,null,null,null,0,0,0,0,0]
[64,64,64,{"$f":"Insert!A66","v":0},{"$f":"Insert!B66","v":0},{"$f":"Insert!C66","v":0},{"$f":"Insert!D66","v":0},{"$f":"Insert!E66","v":0},null,null,null,null,null,0,null,null,null,null,null,0,null,null,null,null,null,null,null,null,null,0,null,null,null,null,null,null,null,null,null,0,null,null,null,null,null,0,null,null,null,0,null,null,null,null,null,null,null,null,null,null,0,null,null,null,null,null,null,0,null,null,null,null,null,null,null,null,null,null,0,null,null,null,null,null,null,0,null,null,null,0,null,null,0,null,null,null,null,null,null,0,null,null,null,null,null,null,0,0,0,0,0]
[65,65,65,{"$f":"Insert!A67","v":0},{"$f":"Insert!B67","v":0},{"$f":"Insert!C67","v":0},{"$f":"Insert!D67","v":0},{"$f":"Insert!E67","v":0},null,null,null,null,null,{"$f":"SUM(I80:M80)","v":0},null,null,null,null,null,{"$f":"SUM(O80:S80)","v":0},null,null,null,null,null,null,null,null,null,0,null,null,null,null,null,null,null,null,null,0,null,null,null,null,null,{"$f":"SUM(AO80:AS80)","v":0},null,null,null,{"$f":"SUM(AU80:AW80)","v":0},null,null,null,null,null,null,null,null,null,null,0,null,null,null,null,null,null,{"$f":"ROUND((SUM(BJ80:BO80)),0)","v":0},null,null,null,null,null,null,null,null,null,null,0,null,null,null,null,null,null,{"$f":"SUM(CB80:CG80)","v":0},null,null,null,0,null,null,{"$f":"SUM(CM80:CN80)","v":0},null,null,null,null,null,null,{"$f":"SUM(CP80:CU80)","v":0},null,null,null,null,null,null,{"$f":"ROUND((SUM(N80+T80+AD80+AN80+AT80+CO80+CV80)/2.82),0)","v":0},{"$f":"ROUND((SUM(AX80+BI80+BP80+CA80+CH80+CL80)/1.2),0)","v":0},{"$f":"COUNTIF(CW80:DB80,\">0\")","v":0},{"$f":"ROUND(IF(DE80=4,SUM(CW80:CZ80)/1.6,IF(DE80=6,SUMIF(CW80:DB80,\">0\")/2.4,SUM(CW80:CZ80))),0)","v":0},{"$f":"SUM(DC80+DD80+DF80)","v":0}]
[66,66,66,{"$f":"Insert!A68","v":0},{"$f":"Insert!B68","v":0},{"$f":"Insert!C68","v":0},{"$f":"Insert!D68","v":0},{"$f":"Insert!E68","v":0},null,null,null,null,null,0,null,null,null,null,null,0,null,null,null,null,null,null,null,null,null,{"$f":"ROUND((SUM(U81:AC81)/2),0)","v":0},null,null,null,null,null,null,null,null,null,{"$f":"ROUND((SUM(AE81:AM81)/2),0)","v":0},null,null,null,null,null,0,null,null,null,0,null,null,null,null,null,null,null,null,null,null,{"$f":"ROUND((SUM(AY81:BH81)/2),0)","v":0},null,null,null,null,null,null,0,null,null,null,null,null,null,null,null,null,null,{"$f":"ROUND((SUM(BQ81:BZ81)/1.5),0)","v":0},null,null,null,null,null,null,0,null,null,null,0,null,null,0,null,null,null,null,null,null,0,null,null,null,null,null,null,0,0,0,0,0]
[67,67,67,{"$f":"Insert!A69","v":0},{"$f":"Insert!B69","v":0},{"$f":"Insert!C69","v":0},{"$f":"Insert!D69","v":0},{"$f":"Insert!E69","v":0},null,null,null,null,null,0,null,null,null,null,null,0,null,null,null,null,null,null,null,null,null,0,null,null,null,null,null,null,null,null,null,0,null,null,null,null,null,0,null,null,null,0,null,null,null,null,null,null,null,null,null,null,0,null,null,null,null,null,null,0,null,null,null,null,null,null,null,null,null,null,0,null,null,null,null,null,null,0,null,null,null,0,null,null,0,null,null,null,null,null,null,0,null,null,null,null,null,null,0,0,0,0,0]
[68,68,68,{"$f":"Insert!A70","v":0},{"$f":"Insert!B70","v":0},{"$f":"Insert!C70","v":0},{"$f":"Insert!D70","v":0},{"$f":"Insert!E70","v":0},null,null,null,null,null,0,null,null,null,null,null,0,null,null,null,null,null,null,null,null,null,0,null,null,null,null,null,null,null,null,null,0,null,null,null,null,null,0,null,null,null,0,null,null,null,null,null,null,null,null,null,null,0,null,null,null,null,null,null,0,null,null,null,null,null,null,null,null,null,null,0,null,null,null,null,null,null,0,null,null,null,0,null,null,0,null,null,null,null,null,null,0,null,null,null,null,null,null,0,0,0,0,0]
[69,69,69,{"$f":"Insert!A71","v":0},{"$f":"Insert!B71","v":0},{"$f":"Insert!C71","v":0},{"$f":"Insert!D71","v":0},{"$f":"Insert!E71","v":0},null,null,null,null,null,0,null,null,null,null,null,0,null,null,null,null,null,null,null,null,null,0,null,null,null,null,null,null,null,null,null,0,null,null,null,null,null,0,null,null,null,0,null,null,null,null,null,null,null,null,null,null,0,null,null,null,null,null,null,0,null,null,null,null,null,null,null,null,null,null,0,null,null,null,null,null,null,0,null,null,null,0,null,null,0,null,null,null,null,null,null,0,null,null,null,null,null,null,0,0,0,0,0]
[70,70,70,{"$f":"Insert!A72","v":0},{"$f":"Insert!B72","v":0},{"$f":"Insert!C72","v":0},{"$f":"Insert!D72","v":0},{"$f":"Insert!E72","v":0},null,null,null,null,null,0,null,null,null,null,null,0,null,null,null,null,null,null,null,null,null,0,null,null,null,null,null,null,null,null,null,0,null,null,null,null,null,0,null,null,null,0,null,null,null,null,null,null,null,null,null,null,0,null,null,null,null,null,null,0,null,null,null,null,null,null,null,null,null,null,0,null,null,null,null,null,null,0,null,null,null,0,null,null,0,null,null,null,null,null,null,0,null,null,null,null,null,null,0,0,0,0,0]
[71,71,71,{"$f":"Insert!A73","v":0},{"$f":"Insert!B73","v":0},{"$f":"Insert!C73","v":0},{"$f":"Insert!D73","v":0},{"$f":"Insert!E73","v":0},null,null,null,null,null,0,null,null,null,null,null,0,null,null,null,null,null,null,null,null,null,0,null,null,null,null,null,null,null,null,null,0,null,null,null,null,null,0,null,null,null,0,null,null,null,null,null,null,null,null,null,null,0,null,null,null,null,null,null,0,null,null,null,null,null,null,null,null,null,null,0,null,null,null,null,null,null,0,null,null,null,{"$f":"SUM(CI86:CK86)","v":0},null,null,0,null,null,null,null,null,null,0,null,null,null,null,null,null,0,0,0,0,0]
[72,72,72,{"$f":"Insert!A74","v":0},{"$f":"Insert!B74","v":0},{"$f":"Insert!C74","v":0},{"$f":"Insert!D74","v":0},{"$f":"Insert!E74","v":0},null,null,null,null,null,0,null,null,null,null,null,0,null,null,null,null,null,null,null,null,null,0,null,null,null,null,null,null,null,null,null,0,null,null,null,null,null,0,null,null,null,0,null,null,null,null,null,null,null,null,null,null,0,null,null,null,null,null,null,0,null,null,null,null,null,null,null,null,null,null,0,null,null,null,null,null,null,0,null,null,null,0,null,null,0,null,null,null,null,null,null,0,null,null,null,null,null,null,0,0,0,0,0]
[73,73,73,{"$f":"Insert!A75","v":0},{"$f":"Insert!B75","v":0},{"$f":"Insert!C75","v":0},{"$f":"Insert!D75","v":0},{"$f":"Insert!E75","v":0},null,null,null,null,null,0,null,null,null,null,null,0,null,null,null,null,null,null,null,null,null,0,null,null,null,null,null,null,null,null,null,0,null,null,null,null,null,0,null,null,null,0,null,null,null,null,null,null,null,null,null,null,0,null,null,null,null,null,null,0,null,null,null,null,null,null,null,null,null,null,0,null,null,null,null,null,null,0,null,null,null,0,null,null,0,null,null,null,null,null,null,0,null,null,null,null,null,null,0,0,0,0,0]
[74,74,74,{"$f":"Insert!A76","v":0},{"$f":"Insert!B76","v":0},{"$f":"Insert!C76","v":0},{"$f":"Insert!D76","v":0},{"$f":"Insert!E76","v":0},null,null,null,null,null,0,null,null,null,null,null,0,null,null,null,null,null,null,null,null,null,0,null,null,null,null,null,null,null,null,null,0,null,null,null,null,null,0,null,null,null,0,null,null,null,null,null,null,null,null,null,null,0,null,null,null,null,null,null,0,null,null,null,null,null,null,null,null,null,null,0,null,null,null,null,null,null,0,null,null,null,0,null,null,0,null,null,null,null,null,null,0,null,null,null,null,null,null,0,0,0,0,0]
[75,75,75,{"$f":"Insert!A77","v":0},{"$f":"Insert!B77","v":0},{"$f":"Insert!C77","v":0},{"$f":"Insert!D77","v":0},{"$f":"Insert!E77","v":0},null,null,null,null,null,0,null,null,null,null,null,0,null,null,null,null,null,null,null,null,null,0,null,null,null,null,null,null,null,null,null,0,null,null,null,null,null,0,null,null,null,0,null,null,null,null,null,null,null,null,null,null,0,null,null,null,null,null,null,0,null,null,null,null,null,null,null,null,null,null,0,null,null,null,null,null,null,0,null,null,null,0,null,null,0,null,null,null,null,null,null,0,null,null,null,null,null,null,0,0,0,0,0]
[76,76,76,{"$f":"Insert!A78","v":0},{"$f":"Insert!B78","v":0},{"$f":"Insert!C78","v":0},{"$f":"Insert!D78","v":0},{"$f":"Insert!E78","v":0},null,null,null,null,null,0,null,null,null,null,null,0,null,null,null,null,null,null,null,null,null,0,null,null,null,null,null,null,null,null,null,0,null,null,null,null,null,0,null,null,null,0,null,null,null,null,null,null,null,null,null,null,0,null,null,null,null,null,null,0,null,null,null,null,null,null,null,null,null,null,0,null,null,null,null,null,null,0,null,null,null,0,null,null,0,null,null,null,null,null,null,0,null,null,null,null,null,null,0,0,0,0,0]
[77,77,77,{"$f":"Insert!A79","v":0},{"$f":"Insert!B79","v":0},{"$f":"Insert!C79","v":0},{"$f":"Insert!D79","v":0},{"$f":"Insert!E79","v":0},null,null,null,null,null,0,null,null,null,null,null,0,null,null,null,null,null,null,null,null,null,0,null,null,null,null,null,null,null,null,null,0,null,null,null,null,null,0,null,null,null,0,null,null,null,null,null,null,null,null,null,null,0,null,null,null,null,null,null,0,null,null,null,null,null,null,null,null,null,null,0,null,null,null,null,null,null,0,null,null,null,0,null,null,0,null,null,null,null,null,null,0,null,null,null,null,null,null,0,0,0,0,0]
[78,78,78,{"$f":"Insert!A80","v":0},{"$f":"Insert!B80","v":0},{"$f":"Insert!C80","v":0},{"$f":"Insert!D80","v":0},{"$f":"Insert!E80","v":0},null,null,null,null,null,0,null,null,null,null,null,0,null,null,null,null,null,null,null,null,null,0,null,null,null,null,null,null,null,null,null,0,null,null,null,null,null,0,null,null,null,0,null,null,null,null,null,null,null,null,null,null,0,null,null,null,null,null,null,0,null,null,null,null,null,null,null,null,null,null,0,null,null,null,null,null,null,0,null,null,null,0,null,null,0,null,null,null,null,null,null,0,null,null,null,null,null,null,0,0,0,0,0]
[79,79,79,{"$f":"Insert!A81","v":0},{"$f":"Insert!B81","v":0},{"$f":"Insert!C81","v":0},{"$f":"Insert!D81","v":0},{"$f":"Insert!E81","v":0},null,null,null,null,null,0,null,null,null,null,null,0,null,null,null,null,null,null,null,null,null,0,null,null,null,null,null,null,null,null,null,0,null,null,null,null,null,0,null,null,null,0,null,null,null,null,null,null,null,null,null,null,0,null,null,null,null,null,null,0,null,null,null,null,null,null,null,null,null,null,0,null,null,null,null,null,null,0,null,null,null,0,null,null,0,null,null,null,null,null,null,0,null,null,null,null,null,null,0,0,0,0,0]
[80,80,80,{"$f":"Insert!A82","v":0},{"$f":"Insert!B82","v":0},{"$f":"Insert!C82","v":0},{"$f":"Insert!D82","v":0},{"$f":"Insert!E82","v":0},null,null,null,null,null,0,null,null,null,null,null,0,null,null,null,null,null,null,null,null,null,0,null,null,null,null,null,null,null,null,null,0,null,null,null,null,null,0,null,null,null,0,null,null,null,null,null,null,null,null,null,null,0,null,null,null,null,null,null,0,null,null,null,null,null,null,null,null,null,null,0,null,null,null,null,null,null,0,null,null,null,0,null,null,0,null,null,null,null,null,null,0,null,null,null,null,null,null,0,0,0,0,0]
[81,81,81,{"$f":"Insert!A83","v":0},{"$f":"Insert!B83","v":0},{"$f":"Insert!C83","v":0},{"$f":"Insert!D83","v":0},{"$f":"Insert!E83","v":0},null,null,null,null,null,0,null,null,null,null,null,0,null,null,null,null,null,null,null,null,null,0,null,null,null,null,null,null,null,null,null,0,null,null,null,null,null,0,null,null,null,0,null,null,null,null,null,null,null,null,null,null,0,null,null,null,null,null,null,0,null,null,null,null,null,null,null,null,null,null,0,null,null,null,null,null,null,0,null,null,null,0,null,null,0,null,null,null,null,null,null,0,null,null,null,null,null,null,0,0,0,0,0]
[82,82,82,{"$f":"Insert!A84","v":0},{"$f":"Insert!B84","v":0},{"$f":"Insert!C84","v":0},{"$f":"Insert!D84","v":0},{"$f":"Insert!E84","v":0},null,null,null,null,null,0,null,null,null,null,null,0,null,null,null,null,null,null,null,null,null,0,null,null,null,null,null,null,null,null,null,0,null,null,null,null,null,0,null,null,null,0,null,null,null,null,null,null,null,null,null,null,0,null,null,null,null,null,null,0,null,null,null,null,null,null,null,null,null,null,0,null,null,null,null,null,null,0,null,null,null,0,null,null,0,null,null,null,null,null,null,0,null,null,null,null,null,null,0,0,0,0,0]
[83,83,83,{"$f":"Insert!A85","v":0},{"$f":"Insert!B85","v":0},{"$f":"Insert!C85","v":0},{"$f":"Insert!D85","v":0},{"$f":"Insert!E85","v":0},null,null,null,null,null,0,null,null,null,null,null,0,null,null,null,null,null,null,null,null,null,0,null,null,null,null,null,null,null,null,null,0,null,null,null,null,null,0,null,null,null,0,null,null,null,null,null,null,null,null,null,null,0,null,null,null,null,null,null,0,null,null,null,null,null,null,null,null,null,null,0,null,null,null,null,null,null,0,null,null,null,0,null,null,0,null,null,null,null,null,null,0,null,null,null,null,null,null,0,0,0,0,0]
[84,84,84,{"$f":"Insert!A86","v":0},{"$f":"Insert!B86","v":0},{"$f":"Insert!C86","v":0},{"$f":"Insert!D86","v":0},{"$f":"Insert!E86","v":0},null,null,null,null,null,0,null,null,null,null,null,0,null,null,null,null,null,null,null,null,null,0,null,null,null,null,null,null,null,null,null,0,null,null,null,null,null,0,null,null,null,0,null,null,null,null,null,null,null,null,null,null,0,null,null,null,null,null,null,0,null,null,null,null,null,null,null,null,null,null,0,null,null,null,null,null,null,0,null,null,null,0,null,null,0,null,null,null,null,null,null,0,null,null,null,null,null,null,0,0,0,0,0]
[85,85,85,{"$f":"Insert!A87","v":0},{"$f":"Insert!B87","v":0},{"$f":"Insert!C87","v":0},{"$f":"Insert!D87","v":0},{"$f":"Insert!E87","v":0},null,null,null,null,null,0,null,null,null,null,null,0,null,null,null,null,null,null,null,null,null,0,null,null,null,null,null,null,null,null,null,0,null,null,null,null,null,0,null,null,null,0,null,null,null,null,null,null,null,null,null,null,0,null,null,null,null,null,null,0,null,null,null,null,null,null,null,null,null,null,0,null,null,null,null,null,null,0,null,null,null,0,null,null,0,null,null,null,null,null,null,0,null,null,null,null,null,null,0,0,0,0,0]
[86,86,86,{"$f":"Insert!A88","v":0},{"$f":"Insert!B88","v":0},{"$f":"Insert!C88","v":0},{"$f":"Insert!D88","v":0},{"$f":"Insert!E88","v":0},null,null,null,null,null,0,null,null,null,null,null,0,null,null,null,null,null,null,null,null,null,0,null,null,null,null,null,null,null,null,null,0,null,null,null,null,null,0,null,null,null,0,null,null,null,null,null,null,null,null,null,null,0,null,null,null,null,null,null,0,null,null,null,null,null,null,null,null,null,null,0,null,null,null,null,null,null,0,null,null,null,0,null,null,0,null,null,null,null,null,null,0,null,null,null,null,null,null,0,0,0,0,0]
[87,87,87,{"$f":"Insert!A89","v":0},{"$f":"Insert!B89","v":0},{"$f":"Insert!C89","v":0},{"$f":"Insert!D89","v":0},{"$f":"Insert!E89","v":0},null,null,null,null,null,0,null,null,null,null,null,0,null,null,null,null,null,null,null,null,null,0,null,null,null,null,null,null,null,null,null,0,null,null,null,null,null,0,null,null,null,0,null,null,null,null,null,null,null,null,null,null,0,null,null,null,null,null,null,0,null,null,null,null,null,null,null,null,null,null,0,null,null,null,null,null,null,0,null,null,null,0,null,null,0,null,null,null,null,null,null,0,null,null,null,null,null,null,0,0,0,0,0]
[88,88,88,{"$f":"Insert!A90","v":0},{"$f":"Insert!B90","v":0},{"$f":"Insert!C90","v":0},{"$f":"Insert!D90","v":0},{"$f":"Insert!E90","v":0},null,null,null,null,null,0,null,null,null,null,null,0,null,null,null,null,null,null,null,null,null,0,null,null,null,null,null,null,null,null,null,0,null,null,null,null,null,0,null,null,null,0,null,null,null,null,null,null,null,null,null,null,0,null,null,null,null,null,null,0,null,null,null,null,null,null,null,null,null,null,0,null,null,null,null,null,null,0,null,null,null,0,null,null,0,null,null,null,null,null,null,0,null,null,null,null,null,null,0,0,0,0,0]
[89,89,89,{"$f":"Insert!A91","v":0},{"$f":"Insert!B91","v":0},{"$f":"Insert!C91","v":0},{"$f":"Insert!D91","v":0},{"$f":"Insert!E91","v":0},null,null,null,null,null,0,null,null,null,null,null,0,null,null,null,null,null,null,null,null,null,0,null,null,null,null,null,null,null,null,null,0,null,null,null,null,null,0,null,null,null,0,null,null,null,null,null,null,null,null,null,null,0,null,null,null,null,null,null,0,null,null,null,null,null,null,null,null,null,null,0,null,null,null,null,null,null,0,null,null,null,0,null,null,0,null,null,null,null,null,null,0,null,null,null,null,null,null,0,0,0,0,0]
[90,90,90,{"$f":"Insert!A92","v":0},{"$f":"Insert!B92","v":0},{"$f":"Insert!C92","v":0},{"$f":"Insert!D92","v":0},{"$f":"Insert!E92","v":0},null,null,null,null,null,0,null,null,null,null,null,0,null,null,null,null,null,null,null,null,null,0,null,null,null,null,null,null,null,null,null,0,null,null,null,null,null,0,null,null,null,0,null,null,null,null,null,null,null,null,null,null,0,null,null,null,null,null,null,0,null,null,null,null,null,null,null,null,null,null,0,null,null,null,null,null,null,0,null,null,null,0,null,null,0,null,null,null,null,null,null,0,null,null,null,null,null,null,0,0,0,0,0]
[91,91,91,{"$f":"Insert!A93","v":0},{"$f":"Insert!B93","v":0},{"$f":"Insert!C93","v":0},{"$f":"Insert!D93","v":0},{"$f":"Insert!E93","v":0},null,null,null,null,null,0,null,null,null,null,null,0,null,null,null,null,null,null,null,null,null,0,null,null,null,null,null,null,null,null,null,0,null,null,null,null,null,0,null,null,null,0,null,null,null,null,null,null,null,null,null,null,0,null,null,null,null,null,null,0,null,null,null,null,null,null,null,null,null,null,0,null,null,null,null,null,null,0,null,null,null,0,null,null,0,null,null,null,null,null,null,0,null,null,null,null,null,null,0,0,0,0,0]
[92,92,92,{"$f":"Insert!A94","v":0},{"$f":"Insert!B94","v":0},{"$f":"Insert!C94","v":0},{"$f":"Insert!D94","v":0},{"$f":"Insert!E94","v":0},null,null,null,null,null,0,null,null,null,null,null,0,null,null,null,null,null,null,null,null,null,0,null,null,null,null,null,null,null,null,null,0,null,null,null,null,null,0,null,null,null,0,null,null,null,null,null,null,null,null,null,null,0,null,null,null,null,null,null,0,null,null,null,null,null,null,null,null,null,null,0,null,null,null,null,null,null,0,null,null,null,0,null,null,0,null,null,null,null,null,null,0,null,null,null,null,null,null,0,0,0,0,0]
[93,93,93,{"$f":"Insert!A95","v":0},{"$f":"Insert!B95","v":0},{"$f":"Insert!C95","v":0},{"$f":"Insert!D95","v":0},{"$f":"Insert!E95","v":0},null,null,null,null,null,0,null,null,null,null,null,0,null,null,null,null,null,null,null,null,null,0,null,null,null,null,null,null,null,null,null,0,null,null,null,null,null,0,null,null,null,0,null,null,null,null,null,null,null,null,null,null,0,null,null,null,null,null,null,0,null,null,null,null,null,null,null,null,null,null,0,null,null,null,null,null,null,0,null,null,null,0,null,null,0,null,null,null,null,null,null,0,null,null,null,null,null,null,0,0,0,0,0]
[94,94,94,{"$f":"Insert!A96","v":0},{"$f":"Insert!B96","v":0},{"$f":"Insert!C96","v":0},{"$f":"Insert!D96","v":0},{"$f":"Insert!E96","v":0},null,null,null,null,null,0,null,null,null,null,null,0,null,null,null,null,null,null,null,null,null,0,null,null,null,null,null,null,null,null,null,0,null,null,null,null,null,0,null,null,null,0,null,null,null,null,null,null,null,null,null,null,0,null,null,null,null,null,null,0,null,null,null,null,null,null,null,null,null,null,0,null,null,null,null,null,null,0,null,null,null,0,null,null,0,null,null,null,null,null,null,0,null,null,null,null,null,null,0,0,0,0,0]
[95,95,95,{"$f":"Insert!A97","v":0},{"$f":"Insert!B97","v":0},{"$f":"Insert!C97","v":0},{"$f":"Insert!D97","v":0},{"$f":"Insert!E97","v":0},null,null,null,null,null,0,null,null,null,null,null,0,null,null,null,null,null,null,null,null,null,0,null,null,null,null,null,null,null,null,null,0,null,null,null,null,null,0,null,null,null,0,null,null,null,null,null,null,null,null,null,null,0,null,null,null,null,null,null,0,null,null,null,null,null,null,null,null,null,null,0,null,null,null,null,null,null,0,null,null,null,0,null,null,0,null,null,null,null,null,null,0,null,null,null,null,null,null,0,0,0,0,0]
[96,96,96,{"$f":"Insert!A98","v":0},{"$f":"Insert!B98","v":0},{"$f":"Insert!C98","v":0},{"$f":"Insert!D98","v":0},{"$f":"Insert!E98","v":0},null,null,null,null,null,0,null,null,null,null,null,0,null,null,null,null,null,null,null,null,null,0,null,null,null,null,null,null,null,null,null,0,null,null,null,null,null,0,null,null,null,0,null,null,null,null,null,null,null,null,null,null,0,null,null,null,null,null,null,0,null,null,null,null,null,null,null,null,null,null,0,null,null,null,null,null,null,0,null,null,null,0,null,null,0,null,null,null,null,null,null,0,null,null,null,null,null,null,0,0,0,0,0]
[97,97,97,{"$f":"Insert!A99","v":0},{"$f":"Insert!B99","v":0},{"$f":"Insert!C99","v":0},{"$f":"Insert!D99","v":0},{"$f":"Insert!E99","v":0},null,null,null,null,null,{"$f":"SUM(I112:M112)","v":0},null,null,null,null,null,{"$f":"SUM(O112:S112)","v":0},null,null,null,null,null,null,null,null,null,0,null,null,null,null,null,null,null,null,null,0,null,null,null,null,null,{"$f":"SUM(AO112:AS112)","v":0},null,null,null,{"$f":"SUM(AU112:AW112)","v":0},null,null,null,null,null,null,null,null,null,null,0,null,null,null,null,null,null,0,null,null,null,null,null,null,null,null,null,null,0,null,null,null,null,null,null,{"$f":"SUM(CB112:CG112)","v":0},null,null,null,0,null,null,{"$f":"SUM(CM112:CN112)","v":0},null,null,null,null,null,null,{"$f":"SUM(CP112:CU112)","v":0},null,null,null,null,null,null,0,0,0,{"$f":"ROUND(IF(DE112=4,SUM(CW112:CZ112)/1.6,IF(DE112=6,SUMIF(CW112:DB112,\">0\")/2.4,SUM(CW112:CZ112))),0)","v":0},{"$f":"SUM(DC112+DD112+DF112)","v":0}]
[98,98,98,{"$f":"Insert!A100","v":0},{"$f":"Insert!B100","v":0},{"$f":"Insert!C100","v":0},{"$f":"Insert!D100","v":0},{"$f":"Insert!E100","v":0},null,null,null,null,null,0,null,null,null,null,null,0,null,null,null,null,null,null,null,null,null,0,null,null,null,null,null,null,null,null,null,0,null,null,null,null,null,0,null,null,null,0,null,null,null,null,null,null,null,null,null,null,0,null,null,null,null,null,null,0,null,null,null,null,null,null,null,null,null,null,0,null,null,null,null,null,null,0,null,null,null,0,null,null,0,null,null,null,null,null,null,0,null,null,null,null,null,null,0,0,0,0,0]
[99,99,99,{"$f":"Insert!A101","v":0},{"$f":"Insert!B101","v":0},{"$f":"Insert!C101","v":0},{"$f":"Insert!D101","v":0},{"$f":"Insert!E101","v":0},null,null,null,null,null,0,null,null,null,null,null,0,null,null,null,null,null,null,null,null,null,0,null,null,null,null,null,null,null,null,null,0,null,null,null,null,null,0,null,null,null,0,null,null,null,null,null,null,null,null,null,null,0,null,null,null,null,null,null,0,null,null,null,null,null,null,null,null,null,null,0,null,null,null,null,null,null,0,null,null,null,0,null,null,0,null,null,null,null,null,null,0,null,null,null,null,null,null,0,0,0,0,0]
[100,100,100,{"$f":"Insert!A102","v":0},{"$f":"Insert!B102","v":0},{"$f":"Insert!C102","v":0},{"$f":"Insert!D102","v":0},{"$f":"Insert!E102","v":0},null,null,null,null,null,0,null,null,null,null,null,0,null,null,null,null,null,null,null,null,null,0,null,null,null,null,null,null,null,null,null,0,null,null,null,null,null,0,null,null,null,0,null,null,null,null,null,null,null,null,null,null,0,null,null,null,null,null,null,0,null,null,null,null,null,null,null,null,null,null,0,null,null,null,null,null,null,0,null,null,null,0,null,null,0,null,null,null,null,null,null,0,null,null,null,null,null,null,0,0,0,0,0]
[null,"Total amount of learners on mark sheet",null,null,null,"x",null,"TOTAL:",{"$f":"SUM(I16:I115)","v":0},0,0,0,0,0,0,0,0,0,0,0,0,0,0,0,{"$f":"SUM(Y16:Y115)","v":0},0,0,0,0,0,0,0,0,0,0,0,0,0,0,0,0,0,0,0,0,0,0,0,0,0,0,0,0,0,0,0,0,{"$f":"SUM(BF16:BF115)","v":0},0,0,0,0,0,0,0,0,0,0,0,0,0,0,0,0,0,0,0,0,0,0,0,0,0,0,0,0,0,0,0,0,0,0,0,0,0,0,0,0,0,0,0,0,0,0,0,0,0,0,null,{"$f":"SUM(DF16:DF115)","v":0},0]
[null,null,null,null,null,"x",null,"AVERAGE:",{"$f":"IFERROR(ROUND(SUM(I116/$I$119),2),\"0\")","v":"0"},"0","0","0","0","0","0","0","0","0","0","0","0","0","0","0",{"$f":"IFERROR(ROUND(SUM(Y116/$I$119),2),\"0\")","v":"0"},"0","0","0","0","0","0","0","0","0","0","0","0","0","0","0","0","0","0","0","0","0","0","0","0","0","0","0","0","0","0","0","0",{"$f":"IFERROR(ROUND(SUM(BF116/$I$119),2),\"0\")","v":"0"},"0","0","0","0","0","0","0","0","0","0","0","0","0","0","0","0","0","0","0","0","0","0","0","0","0","0","0","0","0","0","0","0","0","0","0","0","0","0","0","0","0","0","0","0","0","0","0","0","0","0",null,{"$f":"IFERROR(ROUND(SUM(DF116/$I$119),2),\"0\")","v":"0"},"0"]
[null,null,null,null,null,"x",null,"PERCENTAGE:",{"$f":"IFERROR(ROUND((SUM(I117/I12)*100),0),\"0\")","v":0},0,0,0,0,0,0,0,0,0,0,0,0,0,0,0,{"$f":"IFERROR(ROUND((SUM(Y117/Y12)*100),0),\"0\")","v":0},0,0,0,0,0,0,0,0,0,0,0,0,0,0,0,0,0,0,0,0,0,0,0,0,0,0,0,0,0,0,0,0,{"$f":"IFERROR(ROUND((SUM(BF117/BF12)*100),0),\"0\")","v":0},0,0,0,0,0,0,0,0,0,0,0,0,0,0,0,0,0,0,"0","0",0,0,0,0,0,0,0,0,0,0,0,0,0,0,0,0,0,0,0,0,0,0,0,0,0,0,0,0,0,0,null,{"$f":"IFERROR(ROUND((SUM(DF117/DF12)*100),0),\"0\")","v":0},0]
[null,{"$f":"Insert!$F$103","v":0},null,null,null,"TOTAL HANDED IN:",null,null,{"$f":"COUNT(I16:I115)","v":0},{"$f":"COUNT(J16:J115)","v":0},0,0,0,null,0,0,0,0,0,null,{"$f":"COUNT(U16:U115)","v":0},0,0,0,0,0,0,{"$f":"COUNT(AB16:AB115)","v":0},0,null,0,0,0,0,0,0,0,{"$f":"COUNT(AL16:AL115)","v":0},0,null,0,0,0,0,0,null,0,0,0,null,0,0,0,0,0,0,0,0,0,0,null,0,0,0,0,0,0,null,0,0,{"$f":"COUNT(BS16:BS115)","v":0},0,0,0,0,0,0,0,null,0,0,0,0,0,0,null,0,0,0,null,0,0,null,0,0,0,0,0,0,null,0,0,0,0,0,0]

{"sheet":"Civil Assessment","index":10,"n_rows":184,"n_cols":94,"rows_kept":184,"cut":false,"hidden":false,"merged":[[1,6,1,8],[2,6,2,8],[3,6,3,8],[4,6,4,8],[16,13,16,14],[81,2,81,8],[0,0,0,14],[1,1,1,5],[2,1,2,5],[3,1,3,5],[4,1,4,5],[2,0,3,0],[2,11,2,12],[2,13,2,14],[5,0,6,0],[5,2,5,8],[5,9,9,9],[5,10,9,10],[5,11,9,11],[5,12,9,12],[5,13,9,14],[6,2,6,8],[13,2,13,8],[14,2,14,8],[15,2,15,8],[7,0,9,0],[7,2,7,8],[8,2,8,8],[9,2,9,8],[11,0,16,0],[11,2,11,8],[12,2,12,8],[16,1,16,9],[17,1,17,14],[18,0,23,0],[18,1,20,2],[18,4,18,8],[19,4,19,8],[20,4,20,8],[25,0,34,0],[25,1,34,2],[25,3,25,8],[26,3,26,8],[27,3,27,8],[28,3,28,8],[21,1,21,8],[22,1,22,8],[29,3,29,8],[30,3,30,8],[31,3,31,8],[32,3,32,8],[34,3,34,8],[23,1,23,9],[23,13,23,14],[24,1,24,9],[24,10,24,12],[41,1,41,8],[34,10,34,11],[42,1,42,9],[42,13,42,14],[33,3,33,8],[44,0,48,0],[44,1,44,14],[45,1,45,8],[46,1,46,8],[47,1,47,8],[48,1,48,8],[48,13,48,14],[43,1,43,14],[35,0,35,14],[36,1,36,14],[37,0,42,0],[37,1,37,8],[38,1,38,8],[39,1,39,8],[40,1,40,8],[67,2,67,8],[68,2,68,8],[62,0,69,0],[62,2,62,14],[63,2,63,8],[64,2,64,8],[65,2,65,8],[66,2,66,8],[49,1,49,14],[50,0,61,0],[50,2,50,14],[51,2,51,8],[52,2,52,8],[53,2,53,8],[54,2,54,8],[58,2,58,8],[59,2,59,8],[61,1,61,9],[61,13,61,14],[55,2,55,8],[56,2,56,8],[57,2,57,8],[60,2,60,8],[69,1,69,9],[69,13,69,14],[70,0,70,14],[71,0,82,0],[71,2,71,14],[72,2,72,8],[73,2,73,8],[82,1,82,9],[82,13,82,14],[77,2,77,8],[78,2,78,8],[79,2,79,8],[80,2,80,8],[83,1,83,14],[84,1,84,8],[85,1,85,8],[89,1,89,8],[90,1,90,9],[90,13,90,14],[74,2,74,8],[75,2,75,8],[76,2,76,8],[91,1,91,14],[92,0,95,0],[92,1,92,8],[93,1,93,8],[84,0,90,0],[94,1,94,8],[95,13,95,14],[86,1,86,8],[87,1,87,8],[88,1,88,8],[95,1,95,8],[96,1,96,14],[97,0,99,0],[97,1,97,8],[98,1,98,8],[104,1,104,8],[105,1,105,8],[99,1,99,8],[99,13,99,14],[100,1,100,14],[101,1,101,8],[102,1,102,8],[103,1,103,8],[107,13,107,14],[108,0,108,14],[109,1,109,14],[110,0,112,0],[110,1,110,8],[111,1,111,8],[112,1,112,9],[101,0,107,0],[106,1,106,8],[107,1,107,8],[117,1,117,14],[118,0,120,0],[118,1,118,8],[119,1,119,8],[120,1,120,9],[120,13,120,14],[112,13,112,14],[113,1,113,14],[114,0,116,0],[114,1,114,8],[115,1,115,8],[116,1,116,9],[116,13,116,14],[126,0,126,14],[127,0,127,3],[127,4,127,14],[128,0,128,3],[128,4,128,14],[129,0,129,3],[129,4,129,14],[121,0,122,12],[121,13,121,14],[122,13,122,14],[123,0,124,12],[123,13,123,14],[124,13,124,14],[130,0,130,3],[130,4,130,14],[131,0,131,3],[131,4,131,8],[131,9,131,14],[132,0,132,2],[132,4,132,7],[132,9,132,12],[132,13,132,14],[133,0,139,0],[133,1,139,2],[133,3,138,3],[133,4,135,7],[133,8,134,8],[133,9,145,9],[140,0,143,0],[140,1,143,2],[140,3,142,3],[144,0,154,0],[144,1,154,1],[144,2,148,2],[144,3,147,3],[149,2,154,2],[149,3,153,3],[133,10,139,10],[133,11,139,12],[133,13,138,14],[136,4,157,4],[136,5,157,5],[136,6,141,6],[136,8,140,8],[137,7,138,7],[139,7,141,7],[139,13,139,14],[140,10,145,12],[140,13,145,14],[142,6,146,6],[142,8,145,8],[143,7,144,7],[145,7,146,7],[150,7,152,7],[151,13,151,14],[152,10,157,12],[152,13,156,14],[153,6,157,6],[153,7,154,7],[153,8,156,8],[146,9,157,9],[146,10,151,10],[146,11,151,12],[146,13,150,14],[147,6,152,6],[147,8,151,8],[148,7,149,7],[158,10,161,10],[158,11,161,12],[158,13,160,14],[161,13,161,14],[162,0,165,0],[162,1,165,2],[162,3,164,3],[162,6,163,7],[162,10,165,12],[162,13,164,14],[155,0,161,0],[155,1,161,2],[155,3,160,3],[155,7,157,7],[157,13,157,14],[158,4,165,4],[158,5,165,5],[158,6,161,7],[158,8,164,8],[158,9,165,9],[164,6,165,7],[165,13,165,14],[173,11,173,12],[177,7,177,8],[177,12,177,14],[172,0,172,3],[172,4,172,8],[172,9,172,14],[168,13,168,14],[169,13,169,14],[170,0,170,2],[170,4,170,7],[170,9,170,12],[170,13,170,14],[166,0,169,0],[166,1,169,2],[166,3,168,3],[166,4,169,8],[166,9,167,12],[166,13,166,14],[167,13,167,14],[168,9,169,12],[171,0,171,2],[171,4,171,7],[171,9,171,12],[171,13,171,14],[182,0,183,2],[182,3,183,6],[182,7,182,8],[182,9,183,11],[182,12,182,14],[183,7,183,8],[183,12,183,14],[179,11,179,12],[179,13,179,14],[180,11,180,12],[180,13,180,14],[181,11,181,12],[181,13,181,14],[3,17,7,18],[178,0,178,3],[178,4,178,8],[178,9,178,14],[179,0,181,2],[179,3,180,3],[179,4,181,7],[179,8,180,8],[179,9,181,10],[173,13,173,14],[174,11,174,12],[174,13,174,14],[175,11,175,12],[175,13,175,14],[176,0,177,2],[176,3,177,6],[176,7,176,8],[176,9,177,11],[176,12,176,14],[173,0,175,2],[173,3,174,3],[173,4,175,7],[173,8,174,8],[173,9,175,10],[0,78,0,92],[1,79,1,83],[1,84,1,92],[2,78,3,78],[2,79,2,83],[3,79,3,83],[3,84,3,92],[4,79,4,83],[4,84,4,92],[2,84,2,88],[2,89,2,90],[2,91,2,92],[5,78,6,78],[5,80,5,86],[5,87,9,87],[5,88,9,88],[5,89,9,89],[5,90,9,90],[5,91,9,92],[6,80,6,86],[7,78,9,78],[7,80,7,86],[8,80,8,86],[9,80,9,86],[11,78,16,78],[11,80,11,86],[11,91,11,92],[12,80,12,86],[12,91,12,92],[13,80,13,86],[13,91,13,92],[14,80,14,86],[14,91,14,92],[15,80,15,86],[15,91,15,92],[16,79,16,87],[16,91,16,92],[17,79,17,92],[18,78,23,78],[18,79,20,80],[18,82,18,86],[18,91,18,92],[19,82,19,86],[19,91,19,92],[20,82,20,86],[20,91,20,92],[21,79,21,86],[21,91,21,92],[22,79,22,86],[22,91,22,92],[23,79,23,87],[23,91,23,92],[24,79,24,87],[24,88,24,90],[25,78,34,78],[25,79,34,80],[25,81,25,86],[26,81,26,86],[27,81,27,86],[28,81,28,86],[29,81,29,86],[30,81,30,86],[31,81,31,86],[34,81,34,86],[34,88,34,89],[35,78,35,92],[36,79,36,92],[37,78,42,78],[37,79,37,86],[37,91,37,92],[38,79,38,86],[38,91,38,92],[39,79,39,86],[39,91,39,92],[40,79,40,86],[40,91,40,92],[41,79,41,86],[41,91,41,92],[42,79,42,87],[42,91,42,92],[43,79,43,92],[44,78,48,78],[44,79,44,92],[45,79,45,86],[45,91,45,92],[46,79,46,86],[46,91,46,92],[47,79,47,86],[47,91,47,92],[48,79,48,86],[48,91,48,92],[49,79,49,92],[50,78,61,78],[50,80,50,92],[51,80,51,86],[51,91,51,92],[52,80,52,86],[52,91,52,92],[53,80,53,86],[53,91,53,92],[54,80,54,86],[54,91,54,92],[55,80,55,86],[55,91,55,92],[56,80,56,86],[56,91,56,92],[57,80,57,86],[57,91,57,92],[58,80,58,86],[58,91,58,92],[59,80,59,86],[59,91,59,92],[61,79,61,87],[61,91,61,92],[62,78,69,78],[62,80,62,92],[63,80,63,86],[63,91,63,92],[64,80,64,86],[64,91,64,92],[65,80,65,86],[65,91,65,92],[66,80,66,86],[66,91,66,92],[67,80,67,86],[67,91,67,92],[68,80,68,86],[68,91,68,92],[69,79,69,87],[69,91,69,92],[70,78,70,92],[71,78,82,78],[71,80,71,92],[72,80,72,86],[72,91,72,92],[73,80,73,86],[73,91,73,92],[74,80,74,86],[74,91,74,92],[75,80,75,86],[75,91,75,92],[76,80,76,86],[76,91,76,92],[82,79,82,87],[82,91,82,92],[83,79,83,92],[84,78,90,78],[84,79,84,86],[84,91,84,92],[85,79,85,86],[85,91,85,92],[86,79,86,86],[86,91,86,92],[87,79,87,86],[87,91,87,92],[88,79,88,86],[88,91,88,92],[89,79,89,86],[89,91,89,92],[90,79,90,87],[90,91,90,92],[91,79,91,92],[92,78,95,78],[92,79,92,86],[92,91,92,92],[93,79,93,86],[93,91,93,92],[94,79,94,86],[94,91,94,92],[95,79,95,87],[95,91,95,92],[96,79,96,92],[97,78,99,78],[97,79,97,86],[97,91,97,92],[98,79,98,86],[98,91,98,92],[99,79,99,86],[99,91,99,92],[100,79,100,92],[101,78,107,78],[101,79,101,86],[101,91,101,92],[102,79,102,86],[102,91,102,92],[103,79,103,86],[103,91,103,92],[104,79,104,86],[104,91,104,92],[105,79,105,86],[105,91,105,92],[106,79,106,86],[106,91,106,92],[107,79,107,87],[107,91,107,92],[108,78,108,92],[109,79,109,92],[110,78,112,78],[110,79,110,86],[110,91,110,92],[111,79,111,86],[111,91,111,92],[112,79,112,87],[112,91,112,92],[113,79,113,92],[114,78,116,78],[114,79,114,86],[114,91,114,92],[115,79,115,86],[115,91,115,92],[116,79,116,87],[116,91,116,92],[117,79,117,92],[118,78,120,78],[118,79,118,86],[118,91,118,92],[119,79,119,86],[119,91,119,92],[120,79,120,87],[120,91,120,92],[121,78,122,90],[121,91,121,92],[122,91,122,92],[123,78,124,90],[123,91,123,92],[124,91,124,92],[126,78,126,92],[127,78,127,81],[127,82,127,92],[128,78,128,81],[128,82,128,92],[129,78,129,81],[129,82,129,92],[130,78,130,81],[130,82,130,92],[131,78,131,81],[131,82,131,86],[131,87,131,92],[132,78,132,80],[132,82,132,85],[132,87,132,90],[132,91,132,92],[133,78,139,78],[133,79,139,80],[133,81,138,81],[133,82,135,85],[133,86,134,86],[133,87,145,87],[133,88,139,88],[133,89,139,90],[133,91,138,92],[136,82,157,82],[136,83,157,83],[136,84,141,84],[136,86,140,86],[137,85,138,85],[139,85,141,85],[139,91,139,92],[140,78,143,78],[140,79,143,80],[140,81,142,81],[140,88,145,90],[140,91,145,92],[142,84,146,84],[142,86,145,86],[143,85,144,85],[144,78,154,78],[144,79,154,79],[144,80,148,80],[144,81,147,81],[145,85,146,85],[146,87,157,87],[146,88,151,88],[146,89,151,90],[146,91,150,92],[147,84,152,84],[147,86,151,86],[148,85,149,85],[149,80,154,80],[149,81,153,81],[150,85,152,85],[151,91,151,92],[152,88,157,90],[152,91,156,92],[153,84,157,84],[153,85,154,85],[153,86,156,86],[155,78,161,78],[155,79,161,80],[155,81,160,81],[155,85,157,85],[157,91,157,92],[158,82,165,82],[158,83,165,83],[158,84,161,85],[158,86,164,86],[158,87,165,87],[158,88,161,88],[158,89,161,90],[158,91,160,92],[161,91,161,92],[162,78,165,78],[162,79,165,80],[162,81,164,81],[162,84,163,85],[162,88,165,90],[162,91,164,92],[164,84,165,85],[165,91,165,92],[166,78,169,78],[166,79,169,80],[166,81,168,81],[166,82,169,86],[166,87,167,90],[166,91,166,92],[167,91,167,92],[168,87,169,90],[168,91,168,92],[169,91,169,92],[170,78,170,80],[170,82,170,85],[170,87,170,90],[170,91,170,92],[171,78,171,80],[171,82,171,85],[171,87,171,90],[171,91,171,92],[172,78,172,81],[172,82,172,86],[172,87,172,92],[177,85,177,86],[177,90,177,92],[178,78,178,81],[178,82,178,86],[178,87,178,92],[173,78,175,80],[173,81,174,81],[173,82,175,85],[173,86,174,86],[173,87,175,88],[173,89,173,90],[173,91,173,92],[174,89,174,90],[174,91,174,92],[175,89,175,90],[175,91,175,92],[176,78,177,80],[176,81,177,84],[176,85,176,86],[176,87,177,89],[176,90,176,92],[182,78,183,80],[182,81,183,84],[182,85,182,86],[182,87,183,89],[182,90,182,92],[183,85,183,86],[183,90,183,92],[179,78,181,80],[179,81,180,81],[179,82,181,85],[179,86,180,86],[179,87,181,88],[179,89,179,90],[179,91,179,92],[180,89,180,90],[180,91,180,92],[181,89,181,90],[181,91,181,92]]}
["ASSESSMENT CRITERIA AND CHECKLIST FOR THE 2020 EGD GRADE 12 CIVIL PAT",null,null,null,null,null,null,null,null,null,null,null,null,null,null,null,null,"Surname:",0,null,"Rec",32,null,null,"Studdent Load",true,null,null,null,null,null,null,null,null,null,null,null,null,null,null,null,null,null,null,null,null,null,null,null,null,null,null,null,null,null,null,null,null,null,null,null,null,null,null,null,null,null,null,null,null,null,null,null,null,null,null,null,null,"ASSESSMENT CRITERIA AND CHECKLIST FOR THE 2020 EGD GRADE 12 CIVIL PAT"]
[null,"NAME OF SCHOOL:   ",null,null,null,null,{"$f":"TERM1!$F$5","v":0},null,null,null,null,null,null,null,null,null,null,"Name:",null,null,null,{"$f":"OFFSET(Insert!$C$2,$V$1,0)","v":0},null,null,"Selected Col",null,null,null,null,null,null,null,null,null,null,null,null,null,null,null,null,null,null,null,null,null,null,null,null,null,null,null,null,null,null,null,null,null,null,null,null,null,null,null,null,null,null,null,null,null,null,null,null,null,null,null,null,null,null,"NAME OF SCHOOL:   "]
[null,"NAME AND SURNAME OF LEARNER:   ",null,null,null,null,{"$f":"IF(S1=\"\",\"\",S2&\" \"&S1)","v":" 0"},null,null,null,null,"ADMISSION:",null,{"$f":"_xlfn.XLOOKUP($S$1,'PAT Civil Detailed'!F16:F115,'PAT Civil Detailed'!E16:E115,,)","v":0},{"$f":"VLOOKUP($S$1,'PAT Civil Detailed'!$F$16:$DG$115,2,FALSE)","v":0},null,null,null,null,null,null,null,null,null,"Selected Row",null,null,null,null,null,null,null,null,null,null,null,null,null,null,null,null,null,null,null,null,null,null,null,null,null,null,null,null,null,null,null,null,null,null,null,null,null,null,null,null,null,null,null,null,null,null,null,null,null,null,null,null,null,{"$f":"HYPERLINK(\"#'\"&\"Index'!A1\",\"Index\")","v":"Index"},"NAME AND SURNAME OF LEARNER:   ",null,null,null,null,null,null,null,null,null,"ADMISSION:",null,4]
[null,"NAME AND SURNAME OF TEACHER:   ",null,null,null,null,{"$f":"TERM1!$F$7","v":0},null,null,null,null,null,null,null,null,null,null,"Choose a leaerner's surename by clicking in the block right of \"Surname\"\nOn the right of the block is a dropdown menu. Click on the triangle and select a learners surname. ",null,null,null,null,null,null,"Student ID Row",{"$f":"IFERROR(MATCH(N3,Learner_Admission,0)+1,\"\")","v":""},null,null,null,null,null,null,null,null,null,null,null,null,null,null,null,null,null,null,null,null,null,null,null,null,null,null,null,null,null,null,null,null,null,null,null,null,null,null,null,null,null,null,null,null,null,null,null,null,null,null,null,null,null,"NAME AND SURNAME OF TEACHER:   "]
[null,"NAME AND SURNAME OF MODERATOR:   ",null,null,null,null,{"$f":"TERM1!$F$9","v":0},null,null,null,null,null,null,null,null,null,null,null,null,null,null," ",null,null,"Student Name row",{"$f":"IFERROR(MATCH(G3,Surname_List,0)+1,\"\")","v":""},null,null,null,null,null,null,null,null,null,null,null,null,null,null,null,null,null,null,null,null,null,null,null,null,null,null,null,null,null,null,null,null,null,null,null,null,null,null,null,null,null,null,null,null,null,null,null,null,null,null,null,null,null,"NAME AND SURNAME OF MODERATOR:   "]
["1 mark level descriptive",0,"Requirement not met or presented incorrectly",null,null,null,null,null,null,"Due date for completion","Completed","Self evaluation","Maximum mark","Moderated mark",null,null,null,null,null,null,null,null,null,null,"Student New",false,null,null,null,null,null,null,null,null,null,null,null,null,null,null,null,null,null,null,null,null,null,null,null,null,null,null,null,null,null,null,null,null,null,null,null,null,null,null,null,null,null,null,null,null,null,null,null,null,null,null,null,null,"1 mark level descriptive",0,"No evidence/not done or not correct/complete/complaint/achieved/very poor",null,null,null,null,null,null,"Due date for completion","Completed","Self evaluation","Maximum mark","Moderated mark"]
[null,1,"Requirement has been met and/or presented correctly",null,null,null,null,null,null,null,null,null,null,null,null,null,null,null,null,null,null,null,null,null,null,null,null,null,null,null,null,null,null,null,null,null,null,null,null,null,null,null,null,null,null,null,null,null,null,null,null,null,null,null,null,null,null,null,null,null,null,null,null,null,null,null,null,null,null,null,null,null,null,null,null,null,null,null,null,1,"All evidence shown/correct/complete/complaint/achieved/clear"]
["2 mark level descriptive",0,"Requirement not met, or less than 30% evidence of knowledge shown (very poor)",null,null,null,null,null,null,null,null,null,null,null,null,null,null,null,null,null,null,null,null,null,null,null,null,null,null,null,null,null,null,null,null,null,null,null,null,null,null,null,null,null,null,null,null,null,null,null,null,null,null,null,null,null,null,null,null,null,null,null,null,null,null,null,null,null,null,null,null,null,null,null,null,null,null,null,"2 mark level descriptive",0,"No evidence/not done/very poor"]
[null,1,"Requirement included and at least 30%+ evidence of knowledge shown (avg.)",null,null,null,null,null,null,null,null,null,null,null,null,null,null,null,null,null,null,null,null,null,null,null,null,null,null,null,null,null,null,null,null,null,null,null,null,null,null,null,null,null,null,null,null,null,null,null,null,null,null,null,null,null,null,null,null,null,null,null,null,null,null,null,null,null,null,null,null,null,null,null,null,null,null,null,null,1,"Evidence shown but not correct/complete/complaint/achieved/clear/average"]
[null,2,"Presentation shows at least 80% or more evidence of knowledge (very good)",null,null,null,null,null,null,null,null,null,null,null,null,null,null,null,null,null,null,null,null,null,null,null,null,null,null,null,null,null,null,null,null,null,null,null,null,null,null,null,null,null,null,null,null,null,null,null,null,null,null,null,null,null,null,null,null,null,null,null,null,null,null,null,null,null,null,null,null,null,null,null,null,null,null,null,null,2,"All evidence shown/correct/complete/complaint/achieved/clear/very good"]
[1,"Design Brief",null,null,null,null,null,null,null,null,null,null,null,null,null,null,null,null,null,null,null,null,null,null,null,null,null,null,null,null,null,null,null,null,null,null,null,null,null,null,null,null,null,null,null,null,null,null,null,null,null,null,null,null,null,null,null,null,null,null,null,null,null,null,null,null,null,null,null,null,null,null,null,null,null,null,null,null,1,"Design Brief",null,null,null,null,null,null,null,null,null,null,null,{"$f":"COLUMN()","v":92}]
[null,1.1000000000000001,"1st paragraph: background and comprehensive description of what is to be designed",null,null,null,null,null,null,null,null,null,2,{"$f":"IFERROR(VLOOKUP($S$1,'PAT Civil Detailed'!$F$16:$DG$115,4,FALSE),\"\")","v":0},null,null,"N12",78,null,null,null,null,null,null,null,null,null,null,null,null,null,null,null,null,null,null,null,null,null,null,null,null,null,null,null,null,null,null,null,null,null,null,null,null,null,null,null,null,null,null,null,null,null,null,null,null,null,null,null,null,null,null,null,null,null,null,null,null,null,"1.1","1st paragraph of design brief: identify problem(s) and what is required to be done",null,null,null,null,null,null,null,null,null,2,8,{"$f":"VLOOKUP($S$1,'PAT Civil Detailed'!$F$16:$DG$115,2,FALSE)","v":0},{"$f":"ROW()","v":12}]
[null,1.2,"2nd paragraph: your role and description of the design process you are going to follow",null,null,null,null,null,null,null,null,null,2,{"$f":"IFERROR(VLOOKUP($S$1,'PAT Civil Detailed'!$F$16:$DG$115,5,FALSE),\"\")","v":0},null,null,"N13",null,null,null,null,null,null,null,null,null,null,null,null,null,null,null,null,null,null,null,null,null,null,null,null,null,null,null,null,null,null,null,null,null,null,null,null,null,null,null,null,null,null,null,null,null,null,null,null,null,null,null,null,null,null,null,null,null,null,null,null,null,null,"1.2","2nd paragraph of design brief: your role & the process to be followed",null,null,null,null,null,null,null,null,null,2,9,{"$f":"VLOOKUP($S$1,'PAT Civil Detailed'!$F$16:$DG$115,2,FALSE)","v":0}]
[null,1.3,"A list of TWENTY given specifications from the scenario",null,null,null,null,null,null,null,null,null,2,{"$f":"IFERROR(VLOOKUP($S$1,'PAT Civil Detailed'!$F$16:$DG$115,6,FALSE),\"\")","v":0},null,null,"N14",null,null,null,null,null,null,null,null,null,null,null,null,null,null,null,null,null,null,null,null,null,null,null,null,null,null,null,null,null,null,null,null,null,null,null,null,null,null,null,null,null,null,null,null,null,null,null,null,null,null,null,null,null,null,null,null,null,null,null,null,null,null,"1.3","A list of a minimum of TWENTY of the given specifications from the scenario",null,null,null,null,null,null,null,null,null,2,10,{"$f":"VLOOKUP($S$1,'PAT Civil Detailed'!$F$16:$DG$115,2,FALSE)","v":0}]
[null,1.4,"A list of FIVE possible constraints from the scenario",null,null,null,null,null,null,null,null,null,2,{"$f":"IFERROR(VLOOKUP($S$1,'PAT Civil Detailed'!$F$16:$DG$115,7,FALSE),\"\")","v":0},null,null,null,null,null,null,null,null,null,null,null,null,null,null,null,null,null,null,null,null,null,null,null,null,null,null,null,null,null,null,null,null,null,null,null,null,null,null,null,null,null,null,null,null,null,null,null,null,null,null,null,null,null,null,null,null,null,null,null,null,null,null,null,null,null,"1.4","A list of FIVE possible constraints from the scenario",null,null,null,null,null,null,null,null,null,2,11,{"$f":"VLOOKUP($S$1,'PAT Civil Detailed'!$F$16:$DG$115,2,FALSE)","v":0}]
[null,1.5,"A management plan with possible target dates for ALL the presentation requirements",null,null,null,null,null,null,null,null,null,2,{"$f":"IFERROR(VLOOKUP($S$1,'PAT Civil Detailed'!$F$16:$DG$115,8,FALSE),\"\")","v":0},null,null,"N16",null,null,null,null,null,null,null,null,null,null,null,null,null,null,null,null,null,null,null,null,null,null,null,null,null,null,null,null,null,null,null,null,null,null,null,null,null,null,null,null,null,null,null,null,null,null,null,null,null,null,null,null,null,null,null,null,null,null,null,null,null,null,"1.5","A management plan with target dates for ALL the presentation requirements",null,null,null,null,null,null,null,null,null,2,12,{"$f":"VLOOKUP($S$1,'PAT Civil Detailed'!$F$16:$DG$115,2,FALSE)","v":0}]
[null,"TOTAL",null,null,null,null,null,null,null,null,null,null,{"$f":"SUM(M12:M16)","v":10},{"$f":"SUM(N12:N16)","v":0},null,null,null,null,null,null,null,null,null,null,null,null,null,null,null,null,null,null,null,null,null,null,null,null,null,null,null,null,null,null,null,null,null,null,null,null,null,null,null,null,null,null,null,null,null,null,null,null,null,null,null,null,null,null,null,null,null,null,null,null,null,null,null,null,null,"TOTAL",null,null,null,null,null,null,null,null,null,null,{"$f":"SUM(CM12:CM16)","v":10}]
[2,"Research (This should be restricted to a maximum of FOUR A4 or TWO A3 pages per topic.)",null,null,null,null,null,null,null,null,null,null,null,null,null,null,null,null,null,null,null,null,null,null,null,null,null,null,null,null,null,null,null,null,null,null,null,null,null,null,null,null,null,null,null,null,null,null,null,null,null,null,null,null,null,null,null,null,null,null,null,null,null,null,null,null,null,null,null,null,null,null,null,null,null,null,null,null,2,"Research (This should be restricted to a maximum of FOUR A4 or TWO A3 pages per research topic)"]
[null,"Relevant and usable research on:",null,2.1,"Examples and construction details of wooden multipanel sliding doors",null,null,null,null,null,null,null,2,{"$f":"IFERROR(VLOOKUP($S$1,'PAT Civil Detailed'!$F$16:$DG$115,10,FALSE),\"\")","v":0},null,null,"N19",null,null,null,null,null,null,null,null,null,null,null,null,null,null,null,null,null,null,null,null,null,null,null,null,null,null,null,null,null,null,null,null,null,null,null,null,null,null,null,null,null,null,null,null,null,null,null,null,null,null,null,null,null,null,null,null,null,null,null,null,null,null,"Relevant and usable research on:",null,"2.1","Layouts and designs of open plan kitchens and lounge areas",null,null,null,null,null,null,null,2,14,{"$f":"VLOOKUP($S$1,'PAT Civil Detailed'!$F$16:$DG$115,2,FALSE)","v":0}]
[null,null,null,2.2000000000000002,"Examples and construction details of wooden pergolas",null,null,null,null,null,null,null,2,{"$f":"IFERROR(VLOOKUP($S$1,'PAT Civil Detailed'!$F$16:$DG$115,11,FALSE),\"\")","v":0},null,null,"N20",null,null,null,null,null,null,null,null,null,null,null,null,null,null,null,null,null,null,null,null,null,null,null,null,null,null,null,null,null,null,null,null,null,null,null,null,null,null,null,null,null,null,null,null,null,null,null,null,null,null,null,null,null,null,null,null,null,null,null,null,null,null,null,null,"2.2","Designs & const. detail of slightly raised wooden verandas with roofs",null,null,null,null,null,null,null,2,15,{"$f":"VLOOKUP($S$1,'PAT Civil Detailed'!$F$16:$DG$115,2,FALSE)","v":0}]
[null,null,null,2.2999999999999998,"THREE gabled roof designs (1) + THREE Cape Dutch gable facades (1)",null,null,null,null,null,null,null,2,{"$f":"IFERROR(VLOOKUP($S$1,'PAT Civil Detailed'!$F$16:$DG$115,12,FALSE),\"\")","v":0},null,null,"N21",null,null,null,null,null,null,null,null,null,null,null,null,null,null,null,null,null,null,null,null,null,null,null,null,null,null,null,null,null,null,null,null,null,null,null,null,null,null,null,null,null,null,null,null,null,null,null,null,null,null,null,null,null,null,null,null,null,null,null,null,null,null,null,null,"2.3","Layouts & designs of entertainment areas with built-in fire pits",null,null,null,null,null,null,null,2,16,{"$f":"VLOOKUP($S$1,'PAT Civil Detailed'!$F$16:$DG$115,2,FALSE)","v":0}]
[null,"Clear evidence that the research was used in design solutions",null,null,null,null,null,null,null,null,null,null,2,{"$f":"IFERROR(VLOOKUP($S$1,'PAT Civil Detailed'!$F$16:$DG$115,13,FALSE),\"\")","v":0},null,null,"N22",null,null,null,null,null,null,null,null,null,null,null,null,null,null,null,null,null,null,null,null,null,null,null,null,null,null,null,null,null,null,null,null,null,null,null,null,null,null,null,null,null,null,null,null,null,null,null,null,null,null,null,null,null,null,null,null,null,null,null,null,null,null,"Clear evidence that the research has been used in your proposed design solutions",null,null,null,null,null,null,null,null,null,null,2,17,{"$f":"VLOOKUP($S$1,'PAT Civil Detailed'!$F$16:$DG$115,2,FALSE)","v":0}]
[null,"A list of ALL references used (Bibliography)",null,null,null,null,null,null,null,null,null,null,2,{"$f":"IFERROR(VLOOKUP($S$1,'PAT Civil Detailed'!$F$16:$DG$115,14,FALSE),\"\")","v":0},null,null,"N23",null,null,null,null,null,null,null,null,null,null,null,null,null,null,null,null,null,null,null,null,null,null,null,null,null,null,null,null,null,null,null,null,null,null,null,null,null,null,null,null,null,null,null,null,null,null,null,null,null,null,null,null,null,null,null,null,null,null,null,null,null,null,"A list of ALL references (Bibliography)",null,null,null,null,null,null,null,null,null,null,2,18,{"$f":"VLOOKUP($S$1,'PAT Civil Detailed'!$F$16:$DG$115,2,FALSE)","v":0}]
[null,"TOTAL",null,null,null,null,null,null,null,null,null,null,{"$f":"SUM(M19:M23)","v":10},{"$f":"SUM(N19:N23)","v":0},null,null,null,null,null,null,null,null,null,null,null,null,null,null,null,null,null,null,null,null,null,null,null,null,null,null,null,null,null,null,null,null,null,null,null,null,null,null,null,null,null,null,null,null,null,null,null,null,null,null,null,null,null,null,null,null,null,null,null,null,null,null,null,null,null,"TOTAL",null,null,null,null,null,null,null,null,null,null,{"$f":"SUM(CM19:CM23)","v":10}]
[3,"Freehand drawings of TWO possible design solutions",null,null,null,null,null,null,null,null,"SOLUTION No:",null,null,1,2,null,null,null,null,null,null,null,null,null,null,null,null,null,null,null,null,null,null,null,null,null,null,null,null,null,null,null,null,null,null,null,null,null,null,null,null,null,null,null,null,null,null,null,null,null,null,null,null,null,null,null,null,null,null,null,null,null,null,null,null,null,null,null,3,"Freehand drawings of TWO possible design solutions",null,null,null,null,null,null,null,null,"SOLUTION No:",null,null,1,2]
[null,"Assess each freehand solution as follows:",null,"Restaurant with ALL rooms/areas, features and rooflines",null,null,null,null,null,null,null,null,2,{"$f":"IFERROR(VLOOKUP($S$1,'PAT Civil Detailed'!$F$16:$DG$115,16,FALSE),\"\")","v":0},{"$f":"IFERROR(VLOOKUP($S$1,'PAT Civil Detailed'!$F$16:$DG$115,26,FALSE),\"\")","v":0},null,"N26","O26",null,null,null,null,null,null,null,null,null,null,null,null,null,null,null,null,null,null,null,null,null,null,null,null,null,null,null,null,null,null,null,null,null,null,null,null,null,null,null,null,null,null,null,null,null,null,null,null,null,null,null,null,null,null,null,null,null,null,null,null,null,"Assess each freehand solution as follows:",null,"ALL the building features, including veranda and car port",null,null,null,null,null,null,null,null,1,20,29]
[null,null,null,"Museum with features and rooflines (1) + veranda with pergolas (1)",null,null,null,null,null,null,null,null,2,{"$f":"IFERROR(VLOOKUP($S$1,'PAT Civil Detailed'!$F$16:$DG$115,17,FALSE),\"\")","v":0},{"$f":"IFERROR(VLOOKUP($S$1,'PAT Civil Detailed'!$F$16:$DG$115,27,FALSE),\"\")","v":0},null,"N27","O27",null,null,null,null,null,null,null,null,null,null,null,null,null,null,null,null,null,null,null,null,null,null,null,null,null,null,null,null,null,null,null,null,null,null,null,null,null,null,null,null,null,null,null,null,null,null,null,null,null,null,null,null,null,null,null,null,null,null,null,null,null,null,null,"Correct presentation of all building features",null,null,null,null,null,null,null,null,2,21,30]
[null,null,null,"Correct presentation of all building features (walls, doors, etc.)",null,null,null,null,null,null,null,null,2,{"$f":"IFERROR(VLOOKUP($S$1,'PAT Civil Detailed'!$F$16:$DG$115,18,FALSE),\"\")","v":0},{"$f":"IFERROR(VLOOKUP($S$1,'PAT Civil Detailed'!$F$16:$DG$115,28,FALSE),\"\")","v":0},null,"N28","O28",null,null,null,null,null,null,null,null,null,null,null,null,null,null,null,null,null,null,null,null,null,null,null,null,null,null,null,null,null,null,null,null,null,null,null,null,null,null,null,null,null,null,null,null,null,null,null,null,null,null,null,null,null,null,null,null,null,null,null,null,null,null,null,"ALL fixtures included",null,null,null,null,null,null,null,null,1,22,31]
[null,null,null,"ALL fixtures included (toilets, sinks, counters, etc.)",null,null,null,null,null,null,null,null,2,{"$f":"IFERROR(VLOOKUP($S$1,'PAT Civil Detailed'!$F$16:$DG$115,19,FALSE),\"\")","v":0},{"$f":"IFERROR(VLOOKUP($S$1,'PAT Civil Detailed'!$F$16:$DG$115,29,FALSE),\"\")","v":0},null,"N29","O29",null,null,null,null,null,null,null,null,null,null,null,null,null,null,null,null,null,null,null,null,null,null,null,null,null,null,null,null,null,null,null,null,null,null,null,null,null,null,null,null,null,null,null,null,null,null,null,null,null,null,null,null,null,null,null,null,null,null,null,null,null,null,null,"Correct presentation of all fixtures according to SANS 10143",null,null,null,null,null,null,null,null,2,23,32]
[null,null,null,"Correct presentation of all fixtures according to SANS 10143",null,null,null,null,null,null,null,null,2,{"$f":"IFERROR(VLOOKUP($S$1,'PAT Civil Detailed'!$F$16:$DG$115,20,FALSE),\"\")","v":0},{"$f":"IFERROR(VLOOKUP($S$1,'PAT Civil Detailed'!$F$16:$DG$115,30,FALSE),\"\")","v":0},null,"N30","O30",null,null,null,null,null,null,null,null,null,null,null,null,null,null,null,null,null,null,null,null,null,null,null,null,null,null,null,null,null,null,null,null,null,null,null,null,null,null,null,null,null,null,null,null,null,null,null,null,null,null,null,null,null,null,null,null,null,null,null,null,null,null,null,"Relative size/proportion of ALL features to each other",null,null,null,null,null,null,null,null,2,24,33]
[null,null,null,"The relative size and proportion of ALL features to each other",null,null,null,null,null,null,null,null,2,{"$f":"IFERROR(VLOOKUP($S$1,'PAT Civil Detailed'!$F$16:$DG$115,21,FALSE),\"\")","v":0},{"$f":"IFERROR(VLOOKUP($S$1,'PAT Civil Detailed'!$F$16:$DG$115,31,FALSE),\"\")","v":0},null,"N31","O31",null,null,null,null,null,null,null,null,null,null,null,null,null,null,null,null,null,null,null,null,null,null,null,null,null,null,null,null,null,null,null,null,null,null,null,null,null,null,null,null,null,null,null,null,null,null,null,null,null,null,null,null,null,null,null,null,null,null,null,null,null,null,null,"Primary labels (1) + primary dimensions (2) (1 + 2 = 3)",null,null,null,null,null,null,null,null,3,25,34]
[null,null,null,"Primary labels (1) + primary dimensions (1)",null,null,null,null,null,null,null,null,2,{"$f":"IFERROR(VLOOKUP($S$1,'PAT Civil Detailed'!$F$16:$DG$115,22,FALSE),\"\")","v":0},{"$f":"IFERROR(VLOOKUP($S$1,'PAT Civil Detailed'!$F$16:$DG$115,32,FALSE),\"\")","v":0},null,"N32","O32",null,null,null,null,null,null,null,null,null,null,null,null,null,null,null,null,null,null,null,null,null,null,null,null,null,null,null,null,null,null,null,null,null,null,null,null,null,null,null,null,null,null,null,null,null,null,null,null,null,null,null,null,null,null,null,null,null,null,null,null,null,null,null,"Area calculation clearly shown and within the constraint",null,null,null,null,null,null,null,null,2,26,35]
[null,null,null,"2 x calculations shown and within the specifications\t(2 + 2 = 4)",null,null,null,null,null,null,null,null,4,{"$f":"IFERROR(VLOOKUP($S$1,'PAT Civil Detailed'!$F$16:$DG$115,23,FALSE),\"\")","v":0},{"$f":"IFERROR(VLOOKUP($S$1,'PAT Civil Detailed'!$F$16:$DG$115,33,FALSE),\"\")","v":0}]
[null,null,null,"Design, functionality and effective space utilisation",null,null,null,null,null,null,null,null,2,{"$f":"IFERROR(VLOOKUP($S$1,'PAT Civil Detailed'!$F$16:$DG$115,24,FALSE),\"\")","v":0},{"$f":"IFERROR(VLOOKUP($S$1,'PAT Civil Detailed'!$F$16:$DG$115,34,FALSE),\"\")","v":0}]
[null,null,null,"Subtotal = 20 ÷ 2 = TOTAL",null,null,null,null,null,10,"SOLUTION TOTAL",null,{"$f":"ROUND((SUM(M26:M34)/2),0)","v":10},{"$f":"ROUND((SUM(N26:N34))/2,0)","v":0},{"$f":"ROUND((SUM(O26:O34))/2,0)","v":0},null,null,null,null,null,null,null,null,null,null,null,null,null,null,null,null,null,null,null,null,null,null,null,null,null,null,null,null,null,null,null,null,null,null,null,null,null,null,null,null,null,null,null,null,null,null,null,null,null,null,null,null,null,null,null,null,null,null,null,null,null,null,null,null,null,null,"Subtotal = 15 ÷ 1,5 = TOTAL",null,null,null,null,null,10,"SOLUTION TOTAL",null,{"$f":"ROUND((SUM(CM26:CM32)/1.5),0)","v":9}]
[null,null,null,null,null,null,null,null,null,null,null,null,null,null,null,null,null,null,null,null,null,null,null,null,null,null,null,null,null,null,null,null,null,null,null,null,null,null,null,null,null,null,null,null,null,null,null,null,null,null,null,null,null,null,null,null,null,null,null,null,null,null,null,null,null,null,null,null,null,null,null,null,null,null,null,null,null,null,"(1 = 1 ; 2 = 1 ; 3 = 2 ; 4 = 3 ; 5 = 3 ; 6 = 4 ; 7 = 5 ; 8 = 5 ; 9 = 6 ; 10 = 7 ; 11 = 7 ; 12 = 8 ; 13 = 9 ; 14 = 9 ; 15 = 10)"]
[4,"Selecting the best freehand solution (This must be a separate presentation.)",null,null,null,null,null,null,null,null,null,null,null,null,null,null,null,null,null,null,null,null,null,null,null,null,null,null,null,null,null,null,null,null,null,null,null,null,null,null,null,null,null,null,null,null,null,null,null,null,null,null,null,null,null,null,null,null,null,null,null,null,null,null,null,null,null,null,null,null,null,null,null,null,null,null,null,null,4,"Selecting the best freehand solution (This must be a separate presentation)"]
[null,"A suitable table created for the selection process",null,null,null,null,null,null,null,null,null,null,2,{"$f":"IFERROR(VLOOKUP($S$1,'PAT Civil Detailed'!$F$16:$DG$115,36,FALSE),\"\")","v":0},null,null,"N37",null,null,null,null,null,null,null,null,null,null,null,null,null,null,null,null,null,null,null,null,null,null,null,null,null,null,null,null,null,null,null,null,null,null,null,null,null,null,null,null,null,null,null,null,null,null,null,null,null,null,null,null,null,null,null,null,null,null,null,null,null,null,"Table created for an easily understandable presentation of the selection process",null,null,null,null,null,null,null,null,null,null,2,38,{"$f":"VLOOKUP($S$1,'PAT Civil Detailed'!$F$16:$DG$115,32,FALSE)","v":0}]
[null,"A minimum of SIX relevant and descriptive criteria that will facilitate measurable comparisons",null,null,null,null,null,null,null,null,null,null,2,{"$f":"IFERROR(VLOOKUP($S$1,'PAT Civil Detailed'!$F$16:$DG$115,37,FALSE),\"\")","v":0},null,null,"N38",null,null,null,null,null,null,null,null,null,null,null,null,null,null,null,null,null,null,null,null,null,null,null,null,null,null,null,null,null,null,null,null,null,null,null,null,null,null,null,null,null,null,null,null,null,null,null,null,null,null,null,null,null,null,null,null,null,null,null,null,null,null,"Minimum of SIX descriptive criteria to evaluate and compare",null,null,null,null,null,null,null,null,null,null,2,39,{"$f":"VLOOKUP($S$1,'PAT Civil Detailed'!$F$16:$DG$115,32,FALSE)","v":0}]
[null,"A simple rating scale created and used to score each solution against each criterion",null,null,null,null,null,null,null,null,null,null,2,{"$f":"IFERROR(VLOOKUP($S$1,'PAT Civil Detailed'!$F$16:$DG$115,38,FALSE),\"\")","v":0},null,null,"N39",null,null,null,null,null,null,null,null,null,null,null,null,null,null,null,null,null,null,null,null,null,null,null,null,null,null,null,null,null,null,null,null,null,null,null,null,null,null,null,null,null,null,null,null,null,null,null,null,null,null,null,null,null,null,null,null,null,null,null,null,null,null,"Simple rating scale created and used to score each solution against each criterion",null,null,null,null,null,null,null,null,null,null,2,40,{"$f":"VLOOKUP($S$1,'PAT Civil Detailed'!$F$16:$DG$115,32,FALSE)","v":0}]
[null,"Each score justified by describing the positive or negative aspects against each criterion",null,null,null,null,null,null,null,null,null,null,2,{"$f":"IFERROR(VLOOKUP($S$1,'PAT Civil Detailed'!$F$16:$DG$115,39,FALSE),\"\")","v":0},null,null,"N40",null,null,null,null,null,null,null,null,null,null,null,null,null,null,null,null,null,null,null,null,null,null,null,null,null,null,null,null,null,null,null,null,null,null,null,null,null,null,null,null,null,null,null,null,null,null,null,null,null,null,null,null,null,null,null,null,null,null,null,null,null,null,"Each sore justified by describing the positive or negative aspects of each criterion",null,null,null,null,null,null,null,null,null,null,2,41,{"$f":"VLOOKUP($S$1,'PAT Civil Detailed'!$F$16:$DG$115,32,FALSE)","v":0}]
[null,"Comprehensive summary with reasons for selected solution (including possible late changes)",null,null,null,null,null,null,null,null,null,null,2,{"$f":"IFERROR(VLOOKUP($S$1,'PAT Civil Detailed'!$F$16:$DG$115,40,FALSE),\"\")","v":0},null,null,"N41",null,null,null,null,null,null,null,null,null,null,null,null,null,null,null,null,null,null,null,null,null,null,null,null,null,null,null,null,null,null,null,null,null,null,null,null,null,null,null,null,null,null,null,null,null,null,null,null,null,null,null,null,null,null,null,null,null,null,null,null,null,null,"Comprehensive summary giving reasons for the selected freehand solution",null,null,null,null,null,null,null,null,null,null,2,42,{"$f":"VLOOKUP($S$1,'PAT Civil Detailed'!$F$16:$DG$115,32,FALSE)","v":0}]
[null,"TOTAL",null,null,null,null,null,null,null,null,null,null,{"$f":"SUM(M38:M42)","v":10},{"$f":"SUM(N38:N42)","v":0},null,null,null,null,null,null,null,null,null,null,null,null,null,null,null,null,null,null,null,null,null,null,null,null,null,null,null,null,null,null,null,null,null,null,null,null,null,null,null,null,null,null,null,null,null,null,null,null,null,null,null,null,null,null,null,null,null,null,null,null,null,null,null,null,null,"TOTAL",null,null,null,null,null,null,null,null,null,null,{"$f":"SUM(CM38:CM42)","v":10}]
[5,"Layout drawings and a pictorial drawing of selected solution",null,null,null,null,null,null,null,null,null,null,null,null,null,null,null,null,null,null,null,null,null,null,null,null,null,null,null,null,null,null,null,null,null,null,null,null,null,null,null,null,null,null,null,null,null,null,null,null,null,null,null,null,null,null,null,null,null,null,null,null,null,null,null,null,null,null,null,null,null,null,null,null,null,null,null,null,5,"Layout drawings and a pictorial drawing of selected solution"]
[null,"Drawing sheet preparation",null,null,null,null,null,null,null,null,null,null,null,null,null,null,null,null,null,null,null,null,null,null,null,null,null,null,null,null,null,null,null,null,null,null,null,null,null,null,null,null,null,null,null,null,null,null,null,null,null,null,null,null,null,null,null,null,null,null,null,null,null,null,null,null,null,null,null,null,null,null,null,null,null,null,null,null,null,"Drawing sheet preparation"]
[null,"Appropriately sized drawing sheets",null,null,null,null,null,null,null,null,null,null,1,{"$f":"IFERROR(VLOOKUP($S$1,'PAT Civil Detailed'!$F$16:$DG$115,42,FALSE),\"\")","v":0},null,null,"N45",null,null,null,null,null,null,null,null,null,null,null,null,null,null,null,null,null,null,null,null,null,null,null,null,null,null,null,null,null,null,null,null,null,null,null,null,null,null,null,null,null,null,null,null,null,null,null,null,null,null,null,null,null,null,null,null,null,null,null,null,null,null,"Appropriately sized drawing sheets",null,null,null,null,null,null,null,null,null,null,1,44,{"$f":"VLOOKUP($S$1,'PAT Civil Detailed'!$F$16:$DG$115,32,FALSE)","v":0}]
[null,"Borders on all the drawing sheets of all the working drawings",null,null,null,null,null,null,null,null,null,null,2,{"$f":"IFERROR(VLOOKUP($S$1,'PAT Civil Detailed'!$F$16:$DG$115,43,FALSE),\"\")","v":0},null,null,"N46",null,null,null,null,null,null,null,null,null,null,null,null,null,null,null,null,null,null,null,null,null,null,null,null,null,null,null,null,null,null,null,null,null,null,null,null,null,null,null,null,null,null,null,null,null,null,null,null,null,null,null,null,null,null,null,null,null,null,null,null,null,null,"Correct borders on all the drawing sheets of all the working drawings",null,null,null,null,null,null,null,null,null,null,2,45,{"$f":"VLOOKUP($S$1,'PAT Civil Detailed'!$F$16:$DG$115,32,FALSE)","v":0}]
[null,"Complete SANS 10143 compliant CIVIL TITLE PANEL on ONE working drawing's drawing sheet",null,null,null,null,null,null,null,null,null,null,7,{"$f":"IFERROR(VLOOKUP($S$1,'PAT Civil Detailed'!$F$16:$DG$115,44,FALSE),\"\")","v":0},null,null,"N47",null,null,null,null,null,null,null,null,null,null,null,null,null,null,null,null,null,null,null,null,null,null,null,null,null,null,null,null,null,null,null,null,null,null,null,null,null,null,null,null,null,null,null,null,null,null,null,null,null,null,null,null,null,null,null,null,null,null,null,null,null,null,"Complete SANS 10143 compliant civil title panel on first working drawing’s drawing sheet",null,null,null,null,null,null,null,null,null,null,7,46,{"$f":"VLOOKUP($S$1,'PAT Civil Detailed'!$F$16:$DG$115,32,FALSE)","v":0}]
[null,"NOTE:  Use the 7-mark simplified rubric on page 45 of the CAPS.",null,null,null,null,null,null,null,"TOTAL",null,null,{"$f":"SUM(M46:M48)","v":10},{"$f":"SUM(N46:N48)","v":0},null,null,null,null,null,null,null,null,null,null,null,null,null,null,null,null,null,null,null,null,null,null,null,null,null,null,null,null,null,null,null,null,null,null,null,null,null,null,null,null,null,null,null,null,null,null,null,null,null,null,null,null,null,null,null,null,null,null,null,null,null,null,null,null,null,"NOTE: Use the 7 mark simplified rubric on page 45 of the EGD CAPS",null,null,null,null,null,null,null,"TOTAL",null,null,{"$f":"SUM(CM46:CM48)","v":10}]
["5.1","Detailed layout drawings of the proposed new building and covered walkway",null,null,null,null,null,null,null,null,null,null,null,null,null,null,null,null,null,null,null,null,null,null,null,null,null,null,null,null,null,null,null,null,null,null,null,null,null,null,null,null,null,null,null,null,null,null,null,null,null,null,null,null,null,null,null,null,null,null,null,null,null,null,null,null,null,null,null,null,null,null,null,null,null,null,null,null,"5.1","Detailed layout drawings of the proposed new building"]
[null,"5.1.1","FLOOR PLAN showing:",null,null,null,null,null,null,null,null,null,null,null,null,null,null,null,null,null,null,null,null,null,null,null,null,null,null,null,null,null,null,null,null,null,null,null,null,null,null,null,null,null,null,null,null,null,null,null,null,null,null,null,null,null,null,null,null,null,null,null,null,null,null,null,null,null,null,null,null,null,null,null,null,null,null,null,null,"5.1.1","Floor plan showing: "]
[null,null,"Correlation with selected freehand solution",null,null,null,null,null,null,null,null,null,2,{"$f":"IFERROR(VLOOKUP($S$1,'PAT Civil Detailed'!$F$16:$DG$115,46,FALSE),\"\")","v":0},null,null,"N51",null,null,null,null,null,null,null,null,null,null,null,null,null,null,null,null,null,null,null,null,null,null,null,null,null,null,null,null,null,null,null,null,null,null,null,null,null,null,null,null,null,null,null,null,null,null,null,null,null,null,null,null,null,null,null,null,null,null,null,null,null,null,null,"Correlation with selected freehand solution and the selection process summary",null,null,null,null,null,null,null,null,null,1,48,{"$f":"VLOOKUP($S$1,'PAT Civil Detailed'!$F$16:$DG$115,32,FALSE)","v":0}]
[null,null,"ALL external and internal walls, veranda with pergolas and rooflines",null,null,null,null,null,null,null,null,null,2,{"$f":"IFERROR(VLOOKUP($S$1,'PAT Civil Detailed'!$F$16:$DG$115,47,FALSE),\"\")","v":0},null,null,"N52",null,null,null,null,null,null,null,null,null,null,null,null,null,null,null,null,null,null,null,null,null,null,null,null,null,null,null,null,null,null,null,null,null,null,null,null,null,null,null,null,null,null,null,null,null,null,null,null,null,null,null,null,null,null,null,null,null,null,null,null,null,null,null,"ALL internal and external walls, incl. ALL hatching detail and the rooflines",null,null,null,null,null,null,null,null,null,2,49,{"$f":"VLOOKUP($S$1,'PAT Civil Detailed'!$F$16:$DG$115,32,FALSE)","v":0}]
[null,null,"ALL doors, including the multipanel sliding doors and windows",null,null,null,null,null,null,null,null,null,2,{"$f":"IFERROR(VLOOKUP($S$1,'PAT Civil Detailed'!$F$16:$DG$115,48,FALSE),\"\")","v":0},null,null,"N53",null,null,null,null,null,null,null,null,null,null,null,null,null,null,null,null,null,null,null,null,null,null,null,null,null,null,null,null,null,null,null,null,null,null,null,null,null,null,null,null,null,null,null,null,null,null,null,null,null,null,null,null,null,null,null,null,null,null,null,null,null,null,null,"ALL doors and windows",null,null,null,null,null,null,null,null,null,2,50,{"$f":"VLOOKUP($S$1,'PAT Civil Detailed'!$F$16:$DG$115,32,FALSE)","v":0}]
[null,null,"ALL permanent fixtures",null,null,null,null,null,null,null,null,null,2,{"$f":"IFERROR(VLOOKUP($S$1,'PAT Civil Detailed'!$F$16:$DG$115,49,FALSE),\"\")","v":0},null,null,"N54",null,null,null,null,null,null,null,null,null,null,null,null,null,null,null,null,null,null,null,null,null,null,null,null,null,null,null,null,null,null,null,null,null,null,null,null,null,null,null,null,null,null,null,null,null,null,null,null,null,null,null,null,null,null,null,null,null,null,null,null,null,null,null,"ALL permanent fixtures",null,null,null,null,null,null,null,null,null,2,51,{"$f":"VLOOKUP($S$1,'PAT Civil Detailed'!$F$16:$DG$115,32,FALSE)","v":0}]
[null,null,"ALL electrical fittings and the wiring layout",null,null,null,null,null,null,null,null,null,2,{"$f":"IFERROR(VLOOKUP($S$1,'PAT Civil Detailed'!$F$16:$DG$115,50,FALSE),\"\")","v":0},null,null,"N55",null,null,null,null,null,null,null,null,null,null,null,null,null,null,null,null,null,null,null,null,null,null,null,null,null,null,null,null,null,null,null,null,null,null,null,null,null,null,null,null,null,null,null,null,null,null,null,null,null,null,null,null,null,null,null,null,null,null,null,null,null,null,null,"Detailed layout of the entertainment area inside the silo",null,null,null,null,null,null,null,null,null,2,52,{"$f":"VLOOKUP($S$1,'PAT Civil Detailed'!$F$16:$DG$115,32,FALSE)","v":0}]
[null,null,"Waste-water disposal systems (sewerage)",null,null,null,null,null,null,null,null,null,2,{"$f":"IFERROR(VLOOKUP($S$1,'PAT Civil Detailed'!$F$16:$DG$115,51,FALSE),\"\")","v":0},null,null,"N56",null,null,null,null,null,null,null,null,null,null,null,null,null,null,null,null,null,null,null,null,null,null,null,null,null,null,null,null,null,null,null,null,null,null,null,null,null,null,null,null,null,null,null,null,null,null,null,null,null,null,null,null,null,null,null,null,null,null,null,null,null,null,null,"ALL electrical fittings and the wiring detai",null,null,null,null,null,null,null,null,null,2,53,{"$f":"VLOOKUP($S$1,'PAT Civil Detailed'!$F$16:$DG$115,32,FALSE)","v":0}]
[null,null,"Title, labels and notes",null,null,null,null,null,null,null,null,null,2,{"$f":"IFERROR(VLOOKUP($S$1,'PAT Civil Detailed'!$F$16:$DG$115,52,FALSE),\"\")","v":0},null,null,"N57",null,null,null,null,null,null,null,null,null,null,null,null,null,null,null,null,null,null,null,null,null,null,null,null,null,null,null,null,null,null,null,null,null,null,null,null,null,null,null,null,null,null,null,null,null,null,null,null,null,null,null,null,null,null,null,null,null,null,null,null,null,null,null,"Waste-water disposal systems (sewerage)",null,null,null,null,null,null,null,null,null,2,54,{"$f":"VLOOKUP($S$1,'PAT Civil Detailed'!$F$16:$DG$115,32,FALSE)","v":0}]
[null,null,"Detailed dimensioning",null,null,null,null,null,null,null,null,null,2,{"$f":"IFERROR(VLOOKUP($S$1,'PAT Civil Detailed'!$F$16:$DG$115,53,FALSE),\"\")","v":0},null,null,"N58",null,null,null,null,null,null,null,null,null,null,null,null,null,null,null,null,null,null,null,null,null,null,null,null,null,null,null,null,null,null,null,null,null,null,null,null,null,null,null,null,null,null,null,null,null,null,null,null,null,null,null,null,null,null,null,null,null,null,null,null,null,null,null,"Title, labels and notes (2) + detailed dimensioning (2) (2 + 2 = 4)",null,null,null,null,null,null,null,null,null,4,55,{"$f":"VLOOKUP($S$1,'PAT Civil Detailed'!$F$16:$DG$115,32,FALSE)","v":0}]
[null,null,"Hatching detail (1) + Cutting plane (1)\t                                                              (1 + 1 = 2)",null,null,null,null,null,null,null,null,null,2,{"$f":"IFERROR(VLOOKUP($S$1,'PAT Civil Detailed'!$F$16:$DG$115,54,FALSE),\"\")","v":0},null,null,"N59",null,null,null,null,null,null,null,null,null,null,null,null,null,null,null,null,null,null,null,null,null,null,null,null,null,null,null,null,null,null,null,null,null,null,null,null,null,null,null,null,null,null,null,null,null,null,null,null,null,null,null,null,null,null,null,null,null,null,null,null,null,null,null,"Suitable scale selected & correctly indicated (1) + cutting plane (1) + north point (1)",null,null,null,null,null,null,null,null,null,3,56,{"$f":"VLOOKUP($S$1,'PAT Civil Detailed'!$F$16:$DG$115,32,FALSE)","v":0}]
[null,null,"Suitable scale selected and correctly indicated (1) + North point (1)         \t       (1 + 1 = 2)",null,null,null,null,null,null,null,null,null,2,{"$f":"IFERROR(VLOOKUP($S$1,'PAT Civil Detailed'!$F$16:$DG$115,55,FALSE),\"\")","v":0}]
[null,"Subtotal = 20 ÷ 2 = TOTAL",null,null,null,null,null,null,null,null,null,null,{"$f":"ROUND((SUM(M52:M61))*0.5,0)","v":10},{"$f":"ROUND((SUM(N52:N61))*0.5,0)","v":0},null,null,null,null,null,null,null,null,null,null,null,null,null,null,null,null,null,null,null,null,null,null,null,null,null,null,null,null,null,null,null,null,null,null,null,null,null,null,null,null,null,null,null,null,null,null,null,null,null,null,null,null,null,null,null,null,null,null,null,null,null,null,null,null,null,"Subtotal = 20 ÷ 2 = TOTAL",null,null,null,null,null,null,null,null,null,null,{"$f":"ROUND((SUM(CM52:CM60))*0.5,0)","v":10}]
[null,"5.1.2","TWO ELEVATIONS that show the restaurant and museum, incl. the veranda with pergolas",null,null,null,null,null,null,null,null,null,null,null,null,null,null,null,null,null,null,null,null,null,null,null,null,null,null,null,null,null,null,null,null,null,null,null,null,null,null,null,null,null,null,null,null,null,null,null,null,null,null,null,null,null,null,null,null,null,null,null,null,null,null,null,null,null,null,null,null,null,null,null,null,null,null,null,null,"5.1.2","SECTIONAL ELEVATION showing:"]
[null,null,"Prescribed views: one with entrance to museum + one with side view of the museum",null,null,null,null,null,null,null,null,null,1,{"$f":"IFERROR(VLOOKUP($S$1,'PAT Civil Detailed'!$F$16:$DG$115,57,FALSE),\"\")","v":0},null,null,"N62",null,null,null,null,null,null,null,null,null,null,null,null,null,null,null,null,null,null,null,null,null,null,null,null,null,null,null,null,null,null,null,null,null,null,null,null,null,null,null,null,null,null,null,null,null,null,null,null,null,null,null,null,null,null,null,null,null,null,null,null,null,null,null,"Section correct according to the indicated cutting plane(s)",null,null,null,null,null,null,null,null,null,2,58,{"$f":"VLOOKUP($S$1,'PAT Civil Detailed'!$F$16:$DG$115,32,FALSE)","v":0}]
[null,null,"External walls, veranda and pergolas",null,null,null,null,null,null,null,null,null,2,{"$f":"IFERROR(VLOOKUP($S$1,'PAT Civil Detailed'!$F$16:$DG$115,58,FALSE),\"\")","v":0},null,null,"N63",null,null,null,null,null,null,null,null,null,null,null,null,null,null,null,null,null,null,null,null,null,null,null,null,null,null,null,null,null,null,null,null,null,null,null,null,null,null,null,null,null,null,null,null,null,null,null,null,null,null,null,null,null,null,null,null,null,null,null,null,null,null,null,"Foundation, slab and wall detail, including the wooden veranda detail",null,null,null,null,null,null,null,null,null,2,59,{"$f":"VLOOKUP($S$1,'PAT Civil Detailed'!$F$16:$DG$115,32,FALSE)","v":0}]
[null,null,"Museum's Cape Dutch facade with double wooden door + sash windows on either side",null,null,null,null,null,null,null,null,null,2,{"$f":"IFERROR(VLOOKUP($S$1,'PAT Civil Detailed'!$F$16:$DG$115,59,FALSE),\"\")","v":0},null,null,"N64",null,null,null,null,null,null,null,null,null,null,null,null,null,null,null,null,null,null,null,null,null,null,null,null,null,null,null,null,null,null,null,null,null,null,null,null,null,null,null,null,null,null,null,null,null,null,null,null,null,null,null,null,null,null,null,null,null,null,null,null,null,null,null,"Door(s) and window(s) detail",null,null,null,null,null,null,null,null,null,2,60,{"$f":"VLOOKUP($S$1,'PAT Civil Detailed'!$F$16:$DG$115,32,FALSE)","v":0}]
[null,null,"Detail, incl. frames, of all doors and windows",null,null,null,null,null,null,null,null,null,2,{"$f":"IFERROR(VLOOKUP($S$1,'PAT Civil Detailed'!$F$16:$DG$115,60,FALSE),\"\")","v":0},null,null,"N65",null,null,null,null,null,null,null,null,null,null,null,null,null,null,null,null,null,null,null,null,null,null,null,null,null,null,null,null,null,null,null,null,null,null,null,null,null,null,null,null,null,null,null,null,null,null,null,null,null,null,null,null,null,null,null,null,null,null,null,null,null,null,null,"Roof detail of the house and the veranda",null,null,null,null,null,null,null,null,null,2,61,{"$f":"VLOOKUP($S$1,'PAT Civil Detailed'!$F$16:$DG$115,32,FALSE)","v":0}]
[null,null,"Gable roof detail, including all rainwater items",null,null,null,null,null,null,null,null,null,2,{"$f":"IFERROR(VLOOKUP($S$1,'PAT Civil Detailed'!$F$16:$DG$115,61,FALSE),\"\")","v":0},null,null,"N66",null,null,null,null,null,null,null,null,null,null,null,null,null,null,null,null,null,null,null,null,null,null,null,null,null,null,null,null,null,null,null,null,null,null,null,null,null,null,null,null,null,null,null,null,null,null,null,null,null,null,null,null,null,null,null,null,null,null,null,null,null,null,null,"Labels and notes",null,null,null,null,null,null,null,null,null,2,62,{"$f":"VLOOKUP($S$1,'PAT Civil Detailed'!$F$16:$DG$115,32,FALSE)","v":0}]
[null,null,"Elevations drawn to the same scale as the floor plan",null,null,null,null,null,null,null,null,null,1,{"$f":"IFERROR(VLOOKUP($S$1,'PAT Civil Detailed'!$F$16:$DG$115,62,FALSE),\"\")","v":0},null,null,"N67",null,null,null,null,null,null,null,null,null,null,null,null,null,null,null,null,null,null,null,null,null,null,null,null,null,null,null,null,null,null,null,null,null,null,null,null,null,null,null,null,null,null,null,null,null,null,null,null,null,null,null,null,null,null,null,null,null,null,null,null,null,null,null,"Suitable scale selected and indicated correctly",null,null,null,null,null,null,null,null,null,1,63,{"$f":"VLOOKUP($S$1,'PAT Civil Detailed'!$F$16:$DG$115,32,FALSE)","v":0}]
[null,"TOTAL",null,null,null,null,null,null,null,null,null,null,{"$f":"ROUND((SUM(M64:M69)),0)","v":10},{"$f":"ROUND((SUM(N64:N69)),0)","v":0},null,null,null,null,null,null,null,null,null,null,null,null,null,null,null,null,null,null,null,null,null,null,null,null,null,null,null,null,null,null,null,null,null,null,null,null,null,null,null,null,null,null,null,null,null,null,null,null,null,null,null,null,null,null,null,null,null,null,null,null,null,null,null,null,null,"Subtotal = 15 ÷ 1.5 = TOTAL",null,null,null,null,null,null,null,null,null,null,{"$f":"ROUND((SUM(CM64:CM69))*0.6666666667,0)","v":7}]
[null,null,null,null,null,null,null,null,null,null,null,null,null,null,null,null,null,null,null,null,null,null,null,null,null,null,null,null,null,null,null,null,null,null,null,null,null,null,null,null,null,null,null,null,null,null,null,null,null,null,null,null,null,null,null,null,null,null,null,null,null,null,null,null,null,null,null,null,null,null,null,null,null,null,null,null,null,null,"(1 = 1 ; 2 = 1 ; 3 = 2 ; 4 = 3 ; 5 = 3 ; 6 = 4 ; 7 = 5 ; 8 = 5 ; 9 = 6 ; 10 = 7 ; 11 = 7 ; 12 = 8 ; 13 = 9 ; 14 = 9 ; 15 = 10)"]
[null,"5.1.3","DETAILED SECTION",null,null,null,null,null,null,null,null,null,null,null,null,null,null,null,null,null,null,null,null,null,null,null,null,null,null,null,null,null,null,null,null,null,null,null,null,null,null,null,null,null,null,null,null,null,null,null,null,null,null,null,null,null,null,null,null,null,null,null,null,null,null,null,null,null,null,null,null,null,null,null,null,null,null,null,null,"5.1.3","TWO elevations, showing the front view and a side view"]
[null,null,"The section is according to the indicated cutting plane",null,null,null,null,null,null,null,null,null,1,{"$f":"IFERROR(VLOOKUP($S$1,'PAT Civil Detailed'!$F$16:$DG$115,64,FALSE),\"\")","v":0},null,null,"N73",null,null,null,null,null,null,null,null,null,null,null,null,null,null,null,null,null,null,null,null,null,null,null,null,null,null,null,null,null,null,null,null,null,null,null,null,null,null,null,null,null,null,null,null,null,null,null,null,null,null,null,null,null,null,null,null,null,null,null,null,null,null,null,"Prescribed views shown ",null,null,null,null,null,null,null,null,null,1,67,{"$f":"VLOOKUP($S$1,'PAT Civil Detailed'!$F$16:$DG$115,32,FALSE)","v":0}]
[null,null,"Foundation, slab and wall detail, including the correct hatching thereof",null,null,null,null,null,null,null,null,null,2,{"$f":"IFERROR(VLOOKUP($S$1,'PAT Civil Detailed'!$F$16:$DG$115,65,FALSE),\"\")","v":0},null,null,"N74",null,null,null,null,null,null,null,null,null,null,null,null,null,null,null,null,null,null,null,null,null,null,null,null,null,null,null,null,null,null,null,null,null,null,null,null,null,null,null,null,null,null,null,null,null,null,null,null,null,null,null,null,null,null,null,null,null,null,null,null,null,null,null,"External walls and ALL other external features, including the veranda and the FFL ",null,null,null,null,null,null,null,null,null,2,68,{"$f":"VLOOKUP($S$1,'PAT Civil Detailed'!$F$16:$DG$115,32,FALSE)","v":0}]
[null,null,"Wooden multipanel sliding door detail",null,null,null,null,null,null,null,null,null,2,{"$f":"IFERROR(VLOOKUP($S$1,'PAT Civil Detailed'!$F$16:$DG$115,66,FALSE),\"\")","v":0},null,null,"N75",null,null,null,null,null,null,null,null,null,null,null,null,null,null,null,null,null,null,null,null,null,null,null,null,null,null,null,null,null,null,null,null,null,null,null,null,null,null,null,null,null,null,null,null,null,null,null,null,null,null,null,null,null,null,null,null,null,null,null,null,null,null,null,"Door and window detail",null,null,null,null,null,null,null,null,null,2,69,{"$f":"VLOOKUP($S$1,'PAT Civil Detailed'!$F$16:$DG$115,32,FALSE)","v":0}]
[null,null,"Detail of 1½ m section of veranda and wooden pergola",null,null,null,null,null,null,null,null,null,2,{"$f":"IFERROR(VLOOKUP($S$1,'PAT Civil Detailed'!$F$16:$DG$115,67,FALSE),\"\")","v":0},null,null,"N76",null,null,null,null,null,null,null,null,null,null,null,null,null,null,null,null,null,null,null,null,null,null,null,null,null,null,null,null,null,null,null,null,null,null,null,null,null,null,null,null,null,null,null,null,null,null,null,null,null,null,null,null,null,null,null,null,null,null,null,null,null,null,null,"Roof detail, including rainwater items, of the house and the veranda ",null,null,null,null,null,null,null,null,null,2,70,{"$f":"VLOOKUP($S$1,'PAT Civil Detailed'!$F$16:$DG$115,32,FALSE)","v":0}]
[null,null,"Roof detail, including all rainwater items, and the correct hatching of the wood",null,null,null,null,null,null,null,null,null,2,{"$f":"IFERROR(VLOOKUP($S$1,'PAT Civil Detailed'!$F$16:$DG$115,68,FALSE),\"\")","v":0},null,null,"N77",null,null,null,null,null,null,null,null,null,null,null,null,null,null,null,null,null,null,null,null,null,null,null,null,null,null,null,null,null,null,null,null,null,null,null,null,null,null,null,null,null,null,null,null,null,null,null,null,null,null,null,null,null,null,null,null,null,null,null,null,null,null,null,"Waste-water disposal system (sewerage)",null,null,null,null,null,null,null,null,null,2,71,{"$f":"VLOOKUP($S$1,'PAT Civil Detailed'!$F$16:$DG$115,32,FALSE)","v":0}]
[null,null,"Titles, labels and notes",null,null,null,null,null,null,null,null,null,2,{"$f":"IFERROR(VLOOKUP($S$1,'PAT Civil Detailed'!$F$16:$DG$115,69,FALSE),\"\")","v":0}]
[null,null,"Detailed dimensioning",null,null,null,null,null,null,null,null,null,2,{"$f":"IFERROR(VLOOKUP($S$1,'PAT Civil Detailed'!$F$16:$DG$115,70,FALSE),\"\")","v":0}]
[null,null,"Scale 1 : 20 used and correctly indicated (1) + Break lines (1)",null,null,null,null,null,null,null,null,null,2,{"$f":"IFERROR(VLOOKUP($S$1,'PAT Civil Detailed'!$F$16:$DG$115,71,FALSE),\"\")","v":0}]
[null,null,null,null,null,null,null,null,null,null,null,null,null,{"$f":"IFERROR(VLOOKUP($S$1,'PAT Civil Detailed'!$F$16:$DG$115,72,FALSE),\"\")","v":0}]
[null,null,null,null,null,null,null,null,null,null,null,null,null,{"$f":"IFERROR(VLOOKUP($S$1,'PAT Civil Detailed'!$F$16:$DG$115,73,FALSE),\"\")","v":0}]
[null,"(1 = 1; 2 = 1; 3 = 2; 4 = 3; 5 = 3; 6 = 4; 7 = 5; 8 = 5; 9 = 6; 10 = 7; 11 = 7; 12 = 8; 13 = 9; 14 = 9; 15 = 10) Subtotal = 15 ÷ 1.5 = TOTAL",null,null,null,null,null,null,null,null,null,null,{"$f":"ROUND((SUM(M73:M82)/1.5),0)","v":10},{"$f":"ROUND((SUM(N73:N82)/2),0)","v":0},null,null,null,null,null,null,null,null,null,null,null,null,null,null,null,null,null,null,null,null,null,null,null,null,null,null,null,null,null,null,null,null,null,null,null,null,null,null,null,null,null,null,null,null,null,null,null,null,null,null,null,null,null,null,null,null,null,null,null,null,null,null,null,null,null,"TOTAL",null,null,null,null,null,null,null,null,null,null,{"$f":"SUM(CM73:CM81)","v":9}]
["5.2","Detailed SITE PLAN",null,null,null,null,null,null,null,null,null,null,null,null,null,null,null,null,null,null,null,null,null,null,null,null,null,null,null,null,null,null,null,null,null,null,null,null,null,null,null,null,null,null,null,null,null,null,null,null,null,null,null,null,null,null,null,null,null,null,null,null,null,null,null,null,null,null,null,null,null,null,null,null,null,null,null,null,"5.2","Detailed SITE PLAN "]
[null,"Site plan correctly drawn, including ALL given site features and detail",null,null,null,null,null,null,null,null,null,null,2,{"$f":"IFERROR(VLOOKUP($S$1,'PAT Civil Detailed'!$F$16:$DG$115,75,FALSE),\"\")","v":0},null,null,"N81",null,null,null,null,null,null,null,null,null,null,null,null,null,null,null,null,null,null,null,null,null,null,null,null,null,null,null,null,null,null,null,null,null,null,null,null,null,null,null,null,null,null,null,null,null,null,null,null,null,null,null,null,null,null,null,null,null,null,null,null,null,null,"Site correctly drawn and ALL the given site detail/features are included",null,null,null,null,null,null,null,null,null,null,2,74,{"$f":"VLOOKUP($S$1,'PAT Civil Detailed'!$F$16:$DG$115,32,FALSE)","v":0}]
[null,"The proposed new restaurant and museum, including parking area and driveways",null,null,null,null,null,null,null,null,null,null,2,{"$f":"IFERROR(VLOOKUP($S$1,'PAT Civil Detailed'!$F$16:$DG$115,76,FALSE),\"\")","v":0},null,null,"N82",null,null,null,null,null,null,null,null,null,null,null,null,null,null,null,null,null,null,null,null,null,null,null,null,null,null,null,null,null,null,null,null,null,null,null,null,null,null,null,null,null,null,null,null,null,null,null,null,null,null,null,null,null,null,null,null,null,null,null,null,null,null,"The complete proposed new houses",null,null,null,null,null,null,null,null,null,null,2,75,{"$f":"VLOOKUP($S$1,'PAT Civil Detailed'!$F$16:$DG$115,32,FALSE)","v":0}]
[null,"ALL sewerage detail, with labels and notes included",null,null,null,null,null,null,null,null,null,null,2,{"$f":"IFERROR(VLOOKUP($S$1,'PAT Civil Detailed'!$F$16:$DG$115,77,FALSE),\"\")","v":0},null,null,"N83",null,null,null,null,null,null,null,null,null,null,null,null,null,null,null,null,null,null,null,null,null,null,null,null,null,null,null,null,null,null,null,null,null,null,null,null,null,null,null,null,null,null,null,null,null,null,null,null,null,null,null,null,null,null,null,null,null,null,null,null,null,null,"ALL sewerage detail",null,null,null,null,null,null,null,null,null,null,2,76,{"$f":"VLOOKUP($S$1,'PAT Civil Detailed'!$F$16:$DG$115,32,FALSE)","v":0}]
[null,"Dimensions, including new building's reference dimensions and corner heights",null,null,null,null,null,null,null,null,null,null,2,{"$f":"IFERROR(VLOOKUP($S$1,'PAT Civil Detailed'!$F$16:$DG$115,78,FALSE),\"\")","v":0},null,null,"N84",null,null,null,null,null,null,null,null,null,null,null,null,null,null,null,null,null,null,null,null,null,null,null,null,null,null,null,null,null,null,null,null,null,null,null,null,null,null,null,null,null,null,null,null,null,null,null,null,null,null,null,null,null,null,null,null,null,null,null,null,null,null,"Dimensions, including the setting-out dimension and corner heights",null,null,null,null,null,null,null,null,null,null,2,77,{"$f":"VLOOKUP($S$1,'PAT Civil Detailed'!$F$16:$DG$115,32,FALSE)","v":0}]
[null,"Suitable scale indicated correctly",null,null,null,null,null,null,null,null,null,null,1,{"$f":"IFERROR(VLOOKUP($S$1,'PAT Civil Detailed'!$F$16:$DG$115,79,FALSE),\"\")","v":0},null,null,"N85",null,null,null,null,null,null,null,null,null,null,null,null,null,null,null,null,null,null,null,null,null,null,null,null,null,null,null,null,null,null,null,null,null,null,null,null,null,null,null,null,null,null,null,null,null,null,null,null,null,null,null,null,null,null,null,null,null,null,null,null,null,null,"Suitable scale selected and indicated correctly",null,null,null,null,null,null,null,null,null,null,1,78,{"$f":"VLOOKUP($S$1,'PAT Civil Detailed'!$F$16:$DG$115,32,FALSE)","v":0}]
[null,"North point",null,null,null,null,null,null,null,null,null,null,1,{"$f":"IFERROR(VLOOKUP($S$1,'PAT Civil Detailed'!$F$16:$DG$115,80,FALSE),\"\")","v":0},null,null,"N86",null,null,null,null,null,null,null,null,null,null,null,null,null,null,null,null,null,null,null,null,null,null,null,null,null,null,null,null,null,null,null,null,null,null,null,null,null,null,null,null,null,null,null,null,null,null,null,null,null,null,null,null,null,null,null,null,null,null,null,null,null,null,"North point",null,null,null,null,null,null,null,null,null,null,1,79,{"$f":"VLOOKUP($S$1,'PAT Civil Detailed'!$F$16:$DG$115,32,FALSE)","v":0}]
[null,"TOTAL",null,null,null,null,null,null,null,null,null,null,{"$f":"SUM(M85:M90)","v":10},{"$f":"SUM(N85:N90)","v":0},null,null,null,null,null,null,null,null,null,null,null,null,null,null,null,null,null,null,null,null,null,null,null,null,null,null,null,null,null,null,null,null,null,null,null,null,null,null,null,null,null,null,null,null,null,null,null,null,null,null,null,null,null,null,null,null,null,null,null,null,null,null,null,null,null,"TOTAL",null,null,null,null,null,null,null,null,null,null,{"$f":"SUM(CM85:CM90)","v":10}]
["5.3","TWO-POINT PERSPECTIVE DRAWING showing the restaurant, museum and veranda, but without the pergolas",null,null,null,null,null,null,null,null,null,null,null,null,null,null,null,null,null,null,null,null,null,null,null,null,null,null,null,null,null,null,null,null,null,null,null,null,null,null,null,null,null,null,null,null,null,null,null,null,null,null,null,null,null,null,null,null,null,null,null,null,null,null,null,null,null,null,null,null,null,null,null,null,null,null,null,null,"5.3","Detailed PERSPECTIVE DRAWING of one house, clearly showing the north elevation, covered veranda and silo"]
[null,"Evidence of the views and construction used to prepare the drawing",null,null,null,null,null,null,null,null,null,null,1,{"$f":"IFERROR(VLOOKUP($S$1,'PAT Civil Detailed'!$F$16:$DG$115,82,FALSE),\"\")","v":0},null,null,"N89",null,null,null,null,null,null,null,null,null,null,null,null,null,null,null,null,null,null,null,null,null,null,null,null,null,null,null,null,null,null,null,null,null,null,null,null,null,null,null,null,null,null,null,null,null,null,null,null,null,null,null,null,null,null,null,null,null,null,null,null,null,null,"Evidence of views and construction/method used for the drawing",null,null,null,null,null,null,null,null,null,null,1,81,{"$f":"VLOOKUP($S$1,'PAT Civil Detailed'!$F$16:$DG$115,32,FALSE)","v":0}]
[null,"Orientation showing entrance to museum and entire veranda (1) and HL ±1 m above the roof (1)",null,null,null,null,null,null,null,null,null,null,2,{"$f":"IFERROR(VLOOKUP($S$1,'PAT Civil Detailed'!$F$16:$DG$115,83,FALSE),\"\")","v":0},null,null,"N90",null,null,null,null,null,null,null,null,null,null,null,null,null,null,null,null,null,null,null,null,null,null,null,null,null,null,null,null,null,null,null,null,null,null,null,null,null,null,null,null,null,null,null,null,null,null,null,null,null,null,null,null,null,null,null,null,null,null,null,null,null,null,"Correct orientation showing the main entrance (1) and the correct HL height (1)",null,null,null,null,null,null,null,null,null,null,2,82,{"$f":"VLOOKUP($S$1,'PAT Civil Detailed'!$F$16:$DG$115,32,FALSE)","v":0}]
[null,"Detail and correctness of the perspective drawing",null,null,null,null,null,null,null,null,null,null,7,{"$f":"IFERROR(VLOOKUP($S$1,'PAT Civil Detailed'!$F$16:$DG$115,84,FALSE),\"\")","v":0},null,null,"N91",null,null,null,null,null,null,null,null,null,null,null,null,null,null,null,null,null,null,null,null,null,null,null,null,null,null,null,null,null,null,null,null,null,null,null,null,null,null,null,null,null,null,null,null,null,null,null,null,null,null,null,null,null,null,null,null,null,null,null,null,null,null,"Perspective drawing/answer (NOTE: Use 7-mark rubric on page 45 of the EGD CAPS.)",null,null,null,null,null,null,null,null,null,null,7,83,{"$f":"VLOOKUP($S$1,'PAT Civil Detailed'!$F$16:$DG$115,32,FALSE)","v":0}]
[null,"NOTE: Use the 7-mark simplified rubric on page 45 of the CAPS.",null,null,null,null,null,null,null,"TOTAL",null,null,{"$f":"SUM(M93:M95)","v":10},{"$f":"SUM(N93:N95)","v":0},null,null,null,null,null,null,null,null,null,null,null,null,null,null,null,null,null,null,null,null,null,null,null,null,null,null,null,null,null,null,null,null,null,null,null,null,null,null,null,null,null,null,null,null,null,null,null,null,null,null,null,null,null,null,null,null,null,null,null,null,null,null,null,null,null,"TOTAL",null,null,null,null,null,null,null,null,null,null,{"$f":"SUM(CM93:CM95)","v":10}]
[6,"Continuous self-evaluation and the meeting of deadlines",null,null,null,null,null,null,null,null,null,null,null,null,null,null,null,null,null,null,null,null,null,null,null,null,null,null,null,null,null,null,null,null,null,null,null,null,null,null,null,null,null,null,null,null,null,null,null,null,null,null,null,null,null,null,null,null,null,null,null,null,null,null,null,null,null,null,null,null,null,null,null,null,null,null,null,null,6,"Continuous self-assessment and the meeting of deadlines"]
[null,"Checklist completed as evidence of continuous self-evaluation\t                     (mark out of 10 ÷ 2)",null,null,null,null,null,null,null,null,null,null,5,{"$f":"IFERROR(VLOOKUP($S$1,'PAT Civil Detailed'!$F$16:$DG$115,86,FALSE),\"\")","v":0},null,null,"N94",null,null,null,null,null,null,null,null,null,null,null,null,null,null,null,null,null,null,null,null,null,null,null,null,null,null,null,null,null,null,null,null,null,null,null,null,null,null,null,null,null,null,null,null,null,null,null,null,null,null,null,null,null,null,null,null,null,null,null,null,null,null,"Completed checklist as evidence of continuous self-assessment (mark out of 10 ÷ 2)",null,null,null,null,null,null,null,null,null,null,5,85,{"$f":"VLOOKUP($S$1,'PAT Civil Detailed'!$F$16:$DG$115,32,FALSE)","v":0}]
[null,"Meeting ALL the submission deadlines                                                          (mark out of 10 ÷ 2)",null,null,null,null,null,null,null,null,null,null,5,{"$f":"IFERROR(VLOOKUP($S$1,'PAT Civil Detailed'!$F$16:$DG$115,87,FALSE),\"\")","v":0},null,null,"N95",null,null,null,null,null,null,null,null,null,null,null,null,null,null,null,null,null,null,null,null,null,null,null,null,null,null,null,null,null,null,null,null,null,null,null,null,null,null,null,null,null,null,null,null,null,null,null,null,null,null,null,null,null,null,null,null,null,null,null,null,null,null,"Meeting ALL the deadlines during the development (mark out of 10 ÷ 2)",null,null,null,null,null,null,null,null,null,null,5,86,{"$f":"VLOOKUP($S$1,'PAT Civil Detailed'!$F$16:$DG$115,32,FALSE)","v":0}]
[null,"NOTE: Use the 10-mark simplified rubric on page 25 of this PAT document.",null,null,null,null,null,null,null,"TOTAL",null,null,10,{"$f":"SUM(N98:N99)","v":0},null,null,null,null,null,null,null,null,null,null,null,null,null,null,null,null,null,null,null,null,null,null,null,null,null,null,null,null,null,null,null,null,null,null,null,null,null,null,null,null,null,null,null,null,null,null,null,null,null,null,null,null,null,null,null,null,null,null,null,null,null,null,null,null,null,"(NOTE: Use 7-mark rubric on page 45 of the EGD CAPS)",null,null,null,null,null,null,null,"TOTAL",null,null,10]
[7,"Presentation of the complete PAT file/portfolio",null,null,null,null,null,null,null,null,null,null,null,null,null,null,null,null,null,null,null,null,null,null,null,null,null,null,null,null,null,null,null,null,null,null,null,null,null,null,null,null,null,null,null,null,null,null,null,null,null,null,null,null,null,null,null,null,null,null,null,null,null,null,null,null,null,null,null,null,null,null,null,null,null,null,null,null,7,"Presentation of the complete PAT portfolio"]
[null,"Complete cover page with a copy of the perspective drawing",null,null,null,null,null,null,null,null,null,null,1,{"$f":"IFERROR(VLOOKUP($S$1,'PAT Civil Detailed'!$F$16:$DG$115,89,FALSE),\"\")","v":0},null,null,"N98",null,null,null,null,null,null,null,null,null,null,null,null,null,null,null,null,null,null,null,null,null,null,null,null,null,null,null,null,null,null,null,null,null,null,null,null,null,null,null,null,null,null,null,null,null,null,null,null,null,null,null,null,null,null,null,null,null,null,null,null,null,null,"Cover page with a copy of the perspective drawing",null,null,null,null,null,null,null,null,null,null,1,88,{"$f":"VLOOKUP($S$1,'PAT Civil Detailed'!$F$16:$DG$115,32,FALSE)","v":0}]
[null,"Complete index (table of content)",null,null,null,null,null,null,null,null,null,null,1,{"$f":"IFERROR(VLOOKUP($S$1,'PAT Civil Detailed'!$F$16:$DG$115,90,FALSE),\"\")","v":0},null,null,"N99",null,null,null,null,null,null,null,null,null,null,null,null,null,null,null,null,null,null,null,null,null,null,null,null,null,null,null,null,null,null,null,null,null,null,null,null,null,null,null,null,null,null,null,null,null,null,null,null,null,null,null,null,null,null,null,null,null,null,null,null,null,null,"Index",null,null,null,null,null,null,null,null,null,null,1,89,{"$f":"VLOOKUP($S$1,'PAT Civil Detailed'!$F$16:$DG$115,32,FALSE)","v":0}]
[null,"Completed summative assessment sheet and declaration",null,null,null,null,null,null,null,null,null,null,1,{"$f":"IFERROR(VLOOKUP($S$1,'PAT Civil Detailed'!$F$16:$DG$115,91,FALSE),\"\")","v":0},null,null,"N100",null,null,null,null,null,null,null,null,null,null,null,null,null,null,null,null,null,null,null,null,null,null,null,null,null,null,null,null,null,null,null,null,null,null,null,null,null,null,null,null,null,null,null,null,null,null,null,null,null,null,null,null,null,null,null,null,null,null,null,null,null,null,"Summative assessment sheet and declaration",null,null,null,null,null,null,null,null,null,null,1,90,{"$f":"VLOOKUP($S$1,'PAT Civil Detailed'!$F$16:$DG$115,32,FALSE)","v":0}]
[null,"Correct sequencing of ALL presentation requirements",null,null,null,null,null,null,null,null,null,null,1,{"$f":"IFERROR(VLOOKUP($S$1,'PAT Civil Detailed'!$F$16:$DG$115,92,FALSE),\"\")","v":0},null,null,"N101",null,null,null,null,null,null,null,null,null,null,null,null,null,null,null,null,null,null,null,null,null,null,null,null,null,null,null,null,null,null,null,null,null,null,null,null,null,null,null,null,null,null,null,null,null,null,null,null,null,null,null,null,null,null,null,null,null,null,null,null,null,null,"Correct sequencing of ALL presentation requirements",null,null,null,null,null,null,null,null,null,null,1,91,{"$f":"VLOOKUP($S$1,'PAT Civil Detailed'!$F$16:$DG$115,32,FALSE)","v":0}]
[null,"Name and numbering on ALL the presentation requirements",null,null,null,null,null,null,null,null,null,null,1,{"$f":"IFERROR(VLOOKUP($S$1,'PAT Civil Detailed'!$F$16:$DG$115,93,FALSE),\"\")","v":0},null,null,"N102",null,null,null,null,null,null,null,null,null,null,null,null,null,null,null,null,null,null,null,null,null,null,null,null,null,null,null,null,null,null,null,null,null,null,null,null,null,null,null,null,null,null,null,null,null,null,null,null,null,null,null,null,null,null,null,null,null,null,null,null,null,null,"Name and numbering on ALL the presentation requirements",null,null,null,null,null,null,null,null,null,null,1,92,{"$f":"VLOOKUP($S$1,'PAT Civil Detailed'!$F$16:$DG$115,32,FALSE)","v":0}]
[null,"General impression of file/portfolio, e.g. binding, appearance, etc.\t                 (mark out of 10 ÷ 2)",null,null,null,null,null,null,null,null,null,null,5,{"$f":"IFERROR(VLOOKUP($S$1,'PAT Civil Detailed'!$F$16:$DG$115,94,FALSE),\"\")","v":0},null,null,"N103",null,null,null,null,null,null,null,null,null,null,null,null,null,null,null,null,null,null,null,null,null,null,null,null,null,null,null,null,null,null,null,null,null,null,null,null,null,null,null,null,null,null,null,null,null,null,null,null,null,null,null,null,null,null,null,null,null,null,null,null,null,null,"General impression of file/portfolio, e.g. binding, appearance etc. (mark out of 10 ÷ 2)",null,null,null,null,null,null,null,null,null,null,5,93,{"$f":"VLOOKUP($S$1,'PAT Civil Detailed'!$F$16:$DG$115,32,FALSE)","v":0}]
[null,"NOTE: Use the 10-mark simplified rubric on page 25 of this PAT document.",null,null,null,null,null,null,null,"TOTAL",null,null,10,{"$f":"SUM(N102:N107)","v":0},null,null,null,null,null,null,null,null,null,null,null,null,null,null,null,null,null,null,null,null,null,null,null,null,null,null,null,null,null,null,null,null,null,null,null,null,null,null,null,null,null,null,null,null,null,null,null,null,null,null,null,null,null,null,null,null,null,null,null,null,null,null,null,null,null,"TOTAL",null,null,null,null,null,null,null,null,null,null,10]
["Assessment of drawing methods, drawing skills and presentation",null,null,null,null,null,null,null,null,null,null,null,null,null,null,null,null,null,null,null,null,null,null,null,null,null,null,null,null,null,null,null,null,null,null,null,null,null,null,null,null,null,null,null,null,null,null,null,null,null,null,null,null,null,null,null,null,null,null,null,null,null,null,null,null,null,null,null,null,null,null,null,null,null,null,null,null,null,"Assessment of drawing methods, drawing skills and presentation"]
["a","Freehand drawings",null,null,null,null,null,null,null,null,null,null,null,null,null,null,null,null,null,null,null,null,null,null,null,null,null,null,null,null,null,null,null,null,null,null,null,null,null,null,null,null,null,null,null,null,null,null,null,null,null,null,null,null,null,null,null,null,null,null,null,null,null,null,null,null,null,null,null,null,null,null,null,null,null,null,null,null,"a","Freehand drawings"]
[null,"Freehand drawing methods and skills                                           (See ANNEXURE A on page 24)\nNOTE:  • No evidence of grid/graph paper used = max. 7 marks, even if drawn excellently\n• Not drawn in freehand = 0 marks, & some evidence of instruments used = max. 5 marks",null,null,null,null,null,null,null,null,null,null,10,{"$f":"IFERROR(VLOOKUP($S$1,'PAT Civil Detailed'!$F$16:$DG$115,96,FALSE),\"\")","v":0},null,null,"N107",null,null,null,null,null,null,null,null,null,null,null,null,null,null,null,null,null,null,null,null,null,null,null,null,null,null,null,null,null,null,null,null,null,null,null,null,null,null,null,null,null,null,null,null,null,null,null,null,null,null,null,null,null,null,null,null,null,null,null,null,null,null,"Freehand drawing methods and skills (See ANNEXURE A on page 23)",null,null,null,null,null,null,null,null,null,null,10,95,{"$f":"VLOOKUP($S$1,'PAT Civil Detailed'!$F$16:$DG$115,32,FALSE)","v":0}]
[null,"Neatness (2) + correct line types used (2) + line consistency (2) + printing (2) + dimensioning (2)\n(Also see ANNEXURE A on page 24)",null,null,null,null,null,null,null,null,null,null,10,{"$f":"IFERROR(VLOOKUP($S$1,'PAT Civil Detailed'!$F$16:$DG$115,97,FALSE),\"\")","v":0},null,null,"N108",null,null,null,null,null,null,null,null,null,null,null,null,null,null,null,null,null,null,null,null,null,null,null,null,null,null,null,null,null,null,null,null,null,null,null,null,null,null,null,null,null,null,null,null,null,null,null,null,null,null,null,null,null,null,null,null,null,null,null,null,null,null,"Neatness, line work/line quality and printing (See ANNEXURE A on page 23)",null,null,null,null,null,null,null,null,null,null,10,96,{"$f":"VLOOKUP($S$1,'PAT Civil Detailed'!$F$16:$DG$115,32,FALSE)","v":0}]
[null,"TOTAL",null,null,null,null,null,null,null,null,null,null,{"$f":"SUM(M111:M112)","v":20},{"$f":"SUM(N111:N112)","v":0},null,null,null,null,null,null,null,null,null,null,null,null,null,null,null,null,null,null,null,null,null,null,null,null,null,null,null,null,null,null,null,null,null,null,null,null,null,null,null,null,null,null,null,null,null,null,null,null,null,null,null,null,null,null,null,null,null,null,null,null,null,null,null,null,null,"TOTAL",null,null,null,null,null,null,null,null,null,null,{"$f":"SUM(CM111:CM112)","v":20}]
["b","Instrument drawings",null,null,null,null,null,null,null,null,null,null,null,null,null,null,null,null,null,null,null,null,null,null,null,null,null,null,null,null,null,null,null,null,null,null,null,null,null,null,null,null,null,null,null,null,null,null,null,null,null,null,null,null,null,null,null,null,null,null,null,null,null,null,null,null,null,null,null,null,null,null,null,null,null,null,null,null,"b","Instrument drawings"]
[null,"Use of drawing instruments, drawing methods and skills               (See ANNEXURE A on page 24)",null,null,null,null,null,null,null,null,null,null,10,{"$f":"IFERROR(VLOOKUP($S$1,'PAT Civil Detailed'!$F$16:$DG$115,98,FALSE),\"\")","v":0},null,null,"N111",null,null,null,null,null,null,null,null,null,null,null,null,null,null,null,null,null,null,null,null,null,null,null,null,null,null,null,null,null,null,null,null,null,null,null,null,null,null,null,null,null,null,null,null,null,null,null,null,null,null,null,null,null,null,null,null,null,null,null,null,null,null,"Use of drawing instruments, drawing methods and skills (See ANNEXURE A on page 23)",null,null,null,null,null,null,null,null,null,null,10,97,{"$f":"VLOOKUP($S$1,'PAT Civil Detailed'!$F$16:$DG$115,32,FALSE)","v":0}]
[null,"Neatness (2) + correct line types used (2) + line consistency (2) + printing (2) + dimensioning (2)\n(Also see ANNEXURE A on page 24)",null,null,null,null,null,null,null,null,null,null,10,{"$f":"IFERROR(VLOOKUP($S$1,'PAT Civil Detailed'!$F$16:$DG$115,99,FALSE),\"\")","v":0},null,null,"N112",null,null,null,null,null,null,null,null,null,null,null,null,null,null,null,null,null,null,null,null,null,null,null,null,null,null,null,null,null,null,null,null,null,null,null,null,null,null,null,null,null,null,null,null,null,null,null,null,null,null,null,null,null,null,null,null,null,null,null,null,null,null,"Neatness, line work/line quality and printing (See ANNEXURE A on page 23)",null,null,null,null,null,null,null,null,null,null,10,98,{"$f":"VLOOKUP($S$1,'PAT Civil Detailed'!$F$16:$DG$115,32,FALSE)","v":0}]
[null,"TOTAL",null,null,null,null,null,null,null,null,null,null,{"$f":"SUM(M115:M116)","v":20},{"$f":"SUM(N115:N116)","v":0},null,null,null,null,null,null,null,null,null,null,null,null,null,null,null,null,null,null,null,null,null,null,null,null,null,null,null,null,null,null,null,null,null,null,null,null,null,null,null,null,null,null,null,null,null,null,null,null,null,null,null,null,null,null,null,null,null,null,null,null,null,null,null,null,null,"TOTAL",null,null,null,null,null,null,null,null,null,null,{"$f":"SUM(CM115:CM116)","v":20}]
["c","CAD drawings",null,null,null,null,null,null,null,null,null,null,null,null,null,null,null,null,null,null,null,null,null,null,null,null,null,null,null,null,null,null,null,null,null,null,null,null,null,null,null,null,null,null,null,null,null,null,null,null,null,null,null,null,null,null,null,null,null,null,null,null,null,null,null,null,null,null,null,null,null,null,null,null,null,null,null,null,"c","CAD drawings"]
[null,"Competence displayed in using a CAD program                              (See ANNEXURE A on page 24)",null,null,null,null,null,null,null,null,null,null,10,{"$f":"IFERROR(VLOOKUP($S$1,'PAT Civil Detailed'!$F$16:$DG$115,100,FALSE),\"\")","v":0},null,null,"N115",null,null,null,null,null,null,null,null,null,null,null,null,null,null,null,null,null,null,null,null,null,null,null,null,null,null,null,null,null,null,null,null,null,null,null,null,null,null,null,null,null,null,null,null,null,null,null,null,null,null,null,null,null,null,null,null,null,null,null,null,null,null,"Competence displayed in using a CAD program (see rubric grade 12 PAT – page 23).",null,null,null,null,null,null,null,null,null,null,10,99,{"$f":"VLOOKUP($S$1,'PAT Civil Detailed'!$F$16:$DG$115,32,FALSE)","v":0}]
[null,"Layout and correctness of the drawings presentation                      (See ANNEXURE A on page 24)",null,null,null,null,null,null,null,null,null,null,10,{"$f":"IFERROR(VLOOKUP($S$1,'PAT Civil Detailed'!$F$16:$DG$115,101,FALSE),\"\")","v":0},null,null,"N116",null,null,null,null,null,null,null,null,null,null,null,null,null,null,null,null,null,null,null,null,null,null,null,null,null,null,null,null,null,null,null,null,null,null,null,null,null,null,null,null,null,null,null,null,null,null,null,null,null,null,null,null,null,null,null,null,null,null,null,null,null,null,"Layout and correctness of the drawings presentation (see rubric grade 12 PAT – page 23).",null,null,null,null,null,null,null,null,null,null,10,100,{"$f":"VLOOKUP($S$1,'PAT Civil Detailed'!$F$16:$DG$115,32,FALSE)","v":0}]
[null,"TOTAL",null,null,null,null,null,null,null,null,null,null,{"$f":"SUM(M119:M120)","v":20},{"$f":"SUMIF(N119:N120,\">0\")","v":0},null,null,null,null,null,null,null,null,null,null,null,null,null,null,null,null,null,null,null,null,null,null,null,null,null,null,null,null,null,null,null,null,null,null,null,null,null,null,null,null,null,null,null,null,null,null,null,null,null,null,null,null,null,null,null,null,null,null,null,null,null,null,null,null,null,"TOTAL",null,null,null,null,null,null,null,null,null,null,{"$f":"SUM(CM119:CM120)","v":20}]
["Learner total without CAD",null,null,null,null,null,null,null,null,null,null,null,null,{"$f":"H177","v":0},null,null,null,null,null,null,null,null,null,null,null,null,null,null,null,null,null,null,null,null,null,null,null,null,null,null,null,null,null,null,null,null,null,null,null,null,null,null,null,null,null,null,null,null,null,null,null,null,null,null,null,null,null,null,null,null,null,null,null,null,null,null,null,null,"Learner total without CAD",null,null,null,null,null,null,null,null,null,null,null,null,{"$f":"CH177","v":241}]
[null,null,null,null,null,null,null,null,null,null,null,null,null,"/100",null,null,null,null,null,null,null,null,null,null,null,null,null,null,null,null,null,null,null,null,null,null,null,null,null,null,null,null,null,null,null,null,null,null,null,null,null,null,null,null,null,null,null,null,null,null,null,null,null,null,null,null,null,null,null,null,null,null,null,null,null,null,null,null,null,null,null,null,null,null,null,null,null,null,null,null,null,"/100"]
["Learner total with CAD",null,null,null,null,null,null,null,null,null,null,null,null,{"$f":"M177","v":0},null,null,null,null,null,null,null,null,null,null,null,null,null,null,null,null,null,null,null,null,null,null,null,null,null,null,null,null,null,null,null,null,null,null,null,null,null,null,null,null,null,null,null,null,null,null,null,null,null,null,null,null,null,null,null,null,null,null,null,null,null,null,null,null,"Learner total with CAD",null,null,null,null,null,null,null,null,null,null,null,null,{"$f":"CM177","v":244}]
[null,null,null,null,null,null,null,null,null,null,null,null,null,"/100",null,null,null,null,null,null,null,null,null,null,null,null,null,null,null,null,null,null,null,null,null,null,null,null,null,null,null,null,null,null,null,null,null,null,null,null,null,null,null,null,null,null,null,null,null,null,null,null,null,null,null,null,null,null,null,null,null,null,null,null,null,null,null,null,null,null,null,null,null,null,null,null,null,null,null,null,null,"/100"]
[]
["PRACTICAL ASSESSMENT TASK 2020                                                                                                                                                                                             SUMMATIVE ASSESSMENT SHEET",null,null,null,null,null,null,null,null,null,null,null,null,null,null,null,null,null,null,null,null,null,null,null,null,null,null,null,null,null,null,null,null,null,null,null,null,null,null,null,null,null,null,null,null,null,null,null,null,null,null,null,null,null,null,null,null,null,null,null,null,null,null,null,null,null,null,null,null,null,null,null,null,null,null,null,null,null,"PRACTICAL ASSESSMENT TASK 2020                                                                                                                                                                                             SUMMATIVE ASSESSMENT SHEET"]
["NAME OF SCHOOL",null,null,null,{"$f":"G2","v":0},null,null,null,null,null,null,null,null,null,null,null,null,null,null,null,null,null,null,null,null,null,null,null,null,null,null,null,null,null,null,null,null,null,null,null,null,null,null,null,null,null,null,null,null,null,null,null,null,null,null,null,null,null,null,null,null,null,null,null,null,null,null,null,null,null,null,null,null,null,null,null,null,null,"NAME OF SCHOOL",null,null,null,{"$f":"CG2","v":0}]
["NAME & SURNAME OF LEARNER:",null,null,null," 0",null,null,null,null,null,null,null,null,null,null,null,null,null,null,null,null,null,null,null,null,null,null,null,null,null,null,null,null,null,null,null,null,null,null,null,null,null,null,null,null,null,null,null,null,null,null,null,null,null,null,null,null,null,null,null,null,null,null,null,null,null,null,null,null,null,null,null,null,null,null,null,null,null,"NAME & SURNAME OF LEARNER:",null,null,null,0]
["NAME & SURNAME OF TEACHER",null,null,null,0,null,null,null,null,null,null,null,null,null,null,null,null,null,null,null,null,null,null,null,null,null,null,null,null,null,null,null,null,null,null,null,null,null,null,null,null,null,null,null,null,null,null,null,null,null,null,null,null,null,null,null,null,null,null,null,null,null,null,null,null,null,null,null,null,null,null,null,null,null,null,null,null,null,"NAME & SURNAME OF TEACHER",null,null,null,0]
["NAME & SURNAME OF MODERATOR",null,null,null,0,null,null,null,null,null,null,null,null,null,null,null,null,null,null,null,null,null,null,null,null,null,null,null,null,null,null,null,null,null,null,null,null,null,null,null,null,null,null,null,null,null,null,null,null,null,null,null,null,null,null,null,null,null,null,null,null,null,null,null,null,null,null,null,null,null,null,null,null,null,null,null,null,null,"NAME & SURNAME OF MODERATOR",null,null,null,0]
["PART A: Design process",null,null,null,"PART B: Working and pictorial drawings",null,null,null,null,"Drawing competency and skill",null,null,null,null,null,null,null,null,null,null,null,null,null,null,null,null,null,null,null,null,null,null,null,null,null,null,null,null,null,null,null,null,null,null,null,null,null,null,null,null,null,null,null,null,null,null,null,null,null,null,null,null,null,null,null,null,null,null,null,null,null,null,null,null,null,null,null,null,"PART A: Design process",null,null,null,"PART B: Working and pictorial drawings",null,null,null,null,"Drawing competency and skill"]
["CRITERIA",null,null,"MARK","CRITERIA",null,null,null,"MARK","CRITERIA",null,null,null,"MARK",null,null,null,null,null,null,null,null,null,null,null,null,null,null,null,null,null,null,null,null,null,null,null,null,null,null,null,null,null,null,null,null,null,null,null,null,null,null,null,null,null,null,null,null,null,null,null,null,null,null,null,null,null,null,null,null,null,null,null,null,null,null,null,null,"CRITERIA",null,null,"MARK","CRITERIA",null,null,null,"MARK","CRITERIA",null,null,null,"MARK"]
[1,"A design brief demonstrating a clear understanding of the scenario and the specifications, constraints and a management plan",null,{"$f":"N17","v":0},"All drawing sheets are appropriately set up with a border and an appropriate title block/panel.",null,null,null,{"$f":"N49","v":0},"Freehand drawings                                                                                         ANNEXURE A","METHOD","The drawing display correct freehand drawing method and skills and the method used to ensure proportion and size",null,{"$f":"N111","v":0},null,null,null,null,null,null,null,null,null,null,null,null,null,null,null,null,null,null,null,null,null,null,null,null,null,null,null,null,null,null,null,null,null,null,null,null,null,null,null,null,null,null,null,null,null,null,null,null,null,null,null,null,null,null,null,null,null,null,null,null,null,null,null,null,1,"A design brief demonstrating a clear understanding of the scenario and the specifications, constraints and a management plan",null,{"$f":"CN17","v":0},"All drawing sheets are appropriately set up with a border and an appropriate title block/panel.",null,null,null,{"$f":"CN49","v":0},"Freehand drawings                                                                                         ANNEXURE A","METHOD","The drawing display correct freehand drawing method and skills and the method used to ensure proportion and size",null,{"$f":"CN111","v":95}]
[]
[null,null,null,null,null,null,null,null,"/10",null,null,null,null,null,null,null,null,null,null,null,null,null,null,null,null,null,null,null,null,null,null,null,null,null,null,null,null,null,null,null,null,null,null,null,null,null,null,null,null,null,null,null,null,null,null,null,null,null,null,null,null,null,null,null,null,null,null,null,null,null,null,null,null,null,null,null,null,null,null,null,null,null,null,null,null,null,"/10"]
[null,null,null,null,"Orthographic drawings","Assess each view`s accuracy and correctness according to the selected solution, the stipulated requirements and EGD drawing principles","5.1.1","View 1",{"$f":"N62","v":0},null,null,null,null,null,null,null,null,null,null,null,null,null,null,null,null,null,null,null,null,null,null,null,null,null,null,null,null,null,null,null,null,null,null,null,null,null,null,null,null,null,null,null,null,null,null,null,null,null,null,null,null,null,null,null,null,null,null,null,null,null,null,null,null,null,null,null,null,null,null,null,null,null,"Orthographic drawings","Assess each view`s accuracy and correctness according to the selected solution, the stipulated requirements and EGD drawing principles","5.1.1","View 1",{"$f":"CN62","v":0}]
[null,null,null,null,null,null,null,"PAT 1:           Plan",null,null,null,null,null,null,null,null,null,null,null,null,null,null,null,null,null,null,null,null,null,null,null,null,null,null,null,null,null,null,null,null,null,null,null,null,null,null,null,null,null,null,null,null,null,null,null,null,null,null,null,null,null,null,null,null,null,null,null,null,null,null,null,null,null,null,null,null,null,null,null,null,null,null,null,null,null,"PAT 1:           Plan"]
[]
[null,null,null,"/10",null,null,null,"PAT 2:    Front view",null,null,null,null,null,"/10",null,null,null,null,null,null,null,null,null,null,null,null,null,null,null,null,null,null,null,null,null,null,null,null,null,null,null,null,null,null,null,null,null,null,null,null,null,null,null,null,null,null,null,null,null,null,null,null,null,null,null,null,null,null,null,null,null,null,null,null,null,null,null,null,null,null,null,"/10",null,null,null,"PAT 2:    Front view",null,null,null,null,null,"/10"]
[2,"Evidence of relevant and usable research with the inclusion of a bibliography",null,{"$f":"N24","v":0},null,null,null,null,null,null,"The final drawing presentation is neat and there is consistency of line work/line quality, printing and dimensioning",null,null,{"$f":"N112","v":0},null,null,null,null,null,null,null,null,null,null,null,null,null,null,null,null,null,null,null,null,null,null,null,null,null,null,null,null,null,null,null,null,null,null,null,null,null,null,null,null,null,null,null,null,null,null,null,null,null,null,null,null,null,null,null,null,null,null,null,null,null,null,null,null,2,"Evidence of relevant and usable research with the inclusion of a bibliography",null,{"$f":"CN24","v":0},null,null,null,null,null,null,"The final drawing presentation is neat and there is consistency of line work/line quality, printing and dimensioning",null,null,{"$f":"CN112","v":96}]
[null,null,null,null,null,null,null,null,"/10",null,null,null,null,null,null,null,null,null,null,null,null,null,null,null,null,null,null,null,null,null,null,null,null,null,null,null,null,null,null,null,null,null,null,null,null,null,null,null,null,null,null,null,null,null,null,null,null,null,null,null,null,null,null,null,null,null,null,null,null,null,null,null,null,null,null,null,null,null,null,null,null,null,null,null,null,null,"/10"]
[null,null,null,null,null,null,"5.1.2","View 2",{"$f":"N70","v":0},null,null,null,null,null,null,null,null,null,null,null,null,null,null,null,null,null,null,null,null,null,null,null,null,null,null,null,null,null,null,null,null,null,null,null,null,null,null,null,null,null,null,null,null,null,null,null,null,null,null,null,null,null,null,null,null,null,null,null,null,null,null,null,null,null,null,null,null,null,null,null,null,null,null,null,"5.1.2","View 2",{"$f":"CN70","v":0}]
[null,null,null,"/10",null,null,null,"PAT 1:    Section",null,null,null,null,null,null,null,null,null,null,null,null,null,null,null,null,null,null,null,null,null,null,null,null,null,null,null,null,null,null,null,null,null,null,null,null,null,null,null,null,null,null,null,null,null,null,null,null,null,null,null,null,null,null,null,null,null,null,null,null,null,null,null,null,null,null,null,null,null,null,null,null,null,"/10",null,null,null,"PAT 1:    Section"]
[3,"TWO detailed freehand drawings of possible solutions","1st Solution",{"$f":"N35","v":0},null,null,null,null,null,null,null,null,null,null,null,null,null,null,null,null,null,null,null,null,null,null,null,null,null,null,null,null,null,null,null,null,null,null,null,null,null,null,null,null,null,null,null,null,null,null,null,null,null,null,null,null,null,null,null,null,null,null,null,null,null,null,null,null,null,null,null,null,null,null,null,null,null,null,3,"TWO detailed freehand drawings of possible solutions","1st Solution",{"$f":"CN35","v":0}]
[null,null,null,null,null,null,null,"PAT 2:           2nd Main ",null,null,null,null,null,null,null,null,null,null,null,null,null,null,null,null,null,null,null,null,null,null,null,null,null,null,null,null,null,null,null,null,null,null,null,null,null,null,null,null,null,null,null,null,null,null,null,null,null,null,null,null,null,null,null,null,null,null,null,null,null,null,null,null,null,null,null,null,null,null,null,null,null,null,null,null,null,"PAT 2:           2nd Main "]
[null,null,null,null,null,null,null,null,"/10","Instrument drawings:                              ANNEXURE A","METHOD","The drawings display the correct use of drawing instruments, drawing methods and skills",null,{"$f":"N115","v":0},null,null,null,null,null,null,null,null,null,null,null,null,null,null,null,null,null,null,null,null,null,null,null,null,null,null,null,null,null,null,null,null,null,null,null,null,null,null,null,null,null,null,null,null,null,null,null,null,null,null,null,null,null,null,null,null,null,null,null,null,null,null,null,null,null,null,null,null,null,null,null,null,"/10","Instrument drawings:                              ANNEXURE A","METHOD","The drawings display the correct use of drawing instruments, drawing methods and skills",null,{"$f":"CN115","v":97}]
[null,null,null,null,null,null,"5.1.3","View 3",{"$f":"N83","v":0},null,null,null,null,null,null,null,null,null,null,null,null,null,null,null,null,null,null,null,null,null,null,null,null,null,null,null,null,null,null,null,null,null,null,null,null,null,null,null,null,null,null,null,null,null,null,null,null,null,null,null,null,null,null,null,null,null,null,null,null,null,null,null,null,null,null,null,null,null,null,null,null,null,null,null,"5.1.3","View 3",{"$f":"CN83","v":0}]
[null,null,null,"/10",null,null,null,"PAT 1: 2 elevations",null,null,null,null,null,null,null,null,null,null,null,null,null,null,null,null,null,null,null,null,null,null,null,null,null,null,null,null,null,null,null,null,null,null,null,null,null,null,null,null,null,null,null,null,null,null,null,null,null,null,null,null,null,null,null,null,null,null,null,null,null,null,null,null,null,null,null,null,null,null,null,null,null,"/10",null,null,null,"PAT 1: 2 elevations"]
[null,null,"2nd Solution",{"$f":"O35","v":0},null,null,null,null,null,null,null,null,null,null,null,null,null,null,null,null,null,null,null,null,null,null,null,null,null,null,null,null,null,null,null,null,null,null,null,null,null,null,null,null,null,null,null,null,null,null,null,null,null,null,null,null,null,null,null,null,null,null,null,null,null,null,null,null,null,null,null,null,null,null,null,null,null,null,null,null,"2nd Solution",{"$f":"CO35","v":0}]
[null,null,null,null,null,null,null,"PAT 2: 2 secondary views ",null,null,null,null,null,null,null,null,null,null,null,null,null,null,null,null,null,null,null,null,null,null,null,null,null,null,null,null,null,null,null,null,null,null,null,null,null,null,null,null,null,null,null,null,null,null,null,null,null,null,null,null,null,null,null,null,null,null,null,null,null,null,null,null,null,null,null,null,null,null,null,null,null,null,null,null,null,"PAT 2: 2 secondary views "]
[null,null,null,null,null,null,null,null,null,null,null,null,null,"/10",null,null,null,null,null,null,null,null,null,null,null,null,null,null,null,null,null,null,null,null,null,null,null,null,null,null,null,null,null,null,null,null,null,null,null,null,null,null,null,null,null,null,null,null,null,null,null,null,null,null,null,null,null,null,null,null,null,null,null,null,null,null,null,null,null,null,null,null,null,null,null,null,null,null,null,null,null,"/10"]
[null,null,null,null,null,null,null,null,"/10",null,"The final drawing presentation is neat and there is consistency of line work line quality, printing and dimensioning",null,null,{"$f":"N116","v":0},null,null,null,null,null,null,null,null,null,null,null,null,null,null,null,null,null,null,null,null,null,null,null,null,null,null,null,null,null,null,null,null,null,null,null,null,null,null,null,null,null,null,null,null,null,null,null,null,null,null,null,null,null,null,null,null,null,null,null,null,null,null,null,null,null,null,null,null,null,null,null,null,"/10",null,"The final drawing presentation is neat and there is consistency of line work line quality, printing and dimensioning",null,null,{"$f":"CN116","v":98}]
[null,null,null,null,null,null,5.2,"PAT 1:              Site plan",{"$f":"N91","v":0},null,null,null,null,null,null,null,null,null,null,null,null,null,null,null,null,null,null,null,null,null,null,null,null,null,null,null,null,null,null,null,null,null,null,null,null,null,null,null,null,null,null,null,null,null,null,null,null,null,null,null,null,null,null,null,null,null,null,null,null,null,null,null,null,null,null,null,null,null,null,null,null,null,null,null,5.2,"PAT 1:              Site plan",{"$f":"CN91","v":0}]
[null,null,null,"/10",null,null,null,null,null,null,null,null,null,null,null,null,null,null,null,null,null,null,null,null,null,null,null,null,null,null,null,null,null,null,null,null,null,null,null,null,null,null,null,null,null,null,null,null,null,null,null,null,null,null,null,null,null,null,null,null,null,null,null,null,null,null,null,null,null,null,null,null,null,null,null,null,null,null,null,null,null,"/10"]
[4,"Selecting the best solution which demonstrates a clear understanding of the design brief",null,{"$f":"N43","v":0},null,null,null,"PAT 2:              Detailed drawing",null,null,null,null,null,null,null,null,null,null,null,null,null,null,null,null,null,null,null,null,null,null,null,null,null,null,null,null,null,null,null,null,null,null,null,null,null,null,null,null,null,null,null,null,null,null,null,null,null,null,null,null,null,null,null,null,null,null,null,null,null,null,null,null,null,null,null,null,null,null,4,"Selecting the best solution which demonstrates a clear understanding of the design brief",null,{"$f":"CN43","v":0},null,null,null,"PAT 2:              Detailed drawing"]
[]
[null,null,null,null,null,null,null,null,"/10",null,null,null,null,"/10",null,null,null,null,null,null,null,null,null,null,null,null,null,null,null,null,null,null,null,null,null,null,null,null,null,null,null,null,null,null,null,null,null,null,null,null,null,null,null,null,null,null,null,null,null,null,null,null,null,null,null,null,null,null,null,null,null,null,null,null,null,null,null,null,null,null,null,null,null,null,null,null,"/10",null,null,null,null,"/10"]
[null,null,null,null,"Pictorial drawing","5.3","The correct drawing method and the presentation of the drawing",null,{"$f":"N96","v":0},"CAD drawings                 ANNEXURE A","METHOD","The level of competence displayed in using a CAD system",null,{"$f":"N119","v":0},null,null,null,null,null,null,null,null,null,null,null,null,null,null,null,null,null,null,null,null,null,null,null,null,null,null,null,null,null,null,null,null,null,null,null,null,null,null,null,null,null,null,null,null,null,null,null,null,null,null,null,null,null,null,null,null,null,null,null,null,null,null,null,null,null,null,null,null,"Pictorial drawing","5.3","The correct drawing method and the presentation of the drawing",null,{"$f":"CN96","v":0},"CAD drawings                 ANNEXURE A","METHOD","The level of competence displayed in using a CAD system",null,{"$f":"CN119","v":99}]
[]
[]
[null,null,null,"/10",null,null,null,null,null,null,null,null,null,"/10",null,null,null,null,null,null,null,null,null,null,null,null,null,null,null,null,null,null,null,null,null,null,null,null,null,null,null,null,null,null,null,null,null,null,null,null,null,null,null,null,null,null,null,null,null,null,null,null,null,null,null,null,null,null,null,null,null,null,null,null,null,null,null,null,null,null,null,"/10",null,null,null,null,null,null,null,null,null,"/10"]
[6,"Clear evidence of evaluation and meeting the of all the requirements",null,{"$f":"N100","v":0},null,null,"PAT 1: 2-point perspective",null,null,null,"The layout of the final drawing is correct and the line work, printing and dimensioning is compliant and consistent",null,null,{"$f":"N120","v":0},null,null,null,null,null,null,null,null,null,null,null,null,null,null,null,null,null,null,null,null,null,null,null,null,null,null,null,null,null,null,null,null,null,null,null,null,null,null,null,null,null,null,null,null,null,null,null,null,null,null,null,null,null,null,null,null,null,null,null,null,null,null,null,null,6,"Clear evidence of evaluation and meeting the of all the requirements",null,{"$f":"CN100","v":0},null,null,"PAT 1: 2-point perspective",null,null,null,"The layout of the final drawing is correct and the line work, printing and dimensioning is compliant and consistent",null,null,{"$f":"CN120","v":100}]
[]
[null,null,null,null,null,null,"PAT 2: Isometric",null,null,null,null,null,null,null,null,null,null,null,null,null,null,null,null,null,null,null,null,null,null,null,null,null,null,null,null,null,null,null,null,null,null,null,null,null,null,null,null,null,null,null,null,null,null,null,null,null,null,null,null,null,null,null,null,null,null,null,null,null,null,null,null,null,null,null,null,null,null,null,null,null,null,null,null,null,"PAT 2: Isometric"]
[null,null,null,"/10",null,null,null,null,"/10",null,null,null,null,"/10",null,null,null,null,null,null,null,null,null,null,null,null,null,null,null,null,null,null,null,null,null,null,null,null,null,null,null,null,null,null,null,null,null,null,null,null,null,null,null,null,null,null,null,null,null,null,null,null,null,null,null,null,null,null,null,null,null,null,null,null,null,null,null,null,null,null,null,"/10",null,null,null,null,"/10",null,null,null,null,"/10"]
[7,"The presentation of the complete PAT file/portfolio",null,{"$f":"N108","v":0},null,null,null,null,null,"NO CAD drawings",null,null,null,{"$f":"SUM((N134)+(N141)+(N147)+(N153))","v":0},null,null,null,null,null,null,null,null,null,null,null,null,null,null,null,null,null,null,null,null,null,null,null,null,null,null,null,null,null,null,null,null,null,null,null,null,null,null,null,null,null,null,null,null,null,null,null,null,null,null,null,null,null,null,null,null,null,null,null,null,null,null,null,null,7,"The presentation of the complete PAT file/portfolio",null,{"$f":"CN108","v":0},null,null,null,null,null,"NO CAD drawings",null,null,null,{"$f":"SUM((CN134)+(CN141)+(CN147)+(CN153))","v":386}]
[null,null,null,null,null,null,null,null,null,null,null,null,null,"/40",null,null,null,null,null,null,null,null,null,null,null,null,null,null,null,null,null,null,null,null,null,null,null,null,null,null,null,null,null,null,null,null,null,null,null,null,null,null,null,null,null,null,null,null,null,null,null,null,null,null,null,null,null,null,null,null,null,null,null,null,null,null,null,null,null,null,null,null,null,null,null,null,null,null,null,null,null,"/40"]
[null,null,null,null,null,null,null,null,null,"WITH CAD drawings",null,null,null,{"$f":"SUMIF(N134,\">0\")+SUMIF(N141,\">0\")+SUMIF(N147,\">0\")+SUMIF(N153,\">0\")+SUMIF(N159,\">0\")+SUMIF(N163,\">0\")","v":0},null,null,null,null,null,null,null,null,null,null,null,null,null,null,null,null,null,null,null,null,null,null,null,null,null,null,null,null,null,null,null,null,null,null,null,null,null,null,null,null,null,null,null,null,null,null,null,null,null,null,null,null,null,null,null,null,null,null,null,null,null,null,null,null,null,null,null,null,null,null,null,null,null,"WITH CAD drawings",null,null,null,{"$f":"SUMIF(CN134,\">0\")+SUMIF(CN141,\">0\")+SUMIF(CN147,\">0\")+SUMIF(CN153,\">0\")+SUMIF(CN159,\">0\")+SUMIF(CN163,\">0\")","v":585}]
[null,null,null,"/10",null,null,null,null,null,null,null,null,null,"/60",null,null,null,null,null,null,null,null,null,null,null,null,null,null,null,null,null,null,null,null,null,null,null,null,null,null,null,null,null,null,null,null,null,null,null,null,null,null,null,null,null,null,null,null,null,null,null,null,null,null,null,null,null,null,null,null,null,null,null,null,null,null,null,null,null,null,null,"/10",null,null,null,null,null,null,null,null,null,"/60"]
["SUB TOTAL",null,null,{"$f":"SUM((D134)+(D141)+(D145)+(D150)+(D156)+(D163)+(D167))","v":0},"SUB TOTAL",null,null,null,{"$f":"SUM((I134)+(I137)+(I148)+(I143)+(I154)+(I159))","v":0},"CALCULATIOIN without CAD",null,null,null,{"$f":"ROUND(((N167)*0.625)*1,0)","v":0},null,null,null,null,null,null,null,null,null,null,null,null,null,null,null,null,null,null,null,null,null,null,null,null,null,null,null,null,null,null,null,null,null,null,null,null,null,null,null,null,null,null,null,null,null,null,null,null,null,null,null,null,null,null,null,null,null,null,null,null,null,null,null,null,"SUB TOTAL",null,null,{"$f":"SUM((CD134)+(CD141)+(CD145)+(CD150)+(CD156)+(CD163)+(CD167))","v":0},"SUB TOTAL",null,null,null,{"$f":"SUM((CI134)+(CI137)+(CI148)+(CI143)+(CI154)+(CI159))","v":0},"CALCULATIOIN without CAD",null,null,null,{"$f":"ROUND(((CN167)*0.625)*1,0)","v":241}]
["CALCULATION",null,null,"/70","CALCULATION",null,null,null,"/60","CALCULATION with CAD",null,null,null,{"$f":"ROUND(((N169)*0.416666666)*1,0)","v":0},null,null,null,null,null,null,null,null,null,null,null,null,null,null,null,null,null,null,null,null,null,null,null,null,null,null,null,null,null,null,null,null,null,null,null,null,null,null,null,null,null,null,null,null,null,null,null,null,null,null,null,null,null,null,null,null,null,null,null,null,null,null,null,null,"CALCULATION",null,null,"/70","CALCULATION",null,null,null,"/60","CALCULATION with CAD",null,null,null,{"$f":"ROUND(((CN169)*0.416666666)*1,0)","v":244}]
["Teacher`s TOTAL",null,null,null,"Teacher`s TOTAL",null,null,null,null,"Teacher`s TOTAL",null,null,null,null,null,null,null,null,null,null,null,null,null,null,null,null,null,null,null,null,null,null,null,null,null,null,null,null,null,null,null,null,null,null,null,null,null,null,null,null,null,null,null,null,null,null,null,null,null,null,null,null,null,null,null,null,null,null,null,null,null,null,null,null,null,null,null,null,"Teacher`s TOTAL",null,null,null,"Teacher`s TOTAL",null,null,null,null,"Teacher`s TOTAL"]
["TOTAL: A",null,null,{"$f":"ROUND(((D171)*0.36)*1,0)","v":0},"TOTAL: B",null,null,null,{"$f":"ROUND(((I171)*0.833333333)*1,0)","v":0},"TOTAL: C",null,"Without CAD",null,{"$f":"ROUND(((N167)*0.625)*1,0)","v":0},null,null,null,null,null,null,null,null,null,null,null,null,null,null,null,null,null,null,null,null,null,null,null,null,null,null,null,null,null,null,null,null,null,null,null,null,null,null,null,null,null,null,null,null,null,null,null,null,null,null,null,null,null,null,null,null,null,null,null,null,null,null,null,null,"TOTAL: A",null,null,{"$f":"ROUND(((CD171)*0.36)*1,0)","v":0},"TOTAL: B",null,null,null,{"$f":"ROUND(((CI171)*0.833333333)*1,0)","v":0},"TOTAL: C",null,"Without CAD",null,{"$f":"ROUND(((CN167)*0.625)*1,0)","v":241}]
[null,null,null,null,null,null,null,null,null,null,null,"With CAD",null,{"$f":"ROUND(((N169)*0.416666666)*1,0)","v":0},null,null,null,null,null,null,null,null,null,null,null,null,null,null,null,null,null,null,null,null,null,null,null,null,null,null,null,null,null,null,null,null,null,null,null,null,null,null,null,null,null,null,null,null,null,null,null,null,null,null,null,null,null,null,null,null,null,null,null,null,null,null,null,null,null,null,null,null,null,null,null,null,null,null,null,"With CAD",null,{"$f":"ROUND(((CN169)*0.416666666)*1,0)","v":244}]
[null,null,null,"/25",null,null,null,null,"/50",null,null,null,null,"/25",null,null,null,null,null,null,null,null,null,null,null,null,null,null,null,null,null,null,null,null,null,null,null,null,null,null,null,null,null,null,null,null,null,null,null,null,null,null,null,null,null,null,null,null,null,null,null,null,null,null,null,null,null,null,null,null,null,null,null,null,null,null,null,null,null,null,null,"/25",null,null,null,null,"/50",null,null,null,null,"/25"]
["TEACHER`S TOTAL:",null,null,"A+B+C WITHOUT CAD =  ",null,null,null,{"$f":"SUM((D174)+(I174)+(N174))","v":0},null,"A+B+C WITH CAD",null,null,{"$f":"SUM((D174)+(I174)+(N175))","v":0},null,null,null,null,null,null,null,null,null,null,null,null,null,null,null,null,null,null,null,null,null,null,null,null,null,null,null,null,null,null,null,null,null,null,null,null,null,null,null,null,null,null,null,null,null,null,null,null,null,null,null,null,null,null,null,null,null,null,null,null,null,null,null,null,null,"TEACHER`S TOTAL:",null,null,"A+B+C WITHOUT CAD =  ",null,null,null,{"$f":"SUM((CD174)+(CI174)+(CN174))","v":241},null,"A+B+C WITH CAD",null,null,{"$f":"SUM((CD174)+(CI174)+(CN175))","v":244}]
[null,null,null,null,null,null,null,"/100",null,null,null,null,"/100",null,null,null,null,null,null,null,null,null,null,null,null,null,null,null,null,null,null,null,null,null,null,null,null,null,null,null,null,null,null,null,null,null,null,null,null,null,null,null,null,null,null,null,null,null,null,null,null,null,null,null,null,null,null,null,null,null,null,null,null,null,null,null,null,null,null,null,null,null,null,null,null,"/100",null,null,null,null,"/100"]
["Moderated TOTAL",null,null,null,"Moderated TOTAL",null,null,null,null,"Moderated TOTAL",null,null,null,null,null,null,null,null,null,null,null,null,null,null,null,null,null,null,null,null,null,null,null,null,null,null,null,null,null,null,null,null,null,null,null,null,null,null,null,null,null,null,null,null,null,null,null,null,null,null,null,null,null,null,null,null,null,null,null,null,null,null,null,null,null,null,null,null,"Moderated TOTAL",null,null,null,"Moderated TOTAL",null,null,null,null,"Moderated TOTAL"]
["TOTAL: A",null,null,null,"TOTAL: B",null,null,null,null,"TOTAL: C",null,"Without CAD",null,null,null,null,null,null,null,null,null,null,null,null,null,null,null,null,null,null,null,null,null,null,null,null,null,null,null,null,null,null,null,null,null,null,null,null,null,null,null,null,null,null,null,null,null,null,null,null,null,null,null,null,null,null,null,null,null,null,null,null,null,null,null,null,null,null,"TOTAL: A",null,null,null,"TOTAL: B",null,null,null,null,"TOTAL: C",null,"Without CAD"]
[null,null,null,null,null,null,null,null,null,null,null,"With CAD",null,null,null,null,null,null,null,null,null,null,null,null,null,null,null,null,null,null,null,null,null,null,null,null,null,null,null,null,null,null,null,null,null,null,null,null,null,null,null,null,null,null,null,null,null,null,null,null,null,null,null,null,null,null,null,null,null,null,null,null,null,null,null,null,null,null,null,null,null,null,null,null,null,null,null,null,null,"With CAD"]
[null,null,null,"/25",null,null,null,null,"/50",null,null,null,null,"/25",null,null,null,null,null,null,null,null,null,null,null,null,null,null,null,null,null,null,null,null,null,null,null,null,null,null,null,null,null,null,null,null,null,null,null,null,null,null,null,null,null,null,null,null,null,null,null,null,null,null,null,null,null,null,null,null,null,null,null,null,null,null,null,null,null,null,null,"/25",null,null,null,null,"/50",null,null,null,null,"/25"]
["MODERATED TOTAL:",null,null,"A+B+C WITHOUT CAD =  ",null,null,null,null,null,"A+B+C WITH CAD",null,null,null,null,null,null,null,null,null,null,null,null,null,null,null,null,null,null,null,null,null,null,null,null,null,null,null,null,null,null,null,null,null,null,null,null,null,null,null,null,null,null,null,null,null,null,null,null,null,null,null,null,null,null,null,null,null,null,null,null,null,null,null,null,null,null,null,null,"MODERATED TOTAL:",null,null,"A+B+C WITHOUT CAD =  ",null,null,null,null,null,"A+B+C WITH CAD"]
[null,null,null,null,null,null,null,"/100",null,null,null,null,"/100",null,null,null,null,null,null,null,null,null,null,null,null,null,null,null,null,null,null,null,null,null,null,null,null,null,null,null,null,null,null,null,null,null,null,null,null,null,null,null,null,null,null,null,null,null,null,null,null,null,null,null,null,null,null,null,null,null,null,null,null,null,null,null,null,null,null,null,null,null,null,null,null,"/100",null,null,null,null,"/100"]

{"sheet":"PAT Mech Detailed","index":11,"n_rows":120,"n_cols":105,"rows_kept":120,"cut":false,"hidden":false,"merged":[[5,55,10,55],[5,56,10,56],[5,57,10,57],[5,58,10,58],[5,59,10,59],[5,60,10,60],[5,74,10,74],[5,75,10,75],[5,76,10,76],[5,61,10,61],[5,62,10,62],[5,73,10,73],[5,70,10,70],[5,71,10,71],[5,72,10,72],[5,63,10,63],[5,64,10,64],[5,65,10,65],[5,66,10,66],[5,67,10,67],[5,68,10,68],[5,69,10,69],[5,77,10,77],[5,78,10,78],[5,79,10,79],[5,80,10,80],[5,81,10,81],[5,82,10,82],[5,99,10,99],[5,83,10,83],[5,84,10,84],[5,85,10,85],[5,86,10,86],[5,87,10,87],[5,88,10,88],[5,89,10,89],[5,90,10,90],[5,91,10,91],[5,92,10,92],[5,93,10,93],[5,94,10,94],[5,95,10,95],[5,96,10,96],[5,97,10,97],[5,98,10,98],[5,26,10,26],[5,19,10,19],[5,39,10,39],[5,40,10,40],[5,29,10,29],[5,30,10,30],[5,31,10,31],[5,33,10,33],[5,34,10,34],[5,35,10,35],[5,36,10,36],[5,37,10,37],[3,103,10,103],[3,104,10,104],[3,67,4,79],[3,80,4,83],[3,84,4,86],[3,87,4,93],[3,94,4,95],[3,96,4,97],[119,1,119,4],[119,5,119,6],[13,1,13,6],[116,1,118,4],[116,5,116,6],[117,5,117,6],[118,5,118,6],[10,5,10,6],[5,15,10,15],[5,16,10,16],[5,54,10,54],[5,17,10,17],[4,48,4,54],[4,55,4,60],[4,61,4,66],[4,20,4,28],[4,29,4,37],[4,44,4,47],[5,13,10,13],[6,1,6,4],[6,5,6,6],[5,52,10,52],[5,53,10,53],[5,48,10,48],[5,49,10,49],[5,50,10,50],[5,51,10,51],[5,8,10,8],[5,9,10,9],[5,10,10,10],[5,11,10,11],[5,12,10,12],[5,14,10,14],[5,18,10,18],[5,20,10,20],[5,21,10,21],[5,22,10,22],[5,23,10,23],[5,24,10,24],[5,25,10,25],[116,102,118,102],[5,1,5,4],[5,5,5,6],[3,8,4,13],[3,14,4,19],[3,20,3,37],[3,38,4,43],[3,44,3,47],[3,48,3,66],[3,98,4,99],[3,100,10,100],[3,101,10,101],[3,102,10,102],[5,46,10,46],[5,47,10,47],[5,41,10,41],[5,42,10,42],[5,44,10,44],[5,45,10,45],[5,43,10,43],[5,27,10,27],[5,28,10,28],[5,38,10,38],[5,32,10,32]]}
[]
[null,null,null,null,null,null,null,null,null,null,null,null,null,null,null,null,null,null,null,null,null,null,null,null,null,null,null,null,null,null,null,null,null,null,null,null,null,null,null,null,null,null,null,null,null,null,null,null,null,null,null,null,null,null,"ENGINEERING GRAPHICS AND DESIGN"]
[null,null,null,null,null,null,null,null,null,null,null,null,null,null,null,null,null,null,null,null,null,null,null,null,null,null,null,null,null,null,null,null,null,null,null,null,null,null,null,null,null,null,null,null,null,null,null,null,null,null,null,null,null,null,"PROGRAM OF ASSESSMENT  :  PAT"]
[null,null,null,null,null,null,null,null,"1. Design Brief",null,null,null,null,null,"2. Research",null,null,null,null,null,"3. Freehand drawings of THREE possible design solutions",null,null,null,null,null,null,null,null,null,null,null,null,null,null,null,null,null,"4. Selecting the best freehand solution",null,null,null,null,null,"5. Working drawings and a pictorial drawing of selected solution",null,null,null,"5.1 Working drawings and a pictorial drawing of selected tool/instrument",null,null,null,null,null,null,null,null,null,null,null,null,null,null,null,null,null,null,"5.2 Detailed drawing of the selected improvement/modification/redesign of the main part(s)/component(s)",null,null,null,null,null,null,null,null,null,null,null,null,"5.3 Detailed isometric drawing",null,null,null,"6. Continuous self-evaluation and the meeting of deadlines",null,null,"7. Presentation of the complete PAT file/portfolio",null,null,null,null,null,null,"Freehand drawings",null,"Instrument drawings",null,"CAD drawings",null,"TOTAL for Design Process","TOTAL for Working Drawing","4 = NO CAD / 6 = CAD","TOTAL: DRAWING METHODS","TOTAL"]
[null,null,null,null,null,null,null,null,null,null,null,null,null,null,null,null,null,null,null,null,"Solution 1",null,null,null,null,null,null,null,null,"Solution 2",null,null,null,null,null,null,null,null,null,null,null,null,null,null,"Drawing sheet preparation",null,null,null,"5.1.1. Front view before any changes",null,null,null,null,null,null,"5.1.2. Second primary (main) view before any changes",null,null,null,null,null,"5.1.3 TWO other secondary views before any changes"]
[null,"School:",null,null,null,{"$f":"Insert!J3","v":0},null,null,{"$f":"'Mech Assessment'!$C$12","v":"1st paragraph: background and comprehensive description of what has to be designed"},{"$f":"'Mech Assessment'!$C$13","v":"2nd paragraph: your role and description of complete design process you are going to follow"},{"$f":"'Mech Assessment'!$C$14","v":"A list of ALL the specifications of the valve"},{"$f":"'Mech Assessment'!$C$15","v":"A list of at least THREE constraints of the valve"},{"$f":"'Mech Assessment'!$C$16","v":"A management plan with target dates for ALL the presentation requirements"},"TOTAL",{"$f":"'Mech Assessment'!$E$19","v":"Materials used for each component of the valve"},{"$f":"'Mech Assessment'!$E$20","v":"Design features/function/purpose of each component of the valve"},{"$f":"'Mech Assessment'!$E$21","v":"The components of another similar valve"},{"$f":"'Mech Assessment'!$B$22","v":"Clear evidence that the research was used in your design solutions"},{"$f":"'Mech Assessment'!$B$23","v":"A list of ALL references (Bibliography)"},"TOTAL",{"$f":"'Mech Assessment'!$D$26","v":"Third-angle orthographic views of the identified part(s)"},{"$f":"'Mech Assessment'!$D$27","v":"Isometric drawing of the identified part(s)"},{"$f":"'Mech Assessment'!$D$28","v":"Correct presentation of ALL the parts and features"},{"$f":"'Mech Assessment'!$D$29","v":"Relative proportion of ALL parts and features to each other"},{"$f":"'Mech Assessment'!$D$30","v":"Labels and explanatory notes"},{"$f":"'Mech Assessment'!$D$31","v":"Dimensioning"},{"$f":"'Mech Assessment'!$D$32","v":"Description of improvement/modification/re-design"},{"$f":"'Mech Assessment'!$D$33","v":"Functionality of the improvement/strengthening/modification"},"TOTAL",{"$f":"U6","v":"Third-angle orthographic views of the identified part(s)"},"Isometric drawing of the identified part(s)","Correct presentation of ALL the parts and features","Relative proportion of ALL parts and features to each other","Labels and explanatory notes","Dimensioning","Description of improvement/modification/re-design","Functionality of the improvement/strengthening/modification","TOTAL",{"$f":"'Mech Assessment'!$B$37","v":"An appropriate table created for the selection process"},{"$f":"'Mech Assessment'!$B$38","v":"A minimum of FOUR relevant and descriptive criteria that will facilitate measurable comparisons"},{"$f":"'Mech Assessment'!$B$39","v":"A simple rating scale created and used to score each solution against each criterion"},{"$f":"'Mech Assessment'!$B$40","v":"Each score justified by describing the positive or negative aspects against each criterion"},{"$f":"'Mech Assessment'!$B$41","v":"Comprehensive summary with reasons for selected solution (including possible late changes)"},"TOTAL",{"$f":"'Mech Assessment'!$B$45","v":"Appropriately sized drawing sheets"},{"$f":"'Mech Assessment'!$B$46","v":"Borders on all drawing sheets of all the working drawings"},{"$f":"'Mech Assessment'!$B$47","v":"Complete EGD NSC P2 Q1 compliant MECHANICAL TITLE BLOCK on the drawing sheet of 5.1."},"TOTAL",{"$f":"'Mech Assessment'!$C$51","v":"ALL the parts included and drawn correctly according to the actual valve"},{"$f":"'Mech Assessment'!$C$52","v":"ALL hatching detail or, if not sectioned, ALL external features"},{"$f":"'Mech Assessment'!$C$53","v":"ALL fasteners drawn correctly in ALL views"},{"$f":"'Mech Assessment'!$C$54","v":"Labels and notes on ALL views"},{"$f":"'Mech Assessment'!$C$55","v":"Projection symbol"},{"$f":"'Mech Assessment'!$C$56","v":"Suitable scale selected for the assembly drawing, and indicated correctly"},"TOTAL",{"$f":"'Mech Assessment'!$C$59","v":"ALL the components included and drawn correctly according to the actual valve"},{"$f":"'Mech Assessment'!$C$60","v":"All hatching detail or, if not sectioned, external features"},{"$f":"'Mech Assessment'!$C$61","v":"Dimensions on ALL views"},{"$f":"'Mech Assessment'!$C$62","v":"ALL centre lines included on ALL views"},{"$f":"'Mech Assessment'!$C$63","v":"ALL FOUR views drawn correctly in third-angle orthographic projection"},"TOTAL",{"$f":"'Mech Assessment'!$C$66","v":"Appropriate secondary views selected"},{"$f":"'Mech Assessment'!$C$67","v":"ALL the components included and drawn correctly according to the actual valve"},{"$f":"'Mech Assessment'!$C$68","v":"All hatching detail or, if not sectioned, external features"},{"$f":"'Mech Assessment'!$C$69","v":"TWO views sectioned or contain types of sections"},{"$f":"'Mech Assessment'!$C$70","v":"Correct cutting planes for the TWO sectional views and/or types of sections"},"TOTAL",{"$f":"'Mech Assessment'!$B$73","v":"Appropriate view selected as the FRONT VIEW, and is drawn correctly"},{"$f":"'Mech Assessment'!$B$74","v":"TWO other relevant VIEWS selected, and drawn correctly"},{"$f":"'Mech Assessment'!$B$75","v":"Improvement/Strengthening/Modification correlates with selected freehand solution"},{"$f":"'Mech Assessment'!$B$76","v":"Title, as well as comprehensive explanatory labels and notes"},{"$f":"'Mech Assessment'!$B$77","v":"Detailed dimensions"},{"$f":"'Mech Assessment'!$B$78","v":"ONE view sectioned, or contain types of sections, and drawn correctly"},{"$f":"'Mech Assessment'!$B$79","v":"Cutting plane(s)"},{"$f":"'Mech Assessment'!$B$80","v":"ALL hatching detail"},{"$f":"'Mech Assessment'!$B$81","v":"Relevant welding symbols and/or machining symbols and/or tolerances"},{"$f":"'Mech Assessment'!$B$82","v":"Projection symbol"},{"$f":"'Mech Assessment'!$B$83","v":"Suitable scale selected and indicated correctly"},{"$f":"'Mech Assessment'!$B$84","v":"Drawing in third-angle orthographic projection"},"TOTAL",{"$f":"'Mech Assessment'!$B$88","v":"Suitable scale selected"},{"$f":"'Mech Assessment'!$B$89","v":"Evidence of ALL auxiliary views and constructions used for the drawing"},{"$f":"'Mech Assessment'!$B$90","v":"Detail and correctness of the isometric drawing"},"TOTAL",{"$f":"'Mech Assessment'!$B$93","v":"Checklist completed as evidence of continuous self-evaluation                             (mark out of 10 ÷ 2)"},{"$f":"'Mech Assessment'!$B$94","v":"The meeting of ALL the submission deadlines                                                       (mark out of 10 ÷ 2)"},"TOTAL",{"$f":"'Mech Assessment'!$B$97","v":"Complete cover page with a copy of the isometric drawing"},{"$f":"'Mech Assessment'!$B$98","v":"Complete index (table of content)"},{"$f":"'Mech Assessment'!$B$99","v":"Completed summative assessment sheet and declaration"},{"$f":"'Mech Assessment'!$B$100","v":"Correct sequencing of ALL presentation requirements"},{"$f":"'Mech Assessment'!$B$101","v":"Name and numbering on ALL the presentation requirements"},{"$f":"'Mech Assessment'!$B$102","v":"General impression of file/portfolio, e.g. binding, appearance, etc.                       (mark out of 10 ÷ 2)"},"TOTAL",{"$f":"'Mech Assessment'!$B$106","v":"Freehand drawing methods and skills                                              (See ANNEXURE A on page 24)\nNOTE:  • No evidence of grid/graph paper used = max. 7 marks, even if drawn excellently\n              • Not drawn in freehand = 0 marks, & some evidence of instruments used = max. 5 marks"},{"$f":"'Mech Assessment'!$B$107","v":"Neatness (2) + correct line types used (2) + line consistency (2) + printing (2) + dimensioning (2)\n(Also see ANNEXURE A on page 24)"},{"$f":"'Mech Assessment'!$B$110","v":"Use of drawing instruments, drawing methods and skills                   (See ANNEXURE A on page 24)"},{"$f":"'Mech Assessment'!$B$111","v":"Neatness (2) + correct line types used (2) + line consistency (2) + printing (2) + dimensioning (2)\n(Also see ANNEXURE A on page 24)"},{"$f":"'Mech Assessment'!$B$114","v":"Competence displayed in using a CAD program                               (See ANNEXURE A on page 25)"},{"$f":"'Mech Assessment'!$B$115","v":"Layout and correctness of the drawings presentation                       (See ANNEXURE A on page 25)"}]
[null,"Grade:",null,null,null,{"$f":"Insert!J4","v":0}]
[null,null,"Requirement not met, or less than 30% evidence of knowledge shown (very poor)",null,"Teacher:",{"$f":"Insert!J5","v":0}]
[null,null,"Requirement included and at least 30%+ evidence of knowledge shown (avg.)",null,"HOD:",{"$f":"Insert!J6","v":0}]
[null,null,"Presentation shows at least 80% or more evidence of knowledge (very good)",null,"EGD SES:",{"$f":"Insert!J7","v":0},{"$f":"Insert!K7","v":0}]
[]
[null,null,null,"Class","Admission","SURNAME","NAME","GENDER",{"$f":"'Mech Assessment'!$M$12","v":2},{"$f":"'Mech Assessment'!$M$13","v":2},{"$f":"'Mech Assessment'!$M$14","v":2},{"$f":"'Mech Assessment'!$M$15","v":2},{"$f":"'Mech Assessment'!$M$16","v":2},{"$f":"SUM(I12:M12)","v":10},{"$f":"'Mech Assessment'!$M$19","v":2},{"$f":"'Mech Assessment'!$M$20","v":2},{"$f":"'Mech Assessment'!$M$21","v":2},{"$f":"'Mech Assessment'!$M$22","v":2},{"$f":"'Mech Assessment'!$M$23","v":2},{"$f":"SUM(O12:S12)","v":10},{"$f":"'Mech Assessment'!$M$26","v":2},{"$f":"'Mech Assessment'!$M$27","v":2},{"$f":"'Mech Assessment'!$M$28","v":1},{"$f":"'Mech Assessment'!$M$29","v":2},{"$f":"'Mech Assessment'!$M$30","v":2},{"$f":"'Mech Assessment'!$M$31","v":2},{"$f":"'Mech Assessment'!$M$32","v":2},{"$f":"'Mech Assessment'!$M$33","v":2},{"$f":"ROUND((SUM(U12:AB12)/1.5),0)","v":10},{"$f":"U12","v":2},2,1,2,2,2,2,2,{"$f":"ROUND((SUM(AD12:AK13)/1.5),0)","v":10},{"$f":"'Mech Assessment'!$M$37","v":2},{"$f":"'Mech Assessment'!$M$38","v":2},{"$f":"'Mech Assessment'!$M$39","v":2},{"$f":"'Mech Assessment'!$M$40","v":2},{"$f":"'Mech Assessment'!$M$41","v":2},{"$f":"SUM(AM12:AQ12)","v":10},{"$f":"'Mech Assessment'!$M$45","v":1},{"$f":"'Mech Assessment'!$M$46","v":2},{"$f":"'Mech Assessment'!$M$47","v":7},{"$f":"SUM(AS12:AU12)","v":10},{"$f":"'Mech Assessment'!$M$51","v":2},{"$f":"'Mech Assessment'!$M$52","v":2},{"$f":"'Mech Assessment'!$M$53","v":2},{"$f":"'Mech Assessment'!$M$54","v":2},{"$f":"'Mech Assessment'!$M$55","v":1},{"$f":"'Mech Assessment'!$M$56","v":1},{"$f":"ROUND((SUM(AW12:BB12)),0)","v":10},{"$f":"'Mech Assessment'!$M$59","v":2},{"$f":"'Mech Assessment'!$M$60","v":2},{"$f":"'Mech Assessment'!$M$61","v":2},{"$f":"'Mech Assessment'!$M$62","v":2},{"$f":"'Mech Assessment'!$M$63","v":2},{"$f":"ROUND((SUM(BD12:BH12)),0)","v":10},{"$f":"'Mech Assessment'!$M$66","v":2},{"$f":"'Mech Assessment'!$M$67","v":2},{"$f":"'Mech Assessment'!$M$68","v":2},{"$f":"'Mech Assessment'!$M$69","v":2},{"$f":"'Mech Assessment'!$M$70","v":2},{"$f":"SUM(BJ12:BN12)","v":10},{"$f":"'Mech Assessment'!$M$73","v":2},{"$f":"'Mech Assessment'!$M$74","v":2},{"$f":"'Mech Assessment'!$M$75","v":2},{"$f":"'Mech Assessment'!$M$76","v":2},{"$f":"'Mech Assessment'!$M$77","v":2},{"$f":"'Mech Assessment'!$M$78","v":2},{"$f":"'Mech Assessment'!$M$79","v":1},{"$f":"'Mech Assessment'!$M$80","v":2},{"$f":"'Mech Assessment'!$M$81","v":2},{"$f":"'Mech Assessment'!$M$82","v":1},{"$f":"'Mech Assessment'!$M$83","v":1},{"$f":"'Mech Assessment'!$M$84","v":1},{"$f":"SUM(BP12:CA12)/2","v":10},{"$f":"'Mech Assessment'!$M$88","v":1},{"$f":"'Mech Assessment'!$M$89","v":2},{"$f":"'Mech Assessment'!$M$90","v":7},{"$f":"SUM(CC12:CE12)","v":10},{"$f":"'Mech Assessment'!$M$93","v":5},{"$f":"'Mech Assessment'!$M$94","v":5},{"$f":"SUM(CG12:CH12)","v":10},{"$f":"'Mech Assessment'!$M$97","v":1},{"$f":"'Mech Assessment'!$M$98","v":1},{"$f":"'Mech Assessment'!$M$99","v":1},{"$f":"'Mech Assessment'!$M$100","v":1},{"$f":"'Mech Assessment'!$M$101","v":1},{"$f":"'Mech Assessment'!$M$102","v":5},{"$f":"SUM(CJ12:CO12)","v":10},{"$f":"'Mech Assessment'!$M$106","v":10},{"$f":"'Mech Assessment'!$M$107","v":10},{"$f":"'Mech Assessment'!$M$110","v":10},{"$f":"'Mech Assessment'!$M$111","v":10},{"$f":"'Mech Assessment'!$M$114","v":10},{"$f":"'Mech Assessment'!$M$115","v":10},{"$f":"ROUND((SUM(N12+T12+AC12+AL12+AR12+CI12+CP12)/2.8),0)","v":25},{"$f":"ROUND((SUM(AV12+BC12+BI12+BO12+CB12+CF12)/1.2),0)","v":50},null,25,{"$f":"SUM(CW12+CX12+CZ12)","v":100}]
[]
[null,null,null,null,null,null,null,"DATE:"]
[]
[1,1,1,{"$f":"Insert!A3","v":0},{"$f":"Insert!B3","v":0},{"$f":"Insert!C3","v":0},{"$f":"Insert!D3","v":0},{"$f":"Insert!E3","v":0},null,null,null,null,null,{"$f":"SUM(I16:M16)","v":0},null,null,null,null,null,{"$f":"SUM(O16:S16)","v":0},null,null,null,null,null,null,null,null,{"$f":"ROUND((SUM(U16:AB16)/1.5),0)","v":0},null,null,null,null,null,null,null,null,{"$f":"ROUND((SUM(AD16:AK16)/1.5),0)","v":0},null,null,null,null,null,{"$f":"SUM(AM16:AQ16)","v":0},null,null,null,{"$f":"SUM(AS16:AU16)","v":0},null,null,null,null,null,null,{"$f":"ROUND((SUM(AW16:BB16)),0)","v":0},null,null,null,null,null,{"$f":"ROUND((SUM(BD16:BH16)),0)","v":0},null,null,null,null,null,{"$f":"SUM(BJ16:BN16)","v":0},null,null,null,null,null,null,null,null,null,null,null,null,{"$f":"SUM(BP16:CA16)/2","v":0},null,null,null,{"$f":"SUMIF(CC16:CE16,\">0\")","v":0},null,null,{"$f":"SUM(CG16:CH16)","v":0},null,null,null,null,null,null,{"$f":"SUM(CJ16:CO16)","v":0},null,null,null,null,null,null,{"$f":"ROUND((SUM(N16+T16+AC16+AL16+AR16+CI16+CP16)/2.8),0)","v":0},{"$f":"ROUND((SUM(AV16+BC16+BI16+BO16+CB16+CF16)/1.2),0)","v":0},{"$f":"COUNTIF(CQ16:CV16,\">0\")","v":0},{"$f":"ROUND(IF(CY16=4,SUM(CQ16:CT16)/1.6,IF(CY16=6,SUMIF(CQ16:CV16,\">0\")/2.4,SUM(CQ16:CT16))),0)","v":0},{"$f":"SUM(CW16+CX16+CZ16)","v":0}]
[2,2,2,{"$f":"Insert!A4","v":0},{"$f":"Insert!B4","v":0},{"$f":"Insert!C4","v":0},{"$f":"Insert!D4","v":0},{"$f":"Insert!E4","v":0},null,null,null,null,null,0,null,null,null,null,null,0,null,null,null,null,null,null,null,null,0,null,null,null,null,null,null,null,null,0,null,null,null,null,null,0,null,null,null,0,null,null,null,null,null,null,0,null,null,null,null,null,0,null,null,null,null,null,0,null,null,null,null,null,null,null,null,null,null,null,null,0,null,null,null,0,null,null,0,null,null,null,null,null,null,0,null,null,null,null,null,null,0,0,0,0,0]
[3,3,3,{"$f":"Insert!A5","v":0},{"$f":"Insert!B5","v":0},{"$f":"Insert!C5","v":0},{"$f":"Insert!D5","v":0},{"$f":"Insert!E5","v":0},null,null,null,null,null,0,null,null,null,null,null,0,null,null,null,null,null,null,null,null,0,null,null,null,null,null,null,null,null,0,null,null,null,null,null,0,null,null,null,0,null,null,null,null,null,null,0,null,null,null,null,null,0,null,null,null,null,null,0,null,null,null,null,null,null,null,null,null,null,null,null,0,null,null,null,0,null,null,0,null,null,null,null,null,null,0,null,null,null,null,null,null,0,0,0,0,0]
[4,4,4,{"$f":"Insert!A6","v":0},{"$f":"Insert!B6","v":0},{"$f":"Insert!C6","v":0},{"$f":"Insert!D6","v":0},{"$f":"Insert!E6","v":0},null,null,null,null,null,0,null,null,null,null,null,0,null,null,null,null,null,null,null,null,0,null,null,null,null,null,null,null,null,0,null,null,null,null,null,0,null,null,null,0,null,null,null,null,null,null,0,null,null,null,null,null,0,null,null,null,null,null,0,null,null,null,null,null,null,null,null,null,null,null,null,0,null,null,null,0,null,null,0,null,null,null,null,null,null,0,null,null,null,null,null,null,0,0,0,0,0]
[5,5,5,{"$f":"Insert!A7","v":0},{"$f":"Insert!B7","v":0},{"$f":"Insert!C7","v":0},{"$f":"Insert!D7","v":0},{"$f":"Insert!E7","v":0},null,null,null,null,null,0,null,null,null,null,null,0,null,null,null,null,null,null,null,null,0,null,null,null,null,null,null,null,null,0,null,null,null,null,null,0,null,null,null,0,null,null,null,null,null,null,0,null,null,null,null,null,0,null,null,null,null,null,0,null,null,null,null,null,null,null,null,null,null,null,null,0,null,null,null,0,null,null,0,null,null,null,null,null,null,0,null,null,null,null,null,null,0,0,0,0,0]
[6,6,6,{"$f":"Insert!A8","v":0},{"$f":"Insert!B8","v":0},{"$f":"Insert!C8","v":0},{"$f":"Insert!D8","v":0},{"$f":"Insert!E8","v":0},null,null,null,null,null,0,null,null,null,null,null,0,null,null,null,null,null,null,null,null,0,null,null,null,null,null,null,null,null,0,null,null,null,null,null,0,null,null,null,0,null,null,null,null,null,null,0,null,null,null,null,null,0,null,null,null,null,null,0,null,null,null,null,null,null,null,null,null,null,null,null,0,null,null,null,0,null,null,0,null,null,null,null,null,null,0,null,null,null,null,null,null,0,0,0,0,0]
[7,7,7,{"$f":"Insert!A9","v":0},{"$f":"Insert!B9","v":0},{"$f":"Insert!C9","v":0},{"$f":"Insert!D9","v":0},{"$f":"Insert!E9","v":0},null,null,null,null,null,0,null,null,null,null,null,0,null,null,null,null,null,null,null,null,0,null,null,null,null,null,null,null,null,0,null,null,null,null,null,0,null,null,null,0,null,null,null,null,null,null,0,null,null,null,null,null,0,null,null,null,null,null,0,null,null,null,null,null,null,null,null,null,null,null,null,0,null,null,null,0,null,null,0,null,null,null,null,null,null,0,null,null,null,null,null,null,0,0,0,0,0]
[8,8,8,{"$f":"Insert!A10","v":0},{"$f":"Insert!B10","v":0},{"$f":"Insert!C10","v":0},{"$f":"Insert!D10","v":0},{"$f":"Insert!E10","v":0},null,null,null,null,null,0,null,null,null,null,null,0,null,null,null,null,null,null,null,null,0,null,null,null,null,null,null,null,null,0,null,null,null,null,null,0,null,null,null,0,null,null,null,null,null,null,0,null,null,null,null,null,0,null,null,null,null,null,0,null,null,null,null,null,null,null,null,null,null,null,null,0,null,null,null,0,null,null,0,null,null,null,null,null,null,0,null,null,null,null,null,null,0,0,0,0,0]
[9,9,9,{"$f":"Insert!A11","v":0},{"$f":"Insert!B11","v":0},{"$f":"Insert!C11","v":0},{"$f":"Insert!D11","v":0},{"$f":"Insert!E11","v":0},null,null,null,null,null,0,null,null,null,null,null,0,null,null,null,null,null,null,null,null,0,null,null,null,null,null,null,null,null,0,null,null,null,null,null,0,null,null,null,0,null,null,null,null,null,null,0,null,null,null,null,null,0,null,null,null,null,null,0,null,null,null,null,null,null,null,null,null,null,null,null,0,null,null,null,0,null,null,0,null,null,null,null,null,null,0,null,null,null,null,null,null,0,0,0,0,0]
[10,10,10,{"$f":"Insert!A12","v":0},{"$f":"Insert!B12","v":0},{"$f":"Insert!C12","v":0},{"$f":"Insert!D12","v":0},{"$f":"Insert!E12","v":0},null,null,null,null,null,0,null,null,null,null,null,0,null,null,null,null,null,null,null,null,0,null,null,null,null,null,null,null,null,0,null,null,null,null,null,0,null,null,null,0,null,null,null,null,null,null,0,null,null,null,null,null,0,null,null,null,null,null,0,null,null,null,null,null,null,null,null,null,null,null,null,0,null,null,null,0,null,null,0,null,null,null,null,null,null,0,null,null,null,null,null,null,0,0,0,0,0]
[11,11,11,{"$f":"Insert!A13","v":0},{"$f":"Insert!B13","v":0},{"$f":"Insert!C13","v":0},{"$f":"Insert!D13","v":0},{"$f":"Insert!E13","v":0},null,null,null,null,null,0,null,null,null,null,null,0,null,null,null,null,null,null,null,null,0,null,null,null,null,null,null,null,null,0,null,null,null,null,null,0,null,null,null,0,null,null,null,null,null,null,0,null,null,null,null,null,0,null,null,null,null,null,0,null,null,null,null,null,null,null,null,null,null,null,null,0,null,null,null,0,null,null,0,null,null,null,null,null,null,0,null,null,null,null,null,null,0,0,0,0,0]
[12,12,12,{"$f":"Insert!A14","v":0},{"$f":"Insert!B14","v":0},{"$f":"Insert!C14","v":0},{"$f":"Insert!D14","v":0},{"$f":"Insert!E14","v":0},null,null,null,null,null,0,null,null,null,null,null,0,null,null,null,null,null,null,null,null,0,null,null,null,null,null,null,null,null,0,null,null,null,null,null,0,null,null,null,0,null,null,null,null,null,null,0,null,null,null,null,null,0,null,null,null,null,null,0,null,null,null,null,null,null,null,null,null,null,null,null,0,null,null,null,0,null,null,0,null,null,null,null,null,null,0,null,null,null,null,null,null,0,0,0,0,0]
[13,13,13,{"$f":"Insert!A15","v":0},{"$f":"Insert!B15","v":0},{"$f":"Insert!C15","v":0},{"$f":"Insert!D15","v":0},{"$f":"Insert!E15","v":0},null,null,null,null,null,0,null,null,null,null,null,0,null,null,null,null,null,null,null,null,0,null,null,null,null,null,null,null,null,0,null,null,null,null,null,0,null,null,null,0,null,null,null,null,null,null,0,null,null,null,null,null,0,null,null,null,null,null,0,null,null,null,null,null,null,null,null,null,null,null,null,0,null,null,null,0,null,null,0,null,null,null,null,null,null,0,null,null,null,null,null,null,0,0,0,0,0]
[14,14,14,{"$f":"Insert!A16","v":0},{"$f":"Insert!B16","v":0},{"$f":"Insert!C16","v":0},{"$f":"Insert!D16","v":0},{"$f":"Insert!E16","v":0},null,null,null,null,null,0,null,null,null,null,null,0,null,null,null,null,null,null,null,null,0,null,null,null,null,null,null,null,null,0,null,null,null,null,null,0,null,null,null,0,null,null,null,null,null,null,0,null,null,null,null,null,0,null,null,null,null,null,0,null,null,null,null,null,null,null,null,null,null,null,null,0,null,null,null,0,null,null,0,null,null,null,null,null,null,0,null,null,null,null,null,null,0,0,0,0,0]
[15,15,15,{"$f":"Insert!A17","v":0},{"$f":"Insert!B17","v":0},{"$f":"Insert!C17","v":0},{"$f":"Insert!D17","v":0},{"$f":"Insert!E17","v":0},null,null,null,null,null,0,null,null,null,null,null,0,null,null,null,null,null,null,null,null,0,null,null,null,null,null,null,null,null,0,null,null,null,null,null,0,null,null,null,0,null,null,null,null,null,null,0,null,null,null,null,null,0,null,null,null,null,null,0,null,null,null,null,null,null,null,null,null,null,null,null,0,null,null,null,0,null,null,0,null,null,null,null,null,null,0,null,null,null,null,null,null,0,0,0,0,0]
[16,16,16,{"$f":"Insert!A18","v":0},{"$f":"Insert!B18","v":0},{"$f":"Insert!C18","v":0},{"$f":"Insert!D18","v":0},{"$f":"Insert!E18","v":0},null,null,null,null,null,0,null,null,null,null,null,0,null,null,null,null,null,null,null,null,0,null,null,null,null,null,null,null,null,0,null,null,null,null,null,0,null,null,null,0,null,null,null,null,null,null,0,null,null,null,null,null,0,null,null,null,null,null,0,null,null,null,null,null,null,null,null,null,null,null,null,0,null,null,null,0,null,null,0,null,null,null,null,null,null,0,null,null,null,null,null,null,0,0,0,0,0]
[17,17,17,{"$f":"Insert!A19","v":0},{"$f":"Insert!B19","v":0},{"$f":"Insert!C19","v":0},{"$f":"Insert!D19","v":0},{"$f":"Insert!E19","v":0},null,null,null,null,null,0,null,null,null,null,null,0,null,null,null,null,null,null,null,null,0,null,null,null,null,null,null,null,null,0,null,null,null,null,null,0,null,null,null,0,null,null,null,null,null,null,0,null,null,null,null,null,0,null,null,null,null,null,0,null,null,null,null,null,null,null,null,null,null,null,null,0,null,null,null,0,null,null,0,null,null,null,null,null,null,0,null,null,null,null,null,null,0,0,0,0,0]
[18,18,18,{"$f":"Insert!A20","v":0},{"$f":"Insert!B20","v":0},{"$f":"Insert!C20","v":0},{"$f":"Insert!D20","v":0},{"$f":"Insert!E20","v":0},null,null,null,null,null,0,null,null,null,null,null,0,null,null,null,null,null,null,null,null,0,null,null,null,null,null,null,null,null,0,null,null,null,null,null,0,null,null,null,0,null,null,null,null,null,null,0,null,null,null,null,null,0,null,null,null,null,null,0,null,null,null,null,null,null,null,null,null,null,null,null,0,null,null,null,0,null,null,0,null,null,null,null,null,null,0,null,null,null,null,null,null,0,0,0,0,0]
[19,19,19,{"$f":"Insert!A21","v":0},{"$f":"Insert!B21","v":0},{"$f":"Insert!C21","v":0},{"$f":"Insert!D21","v":0},{"$f":"Insert!E21","v":0},null,null,null,null,null,0,null,null,null,null,null,0,null,null,null,null,null,null,null,null,0,null,null,null,null,null,null,null,null,0,null,null,null,null,null,0,null,null,null,0,null,null,null,null,null,null,0,null,null,null,null,null,0,null,null,null,null,null,0,null,null,null,null,null,null,null,null,null,null,null,null,0,null,null,null,0,null,null,0,null,null,null,null,null,null,0,null,null,null,null,null,null,0,0,0,0,0]
[20,20,20,{"$f":"Insert!A22","v":0},{"$f":"Insert!B22","v":0},{"$f":"Insert!C22","v":0},{"$f":"Insert!D22","v":0},{"$f":"Insert!E22","v":0},null,null,null,null,null,0,null,null,null,null,null,0,null,null,null,null,null,null,null,null,0,null,null,null,null,null,null,null,null,0,null,null,null,null,null,0,null,null,null,0,null,null,null,null,null,null,0,null,null,null,null,null,0,null,null,null,null,null,0,null,null,null,null,null,null,null,null,null,null,null,null,0,null,null,null,0,null,null,0,null,null,null,null,null,null,0,null,null,null,null,null,null,0,0,0,0,0]
[21,21,21,{"$f":"Insert!A23","v":0},{"$f":"Insert!B23","v":0},{"$f":"Insert!C23","v":0},{"$f":"Insert!D23","v":0},{"$f":"Insert!E23","v":0},null,null,null,null,null,0,null,null,null,null,null,0,null,null,null,null,null,null,null,null,0,null,null,null,null,null,null,null,null,0,null,null,null,null,null,0,null,null,null,0,null,null,null,null,null,null,0,null,null,null,null,null,0,null,null,null,null,null,0,null,null,null,null,null,null,null,null,null,null,null,null,0,null,null,null,0,null,null,0,null,null,null,null,null,null,0,null,null,null,null,null,null,0,0,0,0,0]
[22,22,22,{"$f":"Insert!A24","v":0},{"$f":"Insert!B24","v":0},{"$f":"Insert!C24","v":0},{"$f":"Insert!D24","v":0},{"$f":"Insert!E24","v":0},null,null,null,null,null,0,null,null,null,null,null,0,null,null,null,null,null,null,null,null,0,null,null,null,null,null,null,null,null,0,null,null,null,null,null,0,null,null,null,0,null,null,null,null,null,null,0,null,null,null,null,null,0,null,null,null,null,null,0,null,null,null,null,null,null,null,null,null,null,null,null,0,null,null,null,0,null,null,0,null,null,null,null,null,null,0,null,null,null,null,null,null,0,0,0,0,0]
[23,23,23,{"$f":"Insert!A25","v":0},{"$f":"Insert!B25","v":0},{"$f":"Insert!C25","v":0},{"$f":"Insert!D25","v":0},{"$f":"Insert!E25","v":0},null,null,null,null,null,0,null,null,null,null,null,0,null,null,null,null,null,null,null,null,0,null,null,null,null,null,null,null,null,0,null,null,null,null,null,0,null,null,null,0,null,null,null,null,null,null,0,null,null,null,null,null,0,null,null,null,null,null,0,null,null,null,null,null,null,null,null,null,null,null,null,0,null,null,null,0,null,null,0,null,null,null,null,null,null,0,null,null,null,null,null,null,0,0,0,0,0]
[24,24,24,{"$f":"Insert!A26","v":0},{"$f":"Insert!B26","v":0},{"$f":"Insert!C26","v":0},{"$f":"Insert!D26","v":0},{"$f":"Insert!E26","v":0},null,null,null,null,null,0,null,null,null,null,null,0,null,null,null,null,null,null,null,null,0,null,null,null,null,null,null,null,null,0,null,null,null,null,null,0,null,null,null,0,null,null,null,null,null,null,0,null,null,null,null,null,0,null,null,null,null,null,0,null,null,null,null,null,null,null,null,null,null,null,null,0,null,null,null,0,null,null,0,null,null,null,null,null,null,0,null,null,null,null,null,null,0,0,0,0,0]
[25,25,25,{"$f":"Insert!A27","v":0},{"$f":"Insert!B27","v":0},{"$f":"Insert!C27","v":0},{"$f":"Insert!D27","v":0},{"$f":"Insert!E27","v":0},null,null,null,null,null,0,null,null,null,null,null,0,null,null,null,null,null,null,null,null,0,null,null,null,null,null,null,null,null,0,null,null,null,null,null,0,null,null,null,0,null,null,null,null,null,null,0,null,null,null,null,null,0,null,null,null,null,null,0,null,null,null,null,null,null,null,null,null,null,null,null,0,null,null,null,0,null,null,0,null,null,null,null,null,null,0,null,null,null,null,null,null,0,0,0,0,0]
[26,26,26,{"$f":"Insert!A28","v":0},{"$f":"Insert!B28","v":0},{"$f":"Insert!C28","v":0},{"$f":"Insert!D28","v":0},{"$f":"Insert!E28","v":0},null,null,null,null,null,0,null,null,null,null,null,0,null,null,null,null,null,null,null,null,0,null,null,null,null,null,null,null,null,0,null,null,null,null,null,0,null,null,null,0,null,null,null,null,null,null,0,null,null,null,null,null,0,null,null,null,null,null,0,null,null,null,null,null,null,null,null,null,null,null,null,0,null,null,null,0,null,null,0,null,null,null,null,null,null,0,null,null,null,null,null,null,0,0,0,0,0]
[27,27,27,{"$f":"Insert!A29","v":0},{"$f":"Insert!B29","v":0},{"$f":"Insert!C29","v":0},{"$f":"Insert!D29","v":0},{"$f":"Insert!E29","v":0},null,null,null,null,null,0,null,null,null,null,null,0,null,null,null,null,null,null,null,null,0,null,null,null,null,null,null,null,null,0,null,null,null,null,null,0,null,null,null,0,null,null,null,null,null,null,0,null,null,null,null,null,0,null,null,null,null,null,0,null,null,null,null,null,null,null,null,null,null,null,null,0,null,null,null,0,null,null,0,null,null,null,null,null,null,0,null,null,null,null,null,null,0,0,0,0,0]
[28,28,28,{"$f":"Insert!A30","v":0},{"$f":"Insert!B30","v":0},{"$f":"Insert!C30","v":0},{"$f":"Insert!D30","v":0},{"$f":"Insert!E30","v":0},null,null,null,null,null,0,null,null,null,null,null,0,null,null,null,null,null,null,null,null,0,null,null,null,null,null,null,null,null,0,null,null,null,null,null,0,null,null,null,0,null,null,null,null,null,null,0,null,null,null,null,null,0,null,null,null,null,null,0,null,null,null,null,null,null,null,null,null,null,null,null,0,null,null,null,0,null,null,0,null,null,null,null,null,null,0,null,null,null,null,null,null,0,0,0,0,0]
[29,29,29,{"$f":"Insert!A31","v":0},{"$f":"Insert!B31","v":0},{"$f":"Insert!C31","v":0},{"$f":"Insert!D31","v":0},{"$f":"Insert!E31","v":0},null,null,null,null,null,0,null,null,null,null,null,0,null,null,null,null,null,null,null,null,0,null,null,null,null,null,null,null,null,0,null,null,null,null,null,0,null,null,null,0,null,null,null,null,null,null,0,null,null,null,null,null,0,null,null,null,null,null,0,null,null,null,null,null,null,null,null,null,null,null,null,0,null,null,null,0,null,null,0,null,null,null,null,null,null,0,null,null,null,null,null,null,0,0,0,0,0]
[30,30,30,{"$f":"Insert!A32","v":0},{"$f":"Insert!B32","v":0},{"$f":"Insert!C32","v":0},{"$f":"Insert!D32","v":0},{"$f":"Insert!E32","v":0},null,null,null,null,null,0,null,null,null,null,null,0,null,null,null,null,null,null,null,null,0,null,null,null,null,null,null,null,null,0,null,null,null,null,null,0,null,null,null,0,null,null,null,null,null,null,0,null,null,null,null,null,0,null,null,null,null,null,0,null,null,null,null,null,null,null,null,null,null,null,null,0,null,null,null,0,null,null,0,null,null,null,null,null,null,0,null,null,null,null,null,null,0,0,0,0,0]
[31,31,31,{"$f":"Insert!A33","v":0},{"$f":"Insert!B33","v":0},{"$f":"Insert!C33","v":0},{"$f":"Insert!D33","v":0},{"$f":"Insert!E33","v":0},null,null,null,null,null,0,null,null,null,null,null,0,null,null,null,null,null,null,null,null,0,null,null,null,null,null,null,null,null,0,null,null,null,null,null,0,null,null,null,0,null,null,null,null,null,null,0,null,null,null,null,null,0,null,null,null,null,null,0,null,null,null,null,null,null,null,null,null,null,null,null,0,null,null,null,0,null,null,0,null,null,null,null,null,null,0,null,null,null,null,null,null,0,0,0,0,0]
[32,32,32,{"$f":"Insert!A34","v":0},{"$f":"Insert!B34","v":0},{"$f":"Insert!C34","v":0},{"$f":"Insert!D34","v":0},{"$f":"Insert!E34","v":0},null,null,null,null,null,0,null,null,null,null,null,0,null,null,null,null,null,null,null,null,0,null,null,null,null,null,null,null,null,0,null,null,null,null,null,0,null,null,null,0,null,null,null,null,null,null,0,null,null,null,null,null,0,null,null,null,null,null,0,null,null,null,null,null,null,null,null,null,null,null,null,0,null,null,null,0,null,null,0,null,null,null,null,null,null,0,null,null,null,null,null,null,0,0,0,0,0]
[33,33,33,{"$f":"Insert!A35","v":0},{"$f":"Insert!B35","v":0},{"$f":"Insert!C35","v":0},{"$f":"Insert!D35","v":0},{"$f":"Insert!E35","v":0},null,null,null,null,null,{"$f":"SUM(I48:M48)","v":0},null,null,null,null,null,{"$f":"SUM(O48:S48)","v":0},null,null,null,null,null,null,null,null,{"$f":"ROUND((SUM(U48:AB48)/1.5),0)","v":0},null,null,null,null,null,null,null,null,{"$f":"ROUND((SUM(AD48:AK48)/1.5),0)","v":0},null,null,null,null,null,{"$f":"SUM(AM48:AQ48)","v":0},null,null,null,{"$f":"SUM(AS48:AU48)","v":0},null,null,null,null,null,null,{"$f":"ROUND((SUM(AW48:BB48)),0)","v":0},null,null,null,null,null,{"$f":"ROUND((SUM(BD48:BH48)),0)","v":0},null,null,null,null,null,{"$f":"SUM(BJ48:BN48)","v":0},null,null,null,null,null,null,null,null,null,null,null,null,{"$f":"SUM(BP48:CA48)/2","v":0},null,null,null,{"$f":"SUMIF(CC48:CE48,\">0\")","v":0},null,null,{"$f":"SUM(CG48:CH48)","v":0},null,null,null,null,null,null,{"$f":"SUM(CJ48:CO48)","v":0},null,null,null,null,null,null,{"$f":"ROUND((SUM(N48+T48+AC48+AL48+AR48+CI48+CP48)/2.8),0)","v":0},{"$f":"ROUND((SUM(AV48+BC48+BI48+BO48+CB48+CF48)/1.2),0)","v":0},{"$f":"COUNTIF(CQ48:CV48,\">0\")","v":0},{"$f":"ROUND(IF(CY48=4,SUM(CQ48:CT48)/1.6,IF(CY48=6,SUMIF(CQ48:CV48,\">0\")/2.4,SUM(CQ48:CT48))),0)","v":0},{"$f":"SUM(CW48+CX48+CZ48)","v":0}]
[34,34,34,{"$f":"Insert!A36","v":0},{"$f":"Insert!B36","v":0},{"$f":"Insert!C36","v":0},{"$f":"Insert!D36","v":0},{"$f":"Insert!E36","v":0},null,null,null,null,null,0,null,null,null,null,null,0,null,null,null,null,null,null,null,null,0,null,null,null,null,null,null,null,null,0,null,null,null,null,null,0,null,null,null,0,null,null,null,null,null,null,0,null,null,null,null,null,0,null,null,null,null,null,0,null,null,null,null,null,null,null,null,null,null,null,null,0,null,null,null,0,null,null,0,null,null,null,null,null,null,0,null,null,null,null,null,null,0,0,0,0,0]
[35,35,35,{"$f":"Insert!A37","v":0},{"$f":"Insert!B37","v":0},{"$f":"Insert!C37","v":0},{"$f":"Insert!D37","v":0},{"$f":"Insert!E37","v":0},null,null,null,null,null,0,null,null,null,null,null,0,null,null,null,null,null,null,null,null,0,null,null,null,null,null,null,null,null,0,null,null,null,null,null,0,null,null,null,0,null,null,null,null,null,null,0,null,null,null,null,null,0,null,null,null,null,null,0,null,null,null,null,null,null,null,null,null,null,null,null,0,null,null,null,0,null,null,0,null,null,null,null,null,null,0,null,null,null,null,null,null,0,0,0,0,0]
[36,36,36,{"$f":"Insert!A38","v":0},{"$f":"Insert!B38","v":0},{"$f":"Insert!C38","v":0},{"$f":"Insert!D38","v":0},{"$f":"Insert!E38","v":0},null,null,null,null,null,0,null,null,null,null,null,0,null,null,null,null,null,null,null,null,0,null,null,null,null,null,null,null,null,0,null,null,null,null,null,0,null,null,null,0,null,null,null,null,null,null,0,null,null,null,null,null,0,null,null,null,null,null,0,null,null,null,null,null,null,null,null,null,null,null,null,0,null,null,null,0,null,null,0,null,null,null,null,null,null,0,null,null,null,null,null,null,0,0,0,0,0]
[37,37,37,{"$f":"Insert!A39","v":0},{"$f":"Insert!B39","v":0},{"$f":"Insert!C39","v":0},{"$f":"Insert!D39","v":0},{"$f":"Insert!E39","v":0},null,null,null,null,null,0,null,null,null,null,null,0,null,null,null,null,null,null,null,null,0,null,null,null,null,null,null,null,null,0,null,null,null,null,null,0,null,null,null,0,null,null,null,null,null,null,0,null,null,null,null,null,0,null,null,null,null,null,0,null,null,null,null,null,null,null,null,null,null,null,null,0,null,null,null,0,null,null,0,null,null,null,null,null,null,0,null,null,null,null,null,null,0,0,0,0,0]
[38,38,38,{"$f":"Insert!A40","v":0},{"$f":"Insert!B40","v":0},{"$f":"Insert!C40","v":0},{"$f":"Insert!D40","v":0},{"$f":"Insert!E40","v":0},null,null,null,null,null,0,null,null,null,null,null,0,null,null,null,null,null,null,null,null,0,null,null,null,null,null,null,null,null,0,null,null,null,null,null,0,null,null,null,0,null,null,null,null,null,null,0,null,null,null,null,null,0,null,null,null,null,null,0,null,null,null,null,null,null,null,null,null,null,null,null,0,null,null,null,0,null,null,0,null,null,null,null,null,null,0,null,null,null,null,null,null,0,0,0,0,0]
[39,39,39,{"$f":"Insert!A41","v":0},{"$f":"Insert!B41","v":0},{"$f":"Insert!C41","v":0},{"$f":"Insert!D41","v":0},{"$f":"Insert!E41","v":0},null,null,null,null,null,0,null,null,null,null,null,0,null,null,null,null,null,null,null,null,0,null,null,null,null,null,null,null,null,0,null,null,null,null,null,0,null,null,null,0,null,null,null,null,null,null,0,null,null,null,null,null,0,null,null,null,null,null,0,null,null,null,null,null,null,null,null,null,null,null,null,0,null,null,null,0,null,null,0,null,null,null,null,null,null,0,null,null,null,null,null,null,0,0,0,0,0]
[40,40,40,{"$f":"Insert!A42","v":0},{"$f":"Insert!B42","v":0},{"$f":"Insert!C42","v":0},{"$f":"Insert!D42","v":0},{"$f":"Insert!E42","v":0},null,null,null,null,null,0,null,null,null,null,null,0,null,null,null,null,null,null,null,null,0,null,null,null,null,null,null,null,null,0,null,null,null,null,null,0,null,null,null,0,null,null,null,null,null,null,0,null,null,null,null,null,0,null,null,null,null,null,0,null,null,null,null,null,null,null,null,null,null,null,null,0,null,null,null,0,null,null,0,null,null,null,null,null,null,0,null,null,null,null,null,null,0,0,0,0,0]
[41,41,41,{"$f":"Insert!A43","v":0},{"$f":"Insert!B43","v":0},{"$f":"Insert!C43","v":0},{"$f":"Insert!D43","v":0},{"$f":"Insert!E43","v":0},null,null,null,null,null,0,null,null,null,null,null,0,null,null,null,null,null,null,null,null,0,null,null,null,null,null,null,null,null,0,null,null,null,null,null,0,null,null,null,0,null,null,null,null,null,null,0,null,null,null,null,null,0,null,null,null,null,null,0,null,null,null,null,null,null,null,null,null,null,null,null,0,null,null,null,0,null,null,0,null,null,null,null,null,null,0,null,null,null,null,null,null,0,0,0,0,0]
[42,42,42,{"$f":"Insert!A44","v":0},{"$f":"Insert!B44","v":0},{"$f":"Insert!C44","v":0},{"$f":"Insert!D44","v":0},{"$f":"Insert!E44","v":0},null,null,null,null,null,0,null,null,null,null,null,0,null,null,null,null,null,null,null,null,0,null,null,null,null,null,null,null,null,0,null,null,null,null,null,0,null,null,null,0,null,null,null,null,null,null,0,null,null,null,null,null,0,null,null,null,null,null,0,null,null,null,null,null,null,null,null,null,null,null,null,0,null,null,null,0,null,null,0,null,null,null,null,null,null,0,null,null,null,null,null,null,0,0,0,0,0]
[43,43,43,{"$f":"Insert!A45","v":0},{"$f":"Insert!B45","v":0},{"$f":"Insert!C45","v":0},{"$f":"Insert!D45","v":0},{"$f":"Insert!E45","v":0},null,null,null,null,null,0,null,null,null,null,null,0,null,null,null,null,null,null,null,null,0,null,null,null,null,null,null,null,null,0,null,null,null,null,null,0,null,null,null,0,null,null,null,null,null,null,0,null,null,null,null,null,0,null,null,null,null,null,0,null,null,null,null,null,null,null,null,null,null,null,null,0,null,null,null,0,null,null,0,null,null,null,null,null,null,0,null,null,null,null,null,null,0,0,0,0,0]
[44,44,44,{"$f":"Insert!A46","v":0},{"$f":"Insert!B46","v":0},{"$f":"Insert!C46","v":0},{"$f":"Insert!D46","v":0},{"$f":"Insert!E46","v":0},null,null,null,null,null,0,null,null,null,null,null,0,null,null,null,null,null,null,null,null,0,null,null,null,null,null,null,null,null,0,null,null,null,null,null,0,null,null,null,0,null,null,null,null,null,null,0,null,null,null,null,null,0,null,null,null,null,null,0,null,null,null,null,null,null,null,null,null,null,null,null,0,null,null,null,0,null,null,0,null,null,null,null,null,null,0,null,null,null,null,null,null,0,0,0,0,0]
[45,45,45,{"$f":"Insert!A47","v":0},{"$f":"Insert!B47","v":0},{"$f":"Insert!C47","v":0},{"$f":"Insert!D47","v":0},{"$f":"Insert!E47","v":0},null,null,null,null,null,0,null,null,null,null,null,0,null,null,null,null,null,null,null,null,0,null,null,null,null,null,null,null,null,0,null,null,null,null,null,0,null,null,null,0,null,null,null,null,null,null,0,null,null,null,null,null,0,null,null,null,null,null,0,null,null,null,null,null,null,null,null,null,null,null,null,0,null,null,null,0,null,null,0,null,null,null,null,null,null,0,null,null,null,null,null,null,0,0,0,0,0]
[46,46,46,{"$f":"Insert!A48","v":0},{"$f":"Insert!B48","v":0},{"$f":"Insert!C48","v":0},{"$f":"Insert!D48","v":0},{"$f":"Insert!E48","v":0},null,null,null,null,null,0,null,null,null,null,null,0,null,null,null,null,null,null,null,null,0,null,null,null,null,null,null,null,null,0,null,null,null,null,null,0,null,null,null,0,null,null,null,null,null,null,0,null,null,null,null,null,0,null,null,null,null,null,0,null,null,null,null,null,null,null,null,null,null,null,null,0,null,null,null,0,null,null,0,null,null,null,null,null,null,0,null,null,null,null,null,null,0,0,0,0,0]
[47,47,47,{"$f":"Insert!A49","v":0},{"$f":"Insert!B49","v":0},{"$f":"Insert!C49","v":0},{"$f":"Insert!D49","v":0},{"$f":"Insert!E49","v":0},null,null,null,null,null,0,null,null,null,null,null,0,null,null,null,null,null,null,null,null,0,null,null,null,null,null,null,null,null,0,null,null,null,null,null,0,null,null,null,0,null,null,null,null,null,null,0,null,null,null,null,null,0,null,null,null,null,null,0,null,null,null,null,null,null,null,null,null,null,null,null,0,null,null,null,0,null,null,0,null,null,null,null,null,null,0,null,null,null,null,null,null,0,0,0,0,0]
[48,48,48,{"$f":"Insert!A50","v":0},{"$f":"Insert!B50","v":0},{"$f":"Insert!C50","v":0},{"$f":"Insert!D50","v":0},{"$f":"Insert!E50","v":0},null,null,null,null,null,0,null,null,null,null,null,0,null,null,null,null,null,null,null,null,0,null,null,null,null,null,null,null,null,0,null,null,null,null,null,0,null,null,null,0,null,null,null,null,null,null,0,null,null,null,null,null,0,null,null,null,null,null,0,null,null,null,null,null,null,null,null,null,null,null,null,0,null,null,null,0,null,null,0,null,null,null,null,null,null,0,null,null,null,null,null,null,0,0,0,0,0]
[49,49,49,{"$f":"Insert!A51","v":0},{"$f":"Insert!B51","v":0},{"$f":"Insert!C51","v":0},{"$f":"Insert!D51","v":0},{"$f":"Insert!E51","v":0},null,null,null,null,null,0,null,null,null,null,null,0,null,null,null,null,null,null,null,null,0,null,null,null,null,null,null,null,null,0,null,null,null,null,null,0,null,null,null,0,null,null,null,null,null,null,0,null,null,null,null,null,0,null,null,null,null,null,0,null,null,null,null,null,null,null,null,null,null,null,null,0,null,null,null,0,null,null,0,null,null,null,null,null,null,0,null,null,null,null,null,null,0,0,0,0,0]
[50,50,50,{"$f":"Insert!A52","v":0},{"$f":"Insert!B52","v":0},{"$f":"Insert!C52","v":0},{"$f":"Insert!D52","v":0},{"$f":"Insert!E52","v":0},null,null,null,null,null,0,null,null,null,null,null,0,null,null,null,null,null,null,null,null,0,null,null,null,null,null,null,null,null,0,null,null,null,null,null,0,null,null,null,0,null,null,null,null,null,null,0,null,null,null,null,null,0,null,null,null,null,null,0,null,null,null,null,null,null,null,null,null,null,null,null,0,null,null,null,0,null,null,0,null,null,null,null,null,null,0,null,null,null,null,null,null,0,0,0,0,0]
[51,51,51,{"$f":"Insert!A53","v":0},{"$f":"Insert!B53","v":0},{"$f":"Insert!C53","v":0},{"$f":"Insert!D53","v":0},{"$f":"Insert!E53","v":0},null,null,null,null,null,0,null,null,null,null,null,0,null,null,null,null,null,null,null,null,0,null,null,null,null,null,null,null,null,0,null,null,null,null,null,0,null,null,null,0,null,null,null,null,null,null,0,null,null,null,null,null,0,null,null,null,null,null,0,null,null,null,null,null,null,null,null,null,null,null,null,0,null,null,null,0,null,null,0,null,null,null,null,null,null,0,null,null,null,null,null,null,0,0,0,0,0]
[52,52,52,{"$f":"Insert!A54","v":0},{"$f":"Insert!B54","v":0},{"$f":"Insert!C54","v":0},{"$f":"Insert!D54","v":0},{"$f":"Insert!E54","v":0},null,null,null,null,null,0,null,null,null,null,null,0,null,null,null,null,null,null,null,null,0,null,null,null,null,null,null,null,null,0,null,null,null,null,null,0,null,null,null,0,null,null,null,null,null,null,0,null,null,null,null,null,0,null,null,null,null,null,0,null,null,null,null,null,null,null,null,null,null,null,null,0,null,null,null,0,null,null,0,null,null,null,null,null,null,0,null,null,null,null,null,null,0,0,0,0,0]
[53,53,53,{"$f":"Insert!A55","v":0},{"$f":"Insert!B55","v":0},{"$f":"Insert!C55","v":0},{"$f":"Insert!D55","v":0},{"$f":"Insert!E55","v":0},null,null,null,null,null,0,null,null,null,null,null,0,null,null,null,null,null,null,null,null,0,null,null,null,null,null,null,null,null,0,null,null,null,null,null,0,null,null,null,0,null,null,null,null,null,null,0,null,null,null,null,null,0,null,null,null,null,null,0,null,null,null,null,null,null,null,null,null,null,null,null,0,null,null,null,0,null,null,0,null,null,null,null,null,null,0,null,null,null,null,null,null,0,0,0,0,0]
[54,54,54,{"$f":"Insert!A56","v":0},{"$f":"Insert!B56","v":0},{"$f":"Insert!C56","v":0},{"$f":"Insert!D56","v":0},{"$f":"Insert!E56","v":0},null,null,null,null,null,0,null,null,null,null,null,0,null,null,null,null,null,null,null,null,0,null,null,null,null,null,null,null,null,0,null,null,null,null,null,0,null,null,null,0,null,null,null,null,null,null,0,null,null,null,null,null,0,null,null,null,null,null,0,null,null,null,null,null,null,null,null,null,null,null,null,0,null,null,null,0,null,null,0,null,null,null,null,null,null,0,null,null,null,null,null,null,0,0,0,0,0]
[55,55,55,{"$f":"Insert!A57","v":0},{"$f":"Insert!B57","v":0},{"$f":"Insert!C57","v":0},{"$f":"Insert!D57","v":0},{"$f":"Insert!E57","v":0},null,null,null,null,null,0,null,null,null,null,null,0,null,null,null,null,null,null,null,null,0,null,null,null,null,null,null,null,null,0,null,null,null,null,null,0,null,null,null,0,null,null,null,null,null,null,0,null,null,null,null,null,0,null,null,null,null,null,0,null,null,null,null,null,null,null,null,null,null,null,null,0,null,null,null,0,null,null,0,null,null,null,null,null,null,0,null,null,null,null,null,null,0,0,0,0,0]
[56,56,56,{"$f":"Insert!A58","v":0},{"$f":"Insert!B58","v":0},{"$f":"Insert!C58","v":0},{"$f":"Insert!D58","v":0},{"$f":"Insert!E58","v":0},null,null,null,null,null,0,null,null,null,null,null,0,null,null,null,null,null,null,null,null,0,null,null,null,null,null,null,null,null,0,null,null,null,null,null,0,null,null,null,0,null,null,null,null,null,null,0,null,null,null,null,null,0,null,null,null,null,null,0,null,null,null,null,null,null,null,null,null,null,null,null,0,null,null,null,0,null,null,0,null,null,null,null,null,null,0,null,null,null,null,null,null,0,0,0,0,0]
[57,57,57,{"$f":"Insert!A59","v":0},{"$f":"Insert!B59","v":0},{"$f":"Insert!C59","v":0},{"$f":"Insert!D59","v":0},{"$f":"Insert!E59","v":0},null,null,null,null,null,0,null,null,null,null,null,0,null,null,null,null,null,null,null,null,0,null,null,null,null,null,null,null,null,0,null,null,null,null,null,0,null,null,null,0,null,null,null,null,null,null,0,null,null,null,null,null,0,null,null,null,null,null,0,null,null,null,null,null,null,null,null,null,null,null,null,0,null,null,null,0,null,null,0,null,null,null,null,null,null,0,null,null,null,null,null,null,0,0,0,0,0]
[58,58,58,{"$f":"Insert!A60","v":0},{"$f":"Insert!B60","v":0},{"$f":"Insert!C60","v":0},{"$f":"Insert!D60","v":0},{"$f":"Insert!E60","v":0},null,null,null,null,null,0,null,null,null,null,null,0,null,null,null,null,null,null,null,null,0,null,null,null,null,null,null,null,null,0,null,null,null,null,null,0,null,null,null,0,null,null,null,null,null,null,0,null,null,null,null,null,0,null,null,null,null,null,0,null,null,null,null,null,null,null,null,null,null,null,null,0,null,null,null,0,null,null,0,null,null,null,null,null,null,0,null,null,null,null,null,null,0,0,0,0,0]
[59,59,59,{"$f":"Insert!A61","v":0},{"$f":"Insert!B61","v":0},{"$f":"Insert!C61","v":0},{"$f":"Insert!D61","v":0},{"$f":"Insert!E61","v":0},null,null,null,null,null,0,null,null,null,null,null,0,null,null,null,null,null,null,null,null,0,null,null,null,null,null,null,null,null,0,null,null,null,null,null,0,null,null,null,0,null,null,null,null,null,null,0,null,null,null,null,null,0,null,null,null,null,null,0,null,null,null,null,null,null,null,null,null,null,null,null,0,null,null,null,0,null,null,0,null,null,null,null,null,null,0,null,null,null,null,null,null,0,0,0,0,0]
[60,60,60,{"$f":"Insert!A62","v":0},{"$f":"Insert!B62","v":0},{"$f":"Insert!C62","v":0},{"$f":"Insert!D62","v":0},{"$f":"Insert!E62","v":0},null,null,null,null,null,0,null,null,null,null,null,0,null,null,null,null,null,null,null,null,0,null,null,null,null,null,null,null,null,0,null,null,null,null,null,0,null,null,null,0,null,null,null,null,null,null,0,null,null,null,null,null,0,null,null,null,null,null,0,null,null,null,null,null,null,null,null,null,null,null,null,0,null,null,null,0,null,null,0,null,null,null,null,null,null,0,null,null,null,null,null,null,0,0,0,0,0]
[61,61,61,{"$f":"Insert!A63","v":0},{"$f":"Insert!B63","v":0},{"$f":"Insert!C63","v":0},{"$f":"Insert!D63","v":0},{"$f":"Insert!E63","v":0},null,null,null,null,null,0,null,null,null,null,null,0,null,null,null,null,null,null,null,null,0,null,null,null,null,null,null,null,null,0,null,null,null,null,null,0,null,null,null,0,null,null,null,null,null,null,0,null,null,null,null,null,0,null,null,null,null,null,0,null,null,null,null,null,null,null,null,null,null,null,null,0,null,null,null,0,null,null,0,null,null,null,null,null,null,0,null,null,null,null,null,null,0,0,0,0,0]
[62,62,62,{"$f":"Insert!A64","v":0},{"$f":"Insert!B64","v":0},{"$f":"Insert!C64","v":0},{"$f":"Insert!D64","v":0},{"$f":"Insert!E64","v":0},null,null,null,null,null,0,null,null,null,null,null,0,null,null,null,null,null,null,null,null,0,null,null,null,null,null,null,null,null,0,null,null,null,null,null,0,null,null,null,0,null,null,null,null,null,null,0,null,null,null,null,null,0,null,null,null,null,null,0,null,null,null,null,null,null,null,null,null,null,null,null,0,null,null,null,0,null,null,0,null,null,null,null,null,null,0,null,null,null,null,null,null,0,0,0,0,0]
[63,63,63,{"$f":"Insert!A65","v":0},{"$f":"Insert!B65","v":0},{"$f":"Insert!C65","v":0},{"$f":"Insert!D65","v":0},{"$f":"Insert!E65","v":0},null,null,null,null,null,0,null,null,null,null,null,0,null,null,null,null,null,null,null,null,0,null,null,null,null,null,null,null,null,0,null,null,null,null,null,0,null,null,null,0,null,null,null,null,null,null,0,null,null,null,null,null,0,null,null,null,null,null,0,null,null,null,null,null,null,null,null,null,null,null,null,0,null,null,null,0,null,null,0,null,null,null,null,null,null,0,null,null,null,null,null,null,0,0,0,0,0]
[64,64,64,{"$f":"Insert!A66","v":0},{"$f":"Insert!B66","v":0},{"$f":"Insert!C66","v":0},{"$f":"Insert!D66","v":0},{"$f":"Insert!E66","v":0},null,null,null,null,null,0,null,null,null,null,null,0,null,null,null,null,null,null,null,null,0,null,null,null,null,null,null,null,null,0,null,null,null,null,null,0,null,null,null,0,null,null,null,null,null,null,0,null,null,null,null,null,0,null,null,null,null,null,0,null,null,null,null,null,null,null,null,null,null,null,null,0,null,null,null,0,null,null,0,null,null,null,null,null,null,0,null,null,null,null,null,null,0,0,0,0,0]
[65,65,65,{"$f":"Insert!A67","v":0},{"$f":"Insert!B67","v":0},{"$f":"Insert!C67","v":0},{"$f":"Insert!D67","v":0},{"$f":"Insert!E67","v":0},null,null,null,null,null,{"$f":"SUM(I80:M80)","v":0},null,null,null,null,null,{"$f":"SUM(O80:S80)","v":0},null,null,null,null,null,null,null,null,{"$f":"ROUND((SUM(U80:AB80)/1.5),0)","v":0},null,null,null,null,null,null,null,null,{"$f":"ROUND((SUM(AD80:AK80)/1.5),0)","v":0},null,null,null,null,null,{"$f":"SUM(AM80:AQ80)","v":0},null,null,null,{"$f":"SUM(AS80:AU80)","v":0},null,null,null,null,null,null,{"$f":"ROUND((SUM(AW80:BB80)),0)","v":0},null,null,null,null,null,{"$f":"ROUND((SUM(BD80:BH80)),0)","v":0},null,null,null,null,null,{"$f":"SUM(BJ80:BN80)","v":0},null,null,null,null,null,null,null,null,null,null,null,null,{"$f":"SUM(BP80:CA80)/2","v":0},null,null,null,{"$f":"SUMIF(CC80:CE80,\">0\")","v":0},null,null,{"$f":"SUM(CG80:CH80)","v":0},null,null,null,null,null,null,{"$f":"SUM(CJ80:CO80)","v":0},null,null,null,null,null,null,{"$f":"ROUND((SUM(N80+T80+AC80+AL80+AR80+CI80+CP80)/2.8),0)","v":0},{"$f":"ROUND((SUM(AV80+BC80+BI80+BO80+CB80+CF80)/1.2),0)","v":0},{"$f":"COUNTIF(CQ80:CV80,\">0\")","v":0},{"$f":"ROUND(IF(CY80=4,SUM(CQ80:CT80)/1.6,IF(CY80=6,SUMIF(CQ80:CV80,\">0\")/2.4,SUM(CQ80:CT80))),0)","v":0},{"$f":"SUM(CW80+CX80+CZ80)","v":0}]
[66,66,66,{"$f":"Insert!A68","v":0},{"$f":"Insert!B68","v":0},{"$f":"Insert!C68","v":0},{"$f":"Insert!D68","v":0},{"$f":"Insert!E68","v":0},null,null,null,null,null,0,null,null,null,null,null,0,null,null,null,null,null,null,null,null,0,null,null,null,null,null,null,null,null,0,null,null,null,null,null,0,null,null,null,0,null,null,null,null,null,null,0,null,null,null,null,null,0,null,null,null,null,null,0,null,null,null,null,null,null,null,null,null,null,null,null,0,null,null,null,0,null,null,0,null,null,null,null,null,null,0,null,null,null,null,null,null,0,0,0,0,0]
[null,67,67,{"$f":"Insert!A69","v":0},{"$f":"Insert!B69","v":0},{"$f":"Insert!C69","v":0},{"$f":"Insert!D69","v":0},{"$f":"Insert!E69","v":0},null,null,null,null,null,{"$f":"SUM(I82:M82)","v":0},null,null,null,null,null,{"$f":"SUM(O82:S82)","v":0},null,null,null,null,null,null,null,null,{"$f":"ROUND((SUM(U82:AB82)/1.5),0)","v":0},null,null,null,null,null,null,null,null,{"$f":"ROUND((SUM(AD82:AK82)/1.5),0)","v":0},null,null,null,null,null,{"$f":"SUM(AM82:AQ82)","v":0},null,null,null,{"$f":"SUM(AS82:AU82)","v":0},null,null,null,null,null,null,{"$f":"ROUND((SUM(AW82:BB82)),0)","v":0},null,null,null,null,null,{"$f":"ROUND((SUM(BD82:BH82)),0)","v":0},null,null,null,null,null,{"$f":"SUM(BJ82:BN82)","v":0},null,null,null,null,null,null,null,null,null,null,null,null,{"$f":"SUM(BP82:CA82)/2","v":0},null,null,null,{"$f":"SUMIF(CC82:CE82,\">0\")","v":0},null,null,{"$f":"SUM(CG82:CH82)","v":0},null,null,null,null,null,null,{"$f":"SUM(CJ82:CO82)","v":0},null,null,null,null,null,null,{"$f":"ROUND((SUM(N82+T82+AC82+AL82+AR82+CI82+CP82)/2.8),0)","v":0},{"$f":"ROUND((SUM(AV82+BC82+BI82+BO82+CB82+CF82)/1.2),0)","v":0},{"$f":"COUNTIF(CQ82:CV82,\">0\")","v":0},{"$f":"ROUND(IF(CY82=4,SUM(CQ82:CT82)/1.6,IF(CY82=6,SUMIF(CQ82:CV82,\">0\")/2.4,SUM(CQ82:CT82))),0)","v":0},{"$f":"SUM(CW82+CX82+CZ82)","v":0}]
[67,68,68,{"$f":"Insert!A70","v":0},{"$f":"Insert!B70","v":0},{"$f":"Insert!C70","v":0},{"$f":"Insert!D70","v":0},{"$f":"Insert!E70","v":0},null,null,null,null,null,0,null,null,null,null,null,0,null,null,null,null,null,null,null,null,0,null,null,null,null,null,null,null,null,0,null,null,null,null,null,0,null,null,null,0,null,null,null,null,null,null,0,null,null,null,null,null,0,null,null,null,null,null,0,null,null,null,null,null,null,null,null,null,null,null,null,0,null,null,null,0,null,null,0,null,null,null,null,null,null,0,null,null,null,null,null,null,0,0,0,0,0]
[68,69,69,{"$f":"Insert!A71","v":0},{"$f":"Insert!B71","v":0},{"$f":"Insert!C71","v":0},{"$f":"Insert!D71","v":0},{"$f":"Insert!E71","v":0},null,null,null,null,null,0,null,null,null,null,null,0,null,null,null,null,null,null,null,null,0,null,null,null,null,null,null,null,null,0,null,null,null,null,null,0,null,null,null,0,null,null,null,null,null,null,0,null,null,null,null,null,0,null,null,null,null,null,0,null,null,null,null,null,null,null,null,null,null,null,null,0,null,null,null,0,null,null,0,null,null,null,null,null,null,0,null,null,null,null,null,null,0,0,0,0,0]
[69,70,70,{"$f":"Insert!A72","v":0},{"$f":"Insert!B72","v":0},{"$f":"Insert!C72","v":0},{"$f":"Insert!D72","v":0},{"$f":"Insert!E72","v":0},null,null,null,null,null,0,null,null,null,null,null,0,null,null,null,null,null,null,null,null,0,null,null,null,null,null,null,null,null,0,null,null,null,null,null,0,null,null,null,0,null,null,null,null,null,null,0,null,null,null,null,null,0,null,null,null,null,null,0,null,null,null,null,null,null,null,null,null,null,null,null,0,null,null,null,0,null,null,0,null,null,null,null,null,null,0,null,null,null,null,null,null,0,0,0,0,0]
[70,71,71,{"$f":"Insert!A73","v":0},{"$f":"Insert!B73","v":0},{"$f":"Insert!C73","v":0},{"$f":"Insert!D73","v":0},{"$f":"Insert!E73","v":0},null,null,null,null,null,0,null,null,null,null,null,0,null,null,null,null,null,null,null,null,0,null,null,null,null,null,null,null,null,0,null,null,null,null,null,0,null,null,null,0,null,null,null,null,null,null,0,null,null,null,null,null,0,null,null,null,null,null,0,null,null,null,null,null,null,null,null,null,null,null,null,0,null,null,null,0,null,null,0,null,null,null,null,null,null,0,null,null,null,null,null,null,0,0,0,0,0]
[71,72,72,{"$f":"Insert!A74","v":0},{"$f":"Insert!B74","v":0},{"$f":"Insert!C74","v":0},{"$f":"Insert!D74","v":0},{"$f":"Insert!E74","v":0},null,null,null,null,null,0,null,null,null,null,null,0,null,null,null,null,null,null,null,null,0,null,null,null,null,null,null,null,null,0,null,null,null,null,null,0,null,null,null,0,null,null,null,null,null,null,0,null,null,null,null,null,0,null,null,null,null,null,0,null,null,null,null,null,null,null,null,null,null,null,null,0,null,null,null,0,null,null,0,null,null,null,null,null,null,0,null,null,null,null,null,null,0,0,0,0,0]
[72,73,73,{"$f":"Insert!A75","v":0},{"$f":"Insert!B75","v":0},{"$f":"Insert!C75","v":0},{"$f":"Insert!D75","v":0},{"$f":"Insert!E75","v":0},null,null,null,null,null,0,null,null,null,null,null,0,null,null,null,null,null,null,null,null,0,null,null,null,null,null,null,null,null,0,null,null,null,null,null,0,null,null,null,0,null,null,null,null,null,null,0,null,null,null,null,null,0,null,null,null,null,null,0,null,null,null,null,null,null,null,null,null,null,null,null,0,null,null,null,0,null,null,0,null,null,null,null,null,null,0,null,null,null,null,null,null,0,0,0,0,0]
[73,74,74,{"$f":"Insert!A76","v":0},{"$f":"Insert!B76","v":0},{"$f":"Insert!C76","v":0},{"$f":"Insert!D76","v":0},{"$f":"Insert!E76","v":0},null,null,null,null,null,0,null,null,null,null,null,0,null,null,null,null,null,null,null,null,0,null,null,null,null,null,null,null,null,0,null,null,null,null,null,0,null,null,null,0,null,null,null,null,null,null,0,null,null,null,null,null,0,null,null,null,null,null,0,null,null,null,null,null,null,null,null,null,null,null,null,0,null,null,null,0,null,null,0,null,null,null,null,null,null,0,null,null,null,null,null,null,0,0,0,0,0]
[74,75,75,{"$f":"Insert!A77","v":0},{"$f":"Insert!B77","v":0},{"$f":"Insert!C77","v":0},{"$f":"Insert!D77","v":0},{"$f":"Insert!E77","v":0},null,null,null,null,null,0,null,null,null,null,null,0,null,null,null,null,null,null,null,null,0,null,null,null,null,null,null,null,null,0,null,null,null,null,null,0,null,null,null,0,null,null,null,null,null,null,0,null,null,null,null,null,0,null,null,null,null,null,0,null,null,null,null,null,null,null,null,null,null,null,null,0,null,null,null,0,null,null,0,null,null,null,null,null,null,0,null,null,null,null,null,null,0,0,0,0,0]
[75,76,76,{"$f":"Insert!A78","v":0},{"$f":"Insert!B78","v":0},{"$f":"Insert!C78","v":0},{"$f":"Insert!D78","v":0},{"$f":"Insert!E78","v":0},null,null,null,null,null,0,null,null,null,null,null,0,null,null,null,null,null,null,null,null,0,null,null,null,null,null,null,null,null,0,null,null,null,null,null,0,null,null,null,0,null,null,null,null,null,null,0,null,null,null,null,null,0,null,null,null,null,null,0,null,null,null,null,null,null,null,null,null,null,null,null,0,null,null,null,0,null,null,0,null,null,null,null,null,null,0,null,null,null,null,null,null,0,0,0,0,0]
[76,77,77,{"$f":"Insert!A79","v":0},{"$f":"Insert!B79","v":0},{"$f":"Insert!C79","v":0},{"$f":"Insert!D79","v":0},{"$f":"Insert!E79","v":0},null,null,null,null,null,0,null,null,null,null,null,0,null,null,null,null,null,null,null,null,0,null,null,null,null,null,null,null,null,0,null,null,null,null,null,0,null,null,null,0,null,null,null,null,null,null,0,null,null,null,null,null,0,null,null,null,null,null,0,null,null,null,null,null,null,null,null,null,null,null,null,0,null,null,null,0,null,null,0,null,null,null,null,null,null,0,null,null,null,null,null,null,0,0,0,0,0]
[77,78,78,{"$f":"Insert!A80","v":0},{"$f":"Insert!B80","v":0},{"$f":"Insert!C80","v":0},{"$f":"Insert!D80","v":0},{"$f":"Insert!E80","v":0},null,null,null,null,null,0,null,null,null,null,null,0,null,null,null,null,null,null,null,null,0,null,null,null,null,null,null,null,null,0,null,null,null,null,null,0,null,null,null,0,null,null,null,null,null,null,0,null,null,null,null,null,0,null,null,null,null,null,0,null,null,null,null,null,null,null,null,null,null,null,null,0,null,null,null,0,null,null,0,null,null,null,null,null,null,0,null,null,null,null,null,null,0,0,0,0,0]
[78,79,79,{"$f":"Insert!A81","v":0},{"$f":"Insert!B81","v":0},{"$f":"Insert!C81","v":0},{"$f":"Insert!D81","v":0},{"$f":"Insert!E81","v":0},null,null,null,null,null,0,null,null,null,null,null,0,null,null,null,null,null,null,null,null,0,null,null,null,null,null,null,null,null,0,null,null,null,null,null,0,null,null,null,0,null,null,null,null,null,null,0,null,null,null,null,null,0,null,null,null,null,null,0,null,null,null,null,null,null,null,null,null,null,null,null,0,null,null,null,0,null,null,0,null,null,null,null,null,null,0,null,null,null,null,null,null,0,0,0,0,0]
[79,80,80,{"$f":"Insert!A82","v":0},{"$f":"Insert!B82","v":0},{"$f":"Insert!C82","v":0},{"$f":"Insert!D82","v":0},{"$f":"Insert!E82","v":0},null,null,null,null,null,0,null,null,null,null,null,0,null,null,null,null,null,null,null,null,0,null,null,null,null,null,null,null,null,0,null,null,null,null,null,0,null,null,null,0,null,null,null,null,null,null,0,null,null,null,null,null,0,null,null,null,null,null,0,null,null,null,null,null,null,null,null,null,null,null,null,0,null,null,null,0,null,null,0,null,null,null,null,null,null,0,null,null,null,null,null,null,0,0,0,0,0]
[80,81,81,{"$f":"Insert!A83","v":0},{"$f":"Insert!B83","v":0},{"$f":"Insert!C83","v":0},{"$f":"Insert!D83","v":0},{"$f":"Insert!E83","v":0},null,null,null,null,null,0,null,null,null,null,null,0,null,null,null,null,null,null,null,null,0,null,null,null,null,null,null,null,null,0,null,null,null,null,null,0,null,null,null,0,null,null,null,null,null,null,0,null,null,null,null,null,0,null,null,null,null,null,0,null,null,null,null,null,null,null,null,null,null,null,null,0,null,null,null,0,null,null,0,null,null,null,null,null,null,0,null,null,null,null,null,null,0,0,0,0,0]
[81,82,82,{"$f":"Insert!A84","v":0},{"$f":"Insert!B84","v":0},{"$f":"Insert!C84","v":0},{"$f":"Insert!D84","v":0},{"$f":"Insert!E84","v":0},null,null,null,null,null,0,null,null,null,null,null,0,null,null,null,null,null,null,null,null,0,null,null,null,null,null,null,null,null,0,null,null,null,null,null,0,null,null,null,0,null,null,null,null,null,null,0,null,null,null,null,null,0,null,null,null,null,null,0,null,null,null,null,null,null,null,null,null,null,null,null,0,null,null,null,0,null,null,0,null,null,null,null,null,null,0,null,null,null,null,null,null,0,0,0,0,0]
[82,83,83,{"$f":"Insert!A85","v":0},{"$f":"Insert!B85","v":0},{"$f":"Insert!C85","v":0},{"$f":"Insert!D85","v":0},{"$f":"Insert!E85","v":0},null,null,null,null,null,0,null,null,null,null,null,0,null,null,null,null,null,null,null,null,0,null,null,null,null,null,null,null,null,0,null,null,null,null,null,0,null,null,null,0,null,null,null,null,null,null,0,null,null,null,null,null,0,null,null,null,null,null,0,null,null,null,null,null,null,null,null,null,null,null,null,0,null,null,null,0,null,null,0,null,null,null,null,null,null,0,null,null,null,null,null,null,0,0,0,0,0]
[83,84,84,{"$f":"Insert!A86","v":0},{"$f":"Insert!B86","v":0},{"$f":"Insert!C86","v":0},{"$f":"Insert!D86","v":0},{"$f":"Insert!E86","v":0},null,null,null,null,null,0,null,null,null,null,null,0,null,null,null,null,null,null,null,null,0,null,null,null,null,null,null,null,null,0,null,null,null,null,null,0,null,null,null,0,null,null,null,null,null,null,0,null,null,null,null,null,0,null,null,null,null,null,0,null,null,null,null,null,null,null,null,null,null,null,null,0,null,null,null,0,null,null,0,null,null,null,null,null,null,0,null,null,null,null,null,null,0,0,0,0,0]
[84,85,85,{"$f":"Insert!A87","v":0},{"$f":"Insert!B87","v":0},{"$f":"Insert!C87","v":0},{"$f":"Insert!D87","v":0},{"$f":"Insert!E87","v":0},null,null,null,null,null,0,null,null,null,null,null,0,null,null,null,null,null,null,null,null,0,null,null,null,null,null,null,null,null,0,null,null,null,null,null,0,null,null,null,0,null,null,null,null,null,null,0,null,null,null,null,null,0,null,null,null,null,null,0,null,null,null,null,null,null,null,null,null,null,null,null,0,null,null,null,0,null,null,0,null,null,null,null,null,null,0,null,null,null,null,null,null,0,0,0,0,0]
[85,86,86,{"$f":"Insert!A88","v":0},{"$f":"Insert!B88","v":0},{"$f":"Insert!C88","v":0},{"$f":"Insert!D88","v":0},{"$f":"Insert!E88","v":0},null,null,null,null,null,0,null,null,null,null,null,0,null,null,null,null,null,null,null,null,0,null,null,null,null,null,null,null,null,0,null,null,null,null,null,0,null,null,null,0,null,null,null,null,null,null,0,null,null,null,null,null,0,null,null,null,null,null,0,null,null,null,null,null,null,null,null,null,null,null,null,0,null,null,null,0,null,null,0,null,null,null,null,null,null,0,null,null,null,null,null,null,0,0,0,0,0]
[86,87,87,{"$f":"Insert!A89","v":0},{"$f":"Insert!B89","v":0},{"$f":"Insert!C89","v":0},{"$f":"Insert!D89","v":0},{"$f":"Insert!E89","v":0},null,null,null,null,null,0,null,null,null,null,null,0,null,null,null,null,null,null,null,null,0,null,null,null,null,null,null,null,null,0,null,null,null,null,null,0,null,null,null,0,null,null,null,null,null,null,0,null,null,null,null,null,0,null,null,null,null,null,0,null,null,null,null,null,null,null,null,null,null,null,null,0,null,null,null,0,null,null,0,null,null,null,null,null,null,0,null,null,null,null,null,null,0,0,0,0,0]
[87,88,88,{"$f":"Insert!A90","v":0},{"$f":"Insert!B90","v":0},{"$f":"Insert!C90","v":0},{"$f":"Insert!D90","v":0},{"$f":"Insert!E90","v":0},null,null,null,null,null,0,null,null,null,null,null,0,null,null,null,null,null,null,null,null,0,null,null,null,null,null,null,null,null,0,null,null,null,null,null,0,null,null,null,0,null,null,null,null,null,null,0,null,null,null,null,null,0,null,null,null,null,null,0,null,null,null,null,null,null,null,null,null,null,null,null,0,null,null,null,0,null,null,0,null,null,null,null,null,null,0,null,null,null,null,null,null,0,0,0,0,0]
[88,89,89,{"$f":"Insert!A91","v":0},{"$f":"Insert!B91","v":0},{"$f":"Insert!C91","v":0},{"$f":"Insert!D91","v":0},{"$f":"Insert!E91","v":0},null,null,null,null,null,0,null,null,null,null,null,0,null,null,null,null,null,null,null,null,0,null,null,null,null,null,null,null,null,0,null,null,null,null,null,0,null,null,null,0,null,null,null,null,null,null,0,null,null,null,null,null,0,null,null,null,null,null,0,null,null,null,null,null,null,null,null,null,null,null,null,0,null,null,null,0,null,null,0,null,null,null,null,null,null,0,null,null,null,null,null,null,0,0,0,0,0]
[89,90,90,{"$f":"Insert!A92","v":0},{"$f":"Insert!B92","v":0},{"$f":"Insert!C92","v":0},{"$f":"Insert!D92","v":0},{"$f":"Insert!E92","v":0},null,null,null,null,null,0,null,null,null,null,null,0,null,null,null,null,null,null,null,null,0,null,null,null,null,null,null,null,null,0,null,null,null,null,null,0,null,null,null,0,null,null,null,null,null,null,0,null,null,null,null,null,0,null,null,null,null,null,0,null,null,null,null,null,null,null,null,null,null,null,null,0,null,null,null,0,null,null,0,null,null,null,null,null,null,0,null,null,null,null,null,null,0,0,0,0,0]
[90,91,91,{"$f":"Insert!A93","v":0},{"$f":"Insert!B93","v":0},{"$f":"Insert!C93","v":0},{"$f":"Insert!D93","v":0},{"$f":"Insert!E93","v":0},null,null,null,null,null,0,null,null,null,null,null,0,null,null,null,null,null,null,null,null,0,null,null,null,null,null,null,null,null,0,null,null,null,null,null,0,null,null,null,0,null,null,null,null,null,null,0,null,null,null,null,null,0,null,null,null,null,null,0,null,null,null,null,null,null,null,null,null,null,null,null,0,null,null,null,0,null,null,0,null,null,null,null,null,null,0,null,null,null,null,null,null,0,0,0,0,0]
[91,92,92,{"$f":"Insert!A94","v":0},{"$f":"Insert!B94","v":0},{"$f":"Insert!C94","v":0},{"$f":"Insert!D94","v":0},{"$f":"Insert!E94","v":0},null,null,null,null,null,0,null,null,null,null,null,0,null,null,null,null,null,null,null,null,0,null,null,null,null,null,null,null,null,0,null,null,null,null,null,0,null,null,null,0,null,null,null,null,null,null,0,null,null,null,null,null,0,null,null,null,null,null,0,null,null,null,null,null,null,null,null,null,null,null,null,0,null,null,null,0,null,null,0,null,null,null,null,null,null,0,null,null,null,null,null,null,0,0,0,0,0]
[92,93,93,{"$f":"Insert!A95","v":0},{"$f":"Insert!B95","v":0},{"$f":"Insert!C95","v":0},{"$f":"Insert!D95","v":0},{"$f":"Insert!E95","v":0},null,null,null,null,null,0,null,null,null,null,null,0,null,null,null,null,null,null,null,null,0,null,null,null,null,null,null,null,null,0,null,null,null,null,null,0,null,null,null,0,null,null,null,null,null,null,0,null,null,null,null,null,0,null,null,null,null,null,0,null,null,null,null,null,null,null,null,null,null,null,null,0,null,null,null,0,null,null,0,null,null,null,null,null,null,0,null,null,null,null,null,null,0,0,0,0,0]
[93,94,94,{"$f":"Insert!A96","v":0},{"$f":"Insert!B96","v":0},{"$f":"Insert!C96","v":0},{"$f":"Insert!D96","v":0},{"$f":"Insert!E96","v":0},null,null,null,null,null,0,null,null,null,null,null,0,null,null,null,null,null,null,null,null,0,null,null,null,null,null,null,null,null,0,null,null,null,null,null,0,null,null,null,0,null,null,null,null,null,null,0,null,null,null,null,null,0,null,null,null,null,null,0,null,null,null,null,null,null,null,null,null,null,null,null,0,null,null,null,0,null,null,0,null,null,null,null,null,null,0,null,null,null,null,null,null,0,0,0,0,0]
[94,95,95,{"$f":"Insert!A97","v":0},{"$f":"Insert!B97","v":0},{"$f":"Insert!C97","v":0},{"$f":"Insert!D97","v":0},{"$f":"Insert!E97","v":0},null,null,null,null,null,0,null,null,null,null,null,0,null,null,null,null,null,null,null,null,0,null,null,null,null,null,null,null,null,0,null,null,null,null,null,0,null,null,null,0,null,null,null,null,null,null,0,null,null,null,null,null,0,null,null,null,null,null,0,null,null,null,null,null,null,null,null,null,null,null,null,0,null,null,null,0,null,null,0,null,null,null,null,null,null,0,null,null,null,null,null,null,0,0,0,0,0]
[95,96,96,{"$f":"Insert!A98","v":0},{"$f":"Insert!B98","v":0},{"$f":"Insert!C98","v":0},{"$f":"Insert!D98","v":0},{"$f":"Insert!E98","v":0},null,null,null,null,null,0,null,null,null,null,null,0,null,null,null,null,null,null,null,null,0,null,null,null,null,null,null,null,null,0,null,null,null,null,null,0,null,null,null,0,null,null,null,null,null,null,0,null,null,null,null,null,0,null,null,null,null,null,0,null,null,null,null,null,null,null,null,null,null,null,null,0,null,null,null,0,null,null,0,null,null,null,null,null,null,0,null,null,null,null,null,null,0,0,0,0,0]
[96,97,97,{"$f":"Insert!A99","v":0},{"$f":"Insert!B99","v":0},{"$f":"Insert!C99","v":0},{"$f":"Insert!D99","v":0},{"$f":"Insert!E99","v":0},null,null,null,null,null,0,null,null,null,null,null,0,null,null,null,null,null,null,null,null,0,null,null,null,null,null,null,null,null,0,null,null,null,null,null,0,null,null,null,0,null,null,null,null,null,null,0,null,null,null,null,null,0,null,null,null,null,null,0,null,null,null,null,null,null,null,null,null,null,null,null,0,null,null,null,0,null,null,0,null,null,null,null,null,null,0,null,null,null,null,null,null,0,0,0,0,0]
[97,98,97,{"$f":"Insert!A100","v":0},{"$f":"Insert!B100","v":0},{"$f":"Insert!C100","v":0},{"$f":"Insert!D100","v":0},{"$f":"Insert!E100","v":0},null,null,null,null,null,{"$f":"SUM(I113:M113)","v":0},null,null,null,null,null,{"$f":"SUM(O113:S113)","v":0},null,null,null,null,null,null,null,null,{"$f":"ROUND((SUM(U113:AB113)/1.5),0)","v":0},null,null,null,null,null,null,null,null,{"$f":"ROUND((SUM(AD113:AK113)/1.5),0)","v":0},null,null,null,null,null,{"$f":"SUM(AM113:AQ113)","v":0},null,null,null,{"$f":"SUM(AS113:AU113)","v":0},null,null,null,null,null,null,{"$f":"ROUND((SUM(AW113:BB113)),0)","v":0},null,null,null,null,null,{"$f":"ROUND((SUM(BD113:BH113)),0)","v":0},null,null,null,null,null,{"$f":"SUM(BJ113:BN113)","v":0},null,null,null,null,null,null,null,null,null,null,null,null,{"$f":"SUM(BP113:CA113)/2","v":0},null,null,null,{"$f":"SUMIF(CC113:CE113,\">0\")","v":0},null,null,{"$f":"SUM(CG113:CH113)","v":0},null,null,null,null,null,null,{"$f":"SUM(CJ113:CO113)","v":0},null,null,null,null,null,null,0,0,0,{"$f":"ROUND(IF(CY113=4,SUM(CQ113:CT113)/1.6,IF(CY113=6,SUMIF(CQ113:CV113,\">0\")/2.4,SUM(CQ113:CT113))),0)","v":0},{"$f":"SUM(CW113+CX113+CZ113)","v":0}]
[98,99,98,{"$f":"Insert!A101","v":0},{"$f":"Insert!B101","v":0},{"$f":"Insert!C101","v":0},{"$f":"Insert!D101","v":0},{"$f":"Insert!E101","v":0},null,null,null,null,null,0,null,null,null,null,null,0,null,null,null,null,null,null,null,null,0,null,null,null,null,null,null,null,null,0,null,null,null,null,null,0,null,null,null,0,null,null,null,null,null,null,0,null,null,null,null,null,0,null,null,null,null,null,0,null,null,null,null,null,null,null,null,null,null,null,null,0,null,null,null,0,null,null,0,null,null,null,null,null,null,0,null,null,null,null,null,null,0,0,0,0,0]
[99,100,99,{"$f":"Insert!A102","v":0},{"$f":"Insert!B102","v":0},{"$f":"Insert!C102","v":0},{"$f":"Insert!D102","v":0},{"$f":"Insert!E102","v":0},null,null,null,null,null,0,null,null,null,null,null,0,null,null,null,null,null,null,null,null,0,null,null,null,null,null,null,null,null,0,null,null,null,null,null,0,null,null,null,0,null,null,null,null,null,null,0,null,null,null,null,null,0,null,null,null,null,null,0,null,null,null,null,null,null,null,null,null,null,null,null,0,null,null,null,0,null,null,0,null,null,null,null,null,null,0,null,null,null,null,null,null,0,0,0,0,0]
[100,null,100,null,null,null,null,null,null,null,null,null,null,0,null,null,null,null,null,0,null,null,null,null,null,null,null,null,0,null,null,null,null,null,null,null,null,0,null,null,null,null,null,0,null,null,null,0,null,null,null,null,null,null,0,null,null,null,null,null,0,null,null,null,null,null,0,null,null,null,null,null,null,null,null,null,null,null,null,0,null,null,null,0,null,null,0,null,null,null,null,null,null,0,null,null,null,null,null,null,0,0,0,0,0]
[null,"Total amount of learners on mark sheet",null,null,null,"TOTAL",null,null,{"$f":"SUM(I16:I116)","v":0},{"$f":"SUM(J16:J116)","v":0},0,0,0,0,0,0,0,0,0,0,0,0,0,0,0,0,0,0,0,0,0,0,0,0,0,0,0,0,0,0,0,0,0,0,0,0,0,0,0,0,0,0,0,0,0,0,0,0,0,0,0,0,0,0,0,0,0,0,0,0,0,0,{"$f":"SUM(BU16:BU116)","v":0},0,0,0,0,0,0,0,{"$f":"SUMIF(CC16:CC116,\">0\")","v":0},{"$f":"SUMIF(CD16:CD116,\">0\")","v":0},0,0,0,0,0,0,0,0,0,0,0,0,0,0,0,0,0,0,0,0,null,0,0]
[null,null,null,null,null,"AVERAGE",null,null,{"$f":"IFERROR(ROUND(SUM(I117/$I$120),2),\"0\")","v":"0"},{"$f":"IFERROR(ROUND(SUM(J117/$I$120),2),\"0\")","v":"0"},"0","0","0","0","0","0","0","0","0","0","0","0","0","0","0","0","0","0","0","0","0","0","0","0","0","0","0","0","0","0","0","0","0","0","0","0","0","0","0","0","0","0","0","0","0","0","0","0","0","0","0","0","0","0","0","0","0","0","0","0","0","0",{"$f":"IFERROR(ROUND(SUM(BU117/$I$120),2),\"0\")","v":"0"},"0","0","0","0","0","0","0","0","0","0","0","0","0","0","0","0","0","0","0","0","0","0","0","0","0","0","0","0","0",null,"0","0"]
[null,null,null,null,null,"PERCENTAGE",null,null,{"$f":"IFERROR(ROUND((SUM(I118/I12)*100),0),\"0\")","v":0},{"$f":"IFERROR(ROUND((SUM(J118/J12)*100),0),\"0\")","v":0},0,0,0,0,0,0,0,0,0,0,0,0,0,0,0,0,0,0,0,0,0,0,0,0,0,0,0,0,0,0,0,0,0,0,0,0,0,0,0,0,0,0,0,0,0,0,0,0,0,0,0,0,0,0,0,0,0,0,0,0,0,0,{"$f":"IFERROR(ROUND((SUM(BU118/BU12)*100),0),\"0\")","v":0},0,0,0,0,0,0,0,0,0,0,0,0,0,0,0,0,0,0,0,0,0,0,0,0,0,0,0,0,0,null,0,0]
[null,"Layout and correctness of the drawings presentation                      (See ANNEXURE A on page 25)",null,null,null,"TOTAL HANDED IN",null,null,{"$f":"COUNT(I16:I116)","v":0},{"$f":"COUNT(J16:J116)","v":0},{"$f":"COUNT(K16:K116)","v":0},{"$f":"COUNT(L16:L116)","v":0},{"$f":"COUNT(M16:M116)","v":0},null,{"$f":"COUNT(O16:O116)","v":0},0,0,0,0,null,0,0,0,0,0,0,0,null,null,0,0,0,0,0,0,0,null,null,0,0,0,0,0,null,0,0,0,null,0,0,0,0,0,0,null,0,0,0,0,0,null,0,0,{"$f":"COUNT(BL16:BL116)","v":0},0,0,null,0,0,0,null,null,null,0,null,null,null,0,0,null,0,0,0,null,0,0,null,0,0,0,0,0,0,null,0,0,0,0,0,0]

{"sheet":"Mech Assessment","index":12,"n_rows":179,"n_cols":22,"rows_kept":179,"cut":false,"hidden":false,"merged":[[5,0,6,0],[5,2,5,8],[5,9,9,9],[5,10,9,10],[5,11,9,11],[5,12,9,12],[5,13,9,14],[6,2,6,8],[13,2,13,8],[13,13,13,14],[0,0,0,14],[1,1,1,5],[2,1,2,5],[3,1,3,5],[4,1,4,5],[2,0,3,0],[2,11,2,12],[2,13,2,14],[1,6,1,8],[2,6,2,8],[3,6,3,8],[4,6,4,8],[14,13,14,14],[15,2,15,8],[15,13,15,14],[7,0,9,0],[7,2,7,8],[8,2,8,8],[9,2,9,8],[10,1,10,14],[11,0,16,0],[11,2,11,8],[11,13,11,14],[12,2,12,8],[12,13,12,14],[16,1,16,9],[16,13,16,14],[14,2,14,8],[17,1,17,14],[18,0,23,0],[18,1,20,2],[18,4,18,8],[18,13,18,14],[19,4,19,8],[19,13,19,14],[20,4,20,8],[25,0,33,0],[25,1,33,2],[25,3,25,8],[26,3,26,8],[27,3,27,8],[28,3,28,8],[20,13,20,14],[21,1,21,8],[21,13,21,14],[22,1,22,8],[22,13,22,14],[29,3,29,8],[30,3,30,8],[31,3,31,8],[32,3,32,8],[33,3,33,8],[23,1,23,9],[23,13,23,14],[24,1,24,9],[24,10,24,12],[39,13,39,14],[40,1,40,8],[40,13,40,14],[41,1,41,9],[41,13,41,14],[42,1,42,14],[34,0,34,14],[35,1,35,14],[36,0,41,0],[36,1,36,8],[36,13,36,14],[37,1,37,8],[37,13,37,14],[38,1,38,8],[38,13,38,14],[39,1,39,8],[43,0,47,0],[43,1,43,14],[44,1,44,8],[44,13,44,14],[45,1,45,8],[45,13,45,14],[46,1,46,8],[46,13,46,14],[47,1,47,8],[47,13,47,14],[53,13,53,14],[54,2,54,8],[54,13,54,14],[55,2,55,8],[55,13,55,14],[56,1,56,9],[56,13,56,14],[48,1,48,14],[49,0,56,0],[49,2,49,14],[50,2,50,8],[50,13,50,14],[51,2,51,8],[51,13,51,14],[52,2,52,8],[52,13,52,14],[53,2,53,8],[64,0,70,0],[64,2,64,14],[65,2,65,8],[65,13,65,14],[66,2,66,8],[66,13,66,14],[57,0,63,0],[57,2,57,14],[58,2,58,8],[58,13,58,14],[59,2,59,8],[59,13,59,14],[60,2,60,8],[60,13,60,14],[61,2,61,8],[61,13,61,14],[67,2,67,8],[67,13,67,14],[68,2,68,8],[68,13,68,14],[69,2,69,8],[69,13,69,14],[62,2,62,8],[62,13,62,14],[63,1,63,9],[63,13,63,14],[75,1,75,8],[75,13,75,14],[76,1,76,8],[76,13,76,14],[77,1,77,8],[77,13,77,14],[70,1,70,9],[70,13,70,14],[71,1,71,14],[72,1,72,8],[72,13,72,14],[73,1,73,8],[73,13,73,14],[74,1,74,8],[74,13,74,14],[85,1,85,9],[85,13,85,14],[86,1,86,14],[87,0,90,0],[87,1,87,8],[87,13,87,14],[88,1,88,8],[88,13,88,14],[89,1,89,8],[89,13,89,14],[72,0,85,0],[90,13,90,14],[82,1,82,8],[82,13,82,14],[83,1,83,8],[83,13,83,14],[84,1,84,8],[84,13,84,14],[78,1,78,8],[78,13,78,14],[79,1,79,8],[79,13,79,14],[80,1,80,8],[80,13,80,14],[91,1,91,14],[92,0,94,0],[92,1,92,8],[92,13,92,14],[93,1,93,8],[93,13,93,14],[94,1,94,8],[94,13,94,14],[100,1,100,8],[100,13,100,14],[101,1,101,8],[101,13,101,14],[102,13,102,14],[95,1,95,14],[96,0,102,0],[96,1,96,8],[96,13,96,14],[97,1,97,8],[97,13,97,14],[98,1,98,8],[98,13,98,14],[99,1,99,8],[99,13,99,14],[102,1,102,8],[103,0,103,14],[104,1,104,14],[105,0,107,0],[105,1,105,8],[105,13,105,14],[106,1,106,8],[106,13,106,14],[107,1,107,9],[107,13,107,14],[112,1,112,14],[113,0,115,0],[113,1,113,8],[113,13,113,14],[114,1,114,8],[114,13,114,14],[115,1,115,9],[115,13,115,14],[108,1,108,14],[109,0,111,0],[109,1,109,8],[109,13,109,14],[110,1,110,8],[110,13,110,14],[111,1,111,9],[111,13,111,14],[121,0,121,14],[122,0,122,3],[122,4,122,14],[123,0,123,3],[123,4,123,14],[124,0,124,3],[124,4,124,14],[116,0,117,12],[116,13,116,14],[117,13,117,14],[118,0,119,12],[118,13,118,14],[119,13,119,14],[125,0,125,3],[125,4,125,14],[126,0,126,3],[126,4,126,8],[126,9,126,14],[127,0,127,2],[127,4,127,7],[127,9,127,12],[127,13,127,14],[128,0,134,0],[128,1,134,2],[128,3,133,3],[128,4,130,7],[128,8,129,8],[128,9,140,9],[135,0,138,0],[135,1,138,2],[135,3,137,3],[139,0,149,0],[139,1,149,1],[139,2,143,2],[139,3,142,3],[144,2,149,2],[144,3,148,3],[128,10,134,10],[128,11,134,12],[128,13,133,14],[131,4,152,4],[131,5,152,5],[131,6,136,6],[131,8,135,8],[132,7,133,7],[134,7,136,7],[134,13,134,14],[135,10,140,12],[135,13,140,14],[137,6,141,6],[137,8,140,8],[138,7,139,7],[140,7,141,7],[145,7,147,7],[146,13,146,14],[147,10,152,12],[147,13,151,14],[148,6,152,6],[148,7,149,7],[148,8,151,8],[141,9,152,9],[141,10,146,10],[141,11,146,12],[141,13,145,14],[142,6,147,6],[142,8,146,8],[143,7,144,7],[153,10,156,10],[153,11,156,12],[153,13,155,14],[156,13,156,14],[157,0,160,0],[157,1,160,2],[157,3,159,3],[157,6,158,7],[157,10,160,12],[157,13,159,14],[150,0,156,0],[150,1,156,2],[150,3,155,3],[150,7,152,7],[152,13,152,14],[153,4,160,4],[153,5,160,5],[153,6,156,7],[153,8,159,8],[153,9,160,9],[159,6,160,7],[160,13,160,14],[167,0,167,3],[167,4,167,8],[167,9,167,14],[163,13,163,14],[164,13,164,14],[165,0,165,2],[165,4,165,7],[165,9,165,12],[165,13,165,14],[161,0,164,0],[161,1,164,2],[161,3,163,3],[161,4,164,8],[161,9,162,12],[161,13,161,14],[162,13,162,14],[163,9,164,12],[166,0,166,2],[166,4,166,7],[166,9,166,12],[166,13,166,14],[168,4,170,7],[168,8,169,8],[168,9,170,10],[177,0,178,2],[177,3,178,6],[177,7,177,8],[177,9,178,11],[177,12,177,14],[178,7,178,8],[178,12,178,14],[174,11,174,12],[174,13,174,14],[175,11,175,12],[175,13,175,14],[176,11,176,12],[176,13,176,14],[168,11,168,12],[172,7,172,8],[172,12,172,14],[81,1,81,8],[90,1,90,8],[81,13,81,14],[3,17,7,18],[173,0,173,3],[173,4,173,8],[173,9,173,14],[174,0,176,2],[174,3,175,3],[174,4,176,7],[174,8,175,8],[174,9,176,10],[168,13,168,14],[169,11,169,12],[169,13,169,14],[170,11,170,12],[170,13,170,14],[171,0,172,2],[171,3,172,6],[171,7,171,8],[171,9,172,11],[171,12,171,14],[168,0,170,2],[168,3,169,3]]}
["ASSESSMENT CRITERIA AND CHECKLIST FOR THE 2020 EGD GRADE 12 MECHANICAL PAT",null,null,null,null,null,null,null,null,null,null,null,null,null,null,null,null,"Surname:",0,null,"Rec",32]
[null,"NAME OF SCHOOL:   ",null,null,null,null,{"$f":"TERM1!$F$5","v":0},null,null,null,null,null,null,null,null,null,null,"Name:",{"$f":"IFERROR(VLOOKUP($S$1,'PAT Mech Detailed'!$F$16:$DB$116,2,FALSE),\"\")","v":0},null,null,{"$f":"OFFSET(Insert!$C$2,$V$1,0)","v":0}]
[null,"NAME AND SURNAME OF LEARNER:   ",null,null,null,null,{"$f":"IF(S1=\"\",\"\",S2&\" \"&S1)","v":"0 0"},null,null,null,null,"ADMISSION:",null,{"$f":"_xlfn.XLOOKUP($S$1,'PAT Mech Detailed'!F16:F116,'PAT Mech Detailed'!E16:E116,,)","v":0},{"$f":"VLOOKUP($S$1,'PAT Civil Detailed'!$F$16:$DG$115,2,FALSE)","v":0}]
[null,"NAME AND SURNAME OF TEACHER:   ",null,null,null,null,{"$f":"TERM1!$F$7","v":0},null,null,null,null,null,null,null,null,null,null,"Choose a leaerner's surename by clicking in the block right of \"Surname\"\nOn the right of the block is a dropdown menu. Click on the triangle and select a learners surname. "]
[null,"NAME AND SURNAME OF MODERATOR:   ",null,null,null,null,{"$f":"TERM1!$F$9","v":0}]
["1 mark level descriptive",0,"Requirement not met or presented incorrectly",null,null,null,null,null,null,"Due date for completion","Completed","Self evaluation","Maximum mark","Moderated mark"]
[null,1,"Requirement has been met and/or presented correctly"]
["2 mark level descriptive",0,"Requirement not met, or less than 30% evidence of knowledge shown (very poor)"]
[null,1,"Requirement included and at least 30%+ evidence of knowledge shown (avg.)"]
[null,2,"Presentation shows at least 80% or more evidence of knowledge (very good)"]
[1,"Design Brief"]
[null,1.1000000000000001,"1st paragraph: background and comprehensive description of what has to be designed",null,null,null,null,null,null,null,null,null,2,{"$f":"IFERROR(VLOOKUP($S$1,'PAT Mech Detailed'!$F$16:$DF$116,4,FALSE),\"\")","v":0},{"$f":"VLOOKUP($S$1,'PAT Civil Detailed'!$F$16:$DG$115,2,FALSE)","v":0}]
[null,1.2,"2nd paragraph: your role and description of complete design process you are going to follow",null,null,null,null,null,null,null,null,null,2,{"$f":"IFERROR(VLOOKUP($S$1,'PAT Mech Detailed'!$F$16:$DF$116,5,FALSE),\"\")","v":0},{"$f":"VLOOKUP($S$1,'PAT Civil Detailed'!$F$16:$DG$115,2,FALSE)","v":0}]
[null,1.3,"A list of ALL the specifications of the valve",null,null,null,null,null,null,null,null,null,2,{"$f":"IFERROR(VLOOKUP($S$1,'PAT Mech Detailed'!$F$16:$DF$116,6,FALSE),\"\")","v":0},{"$f":"VLOOKUP($S$1,'PAT Civil Detailed'!$F$16:$DG$115,2,FALSE)","v":0}]
[null,1.4,"A list of at least THREE constraints of the valve",null,null,null,null,null,null,null,null,null,2,{"$f":"IFERROR(VLOOKUP($S$1,'PAT Mech Detailed'!$F$16:$DF$116,7,FALSE),\"\")","v":0},{"$f":"VLOOKUP($S$1,'PAT Civil Detailed'!$F$16:$DG$115,2,FALSE)","v":0}]
[null,1.5,"A management plan with target dates for ALL the presentation requirements",null,null,null,null,null,null,null,null,null,2,{"$f":"IFERROR(VLOOKUP($S$1,'PAT Mech Detailed'!$F$16:$DF$116,8,FALSE),\"\")","v":0},{"$f":"VLOOKUP($S$1,'PAT Civil Detailed'!$F$16:$DG$115,2,FALSE)","v":0}]
[null,"TOTAL",null,null,null,null,null,null,null,null,null,null,{"$f":"SUM(M12:M16)","v":10},{"$f":"SUM(N12:N16)","v":0}]
[2,"Research (This should be restricted to a maximum of THREE A4 or TWO A3 pages per research topic)"]
[null,"Relevant and usable research on:",null,2.1,"Materials used for each component of the valve",null,null,null,null,null,null,null,2,{"$f":"IFERROR(VLOOKUP($S$1,'PAT Mech Detailed'!$F$16:$DF$116,10,FALSE),\"\")","v":0},{"$f":"VLOOKUP($S$1,'PAT Civil Detailed'!$F$16:$DG$115,2,FALSE)","v":0}]
[null,null,null,2.2000000000000002,"Design features/function/purpose of each component of the valve",null,null,null,null,null,null,null,2,{"$f":"IFERROR(VLOOKUP($S$1,'PAT Mech Detailed'!$F$16:$DF$116,11,FALSE),\"\")","v":0},{"$f":"VLOOKUP($S$1,'PAT Civil Detailed'!$F$16:$DG$115,2,FALSE)","v":0}]
[null,null,null,2.2999999999999998,"The components of another similar valve",null,null,null,null,null,null,null,2,{"$f":"IFERROR(VLOOKUP($S$1,'PAT Mech Detailed'!$F$16:$DF$116,12,FALSE),\"\")","v":0},{"$f":"VLOOKUP($S$1,'PAT Civil Detailed'!$F$16:$DG$115,2,FALSE)","v":0}]
[null,"Clear evidence that the research was used in your design solutions",null,null,null,null,null,null,null,null,null,null,2,{"$f":"IFERROR(VLOOKUP($S$1,'PAT Mech Detailed'!$F$16:$DF$116,13,FALSE),\"\")","v":0},{"$f":"VLOOKUP($S$1,'PAT Civil Detailed'!$F$16:$DG$115,2,FALSE)","v":0}]
[null,"A list of ALL references (Bibliography)",null,null,null,null,null,null,null,null,null,null,2,{"$f":"IFERROR(VLOOKUP($S$1,'PAT Mech Detailed'!$F$16:$DF$116,14,FALSE),\"\")","v":0},{"$f":"VLOOKUP($S$1,'PAT Civil Detailed'!$F$16:$DG$115,2,FALSE)","v":0}]
[null,"TOTAL",null,null,null,null,null,null,null,null,null,null,{"$f":"SUM(M19:M23)","v":10},{"$f":"SUM(N19:N23)","v":0}]
[3,"Freehand drawings of TWO possible design solutions",null,null,null,null,null,null,null,null,"SOLUTION No:",null,null,1,2]
[null,"Assess each freehand solution as follows:",null,"Third-angle orthographic views of the identified part(s)",null,null,null,null,null,null,null,null,2,{"$f":"IFERROR(VLOOKUP($S$1,'PAT Mech Detailed'!$F$16:$DF$116,16,FALSE),\"\")","v":0},{"$f":"IFERROR(VLOOKUP($S$1,'PAT Mech Detailed'!$F$16:$DF$116,25,FALSE),\"\")","v":0}]
[null,null,null,"Isometric drawing of the identified part(s)",null,null,null,null,null,null,null,null,2,{"$f":"IFERROR(VLOOKUP($S$1,'PAT Mech Detailed'!$F$16:$DF$116,17,FALSE),\"\")","v":0},{"$f":"IFERROR(VLOOKUP($S$1,'PAT Mech Detailed'!$F$16:$DF$116,26,FALSE),\"\")","v":0}]
[null,null,null,"Correct presentation of ALL the parts and features",null,null,null,null,null,null,null,null,1,{"$f":"IFERROR(VLOOKUP($S$1,'PAT Mech Detailed'!$F$16:$DF$116,18,FALSE),\"\")","v":0},{"$f":"IFERROR(VLOOKUP($S$1,'PAT Mech Detailed'!$F$16:$DF$116,27,FALSE),\"\")","v":0}]
[null,null,null,"Relative proportion of ALL parts and features to each other",null,null,null,null,null,null,null,null,2,{"$f":"IFERROR(VLOOKUP($S$1,'PAT Mech Detailed'!$F$16:$DF$116,19,FALSE),\"\")","v":0},{"$f":"IFERROR(VLOOKUP($S$1,'PAT Mech Detailed'!$F$16:$DF$116,28,FALSE),\"\")","v":0}]
[null,null,null,"Labels and explanatory notes",null,null,null,null,null,null,null,null,2,{"$f":"IFERROR(VLOOKUP($S$1,'PAT Mech Detailed'!$F$16:$DF$116,20,FALSE),\"\")","v":0},{"$f":"IFERROR(VLOOKUP($S$1,'PAT Mech Detailed'!$F$16:$DF$116,29,FALSE),\"\")","v":0}]
[null,null,null,"Dimensioning",null,null,null,null,null,null,null,null,2,{"$f":"IFERROR(VLOOKUP($S$1,'PAT Mech Detailed'!$F$16:$DF$116,21,FALSE),\"\")","v":0},{"$f":"IFERROR(VLOOKUP($S$1,'PAT Mech Detailed'!$F$16:$DF$116,30,FALSE),\"\")","v":0}]
[null,null,null,"Description of improvement/modification/re-design",null,null,null,null,null,null,null,null,2,{"$f":"IFERROR(VLOOKUP($S$1,'PAT Mech Detailed'!$F$16:$DF$116,22,FALSE),\"\")","v":0},{"$f":"IFERROR(VLOOKUP($S$1,'PAT Mech Detailed'!$F$16:$DF$116,31,FALSE),\"\")","v":0}]
[null,null,null,"Functionality of the improvement/strengthening/modification",null,null,null,null,null,null,null,null,2,{"$f":"IFERROR(VLOOKUP($S$1,'PAT Mech Detailed'!$F$16:$DF$116,23,FALSE),\"\")","v":0},{"$f":"IFERROR(VLOOKUP($S$1,'PAT Mech Detailed'!$F$16:$DF$116,32,FALSE),\"\")","v":0}]
[null,null,null,"Subtotal = 15 ÷ 1,5 = TOTAL",null,null,null,null,null,10,"SOLUTION TOTAL",null,{"$f":"ROUND((SUM(M26:M33)/1.5),0)","v":10},{"$f":"ROUND((SUM(N26:N33)/1.5),0)","v":0},0]
["(1 = 1 ; 2 = 1 ; 3 = 2 ; 4 = 3 ; 5 = 3 ; 6 = 4 ; 7 = 5 ; 8 = 5 ; 9 = 6 ; 10 = 7 ; 11 = 7 ; 12 = 8 ; 13 = 9 ; 14 = 9 ; 15 = 10)"]
[4,"Selecting the best freehand solution (This must be a separate presentation.)"]
[null,"An appropriate table created for the selection process",null,null,null,null,null,null,null,null,null,null,2,{"$f":"IFERROR(VLOOKUP($S$1,'PAT Mech Detailed'!$F$16:$DF$116,34,FALSE),\"\")","v":0},{"$f":"VLOOKUP($S$1,'PAT Civil Detailed'!$F$16:$DG$115,32,FALSE)","v":0}]
[null,"A minimum of FOUR relevant and descriptive criteria that will facilitate measurable comparisons",null,null,null,null,null,null,null,null,null,null,2,{"$f":"IFERROR(VLOOKUP($S$1,'PAT Mech Detailed'!$F$16:$DF$116,35,FALSE),\"\")","v":0},{"$f":"VLOOKUP($S$1,'PAT Civil Detailed'!$F$16:$DG$115,32,FALSE)","v":0}]
[null,"A simple rating scale created and used to score each solution against each criterion",null,null,null,null,null,null,null,null,null,null,2,{"$f":"IFERROR(VLOOKUP($S$1,'PAT Mech Detailed'!$F$16:$DF$116,36,FALSE),\"\")","v":0},{"$f":"VLOOKUP($S$1,'PAT Civil Detailed'!$F$16:$DG$115,32,FALSE)","v":0}]
[null,"Each score justified by describing the positive or negative aspects against each criterion",null,null,null,null,null,null,null,null,null,null,2,{"$f":"IFERROR(VLOOKUP($S$1,'PAT Mech Detailed'!$F$16:$DF$116,37,FALSE),\"\")","v":0},{"$f":"VLOOKUP($S$1,'PAT Civil Detailed'!$F$16:$DG$115,32,FALSE)","v":0}]
[null,"Comprehensive summary with reasons for selected solution (including possible late changes)",null,null,null,null,null,null,null,null,null,null,2,{"$f":"IFERROR(VLOOKUP($S$1,'PAT Mech Detailed'!$F$16:$DF$116,38,FALSE),\"\")","v":0},{"$f":"VLOOKUP($S$1,'PAT Civil Detailed'!$F$16:$DG$115,32,FALSE)","v":0}]
[null,"TOTAL",null,null,null,null,null,null,null,null,null,null,{"$f":"SUM(M37:M41)","v":10},{"$f":"SUM(N37:N41)","v":0}]
[5,"Working drawings and a pictorial drawing of your selected valve and/or selected change(s)"]
[null,"Drawing sheet preparation"]
[null,"Appropriately sized drawing sheets",null,null,null,null,null,null,null,null,null,null,1,{"$f":"IFERROR(VLOOKUP($S$1,'PAT Mech Detailed'!$F$16:$DF$116,40,FALSE),\"\")","v":0},{"$f":"VLOOKUP($S$1,'PAT Civil Detailed'!$F$16:$DG$115,32,FALSE)","v":0}]
[null,"Borders on all drawing sheets of all the working drawings",null,null,null,null,null,null,null,null,null,null,2,{"$f":"IFERROR(VLOOKUP($S$1,'PAT Mech Detailed'!$F$16:$DF$116,41,FALSE),\"\")","v":0},{"$f":"VLOOKUP($S$1,'PAT Civil Detailed'!$F$16:$DG$115,32,FALSE)","v":0}]
[null,"Complete EGD NSC P2 Q1 compliant MECHANICAL TITLE BLOCK on the drawing sheet of 5.1.",null,null,null,null,null,null,null,null,null,null,7,{"$f":"IFERROR(VLOOKUP($S$1,'PAT Mech Detailed'!$F$16:$DF$116,42,FALSE),\"\")","v":0},{"$f":"VLOOKUP($S$1,'PAT Civil Detailed'!$F$16:$DG$115,32,FALSE)","v":0}]
[null,"NOTE: Use the 7-mark simplified rubric on page 45 of the CAPS.",null,null,null,null,null,null,null,"TOTAL",null,null,{"$f":"SUM(M45:M47)","v":10},{"$f":"SUM(N45:N47)","v":0}]
["5.1","ASSEMBLY DRAWING of your selected valve, before any changes"]
[null,"5.1.1","FRONT VIEW before any changes"]
[null,null,"ALL the parts included and drawn correctly according to the actual valve",null,null,null,null,null,null,null,null,null,2,{"$f":"IFERROR(VLOOKUP($S$1,'PAT Mech Detailed'!$F$16:$DF$116,44,FALSE),\"\")","v":0},{"$f":"VLOOKUP($S$1,'PAT Civil Detailed'!$F$16:$DG$115,32,FALSE)","v":0}]
[null,null,"ALL hatching detail or, if not sectioned, ALL external features",null,null,null,null,null,null,null,null,null,2,{"$f":"IFERROR(VLOOKUP($S$1,'PAT Mech Detailed'!$F$16:$DF$116,45,FALSE),\"\")","v":0},{"$f":"VLOOKUP($S$1,'PAT Civil Detailed'!$F$16:$DG$115,32,FALSE)","v":0}]
[null,null,"ALL fasteners drawn correctly in ALL views",null,null,null,null,null,null,null,null,null,2,{"$f":"IFERROR(VLOOKUP($S$1,'PAT Mech Detailed'!$F$16:$DF$116,46,FALSE),\"\")","v":0},{"$f":"VLOOKUP($S$1,'PAT Civil Detailed'!$F$16:$DG$115,32,FALSE)","v":0}]
[null,null,"Labels and notes on ALL views",null,null,null,null,null,null,null,null,null,2,{"$f":"IFERROR(VLOOKUP($S$1,'PAT Mech Detailed'!$F$16:$DF$116,47,FALSE),\"\")","v":0},{"$f":"VLOOKUP($S$1,'PAT Civil Detailed'!$F$16:$DG$115,32,FALSE)","v":0}]
[null,null,"Projection symbol",null,null,null,null,null,null,null,null,null,1,{"$f":"IFERROR(VLOOKUP($S$1,'PAT Mech Detailed'!$F$16:$DF$116,48,FALSE),\"\")","v":0},{"$f":"VLOOKUP($S$1,'PAT Civil Detailed'!$F$16:$DG$115,32,FALSE)","v":0}]
[null,null,"Suitable scale selected for the assembly drawing, and indicated correctly",null,null,null,null,null,null,null,null,null,1,{"$f":"IFERROR(VLOOKUP($S$1,'PAT Mech Detailed'!$F$16:$DF$116,49,FALSE),\"\")","v":0},{"$f":"VLOOKUP($S$1,'PAT Civil Detailed'!$F$16:$DG$115,32,FALSE)","v":0}]
[null,"TOTAL",null,null,null,null,null,null,null,null,null,null,{"$f":"SUM(M51:M56)","v":10},{"$f":"SUM(N51:N56)","v":0}]
[null,"5.1.2","Second PRIMARY VIEW before any changes"]
[null,null,"ALL the components included and drawn correctly according to the actual valve",null,null,null,null,null,null,null,null,null,2,{"$f":"IFERROR(VLOOKUP($S$1,'PAT Mech Detailed'!$F$16:$DF$116,51,FALSE),\"\")","v":0},{"$f":"VLOOKUP($S$1,'PAT Civil Detailed'!$F$16:$DG$115,32,FALSE)","v":0}]
[null,null,"All hatching detail or, if not sectioned, external features",null,null,null,null,null,null,null,null,null,2,{"$f":"IFERROR(VLOOKUP($S$1,'PAT Mech Detailed'!$F$16:$DF$116,52,FALSE),\"\")","v":0},{"$f":"VLOOKUP($S$1,'PAT Civil Detailed'!$F$16:$DG$115,32,FALSE)","v":0}]
[null,null,"Dimensions on ALL views",null,null,null,null,null,null,null,null,null,2,{"$f":"IFERROR(VLOOKUP($S$1,'PAT Mech Detailed'!$F$16:$DF$116,53,FALSE),\"\")","v":0},{"$f":"VLOOKUP($S$1,'PAT Civil Detailed'!$F$16:$DG$115,32,FALSE)","v":0}]
[null,null,"ALL centre lines included on ALL views",null,null,null,null,null,null,null,null,null,2,{"$f":"IFERROR(VLOOKUP($S$1,'PAT Mech Detailed'!$F$16:$DF$116,54,FALSE),\"\")","v":0},{"$f":"VLOOKUP($S$1,'PAT Civil Detailed'!$F$16:$DG$115,32,FALSE)","v":0}]
[null,null,"ALL FOUR views drawn correctly in third-angle orthographic projection",null,null,null,null,null,null,null,null,null,2,{"$f":"IFERROR(VLOOKUP($S$1,'PAT Mech Detailed'!$F$16:$DF$116,55,FALSE),\"\")","v":0},{"$f":"VLOOKUP($S$1,'PAT Civil Detailed'!$F$16:$DG$115,32,FALSE)","v":0}]
[null,"TOTAL",null,null,null,null,null,null,null,null,null,null,{"$f":"SUM(M59:M63)","v":10},{"$f":"SUM(N59:N63)","v":0}]
[null,"5.1.3","TWO further SECONDARY VIEWS before any changes"]
[null,null,"Appropriate secondary views selected",null,null,null,null,null,null,null,null,null,2,{"$f":"IFERROR(VLOOKUP($S$1,'PAT Mech Detailed'!$F$16:$DF$116,57,FALSE),\"\")","v":0},{"$f":"VLOOKUP($S$1,'PAT Civil Detailed'!$F$16:$DG$115,32,FALSE)","v":0}]
[null,null,"ALL the components included and drawn correctly according to the actual valve",null,null,null,null,null,null,null,null,null,2,{"$f":"IFERROR(VLOOKUP($S$1,'PAT Mech Detailed'!$F$16:$DF$116,58,FALSE),\"\")","v":0},{"$f":"VLOOKUP($S$1,'PAT Civil Detailed'!$F$16:$DG$115,32,FALSE)","v":0}]
[null,null,"All hatching detail or, if not sectioned, external features",null,null,null,null,null,null,null,null,null,2,{"$f":"IFERROR(VLOOKUP($S$1,'PAT Mech Detailed'!$F$16:$DF$116,59,FALSE),\"\")","v":0},{"$f":"VLOOKUP($S$1,'PAT Civil Detailed'!$F$16:$DG$115,32,FALSE)","v":0}]
[null,null,"TWO views sectioned or contain types of sections",null,null,null,null,null,null,null,null,null,2,{"$f":"IFERROR(VLOOKUP($S$1,'PAT Mech Detailed'!$F$16:$DF$116,60,FALSE),\"\")","v":0},{"$f":"VLOOKUP($S$1,'PAT Civil Detailed'!$F$16:$DG$115,32,FALSE)","v":0}]
[null,null,"Correct cutting planes for the TWO sectional views and/or types of sections",null,null,null,null,null,null,null,null,null,2,{"$f":"IFERROR(VLOOKUP($S$1,'PAT Mech Detailed'!$F$16:$DF$116,61,FALSE),\"\")","v":0},{"$f":"VLOOKUP($S$1,'PAT Civil Detailed'!$F$16:$DG$115,32,FALSE)","v":0}]
[null,"TOTAL",null,null,null,null,null,null,null,null,null,null,{"$f":"SUM(M66:M70)","v":10},{"$f":"SUM(N66:N70)","v":0}]
["5.2","DETAILED DRAWING of the identified part(s), clearly showing the improvement/strengthening/modification"]
[null,"Appropriate view selected as the FRONT VIEW, and is drawn correctly",null,null,null,null,null,null,null,null,null,null,2,{"$f":"IFERROR(VLOOKUP($S$1,'PAT Mech Detailed'!$F$16:$DF$116,63,FALSE),\"\")","v":0},{"$f":"VLOOKUP($S$1,'PAT Civil Detailed'!$F$16:$DG$115,32,FALSE)","v":0}]
[null,"TWO other relevant VIEWS selected, and drawn correctly",null,null,null,null,null,null,null,null,null,null,2,{"$f":"IFERROR(VLOOKUP($S$1,'PAT Mech Detailed'!$F$16:$DF$116,64,FALSE),\"\")","v":0},{"$f":"VLOOKUP($S$1,'PAT Civil Detailed'!$F$16:$DG$115,32,FALSE)","v":0}]
[null,"Improvement/Strengthening/Modification correlates with selected freehand solution",null,null,null,null,null,null,null,null,null,null,2,{"$f":"IFERROR(VLOOKUP($S$1,'PAT Mech Detailed'!$F$16:$DF$116,65,FALSE),\"\")","v":0},{"$f":"VLOOKUP($S$1,'PAT Civil Detailed'!$F$16:$DG$115,32,FALSE)","v":0}]
[null,"Title, as well as comprehensive explanatory labels and notes",null,null,null,null,null,null,null,null,null,null,2,{"$f":"IFERROR(VLOOKUP($S$1,'PAT Mech Detailed'!$F$16:$DF$116,66,FALSE),\"\")","v":0},{"$f":"VLOOKUP($S$1,'PAT Civil Detailed'!$F$16:$DG$115,32,FALSE)","v":0}]
[null,"Detailed dimensions",null,null,null,null,null,null,null,null,null,null,2,{"$f":"IFERROR(VLOOKUP($S$1,'PAT Mech Detailed'!$F$16:$DF$116,67,FALSE),\"\")","v":0},{"$f":"VLOOKUP($S$1,'PAT Civil Detailed'!$F$16:$DG$115,32,FALSE)","v":0}]
[null,"ONE view sectioned, or contain types of sections, and drawn correctly",null,null,null,null,null,null,null,null,null,null,2,{"$f":"IFERROR(VLOOKUP($S$1,'PAT Mech Detailed'!$F$16:$DF$116,68,FALSE),\"\")","v":0},{"$f":"VLOOKUP($S$1,'PAT Civil Detailed'!$F$16:$DG$115,32,FALSE)","v":0}]
[null,"Cutting plane(s)",null,null,null,null,null,null,null,null,null,null,1,{"$f":"IFERROR(VLOOKUP($S$1,'PAT Mech Detailed'!$F$16:$DF$116,69,FALSE),\"\")","v":0},{"$f":"VLOOKUP($S$1,'PAT Civil Detailed'!$F$16:$DG$115,32,FALSE)","v":0}]
[null,"ALL hatching detail",null,null,null,null,null,null,null,null,null,null,2,{"$f":"IFERROR(VLOOKUP($S$1,'PAT Mech Detailed'!$F$16:$DF$116,70,FALSE),\"\")","v":0},{"$f":"VLOOKUP($S$1,'PAT Civil Detailed'!$F$16:$DG$115,32,FALSE)","v":0}]
[null,"Relevant welding symbols and/or machining symbols and/or tolerances",null,null,null,null,null,null,null,null,null,null,2,{"$f":"IFERROR(VLOOKUP($S$1,'PAT Mech Detailed'!$F$16:$DF$116,71,FALSE),\"\")","v":0},{"$f":"VLOOKUP($S$1,'PAT Civil Detailed'!$F$16:$DG$115,32,FALSE)","v":0}]
[null,"Projection symbol",null,null,null,null,null,null,null,null,null,null,1,{"$f":"IFERROR(VLOOKUP($S$1,'PAT Mech Detailed'!$F$16:$DF$116,72,FALSE),\"\")","v":0},{"$f":"VLOOKUP($S$1,'PAT Civil Detailed'!$F$16:$DG$115,32,FALSE)","v":0}]
[null,"Suitable scale selected and indicated correctly",null,null,null,null,null,null,null,null,null,null,1,{"$f":"IFERROR(VLOOKUP($S$1,'PAT Mech Detailed'!$F$16:$DF$116,73,FALSE),\"\")","v":0},{"$f":"VLOOKUP($S$1,'PAT Civil Detailed'!$F$16:$DG$115,32,FALSE)","v":0}]
[null,"Drawing in third-angle orthographic projection",null,null,null,null,null,null,null,null,null,null,1,{"$f":"IFERROR(VLOOKUP($S$1,'PAT Mech Detailed'!$F$16:$DF$116,74,FALSE),\"\")","v":0},{"$f":"VLOOKUP($S$1,'PAT Civil Detailed'!$F$16:$DG$115,32,FALSE)","v":0}]
[]
[null,null,null,null,null,null,null,null,null,null,null,null,{"$f":"ROUND((SUM(M73:M85))/2,0)","v":10},{"$f":"ROUND((SUM(N73:N85))*0.5,0)","v":0}]
["5.3","Detailed ISOMETRIC DRAWING"]
[null,"Suitable scale selected",null,null,null,null,null,null,null,null,null,null,1,{"$f":"IFERROR(VLOOKUP($S$1,'PAT Mech Detailed'!$F$16:$DF$116,76,FALSE),\"\")","v":0},{"$f":"VLOOKUP($S$1,'PAT Civil Detailed'!$F$16:$DG$115,32,FALSE)","v":0}]
[null,"Evidence of ALL auxiliary views and constructions used for the drawing",null,null,null,null,null,null,null,null,null,null,2,{"$f":"IFERROR(VLOOKUP($S$1,'PAT Mech Detailed'!$F$16:$DF$116,77,FALSE),\"\")","v":0},{"$f":"VLOOKUP($S$1,'PAT Civil Detailed'!$F$16:$DG$115,32,FALSE)","v":0}]
[null,"Detail and correctness of the isometric drawing",null,null,null,null,null,null,null,null,null,null,7,{"$f":"IFERROR(VLOOKUP($S$1,'PAT Mech Detailed'!$F$16:$DF$116,78,FALSE),\"\")","v":0},{"$f":"VLOOKUP($S$1,'PAT Civil Detailed'!$F$16:$DG$115,32,FALSE)","v":0}]
[null,"NOTE: Use the 7-mark simplified rubric on page 45 of the CAPS.",null,null,null,null,null,null,null,"TOTAL",null,null,{"$f":"SUM(M88:M90)","v":10},{"$f":"SUM(N88:N90)","v":0}]
[6,"Continuous self-evaluation and the meeting of deadlines"]
[null,"Checklist completed as evidence of continuous self-evaluation                             (mark out of 10 ÷ 2)",null,null,null,null,null,null,null,null,null,null,5,{"$f":"IFERROR(VLOOKUP($S$1,'PAT Mech Detailed'!$F$16:$DF$116,80,FALSE),\"\")","v":0},{"$f":"VLOOKUP($S$1,'PAT Civil Detailed'!$F$16:$DG$115,32,FALSE)","v":0}]
[null,"The meeting of ALL the submission deadlines                                                       (mark out of 10 ÷ 2)",null,null,null,null,null,null,null,null,null,null,5,{"$f":"IFERROR(VLOOKUP($S$1,'PAT Mech Detailed'!$F$16:$DF$116,81,FALSE),\"\")","v":0},{"$f":"VLOOKUP($S$1,'PAT Civil Detailed'!$F$16:$DG$115,32,FALSE)","v":0}]
[null,"NOTE: Use the 10-mark simplified rubric on page 24 of this PAT document.",null,null,null,null,null,null,null,"TOTAL",null,null,10,{"$f":"SUM(N93:N94)","v":0}]
[7,"Presentation of the complete PAT file/portfolio"]
[null,"Complete cover page with a copy of the isometric drawing",null,null,null,null,null,null,null,null,null,null,1,{"$f":"IFERROR(VLOOKUP($S$1,'PAT Mech Detailed'!$F$16:$DF$116,83,FALSE),\"\")","v":0},{"$f":"VLOOKUP($S$1,'PAT Civil Detailed'!$F$16:$DG$115,32,FALSE)","v":0}]
[null,"Complete index (table of content)",null,null,null,null,null,null,null,null,null,null,1,{"$f":"IFERROR(VLOOKUP($S$1,'PAT Mech Detailed'!$F$16:$DF$116,84,FALSE),\"\")","v":0},{"$f":"VLOOKUP($S$1,'PAT Civil Detailed'!$F$16:$DG$115,32,FALSE)","v":0}]
[null,"Completed summative assessment sheet and declaration",null,null,null,null,null,null,null,null,null,null,1,{"$f":"IFERROR(VLOOKUP($S$1,'PAT Mech Detailed'!$F$16:$DF$116,85,FALSE),\"\")","v":0},{"$f":"VLOOKUP($S$1,'PAT Civil Detailed'!$F$16:$DG$115,32,FALSE)","v":0}]
[null,"Correct sequencing of ALL presentation requirements",null,null,null,null,null,null,null,null,null,null,1,{"$f":"IFERROR(VLOOKUP($S$1,'PAT Mech Detailed'!$F$16:$DF$116,86,FALSE),\"\")","v":0},{"$f":"VLOOKUP($S$1,'PAT Civil Detailed'!$F$16:$DG$115,32,FALSE)","v":0}]
[null,"Name and numbering on ALL the presentation requirements",null,null,null,null,null,null,null,null,null,null,1,{"$f":"IFERROR(VLOOKUP($S$1,'PAT Mech Detailed'!$F$16:$DF$116,87,FALSE),\"\")","v":0},{"$f":"VLOOKUP($S$1,'PAT Civil Detailed'!$F$16:$DG$115,32,FALSE)","v":0}]
[null,"General impression of file/portfolio, e.g. binding, appearance, etc.                       (mark out of 10 ÷ 2)",null,null,null,null,null,null,null,null,null,null,5,{"$f":"IFERROR(VLOOKUP($S$1,'PAT Mech Detailed'!$F$16:$DF$116,88,FALSE),\"\")","v":0},{"$f":"VLOOKUP($S$1,'PAT Civil Detailed'!$F$16:$DG$115,32,FALSE)","v":0}]
[null,"NOTE: Use the 10-mark simplified rubric on page 24 of this PAT document.",null,null,null,null,null,null,null,"TOTAL",null,null,10,{"$f":"SUM(N97:N102)","v":0}]
["Assessment of drawing methods, drawing skills and presentation"]
["a","Freehand drawings"]
[null,"Freehand drawing methods and skills                                              (See ANNEXURE A on page 24)\nNOTE:  • No evidence of grid/graph paper used = max. 7 marks, even if drawn excellently\n              • Not drawn in freehand = 0 marks, & some evidence of instruments used = max. 5 marks",null,null,null,null,null,null,null,null,null,null,10,{"$f":"IFERROR(VLOOKUP($S$1,'PAT Mech Detailed'!$F$16:$DF$116,90,FALSE),\"\")","v":0},{"$f":"VLOOKUP($S$1,'PAT Civil Detailed'!$F$16:$DG$115,32,FALSE)","v":0}]
[null,"Neatness (2) + correct line types used (2) + line consistency (2) + printing (2) + dimensioning (2)\n(Also see ANNEXURE A on page 24)",null,null,null,null,null,null,null,null,null,null,10,{"$f":"IFERROR(VLOOKUP($S$1,'PAT Mech Detailed'!$F$16:$DF$116,91,FALSE),\"\")","v":0},{"$f":"VLOOKUP($S$1,'PAT Civil Detailed'!$F$16:$DG$115,32,FALSE)","v":0}]
[null,"TOTAL",null,null,null,null,null,null,null,null,null,null,{"$f":"SUM(M106:M107)","v":20},{"$f":"SUM(N106:N107)","v":0}]
["b","Instrument drawings"]
[null,"Use of drawing instruments, drawing methods and skills                   (See ANNEXURE A on page 24)",null,null,null,null,null,null,null,null,null,null,10,{"$f":"IFERROR(VLOOKUP($S$1,'PAT Mech Detailed'!$F$16:$DF$116,92,FALSE),\"\")","v":0},{"$f":"VLOOKUP($S$1,'PAT Civil Detailed'!$F$16:$DG$115,32,FALSE)","v":0}]
[null,"Neatness (2) + correct line types used (2) + line consistency (2) + printing (2) + dimensioning (2)\n(Also see ANNEXURE A on page 24)",null,null,null,null,null,null,null,null,null,null,10,{"$f":"IFERROR(VLOOKUP($S$1,'PAT Mech Detailed'!$F$16:$DF$116,93,FALSE),\"\")","v":0},{"$f":"VLOOKUP($S$1,'PAT Civil Detailed'!$F$16:$DG$115,32,FALSE)","v":0}]
[null,null,null,null,null,null,null,null,null,null,null,null,{"$f":"SUM(M110:M111)","v":20},{"$f":"SUM(N110:N111)","v":0}]
["c","CAD drawings"]
[null,"Competence displayed in using a CAD program                               (See ANNEXURE A on page 25)",null,null,null,null,null,null,null,null,null,null,10,{"$f":"IFERROR(VLOOKUP($S$1,'PAT Mech Detailed'!$F$16:$DF$116,94,FALSE),\"\")","v":0},{"$f":"VLOOKUP($S$1,'PAT Civil Detailed'!$F$16:$DG$115,32,FALSE)","v":0}]
[null,"Layout and correctness of the drawings presentation                       (See ANNEXURE A on page 25)",null,null,null,null,null,null,null,null,null,null,10,{"$f":"IFERROR(VLOOKUP($S$1,'PAT Mech Detailed'!$F$16:$DF$116,95,FALSE),\"\")","v":0},{"$f":"VLOOKUP($S$1,'PAT Civil Detailed'!$F$16:$DG$115,32,FALSE)","v":0}]
[null,null,null,null,null,null,null,null,null,null,null,null,{"$f":"SUM(M114:M115)","v":20},{"$f":"SUMIF(N114:N115,\">0\")","v":0}]
["Learner total without CAD",null,null,null,null,null,null,null,null,null,null,null,null,{"$f":"H172","v":0}]
[null,null,null,null,null,null,null,null,null,null,null,null,null,"/100"]
["Learner total with CAD",null,null,null,null,null,null,null,null,null,null,null,null,{"$f":"M172","v":0}]
[null,null,null,null,null,null,null,null,null,null,null,null,null,"/100"]
[]
["PRACTICAL ASSESSMENT TASK 2020                                                                                                                                                                                             SUMMATIVE ASSESSMENT SHEET"]
["NAME OF SCHOOL",null,null,null,{"$f":"G2","v":0}]
["NAME & SURNAME OF LEARNER:",null,null,null,{"$f":"G3","v":"0 0"}]
["NAME & SURNAME OF TEACHER",null,null,null,{"$f":"G4","v":0}]
["NAME & SURNAME OF MODERATOR",null,null,null,{"$f":"G5","v":0}]
["PART A: Design process",null,null,null,"PART B: Working and pictorial drawings",null,null,null,null,"Drawing competency and skill"]
["CRITERIA",null,null,"MARK","CRITERIA",null,null,null,"MARK","CRITERIA",null,null,null,"MARK"]
[1,"A design brief demonstrating a clear understanding of the scenario and the specifications, constraints and a management plan",null,{"$f":"N17","v":0},"All drawing sheets are appropriately set up with a border and an appropriate title block/panel.",null,null,null,{"$f":"N48","v":0},"Freehand drawings                                                                                         ANNEXURE A","METHOD","The drawing display correct freehand drawing method and skills and the method used to ensure proportion and size",null,{"$f":"N106","v":0}]
[]
[null,null,null,null,null,null,null,null,"/10"]
[null,null,null,null,"Orthographic drawings","Assess each view`s accuracy and correctness according to the selected solution, the stipulated requirements and EGD drawing principles","5.1.1","View 1",{"$f":"N57","v":0}]
[null,null,null,null,null,null,null,"PAT 1:           Plan"]
[]
[null,null,null,"/10",null,null,null,"PAT 2:    Front view",null,null,null,null,null,"/10"]
[2,"Evidence of relevant and usable research with the inclusion of a bibliography",null,{"$f":"N24","v":0},null,null,null,null,null,null,"The final drawing presentation is neat and there is consistency of line work/line quality, printing and dimensioning",null,null,{"$f":"N107","v":0}]
[null,null,null,null,null,null,null,null,"/10"]
[null,null,null,null,null,null,"5.1.2","View 2",{"$f":"N64","v":0}]
[null,null,null,"/10",null,null,null,"PAT 1:    Section"]
[3,"TWO detailed freehand drawings of possible solutions","1st Solution",{"$f":"N34","v":0}]
[null,null,null,null,null,null,null,"PAT 2:           2nd Main "]
[null,null,null,null,null,null,null,null,"/10","Instrument drawings:                              ANNEXURE A","METHOD","The drawings display the correct use of drawing instruments, drawing methods and skills",null,{"$f":"N110","v":0}]
[null,null,null,null,null,null,"5.1.3","View 3",{"$f":"N71","v":0}]
[null,null,null,"/10",null,null,null,"PAT 1: 2 elevations"]
[null,null,"2nd Solution",{"$f":"O34","v":0}]
[null,null,null,null,null,null,null,"PAT 2: 2 secondary views "]
[null,null,null,null,null,null,null,null,null,null,null,null,null,"/10"]
[null,null,null,null,null,null,null,null,"/10",null,"The final drawing presentation is neat and there is consistency of line work line quality, printing and dimensioning",null,null,{"$f":"N111","v":0}]
[null,null,null,null,null,null,5.2,"PAT 1:              Site plan",{"$f":"N86","v":0}]
[null,null,null,"/10"]
[4,"Selecting the best solution which demonstrates a clear understanding of the design brief",null,{"$f":"N42","v":0},null,null,null,"PAT 2:              Detailed drawing"]
[]
[null,null,null,null,null,null,null,null,"/10",null,null,null,null,"/10"]
[null,null,null,null,"Pictorial drawing","5.3","The correct drawing method and the presentation of the drawing",null,{"$f":"N91","v":0},"CAD drawings                 ANNEXURE A","METHOD","The level of competence displayed in using a CAD system",null,{"$f":"N114","v":0}]
[]
[]
[null,null,null,"/10",null,null,null,null,null,null,null,null,null,"/10"]
[6,"Clear evidence of evaluation and meeting the of all the requirements",null,{"$f":"N95","v":0},null,null,"PAT 1: 2-point perspective",null,null,null,"The layout of the final drawing is correct and the line work, printing and dimensioning is compliant and consistent",null,null,{"$f":"N115","v":0}]
[]
[null,null,null,null,null,null,"PAT 2: Isometric"]
[null,null,null,"/10",null,null,null,null,"/10",null,null,null,null,"/10"]
[7,"The presentation of the complete PAT file/portfolio",null,{"$f":"N103","v":0},null,null,null,null,null,"NO CAD drawings",null,null,null,{"$f":"IFERROR(SUM((N129)+(N136)+(N142)+(N148)),\"0\")","v":0}]
[null,null,null,null,null,null,null,null,null,null,null,null,null,"/40"]
[null,null,null,null,null,null,null,null,null,"WITH CAD drawings",null,null,null,{"$f":"SUMIF(N129,\">0\")+SUMIF(N136,\">0\")+SUMIF(N142,\">0\")+SUMIF(N148,\">0\")+SUMIF(N154,\">0\")+SUMIF(N158,\">0\")","v":0}]
[null,null,null,"/10",null,null,null,null,null,null,null,null,null,"/60"]
["SUB TOTAL",null,null,{"$f":"SUM((D129)+(D136)+(D140)+(D145)+(D151)+(D158)+(D162))","v":0},"SUB TOTAL",null,null,null,{"$f":"SUM((I129)+(I132)+(I143)+(I138)+(I149)+(I154))","v":0},"CALCULATIOIN without CAD",null,null,null,{"$f":"ROUND(((N162)*0.625)*1,0)","v":0}]
["CALCULATION",null,null,"/70","CALCULATION",null,null,null,"/60","CALCULATION with CAD",null,null,null,{"$f":"ROUND(((N164)*0.416666666)*1,0)","v":0}]
["Teacher`s TOTAL",null,null,null,"Teacher`s TOTAL",null,null,null,null,"Teacher`s TOTAL"]
["TOTAL: A",null,null,{"$f":"ROUND(((D166)*0.36)*1,0)","v":0},"TOTAL: B",null,null,null,{"$f":"ROUND(((I166)*0.833333333)*1,0)","v":0},"TOTAL: C",null,"Without CAD",null,{"$f":"ROUND(((N162)*0.625)*1,0)","v":0}]
[null,null,null,null,null,null,null,null,null,null,null,"With CAD",null,{"$f":"ROUND(((N164)*0.416666666)*1,0)","v":0}]
[null,null,null,"/25",null,null,null,null,"/50",null,null,null,null,"/25"]
["TEACHER`S TOTAL:",null,null,"A+B+C WITHOUT CAD =  ",null,null,null,{"$f":"IFERROR(SUM((D169)+(I169)+(N169)),\"0\")","v":0},null,"A+B+C WITH CAD",null,null,{"$f":"SUM((D169)+(I169)+(N170))","v":0}]
[null,null,null,null,null,null,null,"/100",null,null,null,null,"/100"]
["Moderated TOTAL",null,null,null,"Moderated TOTAL",null,null,null,null,"Moderated TOTAL"]
["TOTAL: A",null,null,null,"TOTAL: B",null,null,null,null,"TOTAL: C",null,"Without CAD"]
[null,null,null,null,null,null,null,null,null,null,null,"With CAD"]
[null,null,null,"/25",null,null,null,null,"/50",null,null,null,null,"/25"]
["MODERATED TOTAL:",null,null,"A+B+C WITHOUT CAD =  ",null,null,null,null,null,"A+B+C WITH CAD"]
[null,null,null,null,null,null,null,"/100",null,null,null,null,"/100"]

{"sheet":"FIN PAT MARK SHEET","index":13,"n_rows":124,"n_cols":36,"rows_kept":124,"cut":false,"hidden":false,"merged":[[1,2,1,34],[123,17,123,18],[121,19,121,20],[122,19,122,20],[123,19,123,20],[121,21,121,22],[122,21,122,22],[123,21,123,22],[121,17,121,18],[122,17,122,18],[5,25,14,25],[2,9,3,34],[5,32,14,32],[12,7,12,8],[5,16,14,16],[122,3,122,6],[122,9,122,10],[122,11,122,12],[118,3,121,6],[118,7,118,8],[119,7,119,8],[121,7,121,8],[121,9,121,10],[121,11,121,12],[120,9,120,24],[121,13,121,14],[122,13,122,14],[121,15,121,16],[122,15,122,16],[4,15,4,21],[4,22,4,24],[123,11,123,12],[5,18,14,18],[5,19,14,19],[5,20,14,20],[5,12,14,12],[4,9,4,14],[5,9,14,9],[5,10,14,10],[5,11,14,11],[123,13,123,14],[123,15,123,16],[123,9,123,10],[121,23,122,24],[5,13,14,13],[5,14,14,14],[5,15,14,15],[5,26,14,26],[5,27,14,27],[5,21,14,21],[5,22,14,22],[5,23,14,23],[5,17,14,17],[5,24,14,24],[123,23,123,24],[4,33,4,34],[5,33,14,33],[5,34,14,34],[5,28,14,28],[5,29,14,29],[5,30,14,30],[4,25,4,32],[5,31,14,31]]}
[]
[null,null,"ENGINEERING GRAPHICS AND DESIGN"]
[null,null,null,null,null,null,null,null,null,"PROGRAM OF ASSESSMENT  :  PAT"]
[]
[null,null,null,null,null,null,null,null,null,"PAT Phase 1 (term 1)",null,null,null,null,null,"Phase 2 (Term 2)",null,null,null,null,null,null,"Phase 3 (Term 3)",null,null,"PAT (Q&M)",null,null,null,null,null,null,null,"Marks"]
[null,null,null,null,null,null,{"$f":"TERM1!B5","v":"School:"},{"$f":"TERM1!F5","v":0},null,"1. Design Brief","2. Research","3.1 Possible solutions","3.2 Possible solutions","4. Selection of Final Solution","Total: 18","Paper preperation","Floor Plan / Front view","2 elevations / 2nd main view","Section / 2 sec. views","Site plan / Detail drawing","2P perspective / Isometric","Total: 50","6. Continuous evaluation ","7. Final Presentation & Biblio.","Total: 7","Freehan Method","Consistancy: Linework","Instrument Method","Consistancy: Linework","CAD Competency","Layout and correctness","Total: NO CAD 40 / CAD 60","Total: 25","FINAL PAT Mark / 100","PAT Mark / 7"]
[null,null,null,null,null,null,{"$f":"TERM1!B6","v":"Grade:"},{"$f":"TERM1!F6","v":0}]
[null,null,null,null,null,null,{"$f":"TERM1!E7","v":"Teacher:"},{"$f":"TERM1!F7","v":0}]
[null,null,null,null,null,null,{"$f":"TERM1!E8","v":"HOD:"},{"$f":"TERM1!F8","v":0}]
[null,null,null,null,null,null,"EGD SES:",{"$f":"TERM1!$F$9","v":0}]
[]
[]
[]
[]
[]
[null,null,null,null,"Class","Admission","SURNAME","NAME","GENDER",10,10,10,10,10,{"$f":"SUM(J16:N16)/2.777777777","v":18.00000000504},10,10,10,10,10,10,{"$f":"SUM(P16:U16)/1.2","v":50},10,10,{"$f":"SUM(W16:X16)/2.857142857","v":7.00000000035},10,10,10,10,10,10,null,25,100," / 7"]
[]
[null,1,1,1,{"$f":"Insert!A3","v":0},{"$f":"Insert!B3","v":0},{"$f":"Insert!C3","v":0},{"$f":"Insert!D3","v":0},{"$f":"Insert!E3","v":0},{"$f":"'PAT Civil Detailed'!$N16+'PAT Mech Detailed'!$N16","v":0},{"$f":"'PAT Civil Detailed'!$T16+'PAT Mech Detailed'!$T16","v":0},{"$f":"'PAT Civil Detailed'!$AD16+'PAT Mech Detailed'!$AC16","v":0},{"$f":"'PAT Civil Detailed'!$AN16+'PAT Mech Detailed'!$AL16","v":0},{"$f":"'PAT Civil Detailed'!$AT16+'PAT Mech Detailed'!$AR16","v":0},{"$f":"ROUND((SUM(J18:N18)/2.777777777),0)","v":0},{"$f":"'PAT Civil Detailed'!$AX16+'PAT Mech Detailed'!$AV16","v":0},{"$f":"'PAT Civil Detailed'!$BI16+'PAT Mech Detailed'!$BF16","v":0},{"$f":"'PAT Civil Detailed'!$BP16+'PAT Mech Detailed'!$BO16","v":0},{"$f":"'PAT Civil Detailed'!$CA16+'PAT Mech Detailed'!$BV16","v":0},{"$f":"'PAT Civil Detailed'!$CH16+'PAT Mech Detailed'!$CC16","v":0},{"$f":"'PAT Civil Detailed'!$CL16+'PAT Mech Detailed'!$CG16","v":0},{"$f":"ROUND((SUMIF(P18:U18,\">0\")/1.2),0)","v":0},{"$f":"'PAT Civil Detailed'!$CO16+'PAT Mech Detailed'!$CI16","v":0},{"$f":"'PAT Civil Detailed'!$CV16+'PAT Mech Detailed'!$CP16","v":0},{"$f":"ROUND((SUM(W18:X18)/2.857142857),0)","v":0},{"$f":"'PAT Civil Detailed'!$CW16+'PAT Mech Detailed'!$CR16","v":0},{"$f":"'PAT Civil Detailed'!$CX16+'PAT Mech Detailed'!$CS16","v":0},{"$f":"'PAT Civil Detailed'!$CY16+'PAT Mech Detailed'!$CT16","v":0},{"$f":"'PAT Civil Detailed'!$CZ16+'PAT Mech Detailed'!$CU16","v":0},{"$f":"'PAT Civil Detailed'!$DA16+'PAT Mech Detailed'!$CV16","v":0},{"$f":"'PAT Civil Detailed'!$DB16+'PAT Mech Detailed'!$CW16","v":0},{"$f":"SUMIF(Z18:AE18,\">0\")","v":0},{"$f":"ROUND(IF(AJ18=4,SUM(Z18:AC18)/1.6,IF(AJ18=6,SUM(Z18:AE18)/2.4,SUM(Z18:AC18))),0)","v":0},{"$f":"ROUND(SUM(O18+V18+Y18+AG18),0)","v":0},{"$f":"IF(AH18>79,\"7\",IF(AH18>69,\"6\",IF(AH18>59,\"5\",IF(AH18>49,\"4\",IF(AH18>39,\"3\",IF(AH18>29,\"2\",IF(AH18>0,\"1\",IF(AH18=0,\"\"))))))))","v":""},{"$f":"COUNTIF(Z18:AE18,\">0\")","v":0}]
[null,2,2,1,{"$f":"Insert!A4","v":0},{"$f":"Insert!B4","v":0},{"$f":"Insert!C4","v":0},{"$f":"Insert!D4","v":0},{"$f":"Insert!E4","v":0},{"$f":"'PAT Civil Detailed'!$N17+'PAT Mech Detailed'!$N17","v":0},{"$f":"'PAT Civil Detailed'!$T17+'PAT Mech Detailed'!$T17","v":0},{"$f":"'PAT Civil Detailed'!$AD17+'PAT Mech Detailed'!$AC17","v":0},{"$f":"'PAT Civil Detailed'!$AN17+'PAT Mech Detailed'!$AL17","v":0},{"$f":"'PAT Civil Detailed'!$AT17+'PAT Mech Detailed'!$AR17","v":0},0,{"$f":"'PAT Civil Detailed'!$AX17+'PAT Mech Detailed'!$AV17","v":0},{"$f":"'PAT Civil Detailed'!$BI17+'PAT Mech Detailed'!$BF17","v":0},{"$f":"'PAT Civil Detailed'!$BP17+'PAT Mech Detailed'!$BO17","v":0},{"$f":"'PAT Civil Detailed'!$CA17+'PAT Mech Detailed'!$BV17","v":0},{"$f":"'PAT Civil Detailed'!$CH17+'PAT Mech Detailed'!$CC17","v":0},{"$f":"'PAT Civil Detailed'!$CL17+'PAT Mech Detailed'!$CG17","v":0},0,{"$f":"'PAT Civil Detailed'!$CO17+'PAT Mech Detailed'!$CI17","v":0},{"$f":"'PAT Civil Detailed'!$CV17+'PAT Mech Detailed'!$CP17","v":0},0,{"$f":"'PAT Civil Detailed'!$CW17+'PAT Mech Detailed'!$CR17","v":0},{"$f":"'PAT Civil Detailed'!$CX17+'PAT Mech Detailed'!$CS17","v":0},{"$f":"'PAT Civil Detailed'!$CY17+'PAT Mech Detailed'!$CT17","v":0},{"$f":"'PAT Civil Detailed'!$CZ17+'PAT Mech Detailed'!$CU17","v":0},{"$f":"'PAT Civil Detailed'!$DA17+'PAT Mech Detailed'!$CV17","v":0},{"$f":"'PAT Civil Detailed'!$DB17+'PAT Mech Detailed'!$CW17","v":0},0,0,0,"",0]
[null,3,3,1,{"$f":"Insert!A5","v":0},{"$f":"Insert!B5","v":0},{"$f":"Insert!C5","v":0},{"$f":"Insert!D5","v":0},{"$f":"Insert!E5","v":0},{"$f":"'PAT Civil Detailed'!$N18+'PAT Mech Detailed'!$N18","v":0},{"$f":"'PAT Civil Detailed'!$T18+'PAT Mech Detailed'!$T18","v":0},{"$f":"'PAT Civil Detailed'!$AD18+'PAT Mech Detailed'!$AC18","v":0},{"$f":"'PAT Civil Detailed'!$AN18+'PAT Mech Detailed'!$AL18","v":0},{"$f":"'PAT Civil Detailed'!$AT18+'PAT Mech Detailed'!$AR18","v":0},0,{"$f":"'PAT Civil Detailed'!$AX18+'PAT Mech Detailed'!$AV18","v":0},{"$f":"'PAT Civil Detailed'!$BI18+'PAT Mech Detailed'!$BF18","v":0},{"$f":"'PAT Civil Detailed'!$BP18+'PAT Mech Detailed'!$BO18","v":0},{"$f":"'PAT Civil Detailed'!$CA18+'PAT Mech Detailed'!$BV18","v":0},{"$f":"'PAT Civil Detailed'!$CH18+'PAT Mech Detailed'!$CC18","v":0},{"$f":"'PAT Civil Detailed'!$CL18+'PAT Mech Detailed'!$CG18","v":0},0,{"$f":"'PAT Civil Detailed'!$CO18+'PAT Mech Detailed'!$CI18","v":0},{"$f":"'PAT Civil Detailed'!$CV18+'PAT Mech Detailed'!$CP18","v":0},0,{"$f":"'PAT Civil Detailed'!$CW18+'PAT Mech Detailed'!$CR18","v":0},{"$f":"'PAT Civil Detailed'!$CX18+'PAT Mech Detailed'!$CS18","v":0},{"$f":"'PAT Civil Detailed'!$CY18+'PAT Mech Detailed'!$CT18","v":0},{"$f":"'PAT Civil Detailed'!$CZ18+'PAT Mech Detailed'!$CU18","v":0},{"$f":"'PAT Civil Detailed'!$DA18+'PAT Mech Detailed'!$CV18","v":0},{"$f":"'PAT Civil Detailed'!$DB18+'PAT Mech Detailed'!$CW18","v":0},0,0,0,"",0]
[null,4,4,1,{"$f":"Insert!A6","v":0},{"$f":"Insert!B6","v":0},{"$f":"Insert!C6","v":0},{"$f":"Insert!D6","v":0},{"$f":"Insert!E6","v":0},{"$f":"'PAT Civil Detailed'!$N19+'PAT Mech Detailed'!$N19","v":0},{"$f":"'PAT Civil Detailed'!$T19+'PAT Mech Detailed'!$T19","v":0},{"$f":"'PAT Civil Detailed'!$AD19+'PAT Mech Detailed'!$AC19","v":0},{"$f":"'PAT Civil Detailed'!$AN19+'PAT Mech Detailed'!$AL19","v":0},{"$f":"'PAT Civil Detailed'!$AT19+'PAT Mech Detailed'!$AR19","v":0},0,{"$f":"'PAT Civil Detailed'!$AX19+'PAT Mech Detailed'!$AV19","v":0},{"$f":"'PAT Civil Detailed'!$BI19+'PAT Mech Detailed'!$BF19","v":0},{"$f":"'PAT Civil Detailed'!$BP19+'PAT Mech Detailed'!$BO19","v":0},{"$f":"'PAT Civil Detailed'!$CA19+'PAT Mech Detailed'!$BV19","v":0},{"$f":"'PAT Civil Detailed'!$CH19+'PAT Mech Detailed'!$CC19","v":0},{"$f":"'PAT Civil Detailed'!$CL19+'PAT Mech Detailed'!$CG19","v":0},0,{"$f":"'PAT Civil Detailed'!$CO19+'PAT Mech Detailed'!$CI19","v":0},{"$f":"'PAT Civil Detailed'!$CV19+'PAT Mech Detailed'!$CP19","v":0},0,{"$f":"'PAT Civil Detailed'!$CW19+'PAT Mech Detailed'!$CR19","v":0},{"$f":"'PAT Civil Detailed'!$CX19+'PAT Mech Detailed'!$CS19","v":0},{"$f":"'PAT Civil Detailed'!$CY19+'PAT Mech Detailed'!$CT19","v":0},{"$f":"'PAT Civil Detailed'!$CZ19+'PAT Mech Detailed'!$CU19","v":0},{"$f":"'PAT Civil Detailed'!$DA19+'PAT Mech Detailed'!$CV19","v":0},{"$f":"'PAT Civil Detailed'!$DB19+'PAT Mech Detailed'!$CW19","v":0},0,0,0,"",0]
[null,5,5,1,{"$f":"Insert!A7","v":0},{"$f":"Insert!B7","v":0},{"$f":"Insert!C7","v":0},{"$f":"Insert!D7","v":0},{"$f":"Insert!E7","v":0},{"$f":"'PAT Civil Detailed'!$N20+'PAT Mech Detailed'!$N20","v":0},{"$f":"'PAT Civil Detailed'!$T20+'PAT Mech Detailed'!$T20","v":0},{"$f":"'PAT Civil Detailed'!$AD20+'PAT Mech Detailed'!$AC20","v":0},{"$f":"'PAT Civil Detailed'!$AN20+'PAT Mech Detailed'!$AL20","v":0},{"$f":"'PAT Civil Detailed'!$AT20+'PAT Mech Detailed'!$AR20","v":0},0,{"$f":"'PAT Civil Detailed'!$AX20+'PAT Mech Detailed'!$AV20","v":0},{"$f":"'PAT Civil Detailed'!$BI20+'PAT Mech Detailed'!$BF20","v":0},{"$f":"'PAT Civil Detailed'!$BP20+'PAT Mech Detailed'!$BO20","v":0},{"$f":"'PAT Civil Detailed'!$CA20+'PAT Mech Detailed'!$BV20","v":0},{"$f":"'PAT Civil Detailed'!$CH20+'PAT Mech Detailed'!$CC20","v":0},{"$f":"'PAT Civil Detailed'!$CL20+'PAT Mech Detailed'!$CG20","v":0},0,{"$f":"'PAT Civil Detailed'!$CO20+'PAT Mech Detailed'!$CI20","v":0},{"$f":"'PAT Civil Detailed'!$CV20+'PAT Mech Detailed'!$CP20","v":0},0,{"$f":"'PAT Civil Detailed'!$CW20+'PAT Mech Detailed'!$CR20","v":0},{"$f":"'PAT Civil Detailed'!$CX20+'PAT Mech Detailed'!$CS20","v":0},{"$f":"'PAT Civil Detailed'!$CY20+'PAT Mech Detailed'!$CT20","v":0},{"$f":"'PAT Civil Detailed'!$CZ20+'PAT Mech Detailed'!$CU20","v":0},{"$f":"'PAT Civil Detailed'!$DA20+'PAT Mech Detailed'!$CV20","v":0},{"$f":"'PAT Civil Detailed'!$DB20+'PAT Mech Detailed'!$CW20","v":0},0,0,0,"",0]
[null,6,6,1,{"$f":"Insert!A8","v":0},{"$f":"Insert!B8","v":0},{"$f":"Insert!C8","v":0},{"$f":"Insert!D8","v":0},{"$f":"Insert!E8","v":0},{"$f":"'PAT Civil Detailed'!$N21+'PAT Mech Detailed'!$N21","v":0},{"$f":"'PAT Civil Detailed'!$T21+'PAT Mech Detailed'!$T21","v":0},{"$f":"'PAT Civil Detailed'!$AD21+'PAT Mech Detailed'!$AC21","v":0},{"$f":"'PAT Civil Detailed'!$AN21+'PAT Mech Detailed'!$AL21","v":0},{"$f":"'PAT Civil Detailed'!$AT21+'PAT Mech Detailed'!$AR21","v":0},0,{"$f":"'PAT Civil Detailed'!$AX21+'PAT Mech Detailed'!$AV21","v":0},{"$f":"'PAT Civil Detailed'!$BI21+'PAT Mech Detailed'!$BF21","v":0},{"$f":"'PAT Civil Detailed'!$BP21+'PAT Mech Detailed'!$BO21","v":0},{"$f":"'PAT Civil Detailed'!$CA21+'PAT Mech Detailed'!$BV21","v":0},{"$f":"'PAT Civil Detailed'!$CH21+'PAT Mech Detailed'!$CC21","v":0},{"$f":"'PAT Civil Detailed'!$CL21+'PAT Mech Detailed'!$CG21","v":0},0,{"$f":"'PAT Civil Detailed'!$CO21+'PAT Mech Detailed'!$CI21","v":0},{"$f":"'PAT Civil Detailed'!$CV21+'PAT Mech Detailed'!$CP21","v":0},0,{"$f":"'PAT Civil Detailed'!$CW21+'PAT Mech Detailed'!$CR21","v":0},{"$f":"'PAT Civil Detailed'!$CX21+'PAT Mech Detailed'!$CS21","v":0},{"$f":"'PAT Civil Detailed'!$CY21+'PAT Mech Detailed'!$CT21","v":0},{"$f":"'PAT Civil Detailed'!$CZ21+'PAT Mech Detailed'!$CU21","v":0},{"$f":"'PAT Civil Detailed'!$DA21+'PAT Mech Detailed'!$CV21","v":0},{"$f":"'PAT Civil Detailed'!$DB21+'PAT Mech Detailed'!$CW21","v":0},0,0,0,"",0]
[null,7,7,1,{"$f":"Insert!A9","v":0},{"$f":"Insert!B9","v":0},{"$f":"Insert!C9","v":0},{"$f":"Insert!D9","v":0},{"$f":"Insert!E9","v":0},{"$f":"'PAT Civil Detailed'!$N22+'PAT Mech Detailed'!$N22","v":0},{"$f":"'PAT Civil Detailed'!$T22+'PAT Mech Detailed'!$T22","v":0},{"$f":"'PAT Civil Detailed'!$AD22+'PAT Mech Detailed'!$AC22","v":0},{"$f":"'PAT Civil Detailed'!$AN22+'PAT Mech Detailed'!$AL22","v":0},{"$f":"'PAT Civil Detailed'!$AT22+'PAT Mech Detailed'!$AR22","v":0},0,{"$f":"'PAT Civil Detailed'!$AX22+'PAT Mech Detailed'!$AV22","v":0},{"$f":"'PAT Civil Detailed'!$BI22+'PAT Mech Detailed'!$BF22","v":0},{"$f":"'PAT Civil Detailed'!$BP22+'PAT Mech Detailed'!$BO22","v":0},{"$f":"'PAT Civil Detailed'!$CA22+'PAT Mech Detailed'!$BV22","v":0},{"$f":"'PAT Civil Detailed'!$CH22+'PAT Mech Detailed'!$CC22","v":0},{"$f":"'PAT Civil Detailed'!$CL22+'PAT Mech Detailed'!$CG22","v":0},0,{"$f":"'PAT Civil Detailed'!$CO22+'PAT Mech Detailed'!$CI22","v":0},{"$f":"'PAT Civil Detailed'!$CV22+'PAT Mech Detailed'!$CP22","v":0},0,{"$f":"'PAT Civil Detailed'!$CW22+'PAT Mech Detailed'!$CR22","v":0},{"$f":"'PAT Civil Detailed'!$CX22+'PAT Mech Detailed'!$CS22","v":0},{"$f":"'PAT Civil Detailed'!$CY22+'PAT Mech Detailed'!$CT22","v":0},{"$f":"'PAT Civil Detailed'!$CZ22+'PAT Mech Detailed'!$CU22","v":0},{"$f":"'PAT Civil Detailed'!$DA22+'PAT Mech Detailed'!$CV22","v":0},{"$f":"'PAT Civil Detailed'!$DB22+'PAT Mech Detailed'!$CW22","v":0},0,0,0,"",0]
[null,8,8,1,{"$f":"Insert!A10","v":0},{"$f":"Insert!B10","v":0},{"$f":"Insert!C10","v":0},{"$f":"Insert!D10","v":0},{"$f":"Insert!E10","v":0},{"$f":"'PAT Civil Detailed'!$N23+'PAT Mech Detailed'!$N23","v":0},{"$f":"'PAT Civil Detailed'!$T23+'PAT Mech Detailed'!$T23","v":0},{"$f":"'PAT Civil Detailed'!$AD23+'PAT Mech Detailed'!$AC23","v":0},{"$f":"'PAT Civil Detailed'!$AN23+'PAT Mech Detailed'!$AL23","v":0},{"$f":"'PAT Civil Detailed'!$AT23+'PAT Mech Detailed'!$AR23","v":0},0,{"$f":"'PAT Civil Detailed'!$AX23+'PAT Mech Detailed'!$AV23","v":0},{"$f":"'PAT Civil Detailed'!$BI23+'PAT Mech Detailed'!$BF23","v":0},{"$f":"'PAT Civil Detailed'!$BP23+'PAT Mech Detailed'!$BO23","v":0},{"$f":"'PAT Civil Detailed'!$CA23+'PAT Mech Detailed'!$BV23","v":0},{"$f":"'PAT Civil Detailed'!$CH23+'PAT Mech Detailed'!$CC23","v":0},{"$f":"'PAT Civil Detailed'!$CL23+'PAT Mech Detailed'!$CG23","v":0},0,{"$f":"'PAT Civil Detailed'!$CO23+'PAT Mech Detailed'!$CI23","v":0},{"$f":"'PAT Civil Detailed'!$CV23+'PAT Mech Detailed'!$CP23","v":0},0,{"$f":"'PAT Civil Detailed'!$CW23+'PAT Mech Detailed'!$CR23","v":0},{"$f":"'PAT Civil Detailed'!$CX23+'PAT Mech Detailed'!$CS23","v":0},{"$f":"'PAT Civil Detailed'!$CY23+'PAT Mech Detailed'!$CT23","v":0},{"$f":"'PAT Civil Detailed'!$CZ23+'PAT Mech Detailed'!$CU23","v":0},{"$f":"'PAT Civil Detailed'!$DA23+'PAT Mech Detailed'!$CV23","v":0},{"$f":"'PAT Civil Detailed'!$DB23+'PAT Mech Detailed'!$CW23","v":0},0,0,0,"",0]
[null,9,9,1,{"$f":"Insert!A11","v":0},{"$f":"Insert!B11","v":0},{"$f":"Insert!C11","v":0},{"$f":"Insert!D11","v":0},{"$f":"Insert!E11","v":0},{"$f":"'PAT Civil Detailed'!$N24+'PAT Mech Detailed'!$N24","v":0},{"$f":"'PAT Civil Detailed'!$T24+'PAT Mech Detailed'!$T24","v":0},{"$f":"'PAT Civil Detailed'!$AD24+'PAT Mech Detailed'!$AC24","v":0},{"$f":"'PAT Civil Detailed'!$AN24+'PAT Mech Detailed'!$AL24","v":0},{"$f":"'PAT Civil Detailed'!$AT24+'PAT Mech Detailed'!$AR24","v":0},0,{"$f":"'PAT Civil Detailed'!$AX24+'PAT Mech Detailed'!$AV24","v":0},{"$f":"'PAT Civil Detailed'!$BI24+'PAT Mech Detailed'!$BF24","v":0},{"$f":"'PAT Civil Detailed'!$BP24+'PAT Mech Detailed'!$BO24","v":0},{"$f":"'PAT Civil Detailed'!$CA24+'PAT Mech Detailed'!$BV24","v":0},{"$f":"'PAT Civil Detailed'!$CH24+'PAT Mech Detailed'!$CC24","v":0},{"$f":"'PAT Civil Detailed'!$CL24+'PAT Mech Detailed'!$CG24","v":0},0,{"$f":"'PAT Civil Detailed'!$CO24+'PAT Mech Detailed'!$CI24","v":0},{"$f":"'PAT Civil Detailed'!$CV24+'PAT Mech Detailed'!$CP24","v":0},0,{"$f":"'PAT Civil Detailed'!$CW24+'PAT Mech Detailed'!$CR24","v":0},{"$f":"'PAT Civil Detailed'!$CX24+'PAT Mech Detailed'!$CS24","v":0},{"$f":"'PAT Civil Detailed'!$CY24+'PAT Mech Detailed'!$CT24","v":0},{"$f":"'PAT Civil Detailed'!$CZ24+'PAT Mech Detailed'!$CU24","v":0},{"$f":"'PAT Civil Detailed'!$DA24+'PAT Mech Detailed'!$CV24","v":0},{"$f":"'PAT Civil Detailed'!$DB24+'PAT Mech Detailed'!$CW24","v":0},0,0,0,"",0]
[null,10,10,1,{"$f":"Insert!A12","v":0},{"$f":"Insert!B12","v":0},{"$f":"Insert!C12","v":0},{"$f":"Insert!D12","v":0},{"$f":"Insert!E12","v":0},{"$f":"'PAT Civil Detailed'!$N25+'PAT Mech Detailed'!$N25","v":0},{"$f":"'PAT Civil Detailed'!$T25+'PAT Mech Detailed'!$T25","v":0},{"$f":"'PAT Civil Detailed'!$AD25+'PAT Mech Detailed'!$AC25","v":0},{"$f":"'PAT Civil Detailed'!$AN25+'PAT Mech Detailed'!$AL25","v":0},{"$f":"'PAT Civil Detailed'!$AT25+'PAT Mech Detailed'!$AR25","v":0},0,{"$f":"'PAT Civil Detailed'!$AX25+'PAT Mech Detailed'!$AV25","v":0},{"$f":"'PAT Civil Detailed'!$BI25+'PAT Mech Detailed'!$BF25","v":0},{"$f":"'PAT Civil Detailed'!$BP25+'PAT Mech Detailed'!$BO25","v":0},{"$f":"'PAT Civil Detailed'!$CA25+'PAT Mech Detailed'!$BV25","v":0},{"$f":"'PAT Civil Detailed'!$CH25+'PAT Mech Detailed'!$CC25","v":0},{"$f":"'PAT Civil Detailed'!$CL25+'PAT Mech Detailed'!$CG25","v":0},0,{"$f":"'PAT Civil Detailed'!$CO25+'PAT Mech Detailed'!$CI25","v":0},{"$f":"'PAT Civil Detailed'!$CV25+'PAT Mech Detailed'!$CP25","v":0},0,{"$f":"'PAT Civil Detailed'!$CW25+'PAT Mech Detailed'!$CR25","v":0},{"$f":"'PAT Civil Detailed'!$CX25+'PAT Mech Detailed'!$CS25","v":0},{"$f":"'PAT Civil Detailed'!$CY25+'PAT Mech Detailed'!$CT25","v":0},{"$f":"'PAT Civil Detailed'!$CZ25+'PAT Mech Detailed'!$CU25","v":0},{"$f":"'PAT Civil Detailed'!$DA25+'PAT Mech Detailed'!$CV25","v":0},{"$f":"'PAT Civil Detailed'!$DB25+'PAT Mech Detailed'!$CW25","v":0},0,0,0,"",0]
[null,11,11,1,{"$f":"Insert!A13","v":0},{"$f":"Insert!B13","v":0},{"$f":"Insert!C13","v":0},{"$f":"Insert!D13","v":0},{"$f":"Insert!E13","v":0},{"$f":"'PAT Civil Detailed'!$N26+'PAT Mech Detailed'!$N26","v":0},{"$f":"'PAT Civil Detailed'!$T26+'PAT Mech Detailed'!$T26","v":0},{"$f":"'PAT Civil Detailed'!$AD26+'PAT Mech Detailed'!$AC26","v":0},{"$f":"'PAT Civil Detailed'!$AN26+'PAT Mech Detailed'!$AL26","v":0},{"$f":"'PAT Civil Detailed'!$AT26+'PAT Mech Detailed'!$AR26","v":0},0,{"$f":"'PAT Civil Detailed'!$AX26+'PAT Mech Detailed'!$AV26","v":0},{"$f":"'PAT Civil Detailed'!$BI26+'PAT Mech Detailed'!$BF26","v":0},{"$f":"'PAT Civil Detailed'!$BP26+'PAT Mech Detailed'!$BO26","v":0},{"$f":"'PAT Civil Detailed'!$CA26+'PAT Mech Detailed'!$BV26","v":0},{"$f":"'PAT Civil Detailed'!$CH26+'PAT Mech Detailed'!$CC26","v":0},{"$f":"'PAT Civil Detailed'!$CL26+'PAT Mech Detailed'!$CG26","v":0},0,{"$f":"'PAT Civil Detailed'!$CO26+'PAT Mech Detailed'!$CI26","v":0},{"$f":"'PAT Civil Detailed'!$CV26+'PAT Mech Detailed'!$CP26","v":0},0,{"$f":"'PAT Civil Detailed'!$CW26+'PAT Mech Detailed'!$CR26","v":0},{"$f":"'PAT Civil Detailed'!$CX26+'PAT Mech Detailed'!$CS26","v":0},{"$f":"'PAT Civil Detailed'!$CY26+'PAT Mech Detailed'!$CT26","v":0},{"$f":"'PAT Civil Detailed'!$CZ26+'PAT Mech Detailed'!$CU26","v":0},{"$f":"'PAT Civil Detailed'!$DA26+'PAT Mech Detailed'!$CV26","v":0},{"$f":"'PAT Civil Detailed'!$DB26+'PAT Mech Detailed'!$CW26","v":0},0,0,0,"",0]
[null,12,12,1,{"$f":"Insert!A14","v":0},{"$f":"Insert!B14","v":0},{"$f":"Insert!C14","v":0},{"$f":"Insert!D14","v":0},{"$f":"Insert!E14","v":0},{"$f":"'PAT Civil Detailed'!$N27+'PAT Mech Detailed'!$N27","v":0},{"$f":"'PAT Civil Detailed'!$T27+'PAT Mech Detailed'!$T27","v":0},{"$f":"'PAT Civil Detailed'!$AD27+'PAT Mech Detailed'!$AC27","v":0},{"$f":"'PAT Civil Detailed'!$AN27+'PAT Mech Detailed'!$AL27","v":0},{"$f":"'PAT Civil Detailed'!$AT27+'PAT Mech Detailed'!$AR27","v":0},0,{"$f":"'PAT Civil Detailed'!$AX27+'PAT Mech Detailed'!$AV27","v":0},{"$f":"'PAT Civil Detailed'!$BI27+'PAT Mech Detailed'!$BF27","v":0},{"$f":"'PAT Civil Detailed'!$BP27+'PAT Mech Detailed'!$BO27","v":0},{"$f":"'PAT Civil Detailed'!$CA27+'PAT Mech Detailed'!$BV27","v":0},{"$f":"'PAT Civil Detailed'!$CH27+'PAT Mech Detailed'!$CC27","v":0},{"$f":"'PAT Civil Detailed'!$CL27+'PAT Mech Detailed'!$CG27","v":0},0,{"$f":"'PAT Civil Detailed'!$CO27+'PAT Mech Detailed'!$CI27","v":0},{"$f":"'PAT Civil Detailed'!$CV27+'PAT Mech Detailed'!$CP27","v":0},0,{"$f":"'PAT Civil Detailed'!$CW27+'PAT Mech Detailed'!$CR27","v":0},{"$f":"'PAT Civil Detailed'!$CX27+'PAT Mech Detailed'!$CS27","v":0},{"$f":"'PAT Civil Detailed'!$CY27+'PAT Mech Detailed'!$CT27","v":0},{"$f":"'PAT Civil Detailed'!$CZ27+'PAT Mech Detailed'!$CU27","v":0},{"$f":"'PAT Civil Detailed'!$DA27+'PAT Mech Detailed'!$CV27","v":0},{"$f":"'PAT Civil Detailed'!$DB27+'PAT Mech Detailed'!$CW27","v":0},0,0,0,"",0]
[null,13,13,1,{"$f":"Insert!A15","v":0},{"$f":"Insert!B15","v":0},{"$f":"Insert!C15","v":0},{"$f":"Insert!D15","v":0},{"$f":"Insert!E15","v":0},{"$f":"'PAT Civil Detailed'!$N28+'PAT Mech Detailed'!$N28","v":0},{"$f":"'PAT Civil Detailed'!$T28+'PAT Mech Detailed'!$T28","v":0},{"$f":"'PAT Civil Detailed'!$AD28+'PAT Mech Detailed'!$AC28","v":0},{"$f":"'PAT Civil Detailed'!$AN28+'PAT Mech Detailed'!$AL28","v":0},{"$f":"'PAT Civil Detailed'!$AT28+'PAT Mech Detailed'!$AR28","v":0},0,{"$f":"'PAT Civil Detailed'!$AX28+'PAT Mech Detailed'!$AV28","v":0},{"$f":"'PAT Civil Detailed'!$BI28+'PAT Mech Detailed'!$BF28","v":0},{"$f":"'PAT Civil Detailed'!$BP28+'PAT Mech Detailed'!$BO28","v":0},{"$f":"'PAT Civil Detailed'!$CA28+'PAT Mech Detailed'!$BV28","v":0},{"$f":"'PAT Civil Detailed'!$CH28+'PAT Mech Detailed'!$CC28","v":0},{"$f":"'PAT Civil Detailed'!$CL28+'PAT Mech Detailed'!$CG28","v":0},0,{"$f":"'PAT Civil Detailed'!$CO28+'PAT Mech Detailed'!$CI28","v":0},{"$f":"'PAT Civil Detailed'!$CV28+'PAT Mech Detailed'!$CP28","v":0},0,{"$f":"'PAT Civil Detailed'!$CW28+'PAT Mech Detailed'!$CR28","v":0},{"$f":"'PAT Civil Detailed'!$CX28+'PAT Mech Detailed'!$CS28","v":0},{"$f":"'PAT Civil Detailed'!$CY28+'PAT Mech Detailed'!$CT28","v":0},{"$f":"'PAT Civil Detailed'!$CZ28+'PAT Mech Detailed'!$CU28","v":0},{"$f":"'PAT Civil Detailed'!$DA28+'PAT Mech Detailed'!$CV28","v":0},{"$f":"'PAT Civil Detailed'!$DB28+'PAT Mech Detailed'!$CW28","v":0},0,0,0,"",0]
[null,14,14,1,{"$f":"Insert!A16","v":0},{"$f":"Insert!B16","v":0},{"$f":"Insert!C16","v":0},{"$f":"Insert!D16","v":0},{"$f":"Insert!E16","v":0},{"$f":"'PAT Civil Detailed'!$N29+'PAT Mech Detailed'!$N29","v":0},{"$f":"'PAT Civil Detailed'!$T29+'PAT Mech Detailed'!$T29","v":0},{"$f":"'PAT Civil Detailed'!$AD29+'PAT Mech Detailed'!$AC29","v":0},{"$f":"'PAT Civil Detailed'!$AN29+'PAT Mech Detailed'!$AL29","v":0},{"$f":"'PAT Civil Detailed'!$AT29+'PAT Mech Detailed'!$AR29","v":0},0,{"$f":"'PAT Civil Detailed'!$AX29+'PAT Mech Detailed'!$AV29","v":0},{"$f":"'PAT Civil Detailed'!$BI29+'PAT Mech Detailed'!$BF29","v":0},{"$f":"'PAT Civil Detailed'!$BP29+'PAT Mech Detailed'!$BO29","v":0},{"$f":"'PAT Civil Detailed'!$CA29+'PAT Mech Detailed'!$BV29","v":0},{"$f":"'PAT Civil Detailed'!$CH29+'PAT Mech Detailed'!$CC29","v":0},{"$f":"'PAT Civil Detailed'!$CL29+'PAT Mech Detailed'!$CG29","v":0},0,{"$f":"'PAT Civil Detailed'!$CO29+'PAT Mech Detailed'!$CI29","v":0},{"$f":"'PAT Civil Detailed'!$CV29+'PAT Mech Detailed'!$CP29","v":0},0,{"$f":"'PAT Civil Detailed'!$CW29+'PAT Mech Detailed'!$CR29","v":0},{"$f":"'PAT Civil Detailed'!$CX29+'PAT Mech Detailed'!$CS29","v":0},{"$f":"'PAT Civil Detailed'!$CY29+'PAT Mech Detailed'!$CT29","v":0},{"$f":"'PAT Civil Detailed'!$CZ29+'PAT Mech Detailed'!$CU29","v":0},{"$f":"'PAT Civil Detailed'!$DA29+'PAT Mech Detailed'!$CV29","v":0},{"$f":"'PAT Civil Detailed'!$DB29+'PAT Mech Detailed'!$CW29","v":0},0,0,0,"",0]
[null,15,15,1,{"$f":"Insert!A17","v":0},{"$f":"Insert!B17","v":0},{"$f":"Insert!C17","v":0},{"$f":"Insert!D17","v":0},{"$f":"Insert!E17","v":0},{"$f":"'PAT Civil Detailed'!$N30+'PAT Mech Detailed'!$N30","v":0},{"$f":"'PAT Civil Detailed'!$T30+'PAT Mech Detailed'!$T30","v":0},{"$f":"'PAT Civil Detailed'!$AD30+'PAT Mech Detailed'!$AC30","v":0},{"$f":"'PAT Civil Detailed'!$AN30+'PAT Mech Detailed'!$AL30","v":0},{"$f":"'PAT Civil Detailed'!$AT30+'PAT Mech Detailed'!$AR30","v":0},0,{"$f":"'PAT Civil Detailed'!$AX30+'PAT Mech Detailed'!$AV30","v":0},{"$f":"'PAT Civil Detailed'!$BI30+'PAT Mech Detailed'!$BF30","v":0},{"$f":"'PAT Civil Detailed'!$BP30+'PAT Mech Detailed'!$BO30","v":0},{"$f":"'PAT Civil Detailed'!$CA30+'PAT Mech Detailed'!$BV30","v":0},{"$f":"'PAT Civil Detailed'!$CH30+'PAT Mech Detailed'!$CC30","v":0},{"$f":"'PAT Civil Detailed'!$CL30+'PAT Mech Detailed'!$CG30","v":0},0,{"$f":"'PAT Civil Detailed'!$CO30+'PAT Mech Detailed'!$CI30","v":0},{"$f":"'PAT Civil Detailed'!$CV30+'PAT Mech Detailed'!$CP30","v":0},0,{"$f":"'PAT Civil Detailed'!$CW30+'PAT Mech Detailed'!$CR30","v":0},{"$f":"'PAT Civil Detailed'!$CX30+'PAT Mech Detailed'!$CS30","v":0},{"$f":"'PAT Civil Detailed'!$CY30+'PAT Mech Detailed'!$CT30","v":0},{"$f":"'PAT Civil Detailed'!$CZ30+'PAT Mech Detailed'!$CU30","v":0},{"$f":"'PAT Civil Detailed'!$DA30+'PAT Mech Detailed'!$CV30","v":0},{"$f":"'PAT Civil Detailed'!$DB30+'PAT Mech Detailed'!$CW30","v":0},0,0,0,"",0]
[null,16,16,1,{"$f":"Insert!A18","v":0},{"$f":"Insert!B18","v":0},{"$f":"Insert!C18","v":0},{"$f":"Insert!D18","v":0},{"$f":"Insert!E18","v":0},{"$f":"'PAT Civil Detailed'!$N31+'PAT Mech Detailed'!$N31","v":0},{"$f":"'PAT Civil Detailed'!$T31+'PAT Mech Detailed'!$T31","v":0},{"$f":"'PAT Civil Detailed'!$AD31+'PAT Mech Detailed'!$AC31","v":0},{"$f":"'PAT Civil Detailed'!$AN31+'PAT Mech Detailed'!$AL31","v":0},{"$f":"'PAT Civil Detailed'!$AT31+'PAT Mech Detailed'!$AR31","v":0},0,{"$f":"'PAT Civil Detailed'!$AX31+'PAT Mech Detailed'!$AV31","v":0},{"$f":"'PAT Civil Detailed'!$BI31+'PAT Mech Detailed'!$BF31","v":0},{"$f":"'PAT Civil Detailed'!$BP31+'PAT Mech Detailed'!$BO31","v":0},{"$f":"'PAT Civil Detailed'!$CA31+'PAT Mech Detailed'!$BV31","v":0},{"$f":"'PAT Civil Detailed'!$CH31+'PAT Mech Detailed'!$CC31","v":0},{"$f":"'PAT Civil Detailed'!$CL31+'PAT Mech Detailed'!$CG31","v":0},0,{"$f":"'PAT Civil Detailed'!$CO31+'PAT Mech Detailed'!$CI31","v":0},{"$f":"'PAT Civil Detailed'!$CV31+'PAT Mech Detailed'!$CP31","v":0},0,{"$f":"'PAT Civil Detailed'!$CW31+'PAT Mech Detailed'!$CR31","v":0},{"$f":"'PAT Civil Detailed'!$CX31+'PAT Mech Detailed'!$CS31","v":0},{"$f":"'PAT Civil Detailed'!$CY31+'PAT Mech Detailed'!$CT31","v":0},{"$f":"'PAT Civil Detailed'!$CZ31+'PAT Mech Detailed'!$CU31","v":0},{"$f":"'PAT Civil Detailed'!$DA31+'PAT Mech Detailed'!$CV31","v":0},{"$f":"'PAT Civil Detailed'!$DB31+'PAT Mech Detailed'!$CW31","v":0},0,0,0,"",0]
[null,17,17,1,{"$f":"Insert!A19","v":0},{"$f":"Insert!B19","v":0},{"$f":"Insert!C19","v":0},{"$f":"Insert!D19","v":0},{"$f":"Insert!E19","v":0},{"$f":"'PAT Civil Detailed'!$N32+'PAT Mech Detailed'!$N32","v":0},{"$f":"'PAT Civil Detailed'!$T32+'PAT Mech Detailed'!$T32","v":0},{"$f":"'PAT Civil Detailed'!$AD32+'PAT Mech Detailed'!$AC32","v":0},{"$f":"'PAT Civil Detailed'!$AN32+'PAT Mech Detailed'!$AL32","v":0},{"$f":"'PAT Civil Detailed'!$AT32+'PAT Mech Detailed'!$AR32","v":0},0,{"$f":"'PAT Civil Detailed'!$AX32+'PAT Mech Detailed'!$AV32","v":0},{"$f":"'PAT Civil Detailed'!$BI32+'PAT Mech Detailed'!$BF32","v":0},{"$f":"'PAT Civil Detailed'!$BP32+'PAT Mech Detailed'!$BO32","v":0},{"$f":"'PAT Civil Detailed'!$CA32+'PAT Mech Detailed'!$BV32","v":0},{"$f":"'PAT Civil Detailed'!$CH32+'PAT Mech Detailed'!$CC32","v":0},{"$f":"'PAT Civil Detailed'!$CL32+'PAT Mech Detailed'!$CG32","v":0},0,{"$f":"'PAT Civil Detailed'!$CO32+'PAT Mech Detailed'!$CI32","v":0},{"$f":"'PAT Civil Detailed'!$CV32+'PAT Mech Detailed'!$CP32","v":0},0,{"$f":"'PAT Civil Detailed'!$CW32+'PAT Mech Detailed'!$CR32","v":0},{"$f":"'PAT Civil Detailed'!$CX32+'PAT Mech Detailed'!$CS32","v":0},{"$f":"'PAT Civil Detailed'!$CY32+'PAT Mech Detailed'!$CT32","v":0},{"$f":"'PAT Civil Detailed'!$CZ32+'PAT Mech Detailed'!$CU32","v":0},{"$f":"'PAT Civil Detailed'!$DA32+'PAT Mech Detailed'!$CV32","v":0},{"$f":"'PAT Civil Detailed'!$DB32+'PAT Mech Detailed'!$CW32","v":0},0,0,0,"",0]
[null,18,18,1,{"$f":"Insert!A20","v":0},{"$f":"Insert!B20","v":0},{"$f":"Insert!C20","v":0},{"$f":"Insert!D20","v":0},{"$f":"Insert!E20","v":0},{"$f":"'PAT Civil Detailed'!$N33+'PAT Mech Detailed'!$N33","v":0},{"$f":"'PAT Civil Detailed'!$T33+'PAT Mech Detailed'!$T33","v":0},{"$f":"'PAT Civil Detailed'!$AD33+'PAT Mech Detailed'!$AC33","v":0},{"$f":"'PAT Civil Detailed'!$AN33+'PAT Mech Detailed'!$AL33","v":0},{"$f":"'PAT Civil Detailed'!$AT33+'PAT Mech Detailed'!$AR33","v":0},0,{"$f":"'PAT Civil Detailed'!$AX33+'PAT Mech Detailed'!$AV33","v":0},{"$f":"'PAT Civil Detailed'!$BI33+'PAT Mech Detailed'!$BF33","v":0},{"$f":"'PAT Civil Detailed'!$BP33+'PAT Mech Detailed'!$BO33","v":0},{"$f":"'PAT Civil Detailed'!$CA33+'PAT Mech Detailed'!$BV33","v":0},{"$f":"'PAT Civil Detailed'!$CH33+'PAT Mech Detailed'!$CC33","v":0},{"$f":"'PAT Civil Detailed'!$CL33+'PAT Mech Detailed'!$CG33","v":0},0,{"$f":"'PAT Civil Detailed'!$CO33+'PAT Mech Detailed'!$CI33","v":0},{"$f":"'PAT Civil Detailed'!$CV33+'PAT Mech Detailed'!$CP33","v":0},0,{"$f":"'PAT Civil Detailed'!$CW33+'PAT Mech Detailed'!$CR33","v":0},{"$f":"'PAT Civil Detailed'!$CX33+'PAT Mech Detailed'!$CS33","v":0},{"$f":"'PAT Civil Detailed'!$CY33+'PAT Mech Detailed'!$CT33","v":0},{"$f":"'PAT Civil Detailed'!$CZ33+'PAT Mech Detailed'!$CU33","v":0},{"$f":"'PAT Civil Detailed'!$DA33+'PAT Mech Detailed'!$CV33","v":0},{"$f":"'PAT Civil Detailed'!$DB33+'PAT Mech Detailed'!$CW33","v":0},0,0,0,"",0]
[null,19,19,1,{"$f":"Insert!A21","v":0},{"$f":"Insert!B21","v":0},{"$f":"Insert!C21","v":0},{"$f":"Insert!D21","v":0},{"$f":"Insert!E21","v":0},{"$f":"'PAT Civil Detailed'!$N34+'PAT Mech Detailed'!$N34","v":0},{"$f":"'PAT Civil Detailed'!$T34+'PAT Mech Detailed'!$T34","v":0},{"$f":"'PAT Civil Detailed'!$AD34+'PAT Mech Detailed'!$AC34","v":0},{"$f":"'PAT Civil Detailed'!$AN34+'PAT Mech Detailed'!$AL34","v":0},{"$f":"'PAT Civil Detailed'!$AT34+'PAT Mech Detailed'!$AR34","v":0},0,{"$f":"'PAT Civil Detailed'!$AX34+'PAT Mech Detailed'!$AV34","v":0},{"$f":"'PAT Civil Detailed'!$BI34+'PAT Mech Detailed'!$BF34","v":0},{"$f":"'PAT Civil Detailed'!$BP34+'PAT Mech Detailed'!$BO34","v":0},{"$f":"'PAT Civil Detailed'!$CA34+'PAT Mech Detailed'!$BV34","v":0},{"$f":"'PAT Civil Detailed'!$CH34+'PAT Mech Detailed'!$CC34","v":0},{"$f":"'PAT Civil Detailed'!$CL34+'PAT Mech Detailed'!$CG34","v":0},0,{"$f":"'PAT Civil Detailed'!$CO34+'PAT Mech Detailed'!$CI34","v":0},{"$f":"'PAT Civil Detailed'!$CV34+'PAT Mech Detailed'!$CP34","v":0},0,{"$f":"'PAT Civil Detailed'!$CW34+'PAT Mech Detailed'!$CR34","v":0},{"$f":"'PAT Civil Detailed'!$CX34+'PAT Mech Detailed'!$CS34","v":0},{"$f":"'PAT Civil Detailed'!$CY34+'PAT Mech Detailed'!$CT34","v":0},{"$f":"'PAT Civil Detailed'!$CZ34+'PAT Mech Detailed'!$CU34","v":0},{"$f":"'PAT Civil Detailed'!$DA34+'PAT Mech Detailed'!$CV34","v":0},{"$f":"'PAT Civil Detailed'!$DB34+'PAT Mech Detailed'!$CW34","v":0},0,0,0,"",0]
[null,20,20,1,{"$f":"Insert!A22","v":0},{"$f":"Insert!B22","v":0},{"$f":"Insert!C22","v":0},{"$f":"Insert!D22","v":0},{"$f":"Insert!E22","v":0},{"$f":"'PAT Civil Detailed'!$N35+'PAT Mech Detailed'!$N35","v":0},{"$f":"'PAT Civil Detailed'!$T35+'PAT Mech Detailed'!$T35","v":0},{"$f":"'PAT Civil Detailed'!$AD35+'PAT Mech Detailed'!$AC35","v":0},{"$f":"'PAT Civil Detailed'!$AN35+'PAT Mech Detailed'!$AL35","v":0},{"$f":"'PAT Civil Detailed'!$AT35+'PAT Mech Detailed'!$AR35","v":0},0,{"$f":"'PAT Civil Detailed'!$AX35+'PAT Mech Detailed'!$AV35","v":0},{"$f":"'PAT Civil Detailed'!$BI35+'PAT Mech Detailed'!$BF35","v":0},{"$f":"'PAT Civil Detailed'!$BP35+'PAT Mech Detailed'!$BO35","v":0},{"$f":"'PAT Civil Detailed'!$CA35+'PAT Mech Detailed'!$BV35","v":0},{"$f":"'PAT Civil Detailed'!$CH35+'PAT Mech Detailed'!$CC35","v":0},{"$f":"'PAT Civil Detailed'!$CL35+'PAT Mech Detailed'!$CG35","v":0},0,{"$f":"'PAT Civil Detailed'!$CO35+'PAT Mech Detailed'!$CI35","v":0},{"$f":"'PAT Civil Detailed'!$CV35+'PAT Mech Detailed'!$CP35","v":0},0,{"$f":"'PAT Civil Detailed'!$CW35+'PAT Mech Detailed'!$CR35","v":0},{"$f":"'PAT Civil Detailed'!$CX35+'PAT Mech Detailed'!$CS35","v":0},{"$f":"'PAT Civil Detailed'!$CY35+'PAT Mech Detailed'!$CT35","v":0},{"$f":"'PAT Civil Detailed'!$CZ35+'PAT Mech Detailed'!$CU35","v":0},{"$f":"'PAT Civil Detailed'!$DA35+'PAT Mech Detailed'!$CV35","v":0},{"$f":"'PAT Civil Detailed'!$DB35+'PAT Mech Detailed'!$CW35","v":0},0,0,0,"",0]
[null,21,21,1,{"$f":"Insert!A23","v":0},{"$f":"Insert!B23","v":0},{"$f":"Insert!C23","v":0},{"$f":"Insert!D23","v":0},{"$f":"Insert!E23","v":0},{"$f":"'PAT Civil Detailed'!$N36+'PAT Mech Detailed'!$N36","v":0},{"$f":"'PAT Civil Detailed'!$T36+'PAT Mech Detailed'!$T36","v":0},{"$f":"'PAT Civil Detailed'!$AD36+'PAT Mech Detailed'!$AC36","v":0},{"$f":"'PAT Civil Detailed'!$AN36+'PAT Mech Detailed'!$AL36","v":0},{"$f":"'PAT Civil Detailed'!$AT36+'PAT Mech Detailed'!$AR36","v":0},0,{"$f":"'PAT Civil Detailed'!$AX36+'PAT Mech Detailed'!$AV36","v":0},{"$f":"'PAT Civil Detailed'!$BI36+'PAT Mech Detailed'!$BF36","v":0},{"$f":"'PAT Civil Detailed'!$BP36+'PAT Mech Detailed'!$BO36","v":0},{"$f":"'PAT Civil Detailed'!$CA36+'PAT Mech Detailed'!$BV36","v":0},{"$f":"'PAT Civil Detailed'!$CH36+'PAT Mech Detailed'!$CC36","v":0},{"$f":"'PAT Civil Detailed'!$CL36+'PAT Mech Detailed'!$CG36","v":0},0,{"$f":"'PAT Civil Detailed'!$CO36+'PAT Mech Detailed'!$CI36","v":0},{"$f":"'PAT Civil Detailed'!$CV36+'PAT Mech Detailed'!$CP36","v":0},0,{"$f":"'PAT Civil Detailed'!$CW36+'PAT Mech Detailed'!$CR36","v":0},{"$f":"'PAT Civil Detailed'!$CX36+'PAT Mech Detailed'!$CS36","v":0},{"$f":"'PAT Civil Detailed'!$CY36+'PAT Mech Detailed'!$CT36","v":0},{"$f":"'PAT Civil Detailed'!$CZ36+'PAT Mech Detailed'!$CU36","v":0},{"$f":"'PAT Civil Detailed'!$DA36+'PAT Mech Detailed'!$CV36","v":0},{"$f":"'PAT Civil Detailed'!$DB36+'PAT Mech Detailed'!$CW36","v":0},0,0,0,"",0]
[null,22,22,1,{"$f":"Insert!A24","v":0},{"$f":"Insert!B24","v":0},{"$f":"Insert!C24","v":0},{"$f":"Insert!D24","v":0},{"$f":"Insert!E24","v":0},{"$f":"'PAT Civil Detailed'!$N37+'PAT Mech Detailed'!$N37","v":0},{"$f":"'PAT Civil Detailed'!$T37+'PAT Mech Detailed'!$T37","v":0},{"$f":"'PAT Civil Detailed'!$AD37+'PAT Mech Detailed'!$AC37","v":0},{"$f":"'PAT Civil Detailed'!$AN37+'PAT Mech Detailed'!$AL37","v":0},{"$f":"'PAT Civil Detailed'!$AT37+'PAT Mech Detailed'!$AR37","v":0},0,{"$f":"'PAT Civil Detailed'!$AX37+'PAT Mech Detailed'!$AV37","v":0},{"$f":"'PAT Civil Detailed'!$BI37+'PAT Mech Detailed'!$BF37","v":0},{"$f":"'PAT Civil Detailed'!$BP37+'PAT Mech Detailed'!$BO37","v":0},{"$f":"'PAT Civil Detailed'!$CA37+'PAT Mech Detailed'!$BV37","v":0},{"$f":"'PAT Civil Detailed'!$CH37+'PAT Mech Detailed'!$CC37","v":0},{"$f":"'PAT Civil Detailed'!$CL37+'PAT Mech Detailed'!$CG37","v":0},0,{"$f":"'PAT Civil Detailed'!$CO37+'PAT Mech Detailed'!$CI37","v":0},{"$f":"'PAT Civil Detailed'!$CV37+'PAT Mech Detailed'!$CP37","v":0},0,{"$f":"'PAT Civil Detailed'!$CW37+'PAT Mech Detailed'!$CR37","v":0},{"$f":"'PAT Civil Detailed'!$CX37+'PAT Mech Detailed'!$CS37","v":0},{"$f":"'PAT Civil Detailed'!$CY37+'PAT Mech Detailed'!$CT37","v":0},{"$f":"'PAT Civil Detailed'!$CZ37+'PAT Mech Detailed'!$CU37","v":0},{"$f":"'PAT Civil Detailed'!$DA37+'PAT Mech Detailed'!$CV37","v":0},{"$f":"'PAT Civil Detailed'!$DB37+'PAT Mech Detailed'!$CW37","v":0},0,0,0,"",0]
[null,23,23,1,{"$f":"Insert!A25","v":0},{"$f":"Insert!B25","v":0},{"$f":"Insert!C25","v":0},{"$f":"Insert!D25","v":0},{"$f":"Insert!E25","v":0},{"$f":"'PAT Civil Detailed'!$N38+'PAT Mech Detailed'!$N38","v":0},{"$f":"'PAT Civil Detailed'!$T38+'PAT Mech Detailed'!$T38","v":0},{"$f":"'PAT Civil Detailed'!$AD38+'PAT Mech Detailed'!$AC38","v":0},{"$f":"'PAT Civil Detailed'!$AN38+'PAT Mech Detailed'!$AL38","v":0},{"$f":"'PAT Civil Detailed'!$AT38+'PAT Mech Detailed'!$AR38","v":0},0,{"$f":"'PAT Civil Detailed'!$AX38+'PAT Mech Detailed'!$AV38","v":0},{"$f":"'PAT Civil Detailed'!$BI38+'PAT Mech Detailed'!$BF38","v":0},{"$f":"'PAT Civil Detailed'!$BP38+'PAT Mech Detailed'!$BO38","v":0},{"$f":"'PAT Civil Detailed'!$CA38+'PAT Mech Detailed'!$BV38","v":0},{"$f":"'PAT Civil Detailed'!$CH38+'PAT Mech Detailed'!$CC38","v":0},{"$f":"'PAT Civil Detailed'!$CL38+'PAT Mech Detailed'!$CG38","v":0},0,{"$f":"'PAT Civil Detailed'!$CO38+'PAT Mech Detailed'!$CI38","v":0},{"$f":"'PAT Civil Detailed'!$CV38+'PAT Mech Detailed'!$CP38","v":0},0,{"$f":"'PAT Civil Detailed'!$CW38+'PAT Mech Detailed'!$CR38","v":0},{"$f":"'PAT Civil Detailed'!$CX38+'PAT Mech Detailed'!$CS38","v":0},{"$f":"'PAT Civil Detailed'!$CY38+'PAT Mech Detailed'!$CT38","v":0},{"$f":"'PAT Civil Detailed'!$CZ38+'PAT Mech Detailed'!$CU38","v":0},{"$f":"'PAT Civil Detailed'!$DA38+'PAT Mech Detailed'!$CV38","v":0},{"$f":"'PAT Civil Detailed'!$DB38+'PAT Mech Detailed'!$CW38","v":0},0,0,0,"",0]
[null,24,24,1,{"$f":"Insert!A26","v":0},{"$f":"Insert!B26","v":0},{"$f":"Insert!C26","v":0},{"$f":"Insert!D26","v":0},{"$f":"Insert!E26","v":0},{"$f":"'PAT Civil Detailed'!$N39+'PAT Mech Detailed'!$N39","v":0},{"$f":"'PAT Civil Detailed'!$T39+'PAT Mech Detailed'!$T39","v":0},{"$f":"'PAT Civil Detailed'!$AD39+'PAT Mech Detailed'!$AC39","v":0},{"$f":"'PAT Civil Detailed'!$AN39+'PAT Mech Detailed'!$AL39","v":0},{"$f":"'PAT Civil Detailed'!$AT39+'PAT Mech Detailed'!$AR39","v":0},0,{"$f":"'PAT Civil Detailed'!$AX39+'PAT Mech Detailed'!$AV39","v":0},{"$f":"'PAT Civil Detailed'!$BI39+'PAT Mech Detailed'!$BF39","v":0},{"$f":"'PAT Civil Detailed'!$BP39+'PAT Mech Detailed'!$BO39","v":0},{"$f":"'PAT Civil Detailed'!$CA39+'PAT Mech Detailed'!$BV39","v":0},{"$f":"'PAT Civil Detailed'!$CH39+'PAT Mech Detailed'!$CC39","v":0},{"$f":"'PAT Civil Detailed'!$CL39+'PAT Mech Detailed'!$CG39","v":0},0,{"$f":"'PAT Civil Detailed'!$CO39+'PAT Mech Detailed'!$CI39","v":0},{"$f":"'PAT Civil Detailed'!$CV39+'PAT Mech Detailed'!$CP39","v":0},0,{"$f":"'PAT Civil Detailed'!$CW39+'PAT Mech Detailed'!$CR39","v":0},{"$f":"'PAT Civil Detailed'!$CX39+'PAT Mech Detailed'!$CS39","v":0},{"$f":"'PAT Civil Detailed'!$CY39+'PAT Mech Detailed'!$CT39","v":0},{"$f":"'PAT Civil Detailed'!$CZ39+'PAT Mech Detailed'!$CU39","v":0},{"$f":"'PAT Civil Detailed'!$DA39+'PAT Mech Detailed'!$CV39","v":0},{"$f":"'PAT Civil Detailed'!$DB39+'PAT Mech Detailed'!$CW39","v":0},0,0,0,"",0]
[null,25,25,1,{"$f":"Insert!A27","v":0},{"$f":"Insert!B27","v":0},{"$f":"Insert!C27","v":0},{"$f":"Insert!D27","v":0},{"$f":"Insert!E27","v":0},{"$f":"'PAT Civil Detailed'!$N40+'PAT Mech Detailed'!$N40","v":0},{"$f":"'PAT Civil Detailed'!$T40+'PAT Mech Detailed'!$T40","v":0},{"$f":"'PAT Civil Detailed'!$AD40+'PAT Mech Detailed'!$AC40","v":0},{"$f":"'PAT Civil Detailed'!$AN40+'PAT Mech Detailed'!$AL40","v":0},{"$f":"'PAT Civil Detailed'!$AT40+'PAT Mech Detailed'!$AR40","v":0},0,{"$f":"'PAT Civil Detailed'!$AX40+'PAT Mech Detailed'!$AV40","v":0},{"$f":"'PAT Civil Detailed'!$BI40+'PAT Mech Detailed'!$BF40","v":0},{"$f":"'PAT Civil Detailed'!$BP40+'PAT Mech Detailed'!$BO40","v":0},{"$f":"'PAT Civil Detailed'!$CA40+'PAT Mech Detailed'!$BV40","v":0},{"$f":"'PAT Civil Detailed'!$CH40+'PAT Mech Detailed'!$CC40","v":0},{"$f":"'PAT Civil Detailed'!$CL40+'PAT Mech Detailed'!$CG40","v":0},0,{"$f":"'PAT Civil Detailed'!$CO40+'PAT Mech Detailed'!$CI40","v":0},{"$f":"'PAT Civil Detailed'!$CV40+'PAT Mech Detailed'!$CP40","v":0},0,{"$f":"'PAT Civil Detailed'!$CW40+'PAT Mech Detailed'!$CR40","v":0},{"$f":"'PAT Civil Detailed'!$CX40+'PAT Mech Detailed'!$CS40","v":0},{"$f":"'PAT Civil Detailed'!$CY40+'PAT Mech Detailed'!$CT40","v":0},{"$f":"'PAT Civil Detailed'!$CZ40+'PAT Mech Detailed'!$CU40","v":0},{"$f":"'PAT Civil Detailed'!$DA40+'PAT Mech Detailed'!$CV40","v":0},{"$f":"'PAT Civil Detailed'!$DB40+'PAT Mech Detailed'!$CW40","v":0},0,0,0,"",0]
[null,26,26,1,{"$f":"Insert!A28","v":0},{"$f":"Insert!B28","v":0},{"$f":"Insert!C28","v":0},{"$f":"Insert!D28","v":0},{"$f":"Insert!E28","v":0},{"$f":"'PAT Civil Detailed'!$N41+'PAT Mech Detailed'!$N41","v":0},{"$f":"'PAT Civil Detailed'!$T41+'PAT Mech Detailed'!$T41","v":0},{"$f":"'PAT Civil Detailed'!$AD41+'PAT Mech Detailed'!$AC41","v":0},{"$f":"'PAT Civil Detailed'!$AN41+'PAT Mech Detailed'!$AL41","v":0},{"$f":"'PAT Civil Detailed'!$AT41+'PAT Mech Detailed'!$AR41","v":0},0,{"$f":"'PAT Civil Detailed'!$AX41+'PAT Mech Detailed'!$AV41","v":0},{"$f":"'PAT Civil Detailed'!$BI41+'PAT Mech Detailed'!$BF41","v":0},{"$f":"'PAT Civil Detailed'!$BP41+'PAT Mech Detailed'!$BO41","v":0},{"$f":"'PAT Civil Detailed'!$CA41+'PAT Mech Detailed'!$BV41","v":0},{"$f":"'PAT Civil Detailed'!$CH41+'PAT Mech Detailed'!$CC41","v":0},{"$f":"'PAT Civil Detailed'!$CL41+'PAT Mech Detailed'!$CG41","v":0},0,{"$f":"'PAT Civil Detailed'!$CO41+'PAT Mech Detailed'!$CI41","v":0},{"$f":"'PAT Civil Detailed'!$CV41+'PAT Mech Detailed'!$CP41","v":0},0,{"$f":"'PAT Civil Detailed'!$CW41+'PAT Mech Detailed'!$CR41","v":0},{"$f":"'PAT Civil Detailed'!$CX41+'PAT Mech Detailed'!$CS41","v":0},{"$f":"'PAT Civil Detailed'!$CY41+'PAT Mech Detailed'!$CT41","v":0},{"$f":"'PAT Civil Detailed'!$CZ41+'PAT Mech Detailed'!$CU41","v":0},{"$f":"'PAT Civil Detailed'!$DA41+'PAT Mech Detailed'!$CV41","v":0},{"$f":"'PAT Civil Detailed'!$DB41+'PAT Mech Detailed'!$CW41","v":0},0,0,0,"",0]
[null,27,27,1,{"$f":"Insert!A29","v":0},{"$f":"Insert!B29","v":0},{"$f":"Insert!C29","v":0},{"$f":"Insert!D29","v":0},{"$f":"Insert!E29","v":0},{"$f":"'PAT Civil Detailed'!$N42+'PAT Mech Detailed'!$N42","v":0},{"$f":"'PAT Civil Detailed'!$T42+'PAT Mech Detailed'!$T42","v":0},{"$f":"'PAT Civil Detailed'!$AD42+'PAT Mech Detailed'!$AC42","v":0},{"$f":"'PAT Civil Detailed'!$AN42+'PAT Mech Detailed'!$AL42","v":0},{"$f":"'PAT Civil Detailed'!$AT42+'PAT Mech Detailed'!$AR42","v":0},0,{"$f":"'PAT Civil Detailed'!$AX42+'PAT Mech Detailed'!$AV42","v":0},{"$f":"'PAT Civil Detailed'!$BI42+'PAT Mech Detailed'!$BF42","v":0},{"$f":"'PAT Civil Detailed'!$BP42+'PAT Mech Detailed'!$BO42","v":0},{"$f":"'PAT Civil Detailed'!$CA42+'PAT Mech Detailed'!$BV42","v":0},{"$f":"'PAT Civil Detailed'!$CH42+'PAT Mech Detailed'!$CC42","v":0},{"$f":"'PAT Civil Detailed'!$CL42+'PAT Mech Detailed'!$CG42","v":0},0,{"$f":"'PAT Civil Detailed'!$CO42+'PAT Mech Detailed'!$CI42","v":0},{"$f":"'PAT Civil Detailed'!$CV42+'PAT Mech Detailed'!$CP42","v":0},0,{"$f":"'PAT Civil Detailed'!$CW42+'PAT Mech Detailed'!$CR42","v":0},{"$f":"'PAT Civil Detailed'!$CX42+'PAT Mech Detailed'!$CS42","v":0},{"$f":"'PAT Civil Detailed'!$CY42+'PAT Mech Detailed'!$CT42","v":0},{"$f":"'PAT Civil Detailed'!$CZ42+'PAT Mech Detailed'!$CU42","v":0},{"$f":"'PAT Civil Detailed'!$DA42+'PAT Mech Detailed'!$CV42","v":0},{"$f":"'PAT Civil Detailed'!$DB42+'PAT Mech Detailed'!$CW42","v":0},0,0,0,"",0]
[null,28,28,1,{"$f":"Insert!A30","v":0},{"$f":"Insert!B30","v":0},{"$f":"Insert!C30","v":0},{"$f":"Insert!D30","v":0},{"$f":"Insert!E30","v":0},{"$f":"'PAT Civil Detailed'!$N43+'PAT Mech Detailed'!$N43","v":0},{"$f":"'PAT Civil Detailed'!$T43+'PAT Mech Detailed'!$T43","v":0},{"$f":"'PAT Civil Detailed'!$AD43+'PAT Mech Detailed'!$AC43","v":0},{"$f":"'PAT Civil Detailed'!$AN43+'PAT Mech Detailed'!$AL43","v":0},{"$f":"'PAT Civil Detailed'!$AT43+'PAT Mech Detailed'!$AR43","v":0},0,{"$f":"'PAT Civil Detailed'!$AX43+'PAT Mech Detailed'!$AV43","v":0},{"$f":"'PAT Civil Detailed'!$BI43+'PAT Mech Detailed'!$BF43","v":0},{"$f":"'PAT Civil Detailed'!$BP43+'PAT Mech Detailed'!$BO43","v":0},{"$f":"'PAT Civil Detailed'!$CA43+'PAT Mech Detailed'!$BV43","v":0},{"$f":"'PAT Civil Detailed'!$CH43+'PAT Mech Detailed'!$CC43","v":0},{"$f":"'PAT Civil Detailed'!$CL43+'PAT Mech Detailed'!$CG43","v":0},0,{"$f":"'PAT Civil Detailed'!$CO43+'PAT Mech Detailed'!$CI43","v":0},{"$f":"'PAT Civil Detailed'!$CV43+'PAT Mech Detailed'!$CP43","v":0},0,{"$f":"'PAT Civil Detailed'!$CW43+'PAT Mech Detailed'!$CR43","v":0},{"$f":"'PAT Civil Detailed'!$CX43+'PAT Mech Detailed'!$CS43","v":0},{"$f":"'PAT Civil Detailed'!$CY43+'PAT Mech Detailed'!$CT43","v":0},{"$f":"'PAT Civil Detailed'!$CZ43+'PAT Mech Detailed'!$CU43","v":0},{"$f":"'PAT Civil Detailed'!$DA43+'PAT Mech Detailed'!$CV43","v":0},{"$f":"'PAT Civil Detailed'!$DB43+'PAT Mech Detailed'!$CW43","v":0},0,0,0,"",0]
[null,29,29,1,{"$f":"Insert!A31","v":0},{"$f":"Insert!B31","v":0},{"$f":"Insert!C31","v":0},{"$f":"Insert!D31","v":0},{"$f":"Insert!E31","v":0},{"$f":"'PAT Civil Detailed'!$N44+'PAT Mech Detailed'!$N44","v":0},{"$f":"'PAT Civil Detailed'!$T44+'PAT Mech Detailed'!$T44","v":0},{"$f":"'PAT Civil Detailed'!$AD44+'PAT Mech Detailed'!$AC44","v":0},{"$f":"'PAT Civil Detailed'!$AN44+'PAT Mech Detailed'!$AL44","v":0},{"$f":"'PAT Civil Detailed'!$AT44+'PAT Mech Detailed'!$AR44","v":0},0,{"$f":"'PAT Civil Detailed'!$AX44+'PAT Mech Detailed'!$AV44","v":0},{"$f":"'PAT Civil Detailed'!$BI44+'PAT Mech Detailed'!$BF44","v":0},{"$f":"'PAT Civil Detailed'!$BP44+'PAT Mech Detailed'!$BO44","v":0},{"$f":"'PAT Civil Detailed'!$CA44+'PAT Mech Detailed'!$BV44","v":0},{"$f":"'PAT Civil Detailed'!$CH44+'PAT Mech Detailed'!$CC44","v":0},{"$f":"'PAT Civil Detailed'!$CL44+'PAT Mech Detailed'!$CG44","v":0},0,{"$f":"'PAT Civil Detailed'!$CO44+'PAT Mech Detailed'!$CI44","v":0},{"$f":"'PAT Civil Detailed'!$CV44+'PAT Mech Detailed'!$CP44","v":0},0,{"$f":"'PAT Civil Detailed'!$CW44+'PAT Mech Detailed'!$CR44","v":0},{"$f":"'PAT Civil Detailed'!$CX44+'PAT Mech Detailed'!$CS44","v":0},{"$f":"'PAT Civil Detailed'!$CY44+'PAT Mech Detailed'!$CT44","v":0},{"$f":"'PAT Civil Detailed'!$CZ44+'PAT Mech Detailed'!$CU44","v":0},{"$f":"'PAT Civil Detailed'!$DA44+'PAT Mech Detailed'!$CV44","v":0},{"$f":"'PAT Civil Detailed'!$DB44+'PAT Mech Detailed'!$CW44","v":0},0,0,0,"",0]
[null,30,30,1,{"$f":"Insert!A32","v":0},{"$f":"Insert!B32","v":0},{"$f":"Insert!C32","v":0},{"$f":"Insert!D32","v":0},{"$f":"Insert!E32","v":0},{"$f":"'PAT Civil Detailed'!$N45+'PAT Mech Detailed'!$N45","v":0},{"$f":"'PAT Civil Detailed'!$T45+'PAT Mech Detailed'!$T45","v":0},{"$f":"'PAT Civil Detailed'!$AD45+'PAT Mech Detailed'!$AC45","v":0},{"$f":"'PAT Civil Detailed'!$AN45+'PAT Mech Detailed'!$AL45","v":0},{"$f":"'PAT Civil Detailed'!$AT45+'PAT Mech Detailed'!$AR45","v":0},0,{"$f":"'PAT Civil Detailed'!$AX45+'PAT Mech Detailed'!$AV45","v":0},{"$f":"'PAT Civil Detailed'!$BI45+'PAT Mech Detailed'!$BF45","v":0},{"$f":"'PAT Civil Detailed'!$BP45+'PAT Mech Detailed'!$BO45","v":0},{"$f":"'PAT Civil Detailed'!$CA45+'PAT Mech Detailed'!$BV45","v":0},{"$f":"'PAT Civil Detailed'!$CH45+'PAT Mech Detailed'!$CC45","v":0},{"$f":"'PAT Civil Detailed'!$CL45+'PAT Mech Detailed'!$CG45","v":0},0,{"$f":"'PAT Civil Detailed'!$CO45+'PAT Mech Detailed'!$CI45","v":0},{"$f":"'PAT Civil Detailed'!$CV45+'PAT Mech Detailed'!$CP45","v":0},0,{"$f":"'PAT Civil Detailed'!$CW45+'PAT Mech Detailed'!$CR45","v":0},{"$f":"'PAT Civil Detailed'!$CX45+'PAT Mech Detailed'!$CS45","v":0},{"$f":"'PAT Civil Detailed'!$CY45+'PAT Mech Detailed'!$CT45","v":0},{"$f":"'PAT Civil Detailed'!$CZ45+'PAT Mech Detailed'!$CU45","v":0},{"$f":"'PAT Civil Detailed'!$DA45+'PAT Mech Detailed'!$CV45","v":0},{"$f":"'PAT Civil Detailed'!$DB45+'PAT Mech Detailed'!$CW45","v":0},0,0,0,"",0]
[null,31,31,1,{"$f":"Insert!A33","v":0},{"$f":"Insert!B33","v":0},{"$f":"Insert!C33","v":0},{"$f":"Insert!D33","v":0},{"$f":"Insert!E33","v":0},{"$f":"'PAT Civil Detailed'!$N46+'PAT Mech Detailed'!$N46","v":0},{"$f":"'PAT Civil Detailed'!$T46+'PAT Mech Detailed'!$T46","v":0},{"$f":"'PAT Civil Detailed'!$AD46+'PAT Mech Detailed'!$AC46","v":0},{"$f":"'PAT Civil Detailed'!$AN46+'PAT Mech Detailed'!$AL46","v":0},{"$f":"'PAT Civil Detailed'!$AT46+'PAT Mech Detailed'!$AR46","v":0},0,{"$f":"'PAT Civil Detailed'!$AX46+'PAT Mech Detailed'!$AV46","v":0},{"$f":"'PAT Civil Detailed'!$BI46+'PAT Mech Detailed'!$BF46","v":0},{"$f":"'PAT Civil Detailed'!$BP46+'PAT Mech Detailed'!$BO46","v":0},{"$f":"'PAT Civil Detailed'!$CA46+'PAT Mech Detailed'!$BV46","v":0},{"$f":"'PAT Civil Detailed'!$CH46+'PAT Mech Detailed'!$CC46","v":0},{"$f":"'PAT Civil Detailed'!$CL46+'PAT Mech Detailed'!$CG46","v":0},0,{"$f":"'PAT Civil Detailed'!$CO46+'PAT Mech Detailed'!$CI46","v":0},{"$f":"'PAT Civil Detailed'!$CV46+'PAT Mech Detailed'!$CP46","v":0},0,{"$f":"'PAT Civil Detailed'!$CW46+'PAT Mech Detailed'!$CR46","v":0},{"$f":"'PAT Civil Detailed'!$CX46+'PAT Mech Detailed'!$CS46","v":0},{"$f":"'PAT Civil Detailed'!$CY46+'PAT Mech Detailed'!$CT46","v":0},{"$f":"'PAT Civil Detailed'!$CZ46+'PAT Mech Detailed'!$CU46","v":0},{"$f":"'PAT Civil Detailed'!$DA46+'PAT Mech Detailed'!$CV46","v":0},{"$f":"'PAT Civil Detailed'!$DB46+'PAT Mech Detailed'!$CW46","v":0},0,0,0,"",0]
[null,32,32,1,{"$f":"Insert!A34","v":0},{"$f":"Insert!B34","v":0},{"$f":"Insert!C34","v":0},{"$f":"Insert!D34","v":0},{"$f":"Insert!E34","v":0},{"$f":"'PAT Civil Detailed'!$N47+'PAT Mech Detailed'!$N47","v":0},{"$f":"'PAT Civil Detailed'!$T47+'PAT Mech Detailed'!$T47","v":0},{"$f":"'PAT Civil Detailed'!$AD47+'PAT Mech Detailed'!$AC47","v":0},{"$f":"'PAT Civil Detailed'!$AN47+'PAT Mech Detailed'!$AL47","v":0},{"$f":"'PAT Civil Detailed'!$AT47+'PAT Mech Detailed'!$AR47","v":0},0,{"$f":"'PAT Civil Detailed'!$AX47+'PAT Mech Detailed'!$AV47","v":0},{"$f":"'PAT Civil Detailed'!$BI47+'PAT Mech Detailed'!$BF47","v":0},{"$f":"'PAT Civil Detailed'!$BP47+'PAT Mech Detailed'!$BO47","v":0},{"$f":"'PAT Civil Detailed'!$CA47+'PAT Mech Detailed'!$BV47","v":0},{"$f":"'PAT Civil Detailed'!$CH47+'PAT Mech Detailed'!$CC47","v":0},{"$f":"'PAT Civil Detailed'!$CL47+'PAT Mech Detailed'!$CG47","v":0},0,{"$f":"'PAT Civil Detailed'!$CO47+'PAT Mech Detailed'!$CI47","v":0},{"$f":"'PAT Civil Detailed'!$CV47+'PAT Mech Detailed'!$CP47","v":0},0,{"$f":"'PAT Civil Detailed'!$CW47+'PAT Mech Detailed'!$CR47","v":0},{"$f":"'PAT Civil Detailed'!$CX47+'PAT Mech Detailed'!$CS47","v":0},{"$f":"'PAT Civil Detailed'!$CY47+'PAT Mech Detailed'!$CT47","v":0},{"$f":"'PAT Civil Detailed'!$CZ47+'PAT Mech Detailed'!$CU47","v":0},{"$f":"'PAT Civil Detailed'!$DA47+'PAT Mech Detailed'!$CV47","v":0},{"$f":"'PAT Civil Detailed'!$DB47+'PAT Mech Detailed'!$CW47","v":0},0,0,0,"",0]
[null,33,33,1,{"$f":"Insert!A35","v":0},{"$f":"Insert!B35","v":0},{"$f":"Insert!C35","v":0},{"$f":"Insert!D35","v":0},{"$f":"Insert!E35","v":0},{"$f":"'PAT Civil Detailed'!$N48+'PAT Mech Detailed'!$N48","v":0},{"$f":"'PAT Civil Detailed'!$T48+'PAT Mech Detailed'!$T48","v":0},{"$f":"'PAT Civil Detailed'!$AD48+'PAT Mech Detailed'!$AC48","v":0},{"$f":"'PAT Civil Detailed'!$AN48+'PAT Mech Detailed'!$AL48","v":0},{"$f":"'PAT Civil Detailed'!$AT48+'PAT Mech Detailed'!$AR48","v":0},{"$f":"ROUND((SUM(J50:N50)/2.777777777),0)","v":0},{"$f":"'PAT Civil Detailed'!$AX48+'PAT Mech Detailed'!$AV48","v":0},{"$f":"'PAT Civil Detailed'!$BI48+'PAT Mech Detailed'!$BF48","v":0},{"$f":"'PAT Civil Detailed'!$BP48+'PAT Mech Detailed'!$BO48","v":0},{"$f":"'PAT Civil Detailed'!$CA48+'PAT Mech Detailed'!$BV48","v":0},{"$f":"'PAT Civil Detailed'!$CH48+'PAT Mech Detailed'!$CC48","v":0},{"$f":"'PAT Civil Detailed'!$CL48+'PAT Mech Detailed'!$CG48","v":0},{"$f":"ROUND((SUMIF(P50:U50,\">0\")/1.2),0)","v":0},{"$f":"'PAT Civil Detailed'!$CO48+'PAT Mech Detailed'!$CI48","v":0},{"$f":"'PAT Civil Detailed'!$CV48+'PAT Mech Detailed'!$CP48","v":0},{"$f":"ROUND((SUM(W50:X50)/2.857142857),0)","v":0},{"$f":"'PAT Civil Detailed'!$CW48+'PAT Mech Detailed'!$CR48","v":0},{"$f":"'PAT Civil Detailed'!$CX48+'PAT Mech Detailed'!$CS48","v":0},{"$f":"'PAT Civil Detailed'!$CY48+'PAT Mech Detailed'!$CT48","v":0},{"$f":"'PAT Civil Detailed'!$CZ48+'PAT Mech Detailed'!$CU48","v":0},{"$f":"'PAT Civil Detailed'!$DA48+'PAT Mech Detailed'!$CV48","v":0},{"$f":"'PAT Civil Detailed'!$DB48+'PAT Mech Detailed'!$CW48","v":0},{"$f":"SUMIF(Z50:AE50,\">0\")","v":0},{"$f":"ROUND(IF(AJ50=4,SUM(Z50:AC50)/1.6,IF(AJ50=6,SUM(Z50:AE50)/2.4,SUM(Z50:AC50))),0)","v":0},{"$f":"ROUND(SUM(O50+V50+Y50+AG50),0)","v":0},{"$f":"IF(AH50>79,\"7\",IF(AH50>69,\"6\",IF(AH50>59,\"5\",IF(AH50>49,\"4\",IF(AH50>39,\"3\",IF(AH50>29,\"2\",IF(AH50>0,\"1\",IF(AH50=0,\"\"))))))))","v":""},{"$f":"COUNTIF(Z50:AE50,\">0\")","v":0}]
[null,34,34,1,{"$f":"Insert!A36","v":0},{"$f":"Insert!B36","v":0},{"$f":"Insert!C36","v":0},{"$f":"Insert!D36","v":0},{"$f":"Insert!E36","v":0},{"$f":"'PAT Civil Detailed'!$N49+'PAT Mech Detailed'!$N49","v":0},{"$f":"'PAT Civil Detailed'!$T49+'PAT Mech Detailed'!$T49","v":0},{"$f":"'PAT Civil Detailed'!$AD49+'PAT Mech Detailed'!$AC49","v":0},{"$f":"'PAT Civil Detailed'!$AN49+'PAT Mech Detailed'!$AL49","v":0},{"$f":"'PAT Civil Detailed'!$AT49+'PAT Mech Detailed'!$AR49","v":0},0,{"$f":"'PAT Civil Detailed'!$AX49+'PAT Mech Detailed'!$AV49","v":0},{"$f":"'PAT Civil Detailed'!$BI49+'PAT Mech Detailed'!$BF49","v":0},{"$f":"'PAT Civil Detailed'!$BP49+'PAT Mech Detailed'!$BO49","v":0},{"$f":"'PAT Civil Detailed'!$CA49+'PAT Mech Detailed'!$BV49","v":0},{"$f":"'PAT Civil Detailed'!$CH49+'PAT Mech Detailed'!$CC49","v":0},{"$f":"'PAT Civil Detailed'!$CL49+'PAT Mech Detailed'!$CG49","v":0},0,{"$f":"'PAT Civil Detailed'!$CO49+'PAT Mech Detailed'!$CI49","v":0},{"$f":"'PAT Civil Detailed'!$CV49+'PAT Mech Detailed'!$CP49","v":0},0,{"$f":"'PAT Civil Detailed'!$CW49+'PAT Mech Detailed'!$CR49","v":0},{"$f":"'PAT Civil Detailed'!$CX49+'PAT Mech Detailed'!$CS49","v":0},{"$f":"'PAT Civil Detailed'!$CY49+'PAT Mech Detailed'!$CT49","v":0},{"$f":"'PAT Civil Detailed'!$CZ49+'PAT Mech Detailed'!$CU49","v":0},{"$f":"'PAT Civil Detailed'!$DA49+'PAT Mech Detailed'!$CV49","v":0},{"$f":"'PAT Civil Detailed'!$DB49+'PAT Mech Detailed'!$CW49","v":0},0,0,0,"",0]
[null,35,35,1,{"$f":"Insert!A37","v":0},{"$f":"Insert!B37","v":0},{"$f":"Insert!C37","v":0},{"$f":"Insert!D37","v":0},{"$f":"Insert!E37","v":0},{"$f":"'PAT Civil Detailed'!$N50+'PAT Mech Detailed'!$N50","v":0},{"$f":"'PAT Civil Detailed'!$T50+'PAT Mech Detailed'!$T50","v":0},{"$f":"'PAT Civil Detailed'!$AD50+'PAT Mech Detailed'!$AC50","v":0},{"$f":"'PAT Civil Detailed'!$AN50+'PAT Mech Detailed'!$AL50","v":0},{"$f":"'PAT Civil Detailed'!$AT50+'PAT Mech Detailed'!$AR50","v":0},0,{"$f":"'PAT Civil Detailed'!$AX50+'PAT Mech Detailed'!$AV50","v":0},{"$f":"'PAT Civil Detailed'!$BI50+'PAT Mech Detailed'!$BF50","v":0},{"$f":"'PAT Civil Detailed'!$BP50+'PAT Mech Detailed'!$BO50","v":0},{"$f":"'PAT Civil Detailed'!$CA50+'PAT Mech Detailed'!$BV50","v":0},{"$f":"'PAT Civil Detailed'!$CH50+'PAT Mech Detailed'!$CC50","v":0},{"$f":"'PAT Civil Detailed'!$CL50+'PAT Mech Detailed'!$CG50","v":0},0,{"$f":"'PAT Civil Detailed'!$CO50+'PAT Mech Detailed'!$CI50","v":0},{"$f":"'PAT Civil Detailed'!$CV50+'PAT Mech Detailed'!$CP50","v":0},0,{"$f":"'PAT Civil Detailed'!$CW50+'PAT Mech Detailed'!$CR50","v":0},{"$f":"'PAT Civil Detailed'!$CX50+'PAT Mech Detailed'!$CS50","v":0},{"$f":"'PAT Civil Detailed'!$CY50+'PAT Mech Detailed'!$CT50","v":0},{"$f":"'PAT Civil Detailed'!$CZ50+'PAT Mech Detailed'!$CU50","v":0},{"$f":"'PAT Civil Detailed'!$DA50+'PAT Mech Detailed'!$CV50","v":0},{"$f":"'PAT Civil Detailed'!$DB50+'PAT Mech Detailed'!$CW50","v":0},0,0,0,"",0]
[null,36,36,1,{"$f":"Insert!A38","v":0},{"$f":"Insert!B38","v":0},{"$f":"Insert!C38","v":0},{"$f":"Insert!D38","v":0},{"$f":"Insert!E38","v":0},{"$f":"'PAT Civil Detailed'!$N51+'PAT Mech Detailed'!$N51","v":0},{"$f":"'PAT Civil Detailed'!$T51+'PAT Mech Detailed'!$T51","v":0},{"$f":"'PAT Civil Detailed'!$AD51+'PAT Mech Detailed'!$AC51","v":0},{"$f":"'PAT Civil Detailed'!$AN51+'PAT Mech Detailed'!$AL51","v":0},{"$f":"'PAT Civil Detailed'!$AT51+'PAT Mech Detailed'!$AR51","v":0},0,{"$f":"'PAT Civil Detailed'!$AX51+'PAT Mech Detailed'!$AV51","v":0},{"$f":"'PAT Civil Detailed'!$BI51+'PAT Mech Detailed'!$BF51","v":0},{"$f":"'PAT Civil Detailed'!$BP51+'PAT Mech Detailed'!$BO51","v":0},{"$f":"'PAT Civil Detailed'!$CA51+'PAT Mech Detailed'!$BV51","v":0},{"$f":"'PAT Civil Detailed'!$CH51+'PAT Mech Detailed'!$CC51","v":0},{"$f":"'PAT Civil Detailed'!$CL51+'PAT Mech Detailed'!$CG51","v":0},0,{"$f":"'PAT Civil Detailed'!$CO51+'PAT Mech Detailed'!$CI51","v":0},{"$f":"'PAT Civil Detailed'!$CV51+'PAT Mech Detailed'!$CP51","v":0},0,{"$f":"'PAT Civil Detailed'!$CW51+'PAT Mech Detailed'!$CR51","v":0},{"$f":"'PAT Civil Detailed'!$CX51+'PAT Mech Detailed'!$CS51","v":0},{"$f":"'PAT Civil Detailed'!$CY51+'PAT Mech Detailed'!$CT51","v":0},{"$f":"'PAT Civil Detailed'!$CZ51+'PAT Mech Detailed'!$CU51","v":0},{"$f":"'PAT Civil Detailed'!$DA51+'PAT Mech Detailed'!$CV51","v":0},{"$f":"'PAT Civil Detailed'!$DB51+'PAT Mech Detailed'!$CW51","v":0},0,0,0,"",0]
[null,37,37,1,{"$f":"Insert!A39","v":0},{"$f":"Insert!B39","v":0},{"$f":"Insert!C39","v":0},{"$f":"Insert!D39","v":0},{"$f":"Insert!E39","v":0},{"$f":"'PAT Civil Detailed'!$N52+'PAT Mech Detailed'!$N52","v":0},{"$f":"'PAT Civil Detailed'!$T52+'PAT Mech Detailed'!$T52","v":0},{"$f":"'PAT Civil Detailed'!$AD52+'PAT Mech Detailed'!$AC52","v":0},{"$f":"'PAT Civil Detailed'!$AN52+'PAT Mech Detailed'!$AL52","v":0},{"$f":"'PAT Civil Detailed'!$AT52+'PAT Mech Detailed'!$AR52","v":0},0,{"$f":"'PAT Civil Detailed'!$AX52+'PAT Mech Detailed'!$AV52","v":0},{"$f":"'PAT Civil Detailed'!$BI52+'PAT Mech Detailed'!$BF52","v":0},{"$f":"'PAT Civil Detailed'!$BP52+'PAT Mech Detailed'!$BO52","v":0},{"$f":"'PAT Civil Detailed'!$CA52+'PAT Mech Detailed'!$BV52","v":0},{"$f":"'PAT Civil Detailed'!$CH52+'PAT Mech Detailed'!$CC52","v":0},{"$f":"'PAT Civil Detailed'!$CL52+'PAT Mech Detailed'!$CG52","v":0},0,{"$f":"'PAT Civil Detailed'!$CO52+'PAT Mech Detailed'!$CI52","v":0},{"$f":"'PAT Civil Detailed'!$CV52+'PAT Mech Detailed'!$CP52","v":0},0,{"$f":"'PAT Civil Detailed'!$CW52+'PAT Mech Detailed'!$CR52","v":0},{"$f":"'PAT Civil Detailed'!$CX52+'PAT Mech Detailed'!$CS52","v":0},{"$f":"'PAT Civil Detailed'!$CY52+'PAT Mech Detailed'!$CT52","v":0},{"$f":"'PAT Civil Detailed'!$CZ52+'PAT Mech Detailed'!$CU52","v":0},{"$f":"'PAT Civil Detailed'!$DA52+'PAT Mech Detailed'!$CV52","v":0},{"$f":"'PAT Civil Detailed'!$DB52+'PAT Mech Detailed'!$CW52","v":0},0,0,0,"",0]
[null,38,38,1,{"$f":"Insert!A40","v":0},{"$f":"Insert!B40","v":0},{"$f":"Insert!C40","v":0},{"$f":"Insert!D40","v":0},{"$f":"Insert!E40","v":0},{"$f":"'PAT Civil Detailed'!$N53+'PAT Mech Detailed'!$N53","v":0},{"$f":"'PAT Civil Detailed'!$T53+'PAT Mech Detailed'!$T53","v":0},{"$f":"'PAT Civil Detailed'!$AD53+'PAT Mech Detailed'!$AC53","v":0},{"$f":"'PAT Civil Detailed'!$AN53+'PAT Mech Detailed'!$AL53","v":0},{"$f":"'PAT Civil Detailed'!$AT53+'PAT Mech Detailed'!$AR53","v":0},0,{"$f":"'PAT Civil Detailed'!$AX53+'PAT Mech Detailed'!$AV53","v":0},{"$f":"'PAT Civil Detailed'!$BI53+'PAT Mech Detailed'!$BF53","v":0},{"$f":"'PAT Civil Detailed'!$BP53+'PAT Mech Detailed'!$BO53","v":0},{"$f":"'PAT Civil Detailed'!$CA53+'PAT Mech Detailed'!$BV53","v":0},{"$f":"'PAT Civil Detailed'!$CH53+'PAT Mech Detailed'!$CC53","v":0},{"$f":"'PAT Civil Detailed'!$CL53+'PAT Mech Detailed'!$CG53","v":0},0,{"$f":"'PAT Civil Detailed'!$CO53+'PAT Mech Detailed'!$CI53","v":0},{"$f":"'PAT Civil Detailed'!$CV53+'PAT Mech Detailed'!$CP53","v":0},0,{"$f":"'PAT Civil Detailed'!$CW53+'PAT Mech Detailed'!$CR53","v":0},{"$f":"'PAT Civil Detailed'!$CX53+'PAT Mech Detailed'!$CS53","v":0},{"$f":"'PAT Civil Detailed'!$CY53+'PAT Mech Detailed'!$CT53","v":0},{"$f":"'PAT Civil Detailed'!$CZ53+'PAT Mech Detailed'!$CU53","v":0},{"$f":"'PAT Civil Detailed'!$DA53+'PAT Mech Detailed'!$CV53","v":0},{"$f":"'PAT Civil Detailed'!$DB53+'PAT Mech Detailed'!$CW53","v":0},0,0,0,"",0]
[null,39,39,1,{"$f":"Insert!A41","v":0},{"$f":"Insert!B41","v":0},{"$f":"Insert!C41","v":0},{"$f":"Insert!D41","v":0},{"$f":"Insert!E41","v":0},{"$f":"'PAT Civil Detailed'!$N54+'PAT Mech Detailed'!$N54","v":0},{"$f":"'PAT Civil Detailed'!$T54+'PAT Mech Detailed'!$T54","v":0},{"$f":"'PAT Civil Detailed'!$AD54+'PAT Mech Detailed'!$AC54","v":0},{"$f":"'PAT Civil Detailed'!$AN54+'PAT Mech Detailed'!$AL54","v":0},{"$f":"'PAT Civil Detailed'!$AT54+'PAT Mech Detailed'!$AR54","v":0},0,{"$f":"'PAT Civil Detailed'!$AX54+'PAT Mech Detailed'!$AV54","v":0},{"$f":"'PAT Civil Detailed'!$BI54+'PAT Mech Detailed'!$BF54","v":0},{"$f":"'PAT Civil Detailed'!$BP54+'PAT Mech Detailed'!$BO54","v":0},{"$f":"'PAT Civil Detailed'!$CA54+'PAT Mech Detailed'!$BV54","v":0},{"$f":"'PAT Civil Detailed'!$CH54+'PAT Mech Detailed'!$CC54","v":0},{"$f":"'PAT Civil Detailed'!$CL54+'PAT Mech Detailed'!$CG54","v":0},0,{"$f":"'PAT Civil Detailed'!$CO54+'PAT Mech Detailed'!$CI54","v":0},{"$f":"'PAT Civil Detailed'!$CV54+'PAT Mech Detailed'!$CP54","v":0},0,{"$f":"'PAT Civil Detailed'!$CW54+'PAT Mech Detailed'!$CR54","v":0},{"$f":"'PAT Civil Detailed'!$CX54+'PAT Mech Detailed'!$CS54","v":0},{"$f":"'PAT Civil Detailed'!$CY54+'PAT Mech Detailed'!$CT54","v":0},{"$f":"'PAT Civil Detailed'!$CZ54+'PAT Mech Detailed'!$CU54","v":0},{"$f":"'PAT Civil Detailed'!$DA54+'PAT Mech Detailed'!$CV54","v":0},{"$f":"'PAT Civil Detailed'!$DB54+'PAT Mech Detailed'!$CW54","v":0},0,0,0,"",0]
[null,40,40,1,{"$f":"Insert!A42","v":0},{"$f":"Insert!B42","v":0},{"$f":"Insert!C42","v":0},{"$f":"Insert!D42","v":0},{"$f":"Insert!E42","v":0},{"$f":"'PAT Civil Detailed'!$N55+'PAT Mech Detailed'!$N55","v":0},{"$f":"'PAT Civil Detailed'!$T55+'PAT Mech Detailed'!$T55","v":0},{"$f":"'PAT Civil Detailed'!$AD55+'PAT Mech Detailed'!$AC55","v":0},{"$f":"'PAT Civil Detailed'!$AN55+'PAT Mech Detailed'!$AL55","v":0},{"$f":"'PAT Civil Detailed'!$AT55+'PAT Mech Detailed'!$AR55","v":0},0,{"$f":"'PAT Civil Detailed'!$AX55+'PAT Mech Detailed'!$AV55","v":0},{"$f":"'PAT Civil Detailed'!$BI55+'PAT Mech Detailed'!$BF55","v":0},{"$f":"'PAT Civil Detailed'!$BP55+'PAT Mech Detailed'!$BO55","v":0},{"$f":"'PAT Civil Detailed'!$CA55+'PAT Mech Detailed'!$BV55","v":0},{"$f":"'PAT Civil Detailed'!$CH55+'PAT Mech Detailed'!$CC55","v":0},{"$f":"'PAT Civil Detailed'!$CL55+'PAT Mech Detailed'!$CG55","v":0},0,{"$f":"'PAT Civil Detailed'!$CO55+'PAT Mech Detailed'!$CI55","v":0},{"$f":"'PAT Civil Detailed'!$CV55+'PAT Mech Detailed'!$CP55","v":0},0,{"$f":"'PAT Civil Detailed'!$CW55+'PAT Mech Detailed'!$CR55","v":0},{"$f":"'PAT Civil Detailed'!$CX55+'PAT Mech Detailed'!$CS55","v":0},{"$f":"'PAT Civil Detailed'!$CY55+'PAT Mech Detailed'!$CT55","v":0},{"$f":"'PAT Civil Detailed'!$CZ55+'PAT Mech Detailed'!$CU55","v":0},{"$f":"'PAT Civil Detailed'!$DA55+'PAT Mech Detailed'!$CV55","v":0},{"$f":"'PAT Civil Detailed'!$DB55+'PAT Mech Detailed'!$CW55","v":0},0,0,0,"",0]
[null,41,41,1,{"$f":"Insert!A43","v":0},{"$f":"Insert!B43","v":0},{"$f":"Insert!C43","v":0},{"$f":"Insert!D43","v":0},{"$f":"Insert!E43","v":0},{"$f":"'PAT Civil Detailed'!$N56+'PAT Mech Detailed'!$N56","v":0},{"$f":"'PAT Civil Detailed'!$T56+'PAT Mech Detailed'!$T56","v":0},{"$f":"'PAT Civil Detailed'!$AD56+'PAT Mech Detailed'!$AC56","v":0},{"$f":"'PAT Civil Detailed'!$AN56+'PAT Mech Detailed'!$AL56","v":0},{"$f":"'PAT Civil Detailed'!$AT56+'PAT Mech Detailed'!$AR56","v":0},0,{"$f":"'PAT Civil Detailed'!$AX56+'PAT Mech Detailed'!$AV56","v":0},{"$f":"'PAT Civil Detailed'!$BI56+'PAT Mech Detailed'!$BF56","v":0},{"$f":"'PAT Civil Detailed'!$BP56+'PAT Mech Detailed'!$BO56","v":0},{"$f":"'PAT Civil Detailed'!$CA56+'PAT Mech Detailed'!$BV56","v":0},{"$f":"'PAT Civil Detailed'!$CH56+'PAT Mech Detailed'!$CC56","v":0},{"$f":"'PAT Civil Detailed'!$CL56+'PAT Mech Detailed'!$CG56","v":0},0,{"$f":"'PAT Civil Detailed'!$CO56+'PAT Mech Detailed'!$CI56","v":0},{"$f":"'PAT Civil Detailed'!$CV56+'PAT Mech Detailed'!$CP56","v":0},0,{"$f":"'PAT Civil Detailed'!$CW56+'PAT Mech Detailed'!$CR56","v":0},{"$f":"'PAT Civil Detailed'!$CX56+'PAT Mech Detailed'!$CS56","v":0},{"$f":"'PAT Civil Detailed'!$CY56+'PAT Mech Detailed'!$CT56","v":0},{"$f":"'PAT Civil Detailed'!$CZ56+'PAT Mech Detailed'!$CU56","v":0},{"$f":"'PAT Civil Detailed'!$DA56+'PAT Mech Detailed'!$CV56","v":0},{"$f":"'PAT Civil Detailed'!$DB56+'PAT Mech Detailed'!$CW56","v":0},0,0,0,"",0]
[null,42,42,1,{"$f":"Insert!A44","v":0},{"$f":"Insert!B44","v":0},{"$f":"Insert!C44","v":0},{"$f":"Insert!D44","v":0},{"$f":"Insert!E44","v":0},{"$f":"'PAT Civil Detailed'!$N57+'PAT Mech Detailed'!$N57","v":0},{"$f":"'PAT Civil Detailed'!$T57+'PAT Mech Detailed'!$T57","v":0},{"$f":"'PAT Civil Detailed'!$AD57+'PAT Mech Detailed'!$AC57","v":0},{"$f":"'PAT Civil Detailed'!$AN57+'PAT Mech Detailed'!$AL57","v":0},{"$f":"'PAT Civil Detailed'!$AT57+'PAT Mech Detailed'!$AR57","v":0},0,{"$f":"'PAT Civil Detailed'!$AX57+'PAT Mech Detailed'!$AV57","v":0},{"$f":"'PAT Civil Detailed'!$BI57+'PAT Mech Detailed'!$BF57","v":0},{"$f":"'PAT Civil Detailed'!$BP57+'PAT Mech Detailed'!$BO57","v":0},{"$f":"'PAT Civil Detailed'!$CA57+'PAT Mech Detailed'!$BV57","v":0},{"$f":"'PAT Civil Detailed'!$CH57+'PAT Mech Detailed'!$CC57","v":0},{"$f":"'PAT Civil Detailed'!$CL57+'PAT Mech Detailed'!$CG57","v":0},0,{"$f":"'PAT Civil Detailed'!$CO57+'PAT Mech Detailed'!$CI57","v":0},{"$f":"'PAT Civil Detailed'!$CV57+'PAT Mech Detailed'!$CP57","v":0},0,{"$f":"'PAT Civil Detailed'!$CW57+'PAT Mech Detailed'!$CR57","v":0},{"$f":"'PAT Civil Detailed'!$CX57+'PAT Mech Detailed'!$CS57","v":0},{"$f":"'PAT Civil Detailed'!$CY57+'PAT Mech Detailed'!$CT57","v":0},{"$f":"'PAT Civil Detailed'!$CZ57+'PAT Mech Detailed'!$CU57","v":0},{"$f":"'PAT Civil Detailed'!$DA57+'PAT Mech Detailed'!$CV57","v":0},{"$f":"'PAT Civil Detailed'!$DB57+'PAT Mech Detailed'!$CW57","v":0},0,0,0,"",0]
[null,43,43,1,{"$f":"Insert!A45","v":0},{"$f":"Insert!B45","v":0},{"$f":"Insert!C45","v":0},{"$f":"Insert!D45","v":0},{"$f":"Insert!E45","v":0},{"$f":"'PAT Civil Detailed'!$N58+'PAT Mech Detailed'!$N58","v":0},{"$f":"'PAT Civil Detailed'!$T58+'PAT Mech Detailed'!$T58","v":0},{"$f":"'PAT Civil Detailed'!$AD58+'PAT Mech Detailed'!$AC58","v":0},{"$f":"'PAT Civil Detailed'!$AN58+'PAT Mech Detailed'!$AL58","v":0},{"$f":"'PAT Civil Detailed'!$AT58+'PAT Mech Detailed'!$AR58","v":0},0,{"$f":"'PAT Civil Detailed'!$AX58+'PAT Mech Detailed'!$AV58","v":0},{"$f":"'PAT Civil Detailed'!$BI58+'PAT Mech Detailed'!$BF58","v":0},{"$f":"'PAT Civil Detailed'!$BP58+'PAT Mech Detailed'!$BO58","v":0},{"$f":"'PAT Civil Detailed'!$CA58+'PAT Mech Detailed'!$BV58","v":0},{"$f":"'PAT Civil Detailed'!$CH58+'PAT Mech Detailed'!$CC58","v":0},{"$f":"'PAT Civil Detailed'!$CL58+'PAT Mech Detailed'!$CG58","v":0},0,{"$f":"'PAT Civil Detailed'!$CO58+'PAT Mech Detailed'!$CI58","v":0},{"$f":"'PAT Civil Detailed'!$CV58+'PAT Mech Detailed'!$CP58","v":0},0,{"$f":"'PAT Civil Detailed'!$CW58+'PAT Mech Detailed'!$CR58","v":0},{"$f":"'PAT Civil Detailed'!$CX58+'PAT Mech Detailed'!$CS58","v":0},{"$f":"'PAT Civil Detailed'!$CY58+'PAT Mech Detailed'!$CT58","v":0},{"$f":"'PAT Civil Detailed'!$CZ58+'PAT Mech Detailed'!$CU58","v":0},{"$f":"'PAT Civil Detailed'!$DA58+'PAT Mech Detailed'!$CV58","v":0},{"$f":"'PAT Civil Detailed'!$DB58+'PAT Mech Detailed'!$CW58","v":0},0,0,0,"",0]
[null,44,44,1,{"$f":"Insert!A46","v":0},{"$f":"Insert!B46","v":0},{"$f":"Insert!C46","v":0},{"$f":"Insert!D46","v":0},{"$f":"Insert!E46","v":0},{"$f":"'PAT Civil Detailed'!$N59+'PAT Mech Detailed'!$N59","v":0},{"$f":"'PAT Civil Detailed'!$T59+'PAT Mech Detailed'!$T59","v":0},{"$f":"'PAT Civil Detailed'!$AD59+'PAT Mech Detailed'!$AC59","v":0},{"$f":"'PAT Civil Detailed'!$AN59+'PAT Mech Detailed'!$AL59","v":0},{"$f":"'PAT Civil Detailed'!$AT59+'PAT Mech Detailed'!$AR59","v":0},0,{"$f":"'PAT Civil Detailed'!$AX59+'PAT Mech Detailed'!$AV59","v":0},{"$f":"'PAT Civil Detailed'!$BI59+'PAT Mech Detailed'!$BF59","v":0},{"$f":"'PAT Civil Detailed'!$BP59+'PAT Mech Detailed'!$BO59","v":0},{"$f":"'PAT Civil Detailed'!$CA59+'PAT Mech Detailed'!$BV59","v":0},{"$f":"'PAT Civil Detailed'!$CH59+'PAT Mech Detailed'!$CC59","v":0},{"$f":"'PAT Civil Detailed'!$CL59+'PAT Mech Detailed'!$CG59","v":0},0,{"$f":"'PAT Civil Detailed'!$CO59+'PAT Mech Detailed'!$CI59","v":0},{"$f":"'PAT Civil Detailed'!$CV59+'PAT Mech Detailed'!$CP59","v":0},0,{"$f":"'PAT Civil Detailed'!$CW59+'PAT Mech Detailed'!$CR59","v":0},{"$f":"'PAT Civil Detailed'!$CX59+'PAT Mech Detailed'!$CS59","v":0},{"$f":"'PAT Civil Detailed'!$CY59+'PAT Mech Detailed'!$CT59","v":0},{"$f":"'PAT Civil Detailed'!$CZ59+'PAT Mech Detailed'!$CU59","v":0},{"$f":"'PAT Civil Detailed'!$DA59+'PAT Mech Detailed'!$CV59","v":0},{"$f":"'PAT Civil Detailed'!$DB59+'PAT Mech Detailed'!$CW59","v":0},0,0,0,"",0]
[null,45,45,1,{"$f":"Insert!A47","v":0},{"$f":"Insert!B47","v":0},{"$f":"Insert!C47","v":0},{"$f":"Insert!D47","v":0},{"$f":"Insert!E47","v":0},{"$f":"'PAT Civil Detailed'!$N60+'PAT Mech Detailed'!$N60","v":0},{"$f":"'PAT Civil Detailed'!$T60+'PAT Mech Detailed'!$T60","v":0},{"$f":"'PAT Civil Detailed'!$AD60+'PAT Mech Detailed'!$AC60","v":0},{"$f":"'PAT Civil Detailed'!$AN60+'PAT Mech Detailed'!$AL60","v":0},{"$f":"'PAT Civil Detailed'!$AT60+'PAT Mech Detailed'!$AR60","v":0},0,{"$f":"'PAT Civil Detailed'!$AX60+'PAT Mech Detailed'!$AV60","v":0},{"$f":"'PAT Civil Detailed'!$BI60+'PAT Mech Detailed'!$BF60","v":0},{"$f":"'PAT Civil Detailed'!$BP60+'PAT Mech Detailed'!$BO60","v":0},{"$f":"'PAT Civil Detailed'!$CA60+'PAT Mech Detailed'!$BV60","v":0},{"$f":"'PAT Civil Detailed'!$CH60+'PAT Mech Detailed'!$CC60","v":0},{"$f":"'PAT Civil Detailed'!$CL60+'PAT Mech Detailed'!$CG60","v":0},0,{"$f":"'PAT Civil Detailed'!$CO60+'PAT Mech Detailed'!$CI60","v":0},{"$f":"'PAT Civil Detailed'!$CV60+'PAT Mech Detailed'!$CP60","v":0},0,{"$f":"'PAT Civil Detailed'!$CW60+'PAT Mech Detailed'!$CR60","v":0},{"$f":"'PAT Civil Detailed'!$CX60+'PAT Mech Detailed'!$CS60","v":0},{"$f":"'PAT Civil Detailed'!$CY60+'PAT Mech Detailed'!$CT60","v":0},{"$f":"'PAT Civil Detailed'!$CZ60+'PAT Mech Detailed'!$CU60","v":0},{"$f":"'PAT Civil Detailed'!$DA60+'PAT Mech Detailed'!$CV60","v":0},{"$f":"'PAT Civil Detailed'!$DB60+'PAT Mech Detailed'!$CW60","v":0},0,0,0,"",0]
[null,46,46,1,{"$f":"Insert!A48","v":0},{"$f":"Insert!B48","v":0},{"$f":"Insert!C48","v":0},{"$f":"Insert!D48","v":0},{"$f":"Insert!E48","v":0},{"$f":"'PAT Civil Detailed'!$N61+'PAT Mech Detailed'!$N61","v":0},{"$f":"'PAT Civil Detailed'!$T61+'PAT Mech Detailed'!$T61","v":0},{"$f":"'PAT Civil Detailed'!$AD61+'PAT Mech Detailed'!$AC61","v":0},{"$f":"'PAT Civil Detailed'!$AN61+'PAT Mech Detailed'!$AL61","v":0},{"$f":"'PAT Civil Detailed'!$AT61+'PAT Mech Detailed'!$AR61","v":0},0,{"$f":"'PAT Civil Detailed'!$AX61+'PAT Mech Detailed'!$AV61","v":0},{"$f":"'PAT Civil Detailed'!$BI61+'PAT Mech Detailed'!$BF61","v":0},{"$f":"'PAT Civil Detailed'!$BP61+'PAT Mech Detailed'!$BO61","v":0},{"$f":"'PAT Civil Detailed'!$CA61+'PAT Mech Detailed'!$BV61","v":0},{"$f":"'PAT Civil Detailed'!$CH61+'PAT Mech Detailed'!$CC61","v":0},{"$f":"'PAT Civil Detailed'!$CL61+'PAT Mech Detailed'!$CG61","v":0},0,{"$f":"'PAT Civil Detailed'!$CO61+'PAT Mech Detailed'!$CI61","v":0},{"$f":"'PAT Civil Detailed'!$CV61+'PAT Mech Detailed'!$CP61","v":0},0,{"$f":"'PAT Civil Detailed'!$CW61+'PAT Mech Detailed'!$CR61","v":0},{"$f":"'PAT Civil Detailed'!$CX61+'PAT Mech Detailed'!$CS61","v":0},{"$f":"'PAT Civil Detailed'!$CY61+'PAT Mech Detailed'!$CT61","v":0},{"$f":"'PAT Civil Detailed'!$CZ61+'PAT Mech Detailed'!$CU61","v":0},{"$f":"'PAT Civil Detailed'!$DA61+'PAT Mech Detailed'!$CV61","v":0},{"$f":"'PAT Civil Detailed'!$DB61+'PAT Mech Detailed'!$CW61","v":0},0,0,0,"",0]
[null,47,47,1,{"$f":"Insert!A49","v":0},{"$f":"Insert!B49","v":0},{"$f":"Insert!C49","v":0},{"$f":"Insert!D49","v":0},{"$f":"Insert!E49","v":0},{"$f":"'PAT Civil Detailed'!$N62+'PAT Mech Detailed'!$N62","v":0},{"$f":"'PAT Civil Detailed'!$T62+'PAT Mech Detailed'!$T62","v":0},{"$f":"'PAT Civil Detailed'!$AD62+'PAT Mech Detailed'!$AC62","v":0},{"$f":"'PAT Civil Detailed'!$AN62+'PAT Mech Detailed'!$AL62","v":0},{"$f":"'PAT Civil Detailed'!$AT62+'PAT Mech Detailed'!$AR62","v":0},0,{"$f":"'PAT Civil Detailed'!$AX62+'PAT Mech Detailed'!$AV62","v":0},{"$f":"'PAT Civil Detailed'!$BI62+'PAT Mech Detailed'!$BF62","v":0},{"$f":"'PAT Civil Detailed'!$BP62+'PAT Mech Detailed'!$BO62","v":0},{"$f":"'PAT Civil Detailed'!$CA62+'PAT Mech Detailed'!$BV62","v":0},{"$f":"'PAT Civil Detailed'!$CH62+'PAT Mech Detailed'!$CC62","v":0},{"$f":"'PAT Civil Detailed'!$CL62+'PAT Mech Detailed'!$CG62","v":0},0,{"$f":"'PAT Civil Detailed'!$CO62+'PAT Mech Detailed'!$CI62","v":0},{"$f":"'PAT Civil Detailed'!$CV62+'PAT Mech Detailed'!$CP62","v":0},0,{"$f":"'PAT Civil Detailed'!$CW62+'PAT Mech Detailed'!$CR62","v":0},{"$f":"'PAT Civil Detailed'!$CX62+'PAT Mech Detailed'!$CS62","v":0},{"$f":"'PAT Civil Detailed'!$CY62+'PAT Mech Detailed'!$CT62","v":0},{"$f":"'PAT Civil Detailed'!$CZ62+'PAT Mech Detailed'!$CU62","v":0},{"$f":"'PAT Civil Detailed'!$DA62+'PAT Mech Detailed'!$CV62","v":0},{"$f":"'PAT Civil Detailed'!$DB62+'PAT Mech Detailed'!$CW62","v":0},0,0,0,"",0]
[null,48,48,1,{"$f":"Insert!A50","v":0},{"$f":"Insert!B50","v":0},{"$f":"Insert!C50","v":0},{"$f":"Insert!D50","v":0},{"$f":"Insert!E50","v":0},{"$f":"'PAT Civil Detailed'!$N63+'PAT Mech Detailed'!$N63","v":0},{"$f":"'PAT Civil Detailed'!$T63+'PAT Mech Detailed'!$T63","v":0},{"$f":"'PAT Civil Detailed'!$AD63+'PAT Mech Detailed'!$AC63","v":0},{"$f":"'PAT Civil Detailed'!$AN63+'PAT Mech Detailed'!$AL63","v":0},{"$f":"'PAT Civil Detailed'!$AT63+'PAT Mech Detailed'!$AR63","v":0},0,{"$f":"'PAT Civil Detailed'!$AX63+'PAT Mech Detailed'!$AV63","v":0},{"$f":"'PAT Civil Detailed'!$BI63+'PAT Mech Detailed'!$BF63","v":0},{"$f":"'PAT Civil Detailed'!$BP63+'PAT Mech Detailed'!$BO63","v":0},{"$f":"'PAT Civil Detailed'!$CA63+'PAT Mech Detailed'!$BV63","v":0},{"$f":"'PAT Civil Detailed'!$CH63+'PAT Mech Detailed'!$CC63","v":0},{"$f":"'PAT Civil Detailed'!$CL63+'PAT Mech Detailed'!$CG63","v":0},0,{"$f":"'PAT Civil Detailed'!$CO63+'PAT Mech Detailed'!$CI63","v":0},{"$f":"'PAT Civil Detailed'!$CV63+'PAT Mech Detailed'!$CP63","v":0},0,{"$f":"'PAT Civil Detailed'!$CW63+'PAT Mech Detailed'!$CR63","v":0},{"$f":"'PAT Civil Detailed'!$CX63+'PAT Mech Detailed'!$CS63","v":0},{"$f":"'PAT Civil Detailed'!$CY63+'PAT Mech Detailed'!$CT63","v":0},{"$f":"'PAT Civil Detailed'!$CZ63+'PAT Mech Detailed'!$CU63","v":0},{"$f":"'PAT Civil Detailed'!$DA63+'PAT Mech Detailed'!$CV63","v":0},{"$f":"'PAT Civil Detailed'!$DB63+'PAT Mech Detailed'!$CW63","v":0},0,0,0,"",0]
[null,49,49,1,{"$f":"Insert!A51","v":0},{"$f":"Insert!B51","v":0},{"$f":"Insert!C51","v":0},{"$f":"Insert!D51","v":0},{"$f":"Insert!E51","v":0},{"$f":"'PAT Civil Detailed'!$N64+'PAT Mech Detailed'!$N64","v":0},{"$f":"'PAT Civil Detailed'!$T64+'PAT Mech Detailed'!$T64","v":0},{"$f":"'PAT Civil Detailed'!$AD64+'PAT Mech Detailed'!$AC64","v":0},{"$f":"'PAT Civil Detailed'!$AN64+'PAT Mech Detailed'!$AL64","v":0},{"$f":"'PAT Civil Detailed'!$AT64+'PAT Mech Detailed'!$AR64","v":0},0,{"$f":"'PAT Civil Detailed'!$AX64+'PAT Mech Detailed'!$AV64","v":0},{"$f":"'PAT Civil Detailed'!$BI64+'PAT Mech Detailed'!$BF64","v":0},{"$f":"'PAT Civil Detailed'!$BP64+'PAT Mech Detailed'!$BO64","v":0},{"$f":"'PAT Civil Detailed'!$CA64+'PAT Mech Detailed'!$BV64","v":0},{"$f":"'PAT Civil Detailed'!$CH64+'PAT Mech Detailed'!$CC64","v":0},{"$f":"'PAT Civil Detailed'!$CL64+'PAT Mech Detailed'!$CG64","v":0},0,{"$f":"'PAT Civil Detailed'!$CO64+'PAT Mech Detailed'!$CI64","v":0},{"$f":"'PAT Civil Detailed'!$CV64+'PAT Mech Detailed'!$CP64","v":0},0,{"$f":"'PAT Civil Detailed'!$CW64+'PAT Mech Detailed'!$CR64","v":0},{"$f":"'PAT Civil Detailed'!$CX64+'PAT Mech Detailed'!$CS64","v":0},{"$f":"'PAT Civil Detailed'!$CY64+'PAT Mech Detailed'!$CT64","v":0},{"$f":"'PAT Civil Detailed'!$CZ64+'PAT Mech Detailed'!$CU64","v":0},{"$f":"'PAT Civil Detailed'!$DA64+'PAT Mech Detailed'!$CV64","v":0},{"$f":"'PAT Civil Detailed'!$DB64+'PAT Mech Detailed'!$CW64","v":0},0,0,0,"",0]
[null,50,50,1,{"$f":"Insert!A52","v":0},{"$f":"Insert!B52","v":0},{"$f":"Insert!C52","v":0},{"$f":"Insert!D52","v":0},{"$f":"Insert!E52","v":0},{"$f":"'PAT Civil Detailed'!$N65+'PAT Mech Detailed'!$N65","v":0},{"$f":"'PAT Civil Detailed'!$T65+'PAT Mech Detailed'!$T65","v":0},{"$f":"'PAT Civil Detailed'!$AD65+'PAT Mech Detailed'!$AC65","v":0},{"$f":"'PAT Civil Detailed'!$AN65+'PAT Mech Detailed'!$AL65","v":0},{"$f":"'PAT Civil Detailed'!$AT65+'PAT Mech Detailed'!$AR65","v":0},0,{"$f":"'PAT Civil Detailed'!$AX65+'PAT Mech Detailed'!$AV65","v":0},{"$f":"'PAT Civil Detailed'!$BI65+'PAT Mech Detailed'!$BF65","v":0},{"$f":"'PAT Civil Detailed'!$BP65+'PAT Mech Detailed'!$BO65","v":0},{"$f":"'PAT Civil Detailed'!$CA65+'PAT Mech Detailed'!$BV65","v":0},{"$f":"'PAT Civil Detailed'!$CH65+'PAT Mech Detailed'!$CC65","v":0},{"$f":"'PAT Civil Detailed'!$CL65+'PAT Mech Detailed'!$CG65","v":0},0,{"$f":"'PAT Civil Detailed'!$CO65+'PAT Mech Detailed'!$CI65","v":0},{"$f":"'PAT Civil Detailed'!$CV65+'PAT Mech Detailed'!$CP65","v":0},0,{"$f":"'PAT Civil Detailed'!$CW65+'PAT Mech Detailed'!$CR65","v":0},{"$f":"'PAT Civil Detailed'!$CX65+'PAT Mech Detailed'!$CS65","v":0},{"$f":"'PAT Civil Detailed'!$CY65+'PAT Mech Detailed'!$CT65","v":0},{"$f":"'PAT Civil Detailed'!$CZ65+'PAT Mech Detailed'!$CU65","v":0},{"$f":"'PAT Civil Detailed'!$DA65+'PAT Mech Detailed'!$CV65","v":0},{"$f":"'PAT Civil Detailed'!$DB65+'PAT Mech Detailed'!$CW65","v":0},0,0,0,"",0]
[null,51,51,1,{"$f":"Insert!A53","v":0},{"$f":"Insert!B53","v":0},{"$f":"Insert!C53","v":0},{"$f":"Insert!D53","v":0},{"$f":"Insert!E53","v":0},{"$f":"'PAT Civil Detailed'!$N66+'PAT Mech Detailed'!$N66","v":0},{"$f":"'PAT Civil Detailed'!$T66+'PAT Mech Detailed'!$T66","v":0},{"$f":"'PAT Civil Detailed'!$AD66+'PAT Mech Detailed'!$AC66","v":0},{"$f":"'PAT Civil Detailed'!$AN66+'PAT Mech Detailed'!$AL66","v":0},{"$f":"'PAT Civil Detailed'!$AT66+'PAT Mech Detailed'!$AR66","v":0},0,{"$f":"'PAT Civil Detailed'!$AX66+'PAT Mech Detailed'!$AV66","v":0},{"$f":"'PAT Civil Detailed'!$BI66+'PAT Mech Detailed'!$BF66","v":0},{"$f":"'PAT Civil Detailed'!$BP66+'PAT Mech Detailed'!$BO66","v":0},{"$f":"'PAT Civil Detailed'!$CA66+'PAT Mech Detailed'!$BV66","v":0},{"$f":"'PAT Civil Detailed'!$CH66+'PAT Mech Detailed'!$CC66","v":0},{"$f":"'PAT Civil Detailed'!$CL66+'PAT Mech Detailed'!$CG66","v":0},0,{"$f":"'PAT Civil Detailed'!$CO66+'PAT Mech Detailed'!$CI66","v":0},{"$f":"'PAT Civil Detailed'!$CV66+'PAT Mech Detailed'!$CP66","v":0},0,{"$f":"'PAT Civil Detailed'!$CW66+'PAT Mech Detailed'!$CR66","v":0},{"$f":"'PAT Civil Detailed'!$CX66+'PAT Mech Detailed'!$CS66","v":0},{"$f":"'PAT Civil Detailed'!$CY66+'PAT Mech Detailed'!$CT66","v":0},{"$f":"'PAT Civil Detailed'!$CZ66+'PAT Mech Detailed'!$CU66","v":0},{"$f":"'PAT Civil Detailed'!$DA66+'PAT Mech Detailed'!$CV66","v":0},{"$f":"'PAT Civil Detailed'!$DB66+'PAT Mech Detailed'!$CW66","v":0},0,0,0,"",0]
[null,52,52,1,{"$f":"Insert!A54","v":0},{"$f":"Insert!B54","v":0},{"$f":"Insert!C54","v":0},{"$f":"Insert!D54","v":0},{"$f":"Insert!E54","v":0},{"$f":"'PAT Civil Detailed'!$N67+'PAT Mech Detailed'!$N67","v":0},{"$f":"'PAT Civil Detailed'!$T67+'PAT Mech Detailed'!$T67","v":0},{"$f":"'PAT Civil Detailed'!$AD67+'PAT Mech Detailed'!$AC67","v":0},{"$f":"'PAT Civil Detailed'!$AN67+'PAT Mech Detailed'!$AL67","v":0},{"$f":"'PAT Civil Detailed'!$AT67+'PAT Mech Detailed'!$AR67","v":0},0,{"$f":"'PAT Civil Detailed'!$AX67+'PAT Mech Detailed'!$AV67","v":0},{"$f":"'PAT Civil Detailed'!$BI67+'PAT Mech Detailed'!$BF67","v":0},{"$f":"'PAT Civil Detailed'!$BP67+'PAT Mech Detailed'!$BO67","v":0},{"$f":"'PAT Civil Detailed'!$CA67+'PAT Mech Detailed'!$BV67","v":0},{"$f":"'PAT Civil Detailed'!$CH67+'PAT Mech Detailed'!$CC67","v":0},{"$f":"'PAT Civil Detailed'!$CL67+'PAT Mech Detailed'!$CG67","v":0},0,{"$f":"'PAT Civil Detailed'!$CO67+'PAT Mech Detailed'!$CI67","v":0},{"$f":"'PAT Civil Detailed'!$CV67+'PAT Mech Detailed'!$CP67","v":0},0,{"$f":"'PAT Civil Detailed'!$CW67+'PAT Mech Detailed'!$CR67","v":0},{"$f":"'PAT Civil Detailed'!$CX67+'PAT Mech Detailed'!$CS67","v":0},{"$f":"'PAT Civil Detailed'!$CY67+'PAT Mech Detailed'!$CT67","v":0},{"$f":"'PAT Civil Detailed'!$CZ67+'PAT Mech Detailed'!$CU67","v":0},{"$f":"'PAT Civil Detailed'!$DA67+'PAT Mech Detailed'!$CV67","v":0},{"$f":"'PAT Civil Detailed'!$DB67+'PAT Mech Detailed'!$CW67","v":0},0,0,0,"",0]
[null,"TOTAL",53,1,{"$f":"Insert!A55","v":0},{"$f":"Insert!B55","v":0},{"$f":"Insert!C55","v":0},{"$f":"Insert!D55","v":0},{"$f":"Insert!E55","v":0},{"$f":"'PAT Civil Detailed'!$N68+'PAT Mech Detailed'!$N68","v":0},{"$f":"'PAT Civil Detailed'!$T68+'PAT Mech Detailed'!$T68","v":0},{"$f":"'PAT Civil Detailed'!$AD68+'PAT Mech Detailed'!$AC68","v":0},{"$f":"'PAT Civil Detailed'!$AN68+'PAT Mech Detailed'!$AL68","v":0},{"$f":"'PAT Civil Detailed'!$AT68+'PAT Mech Detailed'!$AR68","v":0},0,{"$f":"'PAT Civil Detailed'!$AX68+'PAT Mech Detailed'!$AV68","v":0},{"$f":"'PAT Civil Detailed'!$BI68+'PAT Mech Detailed'!$BF68","v":0},{"$f":"'PAT Civil Detailed'!$BP68+'PAT Mech Detailed'!$BO68","v":0},{"$f":"'PAT Civil Detailed'!$CA68+'PAT Mech Detailed'!$BV68","v":0},{"$f":"'PAT Civil Detailed'!$CH68+'PAT Mech Detailed'!$CC68","v":0},{"$f":"'PAT Civil Detailed'!$CL68+'PAT Mech Detailed'!$CG68","v":0},0,{"$f":"'PAT Civil Detailed'!$CO68+'PAT Mech Detailed'!$CI68","v":0},{"$f":"'PAT Civil Detailed'!$CV68+'PAT Mech Detailed'!$CP68","v":0},0,{"$f":"'PAT Civil Detailed'!$CW68+'PAT Mech Detailed'!$CR68","v":0},{"$f":"'PAT Civil Detailed'!$CX68+'PAT Mech Detailed'!$CS68","v":0},{"$f":"'PAT Civil Detailed'!$CY68+'PAT Mech Detailed'!$CT68","v":0},{"$f":"'PAT Civil Detailed'!$CZ68+'PAT Mech Detailed'!$CU68","v":0},{"$f":"'PAT Civil Detailed'!$DA68+'PAT Mech Detailed'!$CV68","v":0},{"$f":"'PAT Civil Detailed'!$DB68+'PAT Mech Detailed'!$CW68","v":0},0,0,0,"",0]
[null,54,54,1,{"$f":"Insert!A56","v":0},{"$f":"Insert!B56","v":0},{"$f":"Insert!C56","v":0},{"$f":"Insert!D56","v":0},{"$f":"Insert!E56","v":0},{"$f":"'PAT Civil Detailed'!$N69+'PAT Mech Detailed'!$N69","v":0},{"$f":"'PAT Civil Detailed'!$T69+'PAT Mech Detailed'!$T69","v":0},{"$f":"'PAT Civil Detailed'!$AD69+'PAT Mech Detailed'!$AC69","v":0},{"$f":"'PAT Civil Detailed'!$AN69+'PAT Mech Detailed'!$AL69","v":0},{"$f":"'PAT Civil Detailed'!$AT69+'PAT Mech Detailed'!$AR69","v":0},0,{"$f":"'PAT Civil Detailed'!$AX69+'PAT Mech Detailed'!$AV69","v":0},{"$f":"'PAT Civil Detailed'!$BI69+'PAT Mech Detailed'!$BF69","v":0},{"$f":"'PAT Civil Detailed'!$BP69+'PAT Mech Detailed'!$BO69","v":0},{"$f":"'PAT Civil Detailed'!$CA69+'PAT Mech Detailed'!$BV69","v":0},{"$f":"'PAT Civil Detailed'!$CH69+'PAT Mech Detailed'!$CC69","v":0},{"$f":"'PAT Civil Detailed'!$CL69+'PAT Mech Detailed'!$CG69","v":0},0,{"$f":"'PAT Civil Detailed'!$CO69+'PAT Mech Detailed'!$CI69","v":0},{"$f":"'PAT Civil Detailed'!$CV69+'PAT Mech Detailed'!$CP69","v":0},0,{"$f":"'PAT Civil Detailed'!$CW69+'PAT Mech Detailed'!$CR69","v":0},{"$f":"'PAT Civil Detailed'!$CX69+'PAT Mech Detailed'!$CS69","v":0},{"$f":"'PAT Civil Detailed'!$CY69+'PAT Mech Detailed'!$CT69","v":0},{"$f":"'PAT Civil Detailed'!$CZ69+'PAT Mech Detailed'!$CU69","v":0},{"$f":"'PAT Civil Detailed'!$DA69+'PAT Mech Detailed'!$CV69","v":0},{"$f":"'PAT Civil Detailed'!$DB69+'PAT Mech Detailed'!$CW69","v":0},0,0,0,"",0]
[null,55,55,1,{"$f":"Insert!A57","v":0},{"$f":"Insert!B57","v":0},{"$f":"Insert!C57","v":0},{"$f":"Insert!D57","v":0},{"$f":"Insert!E57","v":0},{"$f":"'PAT Civil Detailed'!$N70+'PAT Mech Detailed'!$N70","v":0},{"$f":"'PAT Civil Detailed'!$T70+'PAT Mech Detailed'!$T70","v":0},{"$f":"'PAT Civil Detailed'!$AD70+'PAT Mech Detailed'!$AC70","v":0},{"$f":"'PAT Civil Detailed'!$AN70+'PAT Mech Detailed'!$AL70","v":0},{"$f":"'PAT Civil Detailed'!$AT70+'PAT Mech Detailed'!$AR70","v":0},0,{"$f":"'PAT Civil Detailed'!$AX70+'PAT Mech Detailed'!$AV70","v":0},{"$f":"'PAT Civil Detailed'!$BI70+'PAT Mech Detailed'!$BF70","v":0},{"$f":"'PAT Civil Detailed'!$BP70+'PAT Mech Detailed'!$BO70","v":0},{"$f":"'PAT Civil Detailed'!$CA70+'PAT Mech Detailed'!$BV70","v":0},{"$f":"'PAT Civil Detailed'!$CH70+'PAT Mech Detailed'!$CC70","v":0},{"$f":"'PAT Civil Detailed'!$CL70+'PAT Mech Detailed'!$CG70","v":0},0,{"$f":"'PAT Civil Detailed'!$CO70+'PAT Mech Detailed'!$CI70","v":0},{"$f":"'PAT Civil Detailed'!$CV70+'PAT Mech Detailed'!$CP70","v":0},0,{"$f":"'PAT Civil Detailed'!$CW70+'PAT Mech Detailed'!$CR70","v":0},{"$f":"'PAT Civil Detailed'!$CX70+'PAT Mech Detailed'!$CS70","v":0},{"$f":"'PAT Civil Detailed'!$CY70+'PAT Mech Detailed'!$CT70","v":0},{"$f":"'PAT Civil Detailed'!$CZ70+'PAT Mech Detailed'!$CU70","v":0},{"$f":"'PAT Civil Detailed'!$DA70+'PAT Mech Detailed'!$CV70","v":0},{"$f":"'PAT Civil Detailed'!$DB70+'PAT Mech Detailed'!$CW70","v":0},0,0,0,"",0]
[null,56,56,1,{"$f":"Insert!A58","v":0},{"$f":"Insert!B58","v":0},{"$f":"Insert!C58","v":0},{"$f":"Insert!D58","v":0},{"$f":"Insert!E58","v":0},{"$f":"'PAT Civil Detailed'!$N71+'PAT Mech Detailed'!$N71","v":0},{"$f":"'PAT Civil Detailed'!$T71+'PAT Mech Detailed'!$T71","v":0},{"$f":"'PAT Civil Detailed'!$AD71+'PAT Mech Detailed'!$AC71","v":0},{"$f":"'PAT Civil Detailed'!$AN71+'PAT Mech Detailed'!$AL71","v":0},{"$f":"'PAT Civil Detailed'!$AT71+'PAT Mech Detailed'!$AR71","v":0},0,{"$f":"'PAT Civil Detailed'!$AX71+'PAT Mech Detailed'!$AV71","v":0},{"$f":"'PAT Civil Detailed'!$BI71+'PAT Mech Detailed'!$BF71","v":0},{"$f":"'PAT Civil Detailed'!$BP71+'PAT Mech Detailed'!$BO71","v":0},{"$f":"'PAT Civil Detailed'!$CA71+'PAT Mech Detailed'!$BV71","v":0},{"$f":"'PAT Civil Detailed'!$CH71+'PAT Mech Detailed'!$CC71","v":0},{"$f":"'PAT Civil Detailed'!$CL71+'PAT Mech Detailed'!$CG71","v":0},0,{"$f":"'PAT Civil Detailed'!$CO71+'PAT Mech Detailed'!$CI71","v":0},{"$f":"'PAT Civil Detailed'!$CV71+'PAT Mech Detailed'!$CP71","v":0},0,{"$f":"'PAT Civil Detailed'!$CW71+'PAT Mech Detailed'!$CR71","v":0},{"$f":"'PAT Civil Detailed'!$CX71+'PAT Mech Detailed'!$CS71","v":0},{"$f":"'PAT Civil Detailed'!$CY71+'PAT Mech Detailed'!$CT71","v":0},{"$f":"'PAT Civil Detailed'!$CZ71+'PAT Mech Detailed'!$CU71","v":0},{"$f":"'PAT Civil Detailed'!$DA71+'PAT Mech Detailed'!$CV71","v":0},{"$f":"'PAT Civil Detailed'!$DB71+'PAT Mech Detailed'!$CW71","v":0},0,0,0,"",0]
[null,57,57,1,{"$f":"Insert!A59","v":0},{"$f":"Insert!B59","v":0},{"$f":"Insert!C59","v":0},{"$f":"Insert!D59","v":0},{"$f":"Insert!E59","v":0},{"$f":"'PAT Civil Detailed'!$N72+'PAT Mech Detailed'!$N72","v":0},{"$f":"'PAT Civil Detailed'!$T72+'PAT Mech Detailed'!$T72","v":0},{"$f":"'PAT Civil Detailed'!$AD72+'PAT Mech Detailed'!$AC72","v":0},{"$f":"'PAT Civil Detailed'!$AN72+'PAT Mech Detailed'!$AL72","v":0},{"$f":"'PAT Civil Detailed'!$AT72+'PAT Mech Detailed'!$AR72","v":0},0,{"$f":"'PAT Civil Detailed'!$AX72+'PAT Mech Detailed'!$AV72","v":0},{"$f":"'PAT Civil Detailed'!$BI72+'PAT Mech Detailed'!$BF72","v":0},{"$f":"'PAT Civil Detailed'!$BP72+'PAT Mech Detailed'!$BO72","v":0},{"$f":"'PAT Civil Detailed'!$CA72+'PAT Mech Detailed'!$BV72","v":0},{"$f":"'PAT Civil Detailed'!$CH72+'PAT Mech Detailed'!$CC72","v":0},{"$f":"'PAT Civil Detailed'!$CL72+'PAT Mech Detailed'!$CG72","v":0},0,{"$f":"'PAT Civil Detailed'!$CO72+'PAT Mech Detailed'!$CI72","v":0},{"$f":"'PAT Civil Detailed'!$CV72+'PAT Mech Detailed'!$CP72","v":0},0,{"$f":"'PAT Civil Detailed'!$CW72+'PAT Mech Detailed'!$CR72","v":0},{"$f":"'PAT Civil Detailed'!$CX72+'PAT Mech Detailed'!$CS72","v":0},{"$f":"'PAT Civil Detailed'!$CY72+'PAT Mech Detailed'!$CT72","v":0},{"$f":"'PAT Civil Detailed'!$CZ72+'PAT Mech Detailed'!$CU72","v":0},{"$f":"'PAT Civil Detailed'!$DA72+'PAT Mech Detailed'!$CV72","v":0},{"$f":"'PAT Civil Detailed'!$DB72+'PAT Mech Detailed'!$CW72","v":0},0,0,0,"",0]
[null,58,58,1,{"$f":"Insert!A60","v":0},{"$f":"Insert!B60","v":0},{"$f":"Insert!C60","v":0},{"$f":"Insert!D60","v":0},{"$f":"Insert!E60","v":0},{"$f":"'PAT Civil Detailed'!$N73+'PAT Mech Detailed'!$N73","v":0},{"$f":"'PAT Civil Detailed'!$T73+'PAT Mech Detailed'!$T73","v":0},{"$f":"'PAT Civil Detailed'!$AD73+'PAT Mech Detailed'!$AC73","v":0},{"$f":"'PAT Civil Detailed'!$AN73+'PAT Mech Detailed'!$AL73","v":0},{"$f":"'PAT Civil Detailed'!$AT73+'PAT Mech Detailed'!$AR73","v":0},0,{"$f":"'PAT Civil Detailed'!$AX73+'PAT Mech Detailed'!$AV73","v":0},{"$f":"'PAT Civil Detailed'!$BI73+'PAT Mech Detailed'!$BF73","v":0},{"$f":"'PAT Civil Detailed'!$BP73+'PAT Mech Detailed'!$BO73","v":0},{"$f":"'PAT Civil Detailed'!$CA73+'PAT Mech Detailed'!$BV73","v":0},{"$f":"'PAT Civil Detailed'!$CH73+'PAT Mech Detailed'!$CC73","v":0},{"$f":"'PAT Civil Detailed'!$CL73+'PAT Mech Detailed'!$CG73","v":0},0,{"$f":"'PAT Civil Detailed'!$CO73+'PAT Mech Detailed'!$CI73","v":0},{"$f":"'PAT Civil Detailed'!$CV73+'PAT Mech Detailed'!$CP73","v":0},0,{"$f":"'PAT Civil Detailed'!$CW73+'PAT Mech Detailed'!$CR73","v":0},{"$f":"'PAT Civil Detailed'!$CX73+'PAT Mech Detailed'!$CS73","v":0},{"$f":"'PAT Civil Detailed'!$CY73+'PAT Mech Detailed'!$CT73","v":0},{"$f":"'PAT Civil Detailed'!$CZ73+'PAT Mech Detailed'!$CU73","v":0},{"$f":"'PAT Civil Detailed'!$DA73+'PAT Mech Detailed'!$CV73","v":0},{"$f":"'PAT Civil Detailed'!$DB73+'PAT Mech Detailed'!$CW73","v":0},0,0,0,"",0]
[null,59,59,1,{"$f":"Insert!A61","v":0},{"$f":"Insert!B61","v":0},{"$f":"Insert!C61","v":0},{"$f":"Insert!D61","v":0},{"$f":"Insert!E61","v":0},{"$f":"'PAT Civil Detailed'!$N74+'PAT Mech Detailed'!$N74","v":0},{"$f":"'PAT Civil Detailed'!$T74+'PAT Mech Detailed'!$T74","v":0},{"$f":"'PAT Civil Detailed'!$AD74+'PAT Mech Detailed'!$AC74","v":0},{"$f":"'PAT Civil Detailed'!$AN74+'PAT Mech Detailed'!$AL74","v":0},{"$f":"'PAT Civil Detailed'!$AT74+'PAT Mech Detailed'!$AR74","v":0},0,{"$f":"'PAT Civil Detailed'!$AX74+'PAT Mech Detailed'!$AV74","v":0},{"$f":"'PAT Civil Detailed'!$BI74+'PAT Mech Detailed'!$BF74","v":0},{"$f":"'PAT Civil Detailed'!$BP74+'PAT Mech Detailed'!$BO74","v":0},{"$f":"'PAT Civil Detailed'!$CA74+'PAT Mech Detailed'!$BV74","v":0},{"$f":"'PAT Civil Detailed'!$CH74+'PAT Mech Detailed'!$CC74","v":0},{"$f":"'PAT Civil Detailed'!$CL74+'PAT Mech Detailed'!$CG74","v":0},0,{"$f":"'PAT Civil Detailed'!$CO74+'PAT Mech Detailed'!$CI74","v":0},{"$f":"'PAT Civil Detailed'!$CV74+'PAT Mech Detailed'!$CP74","v":0},0,{"$f":"'PAT Civil Detailed'!$CW74+'PAT Mech Detailed'!$CR74","v":0},{"$f":"'PAT Civil Detailed'!$CX74+'PAT Mech Detailed'!$CS74","v":0},{"$f":"'PAT Civil Detailed'!$CY74+'PAT Mech Detailed'!$CT74","v":0},{"$f":"'PAT Civil Detailed'!$CZ74+'PAT Mech Detailed'!$CU74","v":0},{"$f":"'PAT Civil Detailed'!$DA74+'PAT Mech Detailed'!$CV74","v":0},{"$f":"'PAT Civil Detailed'!$DB74+'PAT Mech Detailed'!$CW74","v":0},0,0,0,"",0]
[null,60,60,1,{"$f":"Insert!A62","v":0},{"$f":"Insert!B62","v":0},{"$f":"Insert!C62","v":0},{"$f":"Insert!D62","v":0},{"$f":"Insert!E62","v":0},{"$f":"'PAT Civil Detailed'!$N75+'PAT Mech Detailed'!$N75","v":0},{"$f":"'PAT Civil Detailed'!$T75+'PAT Mech Detailed'!$T75","v":0},{"$f":"'PAT Civil Detailed'!$AD75+'PAT Mech Detailed'!$AC75","v":0},{"$f":"'PAT Civil Detailed'!$AN75+'PAT Mech Detailed'!$AL75","v":0},{"$f":"'PAT Civil Detailed'!$AT75+'PAT Mech Detailed'!$AR75","v":0},0,{"$f":"'PAT Civil Detailed'!$AX75+'PAT Mech Detailed'!$AV75","v":0},{"$f":"'PAT Civil Detailed'!$BI75+'PAT Mech Detailed'!$BF75","v":0},{"$f":"'PAT Civil Detailed'!$BP75+'PAT Mech Detailed'!$BO75","v":0},{"$f":"'PAT Civil Detailed'!$CA75+'PAT Mech Detailed'!$BV75","v":0},{"$f":"'PAT Civil Detailed'!$CH75+'PAT Mech Detailed'!$CC75","v":0},{"$f":"'PAT Civil Detailed'!$CL75+'PAT Mech Detailed'!$CG75","v":0},0,{"$f":"'PAT Civil Detailed'!$CO75+'PAT Mech Detailed'!$CI75","v":0},{"$f":"'PAT Civil Detailed'!$CV75+'PAT Mech Detailed'!$CP75","v":0},0,{"$f":"'PAT Civil Detailed'!$CW75+'PAT Mech Detailed'!$CR75","v":0},{"$f":"'PAT Civil Detailed'!$CX75+'PAT Mech Detailed'!$CS75","v":0},{"$f":"'PAT Civil Detailed'!$CY75+'PAT Mech Detailed'!$CT75","v":0},{"$f":"'PAT Civil Detailed'!$CZ75+'PAT Mech Detailed'!$CU75","v":0},{"$f":"'PAT Civil Detailed'!$DA75+'PAT Mech Detailed'!$CV75","v":0},{"$f":"'PAT Civil Detailed'!$DB75+'PAT Mech Detailed'!$CW75","v":0},0,0,0,"",0]
[null,61,61,1,{"$f":"Insert!A63","v":0},{"$f":"Insert!B63","v":0},{"$f":"Insert!C63","v":0},{"$f":"Insert!D63","v":0},{"$f":"Insert!E63","v":0},{"$f":"'PAT Civil Detailed'!$N76+'PAT Mech Detailed'!$N76","v":0},{"$f":"'PAT Civil Detailed'!$T76+'PAT Mech Detailed'!$T76","v":0},{"$f":"'PAT Civil Detailed'!$AD76+'PAT Mech Detailed'!$AC76","v":0},{"$f":"'PAT Civil Detailed'!$AN76+'PAT Mech Detailed'!$AL76","v":0},{"$f":"'PAT Civil Detailed'!$AT76+'PAT Mech Detailed'!$AR76","v":0},0,{"$f":"'PAT Civil Detailed'!$AX76+'PAT Mech Detailed'!$AV76","v":0},{"$f":"'PAT Civil Detailed'!$BI76+'PAT Mech Detailed'!$BF76","v":0},{"$f":"'PAT Civil Detailed'!$BP76+'PAT Mech Detailed'!$BO76","v":0},{"$f":"'PAT Civil Detailed'!$CA76+'PAT Mech Detailed'!$BV76","v":0},{"$f":"'PAT Civil Detailed'!$CH76+'PAT Mech Detailed'!$CC76","v":0},{"$f":"'PAT Civil Detailed'!$CL76+'PAT Mech Detailed'!$CG76","v":0},0,{"$f":"'PAT Civil Detailed'!$CO76+'PAT Mech Detailed'!$CI76","v":0},{"$f":"'PAT Civil Detailed'!$CV76+'PAT Mech Detailed'!$CP76","v":0},0,{"$f":"'PAT Civil Detailed'!$CW76+'PAT Mech Detailed'!$CR76","v":0},{"$f":"'PAT Civil Detailed'!$CX76+'PAT Mech Detailed'!$CS76","v":0},{"$f":"'PAT Civil Detailed'!$CY76+'PAT Mech Detailed'!$CT76","v":0},{"$f":"'PAT Civil Detailed'!$CZ76+'PAT Mech Detailed'!$CU76","v":0},{"$f":"'PAT Civil Detailed'!$DA76+'PAT Mech Detailed'!$CV76","v":0},{"$f":"'PAT Civil Detailed'!$DB76+'PAT Mech Detailed'!$CW76","v":0},0,0,0,"",0]
[null,62,62,1,{"$f":"Insert!A64","v":0},{"$f":"Insert!B64","v":0},{"$f":"Insert!C64","v":0},{"$f":"Insert!D64","v":0},{"$f":"Insert!E64","v":0},{"$f":"'PAT Civil Detailed'!$N77+'PAT Mech Detailed'!$N77","v":0},{"$f":"'PAT Civil Detailed'!$T77+'PAT Mech Detailed'!$T77","v":0},{"$f":"'PAT Civil Detailed'!$AD77+'PAT Mech Detailed'!$AC77","v":0},{"$f":"'PAT Civil Detailed'!$AN77+'PAT Mech Detailed'!$AL77","v":0},{"$f":"'PAT Civil Detailed'!$AT77+'PAT Mech Detailed'!$AR77","v":0},0,{"$f":"'PAT Civil Detailed'!$AX77+'PAT Mech Detailed'!$AV77","v":0},{"$f":"'PAT Civil Detailed'!$BI77+'PAT Mech Detailed'!$BF77","v":0},{"$f":"'PAT Civil Detailed'!$BP77+'PAT Mech Detailed'!$BO77","v":0},{"$f":"'PAT Civil Detailed'!$CA77+'PAT Mech Detailed'!$BV77","v":0},{"$f":"'PAT Civil Detailed'!$CH77+'PAT Mech Detailed'!$CC77","v":0},{"$f":"'PAT Civil Detailed'!$CL77+'PAT Mech Detailed'!$CG77","v":0},0,{"$f":"'PAT Civil Detailed'!$CO77+'PAT Mech Detailed'!$CI77","v":0},{"$f":"'PAT Civil Detailed'!$CV77+'PAT Mech Detailed'!$CP77","v":0},0,{"$f":"'PAT Civil Detailed'!$CW77+'PAT Mech Detailed'!$CR77","v":0},{"$f":"'PAT Civil Detailed'!$CX77+'PAT Mech Detailed'!$CS77","v":0},{"$f":"'PAT Civil Detailed'!$CY77+'PAT Mech Detailed'!$CT77","v":0},{"$f":"'PAT Civil Detailed'!$CZ77+'PAT Mech Detailed'!$CU77","v":0},{"$f":"'PAT Civil Detailed'!$DA77+'PAT Mech Detailed'!$CV77","v":0},{"$f":"'PAT Civil Detailed'!$DB77+'PAT Mech Detailed'!$CW77","v":0},0,0,0,"",0]
[null,63,63,1,{"$f":"Insert!A65","v":0},{"$f":"Insert!B65","v":0},{"$f":"Insert!C65","v":0},{"$f":"Insert!D65","v":0},{"$f":"Insert!E65","v":0},{"$f":"'PAT Civil Detailed'!$N78+'PAT Mech Detailed'!$N78","v":0},{"$f":"'PAT Civil Detailed'!$T78+'PAT Mech Detailed'!$T78","v":0},{"$f":"'PAT Civil Detailed'!$AD78+'PAT Mech Detailed'!$AC78","v":0},{"$f":"'PAT Civil Detailed'!$AN78+'PAT Mech Detailed'!$AL78","v":0},{"$f":"'PAT Civil Detailed'!$AT78+'PAT Mech Detailed'!$AR78","v":0},0,{"$f":"'PAT Civil Detailed'!$AX78+'PAT Mech Detailed'!$AV78","v":0},{"$f":"'PAT Civil Detailed'!$BI78+'PAT Mech Detailed'!$BF78","v":0},{"$f":"'PAT Civil Detailed'!$BP78+'PAT Mech Detailed'!$BO78","v":0},{"$f":"'PAT Civil Detailed'!$CA78+'PAT Mech Detailed'!$BV78","v":0},{"$f":"'PAT Civil Detailed'!$CH78+'PAT Mech Detailed'!$CC78","v":0},{"$f":"'PAT Civil Detailed'!$CL78+'PAT Mech Detailed'!$CG78","v":0},0,{"$f":"'PAT Civil Detailed'!$CO78+'PAT Mech Detailed'!$CI78","v":0},{"$f":"'PAT Civil Detailed'!$CV78+'PAT Mech Detailed'!$CP78","v":0},0,{"$f":"'PAT Civil Detailed'!$CW78+'PAT Mech Detailed'!$CR78","v":0},{"$f":"'PAT Civil Detailed'!$CX78+'PAT Mech Detailed'!$CS78","v":0},{"$f":"'PAT Civil Detailed'!$CY78+'PAT Mech Detailed'!$CT78","v":0},{"$f":"'PAT Civil Detailed'!$CZ78+'PAT Mech Detailed'!$CU78","v":0},{"$f":"'PAT Civil Detailed'!$DA78+'PAT Mech Detailed'!$CV78","v":0},{"$f":"'PAT Civil Detailed'!$DB78+'PAT Mech Detailed'!$CW78","v":0},0,0,0,"",0]
[null,64,64,1,{"$f":"Insert!A66","v":0},{"$f":"Insert!B66","v":0},{"$f":"Insert!C66","v":0},{"$f":"Insert!D66","v":0},{"$f":"Insert!E66","v":0},{"$f":"'PAT Civil Detailed'!$N79+'PAT Mech Detailed'!$N79","v":0},{"$f":"'PAT Civil Detailed'!$T79+'PAT Mech Detailed'!$T79","v":0},{"$f":"'PAT Civil Detailed'!$AD79+'PAT Mech Detailed'!$AC79","v":0},{"$f":"'PAT Civil Detailed'!$AN79+'PAT Mech Detailed'!$AL79","v":0},{"$f":"'PAT Civil Detailed'!$AT79+'PAT Mech Detailed'!$AR79","v":0},0,{"$f":"'PAT Civil Detailed'!$AX79+'PAT Mech Detailed'!$AV79","v":0},{"$f":"'PAT Civil Detailed'!$BI79+'PAT Mech Detailed'!$BF79","v":0},{"$f":"'PAT Civil Detailed'!$BP79+'PAT Mech Detailed'!$BO79","v":0},{"$f":"'PAT Civil Detailed'!$CA79+'PAT Mech Detailed'!$BV79","v":0},{"$f":"'PAT Civil Detailed'!$CH79+'PAT Mech Detailed'!$CC79","v":0},{"$f":"'PAT Civil Detailed'!$CL79+'PAT Mech Detailed'!$CG79","v":0},0,{"$f":"'PAT Civil Detailed'!$CO79+'PAT Mech Detailed'!$CI79","v":0},{"$f":"'PAT Civil Detailed'!$CV79+'PAT Mech Detailed'!$CP79","v":0},0,{"$f":"'PAT Civil Detailed'!$CW79+'PAT Mech Detailed'!$CR79","v":0},{"$f":"'PAT Civil Detailed'!$CX79+'PAT Mech Detailed'!$CS79","v":0},{"$f":"'PAT Civil Detailed'!$CY79+'PAT Mech Detailed'!$CT79","v":0},{"$f":"'PAT Civil Detailed'!$CZ79+'PAT Mech Detailed'!$CU79","v":0},{"$f":"'PAT Civil Detailed'!$DA79+'PAT Mech Detailed'!$CV79","v":0},{"$f":"'PAT Civil Detailed'!$DB79+'PAT Mech Detailed'!$CW79","v":0},0,0,0,"",0]
[null,null,65,1,{"$f":"Insert!A67","v":0},{"$f":"Insert!B67","v":0},{"$f":"Insert!C67","v":0},{"$f":"Insert!D67","v":0},{"$f":"Insert!E67","v":0},{"$f":"'PAT Civil Detailed'!$N80+'PAT Mech Detailed'!$N80","v":0},{"$f":"'PAT Civil Detailed'!$T80+'PAT Mech Detailed'!$T80","v":0},{"$f":"'PAT Civil Detailed'!$AD80+'PAT Mech Detailed'!$AC80","v":0},{"$f":"'PAT Civil Detailed'!$AN80+'PAT Mech Detailed'!$AL80","v":0},{"$f":"'PAT Civil Detailed'!$AT80+'PAT Mech Detailed'!$AR80","v":0},{"$f":"ROUND((SUM(J82:N82)/2.777777777),0)","v":0},{"$f":"'PAT Civil Detailed'!$AX80+'PAT Mech Detailed'!$AV80","v":0},{"$f":"'PAT Civil Detailed'!$BI80+'PAT Mech Detailed'!$BF80","v":0},{"$f":"'PAT Civil Detailed'!$BP80+'PAT Mech Detailed'!$BO80","v":0},{"$f":"'PAT Civil Detailed'!$CA80+'PAT Mech Detailed'!$BV80","v":0},{"$f":"'PAT Civil Detailed'!$CH80+'PAT Mech Detailed'!$CC80","v":0},{"$f":"'PAT Civil Detailed'!$CL80+'PAT Mech Detailed'!$CG80","v":0},{"$f":"ROUND((SUMIF(P82:U82,\">0\")/1.2),0)","v":0},{"$f":"'PAT Civil Detailed'!$CO80+'PAT Mech Detailed'!$CI80","v":0},{"$f":"'PAT Civil Detailed'!$CV80+'PAT Mech Detailed'!$CP80","v":0},{"$f":"ROUND((SUM(W82:X82)/2.857142857),0)","v":0},{"$f":"'PAT Civil Detailed'!$CW80+'PAT Mech Detailed'!$CR80","v":0},{"$f":"'PAT Civil Detailed'!$CX80+'PAT Mech Detailed'!$CS80","v":0},{"$f":"'PAT Civil Detailed'!$CY80+'PAT Mech Detailed'!$CT80","v":0},{"$f":"'PAT Civil Detailed'!$CZ80+'PAT Mech Detailed'!$CU80","v":0},{"$f":"'PAT Civil Detailed'!$DA80+'PAT Mech Detailed'!$CV80","v":0},{"$f":"'PAT Civil Detailed'!$DB80+'PAT Mech Detailed'!$CW80","v":0},{"$f":"SUMIF(Z82:AE82,\">0\")","v":0},{"$f":"ROUND(IF(AJ82=4,SUM(Z82:AC82)/1.6,IF(AJ82=6,SUM(Z82:AE82)/2.4,SUM(Z82:AC82))),0)","v":0},{"$f":"ROUND(SUM(O82+V82+Y82+AG82),0)","v":0}]
[null,65,66,1,{"$f":"Insert!A68","v":0},{"$f":"Insert!B68","v":0},{"$f":"Insert!C68","v":0},{"$f":"Insert!D68","v":0},{"$f":"Insert!E68","v":0},{"$f":"'PAT Civil Detailed'!$N81+'PAT Mech Detailed'!$N81","v":0},{"$f":"'PAT Civil Detailed'!$T81+'PAT Mech Detailed'!$T81","v":0},{"$f":"'PAT Civil Detailed'!$AD81+'PAT Mech Detailed'!$AC81","v":0},{"$f":"'PAT Civil Detailed'!$AN81+'PAT Mech Detailed'!$AL81","v":0},{"$f":"'PAT Civil Detailed'!$AT81+'PAT Mech Detailed'!$AR81","v":0},0,{"$f":"'PAT Civil Detailed'!$AX81+'PAT Mech Detailed'!$AV81","v":0},{"$f":"'PAT Civil Detailed'!$BI81+'PAT Mech Detailed'!$BF81","v":0},{"$f":"'PAT Civil Detailed'!$BP81+'PAT Mech Detailed'!$BO81","v":0},{"$f":"'PAT Civil Detailed'!$CA81+'PAT Mech Detailed'!$BV81","v":0},{"$f":"'PAT Civil Detailed'!$CH81+'PAT Mech Detailed'!$CC81","v":0},{"$f":"'PAT Civil Detailed'!$CL81+'PAT Mech Detailed'!$CG81","v":0},0,{"$f":"'PAT Civil Detailed'!$CO81+'PAT Mech Detailed'!$CI81","v":0},{"$f":"'PAT Civil Detailed'!$CV81+'PAT Mech Detailed'!$CP81","v":0},0,{"$f":"'PAT Civil Detailed'!$CW81+'PAT Mech Detailed'!$CR81","v":0},{"$f":"'PAT Civil Detailed'!$CX81+'PAT Mech Detailed'!$CS81","v":0},{"$f":"'PAT Civil Detailed'!$CY81+'PAT Mech Detailed'!$CT81","v":0},{"$f":"'PAT Civil Detailed'!$CZ81+'PAT Mech Detailed'!$CU81","v":0},{"$f":"'PAT Civil Detailed'!$DA81+'PAT Mech Detailed'!$CV81","v":0},{"$f":"'PAT Civil Detailed'!$DB81+'PAT Mech Detailed'!$CW81","v":0},0,0,0,{"$f":"IF(AH83>79,\"7\",IF(AH83>69,\"6\",IF(AH83>59,\"5\",IF(AH83>49,\"4\",IF(AH83>39,\"3\",IF(AH83>29,\"2\",IF(AH83>0,\"1\",IF(AH83=0,\"\"))))))))","v":""},{"$f":"COUNTIF(Z83:AE83,\">0\")","v":0}]
[null,null,67,1,{"$f":"Insert!A69","v":0},{"$f":"Insert!B69","v":0},{"$f":"Insert!C69","v":0},{"$f":"Insert!D69","v":0},{"$f":"Insert!E69","v":0},{"$f":"'PAT Civil Detailed'!$N81+'PAT Mech Detailed'!$N81","v":0},{"$f":"'PAT Civil Detailed'!$T81+'PAT Mech Detailed'!$T81","v":0},{"$f":"'PAT Civil Detailed'!$AD81+'PAT Mech Detailed'!$AC81","v":0},{"$f":"'PAT Civil Detailed'!$AN81+'PAT Mech Detailed'!$AL81","v":0},{"$f":"'PAT Civil Detailed'!$AT81+'PAT Mech Detailed'!$AR81","v":0},{"$f":"ROUND((SUM(J84:N84)/2.777777777),0)","v":0},{"$f":"'PAT Civil Detailed'!$AX81+'PAT Mech Detailed'!$AV81","v":0},{"$f":"'PAT Civil Detailed'!$BI81+'PAT Mech Detailed'!$BF81","v":0},{"$f":"'PAT Civil Detailed'!$BP81+'PAT Mech Detailed'!$BO81","v":0},{"$f":"'PAT Civil Detailed'!$CA81+'PAT Mech Detailed'!$BV81","v":0},{"$f":"'PAT Civil Detailed'!$CH81+'PAT Mech Detailed'!$CC81","v":0},{"$f":"'PAT Civil Detailed'!$CL81+'PAT Mech Detailed'!$CG81","v":0},{"$f":"ROUND((SUMIF(P84:U84,\">0\")/1.2),0)","v":0},{"$f":"'PAT Civil Detailed'!$CO81+'PAT Mech Detailed'!$CI81","v":0},{"$f":"'PAT Civil Detailed'!$CV81+'PAT Mech Detailed'!$CP81","v":0},{"$f":"ROUND((SUM(W84:X84)/2.857142857),0)","v":0},{"$f":"'PAT Civil Detailed'!$CW81+'PAT Mech Detailed'!$CR81","v":0},{"$f":"'PAT Civil Detailed'!$CX81+'PAT Mech Detailed'!$CS81","v":0},{"$f":"'PAT Civil Detailed'!$CY81+'PAT Mech Detailed'!$CT81","v":0},{"$f":"'PAT Civil Detailed'!$CZ81+'PAT Mech Detailed'!$CU81","v":0},{"$f":"'PAT Civil Detailed'!$DA81+'PAT Mech Detailed'!$CV81","v":0},{"$f":"'PAT Civil Detailed'!$DB81+'PAT Mech Detailed'!$CW81","v":0},{"$f":"SUMIF(Z84:AE84,\">0\")","v":0},{"$f":"ROUND(IF(AJ84=4,SUM(Z84:AC84)/1.6,IF(AJ84=6,SUM(Z84:AE84)/2.4,SUM(Z84:AC84))),0)","v":0},{"$f":"ROUND(SUM(O84+V84+Y84+AG84),0)","v":0},"",0]
[null,"Site plan correctly drawn, including ALL given site features and detail",68,1,{"$f":"Insert!A70","v":0},{"$f":"Insert!B70","v":0},{"$f":"Insert!C70","v":0},{"$f":"Insert!D70","v":0},{"$f":"Insert!E70","v":0},{"$f":"'PAT Civil Detailed'!$N82+'PAT Mech Detailed'!$N83","v":0},{"$f":"'PAT Civil Detailed'!$T82+'PAT Mech Detailed'!$T83","v":0},{"$f":"'PAT Civil Detailed'!$AD82+'PAT Mech Detailed'!$AC83","v":0},{"$f":"'PAT Civil Detailed'!$AN82+'PAT Mech Detailed'!$AL83","v":0},{"$f":"'PAT Civil Detailed'!$AT82+'PAT Mech Detailed'!$AR83","v":0},0,{"$f":"'PAT Civil Detailed'!$AX82+'PAT Mech Detailed'!$AV83","v":0},{"$f":"'PAT Civil Detailed'!$BI82+'PAT Mech Detailed'!$BF83","v":0},{"$f":"'PAT Civil Detailed'!$BP82+'PAT Mech Detailed'!$BO83","v":0},{"$f":"'PAT Civil Detailed'!$CA82+'PAT Mech Detailed'!$BV83","v":0},{"$f":"'PAT Civil Detailed'!$CH82+'PAT Mech Detailed'!$CC83","v":0},{"$f":"'PAT Civil Detailed'!$CL82+'PAT Mech Detailed'!$CG83","v":0},0,{"$f":"'PAT Civil Detailed'!$CO82+'PAT Mech Detailed'!$CI83","v":0},{"$f":"'PAT Civil Detailed'!$CV82+'PAT Mech Detailed'!$CP83","v":0},0,{"$f":"'PAT Civil Detailed'!$CW82+'PAT Mech Detailed'!$CR83","v":0},{"$f":"'PAT Civil Detailed'!$CX82+'PAT Mech Detailed'!$CS83","v":0},{"$f":"'PAT Civil Detailed'!$CY82+'PAT Mech Detailed'!$CT83","v":0},{"$f":"'PAT Civil Detailed'!$CZ82+'PAT Mech Detailed'!$CU83","v":0},{"$f":"'PAT Civil Detailed'!$DA82+'PAT Mech Detailed'!$CV83","v":0},{"$f":"'PAT Civil Detailed'!$DB82+'PAT Mech Detailed'!$CW83","v":0},0,0,0,"",0]
[null,"The proposed new building with north-facing main entrance, parking area and driveways",69,1,{"$f":"Insert!A71","v":0},{"$f":"Insert!B71","v":0},{"$f":"Insert!C71","v":0},{"$f":"Insert!D71","v":0},{"$f":"Insert!E71","v":0},{"$f":"'PAT Civil Detailed'!$N83+'PAT Mech Detailed'!$N84","v":0},{"$f":"'PAT Civil Detailed'!$T83+'PAT Mech Detailed'!$T84","v":0},{"$f":"'PAT Civil Detailed'!$AD83+'PAT Mech Detailed'!$AC84","v":0},{"$f":"'PAT Civil Detailed'!$AN83+'PAT Mech Detailed'!$AL84","v":0},{"$f":"'PAT Civil Detailed'!$AT83+'PAT Mech Detailed'!$AR84","v":0},0,{"$f":"'PAT Civil Detailed'!$AX83+'PAT Mech Detailed'!$AV84","v":0},{"$f":"'PAT Civil Detailed'!$BI83+'PAT Mech Detailed'!$BF84","v":0},{"$f":"'PAT Civil Detailed'!$BP83+'PAT Mech Detailed'!$BO84","v":0},{"$f":"'PAT Civil Detailed'!$CA83+'PAT Mech Detailed'!$BV84","v":0},{"$f":"'PAT Civil Detailed'!$CH83+'PAT Mech Detailed'!$CC84","v":0},{"$f":"'PAT Civil Detailed'!$CL83+'PAT Mech Detailed'!$CG84","v":0},0,{"$f":"'PAT Civil Detailed'!$CO83+'PAT Mech Detailed'!$CI84","v":0},{"$f":"'PAT Civil Detailed'!$CV83+'PAT Mech Detailed'!$CP84","v":0},0,{"$f":"'PAT Civil Detailed'!$CW83+'PAT Mech Detailed'!$CR84","v":0},{"$f":"'PAT Civil Detailed'!$CX83+'PAT Mech Detailed'!$CS84","v":0},{"$f":"'PAT Civil Detailed'!$CY83+'PAT Mech Detailed'!$CT84","v":0},{"$f":"'PAT Civil Detailed'!$CZ83+'PAT Mech Detailed'!$CU84","v":0},{"$f":"'PAT Civil Detailed'!$DA83+'PAT Mech Detailed'!$CV84","v":0},{"$f":"'PAT Civil Detailed'!$DB83+'PAT Mech Detailed'!$CW84","v":0},0,0,0,"",0]
[null,"ALL sewerage detail, with labels and notes included",70,1,{"$f":"Insert!A72","v":0},{"$f":"Insert!B72","v":0},{"$f":"Insert!C72","v":0},{"$f":"Insert!D72","v":0},{"$f":"Insert!E72","v":0},{"$f":"'PAT Civil Detailed'!$N84+'PAT Mech Detailed'!$N85","v":0},{"$f":"'PAT Civil Detailed'!$T84+'PAT Mech Detailed'!$T85","v":0},{"$f":"'PAT Civil Detailed'!$AD84+'PAT Mech Detailed'!$AC85","v":0},{"$f":"'PAT Civil Detailed'!$AN84+'PAT Mech Detailed'!$AL85","v":0},{"$f":"'PAT Civil Detailed'!$AT84+'PAT Mech Detailed'!$AR85","v":0},0,{"$f":"'PAT Civil Detailed'!$AX84+'PAT Mech Detailed'!$AV85","v":0},{"$f":"'PAT Civil Detailed'!$BI84+'PAT Mech Detailed'!$BF85","v":0},{"$f":"'PAT Civil Detailed'!$BP84+'PAT Mech Detailed'!$BO85","v":0},{"$f":"'PAT Civil Detailed'!$CA84+'PAT Mech Detailed'!$BV85","v":0},{"$f":"'PAT Civil Detailed'!$CH84+'PAT Mech Detailed'!$CC85","v":0},{"$f":"'PAT Civil Detailed'!$CL84+'PAT Mech Detailed'!$CG85","v":0},0,{"$f":"'PAT Civil Detailed'!$CO84+'PAT Mech Detailed'!$CI85","v":0},{"$f":"'PAT Civil Detailed'!$CV84+'PAT Mech Detailed'!$CP85","v":0},0,{"$f":"'PAT Civil Detailed'!$CW84+'PAT Mech Detailed'!$CR85","v":0},{"$f":"'PAT Civil Detailed'!$CX84+'PAT Mech Detailed'!$CS85","v":0},{"$f":"'PAT Civil Detailed'!$CY84+'PAT Mech Detailed'!$CT85","v":0},{"$f":"'PAT Civil Detailed'!$CZ84+'PAT Mech Detailed'!$CU85","v":0},{"$f":"'PAT Civil Detailed'!$DA84+'PAT Mech Detailed'!$CV85","v":0},{"$f":"'PAT Civil Detailed'!$DB84+'PAT Mech Detailed'!$CW85","v":0},0,0,0,"",0]
[null,"Dimensions, including new building's reference dimensions and corner heights",71,1,{"$f":"Insert!A73","v":0},{"$f":"Insert!B73","v":0},{"$f":"Insert!C73","v":0},{"$f":"Insert!D73","v":0},{"$f":"Insert!E73","v":0},{"$f":"'PAT Civil Detailed'!$N85+'PAT Mech Detailed'!$N86","v":0},{"$f":"'PAT Civil Detailed'!$T85+'PAT Mech Detailed'!$T86","v":0},{"$f":"'PAT Civil Detailed'!$AD85+'PAT Mech Detailed'!$AC86","v":0},{"$f":"'PAT Civil Detailed'!$AN85+'PAT Mech Detailed'!$AL86","v":0},{"$f":"'PAT Civil Detailed'!$AT85+'PAT Mech Detailed'!$AR86","v":0},0,{"$f":"'PAT Civil Detailed'!$AX85+'PAT Mech Detailed'!$AV86","v":0},{"$f":"'PAT Civil Detailed'!$BI85+'PAT Mech Detailed'!$BF86","v":0},{"$f":"'PAT Civil Detailed'!$BP85+'PAT Mech Detailed'!$BO86","v":0},{"$f":"'PAT Civil Detailed'!$CA85+'PAT Mech Detailed'!$BV86","v":0},{"$f":"'PAT Civil Detailed'!$CH85+'PAT Mech Detailed'!$CC86","v":0},{"$f":"'PAT Civil Detailed'!$CL85+'PAT Mech Detailed'!$CG86","v":0},0,{"$f":"'PAT Civil Detailed'!$CO85+'PAT Mech Detailed'!$CI86","v":0},{"$f":"'PAT Civil Detailed'!$CV85+'PAT Mech Detailed'!$CP86","v":0},0,{"$f":"'PAT Civil Detailed'!$CW85+'PAT Mech Detailed'!$CR86","v":0},{"$f":"'PAT Civil Detailed'!$CX85+'PAT Mech Detailed'!$CS86","v":0},{"$f":"'PAT Civil Detailed'!$CY85+'PAT Mech Detailed'!$CT86","v":0},{"$f":"'PAT Civil Detailed'!$CZ85+'PAT Mech Detailed'!$CU86","v":0},{"$f":"'PAT Civil Detailed'!$DA85+'PAT Mech Detailed'!$CV86","v":0},{"$f":"'PAT Civil Detailed'!$DB85+'PAT Mech Detailed'!$CW86","v":0},0,0,0,"",0]
[null,"Suitable scale indicated correctly",72,1,{"$f":"Insert!A74","v":0},{"$f":"Insert!B74","v":0},{"$f":"Insert!C74","v":0},{"$f":"Insert!D74","v":0},{"$f":"Insert!E74","v":0},{"$f":"'PAT Civil Detailed'!$N86+'PAT Mech Detailed'!$N87","v":0},{"$f":"'PAT Civil Detailed'!$T86+'PAT Mech Detailed'!$T87","v":0},{"$f":"'PAT Civil Detailed'!$AD86+'PAT Mech Detailed'!$AC87","v":0},{"$f":"'PAT Civil Detailed'!$AN86+'PAT Mech Detailed'!$AL87","v":0},{"$f":"'PAT Civil Detailed'!$AT86+'PAT Mech Detailed'!$AR87","v":0},0,{"$f":"'PAT Civil Detailed'!$AX86+'PAT Mech Detailed'!$AV87","v":0},{"$f":"'PAT Civil Detailed'!$BI86+'PAT Mech Detailed'!$BF87","v":0},{"$f":"'PAT Civil Detailed'!$BP86+'PAT Mech Detailed'!$BO87","v":0},{"$f":"'PAT Civil Detailed'!$CA86+'PAT Mech Detailed'!$BV87","v":0},{"$f":"'PAT Civil Detailed'!$CH86+'PAT Mech Detailed'!$CC87","v":0},{"$f":"'PAT Civil Detailed'!$CL86+'PAT Mech Detailed'!$CG87","v":0},0,{"$f":"'PAT Civil Detailed'!$CO86+'PAT Mech Detailed'!$CI87","v":0},{"$f":"'PAT Civil Detailed'!$CV86+'PAT Mech Detailed'!$CP87","v":0},0,{"$f":"'PAT Civil Detailed'!$CW86+'PAT Mech Detailed'!$CR87","v":0},{"$f":"'PAT Civil Detailed'!$CX86+'PAT Mech Detailed'!$CS87","v":0},{"$f":"'PAT Civil Detailed'!$CY86+'PAT Mech Detailed'!$CT87","v":0},{"$f":"'PAT Civil Detailed'!$CZ86+'PAT Mech Detailed'!$CU87","v":0},{"$f":"'PAT Civil Detailed'!$DA86+'PAT Mech Detailed'!$CV87","v":0},{"$f":"'PAT Civil Detailed'!$DB86+'PAT Mech Detailed'!$CW87","v":0},0,0,0,"",0]
[null,"North point",73,1,{"$f":"Insert!A75","v":0},{"$f":"Insert!B75","v":0},{"$f":"Insert!C75","v":0},{"$f":"Insert!D75","v":0},{"$f":"Insert!E75","v":0},{"$f":"'PAT Civil Detailed'!$N87+'PAT Mech Detailed'!$N88","v":0},{"$f":"'PAT Civil Detailed'!$T87+'PAT Mech Detailed'!$T88","v":0},{"$f":"'PAT Civil Detailed'!$AD87+'PAT Mech Detailed'!$AC88","v":0},{"$f":"'PAT Civil Detailed'!$AN87+'PAT Mech Detailed'!$AL88","v":0},{"$f":"'PAT Civil Detailed'!$AT87+'PAT Mech Detailed'!$AR88","v":0},0,{"$f":"'PAT Civil Detailed'!$AX87+'PAT Mech Detailed'!$AV88","v":0},{"$f":"'PAT Civil Detailed'!$BI87+'PAT Mech Detailed'!$BF88","v":0},{"$f":"'PAT Civil Detailed'!$BP87+'PAT Mech Detailed'!$BO88","v":0},{"$f":"'PAT Civil Detailed'!$CA87+'PAT Mech Detailed'!$BV88","v":0},{"$f":"'PAT Civil Detailed'!$CH87+'PAT Mech Detailed'!$CC88","v":0},{"$f":"'PAT Civil Detailed'!$CL87+'PAT Mech Detailed'!$CG88","v":0},0,{"$f":"'PAT Civil Detailed'!$CO87+'PAT Mech Detailed'!$CI88","v":0},{"$f":"'PAT Civil Detailed'!$CV87+'PAT Mech Detailed'!$CP88","v":0},0,{"$f":"'PAT Civil Detailed'!$CW87+'PAT Mech Detailed'!$CR88","v":0},{"$f":"'PAT Civil Detailed'!$CX87+'PAT Mech Detailed'!$CS88","v":0},{"$f":"'PAT Civil Detailed'!$CY87+'PAT Mech Detailed'!$CT88","v":0},{"$f":"'PAT Civil Detailed'!$CZ87+'PAT Mech Detailed'!$CU88","v":0},{"$f":"'PAT Civil Detailed'!$DA87+'PAT Mech Detailed'!$CV88","v":0},{"$f":"'PAT Civil Detailed'!$DB87+'PAT Mech Detailed'!$CW88","v":0},0,0,0,"",0]
[null,73,74,1,{"$f":"Insert!A76","v":0},{"$f":"Insert!B76","v":0},{"$f":"Insert!C76","v":0},{"$f":"Insert!D76","v":0},{"$f":"Insert!E76","v":0},{"$f":"'PAT Civil Detailed'!$N88+'PAT Mech Detailed'!$N89","v":0},{"$f":"'PAT Civil Detailed'!$T88+'PAT Mech Detailed'!$T89","v":0},{"$f":"'PAT Civil Detailed'!$AD88+'PAT Mech Detailed'!$AC89","v":0},{"$f":"'PAT Civil Detailed'!$AN88+'PAT Mech Detailed'!$AL89","v":0},{"$f":"'PAT Civil Detailed'!$AT88+'PAT Mech Detailed'!$AR89","v":0},0,{"$f":"'PAT Civil Detailed'!$AX88+'PAT Mech Detailed'!$AV89","v":0},{"$f":"'PAT Civil Detailed'!$BI88+'PAT Mech Detailed'!$BF89","v":0},{"$f":"'PAT Civil Detailed'!$BP88+'PAT Mech Detailed'!$BO89","v":0},{"$f":"'PAT Civil Detailed'!$CA88+'PAT Mech Detailed'!$BV89","v":0},{"$f":"'PAT Civil Detailed'!$CH88+'PAT Mech Detailed'!$CC89","v":0},{"$f":"'PAT Civil Detailed'!$CL88+'PAT Mech Detailed'!$CG89","v":0},0,{"$f":"'PAT Civil Detailed'!$CO88+'PAT Mech Detailed'!$CI89","v":0},{"$f":"'PAT Civil Detailed'!$CV88+'PAT Mech Detailed'!$CP89","v":0},0,{"$f":"'PAT Civil Detailed'!$CW88+'PAT Mech Detailed'!$CR89","v":0},{"$f":"'PAT Civil Detailed'!$CX88+'PAT Mech Detailed'!$CS89","v":0},{"$f":"'PAT Civil Detailed'!$CY88+'PAT Mech Detailed'!$CT89","v":0},{"$f":"'PAT Civil Detailed'!$CZ88+'PAT Mech Detailed'!$CU89","v":0},{"$f":"'PAT Civil Detailed'!$DA88+'PAT Mech Detailed'!$CV89","v":0},{"$f":"'PAT Civil Detailed'!$DB88+'PAT Mech Detailed'!$CW89","v":0},0,0,0,"",0]
[null,74,75,1,{"$f":"Insert!A77","v":0},{"$f":"Insert!B77","v":0},{"$f":"Insert!C77","v":0},{"$f":"Insert!D77","v":0},{"$f":"Insert!E77","v":0},{"$f":"'PAT Civil Detailed'!$N89+'PAT Mech Detailed'!$N90","v":0},{"$f":"'PAT Civil Detailed'!$T89+'PAT Mech Detailed'!$T90","v":0},{"$f":"'PAT Civil Detailed'!$AD89+'PAT Mech Detailed'!$AC90","v":0},{"$f":"'PAT Civil Detailed'!$AN89+'PAT Mech Detailed'!$AL90","v":0},{"$f":"'PAT Civil Detailed'!$AT89+'PAT Mech Detailed'!$AR90","v":0},0,{"$f":"'PAT Civil Detailed'!$AX89+'PAT Mech Detailed'!$AV90","v":0},{"$f":"'PAT Civil Detailed'!$BI89+'PAT Mech Detailed'!$BF90","v":0},{"$f":"'PAT Civil Detailed'!$BP89+'PAT Mech Detailed'!$BO90","v":0},{"$f":"'PAT Civil Detailed'!$CA89+'PAT Mech Detailed'!$BV90","v":0},{"$f":"'PAT Civil Detailed'!$CH89+'PAT Mech Detailed'!$CC90","v":0},{"$f":"'PAT Civil Detailed'!$CL89+'PAT Mech Detailed'!$CG90","v":0},0,{"$f":"'PAT Civil Detailed'!$CO89+'PAT Mech Detailed'!$CI90","v":0},{"$f":"'PAT Civil Detailed'!$CV89+'PAT Mech Detailed'!$CP90","v":0},0,{"$f":"'PAT Civil Detailed'!$CW89+'PAT Mech Detailed'!$CR90","v":0},{"$f":"'PAT Civil Detailed'!$CX89+'PAT Mech Detailed'!$CS90","v":0},{"$f":"'PAT Civil Detailed'!$CY89+'PAT Mech Detailed'!$CT90","v":0},{"$f":"'PAT Civil Detailed'!$CZ89+'PAT Mech Detailed'!$CU90","v":0},{"$f":"'PAT Civil Detailed'!$DA89+'PAT Mech Detailed'!$CV90","v":0},{"$f":"'PAT Civil Detailed'!$DB89+'PAT Mech Detailed'!$CW90","v":0},0,0,0,"",0]
[null,"Evidence of the views and construction used to prepare the drawing",76,1,{"$f":"Insert!A78","v":0},{"$f":"Insert!B78","v":0},{"$f":"Insert!C78","v":0},{"$f":"Insert!D78","v":0},{"$f":"Insert!E78","v":0},{"$f":"'PAT Civil Detailed'!$N90+'PAT Mech Detailed'!$N91","v":0},{"$f":"'PAT Civil Detailed'!$T90+'PAT Mech Detailed'!$T91","v":0},{"$f":"'PAT Civil Detailed'!$AD90+'PAT Mech Detailed'!$AC91","v":0},{"$f":"'PAT Civil Detailed'!$AN90+'PAT Mech Detailed'!$AL91","v":0},{"$f":"'PAT Civil Detailed'!$AT90+'PAT Mech Detailed'!$AR91","v":0},0,{"$f":"'PAT Civil Detailed'!$AX90+'PAT Mech Detailed'!$AV91","v":0},{"$f":"'PAT Civil Detailed'!$BI90+'PAT Mech Detailed'!$BF91","v":0},{"$f":"'PAT Civil Detailed'!$BP90+'PAT Mech Detailed'!$BO91","v":0},{"$f":"'PAT Civil Detailed'!$CA90+'PAT Mech Detailed'!$BV91","v":0},{"$f":"'PAT Civil Detailed'!$CH90+'PAT Mech Detailed'!$CC91","v":0},{"$f":"'PAT Civil Detailed'!$CL90+'PAT Mech Detailed'!$CG91","v":0},0,{"$f":"'PAT Civil Detailed'!$CO90+'PAT Mech Detailed'!$CI91","v":0},{"$f":"'PAT Civil Detailed'!$CV90+'PAT Mech Detailed'!$CP91","v":0},0,{"$f":"'PAT Civil Detailed'!$CW90+'PAT Mech Detailed'!$CR91","v":0},{"$f":"'PAT Civil Detailed'!$CX90+'PAT Mech Detailed'!$CS91","v":0},{"$f":"'PAT Civil Detailed'!$CY90+'PAT Mech Detailed'!$CT91","v":0},{"$f":"'PAT Civil Detailed'!$CZ90+'PAT Mech Detailed'!$CU91","v":0},{"$f":"'PAT Civil Detailed'!$DA90+'PAT Mech Detailed'!$CV91","v":0},{"$f":"'PAT Civil Detailed'!$DB90+'PAT Mech Detailed'!$CW91","v":0},0,0,0,"",0]
[null,"Correct orientation of the building with the HL at ±1,5 m above the ground line (GL)",77,1,{"$f":"Insert!A79","v":0},{"$f":"Insert!B79","v":0},{"$f":"Insert!C79","v":0},{"$f":"Insert!D79","v":0},{"$f":"Insert!E79","v":0},{"$f":"'PAT Civil Detailed'!$N91+'PAT Mech Detailed'!$N92","v":0},{"$f":"'PAT Civil Detailed'!$T91+'PAT Mech Detailed'!$T92","v":0},{"$f":"'PAT Civil Detailed'!$AD91+'PAT Mech Detailed'!$AC92","v":0},{"$f":"'PAT Civil Detailed'!$AN91+'PAT Mech Detailed'!$AL92","v":0},{"$f":"'PAT Civil Detailed'!$AT91+'PAT Mech Detailed'!$AR92","v":0},0,{"$f":"'PAT Civil Detailed'!$AX91+'PAT Mech Detailed'!$AV92","v":0},{"$f":"'PAT Civil Detailed'!$BI91+'PAT Mech Detailed'!$BF92","v":0},{"$f":"'PAT Civil Detailed'!$BP91+'PAT Mech Detailed'!$BO92","v":0},{"$f":"'PAT Civil Detailed'!$CA91+'PAT Mech Detailed'!$BV92","v":0},{"$f":"'PAT Civil Detailed'!$CH91+'PAT Mech Detailed'!$CC92","v":0},{"$f":"'PAT Civil Detailed'!$CL91+'PAT Mech Detailed'!$CG92","v":0},0,{"$f":"'PAT Civil Detailed'!$CO91+'PAT Mech Detailed'!$CI92","v":0},{"$f":"'PAT Civil Detailed'!$CV91+'PAT Mech Detailed'!$CP92","v":0},0,{"$f":"'PAT Civil Detailed'!$CW91+'PAT Mech Detailed'!$CR92","v":0},{"$f":"'PAT Civil Detailed'!$CX91+'PAT Mech Detailed'!$CS92","v":0},{"$f":"'PAT Civil Detailed'!$CY91+'PAT Mech Detailed'!$CT92","v":0},{"$f":"'PAT Civil Detailed'!$CZ91+'PAT Mech Detailed'!$CU92","v":0},{"$f":"'PAT Civil Detailed'!$DA91+'PAT Mech Detailed'!$CV92","v":0},{"$f":"'PAT Civil Detailed'!$DB91+'PAT Mech Detailed'!$CW92","v":0},0,0,0,"",0]
[null,"A suitable table created for the selection process",78,1,{"$f":"Insert!A80","v":0},{"$f":"Insert!B80","v":0},{"$f":"Insert!C80","v":0},{"$f":"Insert!D80","v":0},{"$f":"Insert!E80","v":0},{"$f":"'PAT Civil Detailed'!$N92+'PAT Mech Detailed'!$N93","v":0},{"$f":"'PAT Civil Detailed'!$T92+'PAT Mech Detailed'!$T93","v":0},{"$f":"'PAT Civil Detailed'!$AD92+'PAT Mech Detailed'!$AC93","v":0},{"$f":"'PAT Civil Detailed'!$AN92+'PAT Mech Detailed'!$AL93","v":0},{"$f":"'PAT Civil Detailed'!$AT92+'PAT Mech Detailed'!$AR93","v":0},0,{"$f":"'PAT Civil Detailed'!$AX92+'PAT Mech Detailed'!$AV93","v":0},{"$f":"'PAT Civil Detailed'!$BI92+'PAT Mech Detailed'!$BF93","v":0},{"$f":"'PAT Civil Detailed'!$BP92+'PAT Mech Detailed'!$BO93","v":0},{"$f":"'PAT Civil Detailed'!$CA92+'PAT Mech Detailed'!$BV93","v":0},{"$f":"'PAT Civil Detailed'!$CH92+'PAT Mech Detailed'!$CC93","v":0},{"$f":"'PAT Civil Detailed'!$CL92+'PAT Mech Detailed'!$CG93","v":0},0,{"$f":"'PAT Civil Detailed'!$CO92+'PAT Mech Detailed'!$CI93","v":0},{"$f":"'PAT Civil Detailed'!$CV92+'PAT Mech Detailed'!$CP93","v":0},0,{"$f":"'PAT Civil Detailed'!$CW92+'PAT Mech Detailed'!$CR93","v":0},{"$f":"'PAT Civil Detailed'!$CX92+'PAT Mech Detailed'!$CS93","v":0},{"$f":"'PAT Civil Detailed'!$CY92+'PAT Mech Detailed'!$CT93","v":0},{"$f":"'PAT Civil Detailed'!$CZ92+'PAT Mech Detailed'!$CU93","v":0},{"$f":"'PAT Civil Detailed'!$DA92+'PAT Mech Detailed'!$CV93","v":0},{"$f":"'PAT Civil Detailed'!$DB92+'PAT Mech Detailed'!$CW93","v":0},0,0,0,"",0]
[null,"                                   TOTAL",79,1,{"$f":"Insert!A81","v":0},{"$f":"Insert!B81","v":0},{"$f":"Insert!C81","v":0},{"$f":"Insert!D81","v":0},{"$f":"Insert!E81","v":0},{"$f":"'PAT Civil Detailed'!$N93+'PAT Mech Detailed'!$N94","v":0},{"$f":"'PAT Civil Detailed'!$T93+'PAT Mech Detailed'!$T94","v":0},{"$f":"'PAT Civil Detailed'!$AD93+'PAT Mech Detailed'!$AC94","v":0},{"$f":"'PAT Civil Detailed'!$AN93+'PAT Mech Detailed'!$AL94","v":0},{"$f":"'PAT Civil Detailed'!$AT93+'PAT Mech Detailed'!$AR94","v":0},0,{"$f":"'PAT Civil Detailed'!$AX93+'PAT Mech Detailed'!$AV94","v":0},{"$f":"'PAT Civil Detailed'!$BI93+'PAT Mech Detailed'!$BF94","v":0},{"$f":"'PAT Civil Detailed'!$BP93+'PAT Mech Detailed'!$BO94","v":0},{"$f":"'PAT Civil Detailed'!$CA93+'PAT Mech Detailed'!$BV94","v":0},{"$f":"'PAT Civil Detailed'!$CH93+'PAT Mech Detailed'!$CC94","v":0},{"$f":"'PAT Civil Detailed'!$CL93+'PAT Mech Detailed'!$CG94","v":0},0,{"$f":"'PAT Civil Detailed'!$CO93+'PAT Mech Detailed'!$CI94","v":0},{"$f":"'PAT Civil Detailed'!$CV93+'PAT Mech Detailed'!$CP94","v":0},0,{"$f":"'PAT Civil Detailed'!$CW93+'PAT Mech Detailed'!$CR94","v":0},{"$f":"'PAT Civil Detailed'!$CX93+'PAT Mech Detailed'!$CS94","v":0},{"$f":"'PAT Civil Detailed'!$CY93+'PAT Mech Detailed'!$CT94","v":0},{"$f":"'PAT Civil Detailed'!$CZ93+'PAT Mech Detailed'!$CU94","v":0},{"$f":"'PAT Civil Detailed'!$DA93+'PAT Mech Detailed'!$CV94","v":0},{"$f":"'PAT Civil Detailed'!$DB93+'PAT Mech Detailed'!$CW94","v":0},0,0,0,"",0]
[null,79,80,1,{"$f":"Insert!A82","v":0},{"$f":"Insert!B82","v":0},{"$f":"Insert!C82","v":0},{"$f":"Insert!D82","v":0},{"$f":"Insert!E82","v":0},{"$f":"'PAT Civil Detailed'!$N94+'PAT Mech Detailed'!$N95","v":0},{"$f":"'PAT Civil Detailed'!$T94+'PAT Mech Detailed'!$T95","v":0},{"$f":"'PAT Civil Detailed'!$AD94+'PAT Mech Detailed'!$AC95","v":0},{"$f":"'PAT Civil Detailed'!$AN94+'PAT Mech Detailed'!$AL95","v":0},{"$f":"'PAT Civil Detailed'!$AT94+'PAT Mech Detailed'!$AR95","v":0},0,{"$f":"'PAT Civil Detailed'!$AX94+'PAT Mech Detailed'!$AV95","v":0},{"$f":"'PAT Civil Detailed'!$BI94+'PAT Mech Detailed'!$BF95","v":0},{"$f":"'PAT Civil Detailed'!$BP94+'PAT Mech Detailed'!$BO95","v":0},{"$f":"'PAT Civil Detailed'!$CA94+'PAT Mech Detailed'!$BV95","v":0},{"$f":"'PAT Civil Detailed'!$CH94+'PAT Mech Detailed'!$CC95","v":0},{"$f":"'PAT Civil Detailed'!$CL94+'PAT Mech Detailed'!$CG95","v":0},0,{"$f":"'PAT Civil Detailed'!$CO94+'PAT Mech Detailed'!$CI95","v":0},{"$f":"'PAT Civil Detailed'!$CV94+'PAT Mech Detailed'!$CP95","v":0},0,{"$f":"'PAT Civil Detailed'!$CW94+'PAT Mech Detailed'!$CR95","v":0},{"$f":"'PAT Civil Detailed'!$CX94+'PAT Mech Detailed'!$CS95","v":0},{"$f":"'PAT Civil Detailed'!$CY94+'PAT Mech Detailed'!$CT95","v":0},{"$f":"'PAT Civil Detailed'!$CZ94+'PAT Mech Detailed'!$CU95","v":0},{"$f":"'PAT Civil Detailed'!$DA94+'PAT Mech Detailed'!$CV95","v":0},{"$f":"'PAT Civil Detailed'!$DB94+'PAT Mech Detailed'!$CW95","v":0},0,0,0,"",0]
[null,80,81,1,{"$f":"Insert!A83","v":0},{"$f":"Insert!B83","v":0},{"$f":"Insert!C83","v":0},{"$f":"Insert!D83","v":0},{"$f":"Insert!E83","v":0},{"$f":"'PAT Civil Detailed'!$N95+'PAT Mech Detailed'!$N96","v":0},{"$f":"'PAT Civil Detailed'!$T95+'PAT Mech Detailed'!$T96","v":0},{"$f":"'PAT Civil Detailed'!$AD95+'PAT Mech Detailed'!$AC96","v":0},{"$f":"'PAT Civil Detailed'!$AN95+'PAT Mech Detailed'!$AL96","v":0},{"$f":"'PAT Civil Detailed'!$AT95+'PAT Mech Detailed'!$AR96","v":0},0,{"$f":"'PAT Civil Detailed'!$AX95+'PAT Mech Detailed'!$AV96","v":0},{"$f":"'PAT Civil Detailed'!$BI95+'PAT Mech Detailed'!$BF96","v":0},{"$f":"'PAT Civil Detailed'!$BP95+'PAT Mech Detailed'!$BO96","v":0},{"$f":"'PAT Civil Detailed'!$CA95+'PAT Mech Detailed'!$BV96","v":0},{"$f":"'PAT Civil Detailed'!$CH95+'PAT Mech Detailed'!$CC96","v":0},{"$f":"'PAT Civil Detailed'!$CL95+'PAT Mech Detailed'!$CG96","v":0},0,{"$f":"'PAT Civil Detailed'!$CO95+'PAT Mech Detailed'!$CI96","v":0},{"$f":"'PAT Civil Detailed'!$CV95+'PAT Mech Detailed'!$CP96","v":0},0,{"$f":"'PAT Civil Detailed'!$CW95+'PAT Mech Detailed'!$CR96","v":0},{"$f":"'PAT Civil Detailed'!$CX95+'PAT Mech Detailed'!$CS96","v":0},{"$f":"'PAT Civil Detailed'!$CY95+'PAT Mech Detailed'!$CT96","v":0},{"$f":"'PAT Civil Detailed'!$CZ95+'PAT Mech Detailed'!$CU96","v":0},{"$f":"'PAT Civil Detailed'!$DA95+'PAT Mech Detailed'!$CV96","v":0},{"$f":"'PAT Civil Detailed'!$DB95+'PAT Mech Detailed'!$CW96","v":0},0,0,0,"",0]
[null,81,82,1,{"$f":"Insert!A84","v":0},{"$f":"Insert!B84","v":0},{"$f":"Insert!C84","v":0},{"$f":"Insert!D84","v":0},{"$f":"Insert!E84","v":0},{"$f":"'PAT Civil Detailed'!$N96+'PAT Mech Detailed'!$N97","v":0},{"$f":"'PAT Civil Detailed'!$T96+'PAT Mech Detailed'!$T97","v":0},{"$f":"'PAT Civil Detailed'!$AD96+'PAT Mech Detailed'!$AC97","v":0},{"$f":"'PAT Civil Detailed'!$AN96+'PAT Mech Detailed'!$AL97","v":0},{"$f":"'PAT Civil Detailed'!$AT96+'PAT Mech Detailed'!$AR97","v":0},0,{"$f":"'PAT Civil Detailed'!$AX96+'PAT Mech Detailed'!$AV97","v":0},{"$f":"'PAT Civil Detailed'!$BI96+'PAT Mech Detailed'!$BF97","v":0},{"$f":"'PAT Civil Detailed'!$BP96+'PAT Mech Detailed'!$BO97","v":0},{"$f":"'PAT Civil Detailed'!$CA96+'PAT Mech Detailed'!$BV97","v":0},{"$f":"'PAT Civil Detailed'!$CH96+'PAT Mech Detailed'!$CC97","v":0},{"$f":"'PAT Civil Detailed'!$CL96+'PAT Mech Detailed'!$CG97","v":0},0,{"$f":"'PAT Civil Detailed'!$CO96+'PAT Mech Detailed'!$CI97","v":0},{"$f":"'PAT Civil Detailed'!$CV96+'PAT Mech Detailed'!$CP97","v":0},0,{"$f":"'PAT Civil Detailed'!$CW96+'PAT Mech Detailed'!$CR97","v":0},{"$f":"'PAT Civil Detailed'!$CX96+'PAT Mech Detailed'!$CS97","v":0},{"$f":"'PAT Civil Detailed'!$CY96+'PAT Mech Detailed'!$CT97","v":0},{"$f":"'PAT Civil Detailed'!$CZ96+'PAT Mech Detailed'!$CU97","v":0},{"$f":"'PAT Civil Detailed'!$DA96+'PAT Mech Detailed'!$CV97","v":0},{"$f":"'PAT Civil Detailed'!$DB96+'PAT Mech Detailed'!$CW97","v":0},0,0,0,"",0]
[null,82,83,1,{"$f":"Insert!A85","v":0},{"$f":"Insert!B85","v":0},{"$f":"Insert!C85","v":0},{"$f":"Insert!D85","v":0},{"$f":"Insert!E85","v":0},{"$f":"'PAT Civil Detailed'!$N97+'PAT Mech Detailed'!$N98","v":0},{"$f":"'PAT Civil Detailed'!$T97+'PAT Mech Detailed'!$T98","v":0},{"$f":"'PAT Civil Detailed'!$AD97+'PAT Mech Detailed'!$AC98","v":0},{"$f":"'PAT Civil Detailed'!$AN97+'PAT Mech Detailed'!$AL98","v":0},{"$f":"'PAT Civil Detailed'!$AT97+'PAT Mech Detailed'!$AR98","v":0},0,{"$f":"'PAT Civil Detailed'!$AX97+'PAT Mech Detailed'!$AV98","v":0},{"$f":"'PAT Civil Detailed'!$BI97+'PAT Mech Detailed'!$BF98","v":0},{"$f":"'PAT Civil Detailed'!$BP97+'PAT Mech Detailed'!$BO98","v":0},{"$f":"'PAT Civil Detailed'!$CA97+'PAT Mech Detailed'!$BV98","v":0},{"$f":"'PAT Civil Detailed'!$CH97+'PAT Mech Detailed'!$CC98","v":0},{"$f":"'PAT Civil Detailed'!$CL97+'PAT Mech Detailed'!$CG98","v":0},0,{"$f":"'PAT Civil Detailed'!$CO97+'PAT Mech Detailed'!$CI98","v":0},{"$f":"'PAT Civil Detailed'!$CV97+'PAT Mech Detailed'!$CP98","v":0},0,{"$f":"'PAT Civil Detailed'!$CW97+'PAT Mech Detailed'!$CR98","v":0},{"$f":"'PAT Civil Detailed'!$CX97+'PAT Mech Detailed'!$CS98","v":0},{"$f":"'PAT Civil Detailed'!$CY97+'PAT Mech Detailed'!$CT98","v":0},{"$f":"'PAT Civil Detailed'!$CZ97+'PAT Mech Detailed'!$CU98","v":0},{"$f":"'PAT Civil Detailed'!$DA97+'PAT Mech Detailed'!$CV98","v":0},{"$f":"'PAT Civil Detailed'!$DB97+'PAT Mech Detailed'!$CW98","v":0},0,0,0,"",0]
[null,83,84,1,{"$f":"Insert!A86","v":0},{"$f":"Insert!B86","v":0},{"$f":"Insert!C86","v":0},{"$f":"Insert!D86","v":0},{"$f":"Insert!E86","v":0},{"$f":"'PAT Civil Detailed'!$N98+'PAT Mech Detailed'!$N99","v":0},{"$f":"'PAT Civil Detailed'!$T98+'PAT Mech Detailed'!$T99","v":0},{"$f":"'PAT Civil Detailed'!$AD98+'PAT Mech Detailed'!$AC99","v":0},{"$f":"'PAT Civil Detailed'!$AN98+'PAT Mech Detailed'!$AL99","v":0},{"$f":"'PAT Civil Detailed'!$AT98+'PAT Mech Detailed'!$AR99","v":0},0,{"$f":"'PAT Civil Detailed'!$AX98+'PAT Mech Detailed'!$AV99","v":0},{"$f":"'PAT Civil Detailed'!$BI98+'PAT Mech Detailed'!$BF99","v":0},{"$f":"'PAT Civil Detailed'!$BP98+'PAT Mech Detailed'!$BO99","v":0},{"$f":"'PAT Civil Detailed'!$CA98+'PAT Mech Detailed'!$BV99","v":0},{"$f":"'PAT Civil Detailed'!$CH98+'PAT Mech Detailed'!$CC99","v":0},{"$f":"'PAT Civil Detailed'!$CL98+'PAT Mech Detailed'!$CG99","v":0},0,{"$f":"'PAT Civil Detailed'!$CO98+'PAT Mech Detailed'!$CI99","v":0},{"$f":"'PAT Civil Detailed'!$CV98+'PAT Mech Detailed'!$CP99","v":0},0,{"$f":"'PAT Civil Detailed'!$CW98+'PAT Mech Detailed'!$CR99","v":0},{"$f":"'PAT Civil Detailed'!$CX98+'PAT Mech Detailed'!$CS99","v":0},{"$f":"'PAT Civil Detailed'!$CY98+'PAT Mech Detailed'!$CT99","v":0},{"$f":"'PAT Civil Detailed'!$CZ98+'PAT Mech Detailed'!$CU99","v":0},{"$f":"'PAT Civil Detailed'!$DA98+'PAT Mech Detailed'!$CV99","v":0},{"$f":"'PAT Civil Detailed'!$DB98+'PAT Mech Detailed'!$CW99","v":0},0,0,0,"",0]
[null,84,85,1,{"$f":"Insert!A87","v":0},{"$f":"Insert!B87","v":0},{"$f":"Insert!C87","v":0},{"$f":"Insert!D87","v":0},{"$f":"Insert!E87","v":0},{"$f":"'PAT Civil Detailed'!$N99+'PAT Mech Detailed'!$N100","v":0},{"$f":"'PAT Civil Detailed'!$T99+'PAT Mech Detailed'!$T100","v":0},{"$f":"'PAT Civil Detailed'!$AD99+'PAT Mech Detailed'!$AC100","v":0},{"$f":"'PAT Civil Detailed'!$AN99+'PAT Mech Detailed'!$AL100","v":0},{"$f":"'PAT Civil Detailed'!$AT99+'PAT Mech Detailed'!$AR100","v":0},0,{"$f":"'PAT Civil Detailed'!$AX99+'PAT Mech Detailed'!$AV100","v":0},{"$f":"'PAT Civil Detailed'!$BI99+'PAT Mech Detailed'!$BF100","v":0},{"$f":"'PAT Civil Detailed'!$BP99+'PAT Mech Detailed'!$BO100","v":0},{"$f":"'PAT Civil Detailed'!$CA99+'PAT Mech Detailed'!$BV100","v":0},{"$f":"'PAT Civil Detailed'!$CH99+'PAT Mech Detailed'!$CC100","v":0},{"$f":"'PAT Civil Detailed'!$CL99+'PAT Mech Detailed'!$CG100","v":0},0,{"$f":"'PAT Civil Detailed'!$CO99+'PAT Mech Detailed'!$CI100","v":0},{"$f":"'PAT Civil Detailed'!$CV99+'PAT Mech Detailed'!$CP100","v":0},0,{"$f":"'PAT Civil Detailed'!$CW99+'PAT Mech Detailed'!$CR100","v":0},{"$f":"'PAT Civil Detailed'!$CX99+'PAT Mech Detailed'!$CS100","v":0},{"$f":"'PAT Civil Detailed'!$CY99+'PAT Mech Detailed'!$CT100","v":0},{"$f":"'PAT Civil Detailed'!$CZ99+'PAT Mech Detailed'!$CU100","v":0},{"$f":"'PAT Civil Detailed'!$DA99+'PAT Mech Detailed'!$CV100","v":0},{"$f":"'PAT Civil Detailed'!$DB99+'PAT Mech Detailed'!$CW100","v":0},0,0,0,"",0]
[null,85,86,1,{"$f":"Insert!A88","v":0},{"$f":"Insert!B88","v":0},{"$f":"Insert!C88","v":0},{"$f":"Insert!D88","v":0},{"$f":"Insert!E88","v":0},{"$f":"'PAT Civil Detailed'!$N100+'PAT Mech Detailed'!$N101","v":0},{"$f":"'PAT Civil Detailed'!$T100+'PAT Mech Detailed'!$T101","v":0},{"$f":"'PAT Civil Detailed'!$AD100+'PAT Mech Detailed'!$AC101","v":0},{"$f":"'PAT Civil Detailed'!$AN100+'PAT Mech Detailed'!$AL101","v":0},{"$f":"'PAT Civil Detailed'!$AT100+'PAT Mech Detailed'!$AR101","v":0},0,{"$f":"'PAT Civil Detailed'!$AX100+'PAT Mech Detailed'!$AV101","v":0},{"$f":"'PAT Civil Detailed'!$BI100+'PAT Mech Detailed'!$BF101","v":0},{"$f":"'PAT Civil Detailed'!$BP100+'PAT Mech Detailed'!$BO101","v":0},{"$f":"'PAT Civil Detailed'!$CA100+'PAT Mech Detailed'!$BV101","v":0},{"$f":"'PAT Civil Detailed'!$CH100+'PAT Mech Detailed'!$CC101","v":0},{"$f":"'PAT Civil Detailed'!$CL100+'PAT Mech Detailed'!$CG101","v":0},0,{"$f":"'PAT Civil Detailed'!$CO100+'PAT Mech Detailed'!$CI101","v":0},{"$f":"'PAT Civil Detailed'!$CV100+'PAT Mech Detailed'!$CP101","v":0},0,{"$f":"'PAT Civil Detailed'!$CW100+'PAT Mech Detailed'!$CR101","v":0},{"$f":"'PAT Civil Detailed'!$CX100+'PAT Mech Detailed'!$CS101","v":0},{"$f":"'PAT Civil Detailed'!$CY100+'PAT Mech Detailed'!$CT101","v":0},{"$f":"'PAT Civil Detailed'!$CZ100+'PAT Mech Detailed'!$CU101","v":0},{"$f":"'PAT Civil Detailed'!$DA100+'PAT Mech Detailed'!$CV101","v":0},{"$f":"'PAT Civil Detailed'!$DB100+'PAT Mech Detailed'!$CW101","v":0},0,0,0,"",0]
[null,86,87,1,{"$f":"Insert!A89","v":0},{"$f":"Insert!B89","v":0},{"$f":"Insert!C89","v":0},{"$f":"Insert!D89","v":0},{"$f":"Insert!E89","v":0},{"$f":"'PAT Civil Detailed'!$N101+'PAT Mech Detailed'!$N102","v":0},{"$f":"'PAT Civil Detailed'!$T101+'PAT Mech Detailed'!$T102","v":0},{"$f":"'PAT Civil Detailed'!$AD101+'PAT Mech Detailed'!$AC102","v":0},{"$f":"'PAT Civil Detailed'!$AN101+'PAT Mech Detailed'!$AL102","v":0},{"$f":"'PAT Civil Detailed'!$AT101+'PAT Mech Detailed'!$AR102","v":0},0,{"$f":"'PAT Civil Detailed'!$AX101+'PAT Mech Detailed'!$AV102","v":0},{"$f":"'PAT Civil Detailed'!$BI101+'PAT Mech Detailed'!$BF102","v":0},{"$f":"'PAT Civil Detailed'!$BP101+'PAT Mech Detailed'!$BO102","v":0},{"$f":"'PAT Civil Detailed'!$CA101+'PAT Mech Detailed'!$BV102","v":0},{"$f":"'PAT Civil Detailed'!$CH101+'PAT Mech Detailed'!$CC102","v":0},{"$f":"'PAT Civil Detailed'!$CL101+'PAT Mech Detailed'!$CG102","v":0},0,{"$f":"'PAT Civil Detailed'!$CO101+'PAT Mech Detailed'!$CI102","v":0},{"$f":"'PAT Civil Detailed'!$CV101+'PAT Mech Detailed'!$CP102","v":0},0,{"$f":"'PAT Civil Detailed'!$CW101+'PAT Mech Detailed'!$CR102","v":0},{"$f":"'PAT Civil Detailed'!$CX101+'PAT Mech Detailed'!$CS102","v":0},{"$f":"'PAT Civil Detailed'!$CY101+'PAT Mech Detailed'!$CT102","v":0},{"$f":"'PAT Civil Detailed'!$CZ101+'PAT Mech Detailed'!$CU102","v":0},{"$f":"'PAT Civil Detailed'!$DA101+'PAT Mech Detailed'!$CV102","v":0},{"$f":"'PAT Civil Detailed'!$DB101+'PAT Mech Detailed'!$CW102","v":0},0,0,0,"",0]
[null,87,88,1,{"$f":"Insert!A90","v":0},{"$f":"Insert!B90","v":0},{"$f":"Insert!C90","v":0},{"$f":"Insert!D90","v":0},{"$f":"Insert!E90","v":0},{"$f":"'PAT Civil Detailed'!$N102+'PAT Mech Detailed'!$N103","v":0},{"$f":"'PAT Civil Detailed'!$T102+'PAT Mech Detailed'!$T103","v":0},{"$f":"'PAT Civil Detailed'!$AD102+'PAT Mech Detailed'!$AC103","v":0},{"$f":"'PAT Civil Detailed'!$AN102+'PAT Mech Detailed'!$AL103","v":0},{"$f":"'PAT Civil Detailed'!$AT102+'PAT Mech Detailed'!$AR103","v":0},0,{"$f":"'PAT Civil Detailed'!$AX102+'PAT Mech Detailed'!$AV103","v":0},{"$f":"'PAT Civil Detailed'!$BI102+'PAT Mech Detailed'!$BF103","v":0},{"$f":"'PAT Civil Detailed'!$BP102+'PAT Mech Detailed'!$BO103","v":0},{"$f":"'PAT Civil Detailed'!$CA102+'PAT Mech Detailed'!$BV103","v":0},{"$f":"'PAT Civil Detailed'!$CH102+'PAT Mech Detailed'!$CC103","v":0},{"$f":"'PAT Civil Detailed'!$CL102+'PAT Mech Detailed'!$CG103","v":0},0,{"$f":"'PAT Civil Detailed'!$CO102+'PAT Mech Detailed'!$CI103","v":0},{"$f":"'PAT Civil Detailed'!$CV102+'PAT Mech Detailed'!$CP103","v":0},0,{"$f":"'PAT Civil Detailed'!$CW102+'PAT Mech Detailed'!$CR103","v":0},{"$f":"'PAT Civil Detailed'!$CX102+'PAT Mech Detailed'!$CS103","v":0},{"$f":"'PAT Civil Detailed'!$CY102+'PAT Mech Detailed'!$CT103","v":0},{"$f":"'PAT Civil Detailed'!$CZ102+'PAT Mech Detailed'!$CU103","v":0},{"$f":"'PAT Civil Detailed'!$DA102+'PAT Mech Detailed'!$CV103","v":0},{"$f":"'PAT Civil Detailed'!$DB102+'PAT Mech Detailed'!$CW103","v":0},0,0,0,"",0]
[null,88,89,1,{"$f":"Insert!A91","v":0},{"$f":"Insert!B91","v":0},{"$f":"Insert!C91","v":0},{"$f":"Insert!D91","v":0},{"$f":"Insert!E91","v":0},{"$f":"'PAT Civil Detailed'!$N103+'PAT Mech Detailed'!$N104","v":0},{"$f":"'PAT Civil Detailed'!$T103+'PAT Mech Detailed'!$T104","v":0},{"$f":"'PAT Civil Detailed'!$AD103+'PAT Mech Detailed'!$AC104","v":0},{"$f":"'PAT Civil Detailed'!$AN103+'PAT Mech Detailed'!$AL104","v":0},{"$f":"'PAT Civil Detailed'!$AT103+'PAT Mech Detailed'!$AR104","v":0},0,{"$f":"'PAT Civil Detailed'!$AX103+'PAT Mech Detailed'!$AV104","v":0},{"$f":"'PAT Civil Detailed'!$BI103+'PAT Mech Detailed'!$BF104","v":0},{"$f":"'PAT Civil Detailed'!$BP103+'PAT Mech Detailed'!$BO104","v":0},{"$f":"'PAT Civil Detailed'!$CA103+'PAT Mech Detailed'!$BV104","v":0},{"$f":"'PAT Civil Detailed'!$CH103+'PAT Mech Detailed'!$CC104","v":0},{"$f":"'PAT Civil Detailed'!$CL103+'PAT Mech Detailed'!$CG104","v":0},0,{"$f":"'PAT Civil Detailed'!$CO103+'PAT Mech Detailed'!$CI104","v":0},{"$f":"'PAT Civil Detailed'!$CV103+'PAT Mech Detailed'!$CP104","v":0},0,{"$f":"'PAT Civil Detailed'!$CW103+'PAT Mech Detailed'!$CR104","v":0},{"$f":"'PAT Civil Detailed'!$CX103+'PAT Mech Detailed'!$CS104","v":0},{"$f":"'PAT Civil Detailed'!$CY103+'PAT Mech Detailed'!$CT104","v":0},{"$f":"'PAT Civil Detailed'!$CZ103+'PAT Mech Detailed'!$CU104","v":0},{"$f":"'PAT Civil Detailed'!$DA103+'PAT Mech Detailed'!$CV104","v":0},{"$f":"'PAT Civil Detailed'!$DB103+'PAT Mech Detailed'!$CW104","v":0},0,0,0,"",0]
[null,89,90,1,{"$f":"Insert!A92","v":0},{"$f":"Insert!B92","v":0},{"$f":"Insert!C92","v":0},{"$f":"Insert!D92","v":0},{"$f":"Insert!E92","v":0},{"$f":"'PAT Civil Detailed'!$N104+'PAT Mech Detailed'!$N105","v":0},{"$f":"'PAT Civil Detailed'!$T104+'PAT Mech Detailed'!$T105","v":0},{"$f":"'PAT Civil Detailed'!$AD104+'PAT Mech Detailed'!$AC105","v":0},{"$f":"'PAT Civil Detailed'!$AN104+'PAT Mech Detailed'!$AL105","v":0},{"$f":"'PAT Civil Detailed'!$AT104+'PAT Mech Detailed'!$AR105","v":0},0,{"$f":"'PAT Civil Detailed'!$AX104+'PAT Mech Detailed'!$AV105","v":0},{"$f":"'PAT Civil Detailed'!$BI104+'PAT Mech Detailed'!$BF105","v":0},{"$f":"'PAT Civil Detailed'!$BP104+'PAT Mech Detailed'!$BO105","v":0},{"$f":"'PAT Civil Detailed'!$CA104+'PAT Mech Detailed'!$BV105","v":0},{"$f":"'PAT Civil Detailed'!$CH104+'PAT Mech Detailed'!$CC105","v":0},{"$f":"'PAT Civil Detailed'!$CL104+'PAT Mech Detailed'!$CG105","v":0},0,{"$f":"'PAT Civil Detailed'!$CO104+'PAT Mech Detailed'!$CI105","v":0},{"$f":"'PAT Civil Detailed'!$CV104+'PAT Mech Detailed'!$CP105","v":0},0,{"$f":"'PAT Civil Detailed'!$CW104+'PAT Mech Detailed'!$CR105","v":0},{"$f":"'PAT Civil Detailed'!$CX104+'PAT Mech Detailed'!$CS105","v":0},{"$f":"'PAT Civil Detailed'!$CY104+'PAT Mech Detailed'!$CT105","v":0},{"$f":"'PAT Civil Detailed'!$CZ104+'PAT Mech Detailed'!$CU105","v":0},{"$f":"'PAT Civil Detailed'!$DA104+'PAT Mech Detailed'!$CV105","v":0},{"$f":"'PAT Civil Detailed'!$DB104+'PAT Mech Detailed'!$CW105","v":0},0,0,0,"",0]
[null,90,91,1,{"$f":"Insert!A93","v":0},{"$f":"Insert!B93","v":0},{"$f":"Insert!C93","v":0},{"$f":"Insert!D93","v":0},{"$f":"Insert!E93","v":0},{"$f":"'PAT Civil Detailed'!$N105+'PAT Mech Detailed'!$N106","v":0},{"$f":"'PAT Civil Detailed'!$T105+'PAT Mech Detailed'!$T106","v":0},{"$f":"'PAT Civil Detailed'!$AD105+'PAT Mech Detailed'!$AC106","v":0},{"$f":"'PAT Civil Detailed'!$AN105+'PAT Mech Detailed'!$AL106","v":0},{"$f":"'PAT Civil Detailed'!$AT105+'PAT Mech Detailed'!$AR106","v":0},0,{"$f":"'PAT Civil Detailed'!$AX105+'PAT Mech Detailed'!$AV106","v":0},{"$f":"'PAT Civil Detailed'!$BI105+'PAT Mech Detailed'!$BF106","v":0},{"$f":"'PAT Civil Detailed'!$BP105+'PAT Mech Detailed'!$BO106","v":0},{"$f":"'PAT Civil Detailed'!$CA105+'PAT Mech Detailed'!$BV106","v":0},{"$f":"'PAT Civil Detailed'!$CH105+'PAT Mech Detailed'!$CC106","v":0},{"$f":"'PAT Civil Detailed'!$CL105+'PAT Mech Detailed'!$CG106","v":0},0,{"$f":"'PAT Civil Detailed'!$CO105+'PAT Mech Detailed'!$CI106","v":0},{"$f":"'PAT Civil Detailed'!$CV105+'PAT Mech Detailed'!$CP106","v":0},0,{"$f":"'PAT Civil Detailed'!$CW105+'PAT Mech Detailed'!$CR106","v":0},{"$f":"'PAT Civil Detailed'!$CX105+'PAT Mech Detailed'!$CS106","v":0},{"$f":"'PAT Civil Detailed'!$CY105+'PAT Mech Detailed'!$CT106","v":0},{"$f":"'PAT Civil Detailed'!$CZ105+'PAT Mech Detailed'!$CU106","v":0},{"$f":"'PAT Civil Detailed'!$DA105+'PAT Mech Detailed'!$CV106","v":0},{"$f":"'PAT Civil Detailed'!$DB105+'PAT Mech Detailed'!$CW106","v":0},0,0,0,"",0]
[null,91,92,1,{"$f":"Insert!A94","v":0},{"$f":"Insert!B94","v":0},{"$f":"Insert!C94","v":0},{"$f":"Insert!D94","v":0},{"$f":"Insert!E94","v":0},{"$f":"'PAT Civil Detailed'!$N106+'PAT Mech Detailed'!$N107","v":0},{"$f":"'PAT Civil Detailed'!$T106+'PAT Mech Detailed'!$T107","v":0},{"$f":"'PAT Civil Detailed'!$AD106+'PAT Mech Detailed'!$AC107","v":0},{"$f":"'PAT Civil Detailed'!$AN106+'PAT Mech Detailed'!$AL107","v":0},{"$f":"'PAT Civil Detailed'!$AT106+'PAT Mech Detailed'!$AR107","v":0},0,{"$f":"'PAT Civil Detailed'!$AX106+'PAT Mech Detailed'!$AV107","v":0},{"$f":"'PAT Civil Detailed'!$BI106+'PAT Mech Detailed'!$BF107","v":0},{"$f":"'PAT Civil Detailed'!$BP106+'PAT Mech Detailed'!$BO107","v":0},{"$f":"'PAT Civil Detailed'!$CA106+'PAT Mech Detailed'!$BV107","v":0},{"$f":"'PAT Civil Detailed'!$CH106+'PAT Mech Detailed'!$CC107","v":0},{"$f":"'PAT Civil Detailed'!$CL106+'PAT Mech Detailed'!$CG107","v":0},0,{"$f":"'PAT Civil Detailed'!$CO106+'PAT Mech Detailed'!$CI107","v":0},{"$f":"'PAT Civil Detailed'!$CV106+'PAT Mech Detailed'!$CP107","v":0},0,{"$f":"'PAT Civil Detailed'!$CW106+'PAT Mech Detailed'!$CR107","v":0},{"$f":"'PAT Civil Detailed'!$CX106+'PAT Mech Detailed'!$CS107","v":0},{"$f":"'PAT Civil Detailed'!$CY106+'PAT Mech Detailed'!$CT107","v":0},{"$f":"'PAT Civil Detailed'!$CZ106+'PAT Mech Detailed'!$CU107","v":0},{"$f":"'PAT Civil Detailed'!$DA106+'PAT Mech Detailed'!$CV107","v":0},{"$f":"'PAT Civil Detailed'!$DB106+'PAT Mech Detailed'!$CW107","v":0},0,0,0,"",0]
[null,92,93,1,{"$f":"Insert!A95","v":0},{"$f":"Insert!B95","v":0},{"$f":"Insert!C95","v":0},{"$f":"Insert!D95","v":0},{"$f":"Insert!E95","v":0},{"$f":"'PAT Civil Detailed'!$N107+'PAT Mech Detailed'!$N108","v":0},{"$f":"'PAT Civil Detailed'!$T107+'PAT Mech Detailed'!$T108","v":0},{"$f":"'PAT Civil Detailed'!$AD107+'PAT Mech Detailed'!$AC108","v":0},{"$f":"'PAT Civil Detailed'!$AN107+'PAT Mech Detailed'!$AL108","v":0},{"$f":"'PAT Civil Detailed'!$AT107+'PAT Mech Detailed'!$AR108","v":0},0,{"$f":"'PAT Civil Detailed'!$AX107+'PAT Mech Detailed'!$AV108","v":0},{"$f":"'PAT Civil Detailed'!$BI107+'PAT Mech Detailed'!$BF108","v":0},{"$f":"'PAT Civil Detailed'!$BP107+'PAT Mech Detailed'!$BO108","v":0},{"$f":"'PAT Civil Detailed'!$CA107+'PAT Mech Detailed'!$BV108","v":0},{"$f":"'PAT Civil Detailed'!$CH107+'PAT Mech Detailed'!$CC108","v":0},{"$f":"'PAT Civil Detailed'!$CL107+'PAT Mech Detailed'!$CG108","v":0},0,{"$f":"'PAT Civil Detailed'!$CO107+'PAT Mech Detailed'!$CI108","v":0},{"$f":"'PAT Civil Detailed'!$CV107+'PAT Mech Detailed'!$CP108","v":0},0,{"$f":"'PAT Civil Detailed'!$CW107+'PAT Mech Detailed'!$CR108","v":0},{"$f":"'PAT Civil Detailed'!$CX107+'PAT Mech Detailed'!$CS108","v":0},{"$f":"'PAT Civil Detailed'!$CY107+'PAT Mech Detailed'!$CT108","v":0},{"$f":"'PAT Civil Detailed'!$CZ107+'PAT Mech Detailed'!$CU108","v":0},{"$f":"'PAT Civil Detailed'!$DA107+'PAT Mech Detailed'!$CV108","v":0},{"$f":"'PAT Civil Detailed'!$DB107+'PAT Mech Detailed'!$CW108","v":0},0,0,0,"",0]
[null,null,94,1,{"$f":"Insert!A96","v":0},{"$f":"Insert!B96","v":0},{"$f":"Insert!C96","v":0},{"$f":"Insert!D96","v":0},{"$f":"Insert!E96","v":0},{"$f":"'PAT Civil Detailed'!$N108+'PAT Mech Detailed'!$N109","v":0},{"$f":"'PAT Civil Detailed'!$T108+'PAT Mech Detailed'!$T109","v":0},{"$f":"'PAT Civil Detailed'!$AD108+'PAT Mech Detailed'!$AC109","v":0},{"$f":"'PAT Civil Detailed'!$AN108+'PAT Mech Detailed'!$AL109","v":0},{"$f":"'PAT Civil Detailed'!$AT108+'PAT Mech Detailed'!$AR109","v":0},0,{"$f":"'PAT Civil Detailed'!$AX108+'PAT Mech Detailed'!$AV109","v":0},{"$f":"'PAT Civil Detailed'!$BI108+'PAT Mech Detailed'!$BF109","v":0},{"$f":"'PAT Civil Detailed'!$BP108+'PAT Mech Detailed'!$BO109","v":0},{"$f":"'PAT Civil Detailed'!$CA108+'PAT Mech Detailed'!$BV109","v":0},{"$f":"'PAT Civil Detailed'!$CH108+'PAT Mech Detailed'!$CC109","v":0},{"$f":"'PAT Civil Detailed'!$CL108+'PAT Mech Detailed'!$CG109","v":0},0,{"$f":"'PAT Civil Detailed'!$CO108+'PAT Mech Detailed'!$CI109","v":0},{"$f":"'PAT Civil Detailed'!$CV108+'PAT Mech Detailed'!$CP109","v":0},0,{"$f":"'PAT Civil Detailed'!$CW108+'PAT Mech Detailed'!$CR109","v":0},{"$f":"'PAT Civil Detailed'!$CX108+'PAT Mech Detailed'!$CS109","v":0},{"$f":"'PAT Civil Detailed'!$CY108+'PAT Mech Detailed'!$CT109","v":0},{"$f":"'PAT Civil Detailed'!$CZ108+'PAT Mech Detailed'!$CU109","v":0},{"$f":"'PAT Civil Detailed'!$DA108+'PAT Mech Detailed'!$CV109","v":0},{"$f":"'PAT Civil Detailed'!$DB108+'PAT Mech Detailed'!$CW109","v":0},0,0,0,"",0]
[null,null,95,1,{"$f":"Insert!A97","v":0},{"$f":"Insert!B97","v":0},{"$f":"Insert!C97","v":0},{"$f":"Insert!D97","v":0},{"$f":"Insert!E97","v":0},{"$f":"'PAT Civil Detailed'!$N109+'PAT Mech Detailed'!$N110","v":0},{"$f":"'PAT Civil Detailed'!$T109+'PAT Mech Detailed'!$T110","v":0},{"$f":"'PAT Civil Detailed'!$AD109+'PAT Mech Detailed'!$AC110","v":0},{"$f":"'PAT Civil Detailed'!$AN109+'PAT Mech Detailed'!$AL110","v":0},{"$f":"'PAT Civil Detailed'!$AT109+'PAT Mech Detailed'!$AR110","v":0},0,{"$f":"'PAT Civil Detailed'!$AX109+'PAT Mech Detailed'!$AV110","v":0},{"$f":"'PAT Civil Detailed'!$BI109+'PAT Mech Detailed'!$BF110","v":0},{"$f":"'PAT Civil Detailed'!$BP109+'PAT Mech Detailed'!$BO110","v":0},{"$f":"'PAT Civil Detailed'!$CA109+'PAT Mech Detailed'!$BV110","v":0},{"$f":"'PAT Civil Detailed'!$CH109+'PAT Mech Detailed'!$CC110","v":0},{"$f":"'PAT Civil Detailed'!$CL109+'PAT Mech Detailed'!$CG110","v":0},0,{"$f":"'PAT Civil Detailed'!$CO109+'PAT Mech Detailed'!$CI110","v":0},{"$f":"'PAT Civil Detailed'!$CV109+'PAT Mech Detailed'!$CP110","v":0},0,{"$f":"'PAT Civil Detailed'!$CW109+'PAT Mech Detailed'!$CR110","v":0},{"$f":"'PAT Civil Detailed'!$CX109+'PAT Mech Detailed'!$CS110","v":0},{"$f":"'PAT Civil Detailed'!$CY109+'PAT Mech Detailed'!$CT110","v":0},{"$f":"'PAT Civil Detailed'!$CZ109+'PAT Mech Detailed'!$CU110","v":0},{"$f":"'PAT Civil Detailed'!$DA109+'PAT Mech Detailed'!$CV110","v":0},{"$f":"'PAT Civil Detailed'!$DB109+'PAT Mech Detailed'!$CW110","v":0},0,0,0,"",0]
[null,95,96,1,{"$f":"Insert!A98","v":0},{"$f":"Insert!B98","v":0},{"$f":"Insert!C98","v":0},{"$f":"Insert!D98","v":0},{"$f":"Insert!E98","v":0},{"$f":"'PAT Civil Detailed'!$N110+'PAT Mech Detailed'!$N111","v":0},{"$f":"'PAT Civil Detailed'!$T110+'PAT Mech Detailed'!$T111","v":0},{"$f":"'PAT Civil Detailed'!$AD110+'PAT Mech Detailed'!$AC111","v":0},{"$f":"'PAT Civil Detailed'!$AN110+'PAT Mech Detailed'!$AL111","v":0},{"$f":"'PAT Civil Detailed'!$AT110+'PAT Mech Detailed'!$AR111","v":0},0,{"$f":"'PAT Civil Detailed'!$AX110+'PAT Mech Detailed'!$AV111","v":0},{"$f":"'PAT Civil Detailed'!$BI110+'PAT Mech Detailed'!$BF111","v":0},{"$f":"'PAT Civil Detailed'!$BP110+'PAT Mech Detailed'!$BO111","v":0},{"$f":"'PAT Civil Detailed'!$CA110+'PAT Mech Detailed'!$BV111","v":0},{"$f":"'PAT Civil Detailed'!$CH110+'PAT Mech Detailed'!$CC111","v":0},{"$f":"'PAT Civil Detailed'!$CL110+'PAT Mech Detailed'!$CG111","v":0},0,{"$f":"'PAT Civil Detailed'!$CO110+'PAT Mech Detailed'!$CI111","v":0},{"$f":"'PAT Civil Detailed'!$CV110+'PAT Mech Detailed'!$CP111","v":0},0,{"$f":"'PAT Civil Detailed'!$CW110+'PAT Mech Detailed'!$CR111","v":0},{"$f":"'PAT Civil Detailed'!$CX110+'PAT Mech Detailed'!$CS111","v":0},{"$f":"'PAT Civil Detailed'!$CY110+'PAT Mech Detailed'!$CT111","v":0},{"$f":"'PAT Civil Detailed'!$CZ110+'PAT Mech Detailed'!$CU111","v":0},{"$f":"'PAT Civil Detailed'!$DA110+'PAT Mech Detailed'!$CV111","v":0},{"$f":"'PAT Civil Detailed'!$DB110+'PAT Mech Detailed'!$CW111","v":0},0,0,0,"",0]
[null,96,97,1,{"$f":"Insert!A99","v":0},{"$f":"Insert!B99","v":0},{"$f":"Insert!C99","v":0},{"$f":"Insert!D99","v":0},{"$f":"Insert!E99","v":0},{"$f":"'PAT Civil Detailed'!$N111+'PAT Mech Detailed'!$N112","v":0},{"$f":"'PAT Civil Detailed'!$T111+'PAT Mech Detailed'!$T112","v":0},{"$f":"'PAT Civil Detailed'!$AD111+'PAT Mech Detailed'!$AC112","v":0},{"$f":"'PAT Civil Detailed'!$AN111+'PAT Mech Detailed'!$AL112","v":0},{"$f":"'PAT Civil Detailed'!$AT111+'PAT Mech Detailed'!$AR112","v":0},0,{"$f":"'PAT Civil Detailed'!$AX111+'PAT Mech Detailed'!$AV112","v":0},{"$f":"'PAT Civil Detailed'!$BI111+'PAT Mech Detailed'!$BF112","v":0},{"$f":"'PAT Civil Detailed'!$BP111+'PAT Mech Detailed'!$BO112","v":0},{"$f":"'PAT Civil Detailed'!$CA111+'PAT Mech Detailed'!$BV112","v":0},{"$f":"'PAT Civil Detailed'!$CH111+'PAT Mech Detailed'!$CC112","v":0},{"$f":"'PAT Civil Detailed'!$CL111+'PAT Mech Detailed'!$CG112","v":0},0,{"$f":"'PAT Civil Detailed'!$CO111+'PAT Mech Detailed'!$CI112","v":0},{"$f":"'PAT Civil Detailed'!$CV111+'PAT Mech Detailed'!$CP112","v":0},0,{"$f":"'PAT Civil Detailed'!$CW111+'PAT Mech Detailed'!$CR112","v":0},{"$f":"'PAT Civil Detailed'!$CX111+'PAT Mech Detailed'!$CS112","v":0},{"$f":"'PAT Civil Detailed'!$CY111+'PAT Mech Detailed'!$CT112","v":0},{"$f":"'PAT Civil Detailed'!$CZ111+'PAT Mech Detailed'!$CU112","v":0},{"$f":"'PAT Civil Detailed'!$DA111+'PAT Mech Detailed'!$CV112","v":0},{"$f":"'PAT Civil Detailed'!$DB111+'PAT Mech Detailed'!$CW112","v":0},0,0,0,"",0]
[null,"Use of drawing instruments, drawing methods and skills               (See ANNEXURE A on page 25)",98,1,{"$f":"Insert!A100","v":0},{"$f":"Insert!B100","v":0},{"$f":"Insert!C100","v":0},{"$f":"Insert!D100","v":0},{"$f":"Insert!E100","v":0},{"$f":"'PAT Civil Detailed'!$N112+'PAT Mech Detailed'!$N113","v":0},{"$f":"'PAT Civil Detailed'!$T112+'PAT Mech Detailed'!$T113","v":0},{"$f":"'PAT Civil Detailed'!$AD112+'PAT Mech Detailed'!$AC113","v":0},{"$f":"'PAT Civil Detailed'!$AN112+'PAT Mech Detailed'!$AL113","v":0},{"$f":"'PAT Civil Detailed'!$AT112+'PAT Mech Detailed'!$AR113","v":0},{"$f":"ROUND((SUM(J115:N115)/2.777777777),0)","v":0},{"$f":"'PAT Civil Detailed'!$AX112+'PAT Mech Detailed'!$AV113","v":0},{"$f":"'PAT Civil Detailed'!$BI112+'PAT Mech Detailed'!$BF113","v":0},{"$f":"'PAT Civil Detailed'!$BP112+'PAT Mech Detailed'!$BO113","v":0},{"$f":"'PAT Civil Detailed'!$CA112+'PAT Mech Detailed'!$BV113","v":0},{"$f":"'PAT Civil Detailed'!$CH112+'PAT Mech Detailed'!$CC113","v":0},{"$f":"'PAT Civil Detailed'!$CL112+'PAT Mech Detailed'!$CG113","v":0},{"$f":"ROUND((SUMIF(P115:U115,\">0\")/1.2),0)","v":0},{"$f":"'PAT Civil Detailed'!$CO112+'PAT Mech Detailed'!$CI113","v":0},{"$f":"'PAT Civil Detailed'!$CV112+'PAT Mech Detailed'!$CP113","v":0},{"$f":"ROUND((SUM(W115:X115)/2.857142857),0)","v":0},{"$f":"'PAT Civil Detailed'!$CW112+'PAT Mech Detailed'!$CR113","v":0},{"$f":"'PAT Civil Detailed'!$CX112+'PAT Mech Detailed'!$CS113","v":0},{"$f":"'PAT Civil Detailed'!$CY112+'PAT Mech Detailed'!$CT113","v":0},{"$f":"'PAT Civil Detailed'!$CZ112+'PAT Mech Detailed'!$CU113","v":0},{"$f":"'PAT Civil Detailed'!$DA112+'PAT Mech Detailed'!$CV113","v":0},{"$f":"'PAT Civil Detailed'!$DB112+'PAT Mech Detailed'!$CW113","v":0},{"$f":"SUMIF(Z115:AE115,\">0\")","v":0},0,{"$f":"ROUND(SUM(O115+V115+Y115+AG115),0)","v":0},{"$f":"IF(AH115>79,\"7\",IF(AH115>69,\"6\",IF(AH115>59,\"5\",IF(AH115>49,\"4\",IF(AH115>39,\"3\",IF(AH115>29,\"2\",IF(AH115>0,\"1\",IF(AH115=0,\"\"))))))))","v":""},0]
[null,null,99,1,{"$f":"Insert!A101","v":0},{"$f":"Insert!B101","v":0},{"$f":"Insert!C101","v":0},{"$f":"Insert!D101","v":0},{"$f":"Insert!E101","v":0},{"$f":"'PAT Civil Detailed'!$N113+'PAT Mech Detailed'!$N114","v":0},{"$f":"'PAT Civil Detailed'!$T113+'PAT Mech Detailed'!$T114","v":0},{"$f":"'PAT Civil Detailed'!$AD113+'PAT Mech Detailed'!$AC114","v":0},{"$f":"'PAT Civil Detailed'!$AN113+'PAT Mech Detailed'!$AL114","v":0},{"$f":"'PAT Civil Detailed'!$AT113+'PAT Mech Detailed'!$AR114","v":0},0,{"$f":"'PAT Civil Detailed'!$AX113+'PAT Mech Detailed'!$AV114","v":0},{"$f":"'PAT Civil Detailed'!$BI113+'PAT Mech Detailed'!$BF114","v":0},{"$f":"'PAT Civil Detailed'!$BP113+'PAT Mech Detailed'!$BO114","v":0},{"$f":"'PAT Civil Detailed'!$CA113+'PAT Mech Detailed'!$BV114","v":0},{"$f":"'PAT Civil Detailed'!$CH113+'PAT Mech Detailed'!$CC114","v":0},{"$f":"'PAT Civil Detailed'!$CL113+'PAT Mech Detailed'!$CG114","v":0},0,{"$f":"'PAT Civil Detailed'!$CO113+'PAT Mech Detailed'!$CI114","v":0},{"$f":"'PAT Civil Detailed'!$CV113+'PAT Mech Detailed'!$CP114","v":0},0,{"$f":"'PAT Civil Detailed'!$CW113+'PAT Mech Detailed'!$CR114","v":0},{"$f":"'PAT Civil Detailed'!$CX113+'PAT Mech Detailed'!$CS114","v":0},{"$f":"'PAT Civil Detailed'!$CY113+'PAT Mech Detailed'!$CT114","v":0},{"$f":"'PAT Civil Detailed'!$CZ113+'PAT Mech Detailed'!$CU114","v":0},{"$f":"'PAT Civil Detailed'!$DA113+'PAT Mech Detailed'!$CV114","v":0},{"$f":"'PAT Civil Detailed'!$DB113+'PAT Mech Detailed'!$CW114","v":0},0,0,0,"",0]
[null,99,100,1,{"$f":"Insert!A102","v":0},{"$f":"Insert!B102","v":0},{"$f":"Insert!C102","v":0},{"$f":"Insert!D102","v":0},{"$f":"Insert!E102","v":0},{"$f":"'PAT Civil Detailed'!$N114+'PAT Mech Detailed'!$N115","v":0},{"$f":"'PAT Civil Detailed'!$T114+'PAT Mech Detailed'!$T115","v":0},{"$f":"'PAT Civil Detailed'!$AD114+'PAT Mech Detailed'!$AC115","v":0},{"$f":"'PAT Civil Detailed'!$AN114+'PAT Mech Detailed'!$AL115","v":0},{"$f":"'PAT Civil Detailed'!$AT114+'PAT Mech Detailed'!$AR115","v":0},0,{"$f":"'PAT Civil Detailed'!$AX114+'PAT Mech Detailed'!$AV115","v":0},{"$f":"'PAT Civil Detailed'!$BI114+'PAT Mech Detailed'!$BF115","v":0},{"$f":"'PAT Civil Detailed'!$BP114+'PAT Mech Detailed'!$BO115","v":0},{"$f":"'PAT Civil Detailed'!$CA114+'PAT Mech Detailed'!$BV115","v":0},{"$f":"'PAT Civil Detailed'!$CH114+'PAT Mech Detailed'!$CC115","v":0},{"$f":"'PAT Civil Detailed'!$CL114+'PAT Mech Detailed'!$CG115","v":0},0,{"$f":"'PAT Civil Detailed'!$CO114+'PAT Mech Detailed'!$CI115","v":0},{"$f":"'PAT Civil Detailed'!$CV114+'PAT Mech Detailed'!$CP115","v":0},0,{"$f":"'PAT Civil Detailed'!$CW114+'PAT Mech Detailed'!$CR115","v":0},{"$f":"'PAT Civil Detailed'!$CX114+'PAT Mech Detailed'!$CS115","v":0},{"$f":"'PAT Civil Detailed'!$CY114+'PAT Mech Detailed'!$CT115","v":0},{"$f":"'PAT Civil Detailed'!$CZ114+'PAT Mech Detailed'!$CU115","v":0},{"$f":"'PAT Civil Detailed'!$DA114+'PAT Mech Detailed'!$CV115","v":0},{"$f":"'PAT Civil Detailed'!$DB114+'PAT Mech Detailed'!$CW115","v":0},0,0,0,"",0]
[null,100,101,1,{"$f":"Insert!A103","v":0},{"$f":"Insert!B103","v":0},{"$f":"Insert!C103","v":0},null,{"$f":"Insert!E103","v":0},{"$f":"'PAT Civil Detailed'!$N115+'PAT Mech Detailed'!$N116","v":0},{"$f":"'PAT Civil Detailed'!$T115+'PAT Mech Detailed'!$T116","v":0},{"$f":"'PAT Civil Detailed'!$AD115+'PAT Mech Detailed'!$AC116","v":0},{"$f":"'PAT Civil Detailed'!$AN115+'PAT Mech Detailed'!$AL116","v":0},{"$f":"'PAT Civil Detailed'!$AT115+'PAT Mech Detailed'!$AR116","v":0},0,{"$f":"'PAT Civil Detailed'!$AX115+'PAT Mech Detailed'!$AV116","v":0},{"$f":"'PAT Civil Detailed'!$BI115+'PAT Mech Detailed'!$BF116","v":0},{"$f":"'PAT Civil Detailed'!$BP115+'PAT Mech Detailed'!$BO116","v":0},{"$f":"'PAT Civil Detailed'!$CA115+'PAT Mech Detailed'!$BV116","v":0},{"$f":"'PAT Civil Detailed'!$CH115+'PAT Mech Detailed'!$CC116","v":0},{"$f":"'PAT Civil Detailed'!$CL115+'PAT Mech Detailed'!$CG116","v":0},0,{"$f":"'PAT Civil Detailed'!$CO115+'PAT Mech Detailed'!$CI116","v":0},{"$f":"'PAT Civil Detailed'!$CV115+'PAT Mech Detailed'!$CP116","v":0},0,{"$f":"'PAT Civil Detailed'!$CW115+'PAT Mech Detailed'!$CR116","v":0},{"$f":"'PAT Civil Detailed'!$CX115+'PAT Mech Detailed'!$CS116","v":0},{"$f":"'PAT Civil Detailed'!$CY115+'PAT Mech Detailed'!$CT116","v":0},{"$f":"'PAT Civil Detailed'!$CZ115+'PAT Mech Detailed'!$CU116","v":0},{"$f":"'PAT Civil Detailed'!$DA115+'PAT Mech Detailed'!$CV116","v":0},{"$f":"'PAT Civil Detailed'!$DB115+'PAT Mech Detailed'!$CW116","v":0},0,0,0,"",0]
[null,null,null,"Total amount of learners on mark sheet",null,null,null,"Total",null,{"$f":"SUMIF(J18:J118,\">0\")","v":0},{"$f":"SUMIF(K18:K118,\">0\")","v":0},0,0,0,0,0,0,0,0,0,0,{"$f":"SUMIF(V18:V118,\">0\")","v":0},0,0,0,0,0,0,0,0,0,0,0,0]
[null,null,null,null,null,null,null,"Average",null,{"$f":"IFERROR(ROUND(SUM(J119/$D$123),1),\"0\")","v":"0"},{"$f":"IFERROR(ROUND(SUM(K119/$D$123),1),\"0\")","v":"0"},"0","0","0","0","0","0","0","0","0","0",{"$f":"IFERROR(ROUND(SUM(V119/$D$123),1),\"0\")","v":"0"},"0","0","0","0","0","0","0","0","0","0","0","0"]
[null,null,null,null,null,null,null,"x","x","PAT LEVELS"]
[null,null,null,null,null,null,null,"PAT results analysis",null,"LEVEL 1",null,"LEVEL 2",null,"LEVEL 3",null,"LEVEL 4",null,"LEVEL 5",null,"LEVEL 6",null,"LEVEL 7",null,"TOTAL IN CLASS"]
[null,null,null,{"$f":"Insert!$F$103","v":0},null,null,null,"x","x"," 0 - 29 ",null," 30 - 39 ",null," 40 - 49 ",null," 50 - 59 ",null," 60 - 69 ",null," 70 - 79 ",null,"80 - 100"]
[null,null,null,0,null,0,0,0,0,{"$f":"COUNTIF(AI18:AI118,1)","v":0},null,{"$f":"COUNTIF(AI18:AI118,2)","v":0},null,{"$f":"COUNTIF(AI18:AI118,2)","v":0},null,{"$f":"COUNTIF(AI18:AI118,4)","v":0},null,{"$f":"COUNTIF(AI18:AI118,5)","v":0},null,{"$f":"COUNTIF(AI18:AI118,6)","v":0},null,{"$f":"COUNTIF(AI18:AI118,7)","v":0},null,{"$f":"SUM(J124:W124)","v":0}]

{"sheet":"FIN SBA MARK SHEET","index":14,"n_rows":135,"n_cols":46,"rows_kept":135,"cut":false,"hidden":false,"merged":[[122,6,122,7],[122,18,122,19],[5,6,5,7],[122,23,122,24],[122,21,122,22],[122,13,122,14],[122,16,122,17],[122,9,122,10],[122,11,122,12],[119,6,119,7],[120,6,120,7],[12,6,12,7],[5,9,15,9],[5,12,15,12],[5,11,15,11],[5,24,15,24],[5,13,15,13],[5,17,15,17],[5,16,15,16],[5,14,15,14],[2,8,15,8],[119,37,119,38],[5,30,15,30],[5,31,15,31],[5,39,15,39],[4,41,4,43],[4,39,4,40],[5,41,15,41],[4,9,4,14],[5,19,15,19],[5,18,15,18],[5,23,15,23],[5,10,15,10],[5,42,15,42],[5,37,15,37],[5,29,15,29],[5,33,15,33],[5,40,15,40],[4,16,4,19],[4,31,4,35],[4,21,4,26],[133,16,133,17],[134,16,134,17],[124,18,124,19],[124,21,124,22],[124,23,124,24],[124,9,124,10],[127,23,127,24],[124,11,124,12],[124,13,124,14],[124,16,124,17],[127,9,127,10],[127,11,127,12],[127,13,127,14],[127,16,127,17],[127,18,127,19],[127,21,127,22],[128,16,128,17],[128,18,128,19],[129,11,129,12],[129,13,129,14],[128,21,128,22],[132,21,132,22],[133,21,133,22],[134,21,134,22],[1,2,1,45],[119,2,122,5],[2,45,15,45],[119,39,119,40],[119,44,119,45],[123,21,123,22],[123,23,123,24],[5,35,15,35],[5,25,15,25],[5,38,15,38],[4,29,4,30],[123,11,123,12],[123,13,123,14],[123,16,123,17],[123,9,123,10],[123,18,123,19],[2,44,15,44],[121,9,121,24],[5,43,15,43],[4,37,4,38],[5,21,15,21],[2,9,3,43],[4,28,15,28],[4,27,15,27],[129,23,129,24],[132,16,132,17],[126,9,126,24],[134,11,134,12],[132,13,132,14],[133,13,133,14],[134,13,134,14],[132,23,132,24],[133,23,133,24],[134,23,134,24],[132,9,132,10],[133,9,133,10],[134,9,134,10],[128,23,128,24],[129,9,129,10],[131,9,131,24],[132,18,132,19],[133,18,133,19],[134,18,134,19],[132,11,132,12],[133,11,133,12],[129,16,129,17],[129,18,129,19],[129,21,129,22],[128,9,128,10],[128,11,128,12],[128,13,128,14],[5,32,15,32],[5,34,15,34],[5,15,15,15],[5,20,15,20],[5,26,15,26],[5,22,15,22],[119,27,120,28]]}
[]
[null,null,"ENGINEERING GRAPHICS AND DESIGN"]
[null,null,null,null,null,null,null,null,null,"PROGRAM OF ASSESSMENT  :  FINAL MARK SHEET",null,null,null,null,null,null,null,null,null,null,null,null,null,null,null,null,null,null,null,null,null,null,null,null,null,null,null,null,null,null,null,null,null,null,"FINAL PROMOTION MARK","FINAL PROMOTION LEVELS"]
[]
[null,null,null,null,null,null,null,null,null,"TERM 1",null,null,null,null,null,null,"TERM 2",null,null,null,null,"TERM 3",null,null,null,null,null,null,"CD Term Weighting for Year","Term Test",null,"Term Exam",null,null,null,null,null,"SBA",null,"PAT",null,"NOV EXAM"]
[null,null,null,null,null,{"$f":"TERM1!B5","v":"School:"},{"$f":"Insert!J3","v":0},null,null,{"$f":"TERM1!$I$4","v":"CD1 Mechanical Analytical"},{"$f":"TERM1!$AA$4","v":"CD2 Mechanical Drawing"},{"$f":"TERM1!$AS$4","v":"CD3 Civil floor plan with elevations"},{"$f":"TERM1!$BK$4","v":"CD4 Civil Sectional elevation"},{"$f":"TERM1!$CC$4","v":"CD5 Civil Site plan"},{"$f":"TERM1!$CU$4","v":"CD6 2-point perspective"},"CD Term Weighting",{"$f":"TERM2!$I$4","v":"CD7 Isometric"},{"$f":"TERM2!$AA$4","v":"CD8 Solid Geometry"},{"$f":"TERM2!$AS$4","v":"CD9  Interpenetration & Development (Two Prisms)"},{"$f":"TERM2!$BK$4","v":"CD10 2nd Mechanical Assembly"},"CD Term Weighting",{"$f":"TERM3!$I$4","v":"CD11 2nd Interpenetration & Development (Including a cilinder(s)"},{"$f":"TERM3!$AA$4","v":"CD12 Loci: Cam"},{"$f":"TERM3!$AS$4","v":"CD13 Loci: 1st Mechanism"},{"$f":"TERM3!$BK$4","v":"CD14 Loci: 2nd Mechanism"},{"$f":"TERM3!$CC$4","v":"CD15 3rd Mechanical Drawings"},"CD Term Weighting",null,null,"Test","Term test Weighting","June Exam","June Weighting","Sept Exam","Sept Weighting","Term Exam Weighting",null,"SBA Final Mark","SBA Levels","PAT Final Mark","PAT Levels","Nov Exam Paper 1","Nov Exam Paper 2","FINAL MARK"]
[null,null,null,null,null,{"$f":"TERM1!B6","v":"Grade:"},{"$f":"Insert!J4","v":0}]
[null,null,null,null,null,{"$f":"TERM1!E7","v":"Teacher:"},{"$f":"Insert!J5","v":0}]
[null,null,null,null,null,{"$f":"TERM1!E8","v":"HOD:"},{"$f":"Insert!J6","v":0}]
[null,null,null,null,null,"EGD SES:",{"$f":"Insert!J7","v":0},{"$f":"Insert!K7","v":0}]
[]
[]
[]
[]
[]
[]
[null,null,null,null,"Class","Admission","SURNAME","NAME",null,10,10,10,10,10,10,{"$f":"ROUND((SUM(J17:O17)/5),0)","v":12},10,10,10,10,8,10,10,10,10,10,10,null,{"$f":"SUM(P17+U17+AA17)","v":30},50,{"$f":"ROUND(SUM(AD17/3.3333333333333),0)","v":15},180,{"$f":"ROUND(SUM(AF17/7.2),0)","v":25},200,{"$f":"SUM(AH17/4.4444444444)","v":45.000000000450001},{"$f":"SUM(AG17+AI17)","v":70.000000000450001},null,100," / 7",100," / 7",100,100,400,100," / 7"]
[]
[null,1,1,1,{"$f":"Insert!A3","v":0},{"$f":"Insert!B3","v":0},{"$f":"Insert!C3","v":0},{"$f":"Insert!D3","v":0},{"$f":"Insert!E3","v":0},{"$f":"TERM1!Z16","v":"0"},{"$f":"TERM1!AR16","v":"0"},{"$f":"TERM1!BJ16","v":"0"},{"$f":"TERM1!CB16","v":"0"},{"$f":"TERM1!CT16","v":0},{"$f":"TERM1!DL16","v":"0"},{"$f":"ROUND((SUM(J19:O19)/5),0)","v":0},{"$f":"TERM2!Z16","v":"0"},{"$f":"TERM2!AR16","v":"0"},{"$f":"TERM2!BJ16","v":"0"},{"$f":"TERM2!CB16","v":"0"},{"$f":"ROUND(SUM(Q19:T19/5),0)","v":0},{"$f":"TERM3!Z16","v":"0"},{"$f":"TERM3!AR16","v":"0"},{"$f":"TERM3!BJ16","v":"0"},{"$f":"TERM3!CB16","v":"0"},{"$f":"TERM3!CT16","v":"0"},{"$f":"ROUND(SUM(V19:Z19/5),0)","v":0},{"$f":"ROUND((SUMIF(J19:Z19,\">0\")),0)","v":0},{"$f":"SUM(P19+U19+AA19)","v":0},{"$f":"TERM1!DO16","v":0},{"$f":"ROUND(SUM(AD19/3.3333333333333),0)","v":0},{"$f":"TERM2!CE16","v":0},{"$f":"ROUND(SUM(AF19/7.2),0)","v":0},{"$f":"TERM3!CW16","v":0},{"$f":"SUM(AH19/4.4444444444)","v":0},{"$f":"SUM(AG19+AI19)","v":0},null,{"$f":"SUM(P19+U19+AA19+AG19+AI19)","v":0},{"$f":"IF(AL19>79,\"7\",IF(AL19>69,\"6\",IF(AL19>59,\"5\",IF(AL19>49,\"4\",IF(AL19>39,\"3\",IF(AL19>29,\"2\",IF(AL19>0,\"1\",IF(AL19=0,\"\"))))))))","v":""},{"$f":"'FIN PAT MARK SHEET'!AH18","v":0},{"$f":"IF(AN19>79,\"7\",IF(AN19>69,\"6\",IF(AN19>59,\"5\",IF(AN19>49,\"4\",IF(AN19>39,\"3\",IF(AN19>29,\"2\",IF(AN19>0,\"1\",IF(AN19=0,\"\"))))))))","v":""},null,null,{"$f":"SUM(AL19+AN19+AP19+AQ19)","v":0},{"$f":"ROUND(SUM(AR19/4),0)","v":0},{"$f":"IF(AS19>79,\"7\",IF(AS19>69,\"6\",IF(AS19>59,\"5\",IF(AS19>49,\"4\",IF(AS19>39,\"3\",IF(AS19>29,\"2\",IF(AS19>0,\"1\",IF(AS19=0,\"\"))))))))","v":""}]
[null,2,2,2,{"$f":"Insert!A4","v":0},{"$f":"Insert!B4","v":0},{"$f":"Insert!C4","v":0},{"$f":"Insert!D4","v":0},{"$f":"Insert!E4","v":0},{"$f":"TERM1!Z17","v":"0"},{"$f":"TERM1!AR17","v":"0"},{"$f":"TERM1!BJ17","v":"0"},{"$f":"TERM1!CB17","v":"0"},{"$f":"TERM1!CT17","v":0},{"$f":"TERM1!DL17","v":"0"},0,{"$f":"TERM2!Z17","v":"0"},{"$f":"TERM2!AR17","v":"0"},{"$f":"TERM2!BJ17","v":"0"},{"$f":"TERM2!CB17","v":"0"},{"$f":"ROUND(SUM(Q20:T20/5),0)","v":0},{"$f":"TERM3!Z17","v":"0"},{"$f":"TERM3!AR17","v":"0"},{"$f":"TERM3!BJ17","v":"0"},{"$f":"TERM3!CB17","v":"0"},{"$f":"TERM3!CT17","v":"0"},{"$f":"ROUND(SUM(V20:Z20/5),0)","v":0},0,{"$f":"SUM(P20+U20+AA20)","v":0},{"$f":"TERM1!DO17","v":0},0,{"$f":"TERM2!CE17","v":0},0,{"$f":"TERM3!CW17","v":0},0,0,null,{"$f":"SUM(AC20+AJ20)","v":0},"",{"$f":"'FIN PAT MARK SHEET'!AH19","v":0},"",null,null,0,0,""]
[null,3,3,3,{"$f":"Insert!A5","v":0},{"$f":"Insert!B5","v":0},{"$f":"Insert!C5","v":0},{"$f":"Insert!D5","v":0},{"$f":"Insert!E5","v":0},{"$f":"TERM1!Z18","v":"0"},{"$f":"TERM1!AR18","v":"0"},{"$f":"TERM1!BJ18","v":"0"},{"$f":"TERM1!CB18","v":"0"},{"$f":"TERM1!CT18","v":0},{"$f":"TERM1!DL18","v":"0"},0,{"$f":"TERM2!Z18","v":"0"},{"$f":"TERM2!AR18","v":"0"},{"$f":"TERM2!BJ18","v":"0"},{"$f":"TERM2!CB18","v":"0"},{"$f":"ROUND(SUM(Q21:T21/5),0)","v":0},{"$f":"TERM3!Z18","v":"0"},{"$f":"TERM3!AR18","v":"0"},{"$f":"TERM3!BJ18","v":"0"},{"$f":"TERM3!CB18","v":"0"},{"$f":"TERM3!CT18","v":"0"},{"$f":"ROUND(SUM(V21:Z21/5),0)","v":0},0,0,{"$f":"TERM1!DO18","v":0},0,{"$f":"TERM2!CE18","v":0},0,{"$f":"TERM3!CW18","v":0},0,0,null,0,"",{"$f":"'FIN PAT MARK SHEET'!AH20","v":0},"",null,null,0,0,""]
[null,4,4,4,{"$f":"Insert!A6","v":0},{"$f":"Insert!B6","v":0},{"$f":"Insert!C6","v":0},{"$f":"Insert!D6","v":0},{"$f":"Insert!E6","v":0},{"$f":"TERM1!Z19","v":"0"},{"$f":"TERM1!AR19","v":"0"},{"$f":"TERM1!BJ19","v":"0"},{"$f":"TERM1!CB19","v":"0"},{"$f":"TERM1!CT19","v":0},{"$f":"TERM1!DL19","v":"0"},0,{"$f":"TERM2!Z19","v":"0"},{"$f":"TERM2!AR19","v":"0"},{"$f":"TERM2!BJ19","v":"0"},{"$f":"TERM2!CB19","v":"0"},{"$f":"ROUND(SUM(Q22:T22/5),0)","v":0},{"$f":"TERM3!Z19","v":"0"},{"$f":"TERM3!AR19","v":"0"},{"$f":"TERM3!BJ19","v":"0"},{"$f":"TERM3!CB19","v":"0"},{"$f":"TERM3!CT19","v":"0"},{"$f":"ROUND(SUM(V22:Z22/5),0)","v":0},0,0,{"$f":"TERM1!DO19","v":0},0,{"$f":"TERM2!CE19","v":0},0,{"$f":"TERM3!CW19","v":0},0,0,null,0,"",{"$f":"'FIN PAT MARK SHEET'!AH21","v":0},"",null,null,0,0,""]
[null,5,5,5,{"$f":"Insert!A7","v":0},{"$f":"Insert!B7","v":0},{"$f":"Insert!C7","v":0},{"$f":"Insert!D7","v":0},{"$f":"Insert!E7","v":0},{"$f":"TERM1!Z20","v":"0"},{"$f":"TERM1!AR20","v":"0"},{"$f":"TERM1!BJ20","v":"0"},{"$f":"TERM1!CB20","v":"0"},{"$f":"TERM1!CT20","v":0},{"$f":"TERM1!DL20","v":"0"},0,{"$f":"TERM2!Z20","v":"0"},{"$f":"TERM2!AR20","v":"0"},{"$f":"TERM2!BJ20","v":"0"},{"$f":"TERM2!CB20","v":"0"},{"$f":"ROUND(SUM(Q23:T23/5),0)","v":0},{"$f":"TERM3!Z20","v":"0"},{"$f":"TERM3!AR20","v":"0"},{"$f":"TERM3!BJ20","v":"0"},{"$f":"TERM3!CB20","v":"0"},{"$f":"TERM3!CT20","v":"0"},{"$f":"ROUND(SUM(V23:Z23/5),0)","v":0},0,0,{"$f":"TERM1!DO20","v":0},0,{"$f":"TERM2!CE20","v":0},0,{"$f":"TERM3!CW20","v":0},0,0,null,0,"",{"$f":"'FIN PAT MARK SHEET'!AH22","v":0},"",null,null,0,0,""]
[null,6,6,6,{"$f":"Insert!A8","v":0},{"$f":"Insert!B8","v":0},{"$f":"Insert!C8","v":0},{"$f":"Insert!D8","v":0},{"$f":"Insert!E8","v":0},{"$f":"TERM1!Z21","v":"0"},{"$f":"TERM1!AR21","v":"0"},{"$f":"TERM1!BJ21","v":"0"},{"$f":"TERM1!CB21","v":"0"},{"$f":"TERM1!CT21","v":0},{"$f":"TERM1!DL21","v":"0"},0,{"$f":"TERM2!Z21","v":"0"},{"$f":"TERM2!AR21","v":"0"},{"$f":"TERM2!BJ21","v":"0"},{"$f":"TERM2!CB21","v":"0"},{"$f":"ROUND(SUM(Q24:T24/5),0)","v":0},{"$f":"TERM3!Z21","v":"0"},{"$f":"TERM3!AR21","v":"0"},{"$f":"TERM3!BJ21","v":"0"},{"$f":"TERM3!CB21","v":"0"},{"$f":"TERM3!CT21","v":"0"},{"$f":"ROUND(SUM(V24:Z24/5),0)","v":0},0,0,{"$f":"TERM1!DO21","v":0},0,{"$f":"TERM2!CE21","v":0},0,{"$f":"TERM3!CW21","v":0},0,0,null,0,"",{"$f":"'FIN PAT MARK SHEET'!AH23","v":0},"",null,null,0,0,""]
[null,7,7,7,{"$f":"Insert!A9","v":0},{"$f":"Insert!B9","v":0},{"$f":"Insert!C9","v":0},{"$f":"Insert!D9","v":0},{"$f":"Insert!E9","v":0},{"$f":"TERM1!Z22","v":"0"},{"$f":"TERM1!AR22","v":"0"},{"$f":"TERM1!BJ22","v":"0"},{"$f":"TERM1!CB22","v":"0"},{"$f":"TERM1!CT22","v":0},{"$f":"TERM1!DL22","v":"0"},0,{"$f":"TERM2!Z22","v":"0"},{"$f":"TERM2!AR22","v":"0"},{"$f":"TERM2!BJ22","v":"0"},{"$f":"TERM2!CB22","v":"0"},{"$f":"ROUND(SUM(Q25:T25/5),0)","v":0},{"$f":"TERM3!Z22","v":"0"},{"$f":"TERM3!AR22","v":"0"},{"$f":"TERM3!BJ22","v":"0"},{"$f":"TERM3!CB22","v":"0"},{"$f":"TERM3!CT22","v":"0"},{"$f":"ROUND(SUM(V25:Z25/5),0)","v":0},0,0,{"$f":"TERM1!DO22","v":0},0,{"$f":"TERM2!CE22","v":0},0,{"$f":"TERM3!CW22","v":0},0,0,null,0,"",{"$f":"'FIN PAT MARK SHEET'!AH24","v":0},"",null,null,0,0,""]
[null,8,8,8,{"$f":"Insert!A10","v":0},{"$f":"Insert!B10","v":0},{"$f":"Insert!C10","v":0},{"$f":"Insert!D10","v":0},{"$f":"Insert!E10","v":0},{"$f":"TERM1!Z23","v":"0"},{"$f":"TERM1!AR23","v":"0"},{"$f":"TERM1!BJ23","v":"0"},{"$f":"TERM1!CB23","v":"0"},{"$f":"TERM1!CT23","v":0},{"$f":"TERM1!DL23","v":"0"},0,{"$f":"TERM2!Z23","v":"0"},{"$f":"TERM2!AR23","v":"0"},{"$f":"TERM2!BJ23","v":"0"},{"$f":"TERM2!CB23","v":"0"},{"$f":"ROUND(SUM(Q26:T26/5),0)","v":0},{"$f":"TERM3!Z23","v":"0"},{"$f":"TERM3!AR23","v":"0"},{"$f":"TERM3!BJ23","v":"0"},{"$f":"TERM3!CB23","v":"0"},{"$f":"TERM3!CT23","v":"0"},{"$f":"ROUND(SUM(V26:Z26/5),0)","v":0},0,0,{"$f":"TERM1!DO23","v":0},0,{"$f":"TERM2!CE23","v":0},0,{"$f":"TERM3!CW23","v":0},0,0,null,0,"",{"$f":"'FIN PAT MARK SHEET'!AH25","v":0},"",null,null,0,0,""]
[null,9,9,9,{"$f":"Insert!A11","v":0},{"$f":"Insert!B11","v":0},{"$f":"Insert!C11","v":0},{"$f":"Insert!D11","v":0},{"$f":"Insert!E11","v":0},{"$f":"TERM1!Z24","v":"0"},{"$f":"TERM1!AR24","v":"0"},{"$f":"TERM1!BJ24","v":"0"},{"$f":"TERM1!CB24","v":"0"},{"$f":"TERM1!CT24","v":0},{"$f":"TERM1!DL24","v":"0"},0,{"$f":"TERM2!Z24","v":"0"},{"$f":"TERM2!AR24","v":"0"},{"$f":"TERM2!BJ24","v":"0"},{"$f":"TERM2!CB24","v":"0"},{"$f":"ROUND(SUM(Q27:T27/5),0)","v":0},{"$f":"TERM3!Z24","v":"0"},{"$f":"TERM3!AR24","v":"0"},{"$f":"TERM3!BJ24","v":"0"},{"$f":"TERM3!CB24","v":"0"},{"$f":"TERM3!CT24","v":"0"},{"$f":"ROUND(SUM(V27:Z27/5),0)","v":0},0,0,{"$f":"TERM1!DO24","v":0},0,{"$f":"TERM2!CE24","v":0},0,{"$f":"TERM3!CW24","v":0},0,0,null,0,"",{"$f":"'FIN PAT MARK SHEET'!AH26","v":0},"",null,null,0,0,""]
[null,10,10,10,{"$f":"Insert!A12","v":0},{"$f":"Insert!B12","v":0},{"$f":"Insert!C12","v":0},{"$f":"Insert!D12","v":0},{"$f":"Insert!E12","v":0},{"$f":"TERM1!Z25","v":"0"},{"$f":"TERM1!AR25","v":"0"},{"$f":"TERM1!BJ25","v":"0"},{"$f":"TERM1!CB25","v":"0"},{"$f":"TERM1!CT25","v":0},{"$f":"TERM1!DL25","v":"0"},0,{"$f":"TERM2!Z25","v":"0"},{"$f":"TERM2!AR25","v":"0"},{"$f":"TERM2!BJ25","v":"0"},{"$f":"TERM2!CB25","v":"0"},{"$f":"ROUND(SUM(Q28:T28/5),0)","v":0},{"$f":"TERM3!Z25","v":"0"},{"$f":"TERM3!AR25","v":"0"},{"$f":"TERM3!BJ25","v":"0"},{"$f":"TERM3!CB25","v":"0"},{"$f":"TERM3!CT25","v":"0"},{"$f":"ROUND(SUM(V28:Z28/5),0)","v":0},0,0,{"$f":"TERM1!DO25","v":0},0,{"$f":"TERM2!CE25","v":0},0,{"$f":"TERM3!CW25","v":0},0,0,null,0,"",{"$f":"'FIN PAT MARK SHEET'!AH27","v":0},"",null,null,0,0,""]
[null,11,11,11,{"$f":"Insert!A13","v":0},{"$f":"Insert!B13","v":0},{"$f":"Insert!C13","v":0},{"$f":"Insert!D13","v":0},{"$f":"Insert!E13","v":0},{"$f":"TERM1!Z26","v":"0"},{"$f":"TERM1!AR26","v":"0"},{"$f":"TERM1!BJ26","v":"0"},{"$f":"TERM1!CB26","v":"0"},{"$f":"TERM1!CT26","v":0},{"$f":"TERM1!DL26","v":"0"},0,{"$f":"TERM2!Z26","v":"0"},{"$f":"TERM2!AR26","v":"0"},{"$f":"TERM2!BJ26","v":"0"},{"$f":"TERM2!CB26","v":"0"},{"$f":"ROUND(SUM(Q29:T29/5),0)","v":0},{"$f":"TERM3!Z26","v":"0"},{"$f":"TERM3!AR26","v":"0"},{"$f":"TERM3!BJ26","v":"0"},{"$f":"TERM3!CB26","v":"0"},{"$f":"TERM3!CT26","v":"0"},{"$f":"ROUND(SUM(V29:Z29/5),0)","v":0},0,0,{"$f":"TERM1!DO26","v":0},0,{"$f":"TERM2!CE26","v":0},0,{"$f":"TERM3!CW26","v":0},0,0,null,0,"",{"$f":"'FIN PAT MARK SHEET'!AH28","v":0},"",null,null,0,0,""]
[null,12,12,12,{"$f":"Insert!A14","v":0},{"$f":"Insert!B14","v":0},{"$f":"Insert!C14","v":0},{"$f":"Insert!D14","v":0},{"$f":"Insert!E14","v":0},{"$f":"TERM1!Z27","v":"0"},{"$f":"TERM1!AR27","v":"0"},{"$f":"TERM1!BJ27","v":"0"},{"$f":"TERM1!CB27","v":"0"},{"$f":"TERM1!CT27","v":0},{"$f":"TERM1!DL27","v":"0"},0,{"$f":"TERM2!Z27","v":"0"},{"$f":"TERM2!AR27","v":"0"},{"$f":"TERM2!BJ27","v":"0"},{"$f":"TERM2!CB27","v":"0"},{"$f":"ROUND(SUM(Q30:T30/5),0)","v":0},{"$f":"TERM3!Z27","v":"0"},{"$f":"TERM3!AR27","v":"0"},{"$f":"TERM3!BJ27","v":"0"},{"$f":"TERM3!CB27","v":"0"},{"$f":"TERM3!CT27","v":"0"},{"$f":"ROUND(SUM(V30:Z30/5),0)","v":0},0,0,{"$f":"TERM1!DO27","v":0},0,{"$f":"TERM2!CE27","v":0},0,{"$f":"TERM3!CW27","v":0},0,0,null,0,"",{"$f":"'FIN PAT MARK SHEET'!AH29","v":0},"",null,null,0,0,""]
[null,13,13,13,{"$f":"Insert!A15","v":0},{"$f":"Insert!B15","v":0},{"$f":"Insert!C15","v":0},{"$f":"Insert!D15","v":0},{"$f":"Insert!E15","v":0},{"$f":"TERM1!Z28","v":"0"},{"$f":"TERM1!AR28","v":"0"},{"$f":"TERM1!BJ28","v":"0"},{"$f":"TERM1!CB28","v":"0"},{"$f":"TERM1!CT28","v":0},{"$f":"TERM1!DL28","v":"0"},0,{"$f":"TERM2!Z28","v":"0"},{"$f":"TERM2!AR28","v":"0"},{"$f":"TERM2!BJ28","v":"0"},{"$f":"TERM2!CB28","v":"0"},{"$f":"ROUND(SUM(Q31:T31/5),0)","v":0},{"$f":"TERM3!Z28","v":"0"},{"$f":"TERM3!AR28","v":"0"},{"$f":"TERM3!BJ28","v":"0"},{"$f":"TERM3!CB28","v":"0"},{"$f":"TERM3!CT28","v":"0"},{"$f":"ROUND(SUM(V31:Z31/5),0)","v":0},0,0,{"$f":"TERM1!DO28","v":0},0,{"$f":"TERM2!CE28","v":0},0,{"$f":"TERM3!CW28","v":0},0,0,null,0,"",{"$f":"'FIN PAT MARK SHEET'!AH30","v":0},"",null,null,0,0,""]
[null,14,14,14,{"$f":"Insert!A16","v":0},{"$f":"Insert!B16","v":0},{"$f":"Insert!C16","v":0},{"$f":"Insert!D16","v":0},{"$f":"Insert!E16","v":0},{"$f":"TERM1!Z29","v":"0"},{"$f":"TERM1!AR29","v":"0"},{"$f":"TERM1!BJ29","v":"0"},{"$f":"TERM1!CB29","v":"0"},{"$f":"TERM1!CT29","v":0},{"$f":"TERM1!DL29","v":"0"},0,{"$f":"TERM2!Z29","v":"0"},{"$f":"TERM2!AR29","v":"0"},{"$f":"TERM2!BJ29","v":"0"},{"$f":"TERM2!CB29","v":"0"},{"$f":"ROUND(SUM(Q32:T32/5),0)","v":0},{"$f":"TERM3!Z29","v":"0"},{"$f":"TERM3!AR29","v":"0"},{"$f":"TERM3!BJ29","v":"0"},{"$f":"TERM3!CB29","v":"0"},{"$f":"TERM3!CT29","v":"0"},{"$f":"ROUND(SUM(V32:Z32/5),0)","v":0},0,0,{"$f":"TERM1!DO29","v":0},0,{"$f":"TERM2!CE29","v":0},0,{"$f":"TERM3!CW29","v":0},0,0,null,0,"",{"$f":"'FIN PAT MARK SHEET'!AH31","v":0},"",null,null,0,0,""]
[null,15,15,15,{"$f":"Insert!A17","v":0},{"$f":"Insert!B17","v":0},{"$f":"Insert!C17","v":0},{"$f":"Insert!D17","v":0},{"$f":"Insert!E17","v":0},{"$f":"TERM1!Z30","v":"0"},{"$f":"TERM1!AR30","v":"0"},{"$f":"TERM1!BJ30","v":"0"},{"$f":"TERM1!CB30","v":"0"},{"$f":"TERM1!CT30","v":0},{"$f":"TERM1!DL30","v":"0"},0,{"$f":"TERM2!Z30","v":"0"},{"$f":"TERM2!AR30","v":"0"},{"$f":"TERM2!BJ30","v":"0"},{"$f":"TERM2!CB30","v":"0"},{"$f":"ROUND(SUM(Q33:T33/5),0)","v":0},{"$f":"TERM3!Z30","v":"0"},{"$f":"TERM3!AR30","v":"0"},{"$f":"TERM3!BJ30","v":"0"},{"$f":"TERM3!CB30","v":"0"},{"$f":"TERM3!CT30","v":"0"},{"$f":"ROUND(SUM(V33:Z33/5),0)","v":0},0,0,{"$f":"TERM1!DO30","v":0},0,{"$f":"TERM2!CE30","v":0},0,{"$f":"TERM3!CW30","v":0},0,0,null,0,"",{"$f":"'FIN PAT MARK SHEET'!AH32","v":0},"",null,null,0,0,""]
[null,16,16,16,{"$f":"Insert!A18","v":0},{"$f":"Insert!B18","v":0},{"$f":"Insert!C18","v":0},{"$f":"Insert!D18","v":0},{"$f":"Insert!E18","v":0},{"$f":"TERM1!Z31","v":"0"},{"$f":"TERM1!AR31","v":"0"},{"$f":"TERM1!BJ31","v":"0"},{"$f":"TERM1!CB31","v":"0"},{"$f":"TERM1!CT31","v":0},{"$f":"TERM1!DL31","v":"0"},0,{"$f":"TERM2!Z31","v":"0"},{"$f":"TERM2!AR31","v":"0"},{"$f":"TERM2!BJ31","v":"0"},{"$f":"TERM2!CB31","v":"0"},{"$f":"ROUND(SUM(Q34:T34/5),0)","v":0},{"$f":"TERM3!Z31","v":"0"},{"$f":"TERM3!AR31","v":"0"},{"$f":"TERM3!BJ31","v":"0"},{"$f":"TERM3!CB31","v":"0"},{"$f":"TERM3!CT31","v":"0"},{"$f":"ROUND(SUM(V34:Z34/5),0)","v":0},0,0,{"$f":"TERM1!DO31","v":0},0,{"$f":"TERM2!CE31","v":0},0,{"$f":"TERM3!CW31","v":0},0,0,null,0,"",{"$f":"'FIN PAT MARK SHEET'!AH33","v":0},"",null,null,0,0,""]
[null,17,17,17,{"$f":"Insert!A19","v":0},{"$f":"Insert!B19","v":0},{"$f":"Insert!C19","v":0},{"$f":"Insert!D19","v":0},{"$f":"Insert!E19","v":0},{"$f":"TERM1!Z32","v":"0"},{"$f":"TERM1!AR32","v":"0"},{"$f":"TERM1!BJ32","v":"0"},{"$f":"TERM1!CB32","v":"0"},{"$f":"TERM1!CT32","v":0},{"$f":"TERM1!DL32","v":"0"},0,{"$f":"TERM2!Z32","v":"0"},{"$f":"TERM2!AR32","v":"0"},{"$f":"TERM2!BJ32","v":"0"},{"$f":"TERM2!CB32","v":"0"},{"$f":"ROUND(SUM(Q35:T35/5),0)","v":0},{"$f":"TERM3!Z32","v":"0"},{"$f":"TERM3!AR32","v":"0"},{"$f":"TERM3!BJ32","v":"0"},{"$f":"TERM3!CB32","v":"0"},{"$f":"TERM3!CT32","v":"0"},{"$f":"ROUND(SUM(V35:Z35/5),0)","v":0},0,0,{"$f":"TERM1!DO32","v":0},0,{"$f":"TERM2!CE32","v":0},0,{"$f":"TERM3!CW32","v":0},0,0,null,0,"",{"$f":"'FIN PAT MARK SHEET'!AH34","v":0},"",null,null,0,0,""]
[null,18,18,18,{"$f":"Insert!A20","v":0},{"$f":"Insert!B20","v":0},{"$f":"Insert!C20","v":0},{"$f":"Insert!D20","v":0},{"$f":"Insert!E20","v":0},{"$f":"TERM1!Z33","v":"0"},{"$f":"TERM1!AR33","v":"0"},{"$f":"TERM1!BJ33","v":"0"},{"$f":"TERM1!CB33","v":"0"},{"$f":"TERM1!CT33","v":0},{"$f":"TERM1!DL33","v":"0"},0,{"$f":"TERM2!Z33","v":"0"},{"$f":"TERM2!AR33","v":"0"},{"$f":"TERM2!BJ33","v":"0"},{"$f":"TERM2!CB33","v":"0"},{"$f":"ROUND(SUM(Q36:T36/5),0)","v":0},{"$f":"TERM3!Z33","v":"0"},{"$f":"TERM3!AR33","v":"0"},{"$f":"TERM3!BJ33","v":"0"},{"$f":"TERM3!CB33","v":"0"},{"$f":"TERM3!CT33","v":"0"},{"$f":"ROUND(SUM(V36:Z36/5),0)","v":0},0,0,{"$f":"TERM1!DO33","v":0},0,{"$f":"TERM2!CE33","v":0},0,{"$f":"TERM3!CW33","v":0},0,0,null,0,"",{"$f":"'FIN PAT MARK SHEET'!AH35","v":0},"",null,null,0,0,""]
[null,19,19,19,{"$f":"Insert!A21","v":0},{"$f":"Insert!B21","v":0},{"$f":"Insert!C21","v":0},{"$f":"Insert!D21","v":0},{"$f":"Insert!E21","v":0},{"$f":"TERM1!Z34","v":"0"},{"$f":"TERM1!AR34","v":"0"},{"$f":"TERM1!BJ34","v":"0"},{"$f":"TERM1!CB34","v":"0"},{"$f":"TERM1!CT34","v":0},{"$f":"TERM1!DL34","v":"0"},0,{"$f":"TERM2!Z34","v":"0"},{"$f":"TERM2!AR34","v":"0"},{"$f":"TERM2!BJ34","v":"0"},{"$f":"TERM2!CB34","v":"0"},{"$f":"ROUND(SUM(Q37:T37/5),0)","v":0},{"$f":"TERM3!Z34","v":"0"},{"$f":"TERM3!AR34","v":"0"},{"$f":"TERM3!BJ34","v":"0"},{"$f":"TERM3!CB34","v":"0"},{"$f":"TERM3!CT34","v":"0"},{"$f":"ROUND(SUM(V37:Z37/5),0)","v":0},0,0,{"$f":"TERM1!DO34","v":0},0,{"$f":"TERM2!CE34","v":0},0,{"$f":"TERM3!CW34","v":0},0,0,null,0,"",{"$f":"'FIN PAT MARK SHEET'!AH36","v":0},"",null,null,0,0,""]
[null,20,20,20,{"$f":"Insert!A22","v":0},{"$f":"Insert!B22","v":0},{"$f":"Insert!C22","v":0},{"$f":"Insert!D22","v":0},{"$f":"Insert!E22","v":0},{"$f":"TERM1!Z35","v":"0"},{"$f":"TERM1!AR35","v":"0"},{"$f":"TERM1!BJ35","v":"0"},{"$f":"TERM1!CB35","v":"0"},{"$f":"TERM1!CT35","v":0},{"$f":"TERM1!DL35","v":"0"},0,{"$f":"TERM2!Z35","v":"0"},{"$f":"TERM2!AR35","v":"0"},{"$f":"TERM2!BJ35","v":"0"},{"$f":"TERM2!CB35","v":"0"},{"$f":"ROUND(SUM(Q38:T38/5),0)","v":0},{"$f":"TERM3!Z35","v":"0"},{"$f":"TERM3!AR35","v":"0"},{"$f":"TERM3!BJ35","v":"0"},{"$f":"TERM3!CB35","v":"0"},{"$f":"TERM3!CT35","v":"0"},{"$f":"ROUND(SUM(V38:Z38/5),0)","v":0},0,0,{"$f":"TERM1!DO35","v":0},0,{"$f":"TERM2!CE35","v":0},0,{"$f":"TERM3!CW35","v":0},0,0,null,0,"",{"$f":"'FIN PAT MARK SHEET'!AH37","v":0},"",null,null,0,0,""]
[null,21,21,21,{"$f":"Insert!A23","v":0},{"$f":"Insert!B23","v":0},{"$f":"Insert!C23","v":0},{"$f":"Insert!D23","v":0},{"$f":"Insert!E23","v":0},{"$f":"TERM1!Z36","v":"0"},{"$f":"TERM1!AR36","v":"0"},{"$f":"TERM1!BJ36","v":"0"},{"$f":"TERM1!CB36","v":"0"},{"$f":"TERM1!CT36","v":0},{"$f":"TERM1!DL36","v":"0"},0,{"$f":"TERM2!Z36","v":"0"},{"$f":"TERM2!AR36","v":"0"},{"$f":"TERM2!BJ36","v":"0"},{"$f":"TERM2!CB36","v":"0"},{"$f":"ROUND(SUM(Q39:T39/5),0)","v":0},{"$f":"TERM3!Z36","v":"0"},{"$f":"TERM3!AR36","v":"0"},{"$f":"TERM3!BJ36","v":"0"},{"$f":"TERM3!CB36","v":"0"},{"$f":"TERM3!CT36","v":"0"},{"$f":"ROUND(SUM(V39:Z39/5),0)","v":0},0,0,{"$f":"TERM1!DO36","v":0},0,{"$f":"TERM2!CE36","v":0},0,{"$f":"TERM3!CW36","v":0},0,0,null,0,"",{"$f":"'FIN PAT MARK SHEET'!AH38","v":0},"",null,null,0,0,""]
[null,22,22,22,{"$f":"Insert!A24","v":0},{"$f":"Insert!B24","v":0},{"$f":"Insert!C24","v":0},{"$f":"Insert!D24","v":0},{"$f":"Insert!E24","v":0},{"$f":"TERM1!Z37","v":"0"},{"$f":"TERM1!AR37","v":"0"},{"$f":"TERM1!BJ37","v":"0"},{"$f":"TERM1!CB37","v":"0"},{"$f":"TERM1!CT37","v":0},{"$f":"TERM1!DL37","v":"0"},0,{"$f":"TERM2!Z37","v":"0"},{"$f":"TERM2!AR37","v":"0"},{"$f":"TERM2!BJ37","v":"0"},{"$f":"TERM2!CB37","v":"0"},{"$f":"ROUND(SUM(Q40:T40/5),0)","v":0},{"$f":"TERM3!Z37","v":"0"},{"$f":"TERM3!AR37","v":"0"},{"$f":"TERM3!BJ37","v":"0"},{"$f":"TERM3!CB37","v":"0"},{"$f":"TERM3!CT37","v":"0"},{"$f":"ROUND(SUM(V40:Z40/5),0)","v":0},0,0,{"$f":"TERM1!DO37","v":0},0,{"$f":"TERM2!CE37","v":0},0,{"$f":"TERM3!CW37","v":0},0,0,null,0,"",{"$f":"'FIN PAT MARK SHEET'!AH39","v":0},"",null,null,0,0,""]
[null,23,23,23,{"$f":"Insert!A25","v":0},{"$f":"Insert!B25","v":0},{"$f":"Insert!C25","v":0},{"$f":"Insert!D25","v":0},{"$f":"Insert!E25","v":0},{"$f":"TERM1!Z38","v":"0"},{"$f":"TERM1!AR38","v":"0"},{"$f":"TERM1!BJ38","v":"0"},{"$f":"TERM1!CB38","v":"0"},{"$f":"TERM1!CT38","v":0},{"$f":"TERM1!DL38","v":"0"},0,{"$f":"TERM2!Z38","v":"0"},{"$f":"TERM2!AR38","v":"0"},{"$f":"TERM2!BJ38","v":"0"},{"$f":"TERM2!CB38","v":"0"},{"$f":"ROUND(SUM(Q41:T41/5),0)","v":0},{"$f":"TERM3!Z38","v":"0"},{"$f":"TERM3!AR38","v":"0"},{"$f":"TERM3!BJ38","v":"0"},{"$f":"TERM3!CB38","v":"0"},{"$f":"TERM3!CT38","v":"0"},{"$f":"ROUND(SUM(V41:Z41/5),0)","v":0},0,0,{"$f":"TERM1!DO38","v":0},0,{"$f":"TERM2!CE38","v":0},0,{"$f":"TERM3!CW38","v":0},0,0,null,0,"",{"$f":"'FIN PAT MARK SHEET'!AH40","v":0},"",null,null,0,0,""]
[null,24,24,24,{"$f":"Insert!A26","v":0},{"$f":"Insert!B26","v":0},{"$f":"Insert!C26","v":0},{"$f":"Insert!D26","v":0},{"$f":"Insert!E26","v":0},{"$f":"TERM1!Z39","v":"0"},{"$f":"TERM1!AR39","v":"0"},{"$f":"TERM1!BJ39","v":"0"},{"$f":"TERM1!CB39","v":"0"},{"$f":"TERM1!CT39","v":0},{"$f":"TERM1!DL39","v":"0"},0,{"$f":"TERM2!Z39","v":"0"},{"$f":"TERM2!AR39","v":"0"},{"$f":"TERM2!BJ39","v":"0"},{"$f":"TERM2!CB39","v":"0"},{"$f":"ROUND(SUM(Q42:T42/5),0)","v":0},{"$f":"TERM3!Z39","v":"0"},{"$f":"TERM3!AR39","v":"0"},{"$f":"TERM3!BJ39","v":"0"},{"$f":"TERM3!CB39","v":"0"},{"$f":"TERM3!CT39","v":"0"},{"$f":"ROUND(SUM(V42:Z42/5),0)","v":0},0,0,{"$f":"TERM1!DO39","v":0},0,{"$f":"TERM2!CE39","v":0},0,{"$f":"TERM3!CW39","v":0},0,0,null,0,"",{"$f":"'FIN PAT MARK SHEET'!AH41","v":0},"",null,null,0,0,""]
[null,25,25,25,{"$f":"Insert!A27","v":0},{"$f":"Insert!B27","v":0},{"$f":"Insert!C27","v":0},{"$f":"Insert!D27","v":0},{"$f":"Insert!E27","v":0},{"$f":"TERM1!Z40","v":"0"},{"$f":"TERM1!AR40","v":"0"},{"$f":"TERM1!BJ40","v":"0"},{"$f":"TERM1!CB40","v":"0"},{"$f":"TERM1!CT40","v":0},{"$f":"TERM1!DL40","v":"0"},0,{"$f":"TERM2!Z40","v":"0"},{"$f":"TERM2!AR40","v":"0"},{"$f":"TERM2!BJ40","v":"0"},{"$f":"TERM2!CB40","v":"0"},{"$f":"ROUND(SUM(Q43:T43/5),0)","v":0},{"$f":"TERM3!Z40","v":"0"},{"$f":"TERM3!AR40","v":"0"},{"$f":"TERM3!BJ40","v":"0"},{"$f":"TERM3!CB40","v":"0"},{"$f":"TERM3!CT40","v":"0"},{"$f":"ROUND(SUM(V43:Z43/5),0)","v":0},0,0,{"$f":"TERM1!DO40","v":0},0,{"$f":"TERM2!CE40","v":0},0,{"$f":"TERM3!CW40","v":0},0,0,null,0,"",{"$f":"'FIN PAT MARK SHEET'!AH42","v":0},"",null,null,0,0,""]
[null,26,26,26,{"$f":"Insert!A28","v":0},{"$f":"Insert!B28","v":0},{"$f":"Insert!C28","v":0},{"$f":"Insert!D28","v":0},{"$f":"Insert!E28","v":0},{"$f":"TERM1!Z41","v":"0"},{"$f":"TERM1!AR41","v":"0"},{"$f":"TERM1!BJ41","v":"0"},{"$f":"TERM1!CB41","v":"0"},{"$f":"TERM1!CT41","v":0},{"$f":"TERM1!DL41","v":"0"},0,{"$f":"TERM2!Z41","v":"0"},{"$f":"TERM2!AR41","v":"0"},{"$f":"TERM2!BJ41","v":"0"},{"$f":"TERM2!CB41","v":"0"},{"$f":"ROUND(SUM(Q44:T44/5),0)","v":0},{"$f":"TERM3!Z41","v":"0"},{"$f":"TERM3!AR41","v":"0"},{"$f":"TERM3!BJ41","v":"0"},{"$f":"TERM3!CB41","v":"0"},{"$f":"TERM3!CT41","v":"0"},{"$f":"ROUND(SUM(V44:Z44/5),0)","v":0},0,0,{"$f":"TERM1!DO41","v":0},0,{"$f":"TERM2!CE41","v":0},0,{"$f":"TERM3!CW41","v":0},0,0,null,0,"",{"$f":"'FIN PAT MARK SHEET'!AH43","v":0},"",null,null,0,0,""]
[null,27,27,27,{"$f":"Insert!A29","v":0},{"$f":"Insert!B29","v":0},{"$f":"Insert!C29","v":0},{"$f":"Insert!D29","v":0},{"$f":"Insert!E29","v":0},{"$f":"TERM1!Z42","v":"0"},{"$f":"TERM1!AR42","v":"0"},{"$f":"TERM1!BJ42","v":"0"},{"$f":"TERM1!CB42","v":"0"},{"$f":"TERM1!CT42","v":0},{"$f":"TERM1!DL42","v":"0"},0,{"$f":"TERM2!Z42","v":"0"},{"$f":"TERM2!AR42","v":"0"},{"$f":"TERM2!BJ42","v":"0"},{"$f":"TERM2!CB42","v":"0"},{"$f":"ROUND(SUM(Q45:T45/5),0)","v":0},{"$f":"TERM3!Z42","v":"0"},{"$f":"TERM3!AR42","v":"0"},{"$f":"TERM3!BJ42","v":"0"},{"$f":"TERM3!CB42","v":"0"},{"$f":"TERM3!CT42","v":"0"},{"$f":"ROUND(SUM(V45:Z45/5),0)","v":0},0,0,{"$f":"TERM1!DO42","v":0},0,{"$f":"TERM2!CE42","v":0},0,{"$f":"TERM3!CW42","v":0},0,0,null,0,"",{"$f":"'FIN PAT MARK SHEET'!AH44","v":0},"",null,null,0,0,""]
[null,28,28,28,{"$f":"Insert!A30","v":0},{"$f":"Insert!B30","v":0},{"$f":"Insert!C30","v":0},{"$f":"Insert!D30","v":0},{"$f":"Insert!E30","v":0},{"$f":"TERM1!Z43","v":"0"},{"$f":"TERM1!AR43","v":"0"},{"$f":"TERM1!BJ43","v":"0"},{"$f":"TERM1!CB43","v":"0"},{"$f":"TERM1!CT43","v":0},{"$f":"TERM1!DL43","v":"0"},0,{"$f":"TERM2!Z43","v":"0"},{"$f":"TERM2!AR43","v":"0"},{"$f":"TERM2!BJ43","v":"0"},{"$f":"TERM2!CB43","v":"0"},{"$f":"ROUND(SUM(Q46:T46/5),0)","v":0},{"$f":"TERM3!Z43","v":"0"},{"$f":"TERM3!AR43","v":"0"},{"$f":"TERM3!BJ43","v":"0"},{"$f":"TERM3!CB43","v":"0"},{"$f":"TERM3!CT43","v":"0"},{"$f":"ROUND(SUM(V46:Z46/5),0)","v":0},0,0,{"$f":"TERM1!DO43","v":0},0,{"$f":"TERM2!CE43","v":0},0,{"$f":"TERM3!CW43","v":0},0,0,null,0,"",{"$f":"'FIN PAT MARK SHEET'!AH45","v":0},"",null,null,0,0,""]
[null,29,29,29,{"$f":"Insert!A31","v":0},{"$f":"Insert!B31","v":0},{"$f":"Insert!C31","v":0},{"$f":"Insert!D31","v":0},{"$f":"Insert!E31","v":0},{"$f":"TERM1!Z44","v":"0"},{"$f":"TERM1!AR44","v":"0"},{"$f":"TERM1!BJ44","v":"0"},{"$f":"TERM1!CB44","v":"0"},{"$f":"TERM1!CT44","v":0},{"$f":"TERM1!DL44","v":"0"},0,{"$f":"TERM2!Z44","v":"0"},{"$f":"TERM2!AR44","v":"0"},{"$f":"TERM2!BJ44","v":"0"},{"$f":"TERM2!CB44","v":"0"},{"$f":"ROUND(SUM(Q47:T47/5),0)","v":0},{"$f":"TERM3!Z44","v":"0"},{"$f":"TERM3!AR44","v":"0"},{"$f":"TERM3!BJ44","v":"0"},{"$f":"TERM3!CB44","v":"0"},{"$f":"TERM3!CT44","v":"0"},{"$f":"ROUND(SUM(V47:Z47/5),0)","v":0},0,0,{"$f":"TERM1!DO44","v":0},0,{"$f":"TERM2!CE44","v":0},0,{"$f":"TERM3!CW44","v":0},0,0,null,0,"",{"$f":"'FIN PAT MARK SHEET'!AH46","v":0},"",null,null,0,0,""]
[null,30,30,30,{"$f":"Insert!A32","v":0},{"$f":"Insert!B32","v":0},{"$f":"Insert!C32","v":0},{"$f":"Insert!D32","v":0},{"$f":"Insert!E32","v":0},{"$f":"TERM1!Z45","v":"0"},{"$f":"TERM1!AR45","v":"0"},{"$f":"TERM1!BJ45","v":"0"},{"$f":"TERM1!CB45","v":"0"},{"$f":"TERM1!CT45","v":0},{"$f":"TERM1!DL45","v":"0"},0,{"$f":"TERM2!Z45","v":"0"},{"$f":"TERM2!AR45","v":"0"},{"$f":"TERM2!BJ45","v":"0"},{"$f":"TERM2!CB45","v":"0"},{"$f":"ROUND(SUM(Q48:T48/5),0)","v":0},{"$f":"TERM3!Z45","v":"0"},{"$f":"TERM3!AR45","v":"0"},{"$f":"TERM3!BJ45","v":"0"},{"$f":"TERM3!CB45","v":"0"},{"$f":"TERM3!CT45","v":"0"},{"$f":"ROUND(SUM(V48:Z48/5),0)","v":0},0,0,{"$f":"TERM1!DO45","v":0},0,{"$f":"TERM2!CE45","v":0},0,{"$f":"TERM3!CW45","v":0},0,0,null,0,"",{"$f":"'FIN PAT MARK SHEET'!AH47","v":0},"",null,null,0,0,""]
[null,31,31,31,{"$f":"Insert!A33","v":0},{"$f":"Insert!B33","v":0},{"$f":"Insert!C33","v":0},{"$f":"Insert!D33","v":0},{"$f":"Insert!E33","v":0},{"$f":"TERM1!Z46","v":"0"},{"$f":"TERM1!AR46","v":"0"},{"$f":"TERM1!BJ46","v":"0"},{"$f":"TERM1!CB46","v":"0"},{"$f":"TERM1!CT46","v":0},{"$f":"TERM1!DL46","v":"0"},0,{"$f":"TERM2!Z46","v":"0"},{"$f":"TERM2!AR46","v":"0"},{"$f":"TERM2!BJ46","v":"0"},{"$f":"TERM2!CB46","v":"0"},{"$f":"ROUND(SUM(Q49:T49/5),0)","v":0},{"$f":"TERM3!Z46","v":"0"},{"$f":"TERM3!AR46","v":"0"},{"$f":"TERM3!BJ46","v":"0"},{"$f":"TERM3!CB46","v":"0"},{"$f":"TERM3!CT46","v":"0"},{"$f":"ROUND(SUM(V49:Z49/5),0)","v":0},0,0,{"$f":"TERM1!DO46","v":0},0,{"$f":"TERM2!CE46","v":0},0,{"$f":"TERM3!CW46","v":0},0,0,null,0,"",{"$f":"'FIN PAT MARK SHEET'!AH48","v":0},"",null,null,0,0,""]
[null,32,32,32,{"$f":"Insert!A34","v":0},{"$f":"Insert!B34","v":0},{"$f":"Insert!C34","v":0},{"$f":"Insert!D34","v":0},{"$f":"Insert!E34","v":0},{"$f":"TERM1!Z47","v":"0"},{"$f":"TERM1!AR47","v":"0"},{"$f":"TERM1!BJ47","v":"0"},{"$f":"TERM1!CB47","v":"0"},{"$f":"TERM1!CT47","v":0},{"$f":"TERM1!DL47","v":"0"},0,{"$f":"TERM2!Z47","v":"0"},{"$f":"TERM2!AR47","v":"0"},{"$f":"TERM2!BJ47","v":"0"},{"$f":"TERM2!CB47","v":"0"},{"$f":"ROUND(SUM(Q50:T50/5),0)","v":0},{"$f":"TERM3!Z47","v":"0"},{"$f":"TERM3!AR47","v":"0"},{"$f":"TERM3!BJ47","v":"0"},{"$f":"TERM3!CB47","v":"0"},{"$f":"TERM3!CT47","v":"0"},{"$f":"ROUND(SUM(V50:Z50/5),0)","v":0},0,0,{"$f":"TERM1!DO47","v":0},0,{"$f":"TERM2!CE47","v":0},0,{"$f":"TERM3!CW47","v":0},0,0,null,0,"",{"$f":"'FIN PAT MARK SHEET'!AH49","v":0},"",null,null,0,0,""]
[null,33,33,33,{"$f":"Insert!A35","v":0},{"$f":"Insert!B35","v":0},{"$f":"Insert!C35","v":0},{"$f":"Insert!D35","v":0},{"$f":"Insert!E35","v":0},{"$f":"TERM1!Z48","v":"0"},{"$f":"TERM1!AR48","v":"0"},{"$f":"TERM1!BJ48","v":"0"},{"$f":"TERM1!CB48","v":"0"},{"$f":"TERM1!CT48","v":0},{"$f":"TERM1!DL48","v":"0"},0,{"$f":"TERM2!Z48","v":"0"},{"$f":"TERM2!AR48","v":"0"},{"$f":"TERM2!BJ48","v":"0"},{"$f":"TERM2!CB48","v":"0"},{"$f":"ROUND(SUM(Q51:T51/5),0)","v":0},{"$f":"TERM3!Z48","v":"0"},{"$f":"TERM3!AR48","v":"0"},{"$f":"TERM3!BJ48","v":"0"},{"$f":"TERM3!CB48","v":"0"},{"$f":"TERM3!CT48","v":"0"},{"$f":"ROUND(SUM(V51:Z51/5),0)","v":0},{"$f":"ROUND((SUMIF(J51:Z51,\">0\")),0)","v":0},0,{"$f":"TERM1!DO48","v":0},{"$f":"ROUND(SUM(AD51/3.3333333333333),0)","v":0},{"$f":"TERM2!CE48","v":0},0,{"$f":"TERM3!CW48","v":0},0,0,null,0,{"$f":"IF(AL51>79,\"7\",IF(AL51>69,\"6\",IF(AL51>59,\"5\",IF(AL51>49,\"4\",IF(AL51>39,\"3\",IF(AL51>29,\"2\",IF(AL51>0,\"1\",IF(AL51=0,\"\"))))))))","v":""},{"$f":"'FIN PAT MARK SHEET'!AH50","v":0},{"$f":"IF(AN51>79,\"7\",IF(AN51>69,\"6\",IF(AN51>59,\"5\",IF(AN51>49,\"4\",IF(AN51>39,\"3\",IF(AN51>29,\"2\",IF(AN51>0,\"1\",IF(AN51=0,\"\"))))))))","v":""},null,null,{"$f":"SUM(AL51+AN51+AP51+AQ51)","v":0},{"$f":"ROUND(SUM(AR51/4),0)","v":0},{"$f":"IF(AS51>79,\"7\",IF(AS51>69,\"6\",IF(AS51>59,\"5\",IF(AS51>49,\"4\",IF(AS51>39,\"3\",IF(AS51>29,\"2\",IF(AS51>0,\"1\",IF(AS51=0,\"\"))))))))","v":""}]
[null,34,34,null,{"$f":"Insert!A36","v":0},{"$f":"Insert!B36","v":0},{"$f":"Insert!C36","v":0},{"$f":"Insert!D36","v":0},{"$f":"Insert!E36","v":0},{"$f":"TERM1!Z49","v":"0"},{"$f":"TERM1!AR49","v":"0"},{"$f":"TERM1!BJ49","v":"0"},{"$f":"TERM1!CB49","v":"0"},{"$f":"TERM1!CT49","v":0},{"$f":"TERM1!DL49","v":"0"},0,{"$f":"TERM2!Z49","v":"0"},{"$f":"TERM2!AR49","v":"0"},{"$f":"TERM2!BJ49","v":"0"},{"$f":"TERM2!CB49","v":"0"},{"$f":"ROUND(SUM(Q52:T52/5),0)","v":0},{"$f":"TERM3!Z49","v":"0"},{"$f":"TERM3!AR49","v":"0"},{"$f":"TERM3!BJ49","v":"0"},{"$f":"TERM3!CB49","v":"0"},{"$f":"TERM3!CT49","v":"0"},{"$f":"ROUND(SUM(V52:Z52/5),0)","v":0},0,0,{"$f":"TERM1!DO49","v":0},0,{"$f":"TERM2!CE49","v":0},0,{"$f":"TERM3!CW49","v":0},0,0,null,{"$f":"SUM(AC52+AJ52)","v":0},"",{"$f":"'FIN PAT MARK SHEET'!AH51","v":0},"",null,null,0,0,""]
[null,35,35,null,{"$f":"Insert!A37","v":0},{"$f":"Insert!B37","v":0},{"$f":"Insert!C37","v":0},{"$f":"Insert!D37","v":0},{"$f":"Insert!E37","v":0},{"$f":"TERM1!Z50","v":"0"},{"$f":"TERM1!AR50","v":"0"},{"$f":"TERM1!BJ50","v":"0"},{"$f":"TERM1!CB50","v":"0"},{"$f":"TERM1!CT50","v":0},{"$f":"TERM1!DL50","v":"0"},0,{"$f":"TERM2!Z50","v":"0"},{"$f":"TERM2!AR50","v":"0"},{"$f":"TERM2!BJ50","v":"0"},{"$f":"TERM2!CB50","v":"0"},{"$f":"ROUND(SUM(Q53:T53/5),0)","v":0},{"$f":"TERM3!Z50","v":"0"},{"$f":"TERM3!AR50","v":"0"},{"$f":"TERM3!BJ50","v":"0"},{"$f":"TERM3!CB50","v":"0"},{"$f":"TERM3!CT50","v":"0"},{"$f":"ROUND(SUM(V53:Z53/5),0)","v":0},0,0,{"$f":"TERM1!DO50","v":0},0,{"$f":"TERM2!CE50","v":0},0,{"$f":"TERM3!CW50","v":0},0,0,null,0,"",{"$f":"'FIN PAT MARK SHEET'!AH52","v":0},"",null,null,0,0,""]
[null,36,36,null,{"$f":"Insert!A38","v":0},{"$f":"Insert!B38","v":0},{"$f":"Insert!C38","v":0},{"$f":"Insert!D38","v":0},{"$f":"Insert!E38","v":0},{"$f":"TERM1!Z51","v":"0"},{"$f":"TERM1!AR51","v":"0"},{"$f":"TERM1!BJ51","v":"0"},{"$f":"TERM1!CB51","v":"0"},{"$f":"TERM1!CT51","v":0},{"$f":"TERM1!DL51","v":"0"},0,{"$f":"TERM2!Z51","v":"0"},{"$f":"TERM2!AR51","v":"0"},{"$f":"TERM2!BJ51","v":"0"},{"$f":"TERM2!CB51","v":"0"},{"$f":"ROUND(SUM(Q54:T54/5),0)","v":0},{"$f":"TERM3!Z51","v":"0"},{"$f":"TERM3!AR51","v":"0"},{"$f":"TERM3!BJ51","v":"0"},{"$f":"TERM3!CB51","v":"0"},{"$f":"TERM3!CT51","v":"0"},{"$f":"ROUND(SUM(V54:Z54/5),0)","v":0},0,0,{"$f":"TERM1!DO51","v":0},0,{"$f":"TERM2!CE51","v":0},0,{"$f":"TERM3!CW51","v":0},0,0,null,0,"",{"$f":"'FIN PAT MARK SHEET'!AH53","v":0},"",null,null,0,0,""]
[null,37,37,null,{"$f":"Insert!A39","v":0},{"$f":"Insert!B39","v":0},{"$f":"Insert!C39","v":0},{"$f":"Insert!D39","v":0},{"$f":"Insert!E39","v":0},{"$f":"TERM1!Z52","v":"0"},{"$f":"TERM1!AR52","v":"0"},{"$f":"TERM1!BJ52","v":"0"},{"$f":"TERM1!CB52","v":"0"},{"$f":"TERM1!CT52","v":0},{"$f":"TERM1!DL52","v":"0"},0,{"$f":"TERM2!Z52","v":"0"},{"$f":"TERM2!AR52","v":"0"},{"$f":"TERM2!BJ52","v":"0"},{"$f":"TERM2!CB52","v":"0"},{"$f":"ROUND(SUM(Q55:T55/5),0)","v":0},{"$f":"TERM3!Z52","v":"0"},{"$f":"TERM3!AR52","v":"0"},{"$f":"TERM3!BJ52","v":"0"},{"$f":"TERM3!CB52","v":"0"},{"$f":"TERM3!CT52","v":"0"},{"$f":"ROUND(SUM(V55:Z55/5),0)","v":0},0,0,{"$f":"TERM1!DO52","v":0},0,{"$f":"TERM2!CE52","v":0},0,{"$f":"TERM3!CW52","v":0},0,0,null,0,"",{"$f":"'FIN PAT MARK SHEET'!AH54","v":0},"",null,null,0,0,""]
[null,38,38,null,{"$f":"Insert!A40","v":0},{"$f":"Insert!B40","v":0},{"$f":"Insert!C40","v":0},{"$f":"Insert!D40","v":0},{"$f":"Insert!E40","v":0},{"$f":"TERM1!Z53","v":"0"},{"$f":"TERM1!AR53","v":"0"},{"$f":"TERM1!BJ53","v":"0"},{"$f":"TERM1!CB53","v":"0"},{"$f":"TERM1!CT53","v":0},{"$f":"TERM1!DL53","v":"0"},0,{"$f":"TERM2!Z53","v":"0"},{"$f":"TERM2!AR53","v":"0"},{"$f":"TERM2!BJ53","v":"0"},{"$f":"TERM2!CB53","v":"0"},{"$f":"ROUND(SUM(Q56:T56/5),0)","v":0},{"$f":"TERM3!Z53","v":"0"},{"$f":"TERM3!AR53","v":"0"},{"$f":"TERM3!BJ53","v":"0"},{"$f":"TERM3!CB53","v":"0"},{"$f":"TERM3!CT53","v":"0"},{"$f":"ROUND(SUM(V56:Z56/5),0)","v":0},0,0,{"$f":"TERM1!DO53","v":0},0,{"$f":"TERM2!CE53","v":0},0,{"$f":"TERM3!CW53","v":0},0,0,null,0,"",{"$f":"'FIN PAT MARK SHEET'!AH55","v":0},"",null,null,0,0,""]
[null,39,39,null,{"$f":"Insert!A41","v":0},{"$f":"Insert!B41","v":0},{"$f":"Insert!C41","v":0},{"$f":"Insert!D41","v":0},{"$f":"Insert!E41","v":0},{"$f":"TERM1!Z54","v":"0"},{"$f":"TERM1!AR54","v":"0"},{"$f":"TERM1!BJ54","v":"0"},{"$f":"TERM1!CB54","v":"0"},{"$f":"TERM1!CT54","v":0},{"$f":"TERM1!DL54","v":"0"},0,{"$f":"TERM2!Z54","v":"0"},{"$f":"TERM2!AR54","v":"0"},{"$f":"TERM2!BJ54","v":"0"},{"$f":"TERM2!CB54","v":"0"},{"$f":"ROUND(SUM(Q57:T57/5),0)","v":0},{"$f":"TERM3!Z54","v":"0"},{"$f":"TERM3!AR54","v":"0"},{"$f":"TERM3!BJ54","v":"0"},{"$f":"TERM3!CB54","v":"0"},{"$f":"TERM3!CT54","v":"0"},{"$f":"ROUND(SUM(V57:Z57/5),0)","v":0},0,0,{"$f":"TERM1!DO54","v":0},0,{"$f":"TERM2!CE54","v":0},0,{"$f":"TERM3!CW54","v":0},0,0,null,0,"",{"$f":"'FIN PAT MARK SHEET'!AH56","v":0},"",null,null,0,0,""]
[null,40,40,null,{"$f":"Insert!A42","v":0},{"$f":"Insert!B42","v":0},{"$f":"Insert!C42","v":0},{"$f":"Insert!D42","v":0},{"$f":"Insert!E42","v":0},{"$f":"TERM1!Z55","v":"0"},{"$f":"TERM1!AR55","v":"0"},{"$f":"TERM1!BJ55","v":"0"},{"$f":"TERM1!CB55","v":"0"},{"$f":"TERM1!CT55","v":0},{"$f":"TERM1!DL55","v":"0"},0,{"$f":"TERM2!Z55","v":"0"},{"$f":"TERM2!AR55","v":"0"},{"$f":"TERM2!BJ55","v":"0"},{"$f":"TERM2!CB55","v":"0"},{"$f":"ROUND(SUM(Q58:T58/5),0)","v":0},{"$f":"TERM3!Z55","v":"0"},{"$f":"TERM3!AR55","v":"0"},{"$f":"TERM3!BJ55","v":"0"},{"$f":"TERM3!CB55","v":"0"},{"$f":"TERM3!CT55","v":"0"},{"$f":"ROUND(SUM(V58:Z58/5),0)","v":0},0,0,{"$f":"TERM1!DO55","v":0},0,{"$f":"TERM2!CE55","v":0},0,{"$f":"TERM3!CW55","v":0},0,0,null,0,"",{"$f":"'FIN PAT MARK SHEET'!AH57","v":0},"",null,null,0,0,""]
[null,41,41,null,{"$f":"Insert!A43","v":0},{"$f":"Insert!B43","v":0},{"$f":"Insert!C43","v":0},{"$f":"Insert!D43","v":0},{"$f":"Insert!E43","v":0},{"$f":"TERM1!Z56","v":"0"},{"$f":"TERM1!AR56","v":"0"},{"$f":"TERM1!BJ56","v":"0"},{"$f":"TERM1!CB56","v":"0"},{"$f":"TERM1!CT56","v":0},{"$f":"TERM1!DL56","v":"0"},0,{"$f":"TERM2!Z56","v":"0"},{"$f":"TERM2!AR56","v":"0"},{"$f":"TERM2!BJ56","v":"0"},{"$f":"TERM2!CB56","v":"0"},{"$f":"ROUND(SUM(Q59:T59/5),0)","v":0},{"$f":"TERM3!Z56","v":"0"},{"$f":"TERM3!AR56","v":"0"},{"$f":"TERM3!BJ56","v":"0"},{"$f":"TERM3!CB56","v":"0"},{"$f":"TERM3!CT56","v":"0"},{"$f":"ROUND(SUM(V59:Z59/5),0)","v":0},0,0,{"$f":"TERM1!DO56","v":0},0,{"$f":"TERM2!CE56","v":0},0,{"$f":"TERM3!CW56","v":0},0,0,null,0,"",{"$f":"'FIN PAT MARK SHEET'!AH58","v":0},"",null,null,0,0,""]
[null,42,42,null,{"$f":"Insert!A44","v":0},{"$f":"Insert!B44","v":0},{"$f":"Insert!C44","v":0},{"$f":"Insert!D44","v":0},{"$f":"Insert!E44","v":0},{"$f":"TERM1!Z57","v":"0"},{"$f":"TERM1!AR57","v":"0"},{"$f":"TERM1!BJ57","v":"0"},{"$f":"TERM1!CB57","v":"0"},{"$f":"TERM1!CT57","v":0},{"$f":"TERM1!DL57","v":"0"},0,{"$f":"TERM2!Z57","v":"0"},{"$f":"TERM2!AR57","v":"0"},{"$f":"TERM2!BJ57","v":"0"},{"$f":"TERM2!CB57","v":"0"},{"$f":"ROUND(SUM(Q60:T60/5),0)","v":0},{"$f":"TERM3!Z57","v":"0"},{"$f":"TERM3!AR57","v":"0"},{"$f":"TERM3!BJ57","v":"0"},{"$f":"TERM3!CB57","v":"0"},{"$f":"TERM3!CT57","v":"0"},{"$f":"ROUND(SUM(V60:Z60/5),0)","v":0},0,0,{"$f":"TERM1!DO57","v":0},0,{"$f":"TERM2!CE57","v":0},0,{"$f":"TERM3!CW57","v":0},0,0,null,0,"",{"$f":"'FIN PAT MARK SHEET'!AH59","v":0},"",null,null,0,0,""]
[null,43,43,null,{"$f":"Insert!A45","v":0},{"$f":"Insert!B45","v":0},{"$f":"Insert!C45","v":0},{"$f":"Insert!D45","v":0},{"$f":"Insert!E45","v":0},{"$f":"TERM1!Z58","v":"0"},{"$f":"TERM1!AR58","v":"0"},{"$f":"TERM1!BJ58","v":"0"},{"$f":"TERM1!CB58","v":"0"},{"$f":"TERM1!CT58","v":0},{"$f":"TERM1!DL58","v":"0"},0,{"$f":"TERM2!Z58","v":"0"},{"$f":"TERM2!AR58","v":"0"},{"$f":"TERM2!BJ58","v":"0"},{"$f":"TERM2!CB58","v":"0"},{"$f":"ROUND(SUM(Q61:T61/5),0)","v":0},{"$f":"TERM3!Z58","v":"0"},{"$f":"TERM3!AR58","v":"0"},{"$f":"TERM3!BJ58","v":"0"},{"$f":"TERM3!CB58","v":"0"},{"$f":"TERM3!CT58","v":"0"},{"$f":"ROUND(SUM(V61:Z61/5),0)","v":0},{"$f":"ROUND((SUMIF(J61:Z61,\">0\")),0)","v":0},0,{"$f":"TERM1!DO58","v":0},{"$f":"ROUND(SUM(AD61/3.3333333333333),0)","v":0},{"$f":"TERM2!CE58","v":0},0,{"$f":"TERM3!CW58","v":0},0,0,null,0,"",{"$f":"'FIN PAT MARK SHEET'!AH60","v":0},"",null,null,0,0,""]
[null,44,44,null,{"$f":"Insert!A46","v":0},{"$f":"Insert!B46","v":0},{"$f":"Insert!C46","v":0},{"$f":"Insert!D46","v":0},{"$f":"Insert!E46","v":0},{"$f":"TERM1!Z59","v":"0"},{"$f":"TERM1!AR59","v":"0"},{"$f":"TERM1!BJ59","v":"0"},{"$f":"TERM1!CB59","v":"0"},{"$f":"TERM1!CT59","v":0},{"$f":"TERM1!DL59","v":"0"},0,{"$f":"TERM2!Z59","v":"0"},{"$f":"TERM2!AR59","v":"0"},{"$f":"TERM2!BJ59","v":"0"},{"$f":"TERM2!CB59","v":"0"},{"$f":"ROUND(SUM(Q62:T62/5),0)","v":0},{"$f":"TERM3!Z59","v":"0"},{"$f":"TERM3!AR59","v":"0"},{"$f":"TERM3!BJ59","v":"0"},{"$f":"TERM3!CB59","v":"0"},{"$f":"TERM3!CT59","v":"0"},{"$f":"ROUND(SUM(V62:Z62/5),0)","v":0},0,0,{"$f":"TERM1!DO59","v":0},0,{"$f":"TERM2!CE59","v":0},0,{"$f":"TERM3!CW59","v":0},0,0,null,0,"",{"$f":"'FIN PAT MARK SHEET'!AH61","v":0},"",null,null,0,0,""]
[null,45,45,null,{"$f":"Insert!A47","v":0},{"$f":"Insert!B47","v":0},{"$f":"Insert!C47","v":0},{"$f":"Insert!D47","v":0},{"$f":"Insert!E47","v":0},{"$f":"TERM1!Z60","v":"0"},{"$f":"TERM1!AR60","v":"0"},{"$f":"TERM1!BJ60","v":"0"},{"$f":"TERM1!CB60","v":"0"},{"$f":"TERM1!CT60","v":0},{"$f":"TERM1!DL60","v":"0"},0,{"$f":"TERM2!Z60","v":"0"},{"$f":"TERM2!AR60","v":"0"},{"$f":"TERM2!BJ60","v":"0"},{"$f":"TERM2!CB60","v":"0"},{"$f":"ROUND(SUM(Q63:T63/5),0)","v":0},{"$f":"TERM3!Z60","v":"0"},{"$f":"TERM3!AR60","v":"0"},{"$f":"TERM3!BJ60","v":"0"},{"$f":"TERM3!CB60","v":"0"},{"$f":"TERM3!CT60","v":"0"},{"$f":"ROUND(SUM(V63:Z63/5),0)","v":0},0,0,{"$f":"TERM1!DO60","v":0},0,{"$f":"TERM2!CE60","v":0},0,{"$f":"TERM3!CW60","v":0},0,0,null,0,"",{"$f":"'FIN PAT MARK SHEET'!AH62","v":0},"",null,null,0,0,""]
[null,46,46,null,{"$f":"Insert!A48","v":0},{"$f":"Insert!B48","v":0},{"$f":"Insert!C48","v":0},{"$f":"Insert!D48","v":0},{"$f":"Insert!E48","v":0},{"$f":"TERM1!Z61","v":"0"},{"$f":"TERM1!AR61","v":"0"},{"$f":"TERM1!BJ61","v":"0"},{"$f":"TERM1!CB61","v":"0"},{"$f":"TERM1!CT61","v":0},{"$f":"TERM1!DL61","v":"0"},0,{"$f":"TERM2!Z61","v":"0"},{"$f":"TERM2!AR61","v":"0"},{"$f":"TERM2!BJ61","v":"0"},{"$f":"TERM2!CB61","v":"0"},{"$f":"ROUND(SUM(Q64:T64/5),0)","v":0},{"$f":"TERM3!Z61","v":"0"},{"$f":"TERM3!AR61","v":"0"},{"$f":"TERM3!BJ61","v":"0"},{"$f":"TERM3!CB61","v":"0"},{"$f":"TERM3!CT61","v":"0"},{"$f":"ROUND(SUM(V64:Z64/5),0)","v":0},0,0,{"$f":"TERM1!DO61","v":0},0,{"$f":"TERM2!CE61","v":0},0,{"$f":"TERM3!CW61","v":0},0,0,null,0,"",{"$f":"'FIN PAT MARK SHEET'!AH63","v":0},"",null,null,0,0,""]
[null,47,47,null,{"$f":"Insert!A49","v":0},{"$f":"Insert!B49","v":0},{"$f":"Insert!C49","v":0},{"$f":"Insert!D49","v":0},{"$f":"Insert!E49","v":0},{"$f":"TERM1!Z62","v":"0"},{"$f":"TERM1!AR62","v":"0"},{"$f":"TERM1!BJ62","v":"0"},{"$f":"TERM1!CB62","v":"0"},{"$f":"TERM1!CT62","v":0},{"$f":"TERM1!DL62","v":"0"},0,{"$f":"TERM2!Z62","v":"0"},{"$f":"TERM2!AR62","v":"0"},{"$f":"TERM2!BJ62","v":"0"},{"$f":"TERM2!CB62","v":"0"},{"$f":"ROUND(SUM(Q65:T65/5),0)","v":0},{"$f":"TERM3!Z62","v":"0"},{"$f":"TERM3!AR62","v":"0"},{"$f":"TERM3!BJ62","v":"0"},{"$f":"TERM3!CB62","v":"0"},{"$f":"TERM3!CT62","v":"0"},{"$f":"ROUND(SUM(V65:Z65/5),0)","v":0},0,0,{"$f":"TERM1!DO62","v":0},0,{"$f":"TERM2!CE62","v":0},0,{"$f":"TERM3!CW62","v":0},0,0,null,0,"",{"$f":"'FIN PAT MARK SHEET'!AH64","v":0},"",null,null,0,0,""]
[null,48,48,null,{"$f":"Insert!A50","v":0},{"$f":"Insert!B50","v":0},{"$f":"Insert!C50","v":0},{"$f":"Insert!D50","v":0},{"$f":"Insert!E50","v":0},{"$f":"TERM1!Z63","v":"0"},{"$f":"TERM1!AR63","v":"0"},{"$f":"TERM1!BJ63","v":"0"},{"$f":"TERM1!CB63","v":"0"},{"$f":"TERM1!CT63","v":0},{"$f":"TERM1!DL63","v":"0"},0,{"$f":"TERM2!Z63","v":"0"},{"$f":"TERM2!AR63","v":"0"},{"$f":"TERM2!BJ63","v":"0"},{"$f":"TERM2!CB63","v":"0"},{"$f":"ROUND(SUM(Q66:T66/5),0)","v":0},{"$f":"TERM3!Z63","v":"0"},{"$f":"TERM3!AR63","v":"0"},{"$f":"TERM3!BJ63","v":"0"},{"$f":"TERM3!CB63","v":"0"},{"$f":"TERM3!CT63","v":"0"},{"$f":"ROUND(SUM(V66:Z66/5),0)","v":0},0,0,{"$f":"TERM1!DO63","v":0},0,{"$f":"TERM2!CE63","v":0},0,{"$f":"TERM3!CW63","v":0},0,0,null,0,"",{"$f":"'FIN PAT MARK SHEET'!AH65","v":0},"",null,null,0,0,""]
[null,49,49,null,{"$f":"Insert!A51","v":0},{"$f":"Insert!B51","v":0},{"$f":"Insert!C51","v":0},{"$f":"Insert!D51","v":0},{"$f":"Insert!E51","v":0},{"$f":"TERM1!Z64","v":"0"},{"$f":"TERM1!AR64","v":"0"},{"$f":"TERM1!BJ64","v":"0"},{"$f":"TERM1!CB64","v":"0"},{"$f":"TERM1!CT64","v":0},{"$f":"TERM1!DL64","v":"0"},0,{"$f":"TERM2!Z64","v":"0"},{"$f":"TERM2!AR64","v":"0"},{"$f":"TERM2!BJ64","v":"0"},{"$f":"TERM2!CB64","v":"0"},{"$f":"ROUND(SUM(Q67:T67/5),0)","v":0},{"$f":"TERM3!Z64","v":"0"},{"$f":"TERM3!AR64","v":"0"},{"$f":"TERM3!BJ64","v":"0"},{"$f":"TERM3!CB64","v":"0"},{"$f":"TERM3!CT64","v":"0"},{"$f":"ROUND(SUM(V67:Z67/5),0)","v":0},0,0,{"$f":"TERM1!DO64","v":0},0,{"$f":"TERM2!CE64","v":0},0,{"$f":"TERM3!CW64","v":0},0,0,null,0,"",{"$f":"'FIN PAT MARK SHEET'!AH66","v":0},"",null,null,0,0,""]
[null,50,50,null,{"$f":"Insert!A52","v":0},{"$f":"Insert!B52","v":0},{"$f":"Insert!C52","v":0},{"$f":"Insert!D52","v":0},{"$f":"Insert!E52","v":0},{"$f":"TERM1!Z65","v":"0"},{"$f":"TERM1!AR65","v":"0"},{"$f":"TERM1!BJ65","v":"0"},{"$f":"TERM1!CB65","v":"0"},{"$f":"TERM1!CT65","v":0},{"$f":"TERM1!DL65","v":"0"},0,{"$f":"TERM2!Z65","v":"0"},{"$f":"TERM2!AR65","v":"0"},{"$f":"TERM2!BJ65","v":"0"},{"$f":"TERM2!CB65","v":"0"},{"$f":"ROUND(SUM(Q68:T68/5),0)","v":0},{"$f":"TERM3!Z65","v":"0"},{"$f":"TERM3!AR65","v":"0"},{"$f":"TERM3!BJ65","v":"0"},{"$f":"TERM3!CB65","v":"0"},{"$f":"TERM3!CT65","v":"0"},{"$f":"ROUND(SUM(V68:Z68/5),0)","v":0},0,0,{"$f":"TERM1!DO65","v":0},0,{"$f":"TERM2!CE65","v":0},0,{"$f":"TERM3!CW65","v":0},0,0,null,0,"",{"$f":"'FIN PAT MARK SHEET'!AH67","v":0},"",null,null,0,0,""]
[null,51,51,null,{"$f":"Insert!A53","v":0},{"$f":"Insert!B53","v":0},{"$f":"Insert!C53","v":0},{"$f":"Insert!D53","v":0},{"$f":"Insert!E53","v":0},{"$f":"TERM1!Z66","v":"0"},{"$f":"TERM1!AR66","v":"0"},{"$f":"TERM1!BJ66","v":"0"},{"$f":"TERM1!CB66","v":"0"},{"$f":"TERM1!CT66","v":0},{"$f":"TERM1!DL66","v":"0"},0,{"$f":"TERM2!Z66","v":"0"},{"$f":"TERM2!AR66","v":"0"},{"$f":"TERM2!BJ66","v":"0"},{"$f":"TERM2!CB66","v":"0"},{"$f":"ROUND(SUM(Q69:T69/5),0)","v":0},{"$f":"TERM3!Z66","v":"0"},{"$f":"TERM3!AR66","v":"0"},{"$f":"TERM3!BJ66","v":"0"},{"$f":"TERM3!CB66","v":"0"},{"$f":"TERM3!CT66","v":"0"},{"$f":"ROUND(SUM(V69:Z69/5),0)","v":0},0,0,{"$f":"TERM1!DO66","v":0},0,{"$f":"TERM2!CE66","v":0},0,{"$f":"TERM3!CW66","v":0},0,0,null,0,"",{"$f":"'FIN PAT MARK SHEET'!AH68","v":0},"",null,null,0,0,""]
[null,52,52,null,{"$f":"Insert!A54","v":0},{"$f":"Insert!B54","v":0},{"$f":"Insert!C54","v":0},{"$f":"Insert!D54","v":0},{"$f":"Insert!E54","v":0},{"$f":"TERM1!Z67","v":"0"},{"$f":"TERM1!AR67","v":"0"},{"$f":"TERM1!BJ67","v":"0"},{"$f":"TERM1!CB67","v":"0"},{"$f":"TERM1!CT67","v":0},{"$f":"TERM1!DL67","v":"0"},0,{"$f":"TERM2!Z67","v":"0"},{"$f":"TERM2!AR67","v":"0"},{"$f":"TERM2!BJ67","v":"0"},{"$f":"TERM2!CB67","v":"0"},{"$f":"ROUND(SUM(Q70:T70/5),0)","v":0},{"$f":"TERM3!Z67","v":"0"},{"$f":"TERM3!AR67","v":"0"},{"$f":"TERM3!BJ67","v":"0"},{"$f":"TERM3!CB67","v":"0"},{"$f":"TERM3!CT67","v":"0"},{"$f":"ROUND(SUM(V70:Z70/5),0)","v":0},0,0,{"$f":"TERM1!DO67","v":0},0,{"$f":"TERM2!CE67","v":0},0,{"$f":"TERM3!CW67","v":0},0,0,null,0,"",{"$f":"'FIN PAT MARK SHEET'!AH69","v":0},"",null,null,0,0,""]
[null,53,53,null,{"$f":"Insert!A55","v":0},{"$f":"Insert!B55","v":0},{"$f":"Insert!C55","v":0},{"$f":"Insert!D55","v":0},{"$f":"Insert!E55","v":0},{"$f":"TERM1!Z68","v":"0"},{"$f":"TERM1!AR68","v":"0"},{"$f":"TERM1!BJ68","v":"0"},{"$f":"TERM1!CB68","v":"0"},{"$f":"TERM1!CT68","v":0},{"$f":"TERM1!DL68","v":"0"},0,{"$f":"TERM2!Z68","v":"0"},{"$f":"TERM2!AR68","v":"0"},{"$f":"TERM2!BJ68","v":"0"},{"$f":"TERM2!CB68","v":"0"},{"$f":"ROUND(SUM(Q71:T71/5),0)","v":0},{"$f":"TERM3!Z68","v":"0"},{"$f":"TERM3!AR68","v":"0"},{"$f":"TERM3!BJ68","v":"0"},{"$f":"TERM3!CB68","v":"0"},{"$f":"TERM3!CT68","v":"0"},{"$f":"ROUND(SUM(V71:Z71/5),0)","v":0},0,0,{"$f":"TERM1!DO68","v":0},0,{"$f":"TERM2!CE68","v":0},0,{"$f":"TERM3!CW68","v":0},0,0,null,0,"",{"$f":"'FIN PAT MARK SHEET'!AH70","v":0},"",null,null,0,0,""]
[null,54,54,null,{"$f":"Insert!A56","v":0},{"$f":"Insert!B56","v":0},{"$f":"Insert!C56","v":0},{"$f":"Insert!D56","v":0},{"$f":"Insert!E56","v":0},{"$f":"TERM1!Z69","v":"0"},{"$f":"TERM1!AR69","v":"0"},{"$f":"TERM1!BJ69","v":"0"},{"$f":"TERM1!CB69","v":"0"},{"$f":"TERM1!CT69","v":0},{"$f":"TERM1!DL69","v":"0"},0,{"$f":"TERM2!Z69","v":"0"},{"$f":"TERM2!AR69","v":"0"},{"$f":"TERM2!BJ69","v":"0"},{"$f":"TERM2!CB69","v":"0"},{"$f":"ROUND(SUM(Q72:T72/5),0)","v":0},{"$f":"TERM3!Z69","v":"0"},{"$f":"TERM3!AR69","v":"0"},{"$f":"TERM3!BJ69","v":"0"},{"$f":"TERM3!CB69","v":"0"},{"$f":"TERM3!CT69","v":"0"},{"$f":"ROUND(SUM(V72:Z72/5),0)","v":0},0,0,{"$f":"TERM1!DO69","v":0},0,{"$f":"TERM2!CE69","v":0},0,{"$f":"TERM3!CW69","v":0},0,0,null,0,"",{"$f":"'FIN PAT MARK SHEET'!AH71","v":0},"",null,null,0,0,""]
[null,55,55,null,{"$f":"Insert!A57","v":0},{"$f":"Insert!B57","v":0},{"$f":"Insert!C57","v":0},{"$f":"Insert!D57","v":0},{"$f":"Insert!E57","v":0},{"$f":"TERM1!Z70","v":"0"},{"$f":"TERM1!AR70","v":"0"},{"$f":"TERM1!BJ70","v":"0"},{"$f":"TERM1!CB70","v":"0"},{"$f":"TERM1!CT70","v":0},{"$f":"TERM1!DL70","v":"0"},0,{"$f":"TERM2!Z70","v":"0"},{"$f":"TERM2!AR70","v":"0"},{"$f":"TERM2!BJ70","v":"0"},{"$f":"TERM2!CB70","v":"0"},{"$f":"ROUND(SUM(Q73:T73/5),0)","v":0},{"$f":"TERM3!Z70","v":"0"},{"$f":"TERM3!AR70","v":"0"},{"$f":"TERM3!BJ70","v":"0"},{"$f":"TERM3!CB70","v":"0"},{"$f":"TERM3!CT70","v":"0"},{"$f":"ROUND(SUM(V73:Z73/5),0)","v":0},0,0,{"$f":"TERM1!DO70","v":0},0,{"$f":"TERM2!CE70","v":0},0,{"$f":"TERM3!CW70","v":0},0,0,null,0,"",{"$f":"'FIN PAT MARK SHEET'!AH72","v":0},"",null,null,0,0,""]
[null,56,56,null,{"$f":"Insert!A58","v":0},{"$f":"Insert!B58","v":0},{"$f":"Insert!C58","v":0},{"$f":"Insert!D58","v":0},{"$f":"Insert!E58","v":0},{"$f":"TERM1!Z71","v":"0"},{"$f":"TERM1!AR71","v":"0"},{"$f":"TERM1!BJ71","v":"0"},{"$f":"TERM1!CB71","v":"0"},{"$f":"TERM1!CT71","v":0},{"$f":"TERM1!DL71","v":"0"},0,{"$f":"TERM2!Z71","v":"0"},{"$f":"TERM2!AR71","v":"0"},{"$f":"TERM2!BJ71","v":"0"},{"$f":"TERM2!CB71","v":"0"},{"$f":"ROUND(SUM(Q74:T74/5),0)","v":0},{"$f":"TERM3!Z71","v":"0"},{"$f":"TERM3!AR71","v":"0"},{"$f":"TERM3!BJ71","v":"0"},{"$f":"TERM3!CB71","v":"0"},{"$f":"TERM3!CT71","v":"0"},{"$f":"ROUND(SUM(V74:Z74/5),0)","v":0},0,0,{"$f":"TERM1!DO71","v":0},0,{"$f":"TERM2!CE71","v":0},0,{"$f":"TERM3!CW71","v":0},0,0,null,0,"",{"$f":"'FIN PAT MARK SHEET'!AH73","v":0},"",null,null,0,0,""]
[null,57,57,null,{"$f":"Insert!A59","v":0},{"$f":"Insert!B59","v":0},{"$f":"Insert!C59","v":0},{"$f":"Insert!D59","v":0},{"$f":"Insert!E59","v":0},{"$f":"TERM1!Z72","v":"0"},{"$f":"TERM1!AR72","v":"0"},{"$f":"TERM1!BJ72","v":"0"},{"$f":"TERM1!CB72","v":"0"},{"$f":"TERM1!CT72","v":0},{"$f":"TERM1!DL72","v":"0"},0,{"$f":"TERM2!Z72","v":"0"},{"$f":"TERM2!AR72","v":"0"},{"$f":"TERM2!BJ72","v":"0"},{"$f":"TERM2!CB72","v":"0"},{"$f":"ROUND(SUM(Q75:T75/5),0)","v":0},{"$f":"TERM3!Z72","v":"0"},{"$f":"TERM3!AR72","v":"0"},{"$f":"TERM3!BJ72","v":"0"},{"$f":"TERM3!CB72","v":"0"},{"$f":"TERM3!CT72","v":"0"},{"$f":"ROUND(SUM(V75:Z75/5),0)","v":0},0,0,{"$f":"TERM1!DO72","v":0},0,{"$f":"TERM2!CE72","v":0},0,{"$f":"TERM3!CW72","v":0},0,0,null,0,"",{"$f":"'FIN PAT MARK SHEET'!AH74","v":0},"",null,null,0,0,""]
[null,58,58,null,{"$f":"Insert!A60","v":0},{"$f":"Insert!B60","v":0},{"$f":"Insert!C60","v":0},{"$f":"Insert!D60","v":0},{"$f":"Insert!E60","v":0},{"$f":"TERM1!Z73","v":"0"},{"$f":"TERM1!AR73","v":"0"},{"$f":"TERM1!BJ73","v":"0"},{"$f":"TERM1!CB73","v":"0"},{"$f":"TERM1!CT73","v":0},{"$f":"TERM1!DL73","v":"0"},0,{"$f":"TERM2!Z73","v":"0"},{"$f":"TERM2!AR73","v":"0"},{"$f":"TERM2!BJ73","v":"0"},{"$f":"TERM2!CB73","v":"0"},{"$f":"ROUND(SUM(Q76:T76/5),0)","v":0},{"$f":"TERM3!Z73","v":"0"},{"$f":"TERM3!AR73","v":"0"},{"$f":"TERM3!BJ73","v":"0"},{"$f":"TERM3!CB73","v":"0"},{"$f":"TERM3!CT73","v":"0"},{"$f":"ROUND(SUM(V76:Z76/5),0)","v":0},0,0,{"$f":"TERM1!DO73","v":0},0,{"$f":"TERM2!CE73","v":0},0,{"$f":"TERM3!CW73","v":0},0,0,null,0,"",{"$f":"'FIN PAT MARK SHEET'!AH75","v":0},"",null,null,0,0,""]
[null,59,59,null,{"$f":"Insert!A61","v":0},{"$f":"Insert!B61","v":0},{"$f":"Insert!C61","v":0},{"$f":"Insert!D61","v":0},{"$f":"Insert!E61","v":0},{"$f":"TERM1!Z74","v":"0"},{"$f":"TERM1!AR74","v":"0"},{"$f":"TERM1!BJ74","v":"0"},{"$f":"TERM1!CB74","v":"0"},{"$f":"TERM1!CT74","v":0},{"$f":"TERM1!DL74","v":"0"},0,{"$f":"TERM2!Z74","v":"0"},{"$f":"TERM2!AR74","v":"0"},{"$f":"TERM2!BJ74","v":"0"},{"$f":"TERM2!CB74","v":"0"},{"$f":"ROUND(SUM(Q77:T77/5),0)","v":0},{"$f":"TERM3!Z74","v":"0"},{"$f":"TERM3!AR74","v":"0"},{"$f":"TERM3!BJ74","v":"0"},{"$f":"TERM3!CB74","v":"0"},{"$f":"TERM3!CT74","v":"0"},{"$f":"ROUND(SUM(V77:Z77/5),0)","v":0},0,0,{"$f":"TERM1!DO74","v":0},0,{"$f":"TERM2!CE74","v":0},0,{"$f":"TERM3!CW74","v":0},0,0,null,0,"",{"$f":"'FIN PAT MARK SHEET'!AH76","v":0},"",null,null,0,0,""]
[null,60,60,null,{"$f":"Insert!A62","v":0},{"$f":"Insert!B62","v":0},{"$f":"Insert!C62","v":0},{"$f":"Insert!D62","v":0},{"$f":"Insert!E62","v":0},{"$f":"TERM1!Z75","v":"0"},{"$f":"TERM1!AR75","v":"0"},{"$f":"TERM1!BJ75","v":"0"},{"$f":"TERM1!CB75","v":"0"},{"$f":"TERM1!CT75","v":0},{"$f":"TERM1!DL75","v":"0"},0,{"$f":"TERM2!Z75","v":"0"},{"$f":"TERM2!AR75","v":"0"},{"$f":"TERM2!BJ75","v":"0"},{"$f":"TERM2!CB75","v":"0"},{"$f":"ROUND(SUM(Q78:T78/5),0)","v":0},{"$f":"TERM3!Z75","v":"0"},{"$f":"TERM3!AR75","v":"0"},{"$f":"TERM3!BJ75","v":"0"},{"$f":"TERM3!CB75","v":"0"},{"$f":"TERM3!CT75","v":"0"},{"$f":"ROUND(SUM(V78:Z78/5),0)","v":0},0,0,{"$f":"TERM1!DO75","v":0},0,{"$f":"TERM2!CE75","v":0},0,{"$f":"TERM3!CW75","v":0},0,0,null,0,"",{"$f":"'FIN PAT MARK SHEET'!AH77","v":0},"",null,null,0,0,""]
[null,61,61,null,{"$f":"Insert!A63","v":0},{"$f":"Insert!B63","v":0},{"$f":"Insert!C63","v":0},{"$f":"Insert!D63","v":0},{"$f":"Insert!E63","v":0},{"$f":"TERM1!Z76","v":"0"},{"$f":"TERM1!AR76","v":"0"},{"$f":"TERM1!BJ76","v":"0"},{"$f":"TERM1!CB76","v":"0"},{"$f":"TERM1!CT76","v":0},{"$f":"TERM1!DL76","v":"0"},0,{"$f":"TERM2!Z76","v":"0"},{"$f":"TERM2!AR76","v":"0"},{"$f":"TERM2!BJ76","v":"0"},{"$f":"TERM2!CB76","v":"0"},{"$f":"ROUND(SUM(Q79:T79/5),0)","v":0},{"$f":"TERM3!Z76","v":"0"},{"$f":"TERM3!AR76","v":"0"},{"$f":"TERM3!BJ76","v":"0"},{"$f":"TERM3!CB76","v":"0"},{"$f":"TERM3!CT76","v":"0"},{"$f":"ROUND(SUM(V79:Z79/5),0)","v":0},0,0,{"$f":"TERM1!DO76","v":0},0,{"$f":"TERM2!CE76","v":0},0,{"$f":"TERM3!CW76","v":0},0,0,null,0,"",{"$f":"'FIN PAT MARK SHEET'!AH78","v":0},"",null,null,0,0,""]
[null,62,62,null,{"$f":"Insert!A64","v":0},{"$f":"Insert!B64","v":0},{"$f":"Insert!C64","v":0},{"$f":"Insert!D64","v":0},{"$f":"Insert!E64","v":0},{"$f":"TERM1!Z77","v":"0"},{"$f":"TERM1!AR77","v":"0"},{"$f":"TERM1!BJ77","v":"0"},{"$f":"TERM1!CB77","v":"0"},{"$f":"TERM1!CT77","v":0},{"$f":"TERM1!DL77","v":"0"},0,{"$f":"TERM2!Z77","v":"0"},{"$f":"TERM2!AR77","v":"0"},{"$f":"TERM2!BJ77","v":"0"},{"$f":"TERM2!CB77","v":"0"},{"$f":"ROUND(SUM(Q80:T80/5),0)","v":0},{"$f":"TERM3!Z77","v":"0"},{"$f":"TERM3!AR77","v":"0"},{"$f":"TERM3!BJ77","v":"0"},{"$f":"TERM3!CB77","v":"0"},{"$f":"TERM3!CT77","v":"0"},{"$f":"ROUND(SUM(V80:Z80/5),0)","v":0},0,0,{"$f":"TERM1!DO77","v":0},0,{"$f":"TERM2!CE77","v":0},0,{"$f":"TERM3!CW77","v":0},0,0,null,0,"",{"$f":"'FIN PAT MARK SHEET'!AH79","v":0},"",null,null,0,0,""]
[null,63,63,null,{"$f":"Insert!A65","v":0},{"$f":"Insert!B65","v":0},{"$f":"Insert!C65","v":0},{"$f":"Insert!D65","v":0},{"$f":"Insert!E65","v":0},{"$f":"TERM1!Z78","v":"0"},{"$f":"TERM1!AR78","v":"0"},{"$f":"TERM1!BJ78","v":"0"},{"$f":"TERM1!CB78","v":"0"},{"$f":"TERM1!CT78","v":0},{"$f":"TERM1!DL78","v":"0"},0,{"$f":"TERM2!Z78","v":"0"},{"$f":"TERM2!AR78","v":"0"},{"$f":"TERM2!BJ78","v":"0"},{"$f":"TERM2!CB78","v":"0"},{"$f":"ROUND(SUM(Q81:T81/5),0)","v":0},{"$f":"TERM3!Z78","v":"0"},{"$f":"TERM3!AR78","v":"0"},{"$f":"TERM3!BJ78","v":"0"},{"$f":"TERM3!CB78","v":"0"},{"$f":"TERM3!CT78","v":"0"},{"$f":"ROUND(SUM(V81:Z81/5),0)","v":0},0,0,{"$f":"TERM1!DO78","v":0},0,{"$f":"TERM2!CE78","v":0},0,{"$f":"TERM3!CW78","v":0},0,0,null,0,"",{"$f":"'FIN PAT MARK SHEET'!AH80","v":0},"",null,null,0,0,""]
[null,64,64,null,{"$f":"Insert!A66","v":0},{"$f":"Insert!B66","v":0},{"$f":"Insert!C66","v":0},{"$f":"Insert!D66","v":0},{"$f":"Insert!E66","v":0},{"$f":"TERM1!Z79","v":"0"},{"$f":"TERM1!AR79","v":"0"},{"$f":"TERM1!BJ79","v":"0"},{"$f":"TERM1!CB79","v":"0"},{"$f":"TERM1!CT79","v":0},{"$f":"TERM1!DL79","v":"0"},0,{"$f":"TERM2!Z79","v":"0"},{"$f":"TERM2!AR79","v":"0"},{"$f":"TERM2!BJ79","v":"0"},{"$f":"TERM2!CB79","v":"0"},{"$f":"ROUND(SUM(Q82:T82/5),0)","v":0},{"$f":"TERM3!Z79","v":"0"},{"$f":"TERM3!AR79","v":"0"},{"$f":"TERM3!BJ79","v":"0"},{"$f":"TERM3!CB79","v":"0"},{"$f":"TERM3!CT79","v":"0"},{"$f":"ROUND(SUM(V82:Z82/5),0)","v":0},{"$f":"ROUND((SUMIF(J82:Z82,\">0\")),0)","v":0},0,{"$f":"TERM1!DO79","v":0},{"$f":"ROUND(SUM(AD82/3.3333333333333),0)","v":0},{"$f":"TERM2!CE79","v":0},0,{"$f":"TERM3!CW79","v":0},0,0,null,0,null,{"$f":"'FIN PAT MARK SHEET'!AH81","v":0},null,null,null,{"$f":"SUM(AL82+AN82+AP82+AQ82)","v":0},{"$f":"ROUND(SUM(AR82/4),0)","v":0}]
[null,65,65,64,{"$f":"Insert!A67","v":0},{"$f":"Insert!B67","v":0},{"$f":"Insert!C67","v":0},{"$f":"Insert!D67","v":0},{"$f":"Insert!E67","v":0},{"$f":"TERM1!Z80","v":"0"},{"$f":"TERM1!AR80","v":"0"},{"$f":"TERM1!BJ80","v":"0"},{"$f":"TERM1!CB80","v":"0"},{"$f":"TERM1!CT80","v":0},{"$f":"TERM1!DL80","v":"0"},{"$f":"ROUND((SUM(J83:O83)/5),0)","v":0},{"$f":"TERM2!Z80","v":"0"},{"$f":"TERM2!AR80","v":"0"},{"$f":"TERM2!BJ80","v":"0"},{"$f":"TERM2!CB80","v":"0"},{"$f":"ROUND(SUM(Q83:T83/5),0)","v":0},{"$f":"TERM3!Z80","v":"0"},{"$f":"TERM3!AR80","v":"0"},{"$f":"TERM3!BJ80","v":"0"},{"$f":"TERM3!CB80","v":"0"},{"$f":"TERM3!CT80","v":"0"},{"$f":"ROUND(SUM(V83:Z83/5),0)","v":0},0,0,{"$f":"TERM1!DO80","v":0},0,{"$f":"TERM2!CE80","v":0},{"$f":"ROUND(SUM(AF83/7.2),0)","v":0},{"$f":"TERM3!CW80","v":0},{"$f":"SUM(AH83/4.4444444444)","v":0},{"$f":"SUM(AG83+AI83)","v":0},null,0,"",{"$f":"'FIN PAT MARK SHEET'!AH82","v":0},"",null,null,0,0,""]
[null,66,66,65,{"$f":"Insert!A68","v":0},{"$f":"Insert!B68","v":0},{"$f":"Insert!C68","v":0},{"$f":"Insert!D68","v":0},{"$f":"Insert!E68","v":0},{"$f":"TERM1!Z81","v":"0"},{"$f":"TERM1!AR81","v":"0"},{"$f":"TERM1!BJ81","v":"0"},{"$f":"TERM1!CB81","v":"0"},{"$f":"TERM1!CT81","v":0},{"$f":"TERM1!DL81","v":"0"},0,{"$f":"TERM2!Z81","v":"0"},{"$f":"TERM2!AR81","v":"0"},{"$f":"TERM2!BJ81","v":"0"},{"$f":"TERM2!CB81","v":"0"},{"$f":"ROUND(SUM(Q84:T84/5),0)","v":0},{"$f":"TERM3!Z81","v":"0"},{"$f":"TERM3!AR81","v":"0"},{"$f":"TERM3!BJ81","v":"0"},{"$f":"TERM3!CB81","v":"0"},{"$f":"TERM3!CT81","v":"0"},{"$f":"ROUND(SUM(V84:Z84/5),0)","v":0},0,{"$f":"SUM(P84+U84+AA84)","v":0},{"$f":"TERM1!DO81","v":0},0,{"$f":"TERM2!CE81","v":0},0,{"$f":"TERM3!CW81","v":0},0,0,null,{"$f":"SUM(AC84+AJ84)","v":0},{"$f":"IF(AL84>79,\"7\",IF(AL84>69,\"6\",IF(AL84>59,\"5\",IF(AL84>49,\"4\",IF(AL84>39,\"3\",IF(AL84>29,\"2\",IF(AL84>0,\"1\",IF(AL84=0,\"\"))))))))","v":""},{"$f":"'FIN PAT MARK SHEET'!AH83","v":0},{"$f":"IF(AN84>79,\"7\",IF(AN84>69,\"6\",IF(AN84>59,\"5\",IF(AN84>49,\"4\",IF(AN84>39,\"3\",IF(AN84>29,\"2\",IF(AN84>0,\"1\",IF(AN84=0,\"\"))))))))","v":""},null,null,0,0,{"$f":"IF(AS84>79,\"7\",IF(AS84>69,\"6\",IF(AS84>59,\"5\",IF(AS84>49,\"4\",IF(AS84>39,\"3\",IF(AS84>29,\"2\",IF(AS84>0,\"1\",IF(AS84=0,\"\"))))))))","v":""}]
[null,67,67,null,{"$f":"Insert!A69","v":0},{"$f":"Insert!B69","v":0},{"$f":"Insert!C69","v":0},{"$f":"Insert!D69","v":0},{"$f":"Insert!E69","v":0},{"$f":"TERM1!Z82","v":"0"},{"$f":"TERM1!AR82","v":"0"},{"$f":"TERM1!BJ82","v":"0"},{"$f":"TERM1!CB82","v":"0"},{"$f":"TERM1!CT82","v":0},{"$f":"TERM1!DL82","v":"0"},0,{"$f":"TERM2!Z82","v":"0"},{"$f":"TERM2!AR82","v":"0"},{"$f":"TERM2!BJ82","v":"0"},{"$f":"TERM2!CB82","v":"0"},{"$f":"ROUND(SUM(Q85:T85/5),0)","v":0},{"$f":"TERM3!Z82","v":"0"},{"$f":"TERM3!AR82","v":"0"},{"$f":"TERM3!BJ82","v":"0"},{"$f":"TERM3!CB82","v":"0"},{"$f":"TERM3!CT82","v":"0"},{"$f":"ROUND(SUM(V85:Z85/5),0)","v":0},0,0,{"$f":"TERM1!DO82","v":0},0,{"$f":"TERM2!CE82","v":0},0,{"$f":"TERM3!CW82","v":0},0,0,null,0,"",{"$f":"'FIN PAT MARK SHEET'!AH84","v":0},"",null,null,0,0,""]
[null,68,68,67,{"$f":"Insert!A70","v":0},{"$f":"Insert!B70","v":0},{"$f":"Insert!C70","v":0},{"$f":"Insert!D70","v":0},{"$f":"Insert!E70","v":0},{"$f":"TERM1!Z83","v":"0"},{"$f":"TERM1!AR83","v":"0"},{"$f":"TERM1!BJ83","v":"0"},{"$f":"TERM1!CB83","v":"0"},{"$f":"TERM1!CT83","v":0},{"$f":"TERM1!DL83","v":"0"},0,{"$f":"TERM2!Z83","v":"0"},{"$f":"TERM2!AR83","v":"0"},{"$f":"TERM2!BJ83","v":"0"},{"$f":"TERM2!CB83","v":"0"},{"$f":"ROUND(SUM(Q86:T86/5),0)","v":0},{"$f":"TERM3!Z83","v":"0"},{"$f":"TERM3!AR83","v":"0"},{"$f":"TERM3!BJ83","v":"0"},{"$f":"TERM3!CB83","v":"0"},{"$f":"TERM3!CT83","v":"0"},{"$f":"ROUND(SUM(V86:Z86/5),0)","v":0},0,0,{"$f":"TERM1!DO83","v":0},0,{"$f":"TERM2!CE83","v":0},0,{"$f":"TERM3!CW83","v":0},0,0,null,0,"",{"$f":"'FIN PAT MARK SHEET'!AH85","v":0},"",null,null,{"$f":"SUM(AL86+AN86+AP86+AQ86)","v":0},{"$f":"ROUND(SUM(AR86/4),0)","v":0},""]
[null,69,69,68,{"$f":"Insert!A71","v":0},{"$f":"Insert!B71","v":0},{"$f":"Insert!C71","v":0},{"$f":"Insert!D71","v":0},{"$f":"Insert!E71","v":0},{"$f":"TERM1!Z84","v":"0"},{"$f":"TERM1!AR84","v":"0"},{"$f":"TERM1!BJ84","v":"0"},{"$f":"TERM1!CB84","v":"0"},{"$f":"TERM1!CT84","v":0},{"$f":"TERM1!DL84","v":"0"},0,{"$f":"TERM2!Z84","v":"0"},{"$f":"TERM2!AR84","v":"0"},{"$f":"TERM2!BJ84","v":"0"},{"$f":"TERM2!CB84","v":"0"},{"$f":"ROUND(SUM(Q87:T87/5),0)","v":0},{"$f":"TERM3!Z84","v":"0"},{"$f":"TERM3!AR84","v":"0"},{"$f":"TERM3!BJ84","v":"0"},{"$f":"TERM3!CB84","v":"0"},{"$f":"TERM3!CT84","v":"0"},{"$f":"ROUND(SUM(V87:Z87/5),0)","v":0},0,0,{"$f":"TERM1!DO84","v":0},0,{"$f":"TERM2!CE84","v":0},0,{"$f":"TERM3!CW84","v":0},0,0,null,0,"",{"$f":"'FIN PAT MARK SHEET'!AH86","v":0},"",null,null,0,0,""]
[null,70,70,69,{"$f":"Insert!A72","v":0},{"$f":"Insert!B72","v":0},{"$f":"Insert!C72","v":0},{"$f":"Insert!D72","v":0},{"$f":"Insert!E72","v":0},{"$f":"TERM1!Z85","v":"0"},{"$f":"TERM1!AR85","v":"0"},{"$f":"TERM1!BJ85","v":"0"},{"$f":"TERM1!CB85","v":"0"},{"$f":"TERM1!CT85","v":0},{"$f":"TERM1!DL85","v":"0"},0,{"$f":"TERM2!Z85","v":"0"},{"$f":"TERM2!AR85","v":"0"},{"$f":"TERM2!BJ85","v":"0"},{"$f":"TERM2!CB85","v":"0"},{"$f":"ROUND(SUM(Q88:T88/5),0)","v":0},{"$f":"TERM3!Z85","v":"0"},{"$f":"TERM3!AR85","v":"0"},{"$f":"TERM3!BJ85","v":"0"},{"$f":"TERM3!CB85","v":"0"},{"$f":"TERM3!CT85","v":"0"},{"$f":"ROUND(SUM(V88:Z88/5),0)","v":0},0,0,{"$f":"TERM1!DO85","v":0},0,{"$f":"TERM2!CE85","v":0},0,{"$f":"TERM3!CW85","v":0},0,0,null,0,"",{"$f":"'FIN PAT MARK SHEET'!AH87","v":0},"",null,null,0,0,""]
[null,71,71,70,{"$f":"Insert!A73","v":0},{"$f":"Insert!B73","v":0},{"$f":"Insert!C73","v":0},{"$f":"Insert!D73","v":0},{"$f":"Insert!E73","v":0},{"$f":"TERM1!Z86","v":"0"},{"$f":"TERM1!AR86","v":"0"},{"$f":"TERM1!BJ86","v":"0"},{"$f":"TERM1!CB86","v":"0"},{"$f":"TERM1!CT86","v":0},{"$f":"TERM1!DL86","v":"0"},0,{"$f":"TERM2!Z86","v":"0"},{"$f":"TERM2!AR86","v":"0"},{"$f":"TERM2!BJ86","v":"0"},{"$f":"TERM2!CB86","v":"0"},{"$f":"ROUND(SUM(Q89:T89/5),0)","v":0},{"$f":"TERM3!Z86","v":"0"},{"$f":"TERM3!AR86","v":"0"},{"$f":"TERM3!BJ86","v":"0"},{"$f":"TERM3!CB86","v":"0"},{"$f":"TERM3!CT86","v":"0"},{"$f":"ROUND(SUM(V89:Z89/5),0)","v":0},0,0,{"$f":"TERM1!DO86","v":0},0,{"$f":"TERM2!CE86","v":0},0,{"$f":"TERM3!CW86","v":0},0,0,null,0,"",{"$f":"'FIN PAT MARK SHEET'!AH88","v":0},"",null,null,0,0,""]
[null,72,72,71,{"$f":"Insert!A74","v":0},{"$f":"Insert!B74","v":0},{"$f":"Insert!C74","v":0},{"$f":"Insert!D74","v":0},{"$f":"Insert!E74","v":0},{"$f":"TERM1!Z87","v":"0"},{"$f":"TERM1!AR87","v":"0"},{"$f":"TERM1!BJ87","v":"0"},{"$f":"TERM1!CB87","v":"0"},{"$f":"TERM1!CT87","v":0},{"$f":"TERM1!DL87","v":"0"},0,{"$f":"TERM2!Z87","v":"0"},{"$f":"TERM2!AR87","v":"0"},{"$f":"TERM2!BJ87","v":"0"},{"$f":"TERM2!CB87","v":"0"},{"$f":"ROUND(SUM(Q90:T90/5),0)","v":0},{"$f":"TERM3!Z87","v":"0"},{"$f":"TERM3!AR87","v":"0"},{"$f":"TERM3!BJ87","v":"0"},{"$f":"TERM3!CB87","v":"0"},{"$f":"TERM3!CT87","v":"0"},{"$f":"ROUND(SUM(V90:Z90/5),0)","v":0},0,0,{"$f":"TERM1!DO87","v":0},0,{"$f":"TERM2!CE87","v":0},0,{"$f":"TERM3!CW87","v":0},0,0,null,0,"",{"$f":"'FIN PAT MARK SHEET'!AH89","v":0},"",null,null,0,0,""]
[null,73,73,72,{"$f":"Insert!A75","v":0},{"$f":"Insert!B75","v":0},{"$f":"Insert!C75","v":0},{"$f":"Insert!D75","v":0},{"$f":"Insert!E75","v":0},{"$f":"TERM1!Z87","v":"0"},{"$f":"TERM1!AR87","v":"0"},{"$f":"TERM1!BJ87","v":"0"},{"$f":"TERM1!CB87","v":"0"},{"$f":"TERM1!CT87","v":0},{"$f":"TERM1!DL87","v":"0"},0,{"$f":"TERM2!Z87","v":"0"},{"$f":"TERM2!AR87","v":"0"},{"$f":"TERM2!BJ87","v":"0"},{"$f":"TERM2!CB87","v":"0"},{"$f":"ROUND(SUM(Q91:T91/5),0)","v":0},{"$f":"TERM3!Z87","v":"0"},{"$f":"TERM3!AR87","v":"0"},{"$f":"TERM3!BJ87","v":"0"},{"$f":"TERM3!CB87","v":"0"},{"$f":"TERM3!CT87","v":"0"},{"$f":"ROUND(SUM(V91:Z91/5),0)","v":0},{"$f":"ROUND((SUMIF(J91:Z91,\">0\")),0)","v":0},0,{"$f":"TERM1!DO87","v":0},{"$f":"ROUND(SUM(AD91/3.3333333333333),0)","v":0},{"$f":"TERM2!CE87","v":0},0,{"$f":"TERM3!CW87","v":0},0,0,null,0,"",{"$f":"'FIN PAT MARK SHEET'!AH90","v":0},"",null,null,0,0,""]
[null,74,74,73,{"$f":"Insert!A76","v":0},{"$f":"Insert!B76","v":0},{"$f":"Insert!C76","v":0},{"$f":"Insert!D76","v":0},{"$f":"Insert!E76","v":0},{"$f":"TERM1!Z88","v":"0"},{"$f":"TERM1!AR88","v":"0"},{"$f":"TERM1!BJ88","v":"0"},{"$f":"TERM1!CB88","v":"0"},{"$f":"TERM1!CT88","v":0},{"$f":"TERM1!DL88","v":"0"},0,{"$f":"TERM2!Z88","v":"0"},{"$f":"TERM2!AR88","v":"0"},{"$f":"TERM2!BJ88","v":"0"},{"$f":"TERM2!CB88","v":"0"},{"$f":"ROUND(SUM(Q92:T92/5),0)","v":0},{"$f":"TERM3!Z88","v":"0"},{"$f":"TERM3!AR88","v":"0"},{"$f":"TERM3!BJ88","v":"0"},{"$f":"TERM3!CB88","v":"0"},{"$f":"TERM3!CT88","v":"0"},{"$f":"ROUND(SUM(V92:Z92/5),0)","v":0},0,0,{"$f":"TERM1!DO88","v":0},0,{"$f":"TERM2!CE88","v":0},0,{"$f":"TERM3!CW88","v":0},0,0,null,0,"",{"$f":"'FIN PAT MARK SHEET'!AH91","v":0},"",null,null,0,0,""]
[null,75,75,74,{"$f":"Insert!A77","v":0},{"$f":"Insert!B77","v":0},{"$f":"Insert!C77","v":0},{"$f":"Insert!D77","v":0},{"$f":"Insert!E77","v":0},{"$f":"TERM1!Z89","v":"0"},{"$f":"TERM1!AR89","v":"0"},{"$f":"TERM1!BJ89","v":"0"},{"$f":"TERM1!CB89","v":"0"},{"$f":"TERM1!CT89","v":0},{"$f":"TERM1!DL89","v":"0"},0,{"$f":"TERM2!Z89","v":"0"},{"$f":"TERM2!AR89","v":"0"},{"$f":"TERM2!BJ89","v":"0"},{"$f":"TERM2!CB89","v":"0"},{"$f":"ROUND(SUM(Q93:T93/5),0)","v":0},{"$f":"TERM3!Z89","v":"0"},{"$f":"TERM3!AR89","v":"0"},{"$f":"TERM3!BJ89","v":"0"},{"$f":"TERM3!CB89","v":"0"},{"$f":"TERM3!CT89","v":"0"},{"$f":"ROUND(SUM(V93:Z93/5),0)","v":0},0,0,{"$f":"TERM1!DO89","v":0},0,{"$f":"TERM2!CE89","v":0},0,{"$f":"TERM3!CW89","v":0},0,0,null,0,"",{"$f":"'FIN PAT MARK SHEET'!AH92","v":0},"",null,null,0,0,""]
[null,76,76,75,{"$f":"Insert!A78","v":0},{"$f":"Insert!B78","v":0},{"$f":"Insert!C78","v":0},{"$f":"Insert!D78","v":0},{"$f":"Insert!E78","v":0},{"$f":"TERM1!Z90","v":"0"},{"$f":"TERM1!AR90","v":"0"},{"$f":"TERM1!BJ90","v":"0"},{"$f":"TERM1!CB90","v":"0"},{"$f":"TERM1!CT90","v":0},{"$f":"TERM1!DL90","v":"0"},0,{"$f":"TERM2!Z90","v":"0"},{"$f":"TERM2!AR90","v":"0"},{"$f":"TERM2!BJ90","v":"0"},{"$f":"TERM2!CB90","v":"0"},{"$f":"ROUND(SUM(Q94:T94/5),0)","v":0},{"$f":"TERM3!Z90","v":"0"},{"$f":"TERM3!AR90","v":"0"},{"$f":"TERM3!BJ90","v":"0"},{"$f":"TERM3!CB90","v":"0"},{"$f":"TERM3!CT90","v":"0"},{"$f":"ROUND(SUM(V94:Z94/5),0)","v":0},0,0,{"$f":"TERM1!DO90","v":0},0,{"$f":"TERM2!CE90","v":0},0,{"$f":"TERM3!CW90","v":0},0,0,null,0,"",{"$f":"'FIN PAT MARK SHEET'!AH93","v":0},"",null,null,0,0,""]
[null,77,77,76,{"$f":"Insert!A79","v":0},{"$f":"Insert!B79","v":0},{"$f":"Insert!C79","v":0},{"$f":"Insert!D79","v":0},{"$f":"Insert!E79","v":0},{"$f":"TERM1!Z91","v":"0"},{"$f":"TERM1!AR91","v":"0"},{"$f":"TERM1!BJ91","v":"0"},{"$f":"TERM1!CB91","v":"0"},{"$f":"TERM1!CT91","v":0},{"$f":"TERM1!DL91","v":"0"},0,{"$f":"TERM2!Z91","v":"0"},{"$f":"TERM2!AR91","v":"0"},{"$f":"TERM2!BJ91","v":"0"},{"$f":"TERM2!CB91","v":"0"},{"$f":"ROUND(SUM(Q95:T95/5),0)","v":0},{"$f":"TERM3!Z91","v":"0"},{"$f":"TERM3!AR91","v":"0"},{"$f":"TERM3!BJ91","v":"0"},{"$f":"TERM3!CB91","v":"0"},{"$f":"TERM3!CT91","v":"0"},{"$f":"ROUND(SUM(V95:Z95/5),0)","v":0},0,0,{"$f":"TERM1!DO91","v":0},0,{"$f":"TERM2!CE91","v":0},0,{"$f":"TERM3!CW91","v":0},0,0,null,0,"",{"$f":"'FIN PAT MARK SHEET'!AH94","v":0},"",null,null,0,0,""]
[null,78,78,77,{"$f":"Insert!A80","v":0},{"$f":"Insert!B80","v":0},{"$f":"Insert!C80","v":0},{"$f":"Insert!D80","v":0},{"$f":"Insert!E80","v":0},{"$f":"TERM1!Z92","v":"0"},{"$f":"TERM1!AR92","v":"0"},{"$f":"TERM1!BJ92","v":"0"},{"$f":"TERM1!CB92","v":"0"},{"$f":"TERM1!CT92","v":0},{"$f":"TERM1!DL92","v":"0"},0,{"$f":"TERM2!Z92","v":"0"},{"$f":"TERM2!AR92","v":"0"},{"$f":"TERM2!BJ92","v":"0"},{"$f":"TERM2!CB92","v":"0"},{"$f":"ROUND(SUM(Q96:T96/5),0)","v":0},{"$f":"TERM3!Z92","v":"0"},{"$f":"TERM3!AR92","v":"0"},{"$f":"TERM3!BJ92","v":"0"},{"$f":"TERM3!CB92","v":"0"},{"$f":"TERM3!CT92","v":"0"},{"$f":"ROUND(SUM(V96:Z96/5),0)","v":0},0,0,{"$f":"TERM1!DO92","v":0},0,{"$f":"TERM2!CE92","v":0},0,{"$f":"TERM3!CW92","v":0},0,0,null,0,"",{"$f":"'FIN PAT MARK SHEET'!AH95","v":0},"",null,null,0,0,""]
[null,79,79,78,{"$f":"Insert!A81","v":0},{"$f":"Insert!B81","v":0},{"$f":"Insert!C81","v":0},{"$f":"Insert!D81","v":0},{"$f":"Insert!E81","v":0},{"$f":"TERM1!Z93","v":"0"},{"$f":"TERM1!AR93","v":"0"},{"$f":"TERM1!BJ93","v":"0"},{"$f":"TERM1!CB93","v":"0"},{"$f":"TERM1!CT93","v":0},{"$f":"TERM1!DL93","v":"0"},0,{"$f":"TERM2!Z93","v":"0"},{"$f":"TERM2!AR93","v":"0"},{"$f":"TERM2!BJ93","v":"0"},{"$f":"TERM2!CB93","v":"0"},{"$f":"ROUND(SUM(Q97:T97/5),0)","v":0},{"$f":"TERM3!Z93","v":"0"},{"$f":"TERM3!AR93","v":"0"},{"$f":"TERM3!BJ93","v":"0"},{"$f":"TERM3!CB93","v":"0"},{"$f":"TERM3!CT93","v":"0"},{"$f":"ROUND(SUM(V97:Z97/5),0)","v":0},0,0,{"$f":"TERM1!DO93","v":0},0,{"$f":"TERM2!CE93","v":0},0,{"$f":"TERM3!CW93","v":0},0,0,null,0,"",{"$f":"'FIN PAT MARK SHEET'!AH96","v":0},"",null,null,0,0,""]
[null,80,80,79,{"$f":"Insert!A82","v":0},{"$f":"Insert!B82","v":0},{"$f":"Insert!C82","v":0},{"$f":"Insert!D82","v":0},{"$f":"Insert!E82","v":0},{"$f":"TERM1!Z94","v":"0"},{"$f":"TERM1!AR94","v":"0"},{"$f":"TERM1!BJ94","v":"0"},{"$f":"TERM1!CB94","v":"0"},{"$f":"TERM1!CT94","v":0},{"$f":"TERM1!DL94","v":"0"},0,{"$f":"TERM2!Z94","v":"0"},{"$f":"TERM2!AR94","v":"0"},{"$f":"TERM2!BJ94","v":"0"},{"$f":"TERM2!CB94","v":"0"},{"$f":"ROUND(SUM(Q98:T98/5),0)","v":0},{"$f":"TERM3!Z94","v":"0"},{"$f":"TERM3!AR94","v":"0"},{"$f":"TERM3!BJ94","v":"0"},{"$f":"TERM3!CB94","v":"0"},{"$f":"TERM3!CT94","v":"0"},{"$f":"ROUND(SUM(V98:Z98/5),0)","v":0},0,0,{"$f":"TERM1!DO94","v":0},0,{"$f":"TERM2!CE94","v":0},0,{"$f":"TERM3!CW94","v":0},0,0,null,0,"",{"$f":"'FIN PAT MARK SHEET'!AH97","v":0},"",null,null,0,0,""]
[null,81,81,80,{"$f":"Insert!A83","v":0},{"$f":"Insert!B83","v":0},{"$f":"Insert!C83","v":0},{"$f":"Insert!D83","v":0},{"$f":"Insert!E83","v":0},{"$f":"TERM1!Z95","v":"0"},{"$f":"TERM1!AR95","v":"0"},{"$f":"TERM1!BJ95","v":"0"},{"$f":"TERM1!CB95","v":"0"},{"$f":"TERM1!CT95","v":0},{"$f":"TERM1!DL95","v":"0"},0,{"$f":"TERM2!Z95","v":"0"},{"$f":"TERM2!AR95","v":"0"},{"$f":"TERM2!BJ95","v":"0"},{"$f":"TERM2!CB95","v":"0"},{"$f":"ROUND(SUM(Q99:T99/5),0)","v":0},{"$f":"TERM3!Z95","v":"0"},{"$f":"TERM3!AR95","v":"0"},{"$f":"TERM3!BJ95","v":"0"},{"$f":"TERM3!CB95","v":"0"},{"$f":"TERM3!CT95","v":"0"},{"$f":"ROUND(SUM(V99:Z99/5),0)","v":0},0,0,{"$f":"TERM1!DO95","v":0},0,{"$f":"TERM2!CE95","v":0},0,{"$f":"TERM3!CW95","v":0},0,0,null,0,"",{"$f":"'FIN PAT MARK SHEET'!AH98","v":0},"",null,null,0,0,""]
[null,82,82,81,{"$f":"Insert!A84","v":0},{"$f":"Insert!B84","v":0},{"$f":"Insert!C84","v":0},{"$f":"Insert!D84","v":0},{"$f":"Insert!E84","v":0},{"$f":"TERM1!Z96","v":"0"},{"$f":"TERM1!AR96","v":"0"},{"$f":"TERM1!BJ96","v":"0"},{"$f":"TERM1!CB96","v":"0"},{"$f":"TERM1!CT96","v":0},{"$f":"TERM1!DL96","v":"0"},0,{"$f":"TERM2!Z96","v":"0"},{"$f":"TERM2!AR96","v":"0"},{"$f":"TERM2!BJ96","v":"0"},{"$f":"TERM2!CB96","v":"0"},{"$f":"ROUND(SUM(Q100:T100/5),0)","v":0},{"$f":"TERM3!Z96","v":"0"},{"$f":"TERM3!AR96","v":"0"},{"$f":"TERM3!BJ96","v":"0"},{"$f":"TERM3!CB96","v":"0"},{"$f":"TERM3!CT96","v":"0"},{"$f":"ROUND(SUM(V100:Z100/5),0)","v":0},0,0,{"$f":"TERM1!DO96","v":0},0,{"$f":"TERM2!CE96","v":0},0,{"$f":"TERM3!CW96","v":0},0,0,null,0,"",{"$f":"'FIN PAT MARK SHEET'!AH99","v":0},"",null,null,0,0,""]
[null,83,83,82,{"$f":"Insert!A85","v":0},{"$f":"Insert!B85","v":0},{"$f":"Insert!C85","v":0},{"$f":"Insert!D85","v":0},{"$f":"Insert!E85","v":0},{"$f":"TERM1!Z97","v":"0"},{"$f":"TERM1!AR97","v":"0"},{"$f":"TERM1!BJ97","v":"0"},{"$f":"TERM1!CB97","v":"0"},{"$f":"TERM1!CT97","v":0},{"$f":"TERM1!DL97","v":"0"},0,{"$f":"TERM2!Z97","v":"0"},{"$f":"TERM2!AR97","v":"0"},{"$f":"TERM2!BJ97","v":"0"},{"$f":"TERM2!CB97","v":"0"},{"$f":"ROUND(SUM(Q101:T101/5),0)","v":0},{"$f":"TERM3!Z97","v":"0"},{"$f":"TERM3!AR97","v":"0"},{"$f":"TERM3!BJ97","v":"0"},{"$f":"TERM3!CB97","v":"0"},{"$f":"TERM3!CT97","v":"0"},{"$f":"ROUND(SUM(V101:Z101/5),0)","v":0},0,0,{"$f":"TERM1!DO97","v":0},0,{"$f":"TERM2!CE97","v":0},0,{"$f":"TERM3!CW97","v":0},0,0,null,0,"",{"$f":"'FIN PAT MARK SHEET'!AH100","v":0},"",null,null,0,0,""]
[null,84,84,83,{"$f":"Insert!A86","v":0},{"$f":"Insert!B86","v":0},{"$f":"Insert!C86","v":0},{"$f":"Insert!D86","v":0},{"$f":"Insert!E86","v":0},{"$f":"TERM1!Z98","v":"0"},{"$f":"TERM1!AR98","v":"0"},{"$f":"TERM1!BJ98","v":"0"},{"$f":"TERM1!CB98","v":"0"},{"$f":"TERM1!CT98","v":0},{"$f":"TERM1!DL98","v":"0"},0,{"$f":"TERM2!Z98","v":"0"},{"$f":"TERM2!AR98","v":"0"},{"$f":"TERM2!BJ98","v":"0"},{"$f":"TERM2!CB98","v":"0"},{"$f":"ROUND(SUM(Q102:T102/5),0)","v":0},{"$f":"TERM3!Z98","v":"0"},{"$f":"TERM3!AR98","v":"0"},{"$f":"TERM3!BJ98","v":"0"},{"$f":"TERM3!CB98","v":"0"},{"$f":"TERM3!CT98","v":"0"},{"$f":"ROUND(SUM(V102:Z102/5),0)","v":0},0,0,{"$f":"TERM1!DO98","v":0},0,{"$f":"TERM2!CE98","v":0},0,{"$f":"TERM3!CW98","v":0},0,0,null,0,"",{"$f":"'FIN PAT MARK SHEET'!AH101","v":0},"",null,null,0,0,""]
[null,85,85,84,{"$f":"Insert!A87","v":0},{"$f":"Insert!B87","v":0},{"$f":"Insert!C87","v":0},{"$f":"Insert!D87","v":0},{"$f":"Insert!E87","v":0},{"$f":"TERM1!Z99","v":"0"},{"$f":"TERM1!AR99","v":"0"},{"$f":"TERM1!BJ99","v":"0"},{"$f":"TERM1!CB99","v":"0"},{"$f":"TERM1!CT99","v":0},{"$f":"TERM1!DL99","v":"0"},0,{"$f":"TERM2!Z99","v":"0"},{"$f":"TERM2!AR99","v":"0"},{"$f":"TERM2!BJ99","v":"0"},{"$f":"TERM2!CB99","v":"0"},{"$f":"ROUND(SUM(Q103:T103/5),0)","v":0},{"$f":"TERM3!Z99","v":"0"},{"$f":"TERM3!AR99","v":"0"},{"$f":"TERM3!BJ99","v":"0"},{"$f":"TERM3!CB99","v":"0"},{"$f":"TERM3!CT99","v":"0"},{"$f":"ROUND(SUM(V103:Z103/5),0)","v":0},0,0,{"$f":"TERM1!DO99","v":0},0,{"$f":"TERM2!CE99","v":0},0,{"$f":"TERM3!CW99","v":0},0,0,null,0,"",{"$f":"'FIN PAT MARK SHEET'!AH102","v":0},"",null,null,0,0,""]
[null,86,86,85,{"$f":"Insert!A88","v":0},{"$f":"Insert!B88","v":0},{"$f":"Insert!C88","v":0},{"$f":"Insert!D88","v":0},{"$f":"Insert!E88","v":0},{"$f":"TERM1!Z100","v":"0"},{"$f":"TERM1!AR100","v":"0"},{"$f":"TERM1!BJ100","v":"0"},{"$f":"TERM1!CB100","v":"0"},{"$f":"TERM1!CT100","v":0},{"$f":"TERM1!DL100","v":"0"},0,{"$f":"TERM2!Z100","v":"0"},{"$f":"TERM2!AR100","v":"0"},{"$f":"TERM2!BJ100","v":"0"},{"$f":"TERM2!CB100","v":"0"},{"$f":"ROUND(SUM(Q104:T104/5),0)","v":0},{"$f":"TERM3!Z100","v":"0"},{"$f":"TERM3!AR100","v":"0"},{"$f":"TERM3!BJ100","v":"0"},{"$f":"TERM3!CB100","v":"0"},{"$f":"TERM3!CT100","v":"0"},{"$f":"ROUND(SUM(V104:Z104/5),0)","v":0},0,0,{"$f":"TERM1!DO100","v":0},0,{"$f":"TERM2!CE100","v":0},0,{"$f":"TERM3!CW100","v":0},0,0,null,0,"",{"$f":"'FIN PAT MARK SHEET'!AH103","v":0},"",null,null,0,0,""]
[null,87,87,86,{"$f":"Insert!A89","v":0},{"$f":"Insert!B89","v":0},{"$f":"Insert!C89","v":0},{"$f":"Insert!D89","v":0},{"$f":"Insert!E89","v":0},{"$f":"TERM1!Z101","v":"0"},{"$f":"TERM1!AR101","v":"0"},{"$f":"TERM1!BJ101","v":"0"},{"$f":"TERM1!CB101","v":"0"},{"$f":"TERM1!CT101","v":0},{"$f":"TERM1!DL101","v":"0"},0,{"$f":"TERM2!Z101","v":"0"},{"$f":"TERM2!AR101","v":"0"},{"$f":"TERM2!BJ101","v":"0"},{"$f":"TERM2!CB101","v":"0"},{"$f":"ROUND(SUM(Q105:T105/5),0)","v":0},{"$f":"TERM3!Z101","v":"0"},{"$f":"TERM3!AR101","v":"0"},{"$f":"TERM3!BJ101","v":"0"},{"$f":"TERM3!CB101","v":"0"},{"$f":"TERM3!CT101","v":"0"},{"$f":"ROUND(SUM(V105:Z105/5),0)","v":0},0,0,{"$f":"TERM1!DO101","v":0},0,{"$f":"TERM2!CE101","v":0},0,{"$f":"TERM3!CW101","v":0},0,0,null,0,"",{"$f":"'FIN PAT MARK SHEET'!AH104","v":0},"",null,null,0,0,""]
[null,88,88,87,{"$f":"Insert!A90","v":0},{"$f":"Insert!B90","v":0},{"$f":"Insert!C90","v":0},{"$f":"Insert!D90","v":0},{"$f":"Insert!E90","v":0},{"$f":"TERM1!Z102","v":"0"},{"$f":"TERM1!AR102","v":"0"},{"$f":"TERM1!BJ102","v":"0"},{"$f":"TERM1!CB102","v":"0"},{"$f":"TERM1!CT102","v":0},{"$f":"TERM1!DL102","v":"0"},0,{"$f":"TERM2!Z102","v":"0"},{"$f":"TERM2!AR102","v":"0"},{"$f":"TERM2!BJ102","v":"0"},{"$f":"TERM2!CB102","v":"0"},{"$f":"ROUND(SUM(Q106:T106/5),0)","v":0},{"$f":"TERM3!Z102","v":"0"},{"$f":"TERM3!AR102","v":"0"},{"$f":"TERM3!BJ102","v":"0"},{"$f":"TERM3!CB102","v":"0"},{"$f":"TERM3!CT102","v":"0"},{"$f":"ROUND(SUM(V106:Z106/5),0)","v":0},0,0,{"$f":"TERM1!DO102","v":0},0,{"$f":"TERM2!CE102","v":0},0,{"$f":"TERM3!CW102","v":0},0,0,null,0,"",{"$f":"'FIN PAT MARK SHEET'!AH105","v":0},"",null,null,0,0,""]
[null,89,89,88,{"$f":"Insert!A91","v":0},{"$f":"Insert!B91","v":0},{"$f":"Insert!C91","v":0},{"$f":"Insert!D91","v":0},{"$f":"Insert!E91","v":0},{"$f":"TERM1!Z103","v":"0"},{"$f":"TERM1!AR103","v":"0"},{"$f":"TERM1!BJ103","v":"0"},{"$f":"TERM1!CB103","v":"0"},{"$f":"TERM1!CT103","v":0},{"$f":"TERM1!DL103","v":"0"},0,{"$f":"TERM2!Z103","v":"0"},{"$f":"TERM2!AR103","v":"0"},{"$f":"TERM2!BJ103","v":"0"},{"$f":"TERM2!CB103","v":"0"},{"$f":"ROUND(SUM(Q107:T107/5),0)","v":0},{"$f":"TERM3!Z103","v":"0"},{"$f":"TERM3!AR103","v":"0"},{"$f":"TERM3!BJ103","v":"0"},{"$f":"TERM3!CB103","v":"0"},{"$f":"TERM3!CT103","v":"0"},{"$f":"ROUND(SUM(V107:Z107/5),0)","v":0},0,0,{"$f":"TERM1!DO103","v":0},0,{"$f":"TERM2!CE103","v":0},0,{"$f":"TERM3!CW103","v":0},0,0,null,0,"",{"$f":"'FIN PAT MARK SHEET'!AH106","v":0},"",null,null,0,0,""]
[null,90,90,89,{"$f":"Insert!A92","v":0},{"$f":"Insert!B92","v":0},{"$f":"Insert!C92","v":0},{"$f":"Insert!D92","v":0},{"$f":"Insert!E92","v":0},{"$f":"TERM1!Z104","v":"0"},{"$f":"TERM1!AR104","v":"0"},{"$f":"TERM1!BJ104","v":"0"},{"$f":"TERM1!CB104","v":"0"},{"$f":"TERM1!CT104","v":0},{"$f":"TERM1!DL104","v":"0"},0,{"$f":"TERM2!Z104","v":"0"},{"$f":"TERM2!AR104","v":"0"},{"$f":"TERM2!BJ104","v":"0"},{"$f":"TERM2!CB104","v":"0"},{"$f":"ROUND(SUM(Q108:T108/5),0)","v":0},{"$f":"TERM3!Z104","v":"0"},{"$f":"TERM3!AR104","v":"0"},{"$f":"TERM3!BJ104","v":"0"},{"$f":"TERM3!CB104","v":"0"},{"$f":"TERM3!CT104","v":"0"},{"$f":"ROUND(SUM(V108:Z108/5),0)","v":0},0,0,{"$f":"TERM1!DO104","v":0},0,{"$f":"TERM2!CE104","v":0},0,{"$f":"TERM3!CW104","v":0},0,0,null,0,"",{"$f":"'FIN PAT MARK SHEET'!AH107","v":0},"",null,null,0,0,""]
[null,91,91,90,{"$f":"Insert!A93","v":0},{"$f":"Insert!B93","v":0},{"$f":"Insert!C93","v":0},{"$f":"Insert!D93","v":0},{"$f":"Insert!E93","v":0},{"$f":"TERM1!Z105","v":"0"},{"$f":"TERM1!AR105","v":"0"},{"$f":"TERM1!BJ105","v":"0"},{"$f":"TERM1!CB105","v":"0"},{"$f":"TERM1!CT105","v":0},{"$f":"TERM1!DL105","v":"0"},0,{"$f":"TERM2!Z105","v":"0"},{"$f":"TERM2!AR105","v":"0"},{"$f":"TERM2!BJ105","v":"0"},{"$f":"TERM2!CB105","v":"0"},{"$f":"ROUND(SUM(Q109:T109/5),0)","v":0},{"$f":"TERM3!Z105","v":"0"},{"$f":"TERM3!AR105","v":"0"},{"$f":"TERM3!BJ105","v":"0"},{"$f":"TERM3!CB105","v":"0"},{"$f":"TERM3!CT105","v":"0"},{"$f":"ROUND(SUM(V109:Z109/5),0)","v":0},0,0,{"$f":"TERM1!DO105","v":0},0,{"$f":"TERM2!CE105","v":0},0,{"$f":"TERM3!CW105","v":0},0,0,null,0,"",{"$f":"'FIN PAT MARK SHEET'!AH108","v":0},"",null,null,0,0,""]
[null,92,92,91,{"$f":"Insert!A94","v":0},{"$f":"Insert!B94","v":0},{"$f":"Insert!C94","v":0},{"$f":"Insert!D94","v":0},{"$f":"Insert!E94","v":0},{"$f":"TERM1!Z106","v":"0"},{"$f":"TERM1!AR106","v":"0"},{"$f":"TERM1!BJ106","v":"0"},{"$f":"TERM1!CB106","v":"0"},{"$f":"TERM1!CT106","v":0},{"$f":"TERM1!DL106","v":"0"},0,{"$f":"TERM2!Z106","v":"0"},{"$f":"TERM2!AR106","v":"0"},{"$f":"TERM2!BJ106","v":"0"},{"$f":"TERM2!CB106","v":"0"},{"$f":"ROUND(SUM(Q110:T110/5),0)","v":0},{"$f":"TERM3!Z106","v":"0"},{"$f":"TERM3!AR106","v":"0"},{"$f":"TERM3!BJ106","v":"0"},{"$f":"TERM3!CB106","v":"0"},{"$f":"TERM3!CT106","v":"0"},{"$f":"ROUND(SUM(V110:Z110/5),0)","v":0},0,0,{"$f":"TERM1!DO106","v":0},0,{"$f":"TERM2!CE106","v":0},0,{"$f":"TERM3!CW106","v":0},0,0,null,0,"",{"$f":"'FIN PAT MARK SHEET'!AH109","v":0},"",null,null,0,0,""]
[null,93,93,null,{"$f":"Insert!A95","v":0},{"$f":"Insert!B95","v":0},{"$f":"Insert!C95","v":0},{"$f":"Insert!D95","v":0},{"$f":"Insert!E95","v":0},{"$f":"TERM1!Z107","v":"0"},{"$f":"TERM1!AR107","v":"0"},{"$f":"TERM1!BJ107","v":"0"},{"$f":"TERM1!CB107","v":"0"},{"$f":"TERM1!CT107","v":0},{"$f":"TERM1!DL107","v":"0"},0,{"$f":"TERM2!Z107","v":"0"},{"$f":"TERM2!AR107","v":"0"},{"$f":"TERM2!BJ107","v":"0"},{"$f":"TERM2!CB107","v":"0"},{"$f":"ROUND(SUM(Q111:T111/5),0)","v":0},{"$f":"TERM3!Z107","v":"0"},{"$f":"TERM3!AR107","v":"0"},{"$f":"TERM3!BJ107","v":"0"},{"$f":"TERM3!CB107","v":"0"},{"$f":"TERM3!CT107","v":"0"},{"$f":"ROUND(SUM(V111:Z111/5),0)","v":0},0,0,{"$f":"TERM1!DO107","v":0},0,{"$f":"TERM2!CE107","v":0},0,{"$f":"TERM3!CW107","v":0},0,0,null,0,"",{"$f":"'FIN PAT MARK SHEET'!AH110","v":0},"",null,null,0,0,""]
[null,94,94,null,{"$f":"Insert!A96","v":0},{"$f":"Insert!B96","v":0},{"$f":"Insert!C96","v":0},{"$f":"Insert!D96","v":0},{"$f":"Insert!E96","v":0},{"$f":"TERM1!Z108","v":"0"},{"$f":"TERM1!AR108","v":"0"},{"$f":"TERM1!BJ108","v":"0"},{"$f":"TERM1!CB108","v":"0"},{"$f":"TERM1!CT108","v":0},{"$f":"TERM1!DL108","v":"0"},0,{"$f":"TERM2!Z108","v":"0"},{"$f":"TERM2!AR108","v":"0"},{"$f":"TERM2!BJ108","v":"0"},{"$f":"TERM2!CB108","v":"0"},{"$f":"ROUND(SUM(Q112:T112/5),0)","v":0},{"$f":"TERM3!Z108","v":"0"},{"$f":"TERM3!AR108","v":"0"},{"$f":"TERM3!BJ108","v":"0"},{"$f":"TERM3!CB108","v":"0"},{"$f":"TERM3!CT108","v":"0"},{"$f":"ROUND(SUM(V112:Z112/5),0)","v":0},0,0,{"$f":"TERM1!DO108","v":0},0,{"$f":"TERM2!CE108","v":0},0,{"$f":"TERM3!CW108","v":0},0,0,null,0,"",{"$f":"'FIN PAT MARK SHEET'!AH111","v":0},"",null,null,0,0,""]
[null,95,95,94,{"$f":"Insert!A97","v":0},{"$f":"Insert!B97","v":0},{"$f":"Insert!C97","v":0},{"$f":"Insert!D97","v":0},{"$f":"Insert!E97","v":0},{"$f":"TERM1!Z109","v":"0"},{"$f":"TERM1!AR109","v":"0"},{"$f":"TERM1!BJ109","v":"0"},{"$f":"TERM1!CB109","v":"0"},{"$f":"TERM1!CT109","v":0},{"$f":"TERM1!DL109","v":"0"},0,{"$f":"TERM2!Z109","v":"0"},{"$f":"TERM2!AR109","v":"0"},{"$f":"TERM2!BJ109","v":"0"},{"$f":"TERM2!CB109","v":"0"},{"$f":"ROUND(SUM(Q113:T113/5),0)","v":0},{"$f":"TERM3!Z109","v":"0"},{"$f":"TERM3!AR109","v":"0"},{"$f":"TERM3!BJ109","v":"0"},{"$f":"TERM3!CB109","v":"0"},{"$f":"TERM3!CT109","v":"0"},{"$f":"ROUND(SUM(V113:Z113/5),0)","v":0},0,0,{"$f":"TERM1!DO109","v":0},0,{"$f":"TERM2!CE109","v":0},0,{"$f":"TERM3!CW109","v":0},0,0,null,0,"",{"$f":"'FIN PAT MARK SHEET'!AH112","v":0},"",null,null,0,0,""]
[null,96,96,95,{"$f":"Insert!A98","v":0},{"$f":"Insert!B98","v":0},{"$f":"Insert!C98","v":0},{"$f":"Insert!D98","v":0},{"$f":"Insert!E98","v":0},{"$f":"TERM1!Z110","v":"0"},{"$f":"TERM1!AR110","v":"0"},{"$f":"TERM1!BJ110","v":"0"},{"$f":"TERM1!CB110","v":"0"},{"$f":"TERM1!CT110","v":0},{"$f":"TERM1!DL110","v":"0"},0,{"$f":"TERM2!Z110","v":"0"},{"$f":"TERM2!AR110","v":"0"},{"$f":"TERM2!BJ110","v":"0"},{"$f":"TERM2!CB110","v":"0"},{"$f":"ROUND(SUM(Q114:T114/5),0)","v":0},{"$f":"TERM3!Z110","v":"0"},{"$f":"TERM3!AR110","v":"0"},{"$f":"TERM3!BJ110","v":"0"},{"$f":"TERM3!CB110","v":"0"},{"$f":"TERM3!CT110","v":"0"},{"$f":"ROUND(SUM(V114:Z114/5),0)","v":0},0,0,{"$f":"TERM1!DO110","v":0},0,{"$f":"TERM2!CE110","v":0},0,{"$f":"TERM3!CW110","v":0},0,0,null,0,"",{"$f":"'FIN PAT MARK SHEET'!AH113","v":0},"",null,null,0,0,""]
[null,97,97,96,{"$f":"Insert!A99","v":0},{"$f":"Insert!B99","v":0},{"$f":"Insert!C99","v":0},{"$f":"Insert!D99","v":0},{"$f":"Insert!E99","v":0},{"$f":"TERM1!Z111","v":"0"},{"$f":"TERM1!AR111","v":"0"},{"$f":"TERM1!BJ111","v":"0"},{"$f":"TERM1!CB111","v":"0"},{"$f":"TERM1!CT111","v":0},{"$f":"TERM1!DL111","v":"0"},0,{"$f":"TERM2!Z111","v":"0"},{"$f":"TERM2!AR111","v":"0"},{"$f":"TERM2!BJ111","v":"0"},{"$f":"TERM2!CB111","v":"0"},{"$f":"ROUND(SUM(Q115:T115/5),0)","v":0},{"$f":"TERM3!Z111","v":"0"},{"$f":"TERM3!AR111","v":"0"},{"$f":"TERM3!BJ111","v":"0"},{"$f":"TERM3!CB111","v":"0"},{"$f":"TERM3!CT111","v":"0"},{"$f":"ROUND(SUM(V115:Z115/5),0)","v":0},0,0,{"$f":"TERM1!DO111","v":0},0,{"$f":"TERM2!CE111","v":0},0,{"$f":"TERM3!CW111","v":0},0,0,null,0,"",{"$f":"'FIN PAT MARK SHEET'!AH114","v":0},"",null,null,0,0,""]
[null,98,98,null,{"$f":"Insert!A100","v":0},{"$f":"Insert!B100","v":0},{"$f":"Insert!C100","v":0},{"$f":"Insert!D100","v":0},{"$f":"Insert!E100","v":0},{"$f":"TERM1!Z112","v":"0"},{"$f":"TERM1!AR112","v":"0"},{"$f":"TERM1!BJ112","v":"0"},{"$f":"TERM1!CB112","v":"0"},{"$f":"TERM1!CT112","v":0},{"$f":"TERM1!DL112","v":"0"},0,{"$f":"TERM2!Z112","v":"0"},{"$f":"TERM2!AR112","v":"0"},{"$f":"TERM2!BJ112","v":"0"},{"$f":"TERM2!CB112","v":"0"},{"$f":"ROUND(SUM(Q116:T116/5),0)","v":0},{"$f":"TERM3!Z112","v":"0"},{"$f":"TERM3!AR112","v":"0"},{"$f":"TERM3!BJ112","v":"0"},{"$f":"TERM3!CB112","v":"0"},{"$f":"TERM3!CT112","v":"0"},{"$f":"ROUND(SUM(V116:Z116/5),0)","v":0},{"$f":"ROUND((SUMIF(J116:Z116,\">0\")),0)","v":0},0,{"$f":"TERM1!DO112","v":0},{"$f":"ROUND(SUM(AD116/3.3333333333333),0)","v":0},{"$f":"TERM2!CE112","v":0},0,{"$f":"TERM3!CW112","v":0},0,0,null,0,{"$f":"IF(AL116>79,\"7\",IF(AL116>69,\"6\",IF(AL116>59,\"5\",IF(AL116>49,\"4\",IF(AL116>39,\"3\",IF(AL116>29,\"2\",IF(AL116>0,\"1\",IF(AL116=0,\"\"))))))))","v":""},{"$f":"'FIN PAT MARK SHEET'!AH115","v":0},{"$f":"IF(AN116>79,\"7\",IF(AN116>69,\"6\",IF(AN116>59,\"5\",IF(AN116>49,\"4\",IF(AN116>39,\"3\",IF(AN116>29,\"2\",IF(AN116>0,\"1\",IF(AN116=0,\"\"))))))))","v":""},null,null,{"$f":"SUM(AL116+AN116+AP116+AQ116)","v":0},{"$f":"ROUND(SUM(AR116/4),0)","v":0},{"$f":"IF(AS116>79,\"7\",IF(AS116>69,\"6\",IF(AS116>59,\"5\",IF(AS116>49,\"4\",IF(AS116>39,\"3\",IF(AS116>29,\"2\",IF(AS116>0,\"1\",IF(AS116=0,\"\"))))))))","v":""}]
[null,99,99,98,{"$f":"Insert!A101","v":0},{"$f":"Insert!B101","v":0},{"$f":"Insert!C101","v":0},{"$f":"Insert!D101","v":0},{"$f":"Insert!E101","v":0},{"$f":"TERM1!Z113","v":"0"},{"$f":"TERM1!AR113","v":"0"},{"$f":"TERM1!BJ113","v":"0"},{"$f":"TERM1!CB113","v":"0"},{"$f":"TERM1!CT113","v":0},{"$f":"TERM1!DL113","v":"0"},0,{"$f":"TERM2!Z113","v":"0"},{"$f":"TERM2!AR113","v":"0"},{"$f":"TERM2!BJ113","v":"0"},{"$f":"TERM2!CB113","v":"0"},{"$f":"ROUND(SUM(Q117:T117/5),0)","v":0},{"$f":"TERM3!Z113","v":"0"},{"$f":"TERM3!AR113","v":"0"},{"$f":"TERM3!BJ113","v":"0"},{"$f":"TERM3!CB113","v":"0"},{"$f":"TERM3!CT113","v":"0"},{"$f":"ROUND(SUM(V117:Z117/5),0)","v":0},0,0,{"$f":"TERM1!DO113","v":0},0,{"$f":"TERM2!CE113","v":0},0,{"$f":"TERM3!CW113","v":0},0,0,null,0,"",{"$f":"'FIN PAT MARK SHEET'!AH116","v":0},"",null,null,0,0,""]
[null,100,100,99,{"$f":"Insert!A102","v":0},{"$f":"Insert!B102","v":0},{"$f":"Insert!C102","v":0},{"$f":"Insert!D102","v":0},{"$f":"Insert!E102","v":0},{"$f":"TERM1!Z114","v":"0"},{"$f":"TERM1!AR114","v":"0"},{"$f":"TERM1!BJ114","v":"0"},{"$f":"TERM1!CB114","v":"0"},{"$f":"TERM1!CT114","v":0},{"$f":"TERM1!DL114","v":"0"},0,{"$f":"TERM2!Z114","v":"0"},{"$f":"TERM2!AR114","v":"0"},{"$f":"TERM2!BJ114","v":"0"},{"$f":"TERM2!CB114","v":"0"},{"$f":"ROUND(SUM(Q118:T118/5),0)","v":0},{"$f":"TERM3!Z114","v":"0"},{"$f":"TERM3!AR114","v":"0"},{"$f":"TERM3!BJ114","v":"0"},{"$f":"TERM3!CB114","v":"0"},{"$f":"TERM3!CT114","v":"0"},{"$f":"ROUND(SUM(V118:Z118/5),0)","v":0},0,0,{"$f":"TERM1!DO114","v":0},0,{"$f":"TERM2!CE114","v":0},0,{"$f":"TERM3!CW114","v":0},0,0,null,0,"",{"$f":"'FIN PAT MARK SHEET'!AH117","v":0},"",null,null,0,0,""]
[null,101,101,100,null,null,null,null,null,{"$f":"TERM1!Z115","v":"0"},{"$f":"TERM1!AR115","v":"0"},{"$f":"TERM1!BJ115","v":"0"},{"$f":"TERM1!CB115","v":"0"},{"$f":"TERM1!CT115","v":0},{"$f":"TERM1!DL115","v":"0"},0,{"$f":"TERM2!Z115","v":"0"},{"$f":"TERM2!AR115","v":"0"},{"$f":"TERM2!BJ115","v":"0"},{"$f":"TERM2!CB115","v":"0"},{"$f":"ROUND(SUM(Q119:T119/5),0)","v":0},{"$f":"TERM3!Z115","v":"0"},{"$f":"TERM3!AR115","v":"0"},{"$f":"TERM3!BJ115","v":"0"},{"$f":"TERM3!CB115","v":"0"},{"$f":"TERM3!CT115","v":"0"},{"$f":"ROUND(SUM(V119:Z119/5),0)","v":0},0,0,{"$f":"TERM1!DO115","v":0},0,{"$f":"TERM2!CE115","v":0},0,{"$f":"TERM3!CW115","v":0},0,0,null,0,"",{"$f":"'FIN PAT MARK SHEET'!AH118","v":0},"",null,null,0,0,""]
[null,null,"Total amount of learners on mark sheet",null,null,null,"Total",null,null,{"$f":"SUM(J19:J119)","v":0},0,0,0,0,0,{"$f":"SUM(P19:P119)","v":0},0,0,0,0,null,0,0,0,0,0,null,null,null,{"$f":"SUM(AD19:AD119)","v":0},0,{"$f":"SUMIF(AF19:AF119,\">0\")","v":0},null,{"$f":"SUMIF(AH19:AH119,\">0\")","v":0},null,0,null,{"$f":"SUM(AL19:AL119)","v":0},null,{"$f":"SUM(AN19:AN119)","v":0},null,{"$f":"SUM(AP19:AP119)","v":0},{"$f":"SUM(AQ19:AQ119)","v":0},{"$f":"SUM(AR19:AR119)","v":0},{"$f":"SUM(AS19:AS119)","v":0}]
[null,null,null,null,null,null,"Average",null,null,{"$f":"ROUND(SUM(J120/$D$124),1)","v":{"$error":"#DIV/0!"}},{"$error":"#DIV/0!"},{"$error":"#DIV/0!"},{"$error":"#DIV/0!"},{"$error":"#DIV/0!"},{"$error":"#DIV/0!"},{"$f":"ROUND(SUM(P120/$D$124),1)","v":{"$error":"#DIV/0!"}},{"$error":"#DIV/0!"},{"$error":"#DIV/0!"},{"$error":"#DIV/0!"},{"$error":"#DIV/0!"},null,{"$f":"ROUND(SUM(V120/$D$124),1)","v":{"$error":"#DIV/0!"}},{"$f":"ROUND(SUM(W120/$D$124),1)","v":{"$error":"#DIV/0!"}},{"$f":"ROUND(SUM(X120/$D$124),1)","v":{"$error":"#DIV/0!"}},{"$f":"ROUND(SUM(Y120/$D$124),1)","v":{"$error":"#DIV/0!"}},{"$error":"#DIV/0!"},null,null,null,{"$f":"ROUND(SUM(AD120/$D$124),1)","v":{"$error":"#DIV/0!"}},{"$f":"ROUND(SUM(AE120/$D$124),1)","v":{"$error":"#DIV/0!"}},{"$error":"#DIV/0!"},null,{"$error":"#DIV/0!"},null,{"$f":"ROUND(SUM(AJ120/$D$124),1)","v":{"$error":"#DIV/0!"}},null,{"$f":"AL120/D124","v":{"$error":"#DIV/0!"}},{"$f":"IF(AL121>79,\"7\",IF(AL121>69,\"6\",IF(AL121>59,\"5\",IF(AL121>49,\"4\",IF(AL121>39,\"3\",IF(AL121>29,\"2\",IF(AL121>0,\"1\",IF(AL121=0,\"0\"))))))))","v":{"$error":"#DIV/0!"}},{"$f":"AN120/D124","v":{"$error":"#DIV/0!"}},{"$f":"IF(AN121>79,\"7\",IF(AN121>69,\"6\",IF(AN121>59,\"5\",IF(AN121>49,\"4\",IF(AN121>39,\"3\",IF(AN121>29,\"2\",IF(AN121>0,\"1\",IF(AN121=0,\"0\"))))))))","v":{"$error":"#DIV/0!"}},{"$f":"ROUND(SUM(AP120/$D$124),1)","v":{"$error":"#DIV/0!"}},{"$f":"ROUND(SUM(AQ120/$D$124),1)","v":{"$error":"#DIV/0!"}},{"$f":"ROUND(SUM(AR120/$D$124),1)","v":{"$error":"#DIV/0!"}},{"$f":"AS120/$D$124","v":{"$error":"#DIV/0!"}},{"$f":"IF(AS121>79,\"7\",IF(AS121>69,\"6\",IF(AS121>59,\"5\",IF(AS121>49,\"4\",IF(AS121>39,\"3\",IF(AS121>29,\"2\",IF(AS121>0,\"1\",IF(AS121=0,\"0\"))))))))","v":{"$error":"#DIV/0!"}}]
[null,null,null,null,null,null,0,0,null,"SBA LEVELS"]
[null,null,null,null,null,null,"Term results analysis",null,null,"LEVEL 1",null,"LEVEL 2",null,"LEVEL 3",null,null,"LEVEL 4",null,"LEVEL 5",null,null,"LEVEL 6",null,"LEVEL 7"]
[null,null,null,{"$f":"Insert!$F$103","v":0},null,null,0,0,null," 0 - 29 ",null," 30 - 39 ",null," 40 - 49 ",null,null," 50 - 59 ",null," 60 - 69 ",null,null," 70 - 79 ",null,"80 - 100"]
[null,null,null,0,0,0,0,0,null,{"$f":"COUNTIF(AM19:AM119,1)","v":0},null,{"$f":"COUNTIF($AM$19:$AM$119,2)","v":0},null,{"$f":"COUNTIF($AM$19:$AM$119,3)","v":0},null,null,{"$f":"COUNTIF($AM$19:$AM$119,4)","v":0},null,{"$f":"COUNTIF($AM$19:$AM$119,5)","v":0},null,null,{"$f":"COUNTIF($AM$19:$AM$119,6)","v":0},null,{"$f":"COUNTIF($AM$19:$AM$119,7)","v":0}]
[null,null,null,null,null,null,null,null,null,null,null,null,null,null,null,null,null,null,null,null,null,null,null,null,null,null,null,null,null,null,null,null,null,null,null,null,null,"2013M"]
[null,null,null,null,null,null,null,null,null,"PROMOTION LEVELS"]
[null,null,null,null,null,null,null,null,null,"LEVEL 1",null,"LEVEL 2",null,"LEVEL 3",null,null,"LEVEL 4",null,"LEVEL 5",null,null,"LEVEL 6",null,"LEVEL 7"]
[null,null,null,null,null,null,null,null,null," 0 - 29 ",null," 30 - 39 ",null," 40 - 49 ",null,null," 50 - 59 ",null," 60 - 69 ",null,null," 70 - 79 ",null,"80 - 100"]
[null,null,null,null,null,null,null,null,null,{"$f":"COUNTIF(AT19:AT119,1)","v":0},null,{"$f":"COUNTIF($AT$19:$AT$119,2)","v":0},null,{"$f":"COUNTIF($AT$19:$AT$119,3)","v":0},null,null,{"$f":"COUNTIF($AT$19:$AT$119,4)","v":0},null,{"$f":"COUNTIF($AT$19:$AT$119,5)","v":0},null,null,{"$f":"COUNTIF($AT$19:$AT$119,6)","v":0},null,{"$f":"COUNTIF($AT$19:$AT$119,7)","v":0}]
[]
[null,null,null,null,null,null,null,null,null,"PAT LEVELS"]
[null,null,null,null,null,null,null,null,null,"LEVEL 1",null,"LEVEL 2",null,"LEVEL 3",null,null,"LEVEL 4",null,"LEVEL 5",null,null,"LEVEL 6",null,"LEVEL 7"]
[null,null,null,null,null,null,null,null,null," 0 - 29 ",null," 30 - 39 ",null," 40 - 49 ",null,null," 50 - 59 ",null," 60 - 69 ",null,null,"71 - 79 ",null,"80 - 100"]
[null,null,null,null,null,null,null,null,null,{"$f":"COUNTIF(AO19:AO119,1)","v":0},null,{"$f":"COUNTIF($AO$19:$AO$119,2)","v":0},null,{"$f":"COUNTIF($AO$19:$AO$119,3)","v":0},null,null,{"$f":"COUNTIF($AO$19:$AO$119,4)","v":0},null,{"$f":"COUNTIF($AO$19:$AO$119,5)","v":0},null,null,{"$f":"COUNTIF($AO$19:$AO$119,6)","v":0},null,{"$f":"COUNTIF($AO$19:$AO$119,7)","v":0}]

{"sheet":"Term1 Sign","index":15,"n_rows":105,"n_cols":18,"rows_kept":105,"cut":false,"hidden":false,"merged":[[1,14,1,15],[1,16,1,17],[1,6,1,7],[1,8,1,9],[1,10,1,11],[1,12,1,13]]}
[" ",null,null,null,null,null,null,"GRADE :",{"$f":"TERM1!$F$6","v":0},"EGD"]
[null,null,null,null,null,null,"CD1 MECHANICAL ANALYTICAL",null,"CD2 MECHANICAL DRAWING",null,"CD3 CIVIL FLOOR PLAN WITH ELEVATIONS",null,"CD4 CIVIL SECTIONAL ELEVATIONS",null,"CD5 CIVIL SITE PLAN",null,"CD6 2-POINT PERSPECTIVE"]
[null,null,null,null,null,null,"2023-04-20"]
[null,"Class","Admission","SURNAME","NAME","Gender",1.1000000000000001,"1,2","2,1","2,2","3,1","3,2","4,1","4,2","5",null,"6,1","6,2"]
[]
[1,{"$f":"Insert!A3","v":0},{"$f":"Insert!B3","v":0},{"$f":"Insert!C3","v":0},{"$f":"Insert!D3","v":0},{"$f":"Insert!E3","v":0}]
[2,{"$f":"Insert!A4","v":0},{"$f":"Insert!B4","v":0},{"$f":"Insert!C4","v":0},{"$f":"Insert!D4","v":0},{"$f":"Insert!E4","v":0}]
[3,{"$f":"Insert!A5","v":0},{"$f":"Insert!B5","v":0},{"$f":"Insert!C5","v":0},{"$f":"Insert!D5","v":0},{"$f":"Insert!E5","v":0}]
[4,{"$f":"Insert!A6","v":0},{"$f":"Insert!B6","v":0},{"$f":"Insert!C6","v":0},{"$f":"Insert!D6","v":0},{"$f":"Insert!E6","v":0}]
[5,{"$f":"Insert!A7","v":0},{"$f":"Insert!B7","v":0},{"$f":"Insert!C7","v":0},{"$f":"Insert!D7","v":0},{"$f":"Insert!E7","v":0}]
[6,{"$f":"Insert!A8","v":0},{"$f":"Insert!B8","v":0},{"$f":"Insert!C8","v":0},{"$f":"Insert!D8","v":0},{"$f":"Insert!E8","v":0}]
[7,{"$f":"Insert!A9","v":0},{"$f":"Insert!B9","v":0},{"$f":"Insert!C9","v":0},{"$f":"Insert!D9","v":0},{"$f":"Insert!E9","v":0}]
[8,{"$f":"Insert!A10","v":0},{"$f":"Insert!B10","v":0},{"$f":"Insert!C10","v":0},{"$f":"Insert!D10","v":0},{"$f":"Insert!E10","v":0}]
[9,{"$f":"Insert!A11","v":0},{"$f":"Insert!B11","v":0},{"$f":"Insert!C11","v":0},{"$f":"Insert!D11","v":0},{"$f":"Insert!E11","v":0}]
[10,{"$f":"Insert!A12","v":0},{"$f":"Insert!B12","v":0},{"$f":"Insert!C12","v":0},{"$f":"Insert!D12","v":0},{"$f":"Insert!E12","v":0}]
[11,{"$f":"Insert!A13","v":0},{"$f":"Insert!B13","v":0},{"$f":"Insert!C13","v":0},{"$f":"Insert!D13","v":0},{"$f":"Insert!E13","v":0}]
[12,{"$f":"Insert!A14","v":0},{"$f":"Insert!B14","v":0},{"$f":"Insert!C14","v":0},{"$f":"Insert!D14","v":0},{"$f":"Insert!E14","v":0}]
[13,{"$f":"Insert!A15","v":0},{"$f":"Insert!B15","v":0},{"$f":"Insert!C15","v":0},{"$f":"Insert!D15","v":0},{"$f":"Insert!E15","v":0}]
[14,{"$f":"Insert!A16","v":0},{"$f":"Insert!B16","v":0},{"$f":"Insert!C16","v":0},{"$f":"Insert!D16","v":0},{"$f":"Insert!E16","v":0}]
[15,{"$f":"Insert!A17","v":0},{"$f":"Insert!B17","v":0},{"$f":"Insert!C17","v":0},{"$f":"Insert!D17","v":0},{"$f":"Insert!E17","v":0}]
[16,{"$f":"Insert!A18","v":0},{"$f":"Insert!B18","v":0},{"$f":"Insert!C18","v":0},{"$f":"Insert!D18","v":0},{"$f":"Insert!E18","v":0}]
[17,{"$f":"Insert!A19","v":0},{"$f":"Insert!B19","v":0},{"$f":"Insert!C19","v":0},{"$f":"Insert!D19","v":0},{"$f":"Insert!E19","v":0}]
[18,{"$f":"Insert!A20","v":0},{"$f":"Insert!B20","v":0},{"$f":"Insert!C20","v":0},{"$f":"Insert!D20","v":0},{"$f":"Insert!E20","v":0}]
[19,{"$f":"Insert!A21","v":0},{"$f":"Insert!B21","v":0},{"$f":"Insert!C21","v":0},{"$f":"Insert!D21","v":0},{"$f":"Insert!E21","v":0}]
[20,{"$f":"Insert!A22","v":0},{"$f":"Insert!B22","v":0},{"$f":"Insert!C22","v":0},{"$f":"Insert!D22","v":0},{"$f":"Insert!E22","v":0}]
[21,{"$f":"Insert!A23","v":0},{"$f":"Insert!B23","v":0},{"$f":"Insert!C23","v":0},{"$f":"Insert!D23","v":0},{"$f":"Insert!E23","v":0}]
[22,{"$f":"Insert!A24","v":0},{"$f":"Insert!B24","v":0},{"$f":"Insert!C24","v":0},{"$f":"Insert!D24","v":0},{"$f":"Insert!E24","v":0}]
[23,{"$f":"Insert!A25","v":0},{"$f":"Insert!B25","v":0},{"$f":"Insert!C25","v":0},{"$f":"Insert!D25","v":0},{"$f":"Insert!E25","v":0}]
[24,{"$f":"Insert!A26","v":0},{"$f":"Insert!B26","v":0},{"$f":"Insert!C26","v":0},{"$f":"Insert!D26","v":0},{"$f":"Insert!E26","v":0}]
[25,{"$f":"Insert!A27","v":0},{"$f":"Insert!B27","v":0},{"$f":"Insert!C27","v":0},{"$f":"Insert!D27","v":0},{"$f":"Insert!E27","v":0}]
[26,{"$f":"Insert!A28","v":0},{"$f":"Insert!B28","v":0},{"$f":"Insert!C28","v":0},{"$f":"Insert!D28","v":0},{"$f":"Insert!E28","v":0}]
[27,{"$f":"Insert!A29","v":0},{"$f":"Insert!B29","v":0},{"$f":"Insert!C29","v":0},{"$f":"Insert!D29","v":0},{"$f":"Insert!E29","v":0}]
[28,{"$f":"Insert!A30","v":0},{"$f":"Insert!B30","v":0},{"$f":"Insert!C30","v":0},{"$f":"Insert!D30","v":0},{"$f":"Insert!E30","v":0}]
[29,{"$f":"Insert!A31","v":0},{"$f":"Insert!B31","v":0},{"$f":"Insert!C31","v":0},{"$f":"Insert!D31","v":0},{"$f":"Insert!E31","v":0}]
[30,{"$f":"Insert!A32","v":0},{"$f":"Insert!B32","v":0},{"$f":"Insert!C32","v":0},{"$f":"Insert!D32","v":0},{"$f":"Insert!E32","v":0}]
[31,{"$f":"Insert!A33","v":0},{"$f":"Insert!B33","v":0},{"$f":"Insert!C33","v":0},{"$f":"Insert!D33","v":0},{"$f":"Insert!E33","v":0}]
[32,{"$f":"Insert!A34","v":0},{"$f":"Insert!B34","v":0},{"$f":"Insert!C34","v":0},{"$f":"Insert!D34","v":0},{"$f":"Insert!E34","v":0}]
[33,{"$f":"Insert!A35","v":0},{"$f":"Insert!B35","v":0},{"$f":"Insert!C35","v":0},{"$f":"Insert!D35","v":0},{"$f":"Insert!E35","v":0}]
[34,{"$f":"Insert!A36","v":0},{"$f":"Insert!B36","v":0},{"$f":"Insert!C36","v":0},{"$f":"Insert!D36","v":0},{"$f":"Insert!E36","v":0}]
[35,{"$f":"Insert!A37","v":0},{"$f":"Insert!B37","v":0},{"$f":"Insert!C37","v":0},{"$f":"Insert!D37","v":0},{"$f":"Insert!E37","v":0}]
[36,{"$f":"Insert!A38","v":0},{"$f":"Insert!B38","v":0},{"$f":"Insert!C38","v":0},{"$f":"Insert!D38","v":0},{"$f":"Insert!E38","v":0}]
[37,{"$f":"Insert!A39","v":0},{"$f":"Insert!B39","v":0},{"$f":"Insert!C39","v":0},{"$f":"Insert!D39","v":0},{"$f":"Insert!E39","v":0}]
[38,{"$f":"Insert!A40","v":0},{"$f":"Insert!B40","v":0},{"$f":"Insert!C40","v":0},{"$f":"Insert!D40","v":0},{"$f":"Insert!E40","v":0}]
[39,{"$f":"Insert!A41","v":0},{"$f":"Insert!B41","v":0},{"$f":"Insert!C41","v":0},{"$f":"Insert!D41","v":0},{"$f":"Insert!E41","v":0}]
[40,{"$f":"Insert!A42","v":0},{"$f":"Insert!B42","v":0},{"$f":"Insert!C42","v":0},{"$f":"Insert!D42","v":0},{"$f":"Insert!E42","v":0}]
[41,{"$f":"Insert!A43","v":0},{"$f":"Insert!B43","v":0},{"$f":"Insert!C43","v":0},{"$f":"Insert!D43","v":0},{"$f":"Insert!E43","v":0}]
[42,{"$f":"Insert!A44","v":0},{"$f":"Insert!B44","v":0},{"$f":"Insert!C44","v":0},{"$f":"Insert!D44","v":0},{"$f":"Insert!E44","v":0}]
[43,{"$f":"Insert!A45","v":0},{"$f":"Insert!B45","v":0},{"$f":"Insert!C45","v":0},{"$f":"Insert!D45","v":0},{"$f":"Insert!E45","v":0}]
[44,{"$f":"Insert!A46","v":0},{"$f":"Insert!B46","v":0},{"$f":"Insert!C46","v":0},{"$f":"Insert!D46","v":0},{"$f":"Insert!E46","v":0}]
[45,{"$f":"Insert!A47","v":0},{"$f":"Insert!B47","v":0},{"$f":"Insert!C47","v":0},{"$f":"Insert!D47","v":0},{"$f":"Insert!E47","v":0}]
[46,{"$f":"Insert!A48","v":0},{"$f":"Insert!B48","v":0},{"$f":"Insert!C48","v":0},{"$f":"Insert!D48","v":0},{"$f":"Insert!E48","v":0}]
[47,{"$f":"Insert!A49","v":0},{"$f":"Insert!B49","v":0},{"$f":"Insert!C49","v":0},{"$f":"Insert!D49","v":0},{"$f":"Insert!E49","v":0}]
[48,{"$f":"Insert!A50","v":0},{"$f":"Insert!B50","v":0},{"$f":"Insert!C50","v":0},{"$f":"Insert!D50","v":0},{"$f":"Insert!E50","v":0}]
[49,{"$f":"Insert!A51","v":0},{"$f":"Insert!B51","v":0},{"$f":"Insert!C51","v":0},{"$f":"Insert!D51","v":0},{"$f":"Insert!E51","v":0}]
[50,{"$f":"Insert!A52","v":0},{"$f":"Insert!B52","v":0},{"$f":"Insert!C52","v":0},{"$f":"Insert!D52","v":0},{"$f":"Insert!E52","v":0}]
[51,{"$f":"Insert!A53","v":0},{"$f":"Insert!B53","v":0},{"$f":"Insert!C53","v":0},{"$f":"Insert!D53","v":0},{"$f":"Insert!E53","v":0}]
[52,{"$f":"Insert!A54","v":0},{"$f":"Insert!B54","v":0},{"$f":"Insert!C54","v":0},{"$f":"Insert!D54","v":0},{"$f":"Insert!E54","v":0}]
[53,{"$f":"Insert!A55","v":0},{"$f":"Insert!B55","v":0},{"$f":"Insert!C55","v":0},{"$f":"Insert!D55","v":0},{"$f":"Insert!E55","v":0}]
[54,{"$f":"Insert!A56","v":0},{"$f":"Insert!B56","v":0},{"$f":"Insert!C56","v":0},{"$f":"Insert!D56","v":0},{"$f":"Insert!E56","v":0}]
[55,{"$f":"Insert!A57","v":0},{"$f":"Insert!B57","v":0},{"$f":"Insert!C57","v":0},{"$f":"Insert!D57","v":0},{"$f":"Insert!E57","v":0}]
[56,{"$f":"Insert!A58","v":0},{"$f":"Insert!B58","v":0},{"$f":"Insert!C58","v":0},{"$f":"Insert!D58","v":0},{"$f":"Insert!E58","v":0}]
[57,{"$f":"Insert!A59","v":0},{"$f":"Insert!B59","v":0},{"$f":"Insert!C59","v":0},{"$f":"Insert!D59","v":0},{"$f":"Insert!E59","v":0}]
[58,{"$f":"Insert!A60","v":0},{"$f":"Insert!B60","v":0},{"$f":"Insert!C60","v":0},{"$f":"Insert!D60","v":0},{"$f":"Insert!E60","v":0}]
[59,{"$f":"Insert!A61","v":0},{"$f":"Insert!B61","v":0},{"$f":"Insert!C61","v":0},{"$f":"Insert!D61","v":0},{"$f":"Insert!E61","v":0}]
[60,{"$f":"Insert!A62","v":0},{"$f":"Insert!B62","v":0},{"$f":"Insert!C62","v":0},{"$f":"Insert!D62","v":0},{"$f":"Insert!E62","v":0}]
[61,{"$f":"Insert!A63","v":0},{"$f":"Insert!B63","v":0},{"$f":"Insert!C63","v":0},{"$f":"Insert!D63","v":0},{"$f":"Insert!E63","v":0}]
[62,{"$f":"Insert!A64","v":0},{"$f":"Insert!B64","v":0},{"$f":"Insert!C64","v":0},{"$f":"Insert!D64","v":0},{"$f":"Insert!E64","v":0}]
[63,{"$f":"Insert!A65","v":0},{"$f":"Insert!B65","v":0},{"$f":"Insert!C65","v":0},{"$f":"Insert!D65","v":0},{"$f":"Insert!E65","v":0}]
[64,{"$f":"Insert!A66","v":0},{"$f":"Insert!B66","v":0},{"$f":"Insert!C66","v":0},{"$f":"Insert!D66","v":0},{"$f":"Insert!E66","v":0}]
[65,{"$f":"Insert!A67","v":0},{"$f":"Insert!B67","v":0},{"$f":"Insert!C67","v":0},{"$f":"Insert!D67","v":0},{"$f":"Insert!E67","v":0}]
[66,{"$f":"Insert!A68","v":0},{"$f":"Insert!B68","v":0},{"$f":"Insert!C68","v":0},{"$f":"Insert!D68","v":0},{"$f":"Insert!E68","v":0}]
[67,{"$f":"Insert!A69","v":0},{"$f":"Insert!B69","v":0},{"$f":"Insert!C69","v":0},{"$f":"Insert!D69","v":0},{"$f":"Insert!E69","v":0}]
[68,{"$f":"Insert!A70","v":0},{"$f":"Insert!B70","v":0},{"$f":"Insert!C70","v":0},{"$f":"Insert!D70","v":0},{"$f":"Insert!E70","v":0}]
[69,{"$f":"Insert!A71","v":0},{"$f":"Insert!B71","v":0},{"$f":"Insert!C71","v":0},{"$f":"Insert!D71","v":0},{"$f":"Insert!E71","v":0}]
[70,{"$f":"Insert!A72","v":0},{"$f":"Insert!B72","v":0},{"$f":"Insert!C72","v":0},{"$f":"Insert!D72","v":0},{"$f":"Insert!E72","v":0}]
[71,{"$f":"Insert!A73","v":0},{"$f":"Insert!B73","v":0},{"$f":"Insert!C73","v":0},{"$f":"Insert!D73","v":0},{"$f":"Insert!E73","v":0}]
[72,{"$f":"Insert!A74","v":0},{"$f":"Insert!B74","v":0},{"$f":"Insert!C74","v":0},{"$f":"Insert!D74","v":0},{"$f":"Insert!E74","v":0}]
[73,{"$f":"Insert!A75","v":0},{"$f":"Insert!B75","v":0},{"$f":"Insert!C75","v":0},{"$f":"Insert!D75","v":0},{"$f":"Insert!E75","v":0}]
[74,{"$f":"Insert!A76","v":0},{"$f":"Insert!B76","v":0},{"$f":"Insert!C76","v":0},{"$f":"Insert!D76","v":0},{"$f":"Insert!E76","v":0}]
[75,{"$f":"Insert!A77","v":0},{"$f":"Insert!B77","v":0},{"$f":"Insert!C77","v":0},{"$f":"Insert!D77","v":0},{"$f":"Insert!E77","v":0}]
[76,{"$f":"Insert!A78","v":0},{"$f":"Insert!B78","v":0},{"$f":"Insert!C78","v":0},{"$f":"Insert!D78","v":0},{"$f":"Insert!E78","v":0}]
[77,{"$f":"Insert!A79","v":0},{"$f":"Insert!B79","v":0},{"$f":"Insert!C79","v":0},{"$f":"Insert!D79","v":0},{"$f":"Insert!E79","v":0}]
[78,{"$f":"Insert!A80","v":0},{"$f":"Insert!B80","v":0},{"$f":"Insert!C80","v":0},{"$f":"Insert!D80","v":0},{"$f":"Insert!E80","v":0}]
[79,{"$f":"Insert!A81","v":0},{"$f":"Insert!B81","v":0},{"$f":"Insert!C81","v":0},{"$f":"Insert!D81","v":0},{"$f":"Insert!E81","v":0}]
[80,{"$f":"Insert!A82","v":0},{"$f":"Insert!B82","v":0},{"$f":"Insert!C82","v":0},{"$f":"Insert!D82","v":0},{"$f":"Insert!E82","v":0}]
[81,{"$f":"Insert!A83","v":0},{"$f":"Insert!B83","v":0},{"$f":"Insert!C83","v":0},{"$f":"Insert!D83","v":0},{"$f":"Insert!E83","v":0}]
[82,{"$f":"Insert!A84","v":0},{"$f":"Insert!B84","v":0},{"$f":"Insert!C84","v":0},{"$f":"Insert!D84","v":0},{"$f":"Insert!E84","v":0}]
[83,{"$f":"Insert!A85","v":0},{"$f":"Insert!B85","v":0},{"$f":"Insert!C85","v":0},{"$f":"Insert!D85","v":0},{"$f":"Insert!E85","v":0}]
[84,{"$f":"Insert!A86","v":0},{"$f":"Insert!B86","v":0},{"$f":"Insert!C86","v":0},{"$f":"Insert!D86","v":0},{"$f":"Insert!E86","v":0}]
[85,{"$f":"Insert!A87","v":0},{"$f":"Insert!B87","v":0},{"$f":"Insert!C87","v":0},{"$f":"Insert!D87","v":0},{"$f":"Insert!E87","v":0}]
[86,{"$f":"Insert!A88","v":0},{"$f":"Insert!B88","v":0},{"$f":"Insert!C88","v":0},{"$f":"Insert!D88","v":0},{"$f":"Insert!E88","v":0}]
[87,{"$f":"Insert!A89","v":0},{"$f":"Insert!B89","v":0},{"$f":"Insert!C89","v":0},{"$f":"Insert!D89","v":0},{"$f":"Insert!E89","v":0}]
[88,{"$f":"Insert!A90","v":0},{"$f":"Insert!B90","v":0},{"$f":"Insert!C90","v":0},{"$f":"Insert!D90","v":0},{"$f":"Insert!E90","v":0}]
[89,{"$f":"Insert!A91","v":0},{"$f":"Insert!B91","v":0},{"$f":"Insert!C91","v":0},{"$f":"Insert!D91","v":0},{"$f":"Insert!E91","v":0}]
[90,{"$f":"Insert!A92","v":0},{"$f":"Insert!B92","v":0},{"$f":"Insert!C92","v":0},{"$f":"Insert!D92","v":0},{"$f":"Insert!E92","v":0}]
[91,{"$f":"Insert!A93","v":0},{"$f":"Insert!B93","v":0},{"$f":"Insert!C93","v":0},{"$f":"Insert!D93","v":0},{"$f":"Insert!E93","v":0}]
[92,{"$f":"Insert!A94","v":0},{"$f":"Insert!B94","v":0},{"$f":"Insert!C94","v":0},{"$f":"Insert!D94","v":0},{"$f":"Insert!E94","v":0}]
[93,{"$f":"Insert!A95","v":0},{"$f":"Insert!B95","v":0},{"$f":"Insert!C95","v":0},{"$f":"Insert!D95","v":0},{"$f":"Insert!E95","v":0}]
[94,{"$f":"Insert!A96","v":0},{"$f":"Insert!B96","v":0},{"$f":"Insert!C96","v":0},{"$f":"Insert!D96","v":0},{"$f":"Insert!E96","v":0}]
[95,{"$f":"Insert!A97","v":0},{"$f":"Insert!B97","v":0},{"$f":"Insert!C97","v":0},{"$f":"Insert!D97","v":0},{"$f":"Insert!E97","v":0}]
[96,{"$f":"Insert!A98","v":0},{"$f":"Insert!B98","v":0},{"$f":"Insert!C98","v":0},{"$f":"Insert!D98","v":0},{"$f":"Insert!E98","v":0}]
[97,{"$f":"Insert!A99","v":0},{"$f":"Insert!B99","v":0},{"$f":"Insert!C99","v":0},{"$f":"Insert!D99","v":0},{"$f":"Insert!E99","v":0}]
[98,{"$f":"Insert!A100","v":0},{"$f":"Insert!B100","v":0},{"$f":"Insert!C100","v":0},{"$f":"Insert!D100","v":0},{"$f":"Insert!E100","v":0}]
[99,{"$f":"Insert!A101","v":0},{"$f":"Insert!B101","v":0},{"$f":"Insert!C101","v":0},{"$f":"Insert!D101","v":0},{"$f":"Insert!E101","v":0}]
[100,{"$f":"Insert!A102","v":0},{"$f":"Insert!B102","v":0},{"$f":"Insert!C102","v":0},{"$f":"Insert!D102","v":0},{"$f":"Insert!E102","v":0}]

{"sheet":"Term2 Sign","index":16,"n_rows":105,"n_cols":13,"rows_kept":105,"cut":false,"hidden":false,"merged":[[1,6,1,7],[1,8,1,9],[1,10,1,11],[1,12,1,13]]}
[null,null,null,null,null,null,null,"GRADE :",{"$f":"TERM1!$F$6","v":0},"EGD"]
[null,null,null,null,null,null,"CD7\nIsometric",null,"CD8\nSolid",null,"CD9\nInterpenetration & Development",null,"CD10\n2nd Mechanical "]
[null,null,null,null,null,"DUE DATE:"]
[null,"Class","Admission","SURNAME","NAME","Gender","7.1","7.2","8.1","8.2","9.1","9.2","10"]
[]
[1,{"$f":"Insert!A3","v":0},{"$f":"Insert!B3","v":0},{"$f":"Insert!C3","v":0},{"$f":"Insert!D3","v":0},{"$f":"Insert!E3","v":0}]
[2,{"$f":"Insert!A4","v":0},{"$f":"Insert!B4","v":0},{"$f":"Insert!C4","v":0},{"$f":"Insert!D4","v":0},{"$f":"Insert!E4","v":0}]
[3,{"$f":"Insert!A5","v":0},{"$f":"Insert!B5","v":0},{"$f":"Insert!C5","v":0},{"$f":"Insert!D5","v":0},{"$f":"Insert!E5","v":0}]
[4,{"$f":"Insert!A6","v":0},{"$f":"Insert!B6","v":0},{"$f":"Insert!C6","v":0},{"$f":"Insert!D6","v":0},{"$f":"Insert!E6","v":0}]
[5,{"$f":"Insert!A7","v":0},{"$f":"Insert!B7","v":0},{"$f":"Insert!C7","v":0},{"$f":"Insert!D7","v":0},{"$f":"Insert!E7","v":0}]
[6,{"$f":"Insert!A8","v":0},{"$f":"Insert!B8","v":0},{"$f":"Insert!C8","v":0},{"$f":"Insert!D8","v":0},{"$f":"Insert!E8","v":0}]
[7,{"$f":"Insert!A9","v":0},{"$f":"Insert!B9","v":0},{"$f":"Insert!C9","v":0},{"$f":"Insert!D9","v":0},{"$f":"Insert!E9","v":0}]
[8,{"$f":"Insert!A10","v":0},{"$f":"Insert!B10","v":0},{"$f":"Insert!C10","v":0},{"$f":"Insert!D10","v":0},{"$f":"Insert!E10","v":0}]
[9,{"$f":"Insert!A11","v":0},{"$f":"Insert!B11","v":0},{"$f":"Insert!C11","v":0},{"$f":"Insert!D11","v":0},{"$f":"Insert!E11","v":0}]
[10,{"$f":"Insert!A12","v":0},{"$f":"Insert!B12","v":0},{"$f":"Insert!C12","v":0},{"$f":"Insert!D12","v":0},{"$f":"Insert!E12","v":0}]
[11,{"$f":"Insert!A13","v":0},{"$f":"Insert!B13","v":0},{"$f":"Insert!C13","v":0},{"$f":"Insert!D13","v":0},{"$f":"Insert!E13","v":0}]
[12,{"$f":"Insert!A14","v":0},{"$f":"Insert!B14","v":0},{"$f":"Insert!C14","v":0},{"$f":"Insert!D14","v":0},{"$f":"Insert!E14","v":0}]
[13,{"$f":"Insert!A15","v":0},{"$f":"Insert!B15","v":0},{"$f":"Insert!C15","v":0},{"$f":"Insert!D15","v":0},{"$f":"Insert!E15","v":0}]
[14,{"$f":"Insert!A16","v":0},{"$f":"Insert!B16","v":0},{"$f":"Insert!C16","v":0},{"$f":"Insert!D16","v":0},{"$f":"Insert!E16","v":0}]
[15,{"$f":"Insert!A17","v":0},{"$f":"Insert!B17","v":0},{"$f":"Insert!C17","v":0},{"$f":"Insert!D17","v":0},{"$f":"Insert!E17","v":0}]
[16,{"$f":"Insert!A18","v":0},{"$f":"Insert!B18","v":0},{"$f":"Insert!C18","v":0},{"$f":"Insert!D18","v":0},{"$f":"Insert!E18","v":0}]
[17,{"$f":"Insert!A19","v":0},{"$f":"Insert!B19","v":0},{"$f":"Insert!C19","v":0},{"$f":"Insert!D19","v":0},{"$f":"Insert!E19","v":0}]
[18,{"$f":"Insert!A20","v":0},{"$f":"Insert!B20","v":0},{"$f":"Insert!C20","v":0},{"$f":"Insert!D20","v":0},{"$f":"Insert!E20","v":0}]
[19,{"$f":"Insert!A21","v":0},{"$f":"Insert!B21","v":0},{"$f":"Insert!C21","v":0},{"$f":"Insert!D21","v":0},{"$f":"Insert!E21","v":0}]
[20,{"$f":"Insert!A22","v":0},{"$f":"Insert!B22","v":0},{"$f":"Insert!C22","v":0},{"$f":"Insert!D22","v":0},{"$f":"Insert!E22","v":0}]
[21,{"$f":"Insert!A23","v":0},{"$f":"Insert!B23","v":0},{"$f":"Insert!C23","v":0},{"$f":"Insert!D23","v":0},{"$f":"Insert!E23","v":0}]
[22,{"$f":"Insert!A24","v":0},{"$f":"Insert!B24","v":0},{"$f":"Insert!C24","v":0},{"$f":"Insert!D24","v":0},{"$f":"Insert!E24","v":0}]
[23,{"$f":"Insert!A25","v":0},{"$f":"Insert!B25","v":0},{"$f":"Insert!C25","v":0},{"$f":"Insert!D25","v":0},{"$f":"Insert!E25","v":0}]
[24,{"$f":"Insert!A26","v":0},{"$f":"Insert!B26","v":0},{"$f":"Insert!C26","v":0},{"$f":"Insert!D26","v":0},{"$f":"Insert!E26","v":0}]
[25,{"$f":"Insert!A27","v":0},{"$f":"Insert!B27","v":0},{"$f":"Insert!C27","v":0},{"$f":"Insert!D27","v":0},{"$f":"Insert!E27","v":0}]
[26,{"$f":"Insert!A28","v":0},{"$f":"Insert!B28","v":0},{"$f":"Insert!C28","v":0},{"$f":"Insert!D28","v":0},{"$f":"Insert!E28","v":0}]
[27,{"$f":"Insert!A29","v":0},{"$f":"Insert!B29","v":0},{"$f":"Insert!C29","v":0},{"$f":"Insert!D29","v":0},{"$f":"Insert!E29","v":0}]
[28,{"$f":"Insert!A30","v":0},{"$f":"Insert!B30","v":0},{"$f":"Insert!C30","v":0},{"$f":"Insert!D30","v":0},{"$f":"Insert!E30","v":0}]
[29,{"$f":"Insert!A31","v":0},{"$f":"Insert!B31","v":0},{"$f":"Insert!C31","v":0},{"$f":"Insert!D31","v":0},{"$f":"Insert!E31","v":0}]
[30,{"$f":"Insert!A32","v":0},{"$f":"Insert!B32","v":0},{"$f":"Insert!C32","v":0},{"$f":"Insert!D32","v":0},{"$f":"Insert!E32","v":0}]
[31,{"$f":"Insert!A33","v":0},{"$f":"Insert!B33","v":0},{"$f":"Insert!C33","v":0},{"$f":"Insert!D33","v":0},{"$f":"Insert!E33","v":0}]
[32,{"$f":"Insert!A34","v":0},{"$f":"Insert!B34","v":0},{"$f":"Insert!C34","v":0},{"$f":"Insert!D34","v":0},{"$f":"Insert!E34","v":0}]
[33,{"$f":"Insert!A35","v":0},{"$f":"Insert!B35","v":0},{"$f":"Insert!C35","v":0},{"$f":"Insert!D35","v":0},{"$f":"Insert!E35","v":0}]
[34,{"$f":"Insert!A36","v":0},{"$f":"Insert!B36","v":0},{"$f":"Insert!C36","v":0},{"$f":"Insert!D36","v":0},{"$f":"Insert!E36","v":0}]
[35,{"$f":"Insert!A37","v":0},{"$f":"Insert!B37","v":0},{"$f":"Insert!C37","v":0},{"$f":"Insert!D37","v":0},{"$f":"Insert!E37","v":0}]
[36,{"$f":"Insert!A38","v":0},{"$f":"Insert!B38","v":0},{"$f":"Insert!C38","v":0},{"$f":"Insert!D38","v":0},{"$f":"Insert!E38","v":0}]
[37,{"$f":"Insert!A39","v":0},{"$f":"Insert!B39","v":0},{"$f":"Insert!C39","v":0},{"$f":"Insert!D39","v":0},{"$f":"Insert!E39","v":0}]
[38,{"$f":"Insert!A40","v":0},{"$f":"Insert!B40","v":0},{"$f":"Insert!C40","v":0},{"$f":"Insert!D40","v":0},{"$f":"Insert!E40","v":0}]
[39,{"$f":"Insert!A41","v":0},{"$f":"Insert!B41","v":0},{"$f":"Insert!C41","v":0},{"$f":"Insert!D41","v":0},{"$f":"Insert!E41","v":0}]
[40,{"$f":"Insert!A42","v":0},{"$f":"Insert!B42","v":0},{"$f":"Insert!C42","v":0},{"$f":"Insert!D42","v":0},{"$f":"Insert!E42","v":0}]
[41,{"$f":"Insert!A43","v":0},{"$f":"Insert!B43","v":0},{"$f":"Insert!C43","v":0},{"$f":"Insert!D43","v":0},{"$f":"Insert!E43","v":0}]
[42,{"$f":"Insert!A44","v":0},{"$f":"Insert!B44","v":0},{"$f":"Insert!C44","v":0},{"$f":"Insert!D44","v":0},{"$f":"Insert!E44","v":0}]
[43,{"$f":"Insert!A45","v":0},{"$f":"Insert!B45","v":0},{"$f":"Insert!C45","v":0},{"$f":"Insert!D45","v":0},{"$f":"Insert!E45","v":0}]
[44,{"$f":"Insert!A46","v":0},{"$f":"Insert!B46","v":0},{"$f":"Insert!C46","v":0},{"$f":"Insert!D46","v":0},{"$f":"Insert!E46","v":0}]
[45,{"$f":"Insert!A47","v":0},{"$f":"Insert!B47","v":0},{"$f":"Insert!C47","v":0},{"$f":"Insert!D47","v":0},{"$f":"Insert!E47","v":0}]
[46,{"$f":"Insert!A48","v":0},{"$f":"Insert!B48","v":0},{"$f":"Insert!C48","v":0},{"$f":"Insert!D48","v":0},{"$f":"Insert!E48","v":0}]
[47,{"$f":"Insert!A49","v":0},{"$f":"Insert!B49","v":0},{"$f":"Insert!C49","v":0},{"$f":"Insert!D49","v":0},{"$f":"Insert!E49","v":0}]
[48,{"$f":"Insert!A50","v":0},{"$f":"Insert!B50","v":0},{"$f":"Insert!C50","v":0},{"$f":"Insert!D50","v":0},{"$f":"Insert!E50","v":0}]
[49,{"$f":"Insert!A51","v":0},{"$f":"Insert!B51","v":0},{"$f":"Insert!C51","v":0},{"$f":"Insert!D51","v":0},{"$f":"Insert!E51","v":0}]
[50,{"$f":"Insert!A52","v":0},{"$f":"Insert!B52","v":0},{"$f":"Insert!C52","v":0},{"$f":"Insert!D52","v":0},{"$f":"Insert!E52","v":0}]
[51,{"$f":"Insert!A53","v":0},{"$f":"Insert!B53","v":0},{"$f":"Insert!C53","v":0},{"$f":"Insert!D53","v":0},{"$f":"Insert!E53","v":0}]
[52,{"$f":"Insert!A54","v":0},{"$f":"Insert!B54","v":0},{"$f":"Insert!C54","v":0},{"$f":"Insert!D54","v":0},{"$f":"Insert!E54","v":0}]
[53,{"$f":"Insert!A55","v":0},{"$f":"Insert!B55","v":0},{"$f":"Insert!C55","v":0},{"$f":"Insert!D55","v":0},{"$f":"Insert!E55","v":0}]
[54,{"$f":"Insert!A56","v":0},{"$f":"Insert!B56","v":0},{"$f":"Insert!C56","v":0},{"$f":"Insert!D56","v":0},{"$f":"Insert!E56","v":0}]
[55,{"$f":"Insert!A57","v":0},{"$f":"Insert!B57","v":0},{"$f":"Insert!C57","v":0},{"$f":"Insert!D57","v":0},{"$f":"Insert!E57","v":0}]
[56,{"$f":"Insert!A58","v":0},{"$f":"Insert!B58","v":0},{"$f":"Insert!C58","v":0},{"$f":"Insert!D58","v":0},{"$f":"Insert!E58","v":0}]
[57,{"$f":"Insert!A59","v":0},{"$f":"Insert!B59","v":0},{"$f":"Insert!C59","v":0},{"$f":"Insert!D59","v":0},{"$f":"Insert!E59","v":0}]
[58,{"$f":"Insert!A60","v":0},{"$f":"Insert!B60","v":0},{"$f":"Insert!C60","v":0},{"$f":"Insert!D60","v":0},{"$f":"Insert!E60","v":0}]
[59,{"$f":"Insert!A61","v":0},{"$f":"Insert!B61","v":0},{"$f":"Insert!C61","v":0},{"$f":"Insert!D61","v":0},{"$f":"Insert!E61","v":0}]
[60,{"$f":"Insert!A62","v":0},{"$f":"Insert!B62","v":0},{"$f":"Insert!C62","v":0},{"$f":"Insert!D62","v":0},{"$f":"Insert!E62","v":0}]
[61,{"$f":"Insert!A63","v":0},{"$f":"Insert!B63","v":0},{"$f":"Insert!C63","v":0},{"$f":"Insert!D63","v":0},{"$f":"Insert!E63","v":0}]
[62,{"$f":"Insert!A64","v":0},{"$f":"Insert!B64","v":0},{"$f":"Insert!C64","v":0},{"$f":"Insert!D64","v":0},{"$f":"Insert!E64","v":0}]
[63,{"$f":"Insert!A65","v":0},{"$f":"Insert!B65","v":0},{"$f":"Insert!C65","v":0},{"$f":"Insert!D65","v":0},{"$f":"Insert!E65","v":0}]
[64,{"$f":"Insert!A66","v":0},{"$f":"Insert!B66","v":0},{"$f":"Insert!C66","v":0},{"$f":"Insert!D66","v":0},{"$f":"Insert!E66","v":0}]
[65,{"$f":"Insert!A67","v":0},{"$f":"Insert!B67","v":0},{"$f":"Insert!C67","v":0},{"$f":"Insert!D67","v":0},{"$f":"Insert!E67","v":0}]
[66,{"$f":"Insert!A68","v":0},{"$f":"Insert!B68","v":0},{"$f":"Insert!C68","v":0},{"$f":"Insert!D68","v":0},{"$f":"Insert!E68","v":0}]
[67,{"$f":"Insert!A69","v":0},{"$f":"Insert!B69","v":0},{"$f":"Insert!C69","v":0},{"$f":"Insert!D69","v":0},{"$f":"Insert!E69","v":0}]
[68,{"$f":"Insert!A70","v":0},{"$f":"Insert!B70","v":0},{"$f":"Insert!C70","v":0},{"$f":"Insert!D70","v":0},{"$f":"Insert!E70","v":0}]
[69,{"$f":"Insert!A71","v":0},{"$f":"Insert!B71","v":0},{"$f":"Insert!C71","v":0},{"$f":"Insert!D71","v":0},{"$f":"Insert!E71","v":0}]
[70,{"$f":"Insert!A72","v":0},{"$f":"Insert!B72","v":0},{"$f":"Insert!C72","v":0},{"$f":"Insert!D72","v":0},{"$f":"Insert!E72","v":0}]
[71,{"$f":"Insert!A73","v":0},{"$f":"Insert!B73","v":0},{"$f":"Insert!C73","v":0},{"$f":"Insert!D73","v":0},{"$f":"Insert!E73","v":0}]
[72,{"$f":"Insert!A74","v":0},{"$f":"Insert!B74","v":0},{"$f":"Insert!C74","v":0},{"$f":"Insert!D74","v":0},{"$f":"Insert!E74","v":0}]
[73,{"$f":"Insert!A75","v":0},{"$f":"Insert!B75","v":0},{"$f":"Insert!C75","v":0},{"$f":"Insert!D75","v":0},{"$f":"Insert!E75","v":0}]
[74,{"$f":"Insert!A76","v":0},{"$f":"Insert!B76","v":0},{"$f":"Insert!C76","v":0},{"$f":"Insert!D76","v":0},{"$f":"Insert!E76","v":0}]
[75,{"$f":"Insert!A77","v":0},{"$f":"Insert!B77","v":0},{"$f":"Insert!C77","v":0},{"$f":"Insert!D77","v":0},{"$f":"Insert!E77","v":0}]
[76,{"$f":"Insert!A78","v":0},{"$f":"Insert!B78","v":0},{"$f":"Insert!C78","v":0},{"$f":"Insert!D78","v":0},{"$f":"Insert!E78","v":0}]
[77,{"$f":"Insert!A79","v":0},{"$f":"Insert!B79","v":0},{"$f":"Insert!C79","v":0},{"$f":"Insert!D79","v":0},{"$f":"Insert!E79","v":0}]
[78,{"$f":"Insert!A80","v":0},{"$f":"Insert!B80","v":0},{"$f":"Insert!C80","v":0},{"$f":"Insert!D80","v":0},{"$f":"Insert!E80","v":0}]
[79,{"$f":"Insert!A81","v":0},{"$f":"Insert!B81","v":0},{"$f":"Insert!C81","v":0},{"$f":"Insert!D81","v":0},{"$f":"Insert!E81","v":0}]
[80,{"$f":"Insert!A82","v":0},{"$f":"Insert!B82","v":0},{"$f":"Insert!C82","v":0},{"$f":"Insert!D82","v":0},{"$f":"Insert!E82","v":0}]
[81,{"$f":"Insert!A83","v":0},{"$f":"Insert!B83","v":0},{"$f":"Insert!C83","v":0},{"$f":"Insert!D83","v":0},{"$f":"Insert!E83","v":0}]
[82,{"$f":"Insert!A84","v":0},{"$f":"Insert!B84","v":0},{"$f":"Insert!C84","v":0},{"$f":"Insert!D84","v":0},{"$f":"Insert!E84","v":0}]
[83,{"$f":"Insert!A85","v":0},{"$f":"Insert!B85","v":0},{"$f":"Insert!C85","v":0},{"$f":"Insert!D85","v":0},{"$f":"Insert!E85","v":0}]
[84,{"$f":"Insert!A86","v":0},{"$f":"Insert!B86","v":0},{"$f":"Insert!C86","v":0},{"$f":"Insert!D86","v":0},{"$f":"Insert!E86","v":0}]
[85,{"$f":"Insert!A87","v":0},{"$f":"Insert!B87","v":0},{"$f":"Insert!C87","v":0},{"$f":"Insert!D87","v":0},{"$f":"Insert!E87","v":0}]
[86,{"$f":"Insert!A88","v":0},{"$f":"Insert!B88","v":0},{"$f":"Insert!C88","v":0},{"$f":"Insert!D88","v":0},{"$f":"Insert!E88","v":0}]
[87,{"$f":"Insert!A89","v":0},{"$f":"Insert!B89","v":0},{"$f":"Insert!C89","v":0},{"$f":"Insert!D89","v":0},{"$f":"Insert!E89","v":0}]
[88,{"$f":"Insert!A90","v":0},{"$f":"Insert!B90","v":0},{"$f":"Insert!C90","v":0},{"$f":"Insert!D90","v":0},{"$f":"Insert!E90","v":0}]
[89,{"$f":"Insert!A91","v":0},{"$f":"Insert!B91","v":0},{"$f":"Insert!C91","v":0},{"$f":"Insert!D91","v":0},{"$f":"Insert!E91","v":0}]
[90,{"$f":"Insert!A92","v":0},{"$f":"Insert!B92","v":0},{"$f":"Insert!C92","v":0},{"$f":"Insert!D92","v":0},{"$f":"Insert!E92","v":0}]
[91,{"$f":"Insert!A93","v":0},{"$f":"Insert!B93","v":0},{"$f":"Insert!C93","v":0},{"$f":"Insert!D93","v":0},{"$f":"Insert!E93","v":0}]
[92,{"$f":"Insert!A94","v":0},{"$f":"Insert!B94","v":0},{"$f":"Insert!C94","v":0},{"$f":"Insert!D94","v":0},{"$f":"Insert!E94","v":0}]
[93,{"$f":"Insert!A95","v":0},{"$f":"Insert!B95","v":0},{"$f":"Insert!C95","v":0},{"$f":"Insert!D95","v":0},{"$f":"Insert!E95","v":0}]
[94,{"$f":"Insert!A96","v":0},{"$f":"Insert!B96","v":0},{"$f":"Insert!C96","v":0},{"$f":"Insert!D96","v":0},{"$f":"Insert!E96","v":0}]
[95,{"$f":"Insert!A97","v":0},{"$f":"Insert!B97","v":0},{"$f":"Insert!C97","v":0},{"$f":"Insert!D97","v":0},{"$f":"Insert!E97","v":0}]
[96,{"$f":"Insert!A98","v":0},{"$f":"Insert!B98","v":0},{"$f":"Insert!C98","v":0},{"$f":"Insert!D98","v":0},{"$f":"Insert!E98","v":0}]
[97,{"$f":"Insert!A99","v":0},{"$f":"Insert!B99","v":0},{"$f":"Insert!C99","v":0},{"$f":"Insert!D99","v":0},{"$f":"Insert!E99","v":0}]
[98,{"$f":"Insert!A100","v":0},{"$f":"Insert!B100","v":0},{"$f":"Insert!C100","v":0},{"$f":"Insert!D100","v":0},{"$f":"Insert!E100","v":0}]
[99,{"$f":"Insert!A101","v":0},{"$f":"Insert!B101","v":0},{"$f":"Insert!C101","v":0},{"$f":"Insert!D101","v":0},{"$f":"Insert!E101","v":0}]
[100,{"$f":"Insert!A102","v":0},{"$f":"Insert!B102","v":0},{"$f":"Insert!C102","v":0},{"$f":"Insert!D102","v":0},{"$f":"Insert!E102","v":0}]

{"sheet":"Term3 Sign","index":17,"n_rows":105,"n_cols":15,"rows_kept":105,"cut":false,"hidden":false,"merged":[[1,6,1,7],[1,8,1,9],[1,10,1,11],[1,12,1,13],[1,14,1,15]]}
[null,null,null,null,null,null,null,"GRADE :",{"$f":"TERM1!$F$6","v":0},"EGD"]
[null,null,null,null,null,null,"CD11\nTransition Piece",null,"CD12\nHelix",null,"CD13\nCam Shaft",null,"CD14\nMechanism",null,"CD15\n3rd Mechanical Drawings"]
[]
[null,"Class","Admission","SURNAME","NAME","Gender",11,null,12.1,12.2,13,null,14,null,15]
[]
[1,{"$f":"Insert!A3","v":0},{"$f":"Insert!B3","v":0},{"$f":"Insert!C3","v":0},{"$f":"Insert!D3","v":0},{"$f":"Insert!E3","v":0}]
[2,{"$f":"Insert!A4","v":0},{"$f":"Insert!B4","v":0},{"$f":"Insert!C4","v":0},{"$f":"Insert!D4","v":0},{"$f":"Insert!E4","v":0}]
[3,{"$f":"Insert!A5","v":0},{"$f":"Insert!B5","v":0},{"$f":"Insert!C5","v":0},{"$f":"Insert!D5","v":0},{"$f":"Insert!E5","v":0}]
[4,{"$f":"Insert!A6","v":0},{"$f":"Insert!B6","v":0},{"$f":"Insert!C6","v":0},{"$f":"Insert!D6","v":0},{"$f":"Insert!E6","v":0}]
[5,{"$f":"Insert!A7","v":0},{"$f":"Insert!B7","v":0},{"$f":"Insert!C7","v":0},{"$f":"Insert!D7","v":0},{"$f":"Insert!E7","v":0}]
[6,{"$f":"Insert!A8","v":0},{"$f":"Insert!B8","v":0},{"$f":"Insert!C8","v":0},{"$f":"Insert!D8","v":0},{"$f":"Insert!E8","v":0}]
[7,{"$f":"Insert!A9","v":0},{"$f":"Insert!B9","v":0},{"$f":"Insert!C9","v":0},{"$f":"Insert!D9","v":0},{"$f":"Insert!E9","v":0}]
[8,{"$f":"Insert!A10","v":0},{"$f":"Insert!B10","v":0},{"$f":"Insert!C10","v":0},{"$f":"Insert!D10","v":0},{"$f":"Insert!E10","v":0}]
[9,{"$f":"Insert!A11","v":0},{"$f":"Insert!B11","v":0},{"$f":"Insert!C11","v":0},{"$f":"Insert!D11","v":0},{"$f":"Insert!E11","v":0}]
[10,{"$f":"Insert!A12","v":0},{"$f":"Insert!B12","v":0},{"$f":"Insert!C12","v":0},{"$f":"Insert!D12","v":0},{"$f":"Insert!E12","v":0}]
[11,{"$f":"Insert!A13","v":0},{"$f":"Insert!B13","v":0},{"$f":"Insert!C13","v":0},{"$f":"Insert!D13","v":0},{"$f":"Insert!E13","v":0}]
[12,{"$f":"Insert!A14","v":0},{"$f":"Insert!B14","v":0},{"$f":"Insert!C14","v":0},{"$f":"Insert!D14","v":0},{"$f":"Insert!E14","v":0}]
[13,{"$f":"Insert!A15","v":0},{"$f":"Insert!B15","v":0},{"$f":"Insert!C15","v":0},{"$f":"Insert!D15","v":0},{"$f":"Insert!E15","v":0}]
[14,{"$f":"Insert!A16","v":0},{"$f":"Insert!B16","v":0},{"$f":"Insert!C16","v":0},{"$f":"Insert!D16","v":0},{"$f":"Insert!E16","v":0}]
[15,{"$f":"Insert!A17","v":0},{"$f":"Insert!B17","v":0},{"$f":"Insert!C17","v":0},{"$f":"Insert!D17","v":0},{"$f":"Insert!E17","v":0}]
[16,{"$f":"Insert!A18","v":0},{"$f":"Insert!B18","v":0},{"$f":"Insert!C18","v":0},{"$f":"Insert!D18","v":0},{"$f":"Insert!E18","v":0}]
[17,{"$f":"Insert!A19","v":0},{"$f":"Insert!B19","v":0},{"$f":"Insert!C19","v":0},{"$f":"Insert!D19","v":0},{"$f":"Insert!E19","v":0}]
[18,{"$f":"Insert!A20","v":0},{"$f":"Insert!B20","v":0},{"$f":"Insert!C20","v":0},{"$f":"Insert!D20","v":0},{"$f":"Insert!E20","v":0}]
[19,{"$f":"Insert!A21","v":0},{"$f":"Insert!B21","v":0},{"$f":"Insert!C21","v":0},{"$f":"Insert!D21","v":0},{"$f":"Insert!E21","v":0}]
[20,{"$f":"Insert!A22","v":0},{"$f":"Insert!B22","v":0},{"$f":"Insert!C22","v":0},{"$f":"Insert!D22","v":0},{"$f":"Insert!E22","v":0}]
[21,{"$f":"Insert!A23","v":0},{"$f":"Insert!B23","v":0},{"$f":"Insert!C23","v":0},{"$f":"Insert!D23","v":0},{"$f":"Insert!E23","v":0}]
[22,{"$f":"Insert!A24","v":0},{"$f":"Insert!B24","v":0},{"$f":"Insert!C24","v":0},{"$f":"Insert!D24","v":0},{"$f":"Insert!E24","v":0}]
[23,{"$f":"Insert!A25","v":0},{"$f":"Insert!B25","v":0},{"$f":"Insert!C25","v":0},{"$f":"Insert!D25","v":0},{"$f":"Insert!E25","v":0}]
[24,{"$f":"Insert!A26","v":0},{"$f":"Insert!B26","v":0},{"$f":"Insert!C26","v":0},{"$f":"Insert!D26","v":0},{"$f":"Insert!E26","v":0}]
[25,{"$f":"Insert!A27","v":0},{"$f":"Insert!B27","v":0},{"$f":"Insert!C27","v":0},{"$f":"Insert!D27","v":0},{"$f":"Insert!E27","v":0}]
[26,{"$f":"Insert!A28","v":0},{"$f":"Insert!B28","v":0},{"$f":"Insert!C28","v":0},{"$f":"Insert!D28","v":0},{"$f":"Insert!E28","v":0}]
[27,{"$f":"Insert!A29","v":0},{"$f":"Insert!B29","v":0},{"$f":"Insert!C29","v":0},{"$f":"Insert!D29","v":0},{"$f":"Insert!E29","v":0}]
[28,{"$f":"Insert!A30","v":0},{"$f":"Insert!B30","v":0},{"$f":"Insert!C30","v":0},{"$f":"Insert!D30","v":0},{"$f":"Insert!E30","v":0}]
[29,{"$f":"Insert!A31","v":0},{"$f":"Insert!B31","v":0},{"$f":"Insert!C31","v":0},{"$f":"Insert!D31","v":0},{"$f":"Insert!E31","v":0}]
[30,{"$f":"Insert!A32","v":0},{"$f":"Insert!B32","v":0},{"$f":"Insert!C32","v":0},{"$f":"Insert!D32","v":0},{"$f":"Insert!E32","v":0}]
[31,{"$f":"Insert!A33","v":0},{"$f":"Insert!B33","v":0},{"$f":"Insert!C33","v":0},{"$f":"Insert!D33","v":0},{"$f":"Insert!E33","v":0}]
[32,{"$f":"Insert!A34","v":0},{"$f":"Insert!B34","v":0},{"$f":"Insert!C34","v":0},{"$f":"Insert!D34","v":0},{"$f":"Insert!E34","v":0}]
[33,{"$f":"Insert!A35","v":0},{"$f":"Insert!B35","v":0},{"$f":"Insert!C35","v":0},{"$f":"Insert!D35","v":0},{"$f":"Insert!E35","v":0}]
[34,{"$f":"Insert!A36","v":0},{"$f":"Insert!B36","v":0},{"$f":"Insert!C36","v":0},{"$f":"Insert!D36","v":0},{"$f":"Insert!E36","v":0}]
[35,{"$f":"Insert!A37","v":0},{"$f":"Insert!B37","v":0},{"$f":"Insert!C37","v":0},{"$f":"Insert!D37","v":0},{"$f":"Insert!E37","v":0}]
[36,{"$f":"Insert!A38","v":0},{"$f":"Insert!B38","v":0},{"$f":"Insert!C38","v":0},{"$f":"Insert!D38","v":0},{"$f":"Insert!E38","v":0}]
[37,{"$f":"Insert!A39","v":0},{"$f":"Insert!B39","v":0},{"$f":"Insert!C39","v":0},{"$f":"Insert!D39","v":0},{"$f":"Insert!E39","v":0}]
[38,{"$f":"Insert!A40","v":0},{"$f":"Insert!B40","v":0},{"$f":"Insert!C40","v":0},{"$f":"Insert!D40","v":0},{"$f":"Insert!E40","v":0}]
[39,{"$f":"Insert!A41","v":0},{"$f":"Insert!B41","v":0},{"$f":"Insert!C41","v":0},{"$f":"Insert!D41","v":0},{"$f":"Insert!E41","v":0}]
[40,{"$f":"Insert!A42","v":0},{"$f":"Insert!B42","v":0},{"$f":"Insert!C42","v":0},{"$f":"Insert!D42","v":0},{"$f":"Insert!E42","v":0}]
[41,{"$f":"Insert!A43","v":0},{"$f":"Insert!B43","v":0},{"$f":"Insert!C43","v":0},{"$f":"Insert!D43","v":0},{"$f":"Insert!E43","v":0}]
[42,{"$f":"Insert!A44","v":0},{"$f":"Insert!B44","v":0},{"$f":"Insert!C44","v":0},{"$f":"Insert!D44","v":0},{"$f":"Insert!E44","v":0}]
[43,{"$f":"Insert!A45","v":0},{"$f":"Insert!B45","v":0},{"$f":"Insert!C45","v":0},{"$f":"Insert!D45","v":0},{"$f":"Insert!E45","v":0}]
[44,{"$f":"Insert!A46","v":0},{"$f":"Insert!B46","v":0},{"$f":"Insert!C46","v":0},{"$f":"Insert!D46","v":0},{"$f":"Insert!E46","v":0}]
[45,{"$f":"Insert!A47","v":0},{"$f":"Insert!B47","v":0},{"$f":"Insert!C47","v":0},{"$f":"Insert!D47","v":0},{"$f":"Insert!E47","v":0}]
[46,{"$f":"Insert!A48","v":0},{"$f":"Insert!B48","v":0},{"$f":"Insert!C48","v":0},{"$f":"Insert!D48","v":0},{"$f":"Insert!E48","v":0}]
[47,{"$f":"Insert!A49","v":0},{"$f":"Insert!B49","v":0},{"$f":"Insert!C49","v":0},{"$f":"Insert!D49","v":0},{"$f":"Insert!E49","v":0}]
[48,{"$f":"Insert!A50","v":0},{"$f":"Insert!B50","v":0},{"$f":"Insert!C50","v":0},{"$f":"Insert!D50","v":0},{"$f":"Insert!E50","v":0}]
[49,{"$f":"Insert!A51","v":0},{"$f":"Insert!B51","v":0},{"$f":"Insert!C51","v":0},{"$f":"Insert!D51","v":0},{"$f":"Insert!E51","v":0}]
[50,{"$f":"Insert!A52","v":0},{"$f":"Insert!B52","v":0},{"$f":"Insert!C52","v":0},{"$f":"Insert!D52","v":0},{"$f":"Insert!E52","v":0}]
[51,{"$f":"Insert!A53","v":0},{"$f":"Insert!B53","v":0},{"$f":"Insert!C53","v":0},{"$f":"Insert!D53","v":0},{"$f":"Insert!E53","v":0}]
[52,{"$f":"Insert!A54","v":0},{"$f":"Insert!B54","v":0},{"$f":"Insert!C54","v":0},{"$f":"Insert!D54","v":0},{"$f":"Insert!E54","v":0}]
[53,{"$f":"Insert!A55","v":0},{"$f":"Insert!B55","v":0},{"$f":"Insert!C55","v":0},{"$f":"Insert!D55","v":0},{"$f":"Insert!E55","v":0}]
[54,{"$f":"Insert!A56","v":0},{"$f":"Insert!B56","v":0},{"$f":"Insert!C56","v":0},{"$f":"Insert!D56","v":0},{"$f":"Insert!E56","v":0}]
[55,{"$f":"Insert!A57","v":0},{"$f":"Insert!B57","v":0},{"$f":"Insert!C57","v":0},{"$f":"Insert!D57","v":0},{"$f":"Insert!E57","v":0}]
[56,{"$f":"Insert!A58","v":0},{"$f":"Insert!B58","v":0},{"$f":"Insert!C58","v":0},{"$f":"Insert!D58","v":0},{"$f":"Insert!E58","v":0}]
[57,{"$f":"Insert!A59","v":0},{"$f":"Insert!B59","v":0},{"$f":"Insert!C59","v":0},{"$f":"Insert!D59","v":0},{"$f":"Insert!E59","v":0}]
[58,{"$f":"Insert!A60","v":0},{"$f":"Insert!B60","v":0},{"$f":"Insert!C60","v":0},{"$f":"Insert!D60","v":0},{"$f":"Insert!E60","v":0}]
[59,{"$f":"Insert!A61","v":0},{"$f":"Insert!B61","v":0},{"$f":"Insert!C61","v":0},{"$f":"Insert!D61","v":0},{"$f":"Insert!E61","v":0}]
[60,{"$f":"Insert!A62","v":0},{"$f":"Insert!B62","v":0},{"$f":"Insert!C62","v":0},{"$f":"Insert!D62","v":0},{"$f":"Insert!E62","v":0}]
[61,{"$f":"Insert!A63","v":0},{"$f":"Insert!B63","v":0},{"$f":"Insert!C63","v":0},{"$f":"Insert!D63","v":0},{"$f":"Insert!E63","v":0}]
[62,{"$f":"Insert!A64","v":0},{"$f":"Insert!B64","v":0},{"$f":"Insert!C64","v":0},{"$f":"Insert!D64","v":0},{"$f":"Insert!E64","v":0}]
[63,{"$f":"Insert!A65","v":0},{"$f":"Insert!B65","v":0},{"$f":"Insert!C65","v":0},{"$f":"Insert!D65","v":0},{"$f":"Insert!E65","v":0}]
[64,{"$f":"Insert!A66","v":0},{"$f":"Insert!B66","v":0},{"$f":"Insert!C66","v":0},{"$f":"Insert!D66","v":0},{"$f":"Insert!E66","v":0}]
[65,{"$f":"Insert!A67","v":0},{"$f":"Insert!B67","v":0},{"$f":"Insert!C67","v":0},{"$f":"Insert!D67","v":0},{"$f":"Insert!E67","v":0}]
[66,{"$f":"Insert!A68","v":0},{"$f":"Insert!B68","v":0},{"$f":"Insert!C68","v":0},{"$f":"Insert!D68","v":0},{"$f":"Insert!E68","v":0}]
[67,{"$f":"Insert!A69","v":0},{"$f":"Insert!B69","v":0},{"$f":"Insert!C69","v":0},{"$f":"Insert!D69","v":0},{"$f":"Insert!E69","v":0}]
[68,{"$f":"Insert!A70","v":0},{"$f":"Insert!B70","v":0},{"$f":"Insert!C70","v":0},{"$f":"Insert!D70","v":0},{"$f":"Insert!E70","v":0}]
[69,{"$f":"Insert!A71","v":0},{"$f":"Insert!B71","v":0},{"$f":"Insert!C71","v":0},{"$f":"Insert!D71","v":0},{"$f":"Insert!E71","v":0}]
[70,{"$f":"Insert!A72","v":0},{"$f":"Insert!B72","v":0},{"$f":"Insert!C72","v":0},{"$f":"Insert!D72","v":0},{"$f":"Insert!E72","v":0}]
[71,{"$f":"Insert!A73","v":0},{"$f":"Insert!B73","v":0},{"$f":"Insert!C73","v":0},{"$f":"Insert!D73","v":0},{"$f":"Insert!E73","v":0}]
[72,{"$f":"Insert!A74","v":0},{"$f":"Insert!B74","v":0},{"$f":"Insert!C74","v":0},{"$f":"Insert!D74","v":0},{"$f":"Insert!E74","v":0}]
[73,{"$f":"Insert!A75","v":0},{"$f":"Insert!B75","v":0},{"$f":"Insert!C75","v":0},{"$f":"Insert!D75","v":0},{"$f":"Insert!E75","v":0}]
[74,{"$f":"Insert!A76","v":0},{"$f":"Insert!B76","v":0},{"$f":"Insert!C76","v":0},{"$f":"Insert!D76","v":0},{"$f":"Insert!E76","v":0}]
[75,{"$f":"Insert!A77","v":0},{"$f":"Insert!B77","v":0},{"$f":"Insert!C77","v":0},{"$f":"Insert!D77","v":0},{"$f":"Insert!E77","v":0}]
[76,{"$f":"Insert!A78","v":0},{"$f":"Insert!B78","v":0},{"$f":"Insert!C78","v":0},{"$f":"Insert!D78","v":0},{"$f":"Insert!E78","v":0}]
[77,{"$f":"Insert!A79","v":0},{"$f":"Insert!B79","v":0},{"$f":"Insert!C79","v":0},{"$f":"Insert!D79","v":0},{"$f":"Insert!E79","v":0}]
[78,{"$f":"Insert!A80","v":0},{"$f":"Insert!B80","v":0},{"$f":"Insert!C80","v":0},{"$f":"Insert!D80","v":0},{"$f":"Insert!E80","v":0}]
[79,{"$f":"Insert!A81","v":0},{"$f":"Insert!B81","v":0},{"$f":"Insert!C81","v":0},{"$f":"Insert!D81","v":0},{"$f":"Insert!E81","v":0}]
[80,{"$f":"Insert!A82","v":0},{"$f":"Insert!B82","v":0},{"$f":"Insert!C82","v":0},{"$f":"Insert!D82","v":0},{"$f":"Insert!E82","v":0}]
[81,{"$f":"Insert!A83","v":0},{"$f":"Insert!B83","v":0},{"$f":"Insert!C83","v":0},{"$f":"Insert!D83","v":0},{"$f":"Insert!E83","v":0}]
[82,{"$f":"Insert!A84","v":0},{"$f":"Insert!B84","v":0},{"$f":"Insert!C84","v":0},{"$f":"Insert!D84","v":0},{"$f":"Insert!E84","v":0}]
[83,{"$f":"Insert!A85","v":0},{"$f":"Insert!B85","v":0},{"$f":"Insert!C85","v":0},{"$f":"Insert!D85","v":0},{"$f":"Insert!E85","v":0}]
[84,{"$f":"Insert!A86","v":0},{"$f":"Insert!B86","v":0},{"$f":"Insert!C86","v":0},{"$f":"Insert!D86","v":0},{"$f":"Insert!E86","v":0}]
[85,{"$f":"Insert!A87","v":0},{"$f":"Insert!B87","v":0},{"$f":"Insert!C87","v":0},{"$f":"Insert!D87","v":0},{"$f":"Insert!E87","v":0}]
[86,{"$f":"Insert!A88","v":0},{"$f":"Insert!B88","v":0},{"$f":"Insert!C88","v":0},{"$f":"Insert!D88","v":0},{"$f":"Insert!E88","v":0}]
[87,{"$f":"Insert!A89","v":0},{"$f":"Insert!B89","v":0},{"$f":"Insert!C89","v":0},{"$f":"Insert!D89","v":0},{"$f":"Insert!E89","v":0}]
[88,{"$f":"Insert!A90","v":0},{"$f":"Insert!B90","v":0},{"$f":"Insert!C90","v":0},{"$f":"Insert!D90","v":0},{"$f":"Insert!E90","v":0}]
[89,{"$f":"Insert!A91","v":0},{"$f":"Insert!B91","v":0},{"$f":"Insert!C91","v":0},{"$f":"Insert!D91","v":0},{"$f":"Insert!E91","v":0}]
[90,{"$f":"Insert!A92","v":0},{"$f":"Insert!B92","v":0},{"$f":"Insert!C92","v":0},{"$f":"Insert!D92","v":0},{"$f":"Insert!E92","v":0}]
[91,{"$f":"Insert!A93","v":0},{"$f":"Insert!B93","v":0},{"$f":"Insert!C93","v":0},{"$f":"Insert!D93","v":0},{"$f":"Insert!E93","v":0}]
[92,{"$f":"Insert!A94","v":0},{"$f":"Insert!B94","v":0},{"$f":"Insert!C94","v":0},{"$f":"Insert!D94","v":0},{"$f":"Insert!E94","v":0}]
[93,{"$f":"Insert!A95","v":0},{"$f":"Insert!B95","v":0},{"$f":"Insert!C95","v":0},{"$f":"Insert!D95","v":0},{"$f":"Insert!E95","v":0}]
[94,{"$f":"Insert!A96","v":0},{"$f":"Insert!B96","v":0},{"$f":"Insert!C96","v":0},{"$f":"Insert!D96","v":0},{"$f":"Insert!E96","v":0}]
[95,{"$f":"Insert!A97","v":0},{"$f":"Insert!B97","v":0},{"$f":"Insert!C97","v":0},{"$f":"Insert!D97","v":0},{"$f":"Insert!E97","v":0}]
[96,{"$f":"Insert!A98","v":0},{"$f":"Insert!B98","v":0},{"$f":"Insert!C98","v":0},{"$f":"Insert!D98","v":0},{"$f":"Insert!E98","v":0}]
[97,{"$f":"Insert!A99","v":0},{"$f":"Insert!B99","v":0},{"$f":"Insert!C99","v":0},{"$f":"Insert!D99","v":0},{"$f":"Insert!E99","v":0}]
[98,{"$f":"Insert!A100","v":0},{"$f":"Insert!B100","v":0},{"$f":"Insert!C100","v":0},{"$f":"Insert!D100","v":0},{"$f":"Insert!E100","v":0}]
[99,{"$f":"Insert!A101","v":0},{"$f":"Insert!B101","v":0},{"$f":"Insert!C101","v":0},{"$f":"Insert!D101","v":0},{"$f":"Insert!E101","v":0}]
[100,{"$f":"Insert!A102","v":0},{"$f":"Insert!B102","v":0},{"$f":"Insert!C102","v":0},{"$f":"Insert!D102","v":0},{"$f":"Insert!E102","v":0}]

{"sheet":"PAT Sign","index":18,"n_rows":105,"n_cols":14,"rows_kept":105,"cut":false,"hidden":false,"merged":[[1,6,1,7],[1,8,1,9],[1,10,1,11],[1,12,1,13]]}
[null,null,null,null,null,null,null,"GRADE :",{"$f":"TERM1!$F$6","v":0},"EGD"]
[null,null,null,null,null,null,"PAT (Paper 3) Scenario`s",null,"PAT (Paper 3)           Phase 1",null,"PAT (Paper 3)           Phase 2",null,"PAT (Paper 3) \nPhase 3"]
[null,null,null,null,null,null,"DUE DATE: ",null,"DUE DATE: ",null,"DUE DATE: ",null,"DUE DATE: "]
[null,"Class","Admission","SURNAME","NAME","Gender","Out","Back","Out","Back","Out","Back","Out","Back"]
[]
[1,{"$f":"Insert!A3","v":0},{"$f":"Insert!B3","v":0},{"$f":"Insert!C3","v":0},{"$f":"Insert!D3","v":0},{"$f":"Insert!E3","v":0}]
[2,{"$f":"Insert!A4","v":0},{"$f":"Insert!B4","v":0},{"$f":"Insert!C4","v":0},{"$f":"Insert!D4","v":0},{"$f":"Insert!E4","v":0}]
[3,{"$f":"Insert!A5","v":0},{"$f":"Insert!B5","v":0},{"$f":"Insert!C5","v":0},{"$f":"Insert!D5","v":0},{"$f":"Insert!E5","v":0}]
[4,{"$f":"Insert!A6","v":0},{"$f":"Insert!B6","v":0},{"$f":"Insert!C6","v":0},{"$f":"Insert!D6","v":0},{"$f":"Insert!E6","v":0}]
[5,{"$f":"Insert!A7","v":0},{"$f":"Insert!B7","v":0},{"$f":"Insert!C7","v":0},{"$f":"Insert!D7","v":0},{"$f":"Insert!E7","v":0}]
[6,{"$f":"Insert!A8","v":0},{"$f":"Insert!B8","v":0},{"$f":"Insert!C8","v":0},{"$f":"Insert!D8","v":0},{"$f":"Insert!E8","v":0}]
[7,{"$f":"Insert!A9","v":0},{"$f":"Insert!B9","v":0},{"$f":"Insert!C9","v":0},{"$f":"Insert!D9","v":0},{"$f":"Insert!E9","v":0}]
[8,{"$f":"Insert!A10","v":0},{"$f":"Insert!B10","v":0},{"$f":"Insert!C10","v":0},{"$f":"Insert!D10","v":0},{"$f":"Insert!E10","v":0}]
[9,{"$f":"Insert!A11","v":0},{"$f":"Insert!B11","v":0},{"$f":"Insert!C11","v":0},{"$f":"Insert!D11","v":0},{"$f":"Insert!E11","v":0}]
[10,{"$f":"Insert!A12","v":0},{"$f":"Insert!B12","v":0},{"$f":"Insert!C12","v":0},{"$f":"Insert!D12","v":0},{"$f":"Insert!E12","v":0}]
[11,{"$f":"Insert!A13","v":0},{"$f":"Insert!B13","v":0},{"$f":"Insert!C13","v":0},{"$f":"Insert!D13","v":0},{"$f":"Insert!E13","v":0}]
[12,{"$f":"Insert!A14","v":0},{"$f":"Insert!B14","v":0},{"$f":"Insert!C14","v":0},{"$f":"Insert!D14","v":0},{"$f":"Insert!E14","v":0}]
[13,{"$f":"Insert!A15","v":0},{"$f":"Insert!B15","v":0},{"$f":"Insert!C15","v":0},{"$f":"Insert!D15","v":0},{"$f":"Insert!E15","v":0}]
[14,{"$f":"Insert!A16","v":0},{"$f":"Insert!B16","v":0},{"$f":"Insert!C16","v":0},{"$f":"Insert!D16","v":0},{"$f":"Insert!E16","v":0}]
[15,{"$f":"Insert!A17","v":0},{"$f":"Insert!B17","v":0},{"$f":"Insert!C17","v":0},{"$f":"Insert!D17","v":0},{"$f":"Insert!E17","v":0}]
[16,{"$f":"Insert!A18","v":0},{"$f":"Insert!B18","v":0},{"$f":"Insert!C18","v":0},{"$f":"Insert!D18","v":0},{"$f":"Insert!E18","v":0}]
[17,{"$f":"Insert!A19","v":0},{"$f":"Insert!B19","v":0},{"$f":"Insert!C19","v":0},{"$f":"Insert!D19","v":0},{"$f":"Insert!E19","v":0}]
[18,{"$f":"Insert!A20","v":0},{"$f":"Insert!B20","v":0},{"$f":"Insert!C20","v":0},{"$f":"Insert!D20","v":0},{"$f":"Insert!E20","v":0}]
[19,{"$f":"Insert!A21","v":0},{"$f":"Insert!B21","v":0},{"$f":"Insert!C21","v":0},{"$f":"Insert!D21","v":0},{"$f":"Insert!E21","v":0}]
[20,{"$f":"Insert!A22","v":0},{"$f":"Insert!B22","v":0},{"$f":"Insert!C22","v":0},{"$f":"Insert!D22","v":0},{"$f":"Insert!E22","v":0}]
[21,{"$f":"Insert!A23","v":0},{"$f":"Insert!B23","v":0},{"$f":"Insert!C23","v":0},{"$f":"Insert!D23","v":0},{"$f":"Insert!E23","v":0}]
[22,{"$f":"Insert!A24","v":0},{"$f":"Insert!B24","v":0},{"$f":"Insert!C24","v":0},{"$f":"Insert!D24","v":0},{"$f":"Insert!E24","v":0}]
[23,{"$f":"Insert!A25","v":0},{"$f":"Insert!B25","v":0},{"$f":"Insert!C25","v":0},{"$f":"Insert!D25","v":0},{"$f":"Insert!E25","v":0}]
[24,{"$f":"Insert!A26","v":0},{"$f":"Insert!B26","v":0},{"$f":"Insert!C26","v":0},{"$f":"Insert!D26","v":0},{"$f":"Insert!E26","v":0}]
[25,{"$f":"Insert!A27","v":0},{"$f":"Insert!B27","v":0},{"$f":"Insert!C27","v":0},{"$f":"Insert!D27","v":0},{"$f":"Insert!E27","v":0}]
[26,{"$f":"Insert!A28","v":0},{"$f":"Insert!B28","v":0},{"$f":"Insert!C28","v":0},{"$f":"Insert!D28","v":0},{"$f":"Insert!E28","v":0}]
[27,{"$f":"Insert!A29","v":0},{"$f":"Insert!B29","v":0},{"$f":"Insert!C29","v":0},{"$f":"Insert!D29","v":0},{"$f":"Insert!E29","v":0}]
[28,{"$f":"Insert!A30","v":0},{"$f":"Insert!B30","v":0},{"$f":"Insert!C30","v":0},{"$f":"Insert!D30","v":0},{"$f":"Insert!E30","v":0}]
[29,{"$f":"Insert!A31","v":0},{"$f":"Insert!B31","v":0},{"$f":"Insert!C31","v":0},{"$f":"Insert!D31","v":0},{"$f":"Insert!E31","v":0}]
[30,{"$f":"Insert!A32","v":0},{"$f":"Insert!B32","v":0},{"$f":"Insert!C32","v":0},{"$f":"Insert!D32","v":0},{"$f":"Insert!E32","v":0}]
[31,{"$f":"Insert!A33","v":0},{"$f":"Insert!B33","v":0},{"$f":"Insert!C33","v":0},{"$f":"Insert!D33","v":0},{"$f":"Insert!E33","v":0}]
[32,{"$f":"Insert!A34","v":0},{"$f":"Insert!B34","v":0},{"$f":"Insert!C34","v":0},{"$f":"Insert!D34","v":0},{"$f":"Insert!E34","v":0}]
[33,{"$f":"Insert!A35","v":0},{"$f":"Insert!B35","v":0},{"$f":"Insert!C35","v":0},{"$f":"Insert!D35","v":0},{"$f":"Insert!E35","v":0}]
[34,{"$f":"Insert!A36","v":0},{"$f":"Insert!B36","v":0},{"$f":"Insert!C36","v":0},{"$f":"Insert!D36","v":0},{"$f":"Insert!E36","v":0}]
[35,{"$f":"Insert!A37","v":0},{"$f":"Insert!B37","v":0},{"$f":"Insert!C37","v":0},{"$f":"Insert!D37","v":0},{"$f":"Insert!E37","v":0}]
[36,{"$f":"Insert!A38","v":0},{"$f":"Insert!B38","v":0},{"$f":"Insert!C38","v":0},{"$f":"Insert!D38","v":0},{"$f":"Insert!E38","v":0}]
[37,{"$f":"Insert!A39","v":0},{"$f":"Insert!B39","v":0},{"$f":"Insert!C39","v":0},{"$f":"Insert!D39","v":0},{"$f":"Insert!E39","v":0}]
[38,{"$f":"Insert!A40","v":0},{"$f":"Insert!B40","v":0},{"$f":"Insert!C40","v":0},{"$f":"Insert!D40","v":0},{"$f":"Insert!E40","v":0}]
[39,{"$f":"Insert!A41","v":0},{"$f":"Insert!B41","v":0},{"$f":"Insert!C41","v":0},{"$f":"Insert!D41","v":0},{"$f":"Insert!E41","v":0}]
[40,{"$f":"Insert!A42","v":0},{"$f":"Insert!B42","v":0},{"$f":"Insert!C42","v":0},{"$f":"Insert!D42","v":0},{"$f":"Insert!E42","v":0}]
[41,{"$f":"Insert!A43","v":0},{"$f":"Insert!B43","v":0},{"$f":"Insert!C43","v":0},{"$f":"Insert!D43","v":0},{"$f":"Insert!E43","v":0}]
[42,{"$f":"Insert!A44","v":0},{"$f":"Insert!B44","v":0},{"$f":"Insert!C44","v":0},{"$f":"Insert!D44","v":0},{"$f":"Insert!E44","v":0}]
[43,{"$f":"Insert!A45","v":0},{"$f":"Insert!B45","v":0},{"$f":"Insert!C45","v":0},{"$f":"Insert!D45","v":0},{"$f":"Insert!E45","v":0}]
[44,{"$f":"Insert!A46","v":0},{"$f":"Insert!B46","v":0},{"$f":"Insert!C46","v":0},{"$f":"Insert!D46","v":0},{"$f":"Insert!E46","v":0}]
[45,{"$f":"Insert!A47","v":0},{"$f":"Insert!B47","v":0},{"$f":"Insert!C47","v":0},{"$f":"Insert!D47","v":0},{"$f":"Insert!E47","v":0}]
[46,{"$f":"Insert!A48","v":0},{"$f":"Insert!B48","v":0},{"$f":"Insert!C48","v":0},{"$f":"Insert!D48","v":0},{"$f":"Insert!E48","v":0}]
[47,{"$f":"Insert!A49","v":0},{"$f":"Insert!B49","v":0},{"$f":"Insert!C49","v":0},{"$f":"Insert!D49","v":0},{"$f":"Insert!E49","v":0}]
[48,{"$f":"Insert!A50","v":0},{"$f":"Insert!B50","v":0},{"$f":"Insert!C50","v":0},{"$f":"Insert!D50","v":0},{"$f":"Insert!E50","v":0}]
[49,{"$f":"Insert!A51","v":0},{"$f":"Insert!B51","v":0},{"$f":"Insert!C51","v":0},{"$f":"Insert!D51","v":0},{"$f":"Insert!E51","v":0}]
[50,{"$f":"Insert!A52","v":0},{"$f":"Insert!B52","v":0},{"$f":"Insert!C52","v":0},{"$f":"Insert!D52","v":0},{"$f":"Insert!E52","v":0}]
[51,{"$f":"Insert!A53","v":0},{"$f":"Insert!B53","v":0},{"$f":"Insert!C53","v":0},{"$f":"Insert!D53","v":0},{"$f":"Insert!E53","v":0}]
[52,{"$f":"Insert!A54","v":0},{"$f":"Insert!B54","v":0},{"$f":"Insert!C54","v":0},{"$f":"Insert!D54","v":0},{"$f":"Insert!E54","v":0}]
[53,{"$f":"Insert!A55","v":0},{"$f":"Insert!B55","v":0},{"$f":"Insert!C55","v":0},{"$f":"Insert!D55","v":0},{"$f":"Insert!E55","v":0}]
[54,{"$f":"Insert!A56","v":0},{"$f":"Insert!B56","v":0},{"$f":"Insert!C56","v":0},{"$f":"Insert!D56","v":0},{"$f":"Insert!E56","v":0}]
[55,{"$f":"Insert!A57","v":0},{"$f":"Insert!B57","v":0},{"$f":"Insert!C57","v":0},{"$f":"Insert!D57","v":0},{"$f":"Insert!E57","v":0}]
[56,{"$f":"Insert!A58","v":0},{"$f":"Insert!B58","v":0},{"$f":"Insert!C58","v":0},{"$f":"Insert!D58","v":0},{"$f":"Insert!E58","v":0}]
[57,{"$f":"Insert!A59","v":0},{"$f":"Insert!B59","v":0},{"$f":"Insert!C59","v":0},{"$f":"Insert!D59","v":0},{"$f":"Insert!E59","v":0}]
[58,{"$f":"Insert!A60","v":0},{"$f":"Insert!B60","v":0},{"$f":"Insert!C60","v":0},{"$f":"Insert!D60","v":0},{"$f":"Insert!E60","v":0}]
[59,{"$f":"Insert!A61","v":0},{"$f":"Insert!B61","v":0},{"$f":"Insert!C61","v":0},{"$f":"Insert!D61","v":0},{"$f":"Insert!E61","v":0}]
[60,{"$f":"Insert!A62","v":0},{"$f":"Insert!B62","v":0},{"$f":"Insert!C62","v":0},{"$f":"Insert!D62","v":0},{"$f":"Insert!E62","v":0}]
[61,{"$f":"Insert!A63","v":0},{"$f":"Insert!B63","v":0},{"$f":"Insert!C63","v":0},{"$f":"Insert!D63","v":0},{"$f":"Insert!E63","v":0}]
[62,{"$f":"Insert!A64","v":0},{"$f":"Insert!B64","v":0},{"$f":"Insert!C64","v":0},{"$f":"Insert!D64","v":0},{"$f":"Insert!E64","v":0}]
[63,{"$f":"Insert!A65","v":0},{"$f":"Insert!B65","v":0},{"$f":"Insert!C65","v":0},{"$f":"Insert!D65","v":0},{"$f":"Insert!E65","v":0}]
[64,{"$f":"Insert!A66","v":0},{"$f":"Insert!B66","v":0},{"$f":"Insert!C66","v":0},{"$f":"Insert!D66","v":0},{"$f":"Insert!E66","v":0}]
[65,{"$f":"Insert!A67","v":0},{"$f":"Insert!B67","v":0},{"$f":"Insert!C67","v":0},{"$f":"Insert!D67","v":0},{"$f":"Insert!E67","v":0}]
[66,{"$f":"Insert!A68","v":0},{"$f":"Insert!B68","v":0},{"$f":"Insert!C68","v":0},{"$f":"Insert!D68","v":0},{"$f":"Insert!E68","v":0}]
[67,{"$f":"Insert!A69","v":0},{"$f":"Insert!B69","v":0},{"$f":"Insert!C69","v":0},{"$f":"Insert!D69","v":0},{"$f":"Insert!E69","v":0}]
[68,{"$f":"Insert!A70","v":0},{"$f":"Insert!B70","v":0},{"$f":"Insert!C70","v":0},{"$f":"Insert!D70","v":0},{"$f":"Insert!E70","v":0}]
[69,{"$f":"Insert!A71","v":0},{"$f":"Insert!B71","v":0},{"$f":"Insert!C71","v":0},{"$f":"Insert!D71","v":0},{"$f":"Insert!E71","v":0}]
[70,{"$f":"Insert!A72","v":0},{"$f":"Insert!B72","v":0},{"$f":"Insert!C72","v":0},{"$f":"Insert!D72","v":0},{"$f":"Insert!E72","v":0}]
[71,{"$f":"Insert!A73","v":0},{"$f":"Insert!B73","v":0},{"$f":"Insert!C73","v":0},{"$f":"Insert!D73","v":0},{"$f":"Insert!E73","v":0}]
[72,{"$f":"Insert!A74","v":0},{"$f":"Insert!B74","v":0},{"$f":"Insert!C74","v":0},{"$f":"Insert!D74","v":0},{"$f":"Insert!E74","v":0}]
[73,{"$f":"Insert!A75","v":0},{"$f":"Insert!B75","v":0},{"$f":"Insert!C75","v":0},{"$f":"Insert!D75","v":0},{"$f":"Insert!E75","v":0}]
[74,{"$f":"Insert!A76","v":0},{"$f":"Insert!B76","v":0},{"$f":"Insert!C76","v":0},{"$f":"Insert!D76","v":0},{"$f":"Insert!E76","v":0}]
[75,{"$f":"Insert!A77","v":0},{"$f":"Insert!B77","v":0},{"$f":"Insert!C77","v":0},{"$f":"Insert!D77","v":0},{"$f":"Insert!E77","v":0}]
[76,{"$f":"Insert!A78","v":0},{"$f":"Insert!B78","v":0},{"$f":"Insert!C78","v":0},{"$f":"Insert!D78","v":0},{"$f":"Insert!E78","v":0}]
[77,{"$f":"Insert!A79","v":0},{"$f":"Insert!B79","v":0},{"$f":"Insert!C79","v":0},{"$f":"Insert!D79","v":0},{"$f":"Insert!E79","v":0}]
[78,{"$f":"Insert!A80","v":0},{"$f":"Insert!B80","v":0},{"$f":"Insert!C80","v":0},{"$f":"Insert!D80","v":0},{"$f":"Insert!E80","v":0}]
[79,{"$f":"Insert!A81","v":0},{"$f":"Insert!B81","v":0},{"$f":"Insert!C81","v":0},{"$f":"Insert!D81","v":0},{"$f":"Insert!E81","v":0}]
[80,{"$f":"Insert!A82","v":0},{"$f":"Insert!B82","v":0},{"$f":"Insert!C82","v":0},{"$f":"Insert!D82","v":0},{"$f":"Insert!E82","v":0}]
[81,{"$f":"Insert!A83","v":0},{"$f":"Insert!B83","v":0},{"$f":"Insert!C83","v":0},{"$f":"Insert!D83","v":0},{"$f":"Insert!E83","v":0}]
[82,{"$f":"Insert!A84","v":0},{"$f":"Insert!B84","v":0},{"$f":"Insert!C84","v":0},{"$f":"Insert!D84","v":0},{"$f":"Insert!E84","v":0}]
[83,{"$f":"Insert!A85","v":0},{"$f":"Insert!B85","v":0},{"$f":"Insert!C85","v":0},{"$f":"Insert!D85","v":0},{"$f":"Insert!E85","v":0}]
[84,{"$f":"Insert!A86","v":0},{"$f":"Insert!B86","v":0},{"$f":"Insert!C86","v":0},{"$f":"Insert!D86","v":0},{"$f":"Insert!E86","v":0}]
[85,{"$f":"Insert!A87","v":0},{"$f":"Insert!B87","v":0},{"$f":"Insert!C87","v":0},{"$f":"Insert!D87","v":0},{"$f":"Insert!E87","v":0}]
[86,{"$f":"Insert!A88","v":0},{"$f":"Insert!B88","v":0},{"$f":"Insert!C88","v":0},{"$f":"Insert!D88","v":0},{"$f":"Insert!E88","v":0}]
[87,{"$f":"Insert!A89","v":0},{"$f":"Insert!B89","v":0},{"$f":"Insert!C89","v":0},{"$f":"Insert!D89","v":0},{"$f":"Insert!E89","v":0}]
[88,{"$f":"Insert!A90","v":0},{"$f":"Insert!B90","v":0},{"$f":"Insert!C90","v":0},{"$f":"Insert!D90","v":0},{"$f":"Insert!E90","v":0}]
[89,{"$f":"Insert!A91","v":0},{"$f":"Insert!B91","v":0},{"$f":"Insert!C91","v":0},{"$f":"Insert!D91","v":0},{"$f":"Insert!E91","v":0}]
[90,{"$f":"Insert!A92","v":0},{"$f":"Insert!B92","v":0},{"$f":"Insert!C92","v":0},{"$f":"Insert!D92","v":0},{"$f":"Insert!E92","v":0}]
[91,{"$f":"Insert!A93","v":0},{"$f":"Insert!B93","v":0},{"$f":"Insert!C93","v":0},{"$f":"Insert!D93","v":0},{"$f":"Insert!E93","v":0}]
[92,{"$f":"Insert!A94","v":0},{"$f":"Insert!B94","v":0},{"$f":"Insert!C94","v":0},{"$f":"Insert!D94","v":0},{"$f":"Insert!E94","v":0}]
[93,{"$f":"Insert!A95","v":0},{"$f":"Insert!B95","v":0},{"$f":"Insert!C95","v":0},{"$f":"Insert!D95","v":0},{"$f":"Insert!E95","v":0}]
[94,{"$f":"Insert!A96","v":0},{"$f":"Insert!B96","v":0},{"$f":"Insert!C96","v":0},{"$f":"Insert!D96","v":0},{"$f":"Insert!E96","v":0}]
[95,{"$f":"Insert!A97","v":0},{"$f":"Insert!B97","v":0},{"$f":"Insert!C97","v":0},{"$f":"Insert!D97","v":0},{"$f":"Insert!E97","v":0}]
[96,{"$f":"Insert!A98","v":0},{"$f":"Insert!B98","v":0},{"$f":"Insert!C98","v":0},{"$f":"Insert!D98","v":0},{"$f":"Insert!E98","v":0}]
[97,{"$f":"Insert!A99","v":0},{"$f":"Insert!B99","v":0},{"$f":"Insert!C99","v":0},{"$f":"Insert!D99","v":0},{"$f":"Insert!E99","v":0}]
[98,{"$f":"Insert!A100","v":0},{"$f":"Insert!B100","v":0},{"$f":"Insert!C100","v":0},{"$f":"Insert!D100","v":0},{"$f":"Insert!E100","v":0}]
[99,{"$f":"Insert!A101","v":0},{"$f":"Insert!B101","v":0},{"$f":"Insert!C101","v":0},{"$f":"Insert!D101","v":0},{"$f":"Insert!E101","v":0}]
[100,{"$f":"Insert!A102","v":0},{"$f":"Insert!B102","v":0},{"$f":"Insert!C102","v":0},{"$f":"Insert!D102","v":0},{"$f":"Insert!E102","v":0}]